Workbook

Sheet Alibánfa
A1: Gördülő fejlesztési terv a 2025 - 2039 időszakra
A2: BERUHÁZÁSOK ÖSSZEFOGLALÓ TÁBLÁZATA
A3: A tervet benyújtó szervezet megnevezése: | K3: ALIBÁNFA | R3: ellátásért felelős / ellátásért felelősök képviselője / víziközmű-szolgáltató *
A4: Víziközmű-szolgáltató megnevezése: | K4: ÉSZAK ZALAI VÍZ- ÉS CSATORNAMŰ ZÁRTKÖRŰEN MŰKÖDŐ RÉSZVÉNYTÁRSASÁG
A5: Víziközmű-szolgáltatási ágazat megnevezése: | K5: IVÓVÍZ ÁGAZAT
A6: Véleményeltérést megfogalmazó érintett fél megnevezése:
A7: Víziközmű-rendszer kódja: ** | K7: 11-32054-1-029-02-07 | R7: Zalaegerszeg-IV
A9: Fontossági sorrend | B9: Beruházás megnevezése | E9: Műszaki állapot felmérés, szükségességi indoklás | H9: Vízjogi létesítési/elvi engedély száma | I9: Az érintett ellátásért felelős(ök) megnevezése | J9: Tervezett nettó költség | K9: Forrás 2025 évre | L9: Megvalósítás időtartama | N9: Tervezett időtáv | O9: A beruházás ütemezése a tervezési időszak évei szerint
E10: Jelenlegi műszaki állapot | F10: Feladat szükségessége | G10: Megvalósítást követő várható műszaki állapot | J10: (eFt) | L10: Kezdés | M10: Befejezés | N10: (rövid / közép / hosszú) | O10: 1 | P10: 2 | Q10: 3 | R10: 4 | S10: 5 | T10: 6 | U10: 7 | V10: 8 | W10: 9 | X10: 10 | Y10: 11 | Z10: 12 | AA10: 13 | AB10: 14 | AC10: 15
B11: szakág | C11: Helyszín | D11: beruházás megnevezése
A12: I. Felszín alatti vízkivétel
B13: MÉLYFÚRÁSÚ KÚT, HAGYOMÁNYOS ÁTMÉRŐVEL
B14: Épület, építmény
B16: Gép, berendezés
B18: Irányítástechnika, energiaellátás
B20: Összesen: | J20: =SUM(J12:J19) -> 0
A21: III. Vízműtelep és vízkezelő létesítmények
C22: Helyszín | D22: beruházás megnevezése
B23: VÍZMŰTELEP
B24: Épület, építmény
B26: Gép, berendezés
B28: Irányítástechnika, energiaellátás
B30: VÍZKEZELŐ LÉTESÍTMÉNYEK
B31: Épület, építmény
B33: Gép, berendezés
B35: Irányítástechnika, energiaellátás
B37: Összesen | J37: =SUM(J23:J36) -> 0
A38: IV. Vízelosztás
C39: Helyszín | D39: beruházás megnevezése
B40: IVÓVÍZHÁLÓZAT
B41: Épület, építmény
B43: Gép, berendezés
B45: Irányítástechnika, energiaellátás
B47: VÍZTÁROLÓK
B48: Épület, építmény
B50: Gép, berendezés
B52: Irányítástechnika, energiaellátás
B54: NYOMÁSFOKOZÓK
B55: Épület, építmény
B57: Gép, berendezés
...

Sheet Babosdöbréte
A1: Gördülő fejlesztési terv a 2025 - 2039 időszakra
A2: BERUHÁZÁSOK ÖSSZEFOGLALÓ TÁBLÁZATA
A3: A tervet benyújtó szervezet megnevezése: | K3: BABOSDÖBRÉTE | R3: ellátásért felelős / ellátásért felelősök képviselője / víziközmű-szolgáltató *
A4: Víziközmű-szolgáltató megnevezése: | K4: ÉSZAK ZALAI VÍZ- ÉS CSATORNAMŰ ZÁRTKÖRŰEN MŰKÖDŐ RÉSZVÉNYTÁRSASÁG
A5: Víziközmű-szolgáltatási ágazat megnevezése: | K5: IVÓVÍZ ÁGAZAT
A6: Véleményeltérést megfogalmazó érintett fél megnevezése:
A7: Víziközmű-rendszer kódja: ** | K7: 11-32054-1-029-02-07 | R7: Zalaegerszeg-IV
A9: Fontossági sorrend | B9: Beruházás megnevezése | E9: Műszaki állapot felmérés, szükségességi indoklás | H9: Vízjogi létesítési/elvi engedély száma | I9: Az érintett ellátásért felelős(ök) megnevezése | J9: Tervezett nettó költség | K9: Forrás 2025 évre | L9: Megvalósítás időtartama | N9: Tervezett időtáv | O9: A beruházás ütemezése a tervezési időszak évei szerint
E10: Jelenlegi műszaki állapot | F10: Feladat szükségessége | G10: Megvalósítást követő várható műszaki állapot | J10: (eFt) | L10: Kezdés | M10: Befejezés | N10: (rövid / közép / hosszú) | O10: 1 | P10: 2 | Q10: 3 | R10: 4 | S10: 5 | T10: 6 | U10: 7 | V10: 8 | W10: 9 | X10: 10 | Y10: 11 | Z10: 12 | AA10: 13 | AB10: 14 | AC10: 15
B11: szakág | C11: Helyszín | D11: beruházás megnevezése
A12: I. Felszín alatti vízkivétel
B13: MÉLYFÚRÁSÚ KÚT, HAGYOMÁNYOS ÁTMÉRŐVEL
B14: Épület, építmény
B16: Gép, berendezés
B18: Irányítástechnika, energiaellátás
B20: Összesen: | J20: =SUM(J12:J18) -> 0
A21: III. Vízműtelep és vízkezelő létesítmények
C22: Helyszín | D22: beruházás megnevezése
B23: VÍZMŰTELEP
B24: Épület, építmény
B26: Gép, berendezés
B28: Irányítástechnika, energiaellátás
B30: VÍZKEZELŐ LÉTESÍTMÉNYEK
B31: Épület, építmény
B33: Gép, berendezés
B35: Irányítástechnika, energiaellátás
B37: Összesen | J37: =SUM(J23:J36) -> 0
A38: IV. Vízelosztás
C39: Helyszín | D39: beruházás megnevezése
B40: IVÓVÍZHÁLÓZAT
B41: Épület, építmény
B43: Gép, berendezés
B45: Irányítástechnika, energiaellátás
B47: VÍZTÁROLÓK
B48: Épület, építmény
B50: Gép, berendezés
B52: Irányítástechnika, energiaellátás
B54: NYOMÁSFOKOZÓK
B55: Épület, építmény
B57: Gép, berendezés
...

Sheet Bagod
A1: Gördülő fejlesztési terv a 2025 - 2039 időszakra
A2: BERUHÁZÁSOK ÖSSZEFOGLALÓ TÁBLÁZATA
A3: A tervet benyújtó szervezet megnevezése: | K3: BAGOD | R3: ellátásért felelős / ellátásért felelősök képviselője / víziközmű-szolgáltató *
A4: Víziközmű-szolgáltató megnevezése: | K4: ÉSZAK ZALAI VÍZ- ÉS CSATORNAMŰ ZÁRTKÖRŰEN MŰKÖDŐ RÉSZVÉNYTÁRSASÁG
A5: Víziközmű-szolgáltatási ágazat megnevezése: | K5: IVÓVÍZ ÁGAZAT
A6: Véleményeltérést megfogalmazó érintett fél megnevezése:
A7: Víziközmű-rendszer kódja: ** | K7: 11-32054-1-029-02-07 | R7: Zalaegerszeg-IV
A9: Fontossági sorrend | B9: Beruházás megnevezése | E9: Műszaki állapot felmérés, szükségességi indoklás | H9: Vízjogi létesítési/elvi engedély száma | I9: Az érintett ellátásért felelős(ök) megnevezése | J9: Tervezett nettó költség | K9: Forrás 2025 évre | L9: Megvalósítás időtartama | N9: Tervezett időtáv | O9: A beruházás ütemezése a tervezési időszak évei szerint
E10: Jelenlegi műszaki állapot | F10: Feladat szükségessége | G10: Megvalósítást követő várható műszaki állapot | J10: (eFt) | L10: Kezdés | M10: Befejezés | N10: (rövid / közép / hosszú) | O10: 1 | P10: 2 | Q10: 3 | R10: 4 | S10: 5 | T10: 6 | U10: 7 | V10: 8 | W10: 9 | X10: 10 | Y10: 11 | Z10: 12 | AA10: 13 | AB10: 14 | AC10: 15
B11: szakág | C11: Helyszín | D11: beruházás megnevezése
A12: I. Felszín alatti vízkivétel
B13: MÉLYFÚRÁSÚ KÚT, HAGYOMÁNYOS ÁTMÉRŐVEL
B14: Épület, építmény
B16: Gép, berendezés
B18: Irányítástechnika, energiaellátás
B20: Összesen: | J20: =SUM(J12:J19) -> 0
A21: III. Vízműtelep és vízkezelő létesítmények
C22: Helyszín | D22: beruházás megnevezése
B23: VÍZMŰTELEP
B24: Épület, építmény
B26: Gép, berendezés
B28: Irányítástechnika, energiaellátás
B30: VÍZKEZELŐ LÉTESÍTMÉNYEK
B31: Épület, építmény
B33: Gép, berendezés
B35: Irányítástechnika, energiaellátás
B37: Összesen | J37: =SUM(J23:J36) -> 0
A38: IV. Vízelosztás
C39: Helyszín | D39: beruházás megnevezése
B40: IVÓVÍZHÁLÓZAT
B41: Épület, építmény
B43: Gép, berendezés
B45: Irányítástechnika, energiaellátás
B47: VÍZTÁROLÓK
B48: Épület, építmény
B50: Gép, berendezés
B52: Irányítástechnika, energiaellátás
B54: NYOMÁSFOKOZÓK
B55: Épület, építmény
B57: Gép, berendezés
...

Sheet Becsvölgye
A1: Gördülő fejlesztési terv a 2025 - 2039 időszakra
A2: BERUHÁZÁSOK ÖSSZEFOGLALÓ TÁBLÁZATA
A3: A tervet benyújtó szervezet megnevezése: | K3: BECSVÖLGYE | R3: ellátásért felelős / ellátásért felelősök képviselője / víziközmű-szolgáltató *
A4: Víziközmű-szolgáltató megnevezése: | K4: ÉSZAK ZALAI VÍZ- ÉS CSATORNAMŰ ZÁRTKÖRŰEN MŰKÖDŐ RÉSZVÉNYTÁRSASÁG
A5: Víziközmű-szolgáltatási ágazat megnevezése: | K5: IVÓVÍZ ÁGAZAT
A6: Véleményeltérést megfogalmazó érintett fél megnevezése:
A7: Víziközmű-rendszer kódja: ** | K7: 11-32054-1-029-02-07 | R7: Zalaegerszeg-IV
A9: Fontossági sorrend | B9: Beruházás megnevezése | E9: Műszaki állapot felmérés, szükségességi indoklás | H9: Vízjogi létesítési/elvi engedély száma | I9: Az érintett ellátásért felelős(ök) megnevezése | J9: Tervezett nettó költség | K9: Forrás 2025 évre | L9: Megvalósítás időtartama | N9: Tervezett időtáv | O9: A beruházás ütemezése a tervezési időszak évei szerint
E10: Jelenlegi műszaki állapot | F10: Feladat szükségessége | G10: Megvalósítást követő várható műszaki állapot | J10: (eFt) | L10: Kezdés | M10: Befejezés | N10: (rövid / közép / hosszú) | O10: 1 | P10: 2 | Q10: 3 | R10: 4 | S10: 5 | T10: 6 | U10: 7 | V10: 8 | W10: 9 | X10: 10 | Y10: 11 | Z10: 12 | AA10: 13 | AB10: 14 | AC10: 15
B11: szakág | C11: Helyszín | D11: beruházás megnevezése
A12: I. Felszín alatti vízkivétel
B13: MÉLYFÚRÁSÚ KÚT, HAGYOMÁNYOS ÁTMÉRŐVEL
B14: Épület, építmény
B16: Gép, berendezés
B18: Irányítástechnika, energiaellátás
B20: Összesen: | J20: =SUM(J12:J19) -> 0
A21: III. Vízműtelep és vízkezelő létesítmények
C22: Helyszín | D22: beruházás megnevezése
B23: VÍZMŰTELEP
B24: Épület, építmény
B26: Gép, berendezés
B28: Irányítástechnika, energiaellátás
B30: VÍZKEZELŐ LÉTESÍTMÉNYEK
B31: Épület, építmény
B33: Gép, berendezés
B35: Irányítástechnika, energiaellátás
B37: Összesen | J37: =SUM(J23:J36) -> 0
A38: IV. Vízelosztás
C39: Helyszín | D39: beruházás megnevezése
B40: IVÓVÍZHÁLÓZAT
B41: Épület, építmény
B43: Gép, berendezés
B45: Irányítástechnika, energiaellátás
B47: VÍZTÁROLÓK
B48: Épület, építmény
B50: Gép, berendezés
B52: Irányítástechnika, energiaellátás
B54: NYOMÁSFOKOZÓK
B55: Épület, építmény
B57: Gép, berendezés
...

Sheet Bocfölde
A1: Gördülő fejlesztési terv a 2025 - 2039 időszakra
A2: BERUHÁZÁSOK ÖSSZEFOGLALÓ TÁBLÁZATA
A3: A tervet benyújtó szervezet megnevezése: | K3: BOCFÖLDE | R3: ellátásért felelős / ellátásért felelősök képviselője / víziközmű-szolgáltató *
A4: Víziközmű-szolgáltató megnevezése: | K4: ÉSZAK ZALAI VÍZ- ÉS CSATORNAMŰ ZÁRTKÖRŰEN MŰKÖDŐ RÉSZVÉNYTÁRSASÁG
A5: Víziközmű-szolgáltatási ágazat megnevezése: | K5: IVÓVÍZ ÁGAZAT
A6: Véleményeltérést megfogalmazó érintett fél megnevezése:
A7: Víziközmű-rendszer kódja: ** | K7: 11-32054-1-029-02-07 | R7: Zalaegerszeg-IV
A9: Fontossági sorrend | B9: Beruházás megnevezése | E9: Műszaki állapot felmérés, szükségességi indoklás | H9: Vízjogi létesítési/elvi engedély száma | I9: Az érintett ellátásért felelős(ök) megnevezése | J9: Tervezett nettó költség | K9: Forrás 2025 évre | L9: Megvalósítás időtartama | N9: Tervezett időtáv | O9: A beruházás ütemezése a tervezési időszak évei szerint
E10: Jelenlegi műszaki állapot | F10: Feladat szükségessége | G10: Megvalósítást követő várható műszaki állapot | J10: (eFt) | L10: Kezdés | M10: Befejezés | N10: (rövid / közép / hosszú) | O10: 1 | P10: 2 | Q10: 3 | R10: 4 | S10: 5 | T10: 6 | U10: 7 | V10: 8 | W10: 9 | X10: 10 | Y10: 11 | Z10: 12 | AA10: 13 | AB10: 14 | AC10: 15
B11: szakág | C11: Helyszín | D11: beruházás megnevezése
A12: I. Felszín alatti vízkivétel
B13: MÉLYFÚRÁSÚ KÚT, HAGYOMÁNYOS ÁTMÉRŐVEL
B14: Épület, építmény
B16: Gép, berendezés
B18: Irányítástechnika, energiaellátás
B20: Összesen: | J20: =SUM(J12:J19) -> 0
A21: III. Vízműtelep és vízkezelő létesítmények
C22: Helyszín | D22: beruházás megnevezése
B23: VÍZMŰTELEP
B24: Épület, építmény
B26: Gép, berendezés
B28: Irányítástechnika, energiaellátás
B30: VÍZKEZELŐ LÉTESÍTMÉNYEK
B31: Épület, építmény
B33: Gép, berendezés
B35: Irányítástechnika, energiaellátás
B37: Összesen | J37: =SUM(J23:J36) -> 0
A38: IV. Vízelosztás
C39: Helyszín | D39: beruházás megnevezése
B40: IVÓVÍZHÁLÓZAT
B41: Épület, építmény
B43: Gép, berendezés
B45: Irányítástechnika, energiaellátás
B47: VÍZTÁROLÓK
B48: Épület, építmény
B50: Gép, berendezés
B52: Irányítástechnika, energiaellátás
B54: NYOMÁSFOKOZÓK
B55: Épület, építmény
B57: Gép, berendezés
...

Sheet Boncodfölde
A1: Gördülő fejlesztési terv a 2025 - 2039 időszakra
A2: BERUHÁZÁSOK ÖSSZEFOGLALÓ TÁBLÁZATA
A3: A tervet benyújtó szervezet megnevezése: | K3: BONCODFÖLDE | R3: ellátásért felelős / ellátásért felelősök képviselője / víziközmű-szolgáltató *
A4: Víziközmű-szolgáltató megnevezése: | K4: ÉSZAK ZALAI VÍZ- ÉS CSATORNAMŰ ZÁRTKÖRŰEN MŰKÖDŐ RÉSZVÉNYTÁRSASÁG
A5: Víziközmű-szolgáltatási ágazat megnevezése: | K5: IVÓVÍZ ÁGAZAT
A6: Véleményeltérést megfogalmazó érintett fél megnevezése:
A7: Víziközmű-rendszer kódja: ** | K7: 11-32054-1-029-02-07 | R7: Zalaegerszeg-IV
A9: Fontossági sorrend | B9: Beruházás megnevezése | E9: Műszaki állapot felmérés, szükségességi indoklás | H9: Vízjogi létesítési/elvi engedély száma | I9: Az érintett ellátásért felelős(ök) megnevezése | J9: Tervezett nettó költség | K9: Forrás 2025 évre | L9: Megvalósítás időtartama | N9: Tervezett időtáv | O9: A beruházás ütemezése a tervezési időszak évei szerint
E10: Jelenlegi műszaki állapot | F10: Feladat szükségessége | G10: Megvalósítást követő várható műszaki állapot | J10: (eFt) | L10: Kezdés | M10: Befejezés | N10: (rövid / közép / hosszú) | O10: 1 | P10: 2 | Q10: 3 | R10: 4 | S10: 5 | T10: 6 | U10: 7 | V10: 8 | W10: 9 | X10: 10 | Y10: 11 | Z10: 12 | AA10: 13 | AB10: 14 | AC10: 15
B11: szakág | C11: Helyszín | D11: beruházás megnevezése
A12: I. Felszín alatti vízkivétel
B13: MÉLYFÚRÁSÚ KÚT, HAGYOMÁNYOS ÁTMÉRŐVEL
B14: Épület, építmény
B16: Gép, berendezés
B18: Irányítástechnika, energiaellátás
B20: Összesen: | J20: =SUM(J12:J19) -> 0
A21: III. Vízműtelep és vízkezelő létesítmények
C22: Helyszín | D22: beruházás megnevezése
B23: VÍZMŰTELEP
B24: Épület, építmény
B26: Gép, berendezés
B28: Irányítástechnika, energiaellátás
B30: VÍZKEZELŐ LÉTESÍTMÉNYEK
B31: Épület, építmény
B33: Gép, berendezés
B35: Irányítástechnika, energiaellátás
B37: Összesen | J37: =SUM(J23:J36) -> 0
A38: IV. Vízelosztás
C39: Helyszín | D39: beruházás megnevezése
B40: IVÓVÍZHÁLÓZAT
B41: Épület, építmény
B43: Gép, berendezés
B45: Irányítástechnika, energiaellátás
B47: VÍZTÁROLÓK
B48: Épület, építmény
B50: Gép, berendezés
B52: Irányítástechnika, energiaellátás
B54: NYOMÁSFOKOZÓK
B55: Épület, építmény
B57: Gép, berendezés
...

Sheet Böde
A1: Gördülő fejlesztési terv a 2025 - 2039 időszakra
A2: BERUHÁZÁSOK ÖSSZEFOGLALÓ TÁBLÁZATA
A3: A tervet benyújtó szervezet megnevezése: | K3: BÖDE | R3: ellátásért felelős / ellátásért felelősök képviselője / víziközmű-szolgáltató *
A4: Víziközmű-szolgáltató megnevezése: | K4: ÉSZAK ZALAI VÍZ- ÉS CSATORNAMŰ ZÁRTKÖRŰEN MŰKÖDŐ RÉSZVÉNYTÁRSASÁG
A5: Víziközmű-szolgáltatási ágazat megnevezése: | K5: IVÓVÍZ ÁGAZAT
A6: Véleményeltérést megfogalmazó érintett fél megnevezése:
A7: Víziközmű-rendszer kódja: ** | K7: 11-32054-1-029-02-07 | R7: Zalaegerszeg-IV
A9: Fontossági sorrend | B9: Beruházás megnevezése | E9: Műszaki állapot felmérés, szükségességi indoklás | H9: Vízjogi létesítési/elvi engedély száma | I9: Az érintett ellátásért felelős(ök) megnevezése | J9: Tervezett nettó költség | K9: Forrás 2025 évre | L9: Megvalósítás időtartama | N9: Tervezett időtáv | O9: A beruházás ütemezése a tervezési időszak évei szerint
E10: Jelenlegi műszaki állapot | F10: Feladat szükségessége | G10: Megvalósítást követő várható műszaki állapot | J10: (eFt) | L10: Kezdés | M10: Befejezés | N10: (rövid / közép / hosszú) | O10: 1 | P10: 2 | Q10: 3 | R10: 4 | S10: 5 | T10: 6 | U10: 7 | V10: 8 | W10: 9 | X10: 10 | Y10: 11 | Z10: 12 | AA10: 13 | AB10: 14 | AC10: 15
B11: szakág | C11: Helyszín | D11: beruházás megnevezése
A12: I. Felszín alatti vízkivétel
B13: MÉLYFÚRÁSÚ KÚT, HAGYOMÁNYOS ÁTMÉRŐVEL
B14: Épület, építmény
B16: Gép, berendezés
B18: Irányítástechnika, energiaellátás
B20: Összesen: | J20: =SUM(J12:J18) -> 0
A21: III. Vízműtelep és vízkezelő létesítmények
C22: Helyszín | D22: beruházás megnevezése
B23: VÍZMŰTELEP
B24: Épület, építmény
B26: Gép, berendezés
B28: Irányítástechnika, energiaellátás
B30: VÍZKEZELŐ LÉTESÍTMÉNYEK
B31: Épület, építmény
B33: Gép, berendezés
B35: Irányítástechnika, energiaellátás
B37: Összesen | J37: =SUM(J23:J36) -> 0
A38: IV. Vízelosztás
C39: Helyszín | D39: beruházás megnevezése
B40: IVÓVÍZHÁLÓZAT
B41: Épület, építmény
B43: Gép, berendezés
B45: Irányítástechnika, energiaellátás
B47: VÍZTÁROLÓK
B48: Épület, építmény
B50: Gép, berendezés
B52: Irányítástechnika, energiaellátás
B54: NYOMÁSFOKOZÓK
B55: Épület, építmény
B57: Gép, berendezés
...

Sheet Csatár
A1: Gördülő fejlesztési terv a 2025 - 2039 időszakra
A2: BERUHÁZÁSOK ÖSSZEFOGLALÓ TÁBLÁZATA
A3: A tervet benyújtó szervezet megnevezése: | K3: CSATÁR | R3: ellátásért felelős / ellátásért felelősök képviselője / víziközmű-szolgáltató *
A4: Víziközmű-szolgáltató megnevezése: | K4: ÉSZAK ZALAI VÍZ- ÉS CSATORNAMŰ ZÁRTKÖRŰEN MŰKÖDŐ RÉSZVÉNYTÁRSASÁG
A5: Víziközmű-szolgáltatási ágazat megnevezése: | K5: IVÓVÍZ ÁGAZAT
A6: Véleményeltérést megfogalmazó érintett fél megnevezése:
A7: Víziközmű-rendszer kódja: ** | K7: 11-32054-1-029-02-07 | R7: Zalaegerszeg-IV
A9: Fontossági sorrend | B9: Beruházás megnevezése | E9: Műszaki állapot felmérés, szükségességi indoklás | H9: Vízjogi létesítési/elvi engedély száma | I9: Az érintett ellátásért felelős(ök) megnevezése | J9: Tervezett nettó költség | K9: Forrás 2025 évre | L9: Megvalósítás időtartama | N9: Tervezett időtáv | O9: A beruházás ütemezése a tervezési időszak évei szerint
E10: Jelenlegi műszaki állapot | F10: Feladat szükségessége | G10: Megvalósítást követő várható műszaki állapot | J10: (eFt) | L10: Kezdés | M10: Befejezés | N10: (rövid / közép / hosszú) | O10: 1 | P10: 2 | Q10: 3 | R10: 4 | S10: 5 | T10: 6 | U10: 7 | V10: 8 | W10: 9 | X10: 10 | Y10: 11 | Z10: 12 | AA10: 13 | AB10: 14 | AC10: 15
B11: szakág | C11: Helyszín | D11: beruházás megnevezése
A12: I. Felszín alatti vízkivétel
B13: MÉLYFÚRÁSÚ KÚT, HAGYOMÁNYOS ÁTMÉRŐVEL
B14: Épület, építmény
B16: Gép, berendezés
B18: Irányítástechnika, energiaellátás
B20: Összesen: | J20: =SUM(J12:J18) -> 0
A21: III. Vízműtelep és vízkezelő létesítmények
C22: Helyszín | D22: beruházás megnevezése
B23: VÍZMŰTELEP
B24: Épület, építmény
B26: Gép, berendezés
B28: Irányítástechnika, energiaellátás
B30: VÍZKEZELŐ LÉTESÍTMÉNYEK
B31: Épület, építmény
B33: Gép, berendezés
B35: Irányítástechnika, energiaellátás
B37: Összesen | J37: =SUM(J23:J36) -> 0
A38: IV. Vízelosztás
C39: Helyszín | D39: beruházás megnevezése
B40: IVÓVÍZHÁLÓZAT
B41: Épület, építmény
B43: Gép, berendezés
B45: Irányítástechnika, energiaellátás
B47: VÍZTÁROLÓK
B48: Épület, építmény
B50: Gép, berendezés
B52: Irányítástechnika, energiaellátás
B54: NYOMÁSFOKOZÓK
B55: Épület, építmény
B57: Gép, berendezés
...

Sheet Csonkahegyhát
A1: Gördülő fejlesztési terv a 2025 - 2039 időszakra
A2: BERUHÁZÁSOK ÖSSZEFOGLALÓ TÁBLÁZATA
A3: A tervet benyújtó szervezet megnevezése: | K3: CSONKAHEGYHÁT | R3: ellátásért felelős / ellátásért felelősök képviselője / víziközmű-szolgáltató *
A4: Víziközmű-szolgáltató megnevezése: | K4: ÉSZAK ZALAI VÍZ- ÉS CSATORNAMŰ ZÁRTKÖRŰEN MŰKÖDŐ RÉSZVÉNYTÁRSASÁG
A5: Víziközmű-szolgáltatási ágazat megnevezése: | K5: IVÓVÍZ ÁGAZAT
A6: Véleményeltérést megfogalmazó érintett fél megnevezése:
A7: Víziközmű-rendszer kódja: ** | K7: 11-32054-1-029-02-07 | R7: Zalaegerszeg-IV
A9: Fontossági sorrend | B9: Beruházás megnevezése | E9: Műszaki állapot felmérés, szükségességi indoklás | H9: Vízjogi létesítési/elvi engedély száma | I9: Az érintett ellátásért felelős(ök) megnevezése | J9: Tervezett nettó költség | K9: Forrás 2025 évre | L9: Megvalósítás időtartama | N9: Tervezett időtáv | O9: A beruházás ütemezése a tervezési időszak évei szerint
E10: Jelenlegi műszaki állapot | F10: Feladat szükségessége | G10: Megvalósítást követő várható műszaki állapot | J10: (eFt) | L10: Kezdés | M10: Befejezés | N10: (rövid / közép / hosszú) | O10: 1 | P10: 2 | Q10: 3 | R10: 4 | S10: 5 | T10: 6 | U10: 7 | V10: 8 | W10: 9 | X10: 10 | Y10: 11 | Z10: 12 | AA10: 13 | AB10: 14 | AC10: 15
B11: szakág | C11: Helyszín | D11: beruházás megnevezése
A12: I. Felszín alatti vízkivétel
B13: MÉLYFÚRÁSÚ KÚT, HAGYOMÁNYOS ÁTMÉRŐVEL
B14: Épület, építmény
B16: Gép, berendezés
B18: Irányítástechnika, energiaellátás
B20: Összesen: | J20: =SUM(J12:J19) -> 0
A21: III. Vízműtelep és vízkezelő létesítmények
C22: Helyszín | D22: beruházás megnevezése
B23: VÍZMŰTELEP
B24: Épület, építmény
B26: Gép, berendezés
B28: Irányítástechnika, energiaellátás
B30: VÍZKEZELŐ LÉTESÍTMÉNYEK
B31: Épület, építmény
B33: Gép, berendezés
B35: Irányítástechnika, energiaellátás
B37: Összesen | J37: =SUM(J23:J36) -> 0
A38: IV. Vízelosztás
C39: Helyszín | D39: beruházás megnevezése
B40: IVÓVÍZHÁLÓZAT
B41: Épület, építmény
B43: Gép, berendezés
B45: Irányítástechnika, energiaellátás
B47: VÍZTÁROLÓK
B48: Épület, építmény
B50: Gép, berendezés
B52: Irányítástechnika, energiaellátás
B54: NYOMÁSFOKOZÓK
B55: Épület, építmény
B57: Gép, berendezés
...

Sheet Dobronhegy
A1: Gördülő fejlesztési terv a 2025 - 2039 időszakra
A2: BERUHÁZÁSOK ÖSSZEFOGLALÓ TÁBLÁZATA
A3: A tervet benyújtó szervezet megnevezése: | K3: DOBRONHEGY | R3: ellátásért felelős / ellátásért felelősök képviselője / víziközmű-szolgáltató *
A4: Víziközmű-szolgáltató megnevezése: | K4: ÉSZAK ZALAI VÍZ- ÉS CSATORNAMŰ ZÁRTKÖRŰEN MŰKÖDŐ RÉSZVÉNYTÁRSASÁG
A5: Víziközmű-szolgáltatási ágazat megnevezése: | K5: IVÓVÍZ ÁGAZAT
A6: Véleményeltérést megfogalmazó érintett fél megnevezése:
A7: Víziközmű-rendszer kódja: ** | K7: 11-32054-1-029-02-07 | R7: Zalaegerszeg-IV
A9: Fontossági sorrend | B9: Beruházás megnevezése | E9: Műszaki állapot felmérés, szükségességi indoklás | H9: Vízjogi létesítési/elvi engedély száma | I9: Az érintett ellátásért felelős(ök) megnevezése | J9: Tervezett nettó költség | K9: Forrás 2025 évre | L9: Megvalósítás időtartama | N9: Tervezett időtáv | O9: A beruházás ütemezése a tervezési időszak évei szerint
E10: Jelenlegi műszaki állapot | F10: Feladat szükségessége | G10: Megvalósítást követő várható műszaki állapot | J10: (eFt) | L10: Kezdés | M10: Befejezés | N10: (rövid / közép / hosszú) | O10: 1 | P10: 2 | Q10: 3 | R10: 4 | S10: 5 | T10: 6 | U10: 7 | V10: 8 | W10: 9 | X10: 10 | Y10: 11 | Z10: 12 | AA10: 13 | AB10: 14 | AC10: 15
B11: szakág | C11: Helyszín | D11: beruházás megnevezése
A12: I. Felszín alatti vízkivétel
B13: MÉLYFÚRÁSÚ KÚT, HAGYOMÁNYOS ÁTMÉRŐVEL
B14: Épület, építmény
B16: Gép, berendezés
B18: Irányítástechnika, energiaellátás
B20: Összesen: | J20: =SUM(J12:J19) -> 0
A21: III. Vízműtelep és vízkezelő létesítmények
C22: Helyszín | D22: beruházás megnevezése
B23: VÍZMŰTELEP
B24: Épület, építmény
B26: Gép, berendezés
B28: Irányítástechnika, energiaellátás
B30: VÍZKEZELŐ LÉTESÍTMÉNYEK
B31: Épület, építmény
B33: Gép, berendezés
B35: Irányítástechnika, energiaellátás
B37: Összesen | J37: =SUM(J23:J36) -> 0
A38: IV. Vízelosztás
C39: Helyszín | D39: beruházás megnevezése
B40: IVÓVÍZHÁLÓZAT
B41: Épület, építmény
B43: Gép, berendezés
B45: Irányítástechnika, energiaellátás
B47: VÍZTÁROLÓK
B48: Épület, építmény
B50: Gép, berendezés
B52: Irányítástechnika, energiaellátás
B54: NYOMÁSFOKOZÓK
B55: Épület, építmény
B57: Gép, berendezés
...

Sheet Hagyárosbörönd
A1: Gördülő fejlesztési terv a 2025 - 2039 időszakra
A2: BERUHÁZÁSOK ÖSSZEFOGLALÓ TÁBLÁZATA
A3: A tervet benyújtó szervezet megnevezése: | K3: HAGYÁROSBÖRÖND | R3: ellátásért felelős / ellátásért felelősök képviselője / víziközmű-szolgáltató *
A4: Víziközmű-szolgáltató megnevezése: | K4: ÉSZAK ZALAI VÍZ- ÉS CSATORNAMŰ ZÁRTKÖRŰEN MŰKÖDŐ RÉSZVÉNYTÁRSASÁG
A5: Víziközmű-szolgáltatási ágazat megnevezése: | K5: IVÓVÍZ ÁGAZAT
A6: Véleményeltérést megfogalmazó érintett fél megnevezése:
A7: Víziközmű-rendszer kódja: ** | K7: 11-32054-1-029-02-07 | R7: Zalaegerszeg-IV
A9: Fontossági sorrend | B9: Beruházás megnevezése | E9: Műszaki állapot felmérés, szükségességi indoklás | H9: Vízjogi létesítési/elvi engedély száma | I9: Az érintett ellátásért felelős(ök) megnevezése | J9: Tervezett nettó költség | K9: Forrás 2025 évre | L9: Megvalósítás időtartama | N9: Tervezett időtáv | O9: A beruházás ütemezése a tervezési időszak évei szerint
E10: Jelenlegi műszaki állapot | F10: Feladat szükségessége | G10: Megvalósítást követő várható műszaki állapot | J10: (eFt) | L10: Kezdés | M10: Befejezés | N10: (rövid / közép / hosszú) | O10: 1 | P10: 2 | Q10: 3 | R10: 4 | S10: 5 | T10: 6 | U10: 7 | V10: 8 | W10: 9 | X10: 10 | Y10: 11 | Z10: 12 | AA10: 13 | AB10: 14 | AC10: 15
B11: szakág | C11: Helyszín | D11: beruházás megnevezése
A12: I. Felszín alatti vízkivétel
B13: MÉLYFÚRÁSÚ KÚT, HAGYOMÁNYOS ÁTMÉRŐVEL
B14: Épület, építmény
B16: Gép, berendezés
B18: Irányítástechnika, energiaellátás
B20: Összesen: | J20: =SUM(J12:J19) -> 0
A21: III. Vízműtelep és vízkezelő létesítmények
C22: Helyszín | D22: beruházás megnevezése
B23: VÍZMŰTELEP
B24: Épület, építmény
B26: Gép, berendezés
B28: Irányítástechnika, energiaellátás
B30: VÍZKEZELŐ LÉTESÍTMÉNYEK
B31: Épület, építmény
B33: Gép, berendezés
B35: Irányítástechnika, energiaellátás
B37: Összesen | J37: =SUM(J23:J36) -> 0
A38: IV. Vízelosztás
C39: Helyszín | D39: beruházás megnevezése
B40: IVÓVÍZHÁLÓZAT
B41: Épület, építmény
B43: Gép, berendezés
B45: Irányítástechnika, energiaellátás
B47: VÍZTÁROLÓK
B48: Épület, építmény
B50: Gép, berendezés
B52: Irányítástechnika, energiaellátás
B54: NYOMÁSFOKOZÓK
B55: Épület, építmény
B57: Gép, berendezés
...

Sheet Hottó
A1: Gördülő fejlesztési terv a 2025 - 2039 időszakra
A2: BERUHÁZÁSOK ÖSSZEFOGLALÓ TÁBLÁZATA
A3: A tervet benyújtó szervezet megnevezése: | K3: HOTTÓ | R3: ellátásért felelős / ellátásért felelősök képviselője / víziközmű-szolgáltató *
A4: Víziközmű-szolgáltató megnevezése: | K4: ÉSZAK ZALAI VÍZ- ÉS CSATORNAMŰ ZÁRTKÖRŰEN MŰKÖDŐ RÉSZVÉNYTÁRSASÁG
A5: Víziközmű-szolgáltatási ágazat megnevezése: | K5: IVÓVÍZ ÁGAZAT
A6: Véleményeltérést megfogalmazó érintett fél megnevezése:
A7: Víziközmű-rendszer kódja: ** | K7: 11-32054-1-029-02-07 | R7: Zalaegerszeg-IV
A9: Fontossági sorrend | B9: Beruházás megnevezése | E9: Műszaki állapot felmérés, szükségességi indoklás | H9: Vízjogi létesítési/elvi engedély száma | I9: Az érintett ellátásért felelős(ök) megnevezése | J9: Tervezett nettó költség | K9: Forrás 2025 évre | L9: Megvalósítás időtartama | N9: Tervezett időtáv | O9: A beruházás ütemezése a tervezési időszak évei szerint
E10: Jelenlegi műszaki állapot | F10: Feladat szükségessége | G10: Megvalósítást követő várható műszaki állapot | J10: (eFt) | L10: Kezdés | M10: Befejezés | N10: (rövid / közép / hosszú) | O10: 1 | P10: 2 | Q10: 3 | R10: 4 | S10: 5 | T10: 6 | U10: 7 | V10: 8 | W10: 9 | X10: 10 | Y10: 11 | Z10: 12 | AA10: 13 | AB10: 14 | AC10: 15
B11: szakág | C11: Helyszín | D11: beruházás megnevezése
A12: I. Felszín alatti vízkivétel
B13: MÉLYFÚRÁSÚ KÚT, HAGYOMÁNYOS ÁTMÉRŐVEL
B14: Épület, építmény
B16: Gép, berendezés
B18: Irányítástechnika, energiaellátás
B20: Összesen: | J20: =SUM(J12:J18) -> 0
A21: III. Vízműtelep és vízkezelő létesítmények
C22: Helyszín | D22: beruházás megnevezése
B23: VÍZMŰTELEP
B24: Épület, építmény
B26: Gép, berendezés
B28: Irányítástechnika, energiaellátás
B30: VÍZKEZELŐ LÉTESÍTMÉNYEK
B31: Épület, építmény
B33: Gép, berendezés
B35: Irányítástechnika, energiaellátás
B37: Összesen | J37: =SUM(J23:J36) -> 0
A38: IV. Vízelosztás
C39: Helyszín | D39: beruházás megnevezése
B40: IVÓVÍZHÁLÓZAT
B41: Épület, építmény
B43: Gép, berendezés
B45: Irányítástechnika, energiaellátás
B47: VÍZTÁROLÓK
B48: Épület, építmény
B50: Gép, berendezés
B52: Irányítástechnika, energiaellátás
B54: NYOMÁSFOKOZÓK
B55: Épület, építmény
B57: Gép, berendezés
...

Sheet Kávás
A1: Gördülő fejlesztési terv a 2025 - 2039 időszakra
A2: BERUHÁZÁSOK ÖSSZEFOGLALÓ TÁBLÁZATA
A3: A tervet benyújtó szervezet megnevezése: | K3: KÁVÁS | R3: ellátásért felelős / ellátásért felelősök képviselője / víziközmű-szolgáltató *
A4: Víziközmű-szolgáltató megnevezése: | K4: ÉSZAK ZALAI VÍZ- ÉS CSATORNAMŰ ZÁRTKÖRŰEN MŰKÖDŐ RÉSZVÉNYTÁRSASÁG
A5: Víziközmű-szolgáltatási ágazat megnevezése: | K5: IVÓVÍZ ÁGAZAT
A6: Véleményeltérést megfogalmazó érintett fél megnevezése:
A7: Víziközmű-rendszer kódja: ** | K7: 11-32054-1-029-02-07 | R7: Zalaegerszeg-IV
A9: Fontossági sorrend | B9: Beruházás megnevezése | E9: Műszaki állapot felmérés, szükségességi indoklás | H9: Vízjogi létesítési/elvi engedély száma | I9: Az érintett ellátásért felelős(ök) megnevezése | J9: Tervezett nettó költség | K9: Forrás 2025 évre | L9: Megvalósítás időtartama | N9: Tervezett időtáv | O9: A beruházás ütemezése a tervezési időszak évei szerint
E10: Jelenlegi műszaki állapot | F10: Feladat szükségessége | G10: Megvalósítást követő várható műszaki állapot | J10: (eFt) | L10: Kezdés | M10: Befejezés | N10: (rövid / közép / hosszú) | O10: 1 | P10: 2 | Q10: 3 | R10: 4 | S10: 5 | T10: 6 | U10: 7 | V10: 8 | W10: 9 | X10: 10 | Y10: 11 | Z10: 12 | AA10: 13 | AB10: 14 | AC10: 15
B11: szakág | C11: Helyszín | D11: beruházás megnevezése
A12: I. Felszín alatti vízkivétel
B13: MÉLYFÚRÁSÚ KÚT, HAGYOMÁNYOS ÁTMÉRŐVEL
B14: Épület, építmény
B16: Gép, berendezés
B18: Irányítástechnika, energiaellátás
B20: Összesen: | J20: =SUM(J12:J19) -> 0
A21: III. Vízműtelep és vízkezelő létesítmények
C22: Helyszín | D22: beruházás megnevezése
B23: VÍZMŰTELEP
B24: Épület, építmény
B26: Gép, berendezés
B28: Irányítástechnika, energiaellátás
B30: VÍZKEZELŐ LÉTESÍTMÉNYEK
B31: Épület, építmény
B33: Gép, berendezés
B35: Irányítástechnika, energiaellátás
B37: Összesen | J37: =SUM(J23:J36) -> 0
A38: IV. Vízelosztás
C39: Helyszín | D39: beruházás megnevezése
B40: IVÓVÍZHÁLÓZAT
B41: Épület, építmény
B43: Gép, berendezés
B45: Irányítástechnika, energiaellátás
B47: VÍZTÁROLÓK
B48: Épület, építmény
B50: Gép, berendezés
B52: Irányítástechnika, energiaellátás
B54: NYOMÁSFOKOZÓK
B55: Épület, építmény
B57: Gép, berendezés
...

Sheet Kiskutas
A1: Gördülő fejlesztési terv a 2025 - 2039 időszakra
A2: BERUHÁZÁSOK ÖSSZEFOGLALÓ TÁBLÁZATA
A3: A tervet benyújtó szervezet megnevezése: | K3: KISKUTAS | R3: ellátásért felelős / ellátásért felelősök képviselője / víziközmű-szolgáltató *
A4: Víziközmű-szolgáltató megnevezése: | K4: ÉSZAK ZALAI VÍZ- ÉS CSATORNAMŰ ZÁRTKÖRŰEN MŰKÖDŐ RÉSZVÉNYTÁRSASÁG
A5: Víziközmű-szolgáltatási ágazat megnevezése: | K5: IVÓVÍZ ÁGAZAT
A6: Véleményeltérést megfogalmazó érintett fél megnevezése:
A7: Víziközmű-rendszer kódja: ** | K7: 11-32054-1-029-02-07 | R7: Zalaegerszeg-IV
A9: Fontossági sorrend | B9: Beruházás megnevezése | E9: Műszaki állapot felmérés, szükségességi indoklás | H9: Vízjogi létesítési/elvi engedély száma | I9: Az érintett ellátásért felelős(ök) megnevezése | J9: Tervezett nettó költség | K9: Forrás 2025 évre | L9: Megvalósítás időtartama | N9: Tervezett időtáv | O9: A beruházás ütemezése a tervezési időszak évei szerint
E10: Jelenlegi műszaki állapot | F10: Feladat szükségessége | G10: Megvalósítást követő várható műszaki állapot | J10: (eFt) | L10: Kezdés | M10: Befejezés | N10: (rövid / közép / hosszú) | O10: 1 | P10: 2 | Q10: 3 | R10: 4 | S10: 5 | T10: 6 | U10: 7 | V10: 8 | W10: 9 | X10: 10 | Y10: 11 | Z10: 12 | AA10: 13 | AB10: 14 | AC10: 15
B11: szakág | C11: Helyszín | D11: beruházás megnevezése
A12: I. Felszín alatti vízkivétel
B13: MÉLYFÚRÁSÚ KÚT, HAGYOMÁNYOS ÁTMÉRŐVEL
B14: Épület, építmény
B16: Gép, berendezés
B18: Irányítástechnika, energiaellátás
B20: Összesen: | J20: =SUM(J12:J18) -> 0
A21: III. Vízműtelep és vízkezelő létesítmények
C22: Helyszín | D22: beruházás megnevezése
B23: VÍZMŰTELEP
B24: Épület, építmény
B26: Gép, berendezés
B28: Irányítástechnika, energiaellátás
B30: VÍZKEZELŐ LÉTESÍTMÉNYEK
B31: Épület, építmény
B33: Gép, berendezés
B35: Irányítástechnika, energiaellátás
B37: Összesen | J37: =SUM(J23:J36) -> 0
A38: IV. Vízelosztás
C39: Helyszín | D39: beruházás megnevezése
B40: IVÓVÍZHÁLÓZAT
B41: Épület, építmény
B43: Gép, berendezés
B45: Irányítástechnika, energiaellátás
B47: VÍZTÁROLÓK
B48: Épület, építmény
B50: Gép, berendezés
B52: Irányítástechnika, energiaellátás
B54: NYOMÁSFOKOZÓK
B55: Épület, építmény
B57: Gép, berendezés
...

Sheet Kispáli
A1: Gördülő fejlesztési terv a 2025 - 2039 időszakra
A2: BERUHÁZÁSOK ÖSSZEFOGLALÓ TÁBLÁZATA
A3: A tervet benyújtó szervezet megnevezése: | K3: KISPÁLI | R3: ellátásért felelős / ellátásért felelősök képviselője / víziközmű-szolgáltató *
A4: Víziközmű-szolgáltató megnevezése: | K4: ÉSZAK ZALAI VÍZ- ÉS CSATORNAMŰ ZÁRTKÖRŰEN MŰKÖDŐ RÉSZVÉNYTÁRSASÁG
A5: Víziközmű-szolgáltatási ágazat megnevezése: | K5: IVÓVÍZ ÁGAZAT
A6: Véleményeltérést megfogalmazó érintett fél megnevezése:
A7: Víziközmű-rendszer kódja: ** | K7: 11-32054-1-029-02-07 | R7: Zalaegerszeg-IV
A9: Fontossági sorrend | B9: Beruházás megnevezése | E9: Műszaki állapot felmérés, szükségességi indoklás | H9: Vízjogi létesítési/elvi engedély száma | I9: Az érintett ellátásért felelős(ök) megnevezése | J9: Tervezett nettó költség | K9: Forrás 2025 évre | L9: Megvalósítás időtartama | N9: Tervezett időtáv | O9: A beruházás ütemezése a tervezési időszak évei szerint
E10: Jelenlegi műszaki állapot | F10: Feladat szükségessége | G10: Megvalósítást követő várható műszaki állapot | J10: (eFt) | L10: Kezdés | M10: Befejezés | N10: (rövid / közép / hosszú) | O10: 1 | P10: 2 | Q10: 3 | R10: 4 | S10: 5 | T10: 6 | U10: 7 | V10: 8 | W10: 9 | X10: 10 | Y10: 11 | Z10: 12 | AA10: 13 | AB10: 14 | AC10: 15
B11: szakág | C11: Helyszín | D11: beruházás megnevezése
A12: I. Felszín alatti vízkivétel
B13: MÉLYFÚRÁSÚ KÚT, HAGYOMÁNYOS ÁTMÉRŐVEL
B14: Épület, építmény
B16: Gép, berendezés
B18: Irányítástechnika, energiaellátás
B20: Összesen: | J20: =SUM(J12:J19) -> 0
A21: III. Vízműtelep és vízkezelő létesítmények
C22: Helyszín | D22: beruházás megnevezése
B23: VÍZMŰTELEP
B24: Épület, építmény
B26: Gép, berendezés
B28: Irányítástechnika, energiaellátás
B30: VÍZKEZELŐ LÉTESÍTMÉNYEK
B31: Épület, építmény
B33: Gép, berendezés
B35: Irányítástechnika, energiaellátás
B37: Összesen | J37: =SUM(J23:J36) -> 0
A38: IV. Vízelosztás
C39: Helyszín | D39: beruházás megnevezése
B40: IVÓVÍZHÁLÓZAT
B41: Épület, építmény
B43: Gép, berendezés
B45: Irányítástechnika, energiaellátás
B47: VÍZTÁROLÓK
B48: Épület, építmény
B50: Gép, berendezés
B52: Irányítástechnika, energiaellátás
B54: NYOMÁSFOKOZÓK
B55: Épület, építmény
B57: Gép, berendezés
...

Sheet Kustánszeg
A1: Gördülő fejlesztési terv a 2025 - 2039 időszakra
A2: BERUHÁZÁSOK ÖSSZEFOGLALÓ TÁBLÁZATA
A3: A tervet benyújtó szervezet megnevezése: | K3: KUSTÁNSZEG | R3: ellátásért felelős / ellátásért felelősök képviselője / víziközmű-szolgáltató *
A4: Víziközmű-szolgáltató megnevezése: | K4: ÉSZAK ZALAI VÍZ- ÉS CSATORNAMŰ ZÁRTKÖRŰEN MŰKÖDŐ RÉSZVÉNYTÁRSASÁG
A5: Víziközmű-szolgáltatási ágazat megnevezése: | K5: IVÓVÍZ ÁGAZAT
A6: Véleményeltérést megfogalmazó érintett fél megnevezése:
A7: Víziközmű-rendszer kódja: ** | K7: 11-32054-1-029-02-07 | R7: Zalaegerszeg-IV
A9: Fontossági sorrend | B9: Beruházás megnevezése | E9: Műszaki állapot felmérés, szükségességi indoklás | H9: Vízjogi létesítési/elvi engedély száma | I9: Az érintett ellátásért felelős(ök) megnevezése | J9: Tervezett nettó költség | K9: Forrás 2025 évre | L9: Megvalósítás időtartama | N9: Tervezett időtáv | O9: A beruházás ütemezése a tervezési időszak évei szerint
E10: Jelenlegi műszaki állapot | F10: Feladat szükségessége | G10: Megvalósítást követő várható műszaki állapot | J10: (eFt) | L10: Kezdés | M10: Befejezés | N10: (rövid / közép / hosszú) | O10: 1 | P10: 2 | Q10: 3 | R10: 4 | S10: 5 | T10: 6 | U10: 7 | V10: 8 | W10: 9 | X10: 10 | Y10: 11 | Z10: 12 | AA10: 13 | AB10: 14 | AC10: 15
B11: szakág | C11: Helyszín | D11: beruházás megnevezése
A12: I. Felszín alatti vízkivétel
B13: MÉLYFÚRÁSÚ KÚT, HAGYOMÁNYOS ÁTMÉRŐVEL
B14: Épület, építmény
B16: Gép, berendezés
B18: Irányítástechnika, energiaellátás
B20: Összesen: | J20: =SUM(J12:J19) -> 0
A21: III. Vízműtelep és vízkezelő létesítmények
C22: Helyszín | D22: beruházás megnevezése
B23: VÍZMŰTELEP
B24: Épület, építmény
B26: Gép, berendezés
B28: Irányítástechnika, energiaellátás
B30: VÍZKEZELŐ LÉTESÍTMÉNYEK
B31: Épület, építmény
B33: Gép, berendezés
B35: Irányítástechnika, energiaellátás
B37: Összesen | J37: =SUM(J23:J36) -> 0
A38: IV. Vízelosztás
C39: Helyszín | D39: beruházás megnevezése
B40: IVÓVÍZHÁLÓZAT
B41: Épület, építmény
B43: Gép, berendezés
B45: Irányítástechnika, energiaellátás
B47: VÍZTÁROLÓK
B48: Épület, építmény
B50: Gép, berendezés
B52: Irányítástechnika, energiaellátás
B54: NYOMÁSFOKOZÓK
B55: Épület, építmény
B57: Gép, berendezés
...

Sheet Milejszeg
A1: Gördülő fejlesztési terv a 2025 - 2039 időszakra
A2: BERUHÁZÁSOK ÖSSZEFOGLALÓ TÁBLÁZATA
A3: A tervet benyújtó szervezet megnevezése: | K3: MILEJSZEG | R3: ellátásért felelős / ellátásért felelősök képviselője / víziközmű-szolgáltató *
A4: Víziközmű-szolgáltató megnevezése: | K4: ÉSZAK ZALAI VÍZ- ÉS CSATORNAMŰ ZÁRTKÖRŰEN MŰKÖDŐ RÉSZVÉNYTÁRSASÁG
A5: Víziközmű-szolgáltatási ágazat megnevezése: | K5: IVÓVÍZ ÁGAZAT
A6: Véleményeltérést megfogalmazó érintett fél megnevezése:
A7: Víziközmű-rendszer kódja: ** | K7: 11-32054-1-029-02-07 | R7: Zalaegerszeg-IV
A9: Fontossági sorrend | B9: Beruházás megnevezése | E9: Műszaki állapot felmérés, szükségességi indoklás | H9: Vízjogi létesítési/elvi engedély száma | I9: Az érintett ellátásért felelős(ök) megnevezése | J9: Tervezett nettó költség | K9: Forrás 2025 évre | L9: Megvalósítás időtartama | N9: Tervezett időtáv | O9: A beruházás ütemezése a tervezési időszak évei szerint
E10: Jelenlegi műszaki állapot | F10: Feladat szükségessége | G10: Megvalósítást követő várható műszaki állapot | J10: (eFt) | L10: Kezdés | M10: Befejezés | N10: (rövid / közép / hosszú) | O10: 1 | P10: 2 | Q10: 3 | R10: 4 | S10: 5 | T10: 6 | U10: 7 | V10: 8 | W10: 9 | X10: 10 | Y10: 11 | Z10: 12 | AA10: 13 | AB10: 14 | AC10: 15
B11: szakág | C11: Helyszín | D11: beruházás megnevezése
A12: I. Felszín alatti vízkivétel
B13: MÉLYFÚRÁSÚ KÚT, HAGYOMÁNYOS ÁTMÉRŐVEL
B14: Épület, építmény
B16: Gép, berendezés
B18: Irányítástechnika, energiaellátás
B20: Összesen: | J20: =SUM(J12:J19) -> 0
A21: III. Vízműtelep és vízkezelő létesítmények
C22: Helyszín | D22: beruházás megnevezése
B23: VÍZMŰTELEP
B24: Épület, építmény
B26: Gép, berendezés
B28: Irányítástechnika, energiaellátás
B30: VÍZKEZELŐ LÉTESÍTMÉNYEK
B31: Épület, építmény
B33: Gép, berendezés
B35: Irányítástechnika, energiaellátás
B37: Összesen | J37: =SUM(J23:J36) -> 0
A38: IV. Vízelosztás
C39: Helyszín | D39: beruházás megnevezése
B40: IVÓVÍZHÁLÓZAT
B41: Épület, építmény
B43: Gép, berendezés
B45: Irányítástechnika, energiaellátás
B47: VÍZTÁROLÓK
B48: Épület, építmény
B50: Gép, berendezés
B52: Irányítástechnika, energiaellátás
B54: NYOMÁSFOKOZÓK
B55: Épület, építmény
B57: Gép, berendezés
...

Sheet Nagykutas
A1: Gördülő fejlesztési terv a 2025 - 2039 időszakra
A2: BERUHÁZÁSOK ÖSSZEFOGLALÓ TÁBLÁZATA
A3: A tervet benyújtó szervezet megnevezése: | K3: NAGYKUTAS | R3: ellátásért felelős / ellátásért felelősök képviselője / víziközmű-szolgáltató *
A4: Víziközmű-szolgáltató megnevezése: | K4: ÉSZAK ZALAI VÍZ- ÉS CSATORNAMŰ ZÁRTKÖRŰEN MŰKÖDŐ RÉSZVÉNYTÁRSASÁG
A5: Víziközmű-szolgáltatási ágazat megnevezése: | K5: IVÓVÍZ ÁGAZAT
A6: Véleményeltérést megfogalmazó érintett fél megnevezése:
A7: Víziközmű-rendszer kódja: ** | K7: 11-32054-1-029-02-07 | R7: Zalaegerszeg-IV
A9: Fontossági sorrend | B9: Beruházás megnevezése | E9: Műszaki állapot felmérés, szükségességi indoklás | H9: Vízjogi létesítési/elvi engedély száma | I9: Az érintett ellátásért felelős(ök) megnevezése | J9: Tervezett nettó költség | K9: Forrás 2025 évre | L9: Megvalósítás időtartama | N9: Tervezett időtáv | O9: A beruházás ütemezése a tervezési időszak évei szerint
E10: Jelenlegi műszaki állapot | F10: Feladat szükségessége | G10: Megvalósítást követő várható műszaki állapot | J10: (eFt) | L10: Kezdés | M10: Befejezés | N10: (rövid / közép / hosszú) | O10: 1 | P10: 2 | Q10: 3 | R10: 4 | S10: 5 | T10: 6 | U10: 7 | V10: 8 | W10: 9 | X10: 10 | Y10: 11 | Z10: 12 | AA10: 13 | AB10: 14 | AC10: 15
B11: szakág | C11: Helyszín | D11: beruházás megnevezése
A12: I. Felszín alatti vízkivétel
B13: MÉLYFÚRÁSÚ KÚT, HAGYOMÁNYOS ÁTMÉRŐVEL
B14: Épület, építmény
B16: Gép, berendezés
B18: Irányítástechnika, energiaellátás
B20: Összesen: | J20: =SUM(J12:J18) -> 0
A21: III. Vízműtelep és vízkezelő létesítmények
C22: Helyszín | D22: beruházás megnevezése
B23: VÍZMŰTELEP
B24: Épület, építmény
B26: Gép, berendezés
B28: Irányítástechnika, energiaellátás
B30: VÍZKEZELŐ LÉTESÍTMÉNYEK
B31: Épület, építmény
B33: Gép, berendezés
B35: Irányítástechnika, energiaellátás
B37: Összesen | J37: =SUM(J23:J36) -> 0
A38: IV. Vízelosztás
C39: Helyszín | D39: beruházás megnevezése
B40: IVÓVÍZHÁLÓZAT
B41: Épület, építmény
B43: Gép, berendezés
B45: Irányítástechnika, energiaellátás
B47: VÍZTÁROLÓK
B48: Épület, építmény
B50: Gép, berendezés
B52: Irányítástechnika, energiaellátás
B54: NYOMÁSFOKOZÓK
B55: Épület, építmény
B57: Gép, berendezés
...

Sheet Nagypáli
A1: Gördülő fejlesztési terv a 2025 - 2039 időszakra
A2: BERUHÁZÁSOK ÖSSZEFOGLALÓ TÁBLÁZATA
A3: A tervet benyújtó szervezet megnevezése: | K3: NAGYPÁLI | R3: ellátásért felelős / ellátásért felelősök képviselője / víziközmű-szolgáltató *
A4: Víziközmű-szolgáltató megnevezése: | K4: ÉSZAK ZALAI VÍZ- ÉS CSATORNAMŰ ZÁRTKÖRŰEN MŰKÖDŐ RÉSZVÉNYTÁRSASÁG
A5: Víziközmű-szolgáltatási ágazat megnevezése: | K5: IVÓVÍZ ÁGAZAT
A6: Véleményeltérést megfogalmazó érintett fél megnevezése:
A7: Víziközmű-rendszer kódja: ** | K7: 11-32054-1-029-02-07 | R7: Zalaegerszeg-IV
A9: Fontossági sorrend | B9: Beruházás megnevezése | E9: Műszaki állapot felmérés, szükségességi indoklás | H9: Vízjogi létesítési/elvi engedély száma | I9: Az érintett ellátásért felelős(ök) megnevezése | J9: Tervezett nettó költség | K9: Forrás 2025 évre | L9: Megvalósítás időtartama | N9: Tervezett időtáv | O9: A beruházás ütemezése a tervezési időszak évei szerint
E10: Jelenlegi műszaki állapot | F10: Feladat szükségessége | G10: Megvalósítást követő várható műszaki állapot | J10: (eFt) | L10: Kezdés | M10: Befejezés | N10: (rövid / közép / hosszú) | O10: 1 | P10: 2 | Q10: 3 | R10: 4 | S10: 5 | T10: 6 | U10: 7 | V10: 8 | W10: 9 | X10: 10 | Y10: 11 | Z10: 12 | AA10: 13 | AB10: 14 | AC10: 15
B11: szakág | C11: Helyszín | D11: beruházás megnevezése
A12: I. Felszín alatti vízkivétel
B13: MÉLYFÚRÁSÚ KÚT, HAGYOMÁNYOS ÁTMÉRŐVEL
B14: Épület, építmény
B16: Gép, berendezés
B18: Irányítástechnika, energiaellátás
B20: Összesen: | J20: =SUM(J12:J19) -> 0
A21: III. Vízműtelep és vízkezelő létesítmények
C22: Helyszín | D22: beruházás megnevezése
B23: VÍZMŰTELEP
B24: Épület, építmény
B26: Gép, berendezés
B28: Irányítástechnika, energiaellátás
B30: VÍZKEZELŐ LÉTESÍTMÉNYEK
B31: Épület, építmény
B33: Gép, berendezés
B35: Irányítástechnika, energiaellátás
B37: Összesen | J37: =SUM(J23:J36) -> 0
A38: IV. Vízelosztás
C39: Helyszín | D39: beruházás megnevezése
B40: IVÓVÍZHÁLÓZAT
B41: Épület, építmény
B43: Gép, berendezés
B45: Irányítástechnika, energiaellátás
B47: VÍZTÁROLÓK
B48: Épület, építmény
B50: Gép, berendezés
B52: Irányítástechnika, energiaellátás
B54: NYOMÁSFOKOZÓK
B55: Épület, építmény
B57: Gép, berendezés
...

Sheet Németfalu
A1: Gördülő fejlesztési terv a 2025 - 2039 időszakra
A2: BERUHÁZÁSOK ÖSSZEFOGLALÓ TÁBLÁZATA
A3: A tervet benyújtó szervezet megnevezése: | K3: NÉMETFALU | R3: ellátásért felelős / ellátásért felelősök képviselője / víziközmű-szolgáltató *
A4: Víziközmű-szolgáltató megnevezése: | K4: ÉSZAK ZALAI VÍZ- ÉS CSATORNAMŰ ZÁRTKÖRŰEN MŰKÖDŐ RÉSZVÉNYTÁRSASÁG
A5: Víziközmű-szolgáltatási ágazat megnevezése: | K5: IVÓVÍZ ÁGAZAT
A6: Véleményeltérést megfogalmazó érintett fél megnevezése:
A7: Víziközmű-rendszer kódja: ** | K7: 11-32054-1-029-02-07 | R7: Zalaegerszeg-IV
A9: Fontossági sorrend | B9: Beruházás megnevezése | E9: Műszaki állapot felmérés, szükségességi indoklás | H9: Vízjogi létesítési/elvi engedély száma | I9: Az érintett ellátásért felelős(ök) megnevezése | J9: Tervezett nettó költség | K9: Forrás 2025 évre | L9: Megvalósítás időtartama | N9: Tervezett időtáv | O9: A beruházás ütemezése a tervezési időszak évei szerint
E10: Jelenlegi műszaki állapot | F10: Feladat szükségessége | G10: Megvalósítást követő várható műszaki állapot | J10: (eFt) | L10: Kezdés | M10: Befejezés | N10: (rövid / közép / hosszú) | O10: 1 | P10: 2 | Q10: 3 | R10: 4 | S10: 5 | T10: 6 | U10: 7 | V10: 8 | W10: 9 | X10: 10 | Y10: 11 | Z10: 12 | AA10: 13 | AB10: 14 | AC10: 15
B11: szakág | C11: Helyszín | D11: beruházás megnevezése
A12: I. Felszín alatti vízkivétel
B13: MÉLYFÚRÁSÚ KÚT, HAGYOMÁNYOS ÁTMÉRŐVEL
B14: Épület, építmény
B16: Gép, berendezés
B18: Irányítástechnika, energiaellátás
B20: Összesen: | J20: =SUM(J12:J19) -> 0
A21: III. Vízműtelep és vízkezelő létesítmények
C22: Helyszín | D22: beruházás megnevezése
B23: VÍZMŰTELEP
B24: Épület, építmény
B26: Gép, berendezés
B28: Irányítástechnika, energiaellátás
B30: VÍZKEZELŐ LÉTESÍTMÉNYEK
B31: Épület, építmény
B33: Gép, berendezés
B35: Irányítástechnika, energiaellátás
B37: Összesen | J37: =SUM(J23:J36) -> 0
A38: IV. Vízelosztás
C39: Helyszín | D39: beruházás megnevezése
B40: IVÓVÍZHÁLÓZAT
B41: Épület, építmény
B43: Gép, berendezés
B45: Irányítástechnika, energiaellátás
B47: VÍZTÁROLÓK
B48: Épület, építmény
B50: Gép, berendezés
B52: Irányítástechnika, energiaellátás
B54: NYOMÁSFOKOZÓK
B55: Épület, építmény
B57: Gép, berendezés
...

Sheet Pálfiszeg
A1: Gördülő fejlesztési terv a 2025 - 2039 időszakra
A2: BERUHÁZÁSOK ÖSSZEFOGLALÓ TÁBLÁZATA
A3: A tervet benyújtó szervezet megnevezése: | K3: PÁLFISZEG | R3: ellátásért felelős / ellátásért felelősök képviselője / víziközmű-szolgáltató *
A4: Víziközmű-szolgáltató megnevezése: | K4: ÉSZAK ZALAI VÍZ- ÉS CSATORNAMŰ ZÁRTKÖRŰEN MŰKÖDŐ RÉSZVÉNYTÁRSASÁG
A5: Víziközmű-szolgáltatási ágazat megnevezése: | K5: IVÓVÍZ ÁGAZAT
A6: Véleményeltérést megfogalmazó érintett fél megnevezése:
A7: Víziközmű-rendszer kódja: ** | K7: 11-32054-1-029-02-07 | R7: Zalaegerszeg-IV
A9: Fontossági sorrend | B9: Beruházás megnevezése | E9: Műszaki állapot felmérés, szükségességi indoklás | H9: Vízjogi létesítési/elvi engedély száma | I9: Az érintett ellátásért felelős(ök) megnevezése | J9: Tervezett nettó költség | K9: Forrás 2025 évre | L9: Megvalósítás időtartama | N9: Tervezett időtáv | O9: A beruházás ütemezése a tervezési időszak évei szerint
E10: Jelenlegi műszaki állapot | F10: Feladat szükségessége | G10: Megvalósítást követő várható műszaki állapot | J10: (eFt) | L10: Kezdés | M10: Befejezés | N10: (rövid / közép / hosszú) | O10: 1 | P10: 2 | Q10: 3 | R10: 4 | S10: 5 | T10: 6 | U10: 7 | V10: 8 | W10: 9 | X10: 10 | Y10: 11 | Z10: 12 | AA10: 13 | AB10: 14 | AC10: 15
B11: szakág | C11: Helyszín | D11: beruházás megnevezése
A12: I. Felszín alatti vízkivétel
B13: MÉLYFÚRÁSÚ KÚT, HAGYOMÁNYOS ÁTMÉRŐVEL
B14: Épület, építmény
B16: Gép, berendezés
B18: Irányítástechnika, energiaellátás
B20: Összesen: | J20: =SUM(J12:J19) -> 0
A21: III. Vízműtelep és vízkezelő létesítmények
C22: Helyszín | D22: beruházás megnevezése
B23: VÍZMŰTELEP
B24: Épület, építmény
B26: Gép, berendezés
B28: Irányítástechnika, energiaellátás
B30: VÍZKEZELŐ LÉTESÍTMÉNYEK
B31: Épület, építmény
B33: Gép, berendezés
B35: Irányítástechnika, energiaellátás
B37: Összesen | J37: =SUM(J23:J36) -> 0
A38: IV. Vízelosztás
C39: Helyszín | D39: beruházás megnevezése
B40: IVÓVÍZHÁLÓZAT
B41: Épület, építmény
B43: Gép, berendezés
B45: Irányítástechnika, energiaellátás
B47: VÍZTÁROLÓK
B48: Épület, építmény
B50: Gép, berendezés
B52: Irányítástechnika, energiaellátás
B54: NYOMÁSFOKOZÓK
B55: Épület, építmény
B57: Gép, berendezés
...

Sheet Pethőhenye
A1: Gördülő fejlesztési terv a 2025 - 2039 időszakra
A2: BERUHÁZÁSOK ÖSSZEFOGLALÓ TÁBLÁZATA
A3: A tervet benyújtó szervezet megnevezése: | K3: PETHŐHENYE | R3: ellátásért felelős / ellátásért felelősök képviselője / víziközmű-szolgáltató *
A4: Víziközmű-szolgáltató megnevezése: | K4: ÉSZAK ZALAI VÍZ- ÉS CSATORNAMŰ ZÁRTKÖRŰEN MŰKÖDŐ RÉSZVÉNYTÁRSASÁG
A5: Víziközmű-szolgáltatási ágazat megnevezése: | K5: IVÓVÍZ ÁGAZAT
A6: Véleményeltérést megfogalmazó érintett fél megnevezése:
A7: Víziközmű-rendszer kódja: ** | K7: 11-32054-1-029-02-07 | R7: Zalaegerszeg-IV
A9: Fontossági sorrend | B9: Beruházás megnevezése | E9: Műszaki állapot felmérés, szükségességi indoklás | H9: Vízjogi létesítési/elvi engedély száma | I9: Az érintett ellátásért felelős(ök) megnevezése | J9: Tervezett nettó költség | K9: Forrás 2025 évre | L9: Megvalósítás időtartama | N9: Tervezett időtáv | O9: A beruházás ütemezése a tervezési időszak évei szerint
E10: Jelenlegi műszaki állapot | F10: Feladat szükségessége | G10: Megvalósítást követő várható műszaki állapot | J10: (eFt) | L10: Kezdés | M10: Befejezés | N10: (rövid / közép / hosszú) | O10: 1 | P10: 2 | Q10: 3 | R10: 4 | S10: 5 | T10: 6 | U10: 7 | V10: 8 | W10: 9 | X10: 10 | Y10: 11 | Z10: 12 | AA10: 13 | AB10: 14 | AC10: 15
B11: szakág | C11: Helyszín | D11: beruházás megnevezése
A12: I. Felszín alatti vízkivétel
B13: MÉLYFÚRÁSÚ KÚT, HAGYOMÁNYOS ÁTMÉRŐVEL
B14: Épület, építmény
B16: Gép, berendezés
B18: Irányítástechnika, energiaellátás
B20: Összesen: | J20: =SUM(J12:J19) -> 0
A21: III. Vízműtelep és vízkezelő létesítmények
C22: Helyszín | D22: beruházás megnevezése
B23: VÍZMŰTELEP
B24: Épület, építmény
B26: Gép, berendezés
B28: Irányítástechnika, energiaellátás
B30: VÍZKEZELŐ LÉTESÍTMÉNYEK
B31: Épület, építmény
B33: Gép, berendezés
B35: Irányítástechnika, energiaellátás
B37: Összesen | J37: =SUM(J23:J36) -> 0
A38: IV. Vízelosztás
C39: Helyszín | D39: beruházás megnevezése
B40: IVÓVÍZHÁLÓZAT
B41: Épület, építmény
B43: Gép, berendezés
B45: Irányítástechnika, energiaellátás
B47: VÍZTÁROLÓK
B48: Épület, építmény
B50: Gép, berendezés
B52: Irányítástechnika, energiaellátás
B54: NYOMÁSFOKOZÓK
B55: Épület, építmény
B57: Gép, berendezés
...

Sheet Sárhida
A1: Gördülő fejlesztési terv a 2025 - 2039 időszakra
A2: BERUHÁZÁSOK ÖSSZEFOGLALÓ TÁBLÁZATA
A3: A tervet benyújtó szervezet megnevezése: | K3: SÁRHIDA | R3: ellátásért felelős / ellátásért felelősök képviselője / víziközmű-szolgáltató *
A4: Víziközmű-szolgáltató megnevezése: | K4: ÉSZAK ZALAI VÍZ- ÉS CSATORNAMŰ ZÁRTKÖRŰEN MŰKÖDŐ RÉSZVÉNYTÁRSASÁG
A5: Víziközmű-szolgáltatási ágazat megnevezése: | K5: IVÓVÍZ ÁGAZAT
A6: Véleményeltérést megfogalmazó érintett fél megnevezése:
A7: Víziközmű-rendszer kódja: ** | K7: 11-32054-1-029-02-07 | R7: Zalaegerszeg-IV
A9: Fontossági sorrend | B9: Beruházás megnevezése | E9: Műszaki állapot felmérés, szükségességi indoklás | H9: Vízjogi létesítési/elvi engedély száma | I9: Az érintett ellátásért felelős(ök) megnevezése | J9: Tervezett nettó költség | K9: Forrás 2025 évre | L9: Megvalósítás időtartama | N9: Tervezett időtáv | O9: A beruházás ütemezése a tervezési időszak évei szerint
E10: Jelenlegi műszaki állapot | F10: Feladat szükségessége | G10: Megvalósítást követő várható műszaki állapot | J10: (eFt) | L10: Kezdés | M10: Befejezés | N10: (rövid / közép / hosszú) | O10: 1 | P10: 2 | Q10: 3 | R10: 4 | S10: 5 | T10: 6 | U10: 7 | V10: 8 | W10: 9 | X10: 10 | Y10: 11 | Z10: 12 | AA10: 13 | AB10: 14 | AC10: 15
B11: szakág | C11: Helyszín | D11: beruházás megnevezése
A12: I. Felszín alatti vízkivétel
B13: MÉLYFÚRÁSÚ KÚT, HAGYOMÁNYOS ÁTMÉRŐVEL
B14: Épület, építmény
B16: Gép, berendezés
B18: Irányítástechnika, energiaellátás
B20: Összesen: | J20: =SUM(J12:J18) -> 0
A21: III. Vízműtelep és vízkezelő létesítmények
C22: Helyszín | D22: beruházás megnevezése
B23: VÍZMŰTELEP
B24: Épület, építmény
B26: Gép, berendezés
B28: Irányítástechnika, energiaellátás
B30: VÍZKEZELŐ LÉTESÍTMÉNYEK
B31: Épület, építmény
B33: Gép, berendezés
B35: Irányítástechnika, energiaellátás
B37: Összesen | J37: =SUM(J23:J36) -> 0
A38: IV. Vízelosztás
C39: Helyszín | D39: beruházás megnevezése
B40: IVÓVÍZHÁLÓZAT
B41: Épület, építmény
B43: Gép, berendezés
B45: Irányítástechnika, energiaellátás
B47: VÍZTÁROLÓK
B48: Épület, építmény
B50: Gép, berendezés
B52: Irányítástechnika, energiaellátás
B54: NYOMÁSFOKOZÓK
B55: Épület, építmény
B57: Gép, berendezés
...

Sheet Teskánd
A1: Gördülő fejlesztési terv a 2025 - 2039 időszakra
A2: BERUHÁZÁSOK ÖSSZEFOGLALÓ TÁBLÁZATA
A3: A tervet benyújtó szervezet megnevezése: | K3: TESKÁND | R3: ellátásért felelős / ellátásért felelősök képviselője / víziközmű-szolgáltató *
A4: Víziközmű-szolgáltató megnevezése: | K4: ÉSZAK ZALAI VÍZ- ÉS CSATORNAMŰ ZÁRTKÖRŰEN MŰKÖDŐ RÉSZVÉNYTÁRSASÁG
A5: Víziközmű-szolgáltatási ágazat megnevezése: | K5: IVÓVÍZ ÁGAZAT
A6: Véleményeltérést megfogalmazó érintett fél megnevezése:
A7: Víziközmű-rendszer kódja: ** | K7: 11-32054-1-029-02-07 | R7: Zalaegerszeg-IV
A9: Fontossági sorrend | B9: Beruházás megnevezése | E9: Műszaki állapot felmérés, szükségességi indoklás | H9: Vízjogi létesítési/elvi engedély száma | I9: Az érintett ellátásért felelős(ök) megnevezése | J9: Tervezett nettó költség | K9: Forrás 2025 évre | L9: Megvalósítás időtartama | N9: Tervezett időtáv | O9: A beruházás ütemezése a tervezési időszak évei szerint
E10: Jelenlegi műszaki állapot | F10: Feladat szükségessége | G10: Megvalósítást követő várható műszaki állapot | J10: (eFt) | L10: Kezdés | M10: Befejezés | N10: (rövid / közép / hosszú) | O10: 1 | P10: 2 | Q10: 3 | R10: 4 | S10: 5 | T10: 6 | U10: 7 | V10: 8 | W10: 9 | X10: 10 | Y10: 11 | Z10: 12 | AA10: 13 | AB10: 14 | AC10: 15
B11: szakág | C11: Helyszín | D11: beruházás megnevezése
A12: I. Felszín alatti vízkivétel
B13: MÉLYFÚRÁSÚ KÚT, HAGYOMÁNYOS ÁTMÉRŐVEL
B14: Épület, építmény
B16: Gép, berendezés
B18: Irányítástechnika, energiaellátás
B20: Összesen: | J20: =SUM(J12:J18) -> 0
A21: III. Vízműtelep és vízkezelő létesítmények
C22: Helyszín | D22: beruházás megnevezése
B23: VÍZMŰTELEP
B24: Épület, építmény
B26: Gép, berendezés
B28: Irányítástechnika, energiaellátás
B30: VÍZKEZELŐ LÉTESÍTMÉNYEK
B31: Épület, építmény
B33: Gép, berendezés
B35: Irányítástechnika, energiaellátás
B37: Összesen | J37: =SUM(J23:J36) -> 0
A38: IV. Vízelosztás
C39: Helyszín | D39: beruházás megnevezése
B40: IVÓVÍZHÁLÓZAT
B41: Épület, építmény
B43: Gép, berendezés
B45: Irányítástechnika, energiaellátás
B47: VÍZTÁROLÓK
B48: Épület, építmény
B50: Gép, berendezés
B52: Irányítástechnika, energiaellátás
B54: NYOMÁSFOKOZÓK
B55: Épület, építmény
B57: Gép, berendezés
...

Sheet Zalaboldogfa
A1: Gördülő fejlesztési terv a 2025 - 2039 időszakra
A2: BERUHÁZÁSOK ÖSSZEFOGLALÓ TÁBLÁZATA
A3: A tervet benyújtó szervezet megnevezése: | K3: ZALABOLDOGFA | R3: ellátásért felelős / ellátásért felelősök képviselője / víziközmű-szolgáltató *
A4: Víziközmű-szolgáltató megnevezése: | K4: ÉSZAK ZALAI VÍZ- ÉS CSATORNAMŰ ZÁRTKÖRŰEN MŰKÖDŐ RÉSZVÉNYTÁRSASÁG
A5: Víziközmű-szolgáltatási ágazat megnevezése: | K5: IVÓVÍZ ÁGAZAT
A6: Véleményeltérést megfogalmazó érintett fél megnevezése:
A7: Víziközmű-rendszer kódja: ** | K7: 11-32054-1-029-02-07 | R7: Zalaegerszeg-IV
A9: Fontossági sorrend | B9: Beruházás megnevezése | E9: Műszaki állapot felmérés, szükségességi indoklás | H9: Vízjogi létesítési/elvi engedély száma | I9: Az érintett ellátásért felelős(ök) megnevezése | J9: Tervezett nettó költség | K9: Forrás 2025 évre | L9: Megvalósítás időtartama | N9: Tervezett időtáv | O9: A beruházás ütemezése a tervezési időszak évei szerint
E10: Jelenlegi műszaki állapot | F10: Feladat szükségessége | G10: Megvalósítást követő várható műszaki állapot | J10: (eFt) | L10: Kezdés | M10: Befejezés | N10: (rövid / közép / hosszú) | O10: 1 | P10: 2 | Q10: 3 | R10: 4 | S10: 5 | T10: 6 | U10: 7 | V10: 8 | W10: 9 | X10: 10 | Y10: 11 | Z10: 12 | AA10: 13 | AB10: 14 | AC10: 15
B11: szakág | C11: Helyszín | D11: beruházás megnevezése
A12: I. Felszín alatti vízkivétel
B13: MÉLYFÚRÁSÚ KÚT, HAGYOMÁNYOS ÁTMÉRŐVEL
B14: Épület, építmény
B16: Gép, berendezés
B18: Irányítástechnika, energiaellátás
B20: Összesen: | J20: =SUM(J12:J19) -> 0
A21: III. Vízműtelep és vízkezelő létesítmények
C22: Helyszín | D22: beruházás megnevezése
B23: VÍZMŰTELEP
B24: Épület, építmény
B26: Gép, berendezés
B28: Irányítástechnika, energiaellátás
B30: VÍZKEZELŐ LÉTESÍTMÉNYEK
B31: Épület, építmény
B33: Gép, berendezés
B35: Irányítástechnika, energiaellátás
B37: Összesen | J37: =SUM(J23:J36) -> 0
A38: IV. Vízelosztás
C39: Helyszín | D39: beruházás megnevezése
B40: IVÓVÍZHÁLÓZAT
B41: Épület, építmény
B43: Gép, berendezés
B45: Irányítástechnika, energiaellátás
B47: VÍZTÁROLÓK
B48: Épület, építmény
B50: Gép, berendezés
B52: Irányítástechnika, energiaellátás
B54: NYOMÁSFOKOZÓK
B55: Épület, építmény
B57: Gép, berendezés
...

Sheet Zalaegerszeg
A1: Gördülő fejlesztési terv a 2025 - 2039 időszakra
A2: BERUHÁZÁSOK ÖSSZEFOGLALÓ TÁBLÁZATA
A3: A tervet benyújtó szervezet megnevezése: | K3: ZALAEGERSZEG | R3: ellátásért felelős / ellátásért felelősök képviselője / víziközmű-szolgáltató *
A4: Víziközmű-szolgáltató megnevezése: | K4: ÉSZAK ZALAI VÍZ- ÉS CSATORNAMŰ ZÁRTKÖRŰEN MŰKÖDŐ RÉSZVÉNYTÁRSASÁG
A5: Víziközmű-szolgáltatási ágazat megnevezése: | K5: IVÓVÍZ ÁGAZAT
A6: Véleményeltérést megfogalmazó érintett fél megnevezése:
A7: Víziközmű-rendszer kódja: ** | K7: 11-32054-1-029-02-07 | R7: ZALAEGERSZEG-IV
A9: Fontossági sorrend | B9: Beruházás megnevezése | E9: Műszaki állapot felmérés, szükségességi indoklás | H9: Vízjogi létesítési/elvi engedély száma | I9: Az érintett ellátásért felelős(ök) megnevezése | J9: Tervezett nettó költség | K9: Forrás 2025 évre | L9: Megvalósítás időtartama | N9: Tervezett időtáv | O9: A beruházás ütemezése a tervezési időszak évei szerint
E10: Jelenlegi műszaki állapot | F10: Feladat szükségessége | G10: Megvalósítást követő várható műszaki állapot | J10: (eFt) | L10: Kezdés | M10: Befejezés | N10: (rövid / közép / hosszú) | O10: 1 | P10: 2 | Q10: 3 | R10: 4 | S10: 5 | T10: 6 | U10: 7 | V10: 8 | W10: 9 | X10: 10 | Y10: 11 | Z10: 12 | AA10: 13 | AB10: 14 | AC10: 15
B11: szakág | C11: Helyszín | D11: beruházás megnevezése
A12: I. Felszín alatti vízkivétel
B13: MÉLYFÚRÁSÚ KÚT, HAGYOMÁNYOS ÁTMÉRŐVEL
B14: Épület, építmény
B17: Gép, berendezés
B19: Irányítástechnika, energiaellátás
B21: Összesen: | J21: =SUM(J12:J19) -> 0
A22: III. Vízműtelep és vízkezelő létesítmények
C23: Helyszín | D23: beruházás megnevezése
B24: VÍZMŰTELEP
B25: Épület, építmény
B27: Gép, berendezés
B29: Irányítástechnika, energiaellátás
B31: VÍZKEZELŐ LÉTESÍTMÉNYEK
B32: Épület, építmény
B34: Gép, berendezés
A35: 1 | C35: É-i vízbázis és vízműtelep kiépítése | D35: ivóvízminőség javítása és vízellátásának fejlesztése | I35: Zalaegerszeg | J35: =SUM(O35:AC35) -> 1500000 | L35: 48214 | M35: 48579 | N35: hosszú | V35: 1500000
B36: Irányítástechnika, energiaellátás
B38: Összesen | J38: =SUM(J24:J37) -> 1500000
A39: IV. Vízelosztás
C40: Helyszín | D40: beruházás megnevezése
B41: IVÓVÍZHÁLÓZAT
B42: Épület, építmény
B44: Irányítástechnika, energiaellátás
B46: Összesen | J46: =SUM(J43:J45) -> 0
B47: VÍZTÁROLÓK
B48: Épület, építmény
B49: Gép, berendezés
B51: Irányítástechnika, energiaellátás
B53: NYOMÁSFOKOZÓK
B54: Épület, építmény
...

Sheet Zalaszentgyörgy
A1: Gördülő fejlesztési terv a 2025 - 2039 időszakra
A2: BERUHÁZÁSOK ÖSSZEFOGLALÓ TÁBLÁZATA
A3: A tervet benyújtó szervezet megnevezése: | K3: ZALASZENTGYÖRGY | R3: ellátásért felelős / ellátásért felelősök képviselője / víziközmű-szolgáltató *
A4: Víziközmű-szolgáltató megnevezése: | K4: ÉSZAK ZALAI VÍZ- ÉS CSATORNAMŰ ZÁRTKÖRŰEN MŰKÖDŐ RÉSZVÉNYTÁRSASÁG
A5: Víziközmű-szolgáltatási ágazat megnevezése: | K5: IVÓVÍZ ÁGAZAT
A6: Véleményeltérést megfogalmazó érintett fél megnevezése:
A7: Víziközmű-rendszer kódja: ** | K7: 11-32054-1-029-02-07 | R7: Zalaegerszeg-IV
A9: Fontossági sorrend | B9: Beruházás megnevezése | E9: Műszaki állapot felmérés, szükségességi indoklás | H9: Vízjogi létesítési/elvi engedély száma | I9: Az érintett ellátásért felelős(ök) megnevezése | J9: Tervezett nettó költség | K9: Forrás 2025 évre | L9: Megvalósítás időtartama | N9: Tervezett időtáv | O9: A beruházás ütemezése a tervezési időszak évei szerint
E10: Jelenlegi műszaki állapot | F10: Feladat szükségessége | G10: Megvalósítást követő várható műszaki állapot | J10: (eFt) | L10: Kezdés | M10: Befejezés | N10: (rövid / közép / hosszú) | O10: 1 | P10: 2 | Q10: 3 | R10: 4 | S10: 5 | T10: 6 | U10: 7 | V10: 8 | W10: 9 | X10: 10 | Y10: 11 | Z10: 12 | AA10: 13 | AB10: 14 | AC10: 15
B11: szakág | C11: Helyszín | D11: beruházás megnevezése
A12: I. Felszín alatti vízkivétel
B13: MÉLYFÚRÁSÚ KÚT, HAGYOMÁNYOS ÁTMÉRŐVEL
B14: Épület, építmény
B16: Gép, berendezés
B18: Irányítástechnika, energiaellátás
B20: Összesen: | J20: =SUM(J12:J19) -> 0
A21: III. Vízműtelep és vízkezelő létesítmények
C22: Helyszín | D22: beruházás megnevezése
B23: VÍZMŰTELEP
B24: Épület, építmény
B26: Gép, berendezés
B28: Irányítástechnika, energiaellátás
B30: VÍZKEZELŐ LÉTESÍTMÉNYEK
B31: Épület, építmény
B33: Gép, berendezés
B35: Irányítástechnika, energiaellátás
B37: Összesen | J37: =SUM(J23:J36) -> 0
A38: IV. Vízelosztás
C39: Helyszín | D39: beruházás megnevezése
B40: IVÓVÍZHÁLÓZAT
B41: Épület, építmény
B43: Gép, berendezés
B45: Irányítástechnika, energiaellátás
B47: VÍZTÁROLÓK
B48: Épület, építmény
B50: Gép, berendezés
B52: Irányítástechnika, energiaellátás
B54: NYOMÁSFOKOZÓK
B55: Épület, építmény
B57: Gép, berendezés
...

Sheet Zalaszentiván
A1: Gördülő fejlesztési terv a 2025 - 2039 időszakra
A2: BERUHÁZÁSOK ÖSSZEFOGLALÓ TÁBLÁZATA
