Workbook

Sheet Alibánfa
A1: Gördülő fejlesztési terv a 2025 - 2039 időszakra
A2: BERUHÁZÁSOK ÖSSZEFOGLALÓ TÁBLÁZATA
A3: A tervet benyújtó szervezet megnevezése: | K3: ALIBÁNFA | R3: ellátásért felelős / ellátásért felelősök képviselője / víziközmű-szolgáltató *
A4: Víziközmű-szolgáltató megnevezése: | K4: ÉSZAK ZALAI VÍZ- ÉS CSATORNAMŰ ZÁRTKÖRŰEN MŰKÖDŐ RÉSZVÉNYTÁRSASÁG
A5: Víziközmű-szolgáltatási ágazat megnevezése: | K5: IVÓVÍZ ÁGAZAT
A6: Véleményeltérést megfogalmazó érintett fél megnevezése:
A7: Víziközmű-rendszer kódja: ** | K7: 11-32054-1-029-02-07 | R7: Zalaegerszeg-IV
A9: Fontossági sorrend | B9: Beruházás megnevezése | E9: Műszaki állapot felmérés, szükségességi indoklás | H9: Vízjogi létesítési/elvi engedély száma | I9: Az érintett ellátásért felelős(ök) megnevezése | J9: Tervezett nettó költség | K9: Forrás 2025 évre | L9: Megvalósítás időtartama | N9: Tervezett időtáv | O9: A beruházás ütemezése a tervezési időszak évei szerint
E10: Jelenlegi műszaki állapot | F10: Feladat szükségessége | G10: Megvalósítást követő várható műszaki állapot | J10: (eFt) | L10: Kezdés | M10: Befejezés | N10: (rövid / közép / hosszú) | O10: 1 | P10: 2 | Q10: 3 | R10: 4 | S10: 5 | T10: 6 | U10: 7 | V10: 8 | W10: 9 | X10: 10 | Y10: 11 | Z10: 12 | AA10: 13 | AB10: 14 | AC10: 15
B11: szakág | C11: Helyszín | D11: beruházás megnevezése
A12: I. Felszín alatti vízkivétel
B13: MÉLYFÚRÁSÚ KÚT, HAGYOMÁNYOS ÁTMÉRŐVEL
B14: Épület, építmény
B16: Gép, berendezés
B18: Irányítástechnika, energiaellátás
B20: Összesen: | J20: =SUM(J12:J19) -> 0
A21: III. Vízműtelep és vízkezelő létesítmények
C22: Helyszín | D22: beruházás megnevezése
B23: VÍZMŰTELEP
B24: Épület, építmény
B26: Gép, berendezés
B28: Irányítástechnika, energiaellátás
B30: VÍZKEZELŐ LÉTESÍTMÉNYEK
B31: Épület, építmény
B33: Gép, berendezés
B35: Irányítástechnika, energiaellátás
B37: Összesen | J37: =SUM(J23:J36) -> 0
A38: IV. Vízelosztás
C39: Helyszín | D39: beruházás megnevezése
B40: IVÓVÍZHÁLÓZAT
B41: Épület, építmény
B43: Gép, berendezés
B45: Irányítástechnika, energiaellátás
B47: VÍZTÁROLÓK
B48: Épület, építmény
B50: Gép, berendezés
B52: Irányítástechnika, energiaellátás
B54: NYOMÁSFOKOZÓK
B55: Épület, építmény
B57: Gép, berendezés
B59: Irányítástechnika, energiaellátás
B61: Összesen: | J61: =SUM(J40:J60) -> 0 | K61: 0 | O61: =SUM(O12:O60) -> 0 | P61: =SUM(P11:P60) -> 0 | Q61: =SUM(Q11:Q60) -> 0 | R61: =SUM(R11:R60) -> 0 | S61: =SUM(S11:S60) -> 0 | T61: =SUM(T11:T60) -> 0 | U61: =SUM(U11:U60) -> 0 | V61: =SUM(V11:V60) -> 0 | W61: =SUM(W11:W60) -> 0 | ... AC61: =SUM(AC11:AC60) -> 0
B64: Tervezett feladatok nettó költsége a teljes ütem tekintetében (eFt) | C64: Rendelkezésre álló források számszerűsített értéke a teljes ütem tekintetében (eFt) | D64: Forrás megnevezése a teljes ütem tekintetében
A65: I. ütem | B65: =SUM(O61) -> 0 | C65: =K61 -> 0 | D65: Fejlesztési díj (2025)
A66: II. ütem | B66: =SUM(P61:S61) -> 0 | C66: =C65*4 -> 0 | D66: Fejlesztési díj (2026-2029)
A67: III. ütem | B67: =SUM(T61:AC61) -> 0 | C67: =C65*10 -> 0 | D67: Fejlesztési díj (2030-2039)
B70: Jelenleg beruházási igény nem ismert, nincs rendelkezésre álló forrás beruházásra.

Sheet Babosdöbréte
A1: Gördülő fejlesztési terv a 2025 - 2039 időszakra
A2: BERUHÁZÁSOK ÖSSZEFOGLALÓ TÁBLÁZATA
A3: A tervet benyújtó szervezet megnevezése: | K3: BABOSDÖBRÉTE | R3: ellátásért felelős / ellátásért felelősök képviselője / víziközmű-szolgáltató *
A4: Víziközmű-szolgáltató megnevezése: | K4: ÉSZAK ZALAI VÍZ- ÉS CSATORNAMŰ ZÁRTKÖRŰEN MŰKÖDŐ RÉSZVÉNYTÁRSASÁG
A5: Víziközmű-szolgáltatási ágazat megnevezése: | K5: IVÓVÍZ ÁGAZAT
A6: Véleményeltérést megfogalmazó érintett fél megnevezése:
A7: Víziközmű-rendszer kódja: ** | K7: 11-32054-1-029-02-07 | R7: Zalaegerszeg-IV
A9: Fontossági sorrend | B9: Beruházás megnevezése | E9: Műszaki állapot felmérés, szükségességi indoklás | H9: Vízjogi létesítési/elvi engedély száma | I9: Az érintett ellátásért felelős(ök) megnevezése | J9: Tervezett nettó költség | K9: Forrás 2025 évre | L9: Megvalósítás időtartama | N9: Tervezett időtáv | O9: A beruházás ütemezése a tervezési időszak évei szerint
E10: Jelenlegi műszaki állapot | F10: Feladat szükségessége | G10: Megvalósítást követő várható műszaki állapot | J10: (eFt) | L10: Kezdés | M10: Befejezés | N10: (rövid / közép / hosszú) | O10: 1 | P10: 2 | Q10: 3 | R10: 4 | S10: 5 | T10: 6 | U10: 7 | V10: 8 | W10: 9 | X10: 10 | Y10: 11 | Z10: 12 | AA10: 13 | AB10: 14 | AC10: 15
B11: szakág | C11: Helyszín | D11: beruházás megnevezése
A12: I. Felszín alatti vízkivétel
B13: MÉLYFÚRÁSÚ KÚT, HAGYOMÁNYOS ÁTMÉRŐVEL
B14: Épület, építmény
B16: Gép, berendezés
B18: Irányítástechnika, energiaellátás
B20: Összesen: | J20: =SUM(J12:J18) -> 0
A21: III. Vízműtelep és vízkezelő létesítmények
C22: Helyszín | D22: beruházás megnevezése
B23: VÍZMŰTELEP
B24: Épület, építmény
B26: Gép, berendezés
B28: Irányítástechnika, energiaellátás
B30: VÍZKEZELŐ LÉTESÍTMÉNYEK
B31: Épület, építmény
B33: Gép, berendezés
B35: Irányítástechnika, energiaellátás
B37: Összesen | J37: =SUM(J23:J36) -> 0
A38: IV. Vízelosztás
C39: Helyszín | D39: beruházás megnevezése
B40: IVÓVÍZHÁLÓZAT
B41: Épület, építmény
B43: Gép, berendezés
B45: Irányítástechnika, energiaellátás
B47: VÍZTÁROLÓK
B48: Épület, építmény
B50: Gép, berendezés
B52: Irányítástechnika, energiaellátás
B54: NYOMÁSFOKOZÓK
B55: Épület, építmény
B57: Gép, berendezés
B59: Irányítástechnika, energiaellátás
B61: Összesen: | J61: =SUM(J40:J60) -> 0 | K61: 0 | O61: =SUM(O12:O60) -> 0 | P61: =SUM(P11:P60) -> 0 | Q61: =SUM(Q11:Q60) -> 0 | R61: =SUM(R11:R60) -> 0 | S61: =SUM(S11:S60) -> 0 | T61: =SUM(T11:T60) -> 0 | U61: =SUM(U11:U60) -> 0 | V61: =SUM(V11:V60) -> 0 | W61: =SUM(W11:W60) -> 0 | ... AC61: =SUM(AC11:AC60) -> 0
B64: Tervezett feladatok nettó költsége a teljes ütem tekintetében (eFt) | C64: Rendelkezésre álló források számszerűsített értéke a teljes ütem tekintetében (eFt) | D64: Forrás megnevezése a teljes ütem tekintetében
A65: I. ütem | B65: =SUM(O61) -> 0 | C65: =K61 -> 0 | D65: Fejlesztési díj (2025)
A66: II. ütem | B66: =SUM(P61:S61) -> 0 | C66: =C65*4 -> 0 | D66: Fejlesztési díj (2026-2029)
A67: III. ütem | B67: =SUM(T61:AC61) -> 0 | C67: =C65*10 -> 0 | D67: Fejlesztési díj (2030-2039)
B70: Jelenleg beruházási igény nem ismert, nincs rendelkezésre álló forrás beruházásra.

Sheet Bagod
A1: Gördülő fejlesztési terv a 2025 - 2039 időszakra
A2: BERUHÁZÁSOK ÖSSZEFOGLALÓ TÁBLÁZATA
A3: A tervet benyújtó szervezet megnevezése: | K3: BAGOD | R3: ellátásért felelős / ellátásért felelősök képviselője / víziközmű-szolgáltató *
A4: Víziközmű-szolgáltató megnevezése: | K4: ÉSZAK ZALAI VÍZ- ÉS CSATORNAMŰ ZÁRTKÖRŰEN MŰKÖDŐ RÉSZVÉNYTÁRSASÁG
A5: Víziközmű-szolgáltatási ágazat megnevezése: | K5: IVÓVÍZ ÁGAZAT
A6: Véleményeltérést megfogalmazó érintett fél megnevezése:
A7: Víziközmű-rendszer kódja: ** | K7: 11-32054-1-029-02-07 | R7: Zalaegerszeg-IV
A9: Fontossági sorrend | B9: Beruházás megnevezése | E9: Műszaki állapot felmérés, szükségességi indoklás | H9: Vízjogi létesítési/elvi engedély száma | I9: Az érintett ellátásért felelős(ök) megnevezése | J9: Tervezett nettó költség | K9: Forrás 2025 évre | L9: Megvalósítás időtartama | N9: Tervezett időtáv | O9: A beruházás ütemezése a tervezési időszak évei szerint
E10: Jelenlegi műszaki állapot | F10: Feladat szükségessége | G10: Megvalósítást követő várható műszaki állapot | J10: (eFt) | L10: Kezdés | M10: Befejezés | N10: (rövid / közép / hosszú) | O10: 1 | P10: 2 | Q10: 3 | R10: 4 | S10: 5 | T10: 6 | U10: 7 | V10: 8 | W10: 9 | X10: 10 | Y10: 11 | Z10: 12 | AA10: 13 | AB10: 14 | AC10: 15
B11: szakág | C11: Helyszín | D11: beruházás megnevezése
A12: I. Felszín alatti vízkivétel
B13: MÉLYFÚRÁSÚ KÚT, HAGYOMÁNYOS ÁTMÉRŐVEL
B14: Épület, építmény
B16: Gép, berendezés
B18: Irányítástechnika, energiaellátás
B20: Összesen: | J20: =SUM(J12:J19) -> 0
A21: III. Vízműtelep és vízkezelő létesítmények
C22: Helyszín | D22: beruházás megnevezése
B23: VÍZMŰTELEP
B24: Épület, építmény
B26: Gép, berendezés
B28: Irányítástechnika, energiaellátás
B30: VÍZKEZELŐ LÉTESÍTMÉNYEK
B31: Épület, építmény
B33: Gép, berendezés
B35: Irányítástechnika, energiaellátás
B37: Összesen | J37: =SUM(J23:J36) -> 0
A38: IV. Vízelosztás
C39: Helyszín | D39: beruházás megnevezése
B40: IVÓVÍZHÁLÓZAT
B41: Épület, építmény
B43: Gép, berendezés
B45: Irányítástechnika, energiaellátás
B47: VÍZTÁROLÓK
B48: Épület, építmény
B50: Gép, berendezés
B52: Irányítástechnika, energiaellátás
B54: NYOMÁSFOKOZÓK
B55: Épület, építmény
B57: Gép, berendezés
B59: Irányítástechnika, energiaellátás
B61: Összesen: | J61: =SUM(J40:J60) -> 0 | K61: 0 | O61: =SUM(O12:O60) -> 0 | P61: =SUM(P11:P60) -> 0 | Q61: =SUM(Q11:Q60) -> 0 | R61: =SUM(R11:R60) -> 0 | S61: =SUM(S11:S60) -> 0 | T61: =SUM(T11:T60) -> 0 | U61: =SUM(U11:U60) -> 0 | V61: =SUM(V11:V60) -> 0 | W61: =SUM(W11:W60) -> 0 | ... AC61: =SUM(AC11:AC60) -> 0
B64: Tervezett feladatok nettó költsége a teljes ütem tekintetében (eFt) | C64: Rendelkezésre álló források számszerűsített értéke a teljes ütem tekintetében (eFt) | D64: Forrás megnevezése a teljes ütem tekintetében
A65: I. ütem | B65: =SUM(O61) -> 0 | C65: =K61 -> 0 | D65: Fejlesztési díj (2025)
A66: II. ütem | B66: =SUM(P61:S61) -> 0 | C66: =C65*4 -> 0 | D66: Fejlesztési díj (2026-2029)
A67: III. ütem | B67: =SUM(T61:AC61) -> 0 | C67: =C65*10 -> 0 | D67: Fejlesztési díj (2030-2039)
B70: Jelenleg beruházási igény nem ismert, nincs rendelkezésre álló forrás beruházásra.

Sheet Becsvölgye
A1: Gördülő fejlesztési terv a 2025 - 2039 időszakra
A2: BERUHÁZÁSOK ÖSSZEFOGLALÓ TÁBLÁZATA
A3: A tervet benyújtó szervezet megnevezése: | K3: BECSVÖLGYE | R3: ellátásért felelős / ellátásért felelősök képviselője / víziközmű-szolgáltató *
A4: Víziközmű-szolgáltató megnevezése: | K4: ÉSZAK ZALAI VÍZ- ÉS CSATORNAMŰ ZÁRTKÖRŰEN MŰKÖDŐ RÉSZVÉNYTÁRSASÁG
A5: Víziközmű-szolgáltatási ágazat megnevezése: | K5: IVÓVÍZ ÁGAZAT
A6: Véleményeltérést megfogalmazó érintett fél megnevezése:
A7: Víziközmű-rendszer kódja: ** | K7: 11-32054-1-029-02-07 | R7: Zalaegerszeg-IV
A9: Fontossági sorrend | B9: Beruházás megnevezése | E9: Műszaki állapot felmérés, szükségességi indoklás | H9: Vízjogi létesítési/elvi engedély száma | I9: Az érintett ellátásért felelős(ök) megnevezése | J9: Tervezett nettó költség | K9: Forrás 2025 évre | L9: Megvalósítás időtartama | N9: Tervezett időtáv | O9: A beruházás ütemezése a tervezési időszak évei szerint
E10: Jelenlegi műszaki állapot | F10: Feladat szükségessége | G10: Megvalósítást követő várható műszaki állapot | J10: (eFt) | L10: Kezdés | M10: Befejezés | N10: (rövid / közép / hosszú) | O10: 1 | P10: 2 | Q10: 3 | R10: 4 | S10: 5 | T10: 6 | U10: 7 | V10: 8 | W10: 9 | X10: 10 | Y10: 11 | Z10: 12 | AA10: 13 | AB10: 14 | AC10: 15
B11: szakág | C11: Helyszín | D11: beruházás megnevezése
A12: I. Felszín alatti vízkivétel
B13: MÉLYFÚRÁSÚ KÚT, HAGYOMÁNYOS ÁTMÉRŐVEL
B14: Épület, építmény
B16: Gép, berendezés
B18: Irányítástechnika, energiaellátás
B20: Összesen: | J20: =SUM(J12:J19) -> 0
A21: III. Vízműtelep és vízkezelő létesítmények
C22: Helyszín | D22: beruházás megnevezése
B23: VÍZMŰTELEP
B24: Épület, építmény
B26: Gép, berendezés
B28: Irányítástechnika, energiaellátás
B30: VÍZKEZELŐ LÉTESÍTMÉNYEK
B31: Épület, építmény
B33: Gép, berendezés
B35: Irányítástechnika, energiaellátás
B37: Összesen | J37: =SUM(J23:J36) -> 0
A38: IV. Vízelosztás
C39: Helyszín | D39: beruházás megnevezése
B40: IVÓVÍZHÁLÓZAT
B41: Épület, építmény
B43: Gép, berendezés
B45: Irányítástechnika, energiaellátás
B47: VÍZTÁROLÓK
B48: Épület, építmény
B50: Gép, berendezés
B52: Irányítástechnika, energiaellátás
B54: NYOMÁSFOKOZÓK
B55: Épület, építmény
B57: Gép, berendezés
B59: Irányítástechnika, energiaellátás
B61: Összesen: | J61: =SUM(J40:J60) -> 0 | K61: 0 | O61: =SUM(O12:O60) -> 0 | P61: =SUM(P11:P60) -> 0 | Q61: =SUM(Q11:Q60) -> 0 | R61: =SUM(R11:R60) -> 0 | S61: =SUM(S11:S60) -> 0 | T61: =SUM(T11:T60) -> 0 | U61: =SUM(U11:U60) -> 0 | V61: =SUM(V11:V60) -> 0 | W61: =SUM(W11:W60) -> 0 | ... AC61: =SUM(AC11:AC60) -> 0
B64: Tervezett feladatok nettó költsége a teljes ütem tekintetében (eFt) | C64: Rendelkezésre álló források számszerűsített értéke a teljes ütem tekintetében (eFt) | D64: Forrás megnevezése a teljes ütem tekintetében
A65: I. ütem | B65: =SUM(O61) -> 0 | C65: =K61 -> 0 | D65: Fejlesztési díj (2025)
A66: II. ütem | B66: =SUM(P61:S61) -> 0 | C66: =C65*4 -> 0 | D66: Fejlesztési díj (2026-2029)
A67: III. ütem | B67: =SUM(T61:AC61) -> 0 | C67: =C65*10 -> 0 | D67: Fejlesztési díj (2030-2039)
B70: Jelenleg beruházási igény nem ismert, nincs rendelkezésre álló forrás beruházásra.

Sheet Bocfölde
A1: Gördülő fejlesztési terv a 2025 - 2039 időszakra
A2: BERUHÁZÁSOK ÖSSZEFOGLALÓ TÁBLÁZATA
A3: A tervet benyújtó szervezet megnevezése: | K3: BOCFÖLDE | R3: ellátásért felelős / ellátásért felelősök képviselője / víziközmű-szolgáltató *
A4: Víziközmű-szolgáltató megnevezése: | K4: ÉSZAK ZALAI VÍZ- ÉS CSATORNAMŰ ZÁRTKÖRŰEN MŰKÖDŐ RÉSZVÉNYTÁRSASÁG
A5: Víziközmű-szolgáltatási ágazat megnevezése: | K5: IVÓVÍZ ÁGAZAT
A6: Véleményeltérést megfogalmazó érintett fél megnevezése:
A7: Víziközmű-rendszer kódja: ** | K7: 11-32054-1-029-02-07 | R7: Zalaegerszeg-IV
A9: Fontossági sorrend | B9: Beruházás megnevezése | E9: Műszaki állapot felmérés, szükségességi indoklás | H9: Vízjogi létesítési/elvi engedély száma | I9: Az érintett ellátásért felelős(ök) megnevezése | J9: Tervezett nettó költség | K9: Forrás 2025 évre | L9: Megvalósítás időtartama | N9: Tervezett időtáv | O9: A beruházás ütemezése a tervezési időszak évei szerint
E10: Jelenlegi műszaki állapot | F10: Feladat szükségessége | G10: Megvalósítást követő várható műszaki állapot | J10: (eFt) | L10: Kezdés | M10: Befejezés | N10: (rövid / közép / hosszú) | O10: 1 | P10: 2 | Q10: 3 | R10: 4 | S10: 5 | T10: 6 | U10: 7 | V10: 8 | W10: 9 | X10: 10 | Y10: 11 | Z10: 12 | AA10: 13 | AB10: 14 | AC10: 15
B11: szakág | C11: Helyszín | D11: beruházás megnevezése
A12: I. Felszín alatti vízkivétel
B13: MÉLYFÚRÁSÚ KÚT, HAGYOMÁNYOS ÁTMÉRŐVEL
B14: Épület, építmény
B16: Gép, berendezés
B18: Irányítástechnika, energiaellátás
B20: Összesen: | J20: =SUM(J12:J19) -> 0
A21: III. Vízműtelep és vízkezelő létesítmények
C22: Helyszín | D22: beruházás megnevezése
B23: VÍZMŰTELEP
B24: Épület, építmény
B26: Gép, berendezés
B28: Irányítástechnika, energiaellátás
B30: VÍZKEZELŐ LÉTESÍTMÉNYEK
B31: Épület, építmény
B33: Gép, berendezés
B35: Irányítástechnika, energiaellátás
B37: Összesen | J37: =SUM(J23:J36) -> 0
A38: IV. Vízelosztás
C39: Helyszín | D39: beruházás megnevezése
B40: IVÓVÍZHÁLÓZAT
B41: Épület, építmény
B43: Gép, berendezés
B45: Irányítástechnika, energiaellátás
B47: VÍZTÁROLÓK
B48: Épület, építmény
B50: Gép, berendezés
B52: Irányítástechnika, energiaellátás
B54: NYOMÁSFOKOZÓK
B55: Épület, építmény
B57: Gép, berendezés
B59: Irányítástechnika, energiaellátás
B61: Összesen: | J61: =SUM(J40:J60) -> 0 | K61: =SUM(C65:C65) -> 0 | O61: =SUM(O12:O60) -> 0 | P61: =SUM(P12:P60) -> 0 | Q61: =SUM(Q12:Q60) -> 0 | R61: =SUM(R12:R60) -> 0 | S61: =SUM(S12:S60) -> 0 | T61: =SUM(T12:T60) -> 0 | U61: =SUM(U12:U60) -> 0 | V61: =SUM(V12:V60) -> 0 | ... AC61: =SUM(AC12:AC60) -> 0
B64: Tervezett feladatok nettó költsége a teljes ütem tekintetében (eFt) | C64: Rendelkezésre álló források számszerűsített értéke a teljes ütem tekintetében (eFt) | D64: Forrás megnevezése a teljes ütem tekintetében
A65: I. ütem | B65: =SUM(O61) -> 0 | C65: 0 | D65: Fejlesztési díj (2025)
A66: II. ütem | B66: =SUM(P61:S61) -> 0 | C66: 0 | D66: Fejlesztési díj (2026-2029)
A67: III. ütem | B67: =SUM(T61:AC61) -> 0 | C67: 0 | D67: Fejlesztési díj (2030-2039)

Sheet Boncodfölde
A1: Gördülő fejlesztési terv a 2025 - 2039 időszakra
A2: BERUHÁZÁSOK ÖSSZEFOGLALÓ TÁBLÁZATA
A3: A tervet benyújtó szervezet megnevezése: | K3: BONCODFÖLDE | R3: ellátásért felelős / ellátásért felelősök képviselője / víziközmű-szolgáltató *
A4: Víziközmű-szolgáltató megnevezése: | K4: ÉSZAK ZALAI VÍZ- ÉS CSATORNAMŰ ZÁRTKÖRŰEN MŰKÖDŐ RÉSZVÉNYTÁRSASÁG
A5: Víziközmű-szolgáltatási ágazat megnevezése: | K5: IVÓVÍZ ÁGAZAT
A6: Véleményeltérést megfogalmazó érintett fél megnevezése:
A7: Víziközmű-rendszer kódja: ** | K7: 11-32054-1-029-02-07 | R7: Zalaegerszeg-IV
A9: Fontossági sorrend | B9: Beruházás megnevezése | E9: Műszaki állapot felmérés, szükségességi indoklás | H9: Vízjogi létesítési/elvi engedély száma | I9: Az érintett ellátásért felelős(ök) megnevezése | J9: Tervezett nettó költség | K9: Forrás 2025 évre | L9: Megvalósítás időtartama | N9: Tervezett időtáv | O9: A beruházás ütemezése a tervezési időszak évei szerint
E10: Jelenlegi műszaki állapot | F10: Feladat szükségessége | G10: Megvalósítást követő várható műszaki állapot | J10: (eFt) | L10: Kezdés | M10: Befejezés | N10: (rövid / közép / hosszú) | O10: 1 | P10: 2 | Q10: 3 | R10: 4 | S10: 5 | T10: 6 | U10: 7 | V10: 8 | W10: 9 | X10: 10 | Y10: 11 | Z10: 12 | AA10: 13 | AB10: 14 | AC10: 15
B11: szakág | C11: Helyszín | D11: beruházás megnevezése
A12: I. Felszín alatti vízkivétel
B13: MÉLYFÚRÁSÚ KÚT, HAGYOMÁNYOS ÁTMÉRŐVEL
B14: Épület, építmény
B16: Gép, berendezés
B18: Irányítástechnika, energiaellátás
B20: Összesen: | J20: =SUM(J12:J19) -> 0
A21: III. Vízműtelep és vízkezelő létesítmények
C22: Helyszín | D22: beruházás megnevezése
B23: VÍZMŰTELEP
B24: Épület, építmény
B26: Gép, berendezés
B28: Irányítástechnika, energiaellátás
B30: VÍZKEZELŐ LÉTESÍTMÉNYEK
B31: Épület, építmény
B33: Gép, berendezés
B35: Irányítástechnika, energiaellátás
B37: Összesen | J37: =SUM(J23:J36) -> 0
A38: IV. Vízelosztás
C39: Helyszín | D39: beruházás megnevezése
B40: IVÓVÍZHÁLÓZAT
B41: Épület, építmény
B43: Gép, berendezés
B45: Irányítástechnika, energiaellátás
B47: VÍZTÁROLÓK
B48: Épület, építmény
B50: Gép, berendezés
B52: Irányítástechnika, energiaellátás
B54: NYOMÁSFOKOZÓK
B55: Épület, építmény
B57: Gép, berendezés
B59: Irányítástechnika, energiaellátás
B61: Összesen: | J61: =SUM(J40:J60) -> 0 | K61: 0 | O61: =SUM(O12:O60) -> 0 | P61: =SUM(P12:P60) -> 0 | Q61: =SUM(Q12:Q60) -> 0 | R61: =SUM(R12:R60) -> 0 | S61: =SUM(S12:S60) -> 0 | T61: =SUM(T12:T60) -> 0 | U61: =SUM(U12:U60) -> 0 | V61: =SUM(V12:V60) -> 0 | ... AC61: =SUM(AC12:AC60) -> 0
B64: Tervezett feladatok nettó költsége a teljes ütem tekintetében (eFt) | C64: Rendelkezésre álló források számszerűsített értéke a teljes ütem tekintetében (eFt) | D64: Forrás megnevezése a teljes ütem tekintetében
A65: I. ütem | B65: =SUM(O61) -> 0 | C65: =K61 -> 0 | D65: Fejlesztési díj (2025)
A66: II. ütem | B66: =SUM(P61:S61) -> 0 | C66: =C65*4 -> 0 | D66: Fejlesztési díj (2026-2029)
A67: III. ütem | B67: =SUM(T61:AC61) -> 0 | C67: =C65*10 -> 0 | D67: Fejlesztési díj (2030-2039)
B70: Jelenleg beruházási igény nem ismert, nincs rendelkezésre álló forrás beruházásra.

Sheet Böde
A1: Gördülő fejlesztési terv a 2025 - 2039 időszakra
A2: BERUHÁZÁSOK ÖSSZEFOGLALÓ TÁBLÁZATA
A3: A tervet benyújtó szervezet megnevezése: | K3: BÖDE | R3: ellátásért felelős / ellátásért felelősök képviselője / víziközmű-szolgáltató *
A4: Víziközmű-szolgáltató megnevezése: | K4: ÉSZAK ZALAI VÍZ- ÉS CSATORNAMŰ ZÁRTKÖRŰEN MŰKÖDŐ RÉSZVÉNYTÁRSASÁG
A5: Víziközmű-szolgáltatási ágazat megnevezése: | K5: IVÓVÍZ ÁGAZAT
A6: Véleményeltérést megfogalmazó érintett fél megnevezése:
A7: Víziközmű-rendszer kódja: ** | K7: 11-32054-1-029-02-07 | R7: Zalaegerszeg-IV
A9: Fontossági sorrend | B9: Beruházás megnevezése | E9: Műszaki állapot felmérés, szükségességi indoklás | H9: Vízjogi létesítési/elvi engedély száma | I9: Az érintett ellátásért felelős(ök) megnevezése | J9: Tervezett nettó költség | K9: Forrás 2025 évre | L9: Megvalósítás időtartama | N9: Tervezett időtáv | O9: A beruházás ütemezése a tervezési időszak évei szerint
E10: Jelenlegi műszaki állapot | F10: Feladat szükségessége | G10: Megvalósítást követő várható műszaki állapot | J10: (eFt) | L10: Kezdés | M10: Befejezés | N10: (rövid / közép / hosszú) | O10: 1 | P10: 2 | Q10: 3 | R10: 4 | S10: 5 | T10: 6 | U10: 7 | V10: 8 | W10: 9 | X10: 10 | Y10: 11 | Z10: 12 | AA10: 13 | AB10: 14 | AC10: 15
B11: szakág | C11: Helyszín | D11: beruházás megnevezése
A12: I. Felszín alatti vízkivétel
B13: MÉLYFÚRÁSÚ KÚT, HAGYOMÁNYOS ÁTMÉRŐVEL
B14: Épület, építmény
B16: Gép, berendezés
B18: Irányítástechnika, energiaellátás
B20: Összesen: | J20: =SUM(J12:J18) -> 0
A21: III. Vízműtelep és vízkezelő létesítmények
C22: Helyszín | D22: beruházás megnevezése
B23: VÍZMŰTELEP
B24: Épület, építmény
B26: Gép, berendezés
B28: Irányítástechnika, energiaellátás
B30: VÍZKEZELŐ LÉTESÍTMÉNYEK
B31: Épület, építmény
B33: Gép, berendezés
B35: Irányítástechnika, energiaellátás
B37: Összesen | J37: =SUM(J23:J36) -> 0
A38: IV. Vízelosztás
C39: Helyszín | D39: beruházás megnevezése
B40: IVÓVÍZHÁLÓZAT
B41: Épület, építmény
B43: Gép, berendezés
B45: Irányítástechnika, energiaellátás
B47: VÍZTÁROLÓK
B48: Épület, építmény
B50: Gép, berendezés
B52: Irányítástechnika, energiaellátás
B54: NYOMÁSFOKOZÓK
B55: Épület, építmény
B57: Gép, berendezés
B59: Irányítástechnika, energiaellátás
B61: Összesen: | J61: =SUM(J40:J60) -> 0 | K61: 0 | O61: =SUM(O12:O60) -> 0 | P61: =SUM(P12:P60) -> 0 | Q61: =SUM(Q12:Q60) -> 0 | R61: =SUM(R12:R60) -> 0 | S61: =SUM(S12:S60) -> 0 | T61: =SUM(T12:T60) -> 0 | U61: =SUM(U12:U60) -> 0 | V61: =SUM(V12:V60) -> 0 | ... AC61: =SUM(AC12:AC60) -> 0
B64: Tervezett feladatok nettó költsége a teljes ütem tekintetében (eFt) | C64: Rendelkezésre álló források számszerűsített értéke a teljes ütem tekintetében (eFt) | D64: Forrás megnevezése a teljes ütem tekintetében
A65: I. ütem | B65: =SUM(O61) -> 0 | C65: =K61 -> 0 | D65: Fejlesztési díj (2025)
A66: II. ütem | B66: =SUM(P61:S61) -> 0 | C66: =C65*4 -> 0 | D66: Fejlesztési díj (2026-2029)
A67: III. ütem | B67: =SUM(T61:AC61) -> 0 | C67: =C65*10 -> 0 | D67: Fejlesztési díj (2030-2039)
B70: Jelenleg beruházási igény nem ismert, nincs rendelkezésre álló forrás beruházásra.

Sheet Csatár
A1: Gördülő fejlesztési terv a 2025 - 2039 időszakra
A2: BERUHÁZÁSOK ÖSSZEFOGLALÓ TÁBLÁZATA
A3: A tervet benyújtó szervezet megnevezése: | K3: CSATÁR | R3: ellátásért felelős / ellátásért felelősök képviselője / víziközmű-szolgáltató *
A4: Víziközmű-szolgáltató megnevezése: | K4: ÉSZAK ZALAI VÍZ- ÉS CSATORNAMŰ ZÁRTKÖRŰEN MŰKÖDŐ RÉSZVÉNYTÁRSASÁG
A5: Víziközmű-szolgáltatási ágazat megnevezése: | K5: IVÓVÍZ ÁGAZAT
A6: Véleményeltérést megfogalmazó érintett fél megnevezése:
A7: Víziközmű-rendszer kódja: ** | K7: 11-32054-1-029-02-07 | R7: Zalaegerszeg-IV
A9: Fontossági sorrend | B9: Beruházás megnevezése | E9: Műszaki állapot felmérés, szükségességi indoklás | H9: Vízjogi létesítési/elvi engedély száma | I9: Az érintett ellátásért felelős(ök) megnevezése | J9: Tervezett nettó költség | K9: Forrás 2025 évre | L9: Megvalósítás időtartama | N9: Tervezett időtáv | O9: A beruházás ütemezése a tervezési időszak évei szerint
E10: Jelenlegi műszaki állapot | F10: Feladat szükségessége | G10: Megvalósítást követő várható műszaki állapot | J10: (eFt) | L10: Kezdés | M10: Befejezés | N10: (rövid / közép / hosszú) | O10: 1 | P10: 2 | Q10: 3 | R10: 4 | S10: 5 | T10: 6 | U10: 7 | V10: 8 | W10: 9 | X10: 10 | Y10: 11 | Z10: 12 | AA10: 13 | AB10: 14 | AC10: 15
B11: szakág | C11: Helyszín | D11: beruházás megnevezése
A12: I. Felszín alatti vízkivétel
B13: MÉLYFÚRÁSÚ KÚT, HAGYOMÁNYOS ÁTMÉRŐVEL
B14: Épület, építmény
B16: Gép, berendezés
B18: Irányítástechnika, energiaellátás
B20: Összesen: | J20: =SUM(J12:J18) -> 0
A21: III. Vízműtelep és vízkezelő létesítmények
C22: Helyszín | D22: beruházás megnevezése
B23: VÍZMŰTELEP
B24: Épület, építmény
B26: Gép, berendezés
B28: Irányítástechnika, energiaellátás
B30: VÍZKEZELŐ LÉTESÍTMÉNYEK
B31: Épület, építmény
B33: Gép, berendezés
B35: Irányítástechnika, energiaellátás
B37: Összesen | J37: =SUM(J23:J36) -> 0
A38: IV. Vízelosztás
C39: Helyszín | D39: beruházás megnevezése
B40: IVÓVÍZHÁLÓZAT
B41: Épület, építmény
B43: Gép, berendezés
B45: Irányítástechnika, energiaellátás
B47: VÍZTÁROLÓK
B48: Épület, építmény
B50: Gép, berendezés
B52: Irányítástechnika, energiaellátás
B54: NYOMÁSFOKOZÓK
B55: Épület, építmény
B57: Gép, berendezés
B59: Irányítástechnika, energiaellátás
B61: Összesen: | J61: =SUM(J40:J60) -> 0 | K61: 0 | O61: =SUM(O12:O60) -> 0 | P61: =SUM(P12:P60) -> 0 | Q61: =SUM(Q12:Q60) -> 0 | R61: =SUM(R12:R60) -> 0 | S61: =SUM(S12:S60) -> 0 | T61: =SUM(T12:T60) -> 0 | U61: =SUM(U12:U60) -> 0 | V61: =SUM(V12:V60) -> 0 | ... AC61: =SUM(AC12:AC60) -> 0
B64: Tervezett feladatok nettó költsége a teljes ütem tekintetében (eFt) | C64: Rendelkezésre álló források számszerűsített értéke a teljes ütem tekintetében (eFt) | D64: Forrás megnevezése a teljes ütem tekintetében
A65: I. ütem | B65: =SUM(O61) -> 0 | C65: =K61 -> 0 | D65: Fejlesztési díj (2025)
A66: II. ütem | B66: =SUM(P61:S61) -> 0 | C66: =C65*4 -> 0 | D66: Fejlesztési díj (2026-2029)
A67: III. ütem | B67: =SUM(T61:AC61) -> 0 | C67: =C65*10 -> 0 | D67: Fejlesztési díj (2030-2039)
B70: Jelenleg beruházási igény nem ismert, nincs rendelkezésre álló forrás beruházásra.

Sheet Csonkahegyhát
A1: Gördülő fejlesztési terv a 2025 - 2039 időszakra
A2: BERUHÁZÁSOK ÖSSZEFOGLALÓ TÁBLÁZATA
A3: A tervet benyújtó szervezet megnevezése: | K3: CSONKAHEGYHÁT | R3: ellátásért felelős / ellátásért felelősök képviselője / víziközmű-szolgáltató *
A4: Víziközmű-szolgáltató megnevezése: | K4: ÉSZAK ZALAI VÍZ- ÉS CSATORNAMŰ ZÁRTKÖRŰEN MŰKÖDŐ RÉSZVÉNYTÁRSASÁG
A5: Víziközmű-szolgáltatási ágazat megnevezése: | K5: IVÓVÍZ ÁGAZAT
A6: Véleményeltérést megfogalmazó érintett fél megnevezése:
A7: Víziközmű-rendszer kódja: ** | K7: 11-32054-1-029-02-07 | R7: Zalaegerszeg-IV
A9: Fontossági sorrend | B9: Beruházás megnevezése | E9: Műszaki állapot felmérés, szükségességi indoklás | H9: Vízjogi létesítési/elvi engedély száma | I9: Az érintett ellátásért felelős(ök) megnevezése | J9: Tervezett nettó költség | K9: Forrás 2025 évre | L9: Megvalósítás időtartama | N9: Tervezett időtáv | O9: A beruházás ütemezése a tervezési időszak évei szerint
E10: Jelenlegi műszaki állapot | F10: Feladat szükségessége | G10: Megvalósítást követő várható műszaki állapot | J10: (eFt) | L10: Kezdés | M10: Befejezés | N10: (rövid / közép / hosszú) | O10: 1 | P10: 2 | Q10: 3 | R10: 4 | S10: 5 | T10: 6 | U10: 7 | V10: 8 | W10: 9 | X10: 10 | Y10: 11 | Z10: 12 | AA10: 13 | AB10: 14 | AC10: 15
B11: szakág | C11: Helyszín | D11: beruházás megnevezése
A12: I. Felszín alatti vízkivétel
B13: MÉLYFÚRÁSÚ KÚT, HAGYOMÁNYOS ÁTMÉRŐVEL
B14: Épület, építmény
B16: Gép, berendezés
B18: Irányítástechnika, energiaellátás
B20: Összesen: | J20: =SUM(J12:J19) -> 0
A21: III. Vízműtelep és vízkezelő létesítmények
C22: Helyszín | D22: beruházás megnevezése
B23: VÍZMŰTELEP
B24: Épület, építmény
B26: Gép, berendezés
B28: Irányítástechnika, energiaellátás
B30: VÍZKEZELŐ LÉTESÍTMÉNYEK
B31: Épület, építmény
B33: Gép, berendezés
B35: Irányítástechnika, energiaellátás
B37: Összesen | J37: =SUM(J23:J36) -> 0
A38: IV. Vízelosztás
C39: Helyszín | D39: beruházás megnevezése
B40: IVÓVÍZHÁLÓZAT
B41: Épület, építmény
B43: Gép, berendezés
B45: Irányítástechnika, energiaellátás
B47: VÍZTÁROLÓK
B48: Épület, építmény
B50: Gép, berendezés
B52: Irányítástechnika, energiaellátás
B54: NYOMÁSFOKOZÓK
B55: Épület, építmény
B57: Gép, berendezés
B59: Irányítástechnika, energiaellátás
B61: Összesen: | J61: =SUM(J40:J60) -> 0 | K61: 0 | O61: =SUM(O12:O60) -> 0 | P61: =SUM(P11:P60) -> 0 | Q61: =SUM(Q11:Q60) -> 0 | R61: =SUM(R11:R60) -> 0 | S61: =SUM(S11:S60) -> 0 | T61: =SUM(T11:T60) -> 0 | U61: =SUM(U11:U60) -> 0 | V61: =SUM(V11:V60) -> 0 | W61: =SUM(W11:W60) -> 0 | ... AC61: =SUM(AC11:AC60) -> 0
B64: Tervezett feladatok nettó költsége a teljes ütem tekintetében (eFt) | C64: Rendelkezésre álló források számszerűsített értéke a teljes ütem tekintetében (eFt) | D64: Forrás megnevezése a teljes ütem tekintetében
A65: I. ütem | B65: =SUM(O61) -> 0 | C65: =K61 -> 0 | D65: Fejlesztési díj (2025)
A66: II. ütem | B66: =SUM(P61:S61) -> 0 | C66: =C65*4 -> 0 | D66: Fejlesztési díj (2026-2029)
A67: III. ütem | B67: =SUM(T61:AC61) -> 0 | C67: =C65*10 -> 0 | D67: Fejlesztési díj (2030-2039)
B70: Jelenleg beruházási igény nem ismert, nincs rendelkezésre álló forrás beruházásra.

Sheet Dobronhegy
A1: Gördülő fejlesztési terv a 2025 - 2039 időszakra
A2: BERUHÁZÁSOK ÖSSZEFOGLALÓ TÁBLÁZATA
A3: A tervet benyújtó szervezet megnevezése: | K3: DOBRONHEGY | R3: ellátásért felelős / ellátásért felelősök képviselője / víziközmű-szolgáltató *
A4: Víziközmű-szolgáltató megnevezése: | K4: ÉSZAK ZALAI VÍZ- ÉS CSATORNAMŰ ZÁRTKÖRŰEN MŰKÖDŐ RÉSZVÉNYTÁRSASÁG
A5: Víziközmű-szolgáltatási ágazat megnevezése: | K5: IVÓVÍZ ÁGAZAT
A6: Véleményeltérést megfogalmazó érintett fél megnevezése:
A7: Víziközmű-rendszer kódja: ** | K7: 11-32054-1-029-02-07 | R7: Zalaegerszeg-IV
A9: Fontossági sorrend | B9: Beruházás megnevezése | E9: Műszaki állapot felmérés, szükségességi indoklás | H9: Vízjogi létesítési/elvi engedély száma | I9: Az érintett ellátásért felelős(ök) megnevezése | J9: Tervezett nettó költség | K9: Forrás 2025 évre | L9: Megvalósítás időtartama | N9: Tervezett időtáv | O9: A beruházás ütemezése a tervezési időszak évei szerint
E10: Jelenlegi műszaki állapot | F10: Feladat szükségessége | G10: Megvalósítást követő várható műszaki állapot | J10: (eFt) | L10: Kezdés | M10: Befejezés | N10: (rövid / közép / hosszú) | O10: 1 | P10: 2 | Q10: 3 | R10: 4 | S10: 5 | T10: 6 | U10: 7 | V10: 8 | W10: 9 | X10: 10 | Y10: 11 | Z10: 12 | AA10: 13 | AB10: 14 | AC10: 15
B11: szakág | C11: Helyszín | D11: beruházás megnevezése
A12: I. Felszín alatti vízkivétel
B13: MÉLYFÚRÁSÚ KÚT, HAGYOMÁNYOS ÁTMÉRŐVEL
B14: Épület, építmény
B16: Gép, berendezés
B18: Irányítástechnika, energiaellátás
B20: Összesen: | J20: =SUM(J12:J19) -> 0
A21: III. Vízműtelep és vízkezelő létesítmények
C22: Helyszín | D22: beruházás megnevezése
B23: VÍZMŰTELEP
B24: Épület, építmény
B26: Gép, berendezés
B28: Irányítástechnika, energiaellátás
B30: VÍZKEZELŐ LÉTESÍTMÉNYEK
B31: Épület, építmény
B33: Gép, berendezés
B35: Irányítástechnika, energiaellátás
B37: Összesen | J37: =SUM(J23:J36) -> 0
A38: IV. Vízelosztás
C39: Helyszín | D39: beruházás megnevezése
B40: IVÓVÍZHÁLÓZAT
B41: Épület, építmény
B43: Gép, berendezés
B45: Irányítástechnika, energiaellátás
B47: VÍZTÁROLÓK
B48: Épület, építmény
B50: Gép, berendezés
B52: Irányítástechnika, energiaellátás
B54: NYOMÁSFOKOZÓK
B55: Épület, építmény
B57: Gép, berendezés
B59: Irányítástechnika, energiaellátás
B61: Összesen: | J61: =SUM(J40:J60) -> 0 | K61: 0 | O61: =SUM(O12:O60) -> 0 | P61: =SUM(P12:P60) -> 0 | Q61: =SUM(Q12:Q60) -> 0 | R61: =SUM(R12:R60) -> 0 | S61: =SUM(S12:S60) -> 0 | T61: =SUM(T12:T60) -> 0 | U61: =SUM(U12:U60) -> 0 | V61: =SUM(V12:V60) -> 0 | ... AC61: =SUM(AC12:AC60) -> 0
B64: Tervezett feladatok nettó költsége a teljes ütem tekintetében (eFt) | C64: Rendelkezésre álló források számszerűsített értéke a teljes ütem tekintetében (eFt) | D64: Forrás megnevezése a teljes ütem tekintetében
A65: I. ütem | B65: =SUM(O61) -> 0 | C65: =K61 -> 0 | D65: Fejlesztési díj (2025)
A66: II. ütem | B66: =SUM(P61:S61) -> 0 | C66: =C65*4 -> 0 | D66: Fejlesztési díj (2026-2029)
A67: III. ütem | B67: =SUM(T61:AC61) -> 0 | C67: =C65*10 -> 0 | D67: Fejlesztési díj (2030-2039)
B70: Jelenleg beruházási igény nem ismert, nincs rendelkezésre álló forrás beruházásra.

Sheet Hagyárosbörönd
A1: Gördülő fejlesztési terv a 2025 - 2039 időszakra
A2: BERUHÁZÁSOK ÖSSZEFOGLALÓ TÁBLÁZATA
A3: A tervet benyújtó szervezet megnevezése: | K3: HAGYÁROSBÖRÖND | R3: ellátásért felelős / ellátásért felelősök képviselője / víziközmű-szolgáltató *
A4: Víziközmű-szolgáltató megnevezése: | K4: ÉSZAK ZALAI VÍZ- ÉS CSATORNAMŰ ZÁRTKÖRŰEN MŰKÖDŐ RÉSZVÉNYTÁRSASÁG
A5: Víziközmű-szolgáltatási ágazat megnevezése: | K5: IVÓVÍZ ÁGAZAT
A6: Véleményeltérést megfogalmazó érintett fél megnevezése:
A7: Víziközmű-rendszer kódja: ** | K7: 11-32054-1-029-02-07 | R7: Zalaegerszeg-IV
A9: Fontossági sorrend | B9: Beruházás megnevezése | E9: Műszaki állapot felmérés, szükségességi indoklás | H9: Vízjogi létesítési/elvi engedély száma | I9: Az érintett ellátásért felelős(ök) megnevezése | J9: Tervezett nettó költség | K9: Forrás 2025 évre | L9: Megvalósítás időtartama | N9: Tervezett időtáv | O9: A beruházás ütemezése a tervezési időszak évei szerint
E10: Jelenlegi műszaki állapot | F10: Feladat szükségessége | G10: Megvalósítást követő várható műszaki állapot | J10: (eFt) | L10: Kezdés | M10: Befejezés | N10: (rövid / közép / hosszú) | O10: 1 | P10: 2 | Q10: 3 | R10: 4 | S10: 5 | T10: 6 | U10: 7 | V10: 8 | W10: 9 | X10: 10 | Y10: 11 | Z10: 12 | AA10: 13 | AB10: 14 | AC10: 15
B11: szakág | C11: Helyszín | D11: beruházás megnevezése
A12: I. Felszín alatti vízkivétel
B13: MÉLYFÚRÁSÚ KÚT, HAGYOMÁNYOS ÁTMÉRŐVEL
B14: Épület, építmény
B16: Gép, berendezés
B18: Irányítástechnika, energiaellátás
B20: Összesen: | J20: =SUM(J12:J19) -> 0
A21: III. Vízműtelep és vízkezelő létesítmények
C22: Helyszín | D22: beruházás megnevezése
B23: VÍZMŰTELEP
B24: Épület, építmény
B26: Gép, berendezés
B28: Irányítástechnika, energiaellátás
B30: VÍZKEZELŐ LÉTESÍTMÉNYEK
B31: Épület, építmény
B33: Gép, berendezés
B35: Irányítástechnika, energiaellátás
B37: Összesen | J37: =SUM(J23:J36) -> 0
A38: IV. Vízelosztás
C39: Helyszín | D39: beruházás megnevezése
B40: IVÓVÍZHÁLÓZAT
B41: Épület, építmény
B43: Gép, berendezés
B45: Irányítástechnika, energiaellátás
B47: VÍZTÁROLÓK
B48: Épület, építmény
B50: Gép, berendezés
B52: Irányítástechnika, energiaellátás
B54: NYOMÁSFOKOZÓK
B55: Épület, építmény
B57: Gép, berendezés
B59: Irányítástechnika, energiaellátás
B61: Összesen: | J61: =SUM(J40:J60) -> 0 | K61: 0 | O61: =SUM(O12:O60) -> 0 | P61: =SUM(P12:P60) -> 0 | Q61: =SUM(Q12:Q60) -> 0 | R61: =SUM(R12:R60) -> 0 | S61: =SUM(S12:S60) -> 0 | T61: =SUM(T12:T60) -> 0 | U61: =SUM(U12:U60) -> 0 | V61: =SUM(V12:V60) -> 0 | ... AC61: =SUM(AC12:AC60) -> 0
B64: Tervezett feladatok nettó költsége a teljes ütem tekintetében (eFt) | C64: Rendelkezésre álló források számszerűsített értéke a teljes ütem tekintetében (eFt) | D64: Forrás megnevezése a teljes ütem tekintetében
A65: I. ütem | B65: =SUM(O61) -> 0 | C65: =K61 -> 0 | D65: Fejlesztési díj (2025)
A66: II. ütem | B66: =SUM(P61:S61) -> 0 | C66: =C65*4 -> 0 | D66: Fejlesztési díj (2026-2029)
A67: III. ütem | B67: =SUM(T61:AC61) -> 0 | C67: =C65*10 -> 0 | D67: Fejlesztési díj (2030-2039)
B70: Jelenleg beruházási igény nem ismert, nincs rendelkezésre álló forrás beruházásra.

Sheet Hottó
A1: Gördülő fejlesztési terv a 2025 - 2039 időszakra
A2: BERUHÁZÁSOK ÖSSZEFOGLALÓ TÁBLÁZATA
A3: A tervet benyújtó szervezet megnevezése: | K3: HOTTÓ | R3: ellátásért felelős / ellátásért felelősök képviselője / víziközmű-szolgáltató *
A4: Víziközmű-szolgáltató megnevezése: | K4: ÉSZAK ZALAI VÍZ- ÉS CSATORNAMŰ ZÁRTKÖRŰEN MŰKÖDŐ RÉSZVÉNYTÁRSASÁG
A5: Víziközmű-szolgáltatási ágazat megnevezése: | K5: IVÓVÍZ ÁGAZAT
A6: Véleményeltérést megfogalmazó érintett fél megnevezése:
A7: Víziközmű-rendszer kódja: ** | K7: 11-32054-1-029-02-07 | R7: Zalaegerszeg-IV
A9: Fontossági sorrend | B9: Beruházás megnevezése | E9: Műszaki állapot felmérés, szükségességi indoklás | H9: Vízjogi létesítési/elvi engedély száma | I9: Az érintett ellátásért felelős(ök) megnevezése | J9: Tervezett nettó költség | K9: Forrás 2025 évre | L9: Megvalósítás időtartama | N9: Tervezett időtáv | O9: A beruházás ütemezése a tervezési időszak évei szerint
E10: Jelenlegi műszaki állapot | F10: Feladat szükségessége | G10: Megvalósítást követő várható műszaki állapot | J10: (eFt) | L10: Kezdés | M10: Befejezés | N10: (rövid / közép / hosszú) | O10: 1 | P10: 2 | Q10: 3 | R10: 4 | S10: 5 | T10: 6 | U10: 7 | V10: 8 | W10: 9 | X10: 10 | Y10: 11 | Z10: 12 | AA10: 13 | AB10: 14 | AC10: 15
B11: szakág | C11: Helyszín | D11: beruházás megnevezése
A12: I. Felszín alatti vízkivétel
B13: MÉLYFÚRÁSÚ KÚT, HAGYOMÁNYOS ÁTMÉRŐVEL
B14: Épület, építmény
B16: Gép, berendezés
B18: Irányítástechnika, energiaellátás
B20: Összesen: | J20: =SUM(J12:J18) -> 0
A21: III. Vízműtelep és vízkezelő létesítmények
C22: Helyszín | D22: beruházás megnevezése
B23: VÍZMŰTELEP
B24: Épület, építmény
B26: Gép, berendezés
B28: Irányítástechnika, energiaellátás
B30: VÍZKEZELŐ LÉTESÍTMÉNYEK
B31: Épület, építmény
B33: Gép, berendezés
B35: Irányítástechnika, energiaellátás
B37: Összesen | J37: =SUM(J23:J36) -> 0
A38: IV. Vízelosztás
C39: Helyszín | D39: beruházás megnevezése
B40: IVÓVÍZHÁLÓZAT
B41: Épület, építmény
B43: Gép, berendezés
B45: Irányítástechnika, energiaellátás
B47: VÍZTÁROLÓK
B48: Épület, építmény
B50: Gép, berendezés
B52: Irányítástechnika, energiaellátás
B54: NYOMÁSFOKOZÓK
B55: Épület, építmény
B57: Gép, berendezés
B59: Irányítástechnika, energiaellátás
B61: Összesen: | J61: =SUM(J40:J60) -> 0 | K61: 0 | O61: =SUM(O12:O60) -> 0 | P61: =SUM(P12:P60) -> 0 | Q61: =SUM(Q12:Q60) -> 0 | R61: =SUM(R12:R60) -> 0 | S61: =SUM(S12:S60) -> 0 | T61: =SUM(T12:T60) -> 0 | U61: =SUM(U12:U60) -> 0 | V61: =SUM(V12:V60) -> 0 | ... AC61: =SUM(AC12:AC60) -> 0
B64: Tervezett feladatok nettó költsége a teljes ütem tekintetében (eFt) | C64: Rendelkezésre álló források számszerűsített értéke a teljes ütem tekintetében (eFt) | D64: Forrás megnevezése a teljes ütem tekintetében
A65: I. ütem | B65: =SUM(O61) -> 0 | C65: =K61 -> 0 | D65: Fejlesztési díj (2025)
A66: II. ütem | B66: =SUM(P61:S61) -> 0 | C66: =C65*4 -> 0 | D66: Fejlesztési díj (2026-2029)
A67: III. ütem | B67: =SUM(T61:AC61) -> 0 | C67: =C65*10 -> 0 | D67: Fejlesztési díj (2030-2039)
B70: Jelenleg beruházási igény nem ismert, nincs rendelkezésre álló forrás beruházásra.

Sheet Kávás
A1: Gördülő fejlesztési terv a 2025 - 2039 időszakra
A2: BERUHÁZÁSOK ÖSSZEFOGLALÓ TÁBLÁZATA
A3: A tervet benyújtó szervezet megnevezése: | K3: KÁVÁS | R3: ellátásért felelős / ellátásért felelősök képviselője / víziközmű-szolgáltató *
A4: Víziközmű-szolgáltató megnevezése: | K4: ÉSZAK ZALAI VÍZ- ÉS CSATORNAMŰ ZÁRTKÖRŰEN MŰKÖDŐ RÉSZVÉNYTÁRSASÁG
A5: Víziközmű-szolgáltatási ágazat megnevezése: | K5: IVÓVÍZ ÁGAZAT
A6: Véleményeltérést megfogalmazó érintett fél megnevezése:
A7: Víziközmű-rendszer kódja: ** | K7: 11-32054-1-029-02-07 | R7: Zalaegerszeg-IV
A9: Fontossági sorrend | B9: Beruházás megnevezése | E9: Műszaki állapot felmérés, szükségességi indoklás | H9: Vízjogi létesítési/elvi engedély száma | I9: Az érintett ellátásért felelős(ök) megnevezése | J9: Tervezett nettó költség | K9: Forrás 2025 évre | L9: Megvalósítás időtartama | N9: Tervezett időtáv | O9: A beruházás ütemezése a tervezési időszak évei szerint
E10: Jelenlegi műszaki állapot | F10: Feladat szükségessége | G10: Megvalósítást követő várható műszaki állapot | J10: (eFt) | L10: Kezdés | M10: Befejezés | N10: (rövid / közép / hosszú) | O10: 1 | P10: 2 | Q10: 3 | R10: 4 | S10: 5 | T10: 6 | U10: 7 | V10: 8 | W10: 9 | X10: 10 | Y10: 11 | Z10: 12 | AA10: 13 | AB10: 14 | AC10: 15
B11: szakág | C11: Helyszín | D11: beruházás megnevezése
A12: I. Felszín alatti vízkivétel
B13: MÉLYFÚRÁSÚ KÚT, HAGYOMÁNYOS ÁTMÉRŐVEL
B14: Épület, építmény
B16: Gép, berendezés
B18: Irányítástechnika, energiaellátás
B20: Összesen: | J20: =SUM(J12:J19) -> 0
A21: III. Vízműtelep és vízkezelő létesítmények
C22: Helyszín | D22: beruházás megnevezése
B23: VÍZMŰTELEP
B24: Épület, építmény
B26: Gép, berendezés
B28: Irányítástechnika, energiaellátás
B30: VÍZKEZELŐ LÉTESÍTMÉNYEK
B31: Épület, építmény
B33: Gép, berendezés
B35: Irányítástechnika, energiaellátás
B37: Összesen | J37: =SUM(J23:J36) -> 0
A38: IV. Vízelosztás
C39: Helyszín | D39: beruházás megnevezése
B40: IVÓVÍZHÁLÓZAT
B41: Épület, építmény
B43: Gép, berendezés
B45: Irányítástechnika, energiaellátás
B47: VÍZTÁROLÓK
B48: Épület, építmény
B50: Gép, berendezés
B52: Irányítástechnika, energiaellátás
B54: NYOMÁSFOKOZÓK
B55: Épület, építmény
B57: Gép, berendezés
B59: Irányítástechnika, energiaellátás
B61: Összesen: | J61: =SUM(J40:J60) -> 0 | K61: 0 | O61: =SUM(O12:O60) -> 0 | P61: =SUM(P12:P60) -> 0 | Q61: =SUM(Q12:Q60) -> 0 | R61: =SUM(R12:R60) -> 0 | S61: =SUM(S12:S60) -> 0 | T61: =SUM(T12:T60) -> 0 | U61: =SUM(U12:U60) -> 0 | V61: =SUM(V12:V60) -> 0 | ... AC61: =SUM(AC12:AC60) -> 0
B64: Tervezett feladatok nettó költsége a teljes ütem tekintetében (eFt) | C64: Rendelkezésre álló források számszerűsített értéke a teljes ütem tekintetében (eFt) | D64: Forrás megnevezése a teljes ütem tekintetében
A65: I. ütem | B65: =SUM(O61) -> 0 | C65: =K61 -> 0 | D65: Fejlesztési díj (2025)
A66: II. ütem | B66: =SUM(P61:S61) -> 0 | C66: =C65*4 -> 0 | D66: Fejlesztési díj (2026-2029)
A67: III. ütem | B67: =SUM(T61:AC61) -> 0 | C67: =C65*10 -> 0 | D67: Fejlesztési díj (2030-2039)
B70: Jelenleg beruházási igény nem ismert, nincs rendelkezésre álló forrás beruházásra.

Sheet Kiskutas
A1: Gördülő fejlesztési terv a 2025 - 2039 időszakra
A2: BERUHÁZÁSOK ÖSSZEFOGLALÓ TÁBLÁZATA
A3: A tervet benyújtó szervezet megnevezése: | K3: KISKUTAS | R3: ellátásért felelős / ellátásért felelősök képviselője / víziközmű-szolgáltató *
A4: Víziközmű-szolgáltató megnevezése: | K4: ÉSZAK ZALAI VÍZ- ÉS CSATORNAMŰ ZÁRTKÖRŰEN MŰKÖDŐ RÉSZVÉNYTÁRSASÁG
A5: Víziközmű-szolgáltatási ágazat megnevezése: | K5: IVÓVÍZ ÁGAZAT
A6: Véleményeltérést megfogalmazó érintett fél megnevezése:
A7: Víziközmű-rendszer kódja: ** | K7: 11-32054-1-029-02-07 | R7: Zalaegerszeg-IV
A9: Fontossági sorrend | B9: Beruházás megnevezése | E9: Műszaki állapot felmérés, szükségességi indoklás | H9: Vízjogi létesítési/elvi engedély száma | I9: Az érintett ellátásért felelős(ök) megnevezése | J9: Tervezett nettó költség | K9: Forrás 2025 évre | L9: Megvalósítás időtartama | N9: Tervezett időtáv | O9: A beruházás ütemezése a tervezési időszak évei szerint
E10: Jelenlegi műszaki állapot | F10: Feladat szükségessége | G10: Megvalósítást követő várható műszaki állapot | J10: (eFt) | L10: Kezdés | M10: Befejezés | N10: (rövid / közép / hosszú) | O10: 1 | P10: 2 | Q10: 3 | R10: 4 | S10: 5 | T10: 6 | U10: 7 | V10: 8 | W10: 9 | X10: 10 | Y10: 11 | Z10: 12 | AA10: 13 | AB10: 14 | AC10: 15
B11: szakág | C11: Helyszín | D11: beruházás megnevezése
A12: I. Felszín alatti vízkivétel
B13: MÉLYFÚRÁSÚ KÚT, HAGYOMÁNYOS ÁTMÉRŐVEL
B14: Épület, építmény
B16: Gép, berendezés
B18: Irányítástechnika, energiaellátás
B20: Összesen: | J20: =SUM(J12:J18) -> 0
A21: III. Vízműtelep és vízkezelő létesítmények
C22: Helyszín | D22: beruházás megnevezése
B23: VÍZMŰTELEP
B24: Épület, építmény
B26: Gép, berendezés
B28: Irányítástechnika, energiaellátás
B30: VÍZKEZELŐ LÉTESÍTMÉNYEK
B31: Épület, építmény
B33: Gép, berendezés
B35: Irányítástechnika, energiaellátás
B37: Összesen | J37: =SUM(J23:J36) -> 0
A38: IV. Vízelosztás
C39: Helyszín | D39: beruházás megnevezése
B40: IVÓVÍZHÁLÓZAT
B41: Épület, építmény
B43: Gép, berendezés
B45: Irányítástechnika, energiaellátás
B47: VÍZTÁROLÓK
B48: Épület, építmény
B50: Gép, berendezés
B52: Irányítástechnika, energiaellátás
B54: NYOMÁSFOKOZÓK
B55: Épület, építmény
B57: Gép, berendezés
B59: Irányítástechnika, energiaellátás
B61: Összesen: | J61: =SUM(J40:J60) -> 0 | K61: =SUM(C65) -> 0 | O61: =SUM(O12:O60) -> 0 | P61: =SUM(P12:P60) -> 0 | Q61: =SUM(Q12:Q60) -> 0 | R61: =SUM(R12:R60) -> 0 | S61: =SUM(S12:S60) -> 0 | T61: =SUM(T12:T60) -> 0 | U61: =SUM(U12:U60) -> 0 | V61: =SUM(V12:V60) -> 0 | ... AC61: =SUM(AC12:AC60) -> 0
B64: Tervezett feladatok nettó költsége a teljes ütem tekintetében (eFt) | C64: Rendelkezésre álló források számszerűsített értéke a teljes ütem tekintetében (eFt) | D64: Forrás megnevezése a teljes ütem tekintetében
A65: I. ütem | B65: =SUM(O61) -> 0 | C65: 0 | D65: Fejlesztési díj (2025)
A66: II. ütem | B66: =SUM(P61:S61) -> 0 | C66: =C65*4 -> 0 | D66: Fejlesztési díj (2026-2029)
A67: III. ütem | B67: =SUM(T61:AC61) -> 0 | C67: =C65*10 -> 0 | D67: Fejlesztési díj (2030-2039)
B70: Jelenleg beruházási igény nem ismert, nincs rendelkezésre álló forrás beruházásra.

Sheet Kispáli
A1: Gördülő fejlesztési terv a 2025 - 2039 időszakra
A2: BERUHÁZÁSOK ÖSSZEFOGLALÓ TÁBLÁZATA
A3: A tervet benyújtó szervezet megnevezése: | K3: KISPÁLI | R3: ellátásért felelős / ellátásért felelősök képviselője / víziközmű-szolgáltató *
A4: Víziközmű-szolgáltató megnevezése: | K4: ÉSZAK ZALAI VÍZ- ÉS CSATORNAMŰ ZÁRTKÖRŰEN MŰKÖDŐ RÉSZVÉNYTÁRSASÁG
A5: Víziközmű-szolgáltatási ágazat megnevezése: | K5: IVÓVÍZ ÁGAZAT
A6: Véleményeltérést megfogalmazó érintett fél megnevezése:
A7: Víziközmű-rendszer kódja: ** | K7: 11-32054-1-029-02-07 | R7: Zalaegerszeg-IV
A9: Fontossági sorrend | B9: Beruházás megnevezése | E9: Műszaki állapot felmérés, szükségességi indoklás | H9: Vízjogi létesítési/elvi engedély száma | I9: Az érintett ellátásért felelős(ök) megnevezése | J9: Tervezett nettó költség | K9: Forrás 2025 évre | L9: Megvalósítás időtartama | N9: Tervezett időtáv | O9: A beruházás ütemezése a tervezési időszak évei szerint
E10: Jelenlegi műszaki állapot | F10: Feladat szükségessége | G10: Megvalósítást követő várható műszaki állapot | J10: (eFt) | L10: Kezdés | M10: Befejezés | N10: (rövid / közép / hosszú) | O10: 1 | P10: 2 | Q10: 3 | R10: 4 | S10: 5 | T10: 6 | U10: 7 | V10: 8 | W10: 9 | X10: 10 | Y10: 11 | Z10: 12 | AA10: 13 | AB10: 14 | AC10: 15
B11: szakág | C11: Helyszín | D11: beruházás megnevezése
A12: I. Felszín alatti vízkivétel
B13: MÉLYFÚRÁSÚ KÚT, HAGYOMÁNYOS ÁTMÉRŐVEL
B14: Épület, építmény
B16: Gép, berendezés
B18: Irányítástechnika, energiaellátás
B20: Összesen: | J20: =SUM(J12:J19) -> 0
A21: III. Vízműtelep és vízkezelő létesítmények
C22: Helyszín | D22: beruházás megnevezése
B23: VÍZMŰTELEP
B24: Épület, építmény
B26: Gép, berendezés
B28: Irányítástechnika, energiaellátás
B30: VÍZKEZELŐ LÉTESÍTMÉNYEK
B31: Épület, építmény
B33: Gép, berendezés
B35: Irányítástechnika, energiaellátás
B37: Összesen | J37: =SUM(J23:J36) -> 0
A38: IV. Vízelosztás
C39: Helyszín | D39: beruházás megnevezése
B40: IVÓVÍZHÁLÓZAT
B41: Épület, építmény
B43: Gép, berendezés
B45: Irányítástechnika, energiaellátás
B47: VÍZTÁROLÓK
B48: Épület, építmény
B50: Gép, berendezés
B52: Irányítástechnika, energiaellátás
B54: NYOMÁSFOKOZÓK
B55: Épület, építmény
B57: Gép, berendezés
B59: Irányítástechnika, energiaellátás
B61: Összesen: | J61: =SUM(J40:J60) -> 0 | K61: 0 | O61: =SUM(O12:O60) -> 0 | P61: =SUM(P11:P60) -> 0 | Q61: =SUM(Q11:Q60) -> 0 | R61: =SUM(R11:R60) -> 0 | S61: =SUM(S11:S60) -> 0 | T61: =SUM(T11:T60) -> 0 | U61: =SUM(U11:U60) -> 0 | V61: =SUM(V11:V60) -> 0 | W61: =SUM(W11:W60) -> 0 | ... AC61: =SUM(AC11:AC60) -> 0
B64: Tervezett feladatok nettó költsége a teljes ütem tekintetében (eFt) | C64: Rendelkezésre álló források számszerűsített értéke a teljes ütem tekintetében (eFt) | D64: Forrás megnevezése a teljes ütem tekintetében
A65: I. ütem | B65: =SUM(O61) -> 0 | C65: =K61 -> 0 | D65: Fejlesztési díj (2025)
A66: II. ütem | B66: =SUM(P61:S61) -> 0 | C66: =C65*4 -> 0 | D66: Fejlesztési díj (2026-2029)
A67: III. ütem | B67: =SUM(T61:AC61) -> 0 | C67: =C65*10 -> 0 | D67: Fejlesztési díj (2030-2039)
B70: Jelenleg beruházási igény nem ismert, nincs rendelkezésre álló forrás beruházásra.

Sheet Kustánszeg
A1: Gördülő fejlesztési terv a 2025 - 2039 időszakra
A2: BERUHÁZÁSOK ÖSSZEFOGLALÓ TÁBLÁZATA
A3: A tervet benyújtó szervezet megnevezése: | K3: KUSTÁNSZEG | R3: ellátásért felelős / ellátásért felelősök képviselője / víziközmű-szolgáltató *
A4: Víziközmű-szolgáltató megnevezése: | K4: ÉSZAK ZALAI VÍZ- ÉS CSATORNAMŰ ZÁRTKÖRŰEN MŰKÖDŐ RÉSZVÉNYTÁRSASÁG
A5: Víziközmű-szolgáltatási ágazat megnevezése: | K5: IVÓVÍZ ÁGAZAT
A6: Véleményeltérést megfogalmazó érintett fél megnevezése:
A7: Víziközmű-rendszer kódja: ** | K7: 11-32054-1-029-02-07 | R7: Zalaegerszeg-IV
A9: Fontossági sorrend | B9: Beruházás megnevezése | E9: Műszaki állapot felmérés, szükségességi indoklás | H9: Vízjogi létesítési/elvi engedély száma | I9: Az érintett ellátásért felelős(ök) megnevezése | J9: Tervezett nettó költség | K9: Forrás 2025 évre | L9: Megvalósítás időtartama | N9: Tervezett időtáv | O9: A beruházás ütemezése a tervezési időszak évei szerint
E10: Jelenlegi műszaki állapot | F10: Feladat szükségessége | G10: Megvalósítást követő várható műszaki állapot | J10: (eFt) | L10: Kezdés | M10: Befejezés | N10: (rövid / közép / hosszú) | O10: 1 | P10: 2 | Q10: 3 | R10: 4 | S10: 5 | T10: 6 | U10: 7 | V10: 8 | W10: 9 | X10: 10 | Y10: 11 | Z10: 12 | AA10: 13 | AB10: 14 | AC10: 15
B11: szakág | C11: Helyszín | D11: beruházás megnevezése
A12: I. Felszín alatti vízkivétel
B13: MÉLYFÚRÁSÚ KÚT, HAGYOMÁNYOS ÁTMÉRŐVEL
B14: Épület, építmény
B16: Gép, berendezés
B18: Irányítástechnika, energiaellátás
B20: Összesen: | J20: =SUM(J12:J19) -> 0
A21: III. Vízműtelep és vízkezelő létesítmények
C22: Helyszín | D22: beruházás megnevezése
B23: VÍZMŰTELEP
B24: Épület, építmény
B26: Gép, berendezés
B28: Irányítástechnika, energiaellátás
B30: VÍZKEZELŐ LÉTESÍTMÉNYEK
B31: Épület, építmény
B33: Gép, berendezés
B35: Irányítástechnika, energiaellátás
B37: Összesen | J37: =SUM(J23:J36) -> 0
A38: IV. Vízelosztás
C39: Helyszín | D39: beruházás megnevezése
B40: IVÓVÍZHÁLÓZAT
B41: Épület, építmény
B43: Gép, berendezés
B45: Irányítástechnika, energiaellátás
B47: VÍZTÁROLÓK
B48: Épület, építmény
B50: Gép, berendezés
B52: Irányítástechnika, energiaellátás
B54: NYOMÁSFOKOZÓK
B55: Épület, építmény
B57: Gép, berendezés
B59: Irányítástechnika, energiaellátás
B61: Összesen: | J61: =SUM(J40:J60) -> 0 | K61: 0 | O61: =SUM(O12:O60) -> 0 | P61: =SUM(P12:P60) -> 0 | Q61: =SUM(Q12:Q60) -> 0 | R61: =SUM(R12:R60) -> 0 | S61: =SUM(S12:S60) -> 0 | T61: =SUM(T12:T60) -> 0 | U61: =SUM(U12:U60) -> 0 | V61: =SUM(V12:V60) -> 0 | ... AC61: =SUM(AC12:AC60) -> 0
B64: Tervezett feladatok nettó költsége a teljes ütem tekintetében (eFt) | C64: Rendelkezésre álló források számszerűsített értéke a teljes ütem tekintetében (eFt) | D64: Forrás megnevezése a teljes ütem tekintetében
A65: I. ütem | B65: =SUM(O61) -> 0 | C65: =K61 -> 0 | D65: Fejlesztési díj (2025)
A66: II. ütem | B66: =SUM(P61:S61) -> 0 | C66: =C65*4 -> 0 | D66: Fejlesztési díj (2026-2029)
A67: III. ütem | B67: =SUM(T61:AC61) -> 0 | C67: =C65*10 -> 0 | D67: Fejlesztési díj (2030-2039)
B70: Jelenleg beruházási igény nem ismert, nincs rendelkezésre álló forrás beruházásra.

Sheet Milejszeg
A1: Gördülő fejlesztési terv a 2025 - 2039 időszakra
A2: BERUHÁZÁSOK ÖSSZEFOGLALÓ TÁBLÁZATA
A3: A tervet benyújtó szervezet megnevezése: | K3: MILEJSZEG | R3: ellátásért felelős / ellátásért felelősök képviselője / víziközmű-szolgáltató *
A4: Víziközmű-szolgáltató megnevezése: | K4: ÉSZAK ZALAI VÍZ- ÉS CSATORNAMŰ ZÁRTKÖRŰEN MŰKÖDŐ RÉSZVÉNYTÁRSASÁG
A5: Víziközmű-szolgáltatási ágazat megnevezése: | K5: IVÓVÍZ ÁGAZAT
A6: Véleményeltérést megfogalmazó érintett fél megnevezése:
A7: Víziközmű-rendszer kódja: ** | K7: 11-32054-1-029-02-07 | R7: Zalaegerszeg-IV
A9: Fontossági sorrend | B9: Beruházás megnevezése | E9: Műszaki állapot felmérés, szükségességi indoklás | H9: Vízjogi létesítési/elvi engedély száma | I9: Az érintett ellátásért felelős(ök) megnevezése | J9: Tervezett nettó költség | K9: Forrás 2025 évre | L9: Megvalósítás időtartama | N9: Tervezett időtáv | O9: A beruházás ütemezése a tervezési időszak évei szerint
E10: Jelenlegi műszaki állapot | F10: Feladat szükségessége | G10: Megvalósítást követő várható műszaki állapot | J10: (eFt) | L10: Kezdés | M10: Befejezés | N10: (rövid / közép / hosszú) | O10: 1 | P10: 2 | Q10: 3 | R10: 4 | S10: 5 | T10: 6 | U10: 7 | V10: 8 | W10: 9 | X10: 10 | Y10: 11 | Z10: 12 | AA10: 13 | AB10: 14 | AC10: 15
B11: szakág | C11: Helyszín | D11: beruházás megnevezése
A12: I. Felszín alatti vízkivétel
B13: MÉLYFÚRÁSÚ KÚT, HAGYOMÁNYOS ÁTMÉRŐVEL
B14: Épület, építmény
B16: Gép, berendezés
B18: Irányítástechnika, energiaellátás
B20: Összesen: | J20: =SUM(J12:J19) -> 0
A21: III. Vízműtelep és vízkezelő létesítmények
C22: Helyszín | D22: beruházás megnevezése
B23: VÍZMŰTELEP
B24: Épület, építmény
B26: Gép, berendezés
B28: Irányítástechnika, energiaellátás
B30: VÍZKEZELŐ LÉTESÍTMÉNYEK
B31: Épület, építmény
B33: Gép, berendezés
B35: Irányítástechnika, energiaellátás
B37: Összesen | J37: =SUM(J23:J36) -> 0
A38: IV. Vízelosztás
C39: Helyszín | D39: beruházás megnevezése
B40: IVÓVÍZHÁLÓZAT
B41: Épület, építmény
B43: Gép, berendezés
B45: Irányítástechnika, energiaellátás
B47: VÍZTÁROLÓK
B48: Épület, építmény
B50: Gép, berendezés
B52: Irányítástechnika, energiaellátás
B54: NYOMÁSFOKOZÓK
B55: Épület, építmény
B57: Gép, berendezés
B59: Irányítástechnika, energiaellátás
B61: Összesen: | J61: =SUM(J40:J60) -> 0 | K61: 0 | O61: =SUM(O12:O60) -> 0 | P61: =SUM(P12:P60) -> 0 | Q61: =SUM(Q12:Q60) -> 0 | R61: =SUM(R12:R60) -> 0 | S61: =SUM(S12:S60) -> 0 | T61: =SUM(T12:T60) -> 0 | U61: =SUM(U12:U60) -> 0 | V61: =SUM(V12:V60) -> 0 | ... AC61: =SUM(AC12:AC60) -> 0
B64: Tervezett feladatok nettó költsége a teljes ütem tekintetében (eFt) | C64: Rendelkezésre álló források számszerűsített értéke a teljes ütem tekintetében (eFt) | D64: Forrás megnevezése a teljes ütem tekintetében
A65: I. ütem | B65: =SUM(O61) -> 0 | C65: =K61 -> 0 | D65: Fejlesztési díj (2025)
A66: II. ütem | B66: =SUM(P61:S61) -> 0 | C66: =C65*4 -> 0 | D66: Fejlesztési díj (2026-2029)
A67: III. ütem | B67: =SUM(T61:AC61) -> 0 | C67: =C65*10 -> 0 | D67: Fejlesztési díj (2030-2039)
B70: Jelenleg beruházási igény nem ismert, nincs rendelkezésre álló forrás beruházásra.

Sheet Nagykutas
A1: Gördülő fejlesztési terv a 2025 - 2039 időszakra
A2: BERUHÁZÁSOK ÖSSZEFOGLALÓ TÁBLÁZATA
A3: A tervet benyújtó szervezet megnevezése: | K3: NAGYKUTAS | R3: ellátásért felelős / ellátásért felelősök képviselője / víziközmű-szolgáltató *
A4: Víziközmű-szolgáltató megnevezése: | K4: ÉSZAK ZALAI VÍZ- ÉS CSATORNAMŰ ZÁRTKÖRŰEN MŰKÖDŐ RÉSZVÉNYTÁRSASÁG
A5: Víziközmű-szolgáltatási ágazat megnevezése: | K5: IVÓVÍZ ÁGAZAT
A6: Véleményeltérést megfogalmazó érintett fél megnevezése:
A7: Víziközmű-rendszer kódja: ** | K7: 11-32054-1-029-02-07 | R7: Zalaegerszeg-IV
A9: Fontossági sorrend | B9: Beruházás megnevezése | E9: Műszaki állapot felmérés, szükségességi indoklás | H9: Vízjogi létesítési/elvi engedély száma | I9: Az érintett ellátásért felelős(ök) megnevezése | J9: Tervezett nettó költség | K9: Forrás 2025 évre | L9: Megvalósítás időtartama | N9: Tervezett időtáv | O9: A beruházás ütemezése a tervezési időszak évei szerint
E10: Jelenlegi műszaki állapot | F10: Feladat szükségessége | G10: Megvalósítást követő várható műszaki állapot | J10: (eFt) | L10: Kezdés | M10: Befejezés | N10: (rövid / közép / hosszú) | O10: 1 | P10: 2 | Q10: 3 | R10: 4 | S10: 5 | T10: 6 | U10: 7 | V10: 8 | W10: 9 | X10: 10 | Y10: 11 | Z10: 12 | AA10: 13 | AB10: 14 | AC10: 15
B11: szakág | C11: Helyszín | D11: beruházás megnevezése
A12: I. Felszín alatti vízkivétel
B13: MÉLYFÚRÁSÚ KÚT, HAGYOMÁNYOS ÁTMÉRŐVEL
B14: Épület, építmény
B16: Gép, berendezés
B18: Irányítástechnika, energiaellátás
B20: Összesen: | J20: =SUM(J12:J18) -> 0
A21: III. Vízműtelep és vízkezelő létesítmények
C22: Helyszín | D22: beruházás megnevezése
B23: VÍZMŰTELEP
B24: Épület, építmény
B26: Gép, berendezés
B28: Irányítástechnika, energiaellátás
B30: VÍZKEZELŐ LÉTESÍTMÉNYEK
B31: Épület, építmény
B33: Gép, berendezés
B35: Irányítástechnika, energiaellátás
B37: Összesen | J37: =SUM(J23:J36) -> 0
A38: IV. Vízelosztás
C39: Helyszín | D39: beruházás megnevezése
B40: IVÓVÍZHÁLÓZAT
B41: Épület, építmény
B43: Gép, berendezés
B45: Irányítástechnika, energiaellátás
B47: VÍZTÁROLÓK
B48: Épület, építmény
B50: Gép, berendezés
B52: Irányítástechnika, energiaellátás
B54: NYOMÁSFOKOZÓK
B55: Épület, építmény
B57: Gép, berendezés
B59: Irányítástechnika, energiaellátás
B61: Összesen: | J61: =SUM(J40:J60) -> 0 | K61: =SUM(C65) -> 0 | O61: =SUM(O12:O60) -> 0 | P61: =SUM(P12:P60) -> 0 | Q61: =SUM(Q12:Q60) -> 0 | R61: =SUM(R12:R60) -> 0 | S61: =SUM(S12:S60) -> 0 | T61: =SUM(T12:T60) -> 0 | U61: =SUM(U12:U60) -> 0 | V61: =SUM(V12:V60) -> 0 | ... AC61: =SUM(AC12:AC60) -> 0
B64: Tervezett feladatok nettó költsége a teljes ütem tekintetében (eFt) | C64: Rendelkezésre álló források számszerűsített értéke a teljes ütem tekintetében (eFt) | D64: Forrás megnevezése a teljes ütem tekintetében
A65: I. ütem | B65: =SUM(O61) -> 0 | C65: 0 | D65: Fejlesztési díj (2025)
A66: II. ütem | B66: =SUM(P61:S61) -> 0 | C66: 0 | D66: Fejlesztési díj (2026-2029)
A67: III. ütem | B67: =SUM(T61:AC61) -> 0 | C67: 0 | D67: Fejlesztési díj (2030-2039)

Sheet Nagypáli
A1: Gördülő fejlesztési terv a 2025 - 2039 időszakra
A2: BERUHÁZÁSOK ÖSSZEFOGLALÓ TÁBLÁZATA
A3: A tervet benyújtó szervezet megnevezése: | K3: NAGYPÁLI | R3: ellátásért felelős / ellátásért felelősök képviselője / víziközmű-szolgáltató *
A4: Víziközmű-szolgáltató megnevezése: | K4: ÉSZAK ZALAI VÍZ- ÉS CSATORNAMŰ ZÁRTKÖRŰEN MŰKÖDŐ RÉSZVÉNYTÁRSASÁG
A5: Víziközmű-szolgáltatási ágazat megnevezése: | K5: IVÓVÍZ ÁGAZAT
A6: Véleményeltérést megfogalmazó érintett fél megnevezése:
A7: Víziközmű-rendszer kódja: ** | K7: 11-32054-1-029-02-07 | R7: Zalaegerszeg-IV
A9: Fontossági sorrend | B9: Beruházás megnevezése | E9: Műszaki állapot felmérés, szükségességi indoklás | H9: Vízjogi létesítési/elvi engedély száma | I9: Az érintett ellátásért felelős(ök) megnevezése | J9: Tervezett nettó költség | K9: Forrás 2025 évre | L9: Megvalósítás időtartama | N9: Tervezett időtáv | O9: A beruházás ütemezése a tervezési időszak évei szerint
E10: Jelenlegi műszaki állapot | F10: Feladat szükségessége | G10: Megvalósítást követő várható műszaki állapot | J10: (eFt) | L10: Kezdés | M10: Befejezés | N10: (rövid / közép / hosszú) | O10: 1 | P10: 2 | Q10: 3 | R10: 4 | S10: 5 | T10: 6 | U10: 7 | V10: 8 | W10: 9 | X10: 10 | Y10: 11 | Z10: 12 | AA10: 13 | AB10: 14 | AC10: 15
B11: szakág | C11: Helyszín | D11: beruházás megnevezése
A12: I. Felszín alatti vízkivétel
B13: MÉLYFÚRÁSÚ KÚT, HAGYOMÁNYOS ÁTMÉRŐVEL
B14: Épület, építmény
B16: Gép, berendezés
B18: Irányítástechnika, energiaellátás
B20: Összesen: | J20: =SUM(J12:J19) -> 0
A21: III. Vízműtelep és vízkezelő létesítmények
C22: Helyszín | D22: beruházás megnevezése
B23: VÍZMŰTELEP
B24: Épület, építmény
B26: Gép, berendezés
B28: Irányítástechnika, energiaellátás
B30: VÍZKEZELŐ LÉTESÍTMÉNYEK
B31: Épület, építmény
B33: Gép, berendezés
B35: Irányítástechnika, energiaellátás
B37: Összesen | J37: =SUM(J23:J36) -> 0
A38: IV. Vízelosztás
C39: Helyszín | D39: beruházás megnevezése
B40: IVÓVÍZHÁLÓZAT
B41: Épület, építmény
B43: Gép, berendezés
B45: Irányítástechnika, energiaellátás
B47: VÍZTÁROLÓK
B48: Épület, építmény
B50: Gép, berendezés
B52: Irányítástechnika, energiaellátás
B54: NYOMÁSFOKOZÓK
B55: Épület, építmény
B57: Gép, berendezés
B59: Irányítástechnika, energiaellátás
B61: Összesen: | J61: =SUM(J40:J60) -> 0 | K61: 0 | O61: =SUM(O12:O60) -> 0 | P61: =SUM(P11:P60) -> 0 | Q61: =SUM(Q11:Q60) -> 0 | R61: =SUM(R11:R60) -> 0 | S61: =SUM(S11:S60) -> 0 | T61: =SUM(T11:T60) -> 0 | U61: =SUM(U11:U60) -> 0 | V61: =SUM(V11:V60) -> 0 | W61: =SUM(W11:W60) -> 0 | ... AC61: =SUM(AC11:AC60) -> 0
B64: Tervezett feladatok nettó költsége a teljes ütem tekintetében (eFt) | C64: Rendelkezésre álló források számszerűsített értéke a teljes ütem tekintetében (eFt) | D64: Forrás megnevezése a teljes ütem tekintetében
A65: I. ütem | B65: =SUM(O61) -> 0 | C65: =K61 -> 0 | D65: Fejlesztési díj (2025)
A66: II. ütem | B66: =SUM(P61:S61) -> 0 | C66: =C65*4 -> 0 | D66: Fejlesztési díj (2026-2029)
A67: III. ütem | B67: =SUM(T61:AC61) -> 0 | C67: =C65*10 -> 0 | D67: Fejlesztési díj (2030-2039)
B70: Jelenleg beruházási igény nem ismert, nincs rendelkezésre álló forrás beruházásra.

Sheet Németfalu
A1: Gördülő fejlesztési terv a 2025 - 2039 időszakra
A2: BERUHÁZÁSOK ÖSSZEFOGLALÓ TÁBLÁZATA
A3: A tervet benyújtó szervezet megnevezése: | K3: NÉMETFALU | R3: ellátásért felelős / ellátásért felelősök képviselője / víziközmű-szolgáltató *
A4: Víziközmű-szolgáltató megnevezése: | K4: ÉSZAK ZALAI VÍZ- ÉS CSATORNAMŰ ZÁRTKÖRŰEN MŰKÖDŐ RÉSZVÉNYTÁRSASÁG
A5: Víziközmű-szolgáltatási ágazat megnevezése: | K5: IVÓVÍZ ÁGAZAT
A6: Véleményeltérést megfogalmazó érintett fél megnevezése:
A7: Víziközmű-rendszer kódja: ** | K7: 11-32054-1-029-02-07 | R7: Zalaegerszeg-IV
A9: Fontossági sorrend | B9: Beruházás megnevezése | E9: Műszaki állapot felmérés, szükségességi indoklás | H9: Vízjogi létesítési/elvi engedély száma | I9: Az érintett ellátásért felelős(ök) megnevezése | J9: Tervezett nettó költség | K9: Forrás 2025 évre | L9: Megvalósítás időtartama | N9: Tervezett időtáv | O9: A beruházás ütemezése a tervezési időszak évei szerint
E10: Jelenlegi műszaki állapot | F10: Feladat szükségessége | G10: Megvalósítást követő várható műszaki állapot | J10: (eFt) | L10: Kezdés | M10: Befejezés | N10: (rövid / közép / hosszú) | O10: 1 | P10: 2 | Q10: 3 | R10: 4 | S10: 5 | T10: 6 | U10: 7 | V10: 8 | W10: 9 | X10: 10 | Y10: 11 | Z10: 12 | AA10: 13 | AB10: 14 | AC10: 15
B11: szakág | C11: Helyszín | D11: beruházás megnevezése
A12: I. Felszín alatti vízkivétel
B13: MÉLYFÚRÁSÚ KÚT, HAGYOMÁNYOS ÁTMÉRŐVEL
B14: Épület, építmény
B16: Gép, berendezés
B18: Irányítástechnika, energiaellátás
B20: Összesen: | J20: =SUM(J12:J19) -> 0
A21: III. Vízműtelep és vízkezelő létesítmények
C22: Helyszín | D22: beruházás megnevezése
B23: VÍZMŰTELEP
B24: Épület, építmény
B26: Gép, berendezés
B28: Irányítástechnika, energiaellátás
B30: VÍZKEZELŐ LÉTESÍTMÉNYEK
B31: Épület, építmény
B33: Gép, berendezés
B35: Irányítástechnika, energiaellátás
B37: Összesen | J37: =SUM(J23:J36) -> 0
A38: IV. Vízelosztás
C39: Helyszín | D39: beruházás megnevezése
B40: IVÓVÍZHÁLÓZAT
B41: Épület, építmény
B43: Gép, berendezés
B45: Irányítástechnika, energiaellátás
B47: VÍZTÁROLÓK
B48: Épület, építmény
B50: Gép, berendezés
B52: Irányítástechnika, energiaellátás
B54: NYOMÁSFOKOZÓK
B55: Épület, építmény
B57: Gép, berendezés
B59: Irányítástechnika, energiaellátás
B61: Összesen: | J61: =SUM(J40:J60) -> 0 | O61: =SUM(O12:O60) -> 0 | P61: =SUM(P12:P60) -> 0 | Q61: =SUM(Q12:Q60) -> 0 | R61: =SUM(R12:R60) -> 0 | S61: =SUM(S12:S60) -> 0 | T61: =SUM(T12:T60) -> 0 | U61: =SUM(U12:U60) -> 0 | V61: =SUM(V12:V60) -> 0 | ... AC61: =SUM(AC12:AC60) -> 0
B64: Tervezett feladatok nettó költsége a teljes ütem tekintetében (eFt) | C64: Rendelkezésre álló források számszerűsített értéke a teljes ütem tekintetében (eFt) | D64: Forrás megnevezése a teljes ütem tekintetében
A65: I. ütem | B65: =SUM(O61) -> 0 | C65: 0 | D65: Fejlesztési díj (2025)
A66: II. ütem | B66: =SUM(P61:S61) -> 0 | C66: 0 | D66: Fejlesztési díj (2026-2029)
A67: III. ütem | B67: =SUM(T61:AC61) -> 0 | C67: 0 | D67: Fejlesztési díj (2030-2039)
B70: Jelenleg beruházási igény nem ismert, nincs rendelkezésre álló forrás beruházásra.

Sheet Pálfiszeg
A1: Gördülő fejlesztési terv a 2025 - 2039 időszakra
A2: BERUHÁZÁSOK ÖSSZEFOGLALÓ TÁBLÁZATA
A3: A tervet benyújtó szervezet megnevezése: | K3: PÁLFISZEG | R3: ellátásért felelős / ellátásért felelősök képviselője / víziközmű-szolgáltató *
A4: Víziközmű-szolgáltató megnevezése: | K4: ÉSZAK ZALAI VÍZ- ÉS CSATORNAMŰ ZÁRTKÖRŰEN MŰKÖDŐ RÉSZVÉNYTÁRSASÁG
A5: Víziközmű-szolgáltatási ágazat megnevezése: | K5: IVÓVÍZ ÁGAZAT
A6: Véleményeltérést megfogalmazó érintett fél megnevezése:
A7: Víziközmű-rendszer kódja: ** | K7: 11-32054-1-029-02-07 | R7: Zalaegerszeg-IV
A9: Fontossági sorrend | B9: Beruházás megnevezése | E9: Műszaki állapot felmérés, szükségességi indoklás | H9: Vízjogi létesítési/elvi engedély száma | I9: Az érintett ellátásért felelős(ök) megnevezése | J9: Tervezett nettó költség | K9: Forrás 2025 évre | L9: Megvalósítás időtartama | N9: Tervezett időtáv | O9: A beruházás ütemezése a tervezési időszak évei szerint
E10: Jelenlegi műszaki állapot | F10: Feladat szükségessége | G10: Megvalósítást követő várható műszaki állapot | J10: (eFt) | L10: Kezdés | M10: Befejezés | N10: (rövid / közép / hosszú) | O10: 1 | P10: 2 | Q10: 3 | R10: 4 | S10: 5 | T10: 6 | U10: 7 | V10: 8 | W10: 9 | X10: 10 | Y10: 11 | Z10: 12 | AA10: 13 | AB10: 14 | AC10: 15
B11: szakág | C11: Helyszín | D11: beruházás megnevezése
A12: I. Felszín alatti vízkivétel
B13: MÉLYFÚRÁSÚ KÚT, HAGYOMÁNYOS ÁTMÉRŐVEL
B14: Épület, építmény
B16: Gép, berendezés
B18: Irányítástechnika, energiaellátás
B20: Összesen: | J20: =SUM(J12:J19) -> 0
A21: III. Vízműtelep és vízkezelő létesítmények
C22: Helyszín | D22: beruházás megnevezése
B23: VÍZMŰTELEP
B24: Épület, építmény
B26: Gép, berendezés
B28: Irányítástechnika, energiaellátás
B30: VÍZKEZELŐ LÉTESÍTMÉNYEK
B31: Épület, építmény
B33: Gép, berendezés
B35: Irányítástechnika, energiaellátás
B37: Összesen | J37: =SUM(J23:J36) -> 0
A38: IV. Vízelosztás
C39: Helyszín | D39: beruházás megnevezése
B40: IVÓVÍZHÁLÓZAT
B41: Épület, építmény
B43: Gép, berendezés
B45: Irányítástechnika, energiaellátás
B47: VÍZTÁROLÓK
B48: Épület, építmény
B50: Gép, berendezés
B52: Irányítástechnika, energiaellátás
B54: NYOMÁSFOKOZÓK
B55: Épület, építmény
B57: Gép, berendezés
B59: Irányítástechnika, energiaellátás
B61: Összesen: | J61: =SUM(J40:J60) -> 0 | K61: 0 | O61: =SUM(O12:O60) -> 0 | P61: =SUM(P12:P60) -> 0 | Q61: =SUM(Q12:Q60) -> 0 | R61: =SUM(R12:R60) -> 0 | S61: =SUM(S12:S60) -> 0 | T61: =SUM(T12:T60) -> 0 | U61: =SUM(U12:U60) -> 0 | V61: =SUM(V12:V60) -> 0 | ... AC61: =SUM(AC12:AC60) -> 0
B64: Tervezett feladatok nettó költsége a teljes ütem tekintetében (eFt) | C64: Rendelkezésre álló források számszerűsített értéke a teljes ütem tekintetében (eFt) | D64: Forrás megnevezése a teljes ütem tekintetében
A65: I. ütem | B65: =SUM(O61) -> 0 | C65: =K61 -> 0 | D65: Fejlesztési díj (2025)
A66: II. ütem | B66: =SUM(P61:S61) -> 0 | C66: =C65*4 -> 0 | D66: Fejlesztési díj (2026-2029)
A67: III. ütem | B67: =SUM(T61:AC61) -> 0 | C67: =C65*10 -> 0 | D67: Fejlesztési díj (2030-2039)
B70: Jelenleg beruházási igény nem ismert, nincs rendelkezésre álló forrás beruházásra.

Sheet Pethőhenye
A1: Gördülő fejlesztési terv a 2025 - 2039 időszakra
A2: BERUHÁZÁSOK ÖSSZEFOGLALÓ TÁBLÁZATA
A3: A tervet benyújtó szervezet megnevezése: | K3: PETHŐHENYE | R3: ellátásért felelős / ellátásért felelősök képviselője / víziközmű-szolgáltató *
A4: Víziközmű-szolgáltató megnevezése: | K4: ÉSZAK ZALAI VÍZ- ÉS CSATORNAMŰ ZÁRTKÖRŰEN MŰKÖDŐ RÉSZVÉNYTÁRSASÁG
A5: Víziközmű-szolgáltatási ágazat megnevezése: | K5: IVÓVÍZ ÁGAZAT
A6: Véleményeltérést megfogalmazó érintett fél megnevezése:
A7: Víziközmű-rendszer kódja: ** | K7: 11-32054-1-029-02-07 | R7: Zalaegerszeg-IV
A9: Fontossági sorrend | B9: Beruházás megnevezése | E9: Műszaki állapot felmérés, szükségességi indoklás | H9: Vízjogi létesítési/elvi engedély száma | I9: Az érintett ellátásért felelős(ök) megnevezése | J9: Tervezett nettó költség | K9: Forrás 2025 évre | L9: Megvalósítás időtartama | N9: Tervezett időtáv | O9: A beruházás ütemezése a tervezési időszak évei szerint
E10: Jelenlegi műszaki állapot | F10: Feladat szükségessége | G10: Megvalósítást követő várható műszaki állapot | J10: (eFt) | L10: Kezdés | M10: Befejezés | N10: (rövid / közép / hosszú) | O10: 1 | P10: 2 | Q10: 3 | R10: 4 | S10: 5 | T10: 6 | U10: 7 | V10: 8 | W10: 9 | X10: 10 | Y10: 11 | Z10: 12 | AA10: 13 | AB10: 14 | AC10: 15
B11: szakág | C11: Helyszín | D11: beruházás megnevezése
A12: I. Felszín alatti vízkivétel
B13: MÉLYFÚRÁSÚ KÚT, HAGYOMÁNYOS ÁTMÉRŐVEL
B14: Épület, építmény
B16: Gép, berendezés
B18: Irányítástechnika, energiaellátás
B20: Összesen: | J20: =SUM(J12:J19) -> 0
A21: III. Vízműtelep és vízkezelő létesítmények
C22: Helyszín | D22: beruházás megnevezése
B23: VÍZMŰTELEP
B24: Épület, építmény
B26: Gép, berendezés
B28: Irányítástechnika, energiaellátás
B30: VÍZKEZELŐ LÉTESÍTMÉNYEK
B31: Épület, építmény
B33: Gép, berendezés
B35: Irányítástechnika, energiaellátás
B37: Összesen | J37: =SUM(J23:J36) -> 0
A38: IV. Vízelosztás
C39: Helyszín | D39: beruházás megnevezése
B40: IVÓVÍZHÁLÓZAT
B41: Épület, építmény
B43: Gép, berendezés
B45: Irányítástechnika, energiaellátás
B47: VÍZTÁROLÓK
B48: Épület, építmény
B50: Gép, berendezés
B52: Irányítástechnika, energiaellátás
B54: NYOMÁSFOKOZÓK
B55: Épület, építmény
B57: Gép, berendezés
B59: Irányítástechnika, energiaellátás
B61: Összesen: | J61: =SUM(J40:J60) -> 0 | K61: 0 | O61: =SUM(O12:O60) -> 0 | P61: =SUM(P12:P60) -> 0 | Q61: =SUM(Q12:Q60) -> 0 | R61: =SUM(R12:R60) -> 0 | S61: =SUM(S12:S60) -> 0 | T61: =SUM(T12:T60) -> 0 | U61: =SUM(U12:U60) -> 0 | V61: =SUM(V12:V60) -> 0 | ... AC61: =SUM(AC12:AC60) -> 0
B64: Tervezett feladatok nettó költsége a teljes ütem tekintetében (eFt) | C64: Rendelkezésre álló források számszerűsített értéke a teljes ütem tekintetében (eFt) | D64: Forrás megnevezése a teljes ütem tekintetében
A65: I. ütem | B65: =SUM(O61) -> 0 | C65: =K61 -> 0 | D65: Fejlesztési díj (2025)
A66: II. ütem | B66: =SUM(P61:S61) -> 0 | C66: =C65*4 -> 0 | D66: Fejlesztési díj (2026-2029)
A67: III. ütem | B67: =SUM(T61:AC61) -> 0 | C67: =C65*10 -> 0 | D67: Fejlesztési díj (2030-2039)
B70: Jelenleg beruházási igény nem ismert, nincs rendelkezésre álló forrás beruházásra.

Sheet Sárhida
A1: Gördülő fejlesztési terv a 2025 - 2039 időszakra
A2: BERUHÁZÁSOK ÖSSZEFOGLALÓ TÁBLÁZATA
A3: A tervet benyújtó szervezet megnevezése: | K3: SÁRHIDA | R3: ellátásért felelős / ellátásért felelősök képviselője / víziközmű-szolgáltató *
A4: Víziközmű-szolgáltató megnevezése: | K4: ÉSZAK ZALAI VÍZ- ÉS CSATORNAMŰ ZÁRTKÖRŰEN MŰKÖDŐ RÉSZVÉNYTÁRSASÁG
A5: Víziközmű-szolgáltatási ágazat megnevezése: | K5: IVÓVÍZ ÁGAZAT
A6: Véleményeltérést megfogalmazó érintett fél megnevezése:
A7: Víziközmű-rendszer kódja: ** | K7: 11-32054-1-029-02-07 | R7: Zalaegerszeg-IV
A9: Fontossági sorrend | B9: Beruházás megnevezése | E9: Műszaki állapot felmérés, szükségességi indoklás | H9: Vízjogi létesítési/elvi engedély száma | I9: Az érintett ellátásért felelős(ök) megnevezése | J9: Tervezett nettó költség | K9: Forrás 2025 évre | L9: Megvalósítás időtartama | N9: Tervezett időtáv | O9: A beruházás ütemezése a tervezési időszak évei szerint
E10: Jelenlegi műszaki állapot | F10: Feladat szükségessége | G10: Megvalósítást követő várható műszaki állapot | J10: (eFt) | L10: Kezdés | M10: Befejezés | N10: (rövid / közép / hosszú) | O10: 1 | P10: 2 | Q10: 3 | R10: 4 | S10: 5 | T10: 6 | U10: 7 | V10: 8 | W10: 9 | X10: 10 | Y10: 11 | Z10: 12 | AA10: 13 | AB10: 14 | AC10: 15
B11: szakág | C11: Helyszín | D11: beruházás megnevezése
A12: I. Felszín alatti vízkivétel
B13: MÉLYFÚRÁSÚ KÚT, HAGYOMÁNYOS ÁTMÉRŐVEL
B14: Épület, építmény
B16: Gép, berendezés
B18: Irányítástechnika, energiaellátás
B20: Összesen: | J20: =SUM(J12:J18) -> 0
A21: III. Vízműtelep és vízkezelő létesítmények
C22: Helyszín | D22: beruházás megnevezése
B23: VÍZMŰTELEP
B24: Épület, építmény
B26: Gép, berendezés
B28: Irányítástechnika, energiaellátás
B30: VÍZKEZELŐ LÉTESÍTMÉNYEK
B31: Épület, építmény
B33: Gép, berendezés
B35: Irányítástechnika, energiaellátás
B37: Összesen | J37: =SUM(J23:J36) -> 0
A38: IV. Vízelosztás
C39: Helyszín | D39: beruházás megnevezése
B40: IVÓVÍZHÁLÓZAT
B41: Épület, építmény
B43: Gép, berendezés
B45: Irányítástechnika, energiaellátás
B47: VÍZTÁROLÓK
B48: Épület, építmény
B50: Gép, berendezés
B52: Irányítástechnika, energiaellátás
B54: NYOMÁSFOKOZÓK
B55: Épület, építmény
B57: Gép, berendezés
B59: Irányítástechnika, energiaellátás
B61: Összesen: | J61: =SUM(J40:J60) -> 0 | K61: =SUM(C65) -> 0 | O61: =SUM(O12:O60) -> 0 | P61: =SUM(P12:P60) -> 0 | Q61: =SUM(Q12:Q60) -> 0 | R61: =SUM(R12:R60) -> 0 | S61: =SUM(S12:S60) -> 0 | T61: =SUM(T12:T60) -> 0 | U61: =SUM(U12:U60) -> 0 | V61: =SUM(V12:V60) -> 0 | ... AC61: =SUM(AC12:AC60) -> 0
B64: Tervezett feladatok nettó költsége a teljes ütem tekintetében (eFt) | C64: Rendelkezésre álló források számszerűsített értéke a teljes ütem tekintetében (eFt) | D64: Forrás megnevezése a teljes ütem tekintetében
A65: I. ütem | B65: =SUM(O61) -> 0 | C65: 0 | D65: Fejlesztési díj (2025)
A66: II. ütem | B66: =SUM(P61:S61) -> 0 | C66: =C65*4 -> 0 | D66: Fejlesztési díj (2026-2029)
A67: III. ütem | B67: =SUM(T61:AC61) -> 0 | C67: =C65*10 -> 0 | D67: Fejlesztési díj (2030-2039)
B70: Jelenleg beruházási igény nem ismert, nincs rendelkezésre álló forrás beruházásra.

Sheet Teskánd
A1: Gördülő fejlesztési terv a 2025 - 2039 időszakra
A2: BERUHÁZÁSOK ÖSSZEFOGLALÓ TÁBLÁZATA
A3: A tervet benyújtó szervezet megnevezése: | K3: TESKÁND | R3: ellátásért felelős / ellátásért felelősök képviselője / víziközmű-szolgáltató *
A4: Víziközmű-szolgáltató megnevezése: | K4: ÉSZAK ZALAI VÍZ- ÉS CSATORNAMŰ ZÁRTKÖRŰEN MŰKÖDŐ RÉSZVÉNYTÁRSASÁG
A5: Víziközmű-szolgáltatási ágazat megnevezése: | K5: IVÓVÍZ ÁGAZAT
A6: Véleményeltérést megfogalmazó érintett fél megnevezése:
A7: Víziközmű-rendszer kódja: ** | K7: 11-32054-1-029-02-07 | R7: Zalaegerszeg-IV
A9: Fontossági sorrend | B9: Beruházás megnevezése | E9: Műszaki állapot felmérés, szükségességi indoklás | H9: Vízjogi létesítési/elvi engedély száma | I9: Az érintett ellátásért felelős(ök) megnevezése | J9: Tervezett nettó költség | K9: Forrás 2025 évre | L9: Megvalósítás időtartama | N9: Tervezett időtáv | O9: A beruházás ütemezése a tervezési időszak évei szerint
E10: Jelenlegi műszaki állapot | F10: Feladat szükségessége | G10: Megvalósítást követő várható műszaki állapot | J10: (eFt) | L10: Kezdés | M10: Befejezés | N10: (rövid / közép / hosszú) | O10: 1 | P10: 2 | Q10: 3 | R10: 4 | S10: 5 | T10: 6 | U10: 7 | V10: 8 | W10: 9 | X10: 10 | Y10: 11 | Z10: 12 | AA10: 13 | AB10: 14 | AC10: 15
B11: szakág | C11: Helyszín | D11: beruházás megnevezése
A12: I. Felszín alatti vízkivétel
B13: MÉLYFÚRÁSÚ KÚT, HAGYOMÁNYOS ÁTMÉRŐVEL
B14: Épület, építmény
B16: Gép, berendezés
B18: Irányítástechnika, energiaellátás
B20: Összesen: | J20: =SUM(J12:J18) -> 0
A21: III. Vízműtelep és vízkezelő létesítmények
C22: Helyszín | D22: beruházás megnevezése
B23: VÍZMŰTELEP
B24: Épület, építmény
B26: Gép, berendezés
B28: Irányítástechnika, energiaellátás
B30: VÍZKEZELŐ LÉTESÍTMÉNYEK
B31: Épület, építmény
B33: Gép, berendezés
B35: Irányítástechnika, energiaellátás
B37: Összesen | J37: =SUM(J23:J36) -> 0
A38: IV. Vízelosztás
C39: Helyszín | D39: beruházás megnevezése
B40: IVÓVÍZHÁLÓZAT
B41: Épület, építmény
B43: Gép, berendezés
B45: Irányítástechnika, energiaellátás
B47: VÍZTÁROLÓK
B48: Épület, építmény
B50: Gép, berendezés
B52: Irányítástechnika, energiaellátás
B54: NYOMÁSFOKOZÓK
B55: Épület, építmény
B57: Gép, berendezés
B59: Irányítástechnika, energiaellátás
B61: Összesen: | J61: =SUM(J40:J60) -> 0 | K61: 0 | O61: =SUM(O12:O60) -> 0 | P61: =SUM(P12:P60) -> 0 | Q61: =SUM(Q12:Q60) -> 0 | R61: =SUM(R12:R60) -> 0 | S61: =SUM(S12:S60) -> 0 | T61: =SUM(T12:T60) -> 0 | U61: =SUM(U12:U60) -> 0 | V61: =SUM(V12:V60) -> 0 | ... AC61: =SUM(AC12:AC60) -> 0
B64: Tervezett feladatok nettó költsége a teljes ütem tekintetében (eFt) | C64: Rendelkezésre álló források számszerűsített értéke a teljes ütem tekintetében (eFt) | D64: Forrás megnevezése a teljes ütem tekintetében
A65: I. ütem | B65: =SUM(O61) -> 0 | C65: =K61 -> 0 | D65: Fejlesztési díj (2025)
A66: II. ütem | B66: =SUM(P61:S61) -> 0 | C66: =C65*4 -> 0 | D66: Fejlesztési díj (2026-2029)
A67: III. ütem | B67: =SUM(T61:AC61) -> 0 | C67: =C65*10 -> 0 | D67: Fejlesztési díj (2030-2039)
B70: Jelenleg beruházási igény nem ismert, nincs rendelkezésre álló forrás beruházásra.

Sheet Zalaboldogfa
A1: Gördülő fejlesztési terv a 2025 - 2039 időszakra
A2: BERUHÁZÁSOK ÖSSZEFOGLALÓ TÁBLÁZATA
A3: A tervet benyújtó szervezet megnevezése: | K3: ZALABOLDOGFA | R3: ellátásért felelős / ellátásért felelősök képviselője / víziközmű-szolgáltató *
A4: Víziközmű-szolgáltató megnevezése: | K4: ÉSZAK ZALAI VÍZ- ÉS CSATORNAMŰ ZÁRTKÖRŰEN MŰKÖDŐ RÉSZVÉNYTÁRSASÁG
A5: Víziközmű-szolgáltatási ágazat megnevezése: | K5: IVÓVÍZ ÁGAZAT
A6: Véleményeltérést megfogalmazó érintett fél megnevezése:
A7: Víziközmű-rendszer kódja: ** | K7: 11-32054-1-029-02-07 | R7: Zalaegerszeg-IV
A9: Fontossági sorrend | B9: Beruházás megnevezése | E9: Műszaki állapot felmérés, szükségességi indoklás | H9: Vízjogi létesítési/elvi engedély száma | I9: Az érintett ellátásért felelős(ök) megnevezése | J9: Tervezett nettó költség | K9: Forrás 2025 évre | L9: Megvalósítás időtartama | N9: Tervezett időtáv | O9: A beruházás ütemezése a tervezési időszak évei szerint
E10: Jelenlegi műszaki állapot | F10: Feladat szükségessége | G10: Megvalósítást követő várható műszaki állapot | J10: (eFt) | L10: Kezdés | M10: Befejezés | N10: (rövid / közép / hosszú) | O10: 1 | P10: 2 | Q10: 3 | R10: 4 | S10: 5 | T10: 6 | U10: 7 | V10: 8 | W10: 9 | X10: 10 | Y10: 11 | Z10: 12 | AA10: 13 | AB10: 14 | AC10: 15
B11: szakág | C11: Helyszín | D11: beruházás megnevezése
A12: I. Felszín alatti vízkivétel
B13: MÉLYFÚRÁSÚ KÚT, HAGYOMÁNYOS ÁTMÉRŐVEL
B14: Épület, építmény
B16: Gép, berendezés
B18: Irányítástechnika, energiaellátás
B20: Összesen: | J20: =SUM(J12:J19) -> 0
A21: III. Vízműtelep és vízkezelő létesítmények
C22: Helyszín | D22: beruházás megnevezése
B23: VÍZMŰTELEP
B24: Épület, építmény
B26: Gép, berendezés
B28: Irányítástechnika, energiaellátás
B30: VÍZKEZELŐ LÉTESÍTMÉNYEK
B31: Épület, építmény
B33: Gép, berendezés
B35: Irányítástechnika, energiaellátás
B37: Összesen | J37: =SUM(J23:J36) -> 0
A38: IV. Vízelosztás
C39: Helyszín | D39: beruházás megnevezése
B40: IVÓVÍZHÁLÓZAT
B41: Épület, építmény
B43: Gép, berendezés
B45: Irányítástechnika, energiaellátás
B47: VÍZTÁROLÓK
B48: Épület, építmény
B50: Gép, berendezés
B52: Irányítástechnika, energiaellátás
B54: NYOMÁSFOKOZÓK
B55: Épület, építmény
B57: Gép, berendezés
B59: Irányítástechnika, energiaellátás
B61: Összesen: | J61: =SUM(J40:J60) -> 0 | K61: 0 | O61: =SUM(O12:O60) -> 0 | P61: =SUM(P12:P60) -> 0 | Q61: =SUM(Q12:Q60) -> 0 | R61: =SUM(R12:R60) -> 0 | S61: =SUM(S12:S60) -> 0 | T61: =SUM(T12:T60) -> 0 | U61: =SUM(U12:U60) -> 0 | V61: =SUM(V12:V60) -> 0 | ... AC61: =SUM(AC12:AC60) -> 0
B64: Tervezett feladatok nettó költsége a teljes ütem tekintetében (eFt) | C64: Rendelkezésre álló források számszerűsített értéke a teljes ütem tekintetében (eFt) | D64: Forrás megnevezése a teljes ütem tekintetében
A65: I. ütem | B65: =SUM(O61) -> 0 | C65: =K61 -> 0 | D65: Fejlesztési díj (2025)
A66: II. ütem | B66: =SUM(P61:S61) -> 0 | C66: =C65*4 -> 0 | D66: Fejlesztési díj (2026-2029)
A67: III. ütem | B67: =SUM(T61:AC61) -> 0 | C67: =C65*10 -> 0 | D67: Fejlesztési díj (2030-2039)
B70: Jelenleg beruházási igény nem ismert, nincs rendelkezésre álló forrás beruházásra.

Sheet Zalaegerszeg
A1: Gördülő fejlesztési terv a 2025 - 2039 időszakra
A2: BERUHÁZÁSOK ÖSSZEFOGLALÓ TÁBLÁZATA
A3: A tervet benyújtó szervezet megnevezése: | K3: ZALAEGERSZEG | R3: ellátásért felelős / ellátásért felelősök képviselője / víziközmű-szolgáltató *
A4: Víziközmű-szolgáltató megnevezése: | K4: ÉSZAK ZALAI VÍZ- ÉS CSATORNAMŰ ZÁRTKÖRŰEN MŰKÖDŐ RÉSZVÉNYTÁRSASÁG
A5: Víziközmű-szolgáltatási ágazat megnevezése: | K5: IVÓVÍZ ÁGAZAT
A6: Véleményeltérést megfogalmazó érintett fél megnevezése:
A7: Víziközmű-rendszer kódja: ** | K7: 11-32054-1-029-02-07 | R7: ZALAEGERSZEG-IV
A9: Fontossági sorrend | B9: Beruházás megnevezése | E9: Műszaki állapot felmérés, szükségességi indoklás | H9: Vízjogi létesítési/elvi engedély száma | I9: Az érintett ellátásért felelős(ök) megnevezése | J9: Tervezett nettó költség | K9: Forrás 2025 évre | L9: Megvalósítás időtartama | N9: Tervezett időtáv | O9: A beruházás ütemezése a tervezési időszak évei szerint
E10: Jelenlegi műszaki állapot | F10: Feladat szükségessége | G10: Megvalósítást követő várható műszaki állapot | J10: (eFt) | L10: Kezdés | M10: Befejezés | N10: (rövid / közép / hosszú) | O10: 1 | P10: 2 | Q10: 3 | R10: 4 | S10: 5 | T10: 6 | U10: 7 | V10: 8 | W10: 9 | X10: 10 | Y10: 11 | Z10: 12 | AA10: 13 | AB10: 14 | AC10: 15
B11: szakág | C11: Helyszín | D11: beruházás megnevezése
A12: I. Felszín alatti vízkivétel
B13: MÉLYFÚRÁSÚ KÚT, HAGYOMÁNYOS ÁTMÉRŐVEL
B14: Épület, építmény
B17: Gép, berendezés
B19: Irányítástechnika, energiaellátás
B21: Összesen: | J21: =SUM(J12:J19) -> 0
A22: III. Vízműtelep és vízkezelő létesítmények
C23: Helyszín | D23: beruházás megnevezése
B24: VÍZMŰTELEP
B25: Épület, építmény
B27: Gép, berendezés
B29: Irányítástechnika, energiaellátás
B31: VÍZKEZELŐ LÉTESÍTMÉNYEK
B32: Épület, építmény
B34: Gép, berendezés
A35: 1 | C35: É-i vízbázis és vízműtelep kiépítése | D35: ivóvízminőség javítása és vízellátásának fejlesztése | I35: Zalaegerszeg | J35: =SUM(O35:AC35) -> 1500000 | L35: 48214 | M35: 48579 | N35: hosszú | V35: 1500000
B36: Irányítástechnika, energiaellátás
B38: Összesen | J38: =SUM(J24:J37) -> 1500000
A39: IV. Vízelosztás
C40: Helyszín | D40: beruházás megnevezése
B41: IVÓVÍZHÁLÓZAT
B42: Épület, építmény
B44: Irányítástechnika, energiaellátás
B46: Összesen | J46: =SUM(J43:J45) -> 0
B47: VÍZTÁROLÓK
B48: Épület, építmény
B49: Gép, berendezés
B51: Irányítástechnika, energiaellátás
B53: NYOMÁSFOKOZÓK
B54: Épület, építmény
B55: Gép, berendezés
B57: Irányítástechnika, energiaellátás
J58: =SUM(J47:J57) -> 0
B59: Összesen: | J59: =SUM(J21+J38+J46) -> 1500000 | K59: =SUM(C63:C63) -> 0 | O59: =SUM(O12:O58) -> 0 | P59: =SUM(P12:P58) -> 0 | Q59: =SUM(Q12:Q58) -> 0 | R59: =SUM(R12:R58) -> 0 | S59: =SUM(S12:S58) -> 0 | T59: =SUM(T12:T58) -> 0 | U59: =SUM(U12:U58) -> 0 | V59: =SUM(V12:V58) -> 1500000 | ... AC59: =SUM(AC12:AC58) -> 0
B62: Tervezett feladatok nettó költsége a teljes ütem tekintetében (eFt) | C62: Rendelkezésre álló források számszerűsített értéke a teljes ütem tekintetében (eFt) | D62: Forrás megnevezése a teljes ütem tekintetében
A63: I. ütem | B63: =SUM(O59) -> 0 | C63: =O59 -> 0 | D63: Fejlesztési díj (2025)
A64: II. ütem | B64: =SUM(P59:S59) -> 0 | C64: 0 | D64: Fejlesztési díj (2026-2029)
A65: III. ütem | B65: =SUM(T59:AC59) -> 1500000 | C65: 1500000 | D65: Fejlesztési díj (2030-2039)

Sheet Zalaszentgyörgy
A1: Gördülő fejlesztési terv a 2025 - 2039 időszakra
A2: BERUHÁZÁSOK ÖSSZEFOGLALÓ TÁBLÁZATA
A3: A tervet benyújtó szervezet megnevezése: | K3: ZALASZENTGYÖRGY | R3: ellátásért felelős / ellátásért felelősök képviselője / víziközmű-szolgáltató *
A4: Víziközmű-szolgáltató megnevezése: | K4: ÉSZAK ZALAI VÍZ- ÉS CSATORNAMŰ ZÁRTKÖRŰEN MŰKÖDŐ RÉSZVÉNYTÁRSASÁG
A5: Víziközmű-szolgáltatási ágazat megnevezése: | K5: IVÓVÍZ ÁGAZAT
A6: Véleményeltérést megfogalmazó érintett fél megnevezése:
A7: Víziközmű-rendszer kódja: ** | K7: 11-32054-1-029-02-07 | R7: Zalaegerszeg-IV
A9: Fontossági sorrend | B9: Beruházás megnevezése | E9: Műszaki állapot felmérés, szükségességi indoklás | H9: Vízjogi létesítési/elvi engedély száma | I9: Az érintett ellátásért felelős(ök) megnevezése | J9: Tervezett nettó költség | K9: Forrás 2025 évre | L9: Megvalósítás időtartama | N9: Tervezett időtáv | O9: A beruházás ütemezése a tervezési időszak évei szerint
E10: Jelenlegi műszaki állapot | F10: Feladat szükségessége | G10: Megvalósítást követő várható műszaki állapot | J10: (eFt) | L10: Kezdés | M10: Befejezés | N10: (rövid / közép / hosszú) | O10: 1 | P10: 2 | Q10: 3 | R10: 4 | S10: 5 | T10: 6 | U10: 7 | V10: 8 | W10: 9 | X10: 10 | Y10: 11 | Z10: 12 | AA10: 13 | AB10: 14 | AC10: 15
B11: szakág | C11: Helyszín | D11: beruházás megnevezése
A12: I. Felszín alatti vízkivétel
B13: MÉLYFÚRÁSÚ KÚT, HAGYOMÁNYOS ÁTMÉRŐVEL
B14: Épület, építmény
B16: Gép, berendezés
B18: Irányítástechnika, energiaellátás
B20: Összesen: | J20: =SUM(J12:J19) -> 0
A21: III. Vízműtelep és vízkezelő létesítmények
C22: Helyszín | D22: beruházás megnevezése
B23: VÍZMŰTELEP
B24: Épület, építmény
B26: Gép, berendezés
B28: Irányítástechnika, energiaellátás
B30: VÍZKEZELŐ LÉTESÍTMÉNYEK
B31: Épület, építmény
B33: Gép, berendezés
B35: Irányítástechnika, energiaellátás
B37: Összesen | J37: =SUM(J23:J36) -> 0
A38: IV. Vízelosztás
C39: Helyszín | D39: beruházás megnevezése
B40: IVÓVÍZHÁLÓZAT
B41: Épület, építmény
B43: Gép, berendezés
B45: Irányítástechnika, energiaellátás
B47: VÍZTÁROLÓK
B48: Épület, építmény
B50: Gép, berendezés
B52: Irányítástechnika, energiaellátás
B54: NYOMÁSFOKOZÓK
B55: Épület, építmény
B57: Gép, berendezés
B59: Irányítástechnika, energiaellátás
B61: Összesen: | J61: =SUM(J40:J60) -> 0 | K61: 0 | O61: =SUM(O12:O60) -> 0 | P61: =SUM(P12:P60) -> 0 | Q61: =SUM(Q12:Q60) -> 0 | R61: =SUM(R12:R60) -> 0 | S61: =SUM(S12:S60) -> 0 | T61: =SUM(T12:T60) -> 0 | U61: =SUM(U12:U60) -> 0 | V61: =SUM(V12:V60) -> 0 | ... AC61: =SUM(AC12:AC60) -> 0
B64: Tervezett feladatok nettó költsége a teljes ütem tekintetében (eFt) | C64: Rendelkezésre álló források számszerűsített értéke a teljes ütem tekintetében (eFt) | D64: Forrás megnevezése a teljes ütem tekintetében
A65: I. ütem | B65: =SUM(O61) -> 0 | C65: =K61 -> 0 | D65: Fejlesztési díj (2025)
A66: II. ütem | B66: =SUM(P61:S61) -> 0 | C66: =C65*4 -> 0 | D66: Fejlesztési díj (2026-2029)
A67: III. ütem | B67: =SUM(T61:AC61) -> 0 | C67: =C65*10 -> 0 | D67: Fejlesztési díj (2030-2039)
B70: Jelenleg beruházási igény nem ismert, nincs rendelkezésre álló forrás beruházásra.

Sheet Zalaszentiván
A1: Gördülő fejlesztési terv a 2025 - 2039 időszakra
A2: BERUHÁZÁSOK ÖSSZEFOGLALÓ TÁBLÁZATA
A3: A tervet benyújtó szervezet megnevezése: | K3: ZALASZENTIVÁN | R3: ellátásért felelős / ellátásért felelősök képviselője / víziközmű-szolgáltató *
A4: Víziközmű-szolgáltató megnevezése: | K4: ÉSZAK ZALAI VÍZ- ÉS CSATORNAMŰ ZÁRTKÖRŰEN MŰKÖDŐ RÉSZVÉNYTÁRSASÁG
A5: Víziközmű-szolgáltatási ágazat megnevezése: | K5: IVÓVÍZ ÁGAZAT
A6: Véleményeltérést megfogalmazó érintett fél megnevezése:
A7: Víziközmű-rendszer kódja: ** | K7: 11-32054-1-029-02-07 | R7: Zalaegerszeg-IV
A9: Fontossági sorrend | B9: Beruházás megnevezése | E9: Műszaki állapot felmérés, szükségességi indoklás | H9: Vízjogi létesítési/elvi engedély száma | I9: Az érintett ellátásért felelős(ök) megnevezése | J9: Tervezett nettó költség | K9: Forrás 2025 évre | L9: Megvalósítás időtartama | N9: Tervezett időtáv | O9: A beruházás ütemezése a tervezési időszak évei szerint
E10: Jelenlegi műszaki állapot | F10: Feladat szükségessége | G10: Megvalósítást követő várható műszaki állapot | J10: (eFt) | L10: Kezdés | M10: Befejezés | N10: (rövid / közép / hosszú) | O10: 1 | P10: 2 | Q10: 3 | R10: 4 | S10: 5 | T10: 6 | U10: 7 | V10: 8 | W10: 9 | X10: 10 | Y10: 11 | Z10: 12 | AA10: 13 | AB10: 14 | AC10: 15
B11: szakág | C11: Helyszín | D11: beruházás megnevezése
A12: I. Felszín alatti vízkivétel
B13: MÉLYFÚRÁSÚ KÚT, HAGYOMÁNYOS ÁTMÉRŐVEL
B14: Épület, építmény
B16: Gép, berendezés
B18: Irányítástechnika, energiaellátás
B20: Összesen: | J20: =SUM(J12:J19) -> 0
A21: III. Vízműtelep és vízkezelő létesítmények
C22: Helyszín | D22: beruházás megnevezése
B23: VÍZMŰTELEP
B24: Épület, építmény
B26: Gép, berendezés
B28: Irányítástechnika, energiaellátás
B30: VÍZKEZELŐ LÉTESÍTMÉNYEK
B31: Épület, építmény
B33: Gép, berendezés
B35: Irányítástechnika, energiaellátás
B37: Összesen | J37: =SUM(J23:J36) -> 0
A38: IV. Vízelosztás
C39: Helyszín | D39: beruházás megnevezése
B40: IVÓVÍZHÁLÓZAT
B41: Épület, építmény
B43: Gép, berendezés
B45: Irányítástechnika, energiaellátás
B47: VÍZTÁROLÓK
B48: Épület, építmény
B50: Gép, berendezés
B52: Irányítástechnika, energiaellátás
B54: NYOMÁSFOKOZÓK
B55: Épület, építmény
B57: Gép, berendezés
B59: Irányítástechnika, energiaellátás
B61: Összesen: | J61: =SUM(J40:J60) -> 0 | K61: 0 | O61: =SUM(O12:O60) -> 0 | P61: =SUM(P12:P60) -> 0 | Q61: =SUM(Q12:Q60) -> 0 | R61: =SUM(R12:R60) -> 0 | S61: =SUM(S12:S60) -> 0 | T61: =SUM(T12:T60) -> 0 | U61: =SUM(U12:U60) -> 0 | V61: =SUM(V12:V60) -> 0 | ... AC61: =SUM(AC12:AC60) -> 0
B64: Tervezett feladatok nettó költsége a teljes ütem tekintetében (eFt) | C64: Rendelkezésre álló források számszerűsített értéke a teljes ütem tekintetében (eFt) | D64: Forrás megnevezése a teljes ütem tekintetében
A65: I. ütem | B65: =SUM(O61) -> 0 | C65: =K61 -> 0 | D65: Fejlesztési díj (2025)
A66: II. ütem | B66: =SUM(P61:S61) -> 0 | C66: =C65*4 -> 0 | D66: Fejlesztési díj (2026-2029)
A67: III. ütem | B67: =SUM(T61:AC61) -> 0 | C67: =C65*10 -> 0 | D67: Fejlesztési díj (2030-2039)

Sheet Zalaszentlőrinc
A1: Gördülő fejlesztési terv a 2025 - 2039 időszakra
A2: BERUHÁZÁSOK ÖSSZEFOGLALÓ TÁBLÁZATA
A3: A tervet benyújtó szervezet megnevezése: | K3: ZALASZENTLŐRINC | R3: ellátásért felelős / ellátásért felelősök képviselője / víziközmű-szolgáltató *
A4: Víziközmű-szolgáltató megnevezése: | K4: ÉSZAK ZALAI VÍZ- ÉS CSATORNAMŰ ZÁRTKÖRŰEN MŰKÖDŐ RÉSZVÉNYTÁRSASÁG
A5: Víziközmű-szolgáltatási ágazat megnevezése: | K5: IVÓVÍZ ÁGAZAT
A6: Véleményeltérést megfogalmazó érintett fél megnevezése:
A7: Víziközmű-rendszer kódja: ** | K7: 11-32054-1-029-02-07 | R7: Zalaegerszeg-IV
A9: Fontossági sorrend | B9: Beruházás megnevezése | E9: Műszaki állapot felmérés, szükségességi indoklás | H9: Vízjogi létesítési/elvi engedély száma | I9: Az érintett ellátásért felelős(ök) megnevezése | J9: Tervezett nettó költség | K9: Forrás 2025 évre | L9: Megvalósítás időtartama | N9: Tervezett időtáv | O9: A beruházás ütemezése a tervezési időszak évei szerint
E10: Jelenlegi műszaki állapot | F10: Feladat szükségessége | G10: Megvalósítást követő várható műszaki állapot | J10: (eFt) | L10: Kezdés | M10: Befejezés | N10: (rövid / közép / hosszú) | O10: 1 | P10: 2 | Q10: 3 | R10: 4 | S10: 5 | T10: 6 | U10: 7 | V10: 8 | W10: 9 | X10: 10 | Y10: 11 | Z10: 12 | AA10: 13 | AB10: 14 | AC10: 15
B11: szakág | C11: Helyszín | D11: beruházás megnevezése
A12: I. Felszín alatti vízkivétel
B13: MÉLYFÚRÁSÚ KÚT, HAGYOMÁNYOS ÁTMÉRŐVEL
B14: Épület, építmény
B16: Gép, berendezés
B18: Irányítástechnika, energiaellátás
B20: Összesen: | J20: =SUM(J12:J19) -> 0
A21: III. Vízműtelep és vízkezelő létesítmények
C22: Helyszín | D22: beruházás megnevezése
B23: VÍZMŰTELEP
B24: Épület, építmény
B26: Gép, berendezés
B28: Irányítástechnika, energiaellátás
B30: VÍZKEZELŐ LÉTESÍTMÉNYEK
B31: Épület, építmény
B33: Gép, berendezés
B35: Irányítástechnika, energiaellátás
B37: Összesen | J37: =SUM(J23:J36) -> 0
A38: IV. Vízelosztás
C39: Helyszín | D39: beruházás megnevezése
B40: IVÓVÍZHÁLÓZAT
B41: Épület, építmény
B43: Gép, berendezés
B45: Irányítástechnika, energiaellátás
B47: VÍZTÁROLÓK
B48: Épület, építmény
B50: Gép, berendezés
B52: Irányítástechnika, energiaellátás
B54: NYOMÁSFOKOZÓK
B55: Épület, építmény
B57: Gép, berendezés
B59: Irányítástechnika, energiaellátás
B61: Összesen: | J61: =SUM(J40:J60) -> 0 | K61: 0 | O61: =SUM(O12:O60) -> 0 | P61: =SUM(P12:P60) -> 0 | Q61: =SUM(Q12:Q60) -> 0 | R61: =SUM(R12:R60) -> 0 | S61: =SUM(S12:S60) -> 0 | T61: =SUM(T12:T60) -> 0 | U61: =SUM(U12:U60) -> 0 | V61: =SUM(V12:V60) -> 0 | ... AC61: =SUM(AC12:AC60) -> 0
B64: Tervezett feladatok nettó költsége a teljes ütem tekintetében (eFt) | C64: Rendelkezésre álló források számszerűsített értéke a teljes ütem tekintetében (eFt) | D64: Forrás megnevezése a teljes ütem tekintetében
A65: I. ütem | B65: =SUM(O61) -> 0 | C65: =K61 -> 0 | D65: Fejlesztési díj (2025)
A66: II. ütem | B66: =SUM(P61:S61) -> 0 | C66: =C65*4 -> 0 | D66: Fejlesztési díj (2026-2029)
A67: III. ütem | B67: =SUM(T61:AC61) -> 0 | C67: =C65*10 -> 0 | D67: Fejlesztési díj (2030-2039)

Sheet VKR_összesítő
A1: Gördülő fejlesztési terv a 2025 - 2039 időszakra
A2: BERUHÁZÁSOK ÖSSZEFOGLALÓ TÁBLÁZATA
A3: A tervet benyújtó szervezet megnevezése: | K3: ALIBÁNFA, BABOSDÖBRÉTE, BOCFÖLDE, BÖDE, CSATÁR, HOTTÓ, KISKUTAS, NAGYKUTAS, SÁRHIDA, TESKÁND, ZALAEGERSZEG, BAGOD, BONCODFÖLDE, HAGYÁROSBÖRÖND, KÁVÁS, ZALABOLDOGFA, ZALASZENTGYÖRGY, CSONKAHEGYHÁT, DOBRONHEGY, MILEJSZEG, NÉMETFALU, PÁLFISZEG, PETHŐHENYE, BECSVÖLGYE, KUSTÁNSZEG, KISPÁLI, NAGYPÁLI,ZALASZENTIVÁN, ZALASZENTLŐRINC | R3: ellátásért felelős / ellátásért felelősök képviselője / víziközmű-szolgáltató *
A4: Víziközmű-szolgáltató megnevezése: | K4: ÉSZAK ZALAI VÍZ- ÉS CSATORNAMŰ ZÁRTKÖRŰEN MŰKÖDŐ RÉSZVÉNYTÁRSASÁG
A5: Víziközmű-szolgáltatási ágazat megnevezése: | K5: IVÓVÍZ ÁGAZAT
A6: Véleményeltérést megfogalmazó érintett fél megnevezése:
A7: Víziközmű-rendszer kódja: ** | K7: 11-32054-1-029-02-07 | R7: ZALAEGERSZEG-IV
A9: Fontossági sorrend | B9: Beruházás megnevezése | E9: Műszaki állapot felmérés, szükségességi indoklás | H9: Vízjogi létesítési/elvi engedély száma | I9: Az érintett ellátásért felelős(ök) megnevezése | J9: Tervezett nettó költség | K9: Forrás 2025 évre | L9: Megvalósítás időtartama | N9: Tervezett időtáv | O9: A beruházás ütemezése a tervezési időszak évei szerint
E10: Jelenlegi műszaki állapot | F10: Feladat szükségessége | G10: Megvalósítást követő várható műszaki állapot | J10: (eFt) | L10: Kezdés | M10: Befejezés | N10: (rövid / közép / hosszú) | O10: 1 | P10: 2 | Q10: 3 | R10: 4 | S10: 5 | T10: 6 | U10: 7 | V10: 8 | W10: 9 | X10: 10 | Y10: 11 | Z10: 12 | AA10: 13 | AB10: 14 | AC10: 15
B11: szakág | C11: Helyszín | D11: beruházás megnevezése
A12: I. Felszín alatti vízkivétel
B13: MÉLYFÚRÁSÚ KÚT, HAGYOMÁNYOS ÁTMÉRŐVEL
B14: Épület, építmény
B17: Gép, berendezés
B19: Irányítástechnika, energiaellátás
B21: Összesen: | J21: =SUM(J13:J19) -> 0
A22: III. Vízműtelep és vízkezelő létesítmények
C23: Helyszín | D23: beruházás megnevezése
B24: VÍZMŰTELEP
B25: Épület, építmény
B27: Gép, berendezés
B29: Irányítástechnika, energiaellátás
B31: VÍZKEZELŐ LÉTESÍTMÉNYEK
B32: Épület, építmény
B34: Gép, berendezés
A35: =Zalaegerszeg!A35 -> 1 | C35: =Zalaegerszeg!C35 -> É-i vízbázis és vízműtelep kiépítése | D35: =Zalaegerszeg!D35 -> ivóvízminőség javítása és vízellátásának fejlesztése | I35: =Zalaegerszeg!I35 -> Zalaegerszeg | J35: =Zalaegerszeg!J35 -> 1500000 | L35: =Zalaegerszeg!L35 -> 48214 | M35: =Zalaegerszeg!M35 -> 48579 | N35: =Zalaegerszeg!N35 -> hosszú | V35: =Zalaegerszeg!V35 -> 1500000
B36: Irányítástechnika, energiaellátás
B38: Összesen | J38: =SUM(J24:J37) -> 1500000
A39: IV. Vízelosztás
C40: Helyszín | D40: beruházás megnevezése
B41: IVÓVÍZHÁLÓZAT
B42: Épület, építmény
B44: Gép, berendezés
B46: Irányítástechnika, energiaellátás
B48: Összesen | J48: =SUM(J41:J47) -> 0
B49: VÍZTÁROLÓK
B50: Épület, építmény
B52: Gép, berendezés
B54: Irányítástechnika, energiaellátás
B56: NYOMÁSFOKOZÓK
B57: Épület, építmény
B59: Gép, berendezés
B61: Irányítástechnika, energiaellátás
J62: =SUM(J49:J61) -> 0
B63: Összesen: | J63: =SUM(J21+J38+J48+J62) -> 1500000 | K63: =SUM(C67:C67) -> 0 | O63: =SUM(O12:O62) -> 0 | P63: =SUM(P12:P62) -> 0 | Q63: =SUM(Q12:Q62) -> 0 | R63: =SUM(R12:R62) -> 0 | S63: =SUM(S12:S62) -> 0 | T63: =SUM(T12:T62) -> 0 | U63: =SUM(U12:U62) -> 0 | V63: =SUM(V12:V62) -> 1500000 | ... AC63: =SUM(AC12:AC62) -> 0
K64: Beruházásra a forrás biztosított
B66: Tervezett feladatok nettó költsége a teljes ütem tekintetében (eFt) | C66: Rendelkezésre álló források számszerűsített értéke a teljes ütem tekintetében (eFt) | D66: Forrás megnevezése a teljes ütem tekintetében
A67: I. ütem | B67: =SUM(O63) -> 0 | C67: =Zalaegerszeg!C63 -> 0 | D67: Fejlesztési díj (2025)
A68: II. ütem | B68: =SUM(P63:S63) -> 0 | C68: =Zalaegerszeg!C64 -> 0 | D68: Fejlesztési díj (2026-2029)
A69: III. ütem | B69: =SUM(T63:AC63) -> 1500000 | C69: =Babosdöbréte!C67+Bagod!C67+Becsvölgye!C67+Bocfölde!C67+Boncodfölde!C67+Böde!C67+Csatár!C67+Csonkahegyhát!C67+Dobronhegy!C67+Hagyárosbörönd!C67+Hottó!C67+Kávás!C67+Kiskutas!C67+Kispáli!C67+Kustánszeg!C67+Milejszeg!C67+Nagykutas!C67+Nagypáli!C67+Németfalu!C67+Pálfiszeg!C67+Sárhida!C67+Teskánd!C67+Zalaboldogfa!C67+Zalaegerszeg!C65+Zalaszentgyörgy!C67 -> 1500000 | D69: Fejlesztési díj (2030-2039)
