Workbook
Name _GoBack: '2'!#REF!

Sheet 1
B1: 2024. évi eredeti előirányzat | C1: 2024. évi várható adat (módosított ei.) | D1: 2025. évi eredeti előirányzat | F1: Megnevezés | G1: 2024. évi eredeti előirányzat | H1: 2024. évi várható adat (módosított ei.) | I1: 2025. évi eredeti előirányzat
A2: I. Működési célú bevételek | F2: I. Működési célú kiadások
A3: 1.) Működési célú támogatások államháztartáson belülről | B3: 7168275 | C3: 8417487 | D3: 8103587 | F3: 1.) Költségvetési szervek kiadásai | G3: 11002033 | H3: 11944461 | I3: 12211496
A4: 2.) Közhatalmi bevételek | B4: 8396600 | C4: 8463968 | D4: 9347900 | F4: 2.) Önkormányzat szakosztályainak kiadásai | G4: 7465786 | H4: 7908118 | I4: 7350700
A5: 3.) Működési bevételek | B5: 3787697 | C5: 4621781 | D5: 4395669 | F5: 3.) Egyéb működési célú kiadások (költségvetési szervek és tartalék nélkül) | G5: 5800465 | H5: 6379850 | I5: 6030945
A6: 4.) Működési célú átvett pénzeszközök | C6: 71331 | F6: 4.) Céltartalékból működésre | G6: 737266 | H6: 232621 | I6: 436014
A7: Költségvetési műk. bevételei összesen: | B7: =SUM(B3+B4+B5+B6) -> 19352572 | C7: =SUM(C3+C4+C5+C6) -> 21574567 | D7: =SUM(D3+D4+D5+D6) -> 21847156 | F7: 5.) Általános tartalék | G7: 10000 | H7: 501 | I7: 10000
A8: Finanszírozási bevételek | F8: Költségvetési műk. kiadásai összesen: | G8: =SUM(G2:G7) -> 25015550 | H8: =SUM(H2:H7) -> 26465551 | I8: =SUM(I2:I7) -> 26039155
A9: 5.) Előző év költségvetési maradványának igénybevétele | B9: 4196341 | C9: 3396838 | D9: 2592710 | F9: 6.) Egyéb finanszírozási kiadás (államháztartáson belüli megelőlegezés visszafizetése) | G9: 192363 | H9: 198930 | I9: 200711
A10: 6.) Forgatási célú értékpapír beváltás | B10: 1659000 | C10: 1686509 | D10: 1800000
A11: 7.) Államháztartáson belüli megelőlegezések | C11: 6567
A12: MŰKÖDÉSI CÉLÚ BEVÉTELEK ÖSSZ: | B12: =SUM(B7:B11) -> 25207913 | C12: =SUM(C7:C11) -> 26664481 | D12: =SUM(D7:D11) -> 26239866 | F12: MŰKÖDÉSI CÉLÚ KIADÁSOK ÖSSZ.: | G12: =SUM(G8:G9) -> 25207913 | H12: =SUM(H8:H9) -> 26664481 | I12: =SUM(I8:I9) -> 26239866
A13: II. Felhalmozási célú bevételek | F13: II. Felhalmozási célú kiadások
A14: 1.) Felhalmozási célú támogatások államháztartáson belülről | B14: 5176865 | C14: 4452389 | D14: 1665620 | F14: 1.) Egyéb felhalmozási célú kiadások | G14: 1621765 | H14: 2393578 | I14: 575452
A15: 2.) Felhalmozási bevételek | B15: 638495 | C15: 600663 | D15: 214221 | F15: ebből: költségvetési szervek
A16: 3.) Közhatalmi bevételek | B16: 50000 | C16: 50000 | D16: 30000 | F16: 2.) Beruházás | G16: 11719241 | H16: 10635612 | I16: 7130360
A17: 4.) Felhalmozási célú átvett pénzeszközök | B17: 2000 | C17: 60216 | D17: 15224 | F17: ebből: költségvetési szervek | G17: 194654 | H17: 293481 | I17: 128132
A18: 5.) Fejlesztéshez működési jellegű bevétel (HD, áfa visszaigénylés) | B18: 1156437 | C18: 1733523 | D18: 757769 | F18: 3.) Felújítás | G18: 3668021 | H18: 5074851 | I18: 2940784
A19: Költségvetési felhalm. bevételei összesen: | B19: =SUM(B14:B18) -> 7023797 | C19: =SUM(C14:C18) -> 6896791 | D19: =SUM(D14:D18) -> 2682834 | F19: ebből: költségvetési szervek | G19: 15001 | H19: 63969 | I19: 16955
A20: Finanszírozási bevételek | F20: 4.) Céltartalék | G20: 866355 | H20: 720109 | I20: 420571
A21: 6.) Hitel felvétel | F21: 5.)Fejlesztési hitel kamata | G21: 119109 | H21: 97615 | I21: 79109
A22: 7.) Előző év költségvetési maradványának igénybevétele | B22: 4247902 | C22: 5282182 | D22: 4491781 | F22: Költségvetési felh.célú kiadásai összesen: | G22: =SUM(G14+G16+G18+G20+G21) -> 17994491 | H22: =SUM(H14+H16+H18+H20+H21) -> 18921765 | I22: =SUM(I14+I16+I18+I20+I21) -> 11146276
A23: 8.) Forgatási célú értékpapír beváltás | B23: 6840644 | C23: 6860644 | D23: 4089513 | F23: Finanszírozási kiadások
F24: 6.) Hitel- és kölcsön törlesztések | G24: 117852 | H24: 117852 | I24: 117852
A25: FELHALMOZÁSI CÉLÚ BEVÉTELEK ÖSSZESEN: | B25: =SUM(B19:B24) -> 18112343 | C25: =SUM(C19:C24) -> 19039617 | D25: =SUM(D19:D24) -> 11264128 | F25: FELHALMOZÁSI CÉLÚ KIADÁSOK ÖSSZESEN: | G25: =SUM(G22:G24) -> 18112343 | H25: =SUM(H22:H24) -> 19039617 | I25: =SUM(I22:I24) -> 11264128
A26: ÖNKORMÁNYZAT ÖSSZESEN: | B26: =SUM(B12+B25) -> 43320256 | C26: =SUM(C12+C25) -> 45704098 | D26: =SUM(D12+D25) -> 37503994 | F26: ÖNKORMÁNYZAT ÖSSZESEN: | G26: =SUM(G12+G25) -> 43320256 | H26: =SUM(H12+H25) -> 45704098 | I26: =SUM(I12+I25) -> 37503994
A27: 9.) Forgatási célú értékpapír beváltás projektekhez kapcsolódóan | B27: 5205000 | C27: 7205000 | D27: 5000000 | F27: 7.) Forgatási célú értékpapír vásárlás hazai forrásból átmenetileg szabad pénzeszközökből | G27: 5205000 | H27: 7205000 | I27: 5000000
A28: MINDÖSSZESEN: | B28: =SUM(B26:B27) -> 48525256 | C28: =SUM(C26:C27) -> 52909098 | D28: =SUM(D26:D27) -> 42503994 | F28: MINDÖSSZESEN: | G28: =SUM(G26:G27) -> 48525256 | H28: =SUM(H26:H27) -> 52909098 | I28: =SUM(I26:I27) -> 42503994

Sheet 2
A1: Rovat száma | B1: Megnevezés | C1: 2025. évi eredeti előirányzat
A2: B | B2: BEVÉTELEK
A3: B1 | B3: Működési célú támogatások államháztartáson belülről
A4: B11 | B4: Önkormányzatok működési támogatásai | C4: 6519307
A5: B14 | B5: Működési célú visszatérítendő támogatások, kölcsönök visszatérülése államháztartáson belülről | C5: 35700
A6: B16 | B6: Egyéb működési célú támogatások bevételei államháztartáson belülről | C6: 1548580
B7: Működési célú támogatások államháztartáson belülről összesen | C7: =SUM(C4:C6) -> 8103587
A8: B2 | B8: Felhalmozási célú támogatások államháztartáson belülről
A9: B21 | B9: Felhalmozási célú önkormányzati támogatás
A10: B25 | B10: Egyéb felhalmozási célú támogatások bevételei államháztartáson belülről | C10: 1665620
B11: Felhalmozási célú támogatások államháztartáson belülről összesen | C11: =SUM(C9:C10) -> 1665620
A12: B3 | B12: Közhatalmi bevételek
A13: B34 | B13: Vagyoni típusú adók (építményadó, magánszemélyek kommunális adója) | C13: 1601000
A14: B35 | B14: Termékek és szolgáltatások adói
A15: B351 | B15: Értékesítési és forgalmi adók (iparűzési adó) | C15: 7630000
A16: B355 | B16: Egyéb áruhasználati és szolgáltatási adók ( idegenforgalmi adó) | C16: 40000
A17: B36 | B17: Egyéb közhatalmi bevételek (különféle bírságok, talajterhelési díj) | C17: 106900
B18: Közhatalmi bevételek összesen | C18: =SUM(C12:C17) -> 9377900
A19: B4 | B19: Működési bevételek | C19: 5153438
A20: B5 | B20: Felhalmozási bevételek
A21: B52 | B21: Ingatlanok értékesítése | C21: 214221
A22: B53 | B22: Egyéb tárgyi eszközök értékesítése
B23: Felhalmozási bevételek összesen | C23: =SUM(C21:C22) -> 214221
A24: B6 | B24: Működési célú átvett pénzeszközök
A25: B7 | B25: Felhalmozási célú átvett pénzeszközök
A26: B74 | B26: Felhalmozási célú visszatérítendő támogatások, kölcsönök visszatérülése államháztartáson kívülről | C26: 15224
A27: B75 | B27: Egyéb felhalmozási célú átvett pénzeszközök
B28: Felhalmozási célú átvett pénzeszközök összesen | C28: =SUM(C26:C27) -> 15224
A29: B1-B7 | B29: Költségvetési bevételek | C29: =SUM(C7+C11+C18+C19+C23+C24+C28) -> 24529990
A30: B8 | B30: Finanszírozási bevételek
A31: B81 | B31: Belföldi finanszírozás bevételei
A32: B811 | B32: Hitel-, kölcsönfelvétel államháztartáson kívülről
A33: B8121 | B33: Forgatási célú belföldi értékpapírok beváltása, értékesítése | C33: 10889513
A34: B813 | B34: Maradvány igénybevétele | C34: 7084491
B35: Finanszírozási bevételek összesen | C35: =SUM(C32:C34) -> 17974004
B36: BEVÉTELEK ÖSSZESEN: | C36: =SUM(C29+C35) -> 42503994

Sheet 3
B1: Mutató | D1: 2025. tervezett bevétel
A2: Hozzájárulás jogcíme | B2: lakosságszám | C2: mutató | D2: Normatíva Ft/fő | E2: Hozzájárulás ezer Ft-ban | F2: Forintban
A3: 2. melléklet szerinti jogcímek
A4: 1.1. Települési önkormányzatok működésének általános támogatása
A5: 1.1.1.1. önkormányzati hivatal működésének támogatása - elismert hivatali létszám alapján | B5: 54752 | C5: 126.66 | D5: 6633500 | E5: 840199 | F5: 840199110 | G5: februárban még változik
A6: Település-üzemeltetéshez kapcsolódó feladataellátás támogatása
A7: 1.1.1.2. zöldterület-gazdálkodás támogatása (hektár) | C7: 23950.2 | D7: 26000 | E7: 62275 | F7: 62275200
A8: 1.1.1.3. közvilágítás támogatása (km) | C8: 408.5 | D8: 425000 | E8: 173613 | F8: 173612500
A9: 1.1.1.4. köztemető támogatása (m²) | C9: 321768 | D9: 85 | E9: 27350 | F9: 27350280
A10: 1.1.1.5. közutak támogatása (km) | C10: 203.003 | D10: 485000 | E10: 98456 | F10: 98456455
A11: 1.1.1.6. egyéb önkormányzati feladatok támogatása | B11: 54297 | D11: 2800 | E11: 152032 | F11: 152031600
A12: 1.1.1.7. Lakott külterülettel kapcsolatos feladatok támogatása | B12: 4951 | D12: 2550 | E12: 12625 | F12: 12625050
A13: 1.2. Óvodaműködtetési támogatás
A14: 1.2.1.1. Óvodaműködtetési támogatás | C14: 1302.7 | D14: 172374 | E14: 224552 | F14: 224551610
A15: 1.2.2.1. Az óvodában foglalkoztatott pedagógusok átlagbéralapú támogatása | C15: 119.9 | D15: 8372000 | E15: 1003803 | F15: 1003802800
A16: -pedagógusok 2025. január 1-jei béremeléséhez | C16: 119.9 | D16: 1775000 | E16: 212822 | F16: 212822500
A17: 1.2.3. Kiegészítő támogatás az óvodapedagógusok minősítéséből adódó többletkiadásokhoz
A18: 1.2.3.1.1.1.1. Pedagógus II. kategóriába sorolt pedagógusok kiegészítő támogatása | C18: 44 | D18: 717000 | E18: 31548 | F18: 31548000
A19: 1.2.3.1.1.1.2. Pedagógus II. kategóriába sorolt óvodapedagógusok kiegészítő támogatása, akik a minősítés 2020. jan-1-jei átsorolással szerezték meg | D19: 363642
A20: -pedagógusok 2025. január 1-jei béremeléséhez | C20: 44 | D20: 152000 | E20: 6688 | F20: 6688000
A21: 1.2.3.1.1.1.2. Mesterpedagógus, kutatótanár kategóriába sorolt pedagógusok kiegészítő támogatása | C21: 2 | D21: 2674000 | E21: 5348 | F21: 5348000
A22: -pedagógusok 2025. január 1-jei béremeléséhez | C22: 2 | D22: 567000 | E22: 1134 | F22: 1134000
A23: 1.2.3.1.1.2.1. Mesterfokozatú végzettségű pedagógus II.kategóriába sorolt pedagógusok kiegészítő támogatása | C23: 1 | D23: 864000 | E23: 864 | F23: 864000
A24: -pedagógusok 2025. január 1-jei béremeléséhez | C24: 1 | D24: 183000 | E24: 183 | F24: 183000
A25: 1.2.5.1.1. Az óvodában foglalkoztatott pedagógusok nevelőmunkáját közvetlenük segítők átlagbéralapú támogatása | C25: 82 | D25: 5268000 | E25: 431976 | F25: 431976000
A26: 1.3.2.Szociális és gyermekjóléti alapszolgáltatás feladatai
A27: 1.3.2.1. Család és gyermekjóléti szolgálat | C27: 8.3 | D27: 6643100 | E27: 55138 | F27: 55137730 | G27: februárban még változik
A28: 1.3.2.2. Család- és gyermekjóléti központ ( járáshoz tartozó összes településre) | C28: 22.6 | D28: 6770000 | E28: 153002 | F28: 153002000
A29: 1.3.2.2. Család- és gyermekjóléti központ kiegészítés a kijelölt intézmény esetében | C29: 1 | D29: 15000000 | E29: 15000 | F29: 15000000
A30: 1.3.2.2.2. Óvodai és iskolai szociális segítő tevékenység támogatása | C30: 13726 | D30: 5255 | E30: 72130 | F30: 72130130
A31: 1.3.2.3.2. Szociális étkeztetés - társulás által történő feladatellátás | C31: 310 | D31: 97410 | E31: 30197 | F31: 30197100
A32: 1.3.2.4. Házi segítségnyújtás
A33: 1.3.2.4.1. Szociális segítés | C33: 2 | D33: 25000 | E33: 50 | F33: 50000
A34: 1.3.2.4.3. Személyi gondozás - társulás által történő feladatellátás | C34: 50 | D34: 842600 | E34: 42130 | F34: 42130000
A35: 1.3.2.6. Időskorúak nappali intézményi ellátása társulás által történő feladatellátás | C35: 55 | D35: 558800 | E35: 30734 | F35: 30734000
A36: 1.3.2.8.2. Demens személyek nappali intézményi ellátása - társulás által történő feladatellátás | C36: 4 | D36: 1119800 | E36: 4479 | F36: 4479200
A37: 1.3.2.9.2. Pszichiátriai betegek nappali intézményi ellátása - társulás által történő feladatellátás | C37: 20 | D37: 605500 | E37: 12110 | F37: 12110000
A38: 1.3.2.10.2. Szenvedélybetegek nappali intézményi ellátása - társulás által történő feladatellátás | C38: 8 | D38: 579400 | E38: 4635 | F38: 4635200
A39: 1.3.3. Bölcsőde, mini böcsőde támogatása
A40: 1.3.3.1. Bölcsődei bértámogatás
...

Sheet 4
A1: Rovat száma | B1: Megnevezés | C1: 2025. évi terv
B2: Költségvetési kiadások
A3: K1 | B3: Személyi juttatások | C3: ='7'!D17 -> 7656349
A4: K2 | B4: Munkaadókat terhelő járulékok és szociális hj. adó | C4: ='7'!E17 -> 1117509
A5: K3 | B5: Dologi kiadások | C5: ='7'!F17 -> 10698899
A6: K4 | B6: Ellátottak pénzbeli juttatásai | C6: ='7'!G17 -> 132608
A7: K5 | B7: Egyéb működési célú kiadások | C7: ='7'!H17 -> 6512899
B8: Működési költségvetés összesen: | C8: =SUM(C3:C7) -> 26118264
A9: K6 | B9: Beruházások | C9: ='7'!I17 -> 7540931
A10: K7 | B10: Felújítások | C10: ='7'!J17 -> 2950784
A11: K8 | B11: Egyéb felhalmozási célú kiadások | C11: ='7'!K17 -> 575452
B12: Felhalmozási költségvetés összesen: | C12: =SUM(C9:C11) -> 11067167
A13: K1-K8 | B13: Költségvetési kiadások összesen: | C13: =SUM(C8+C12) -> 37185431
A14: K9 | B14: Finanszírozási kiadások | C14: ='7'!L17+'7'!M17 -> 5318563
B15: Önkormányzat kiadásai összesen | C15: =SUM(C13:C14) -> 42503994

Sheet 5
A1: Cím szám | B1: Alcím szám | C1: Megnevezés | D1: Költségvetési bevételek | K1: Finanszírozási bevételek | N1: Összesen
D2: Működési célú támogatások áht-n belülről | E2: Felhalmozási célú támogatások áht-n belülről | F2: Közhatalmi bevételek | G2: Működési bevételek | H2: Felhalmozási bevételek | I2: Működési célú átvett pénzeszközök | J2: Felhalmozási célú átvett pénzeszközök | K2: Hitel-, kölcsönfelvétel áht-n kívülről | L2: Maradvány igénybevétele | M2: Egyéb finanszírozási bevétel
A3: 1 | C3: Önkormányzat
B4: 12 | C4: Szociális és igazgatási feladatok | D4: ='6'!E8 -> 0 | E4: ='6'!F8 -> 0 | F4: ='6'!G8 -> 0 | G4: ='6'!H8 -> 24381 | H4: ='6'!I8 -> 0 | I4: ='6'!J8 -> 0 | J4: ='6'!K8 -> 0 | K4: ='6'!L8 -> 0 | ... M4: ='6'!N8 -> 0 | N4: =SUM(D4:M4) -> 24381
B5: 13 | C5: Humánigazgatási feladatok | D5: ='6'!E17 -> 353500 | E5: ='6'!F17 -> 0 | F5: ='6'!G17 -> 0 | G5: ='6'!H17 -> 9101 | H5: ='6'!I17 -> 0 | I5: ='6'!J17 -> 0 | J5: ='6'!K17 -> 13224 | K5: ='6'!L17 -> 0 | ... M5: ='6'!N17 -> 0 | N5: =SUM(D5:M5) -> 375825
B6: 14 | C6: Főépítészi feladatok | D6: ='6'!E22 -> 0 | E6: ='6'!F22 -> 0 | F6: ='6'!G22 -> 0 | G6: ='6'!H22 -> 5080 | H6: ='6'!I22 -> 0 | I6: ='6'!J22 -> 0 | J6: ='6'!K22 -> 0 | K6: ='6'!L22 -> 0 | ... M6: ='6'!N22 -> 0 | N6: =SUM(D6:M6) -> 9131
B7: 15 | C7: Városüzemelési felad. | D7: ='6'!E38 -> 0 | E7: ='6'!F38 -> 0 | F7: ='6'!G38 -> 0 | G7: ='6'!H38 -> 804603 | H7: ='6'!I38 -> 0 | I7: ='6'!J38 -> 0 | J7: ='6'!K38 -> 0 | K7: ='6'!L38 -> 0 | ... M7: ='6'!N38 -> 0 | N7: =SUM(D7:M7) -> 841716
B8: 16 | C8: Városépítészeti feladatok | D8: ='6'!E66 -> 456514 | E8: ='6'!F66 -> 1665620 | F8: ='6'!G66 -> 0 | G8: ='6'!H66 -> 1377530 | H8: ='6'!I66 -> 0 | I8: ='6'!J66 -> 0 | J8: ='6'!K66 -> 0 | K8: ='6'!L66 -> 0 | ... M8: ='6'!N66 -> 4036710 | N8: =SUM(D8:M8) -> 11670857
B9: 17 | C9: Vagyonkez. feladatok | D9: ='6'!E93 -> 0 | E9: ='6'!F93 -> 0 | F9: ='6'!G93 -> 0 | G9: ='6'!H93 -> 804418 | H9: ='6'!I93 -> 214221 | I9: ='6'!J93 -> 0 | J9: ='6'!K93 -> 2000 | K9: ='6'!L93 -> 0 | ... M9: ='6'!N93 -> 52803 | N9: =SUM(D9:M9) -> 1081242
B10: 18 | C10: Jogi és közig. feladatok | D10: ='6'!E101 -> 0 | E10: ='6'!F101 -> 0 | F10: ='6'!G101 -> 95900 | G10: ='6'!H101 -> 43860 | H10: ='6'!I101 -> 0 | I10: ='6'!J101 -> 0 | J10: ='6'!K101 -> 0 | K10: ='6'!L101 -> 0 | ... M10: ='6'!N101 -> 0 | N10: =SUM(D10:M10) -> 139760
B11: 19 | C11: Pénzügyi lebonyolítás | D11: ='6'!E127 -> 6620332 | E11: ='6'!F127 -> 0 | F11: ='6'!G127 -> 9277000 | G11: ='6'!H127 -> 130570 | H11: ='6'!I127 -> 0 | I11: ='6'!J127 -> 0 | J11: ='6'!K127 -> 0 | K11: ='6'!L127 -> 0 | ... M11: ='6'!N127 -> 6800000 | N11: =SUM(D11:M11) -> 25106264
B12: 22 | C12: Polgármesteri Kabinet | D12: ='6'!E129 -> 0 | E12: ='6'!F129 -> 0 | F12: ='6'!G129 -> 0 | G12: ='6'!H129 -> 0 | H12: ='6'!I129 -> 0 | I12: ='6'!J129 -> 0 | J12: ='6'!K129 -> 0 | K12: ='6'!L129 -> 0 | ... M12: ='6'!N129 -> 0 | N12: =SUM(D12:M12) -> 0
C13: Önkormányzat összesen költségvetési szervek nélkül | D13: =SUM(D4:D12) -> 7430346 | E13: =SUM(E4:E12) -> 1665620 | F13: =SUM(F4:F12) -> 9372900 | G13: =SUM(G4:G12) -> 3199543 | H13: =SUM(H4:H12) -> 214221 | I13: =SUM(I4:I12) -> 0 | J13: =SUM(J4:J12) -> 15224 | K13: =SUM(K4:K12) -> 0 | ... M13: =SUM(M4:M12) -> 10889513 | N13: =SUM(D13:M13) -> 39249176
A14: 2 | C14: Költségvetési szervek | D14: ='9'!D21 -> 673241 | E14: ='9'!E21 -> 0 | F14: ='9'!F21 -> 5000 | G14: ='9'!G21 -> 1953895 | H14: ='9'!H21 -> 0 | I14: ='9'!I21 -> 0 | J14: ='9'!J21 -> 0 | K14: ='6'!L131 -> 0 | L14: ='9'!K21 -> 622682 | M14: ='6'!N131 -> 0 | N14: =SUM(D14:M14) -> 3254818
C15: Önkormányzat összesen: | D15: =SUM(D13:D14) -> 8103587 | E15: =SUM(E13:E14) -> 1665620 | F15: =SUM(F13:F14) -> 9377900 | G15: =SUM(G13:G14) -> 5153438 | H15: =SUM(H13:H14) -> 214221 | I15: =SUM(I13:I14) -> 0 | J15: =SUM(J13:J14) -> 15224 | K15: =SUM(K13:K14) -> 0 | ... M15: =SUM(M13:M14) -> 10889513 | N15: =SUM(D15:M15) -> 42503994

Sheet 6
A1: Cím szám | B1: Alcím szám | C1: Megnevezés | D1: Tervezési alapegység | E1: Költségvetési bevételek | L1: Finanszírozási bevételek | O1: Összesen:
E2: Működési célú támogatások áht-n belülről | F2: Felhalmozási célú támogatások áht-n belülről | G2: Közhatalmi bevételek | H2: Működési bevételek | I2: Felhalmozási bevételek | J2: Működési célú átvett pénzeszközök | K2: Felhalmozási célú átvett pénzeszközök | L2: Hitel-, kölcsönfelvétel áht-n kívülről | M2: Maradvány igénybevétele | N2: Egyéb finanszírozási bevétel
A3: 1 | C3: Önkormányzat
A4: 1 | B4: 1 | C4: Szakosztályok
A5: 1 | B5: 12 | C5: Szociális és igazgatási feladatok
C6: 011130 Önkorm. és önkorm. hivatal. jogalk. és ált.ig.tev.
C7: - Egerszeg kártya értékesítés | D7: 221 902 | H7: 24381 | O7: =SUM(H7:N7) -> 24381
C8: Szociális és igazgatási feladatok összesen: | E8: =SUM(E5:E7) -> 0 | F8: =SUM(F5:F7) -> 0 | G8: =SUM(G5:G7) -> 0 | H8: =SUM(H5:H7) -> 24381 | I8: =SUM(I5:I7) -> 0 | J8: =SUM(J5:J7) -> 0 | K8: =SUM(K5:K7) -> 0 | N8: =SUM(N7:N7) -> 0 | O8: =SUM(O7:O7) -> 24381
A9: 1 | B9: 13 | C9: Humánigazgatási feladatok
C10: 101211 Fogyatékossággal élők tartós bentlakásos ellátása
C11: - Református Egyház által fizetendő bérleti díj | D11: 131703 | H11: 9101 | O11: =SUM(E11:N11) -> 9101
C12: 081041 Versenysport- és utánpótlás-nevelési tevékenység
C13: - Andráshidai TE részére TAO támogatás megelőlegezés visszafizetése | D13: 132949 | K13: 13224 | O13: =SUM(E13:N13) -> 13224
C14: 018030 Támogatási célú finanszírozási műveletek
C15: - Hevesi Sándor Színház társműködtetöi támogatás | D15: 131508 | E15: 288500 | O15: =SUM(E15:N15) -> 288500
C16: - Griff Bábszínház társműködtetöi támogatás | D16: 131509 | E16: 65000 | O16: =SUM(E16:N16) -> 65000
C17: Humánigazgatási feladatok összesen: | E17: =SUM(E10:E16) -> 353500 | F17: =SUM(F10:F16) -> 0 | G17: =SUM(G10:G16) -> 0 | H17: =SUM(H10:H16) -> 9101 | I17: =SUM(I10:I16) -> 0 | J17: =SUM(J10:J16) -> 0 | K17: =SUM(K10:K16) -> 13224 | L17: =SUM(L10:L16) -> 0 | ... O17: =SUM(O10:O16) -> 375825
A18: 1 | B18: 14 | C18: Főépítészi feladatok
C19: 013350 Önk-i vagyonnal való gazdálkodáshoz kapcs.fa.
C20: - belterületbe vonással kapcsolatos bevétel | D20: 171967 | H20: 5080 | O20: =SUM(E20:N20) -> 5080
C21: - Helyi építészeti értékek védelme alap | D21: 164903 | M21: 4051 | O21: =SUM(E21:N21) -> 4051
C22: Főépítészi feladatok összesen: | H22: =SUM(H20:H21) -> 5080 | I22: =SUM(I20:I21) -> 0 | J22: =SUM(J20:J21) -> 0 | K22: =SUM(K20:K21) -> 0 | L22: =SUM(L20:L21) -> 0 | M22: =SUM(M20:M21) -> 4051 | N22: =SUM(N20:N21) -> 0 | O22: =SUM(O20:O21) -> 9131
A23: 1 | B23: 15 | C23: Városüzemelési feladatok
C24: 081061 Szabadidős park, fürdő és strandszolgáltatás
C25: - Gébárti fürdő lét. üzemeltetése | D25: 151906 | H25: 17780 | O25: =SUM(E25:N25) -> 17780
C26: - Aquapark üzemeltetés | D26: 151 907 | H26: 266700 | O26: =SUM(E26:N26) -> 266700
C27: 066010 Zöldterület kezelés
C28: - fa értékesítés bevétele | D28: 152 908 | H28: 1270 | O28: =SUM(E28:N28) -> 1270
C29: - haszonbérleti szerződések, kishaszonbérlet | D29: 151506 | H29: 635 | O29: =SUM(E29:N29) -> 635
C30: - környezetvéd.alap feltöltése | D30: 151607 | M30: 37113 | O30: =SUM(E30:N30) -> 37113
C31: 042180 Állat-egészségügy
C32: - állategészségügyi tevékenység | D32: 151902 | H32: 3175 | O32: =SUM(E32:N32) -> 3175
C33: 066020 Város-, községgazdálkodási egyéb szolgáltatás
C34: - Zalai Közszolgáltató Nonprofit Kft. bérleti díj | D34: 151634 | H34: 4318 | O34: =SUM(E34:N34) -> 4318
C35: - köztisztaság szerződéses munkák | D35: 151603 | H35: 44000 | O35: =SUM(E35:N35) -> 44000
C36: 045170 Parkoló, garázs üzemeltetése, fenntartása
C37: - parkolási közszolgáltatási tevékenység ellátásával kapcsolatos bevétel | D37: 151 910 | H37: 466725 | O37: =SUM(E37:N37) -> 466725
C38: Városüzemelési feladatok összesen: | E38: =SUM(E24:E37) -> 0 | F38: =SUM(F24:F37) -> 0 | G38: =SUM(G24:G37) -> 0 | H38: =SUM(H24:H37) -> 804603 | I38: =SUM(I24:I37) -> 0 | J38: =SUM(J24:J37) -> 0 | K38: =SUM(K24:K37) -> 0 | L38: =SUM(L24:L37) -> 0 | ... O38: =SUM(O24:O37) -> 841716
A39: 1 | B39: 16. | C39: Városépítészeti feladatok
C40: 052020 Szennyvíz gyűjtése, tisztítása, elhelyezése
...

Sheet 7
A1: Cím szám | B1: Alcím szám | C1: Megnevezés | D1: Költségvetési kiadások | L1: Finanszírozási kiadások | N1: Kiadások összesen
D2: Személyi juttatások | E2: Munkaadókat terhelő járulékok és szociális hj.adó | F2: Dologi kiadások | G2: Ellátottak pénzbeli juttatásai | H2: Egyéb működési célú kiadások | I2: Beruházások | J2: Felújítások | K2: Egyéb felhalmo-zási célú kiadások | L2: Hitel-, kölcsöntör-lesztés áht-n kívülre | M2: Egyéb finanszírozási kiadás
A3: 1 | C3: Önkormányzat
A4: 1 | B4: 1 | C4: Szakosztályok
B5: 12 | C5: Szociális és igazgatási feladatok | D5: ='8'!G48 -> 150 | E5: ='8'!H48 -> 4250 | F5: ='8'!I48 -> 76685 | G5: ='8'!J48 -> 117008 | H5: ='8'!K48 -> 3700 | I5: ='8'!L48 -> 0 | J5: ='8'!M48 -> 0 | K5: ='8'!N48 -> 27799 | ... M5: ='8'!P48 -> 0 | N5: =SUM(D5:M5) -> 229592
B6: 13 | C6: Humánigazgatási feladatok | D6: ='8'!G203 -> 8555 | E6: ='8'!H203 -> 2397 | F6: ='8'!I203 -> 39253 | G6: ='8'!J203 -> 11000 | H6: ='8'!K203 -> 1683067 | I6: ='8'!L203 -> 29079 | J6: ='8'!M203 -> 165027 | K6: ='8'!N203 -> 19260 | ... M6: ='8'!P203 -> 0 | N6: =SUM(D6:M6) -> 1957638
B7: 14 | C7: Főépítészi feladatok | D7: ='8'!G215 -> 0 | E7: ='8'!H215 -> 0 | F7: ='8'!I215 -> 9229 | G7: ='8'!J215 -> 0 | H7: ='8'!K215 -> 0 | I7: ='8'!L215 -> 29513 | J7: ='8'!M215 -> 0 | K7: ='8'!N215 -> 10051 | ... M7: ='8'!P215 -> 0 | N7: =SUM(D7:M7) -> 48793
B8: 15 | C8: Városüzemelési feladatok | D8: ='8'!G349 -> 16400 | E8: ='8'!H349 -> 2150 | F8: ='8'!I349 -> 2771110 | G8: ='8'!J349 -> 0 | H8: ='8'!K349 -> 890048 | I8: ='8'!L349 -> 190074 | J8: ='8'!M349 -> 104361 | K8: ='8'!N349 -> 0 | ... M8: ='8'!P349 -> 0 | N8: =SUM(D8:M8) -> 3974143
B9: 16 | C9: Városépítészeti feladatok | D9: ='8'!G445 -> 23792 | E9: ='8'!H445 -> 3175 | F9: ='8'!I445 -> 2708114 | G9: ='8'!J445 -> 0 | H9: ='8'!K445 -> 3896 | I9: ='8'!L445 -> 6731710 | J9: ='8'!M445 -> 2651019 | K9: ='8'!N445 -> 456342 | ... M9: ='8'!P445 -> 0 | N9: =SUM(D9:M9) -> 12578048
B10: 17 | C10: Vagyonkezelési feladatok | D10: ='8'!G460 -> 0 | E10: ='8'!H460 -> 0 | F10: ='8'!I460 -> 129507 | G10: ='8'!J460 -> 0 | H10: ='8'!K460 -> 0 | I10: ='8'!L460 -> 0 | J10: ='8'!M460 -> 0 | K10: ='8'!N460 -> 53000 | ... M10: ='8'!P460 -> 0 | N10: =SUM(D10:M10) -> 182507
B11: 18 | C11: Jogi és közig.feladatok | D11: ='8'!G486 -> 387545 | E11: ='8'!H486 -> 51224 | F11: ='8'!I486 -> 210903 | G11: ='8'!J486 -> 0 | H11: ='8'!K486 -> 15500 | I11: ='8'!L486 -> 15852 | J11: ='8'!M486 -> 3422 | K11: ='8'!N486 -> 0 | ... M11: ='8'!P486 -> 0 | N11: =SUM(D11:M11) -> 684446
B12: 19 | C12: Pénzügyi lebonyolítás | D12: ='8'!G513 -> 0 | E12: ='8'!H513 -> 0 | F12: ='8'!I513 -> 561975 | G12: ='8'!J513 -> 0 | H12: ='8'!K513 -> 2990233 | I12: ='8'!L513 -> 0 | J12: ='8'!M513 -> 0 | K12: ='8'!N513 -> 9000 | ... M12: ='8'!P513 -> 5200711 | N12: =SUM(D12:M12) -> 8879771
B13: 22 | C13: Polgármesteri Kabinet kiadásai | D13: ='8'!G555 -> 59590 | E13: ='8'!H555 -> 21738 | F13: ='8'!I555 -> 214059 | G13: ='8'!J555 -> 0 | H13: ='8'!K555 -> 444501 | I13: ='8'!L555 -> 6000 | J13: ='8'!M555 -> 0 | K13: ='8'!N555 -> 0 | ... M13: ='8'!P555 -> 0 | N13: =SUM(D13:M13) -> 745888
B14: 30 | C14: Tartalékok | D14: ='8'!G570 -> 0 | E14: ='8'!H570 -> 0 | F14: ='8'!I570 -> 0 | G14: ='8'!J570 -> 0 | H14: ='8'!K570 -> 446014 | I14: ='8'!L570 -> 410571 | J14: ='8'!M570 -> 10000 | K14: ='8'!N570 -> 0 | ... M14: ='8'!P570 -> 0 | N14: =SUM(D14:M14) -> 866585
C15: Önkormányzat összesen költségvetési szervek nélkül | D15: =SUM(D3:D14) -> 496032 | E15: =SUM(E3:E14) -> 84934 | F15: =SUM(F5:F14) -> 6720835 | G15: =SUM(G5:G14) -> 128008 | H15: =SUM(H5:H14) -> 6476959 | I15: =SUM(I5:I14) -> 7412799 | J15: =SUM(J5:J14) -> 2933829 | K15: =SUM(K5:K14) -> 575452 | L15: =SUM(L5:L14) -> 117852 | M15: =SUM(M5:M14) -> 5200711 | N15: =SUM(N5:N14) -> 30147411
A16: 2 | C16: Költségvetési szervek | D16: ='10'!D21 -> 7160317 | E16: ='10'!E21 -> 1032575 | F16: ='10'!F21 -> 3978064 | G16: ='10'!G21 -> 4600 | H16: ='10'!H21 -> 35940 | I16: ='10'!I21 -> 128132 | J16: ='10'!J21 -> 16955 | K16: ='10'!K21 -> 0 | M16: ='10'!L21 -> 0 | N16: =SUM(D16:M16) -> 12356583
C17: Önkormányzat összesen: | D17: =SUM(D15:D16) -> 7656349 | E17: =SUM(E15:E16) -> 1117509 | F17: =SUM(F15:F16) -> 10698899 | G17: =SUM(G15:G16) -> 132608 | H17: =SUM(H15:H16) -> 6512899 | I17: =SUM(I15:I16) -> 7540931 | J17: =SUM(J15:J16) -> 2950784 | K17: =SUM(K15:K16) -> 575452 | ... N17: =SUM(N15:N16) -> 42503994

Sheet 8
A1: Cím szám | B1: Alcím szám | C1: Sorszám | D1: Megnevezés | E1: feladat jellege | F1: Tervezési alapegység | G1: Költségvetési kiadások | O1: Finanszírozási kiadások | Q1: Kiadás összesen
G2: Személyi juttatások | H2: Munkaadókat terhelő járulékok és szociális hj.adó | I2: Dologi kiadások | J2: Ellátottak pénzbeli juttatásai | K2: Egyéb működési célú kiadások | L2: Beruházások | M2: Felújítások | N2: Egyéb felhalmo-zási célú kiadások | O2: Hitel-, kölcsöntör-lesztés áht-n kívülre | P2: Egyéb finanszírozási kiadás
A3: 1 | D3: Önkormányzat
A4: 1 | B4: 1 | D4: Szakosztályok
A5: 1 | B5: 12 | D5: Szociális és igazgatási feladatok
D6: 105010 Munkanélküli aktív korúak ellátásai
D7: - megélhetési támogatás | E7: 2 | F7: 121103 | J7: 5000 | Q7: =SUM(G7:P7) -> 5000
D8: 106020 Lakásfenntartással, lakhatással összefüggő ellátások
D9: - lakásfenntartási segély | E9: 2 | F9: 121104 | J9: 20000 | Q9: =SUM(G9:P9) -> 20000
D10: - önkormányzati bérlakásban élők lakásfenntartási segélye Lakásalapból | E10: 2 | F10: 121117 | J10: 18738 | Q10: =SUM(G10:P10) -> 18738
D11: - gázártámogatás | E11: 2 | F11: 121202 | J11: 5700 | Q11: =SUM(G11:P11) -> 5700
D12: - villamosenergia támogatás | E12: 2 | F12: 121205 | J12: 5700 | Q12: =SUM(G12:P12) -> 5700
D13: 107060 Egyéb szociális pénzbeli ellátások, támogatások
D14: - gyermekétkeztetési támogatás | E14: 2 | F14: 121111 | J14: 2000 | Q14: =SUM(G14:P14) -> 2000
D15: - átmeneti segély | E15: 2 | F15: 121127 | J15: 4000 | Q15: =SUM(G15:P15) -> 4000
D16: - egyszeri nevelési juttatás | E16: 2 | F16: 121115 | J16: 700 | Q16: =SUM(G16:P16) -> 700
D17: - szociális krízis alap | E17: 2 | F17: 121129 | J17: 3600 | Q17: =SUM(G17:P17) -> 3600
D18: - tüzifa támogatás | E18: 2 | F18: 121106 | J18: 3000 | Q18: =SUM(G18:P18) -> 3000
D19: 103010 Elhunyt személyek hátramaradottainak pénzbeli ellátása
D20: - temetési segély | E20: 2 | F20: 121131 | J20: 2000 | Q20: =SUM(G20:P20) -> 2000
D21: 106020 Lakásfenntartással, lakhatással összefüggő ellátások
D22: - lakhatási krízis alap Lakásalapból | E22: 2 | F22: 121130 | J22: 3000 | Q22: =SUM(G22:P22) -> 3000
D23: 107060 Egyéb szociális pénzbeli ellátások, támogatások
D24: - gyógyszertámogatás | E24: 1 | F24: 121204 | J24: 14000 | Q24: =SUM(G24:P24) -> 14000
D25: - gyógyászati segédeszköz támogatás | E25: 1 | F25: 121132 | J25: 750 | Q25: =SUM(G25:P25) -> 750
D26: - köztemetés | E26: 1 | F26: 121203 | I26: 1200 | J26: 4700 | K26: 600 | Q26: =SUM(G26:P26) -> 6500
D27: 094260 Hallgatói és oktatói ösztöndíjak, egyéb juttatások
D28: - Bursa Hungarica ösztöndíj | E28: 2 | F28: 121504 | J28: 4000 | Q28: =SUM(G28:P28) -> 4000
D29: 061030 Lakáshoz jutást segítő támogatások
D30: - lakásgazdálkodási feladatokra | E30: 1 | F30: 121403 | I30: 50 | Q30: =SUM(G30:P30) -> 50
D31: 104042 Család- és gyermekjóléti szolgálat
D32: - Családsegítő Szolgálathoz krízissegélyezés | E32: 1 | F32: 121301 | J32: 2500 | Q32: =SUM(G32:P32) -> 2500
D33: 011130 Önkorm. és önkorm. hivatal. jogalk. és ált.ig.tev.
D34: - Egerszegkártya | E34: 2 | F34: 221902 | I34: 74335 | Q34: =SUM(G34:P34) -> 74335
D35: - Nemzedékek kézfogása | E35: 2 | F35: 22190** | H35: 4200 | I35: 500 | J35: 17620 | Q35: =SUM(G35:P35) -> 22320
D36: - bírtokvédelmi költség megelőlegezés | E36: 1 | F36: 121118 | I36: 200 | Q36: =SUM(G36:P36) -> 200
D37: - talált tárgyak felértékeltetése | E37: 1 | F37: 121515 | I37: 200 | Q37: =SUM(G37:P37) -> 200
D38: 032020 Tűz- és katasztrófavéd. tevékenység
D39: - helyi védelmi igazgatás | E39: 1 | F39: 121601 | G39: 150 | H39: 50 | I39: 200 | K39: 100 | Q39: =SUM(G39:P39) -> 500
D40: 109010 Szociális szolgáltatás igazgatása
...

Sheet 9
A1: Cím szám | B1: Sorszám | C1: Megnevezés | D1: Költségvetési bevételek | K1: Finanszírozási bevételek | N1: Bevételek összesen
D2: Működési célú támogatások áht-n belülről | E2: Felhalmozási célú támogatások áht-n belülről | F2: Közhatalmi bevételek | G2: Működési bevételek | H2: Felhalmozási bevételek | I2: Működési célú átvett pénzeszközök | J2: Felhalmozási célú átvett pénzeszközök | K2: Maradvány igénybevétele | L2: Központi, irányító szervi támogatás | M2: Egyéb finanszírozási bevétel
A3: 2 | B3: 1 | C3: Polgármesteri Hivatal | F3: 5000 | G3: 30000 | K3: 85884 | L3: 2275579 | N3: =SUM(D3:M3) -> 2396463
B4: 2 | C4: Zalaegerszegi Gazdasági Ellátó Szervezet | D4: 218000 | G4: 846571 | K4: 116251 | L4: 982383 | N4: =SUM(D4:M4) -> 2163205
B5: 3 | C5: Zalaegerszegi Egyesített Bölcsődék | G5: 80067 | K5: 23656 | L5: 1105525 | N5: =SUM(D5:M5) -> 1209248
B6: 4 | C6: Zalaegerszegi Család- és Gyermekjóléti Központ | K6: 52380 | L6: 330442 | N6: =SUM(D6:M6) -> 382822
B7: 5 | C7: Zalaegerszegi Belvárosi I. számú Óvoda | D7: 21059 | G7: 18697 | K7: 39513 | L7: 647907 | N7: =SUM(D7:M7) -> 727176
B8: 6 | C8: Zalaegerszegi Belvárosi II. számú Óvoda | D8: 1387 | G8: 30406 | K8: 38149 | L8: 483845 | N8: =SUM(D8:M8) -> 553787
B9: 7 | C9: Zalaegerszegi Kertvárosi Óvoda | G9: 30071 | K9: 25472 | L9: 590163 | N9: =SUM(D9:M9) -> 645706
B10: 8 | C10: Zalaegerszegi Landorhegyi Óvoda | D10: 217 | G10: 19266 | K10: 15421 | L10: 522005 | N10: =SUM(D10:M10) -> 556909
B11: 9 | C11: Közgyűjteményi és Közművelődési GESZ | G11: 1 | K11: 1600 | L11: 101017 | N11: =SUM(D11:M11) -> 102618
B12: 10 | C12: Keresztury Dezső Városi Művelődési Központ | D12: 48344 | G12: 168767 | K12: 5000 | L12: 356929 | N12: =SUM(D12:M12) -> 579040
B13: 11 | C13: Zalaegerszegi Turisztikai Hivatal és Információs Iroda | G13: 1780 | K13: 1000 | L13: 28515 | N13: =SUM(D13:M13) -> 31295
B14: 12 | C14: Deák Ferenc Megyei és Városi Könyvtár | D14: 1577 | G14: 28000 | K14: 13000 | L14: 497010 | N14: =SUM(D14:M14) -> 539587
B15: 13 | C15: Zalaegerszegi Múzeumok Igazgatósága | D15: 18722 | G15: 102370 | K15: 35000 | L15: 475415 | N15: =SUM(D15:M15) -> 631507
B16: 14 | C16: Hevesi Sándor Színház | D16: 298500 | G16: 301885 | K16: 85000 | L16: 433339 | N16: =SUM(D16:M16) -> 1118724
B17: 15 | C17: Griff Bábszínház | D17: 65000 | G17: 41165 | K17: 23000 | L17: 77365 | N17: =SUM(D17:M17) -> 206530
B18: 16 | C18: Városi Sportlétesítmény Gondnokság Intézménye | G18: 99374 | K18: 30000 | L18: 138910 | N18: =SUM(D18:M18) -> 268284
B19: 17 | C19: Vásárcsarnok | D19: 435 | G19: 132582 | K19: 21144 | L19: 6585 | N19: =SUM(D19:M19) -> 160746
B20: 18 | C20: Göcseji Tudásközpont-Zalaegerszegi Helyi Termék Piac | G20: 22893 | K20: 11212 | L20: 48831 | N20: =SUM(D20:M20) -> 82936
C21: Összesen: | D21: =SUM(D3:D20) -> 673241 | E21: =SUM(E3:E20) -> 0 | F21: =SUM(F3:F20) -> 5000 | G21: =SUM(G3:G20) -> 1953895 | H21: =SUM(H3:H20) -> 0 | I21: =SUM(I3:I20) -> 0 | J21: =SUM(J3:J20) -> 0 | K21: =SUM(K3:K20) -> 622682 | ... N21: =SUM(N3:N20) -> 12356583

Sheet 10
A1: Cím szám | B1: Sorszám | C1: Megnevezés | D1: Költségvetési kiadások | L1: Finanszírozási kiadások | M1: Kiadások összesen
D2: Személyi juttatások | E2: Munkaadókat terhelő járulékok és szociális hj.adó | F2: Dologi kiadások | G2: Ellátottak pénzbeli juttatásai | H2: Egyéb működési célú kiadások | I2: Beruházások | J2: Felújítások | K2: Egyéb felhalmo-zási célú kiadások
A3: 2 | B3: 1 | C3: Polgármesteri Hivatal | D3: 1825954 | E3: 267730 | F3: 260395 | I3: 35506 | J3: 6878 | M3: =SUM(D3:L3) -> 2396463
B4: 2 | C4: Zalaegerszegi Gazdasági Ellátó Szervezet | D4: 358940 | E4: 54158 | F4: 1735369 | I4: 7459 | J4: 7279 | M4: =SUM(D4:L4) -> 2163205
B5: 3 | C5: Zalaegerszegi Egyesített Bölcsődék | D5: 850931 | E5: 127208 | F5: 228109 | I5: 3000 | M5: =SUM(D5:L5) -> 1209248
B6: 4 | C6: Zalaegerszegi Család- és Gyermekjóléti Központ | D6: 290445 | E6: 46993 | F6: 39044 | G6: 4600 | H6: 240 | I6: 1500 | M6: =SUM(D6:L6) -> 382822
B7: 5 | C7: Zalaegerszegi Belvárosi I. számú Óvoda | D7: 538981 | E7: 80451 | F7: 102344 | I7: 4500 | J7: 900 | M7: =SUM(D7:L7) -> 727176
B8: 6 | C8: Zalaegerszegi Belvárosi II. számú Óvoda | D8: 350027 | E8: 53080 | F8: 146680 | I8: 4000 | M8: =SUM(D8:L8) -> 553787
B9: 7 | C9: Zalaegerszegi Kertvárosi Óvoda | D9: 407339 | E9: 61621 | F9: 172746 | I9: 4000 | M9: =SUM(D9:L9) -> 645706
B10: 8 | C10: Zalaegerszegi Landorhegyi Óvoda | D10: 390315 | E10: 59187 | F10: 103172 | I10: 4235 | M10: =SUM(D10:L10) -> 556909
B11: 9 | C11: Közgyűjteményi és Közművelődési GESZ | D11: 86246 | E11: 11322 | F11: 3850 | I11: 1200 | M11: =SUM(D11:L11) -> 102618
B12: 10 | C12: Keresztury Dezső Városi Művelődési Központ | D12: 315705 | E12: 41165 | F12: 220170 | I12: 2000 | M12: =SUM(D12:L12) -> 579040
B13: 11 | C13: Zalaegerszegi Turisztikai Hivatal és Információs Iroda | D13: 24405 | E13: 3180 | F13: 3610 | I13: 100 | M13: =SUM(D13:L13) -> 31295
B14: 12 | C14: Deák Ferenc Megyei és Városi Könyvtár | D14: 291740 | E14: 37570 | F14: 177657 | H14: 11000 | I14: 20350 | J14: 1270 | M14: =SUM(D14:L14) -> 539587
B15: 13 | C15: Zalaegerszegi Múzeumok Igazgatósága | D15: 366515 | E15: 47749 | F15: 192218 | H15: 24700 | I15: 325 | M15: =SUM(D15:L15) -> 631507
B16: 14 | C16: Hevesi Sándor Színház | D16: 704534 | E16: 92390 | F16: 304800 | I16: 17000 | M16: =SUM(D16:L16) -> 1118724
B17: 15 | C17: Griff Bábszínház | D17: 119255 | E17: 15170 | F17: 70105 | I17: 2000 | M17: =SUM(D17:L17) -> 206530
B18: 16 | C18: Városi Sportlétesítmény Gondnokság Intézménye | D18: 126923 | E18: 17728 | F18: 108195 | I18: 15438 | M18: =SUM(D18:L18) -> 268284
B19: 17 | C19: Vásárcsarnok | D19: 73066 | E19: 10602 | F19: 74538 | I19: 2540 | M19: =SUM(D19:L19) -> 160746
B20: 18 | C20: Göcseji Tudásközpont-Zalaegerszegi Helyi Termék Piac | D20: 38996 | E20: 5271 | F20: 35062 | I20: 2979 | J20: 628 | M20: =SUM(D20:L20) -> 82936
C21: Összesen: | D21: =SUM(D3:D20) -> 7160317 | E21: =SUM(E3:E20) -> 1032575 | F21: =SUM(F3:F20) -> 3978064 | G21: =SUM(G3:G20) -> 4600 | H21: =SUM(H3:H20) -> 35940 | I21: =SUM(I3:I20) -> 128132 | J21: =SUM(J3:J20) -> 16955 | K21: =SUM(K3:K20) -> 0 | ... M21: =SUM(M3:M20) -> 12356583

Sheet 11
B1: Megnevezés | C1: Hitelező | D1: Lejárat éve | E1: Módosított hitel/lízing összeg | F1: Hitelek állománya 2024. XII. 31-én | G1: 2025. évi adósságszolg. | I1: 2026. évi adósságszolg. | K1: 2027. évi adósságszolg. | M1: Későbbi évek tőketörlesztése
G2: Tőketörlesz- tés | H2: Kamat és egyéb ktg. | I2: Tőketörlesztés | J2: Kamat és egyéb ktg. | K2: Tőketörlesztés | L2: Kamat és egyéb ktg.
A3: 1. | B3: Zalaegerszeg belváros közlekedési rendszerének komplett átalakítása | C3: OTP | D3: 2038. | E3: 211638 | F3: 143705 | G3: 10452 | H3: 11547 | I3: 10452 | J3: 9131 | K3: 10452 | L3: 8393 | M3: =SUM(F3-G3-I3-K3) -> 112349
A4: 2. | B4: Zalaegerszegi Járműipari Tesztpályához szükséges területvásárláshoz | C4: OTP | D4: 2036. | E4: 950000 | F4: 622500 | G4: 52400 | H4: 54663 | I4: 52400 | J4: 42660 | K4: 52400 | L4: 38599 | M4: =SUM(F4-G4-I4-K4) -> 465300
A5: 3. | B5: TOP program keretében megvalósuló projektek nem támogatott munkarészei, többletfeladatai | C5: OTP | D5: 2029. | E5: 100000 | F5: 47417 | G5: 10000 | H5: 3806 | I5: 10000 | J5: 2508 | K5: 10000 | L5: 1763 | M5: =SUM(F5-G5-I5-K5) -> 17417
A6: 4. | B6: Vizslaparki u. 48. szám alatti ingatlan pályázati forrásból történő felújítása | C6: OTP | D6: 2027. | E6: 240000 | F6: 82500 | G6: 30000 | H6: 6076 | I6: 30000 | J6: 3007 | K6: 22500 | L6: 820 | M6: =SUM(F6-G6-I6-K6) -> 0
A7: 5. | B7: TOP és egyéb uniós projektek keretében megvalósuló projektek nem támogatott munkarészei, többletfeladatai | C7: OTP | D7: 2031. | E7: 150000 | F7: 97499 | G7: 15000 | H7: 3017 | I7: 15000 | J7: 2145 | K7: 15000 | L7: 1726 | M7: =SUM(F7-G7-I7-K7) -> 52499
B8: Hitelek összesen: | E8: =SUM(E3:E7) -> 1651638 | F8: =SUM(F3:F7) -> 993621 | G8: =SUM(G3:G7) -> 117852 | H8: =SUM(H3:H7) -> 79109 | I8: =SUM(I3:I7) -> 117852 | J8: =SUM(J3:J7) -> 59451 | K8: =SUM(K3:K7) -> 110352 | L8: =SUM(L3:L7) -> 51301 | M8: =SUM(M3:M7) -> 647565

Sheet 12
A1: Cím szám | B1: Sorszám | C1: Megnevezés | D1: 2024. évi módosított előirányzat | E1: Választott képviselő | F1: Igazgatási dolgozó | G1: Orvos | H1: Óvoda pedagó-gus | I1: Népmű-velő, könyv-táros | J1: Egyéb szakalkal- mazott | K1: Ügyviteli dolgozó | L1: Fizikai dolgozó | M1: 2025. évi előirányzat | N1: Változás
A2: 1 | C2: Önkormányzat | D2: 6 | E2: 4 | L2: 2 | M2: 6 | N2: 0
A3: 2 | B3: 1 | C3: Polgármesteri Hivatal | D3: 191 | F3: 163 | K3: 21 | L3: 7 | M3: =SUM(F3:L3) -> 191 | N3: =M3-D3 -> 0
B4: 2 | C4: Zalaegerszegi GESZ | D4: 52 | G4: 1 | J4: 16 | K4: 31 | L4: 4 | M4: =SUM(F4:L4) -> 52 | N4: =M4-D4 -> 0
B5: 3 | C5: Zalaegerszegi Egyesített Bölcsődék | D5: 127.5 | G5: 0.5 | J5: 98 | K5: 3 | L5: 26 | M5: =SUM(F5:L5) -> 127.5 | N5: =M5-D5 -> 0
B6: 4 | C6: Zalaegerszegi Család- és Gyermekjóléti Központ | D6: 63.5 | J6: 61.5 | K6: 2 | M6: =SUM(F6:L6) -> 63.5 | N6: =M6-D6 -> 0
B7: 5 | C7: Zalaegerszegi Belvárosi I. sz.Óvoda | D7: 70 | H7: 38 | J7: 25 | L7: 8 | M7: =SUM(F7:L7) -> 71 | N7: =M7-D7 -> 1
B8: 6 | C8: Zalaegerszegi Belvárosi II. sz.Óvoda | D8: 51 | H8: 25 | J8: 18 | L8: 8 | M8: =SUM(F8:L8) -> 51 | N8: =M8-D8 -> 0
B9: 7 | C9: Zalaegerszegi Kertvárosi Óvoda | D9: 59 | H9: 31 | J9: 21 | L9: 7 | M9: =SUM(F9:L9) -> 59 | N9: =M9-D9 -> 0
B10: 8 | C10: Zalaegerszegi Landorhegyi Óvoda | D10: 57 | H10: 29 | J10: 20 | L10: 8 | M10: =SUM(F10:L10) -> 57 | N10: =M10-D10 -> 0
B11: 9 | C11: Közgyűjteményi és Közművelődési GESZ | D11: 13 | K11: 14 | M11: =SUM(F11:L11) -> 14 | N11: =M11-D11 -> 1
B12: 10 | C12: Keresztury Dezső Városi Művelődési Központ | D12: 60.5 | I12: 16 | J12: 10 | K12: 7 | L12: 27.5 | M12: =SUM(E12:L12) -> 60.5 | N12: =M12-D12 -> 0
B13: 11 | C13: Zalaegerszegi Turisztikai Hivatal és Információs Iroda | D13: 4 | J13: 4 | M13: =SUM(J13:L13) -> 4 | N13: =M13-D13 -> 0
B14: 12 | C14: Deák Ferenc Megyei és Városi Könyvtár | D14: 54 | I14: 42 | J14: 5.5 | K14: 1 | L14: 5.5 | M14: =SUM(F14:L14) -> 54 | N14: =M14-D14 -> 0
B15: 13 | C15: Zalaegerszegi Múzeumok Igazgatósága | D15: 75 | J15: 57 | K15: 4 | L15: 14 | M15: =SUM(J15:L15) -> 75 | N15: =M15-D15 -> 0
B16: 14 | C16: Hevesi Sándor Színház | D16: 127 | J16: 39 | K16: 16 | L16: 72 | M16: =SUM(F16:L16) -> 127 | N16: =M16-D16 -> 0
B17: 15 | C17: Griff Bábszínház | D17: 20 | J17: 12 | K17: 1 | L17: 7 | M17: =SUM(F17:L17) -> 20 | N17: =M17-D17 -> 0
B18: 16 | C18: Városi Sportlétesítmények Gondnoksága | D18: 23 | K18: 4 | L18: 19 | M18: =SUM(K18:L18) -> 23 | N18: =M18-D18 -> 0
B19: 17 | C19: Vásárcsarnok | D19: 11 | K19: 3 | L19: 8 | M19: =SUM(F19:L19) -> 11 | N19: =M19-D19 -> 0
B20: 18 | C20: Göcseji Tudásközpont - Zalaegerszegi Helyi Termékpiac | D20: 6 | K20: 5 | L20: 1 | M20: =SUM(E20:L20) -> 6 | N20: =M20-D20 -> 0
C21: Költségvetési szervek összesen: | D21: =SUM(D3:D20) -> 1064.5 | E21: =SUM(E3:E20) -> 0 | F21: =SUM(F3:F20) -> 163 | G21: =SUM(G3:G20) -> 1.5 | H21: =SUM(H3:H20) -> 123 | I21: =SUM(I3:I20) -> 58 | J21: =SUM(J3:J20) -> 387 | K21: =SUM(K3:K20) -> 112 | ... N21: =SUM(N3:N20) -> 2
C22: Mindösszesen: | D22: =D21+D2 -> 1070.5 | E22: =E21+E2 -> 4 | F22: =F21+F2 -> 163 | G22: =G21+G2 -> 1.5 | H22: =H21+H2 -> 123 | I22: =I21+I2 -> 58 | J22: =J21+J2 -> 387 | K22: =K21+K2 -> 112 | ... N22: =N21+N2 -> 2

Sheet 13
A1: Sorszám | B1: Projekt megnevezése | C1: Elnyert forrás | D1: Saját erő | E1: ÁFA visszaté-rülés | F1: Projekt összesen | G1: Projektben el nem számolható saját költségek | H1: Mindösszesen | I1: Korábbi években kifizetett költség | J1: ZMJV Önkormányzata költségvetésében 2025. évben tervezett | R1: Tárgyévet követő terv
J2: Összköltsége | K2: Forrásai | O2: Tárgyévet megelőző kifizetések | P2: 2018. évi terv | Q2: Tárgyévet követő terv
K3: támogatás | L3: ÁFA visszatérítés | M3: megelőlegezés visszapótlás | N3: korábban kiutalt támogatás előleg maradvány
B4: Önkormányzat:
A5: 1. | B5: TOP-6.4.1-15-ZL1-2016-00001 Gyalogos és kerékpárosbarát belváros közlekedési feltételeinek megteremtése Zalaegerszegen hivatásforgalmi kerékpárutak fejlesztésével és a Kosztolányi Dezső út kétirányúsításával (2.320.144) | C5: 2580952 | E5: 36 | F5: =SUM(C5:E5) -> 2580988 | G5: 6793 | H5: =SUM(F5:G5) -> 2587781 | I5: 2587481 | J5: =H5-I5-R5 -> 300 | N5: 300 | O5: 22388 | P5: 970612 | Q5: 4000
A6: 2. | B6: TOP-6.1.1-16 Zalaegerszegi Logisztikai Központ létrehozása | C6: 1088000 | E6: 17474 | F6: =SUM(C6:E6) -> 1105474 | G6: 124980 | H6: =SUM(F6:G6) -> 1230454 | I6: 1198941 | J6: =H6-I6-R6 -> 31513 | N6: 31513 | P6: 1088000 | Q6: 12000
A7: 3. | B7: TOP-6.1.2-16-ZL1-2017-00001 Inkubátorház bővítés Zalaegerszegen-III.ütem | C7: 317000 | E7: 89375 | F7: =SUM(C7:E7) -> 406375 | H7: =SUM(F7:G7) -> 406375 | I7: 406372 | J7: 3 | L7: 1 | N7: 2 | P7: 317000
A8: 4. | B8: Zalaegerszeg nyugati vízbázisról ellátott települések ívóvízminőségének javítása KEHOP projekt | C8: 2816 | E8: 135 | F8: =SUM(C8:E8) -> 2951 | H8: =SUM(F8:G8) -> 2951 | I8: 0 | J8: 2951 | K8: 2816 | N8: 135
A9: 5. | B9: KEHOP 2.1211-21-2021-00002 Ivóvíz és szennyvíz hatékonyság növelő fejlesztés | C9: 1134842 | D9: 490861 | E9: 416900 | F9: =SUM(C9:E9) -> 2042603 | H9: =SUM(F9:G9) -> 2042603 | I9: 2020068 | J9: =H9-I9-R9 -> 22535 | N9: 22535
A10: 6. | B10: TOP Plusz --1.3-1-21 FVS TVP projekt * | C10: 1719 | D10: 352 | F10: =SUM(C10:E10) -> 2071 | H10: =SUM(F10:G10) -> 2071 | I10: 1667 | J10: =H10-I10 -> 404 | N10: 404
A11: 7. | B11: TOP Plusz-1.2.1-21-ZA2-2022-00006 Zeg-Teskánd kerékpárút projekt | C11: 937481 | F11: =SUM(C11:E11) -> 937481 | G11: 24 | H11: =SUM(F11:G11) -> 937505 | I11: 138318 | J11: =H11-I11 -> 799187 | N11: 799187
A12: 8. | B12: RRF-1.1.2-21-2022-00019 Andráshidai mini bölcsőde | C12: 240000 | F12: =SUM(C12:E12) -> 240000 | G12: 24000 | H12: =SUM(F12:G12) -> 264000 | I12: 239388 | J12: =H12-I12 -> 24612 | K12: 68205 | M12: -45000 | N12: 1407 | S12: saját forrásból fizettül ki
A13: 9. | B13: EIT Urban Mobility projekt | C13: 8214 | F13: =SUM(C13:E13) -> 8214 | H13: =SUM(F13:G13) -> 8214 | I13: 4407 | J13: =H13-I13-R13 -> 3807 | N13: 3807
A14: 10. | B14: TOP_PLUSZ-6.2.1-23-ZL1-2023-00001 Csácsbozsoki kilátó | C14: 100000 | F14: =SUM(C14:E14) -> 100000 | H14: =SUM(F14:G14) -> 100000 | J14: =H14-I14-R14 -> 100000 | K14: 100000 | N14: 0
A15: 11. | B15: TOP_PLUSZ-3.4.1-23-ZL1-2023-00001 Bazitai Óvoda újjáépítése | C15: 390999 | D15: 4835 | F15: =SUM(C15:E15) -> 395834 | H15: =SUM(F15:G15) -> 395834 | J15: =H15-I15-R15 -> 395834 | K15: 390999 | N15: 4835
A16: 12. | B16: TOP_PLUSZ-3.4.1-23-ZL1-2023-00002 Ságodi Óvoda felújítása | C16: 290941 | F16: =SUM(C16:E16) -> 290941 | H16: =SUM(F16:G16) -> 290941 | J16: =H16-I16-R16 -> 290941 | K16: 290941 | N16: 0
A17: 13. | B17: TOP_PLUSZ-3.4.1-23-ZL1-2024-00003 Orvosi rendelők felújítása (Kölcsey u.11., Mátyás király u. 16., Gasparich u. 21.) | C17: 250000 | F17: =SUM(C17:E17) -> 250000 | H17: =SUM(F17:G17) -> 250000 | J17: =H17-I17-R17 -> 250000 | K17: 250000 | N17: 0
B18: Önkormányzati projektek mindösszesen: | C18: =SUM(C5:C17) -> 7342964 | D18: =SUM(D5:D17) -> 496048 | E18: =SUM(E5:E17) -> 523920 | F18: =SUM(F5:F17) -> 8362932 | G18: =SUM(G5:G17) -> 155797 | H18: =SUM(H5:H17) -> 8518729 | I18: =SUM(I5:I17) -> 6596642 | J18: =SUM(J5:J17) -> 1922087 | ... R18: =SUM(R5:R17) -> 0

Sheet 14
B1: Közvetett támogatás jogcíme | C1: 2025. évben várható támogatás, kedvezmény összege
B2: 1. Ellátottak térítési díjának illetve kártérítésének méltányossági alapon történő elengedése | C2: ----
B3: 2. Lakásépítéshez, lakásfelújításhoz nyújtott kölcsön elengedése | C3: 300
B4: 3. Helyi adónál biztosított kedvezmény, mentesség | C4: 91635
B5: 4. Helyiségek, eszközök hasznosításából származó bevételből nyújtott kedvezmény | C5: 99126
B6: 5. Egyéb nyújtott kedvezmény vagy kölcsön elengedése
B7: Összesen: | C7: =SUM(C2:C6) -> 191061
B10: Az adókedvezmények és mentességek esetében a 2023. évi adat állt rendelkezésre.
B11: A lakásépítéshez, lakásfelújításhoz nyújtott kölcsön elengedése, a helyiségek, eszközök
B12: hasznosításából származó bevételből nyújtott kedvezményeknél és az egyéb nyújtott
B13: kedvezményeknél a 2024. évi tény adatok álltak rendelkezésre.

Sheet 15
A1: Megnevezés | B1: január | C1: február | D1: március | E1: április | F1: május | G1: június | H1: július | I1: augusztus | J1: szeptember | K1: október | L1: november | M1: december | N1: Összesen
A2: Önkormányzat bevételei | B2: 2212890 | C2: 2376321 | D2: 6402290 | E2: 3046101 | F2: 2430534 | G2: 5166528 | H2: 2501202 | I2: 2634179 | J2: 5467777 | K2: 2280999 | L2: 2109976 | M2: 2620379 | N2: =SUM(B2:M2) -> 39249176
A3: Önkormányzat által irányított költségvetési szervek
A4: Polgármesteri Hivatal | B4: 34593 | C4: 18300 | D4: 16741 | E4: 16400 | F4: 16600 | G4: 2600 | H4: 2600 | I4: 2600 | J4: 2600 | K4: 2400 | L4: 2300 | M4: 3150 | N4: =SUM(B4:M4) -> 120884
A5: Zalaegerszegi Gazdasági Ellátó Szervezet | B5: 180739 | C5: 112940 | D5: 88715 | E5: 88715 | F5: 88715 | G5: 83716 | H5: 76757 | I5: 76757 | J5: 95941 | K5: 95942 | L5: 95943 | M5: 95942 | N5: =SUM(B5:M5) -> 1180822
A6: Zalaegerszegi Egyesített Bölcsődék | B6: 30329 | C6: 6673 | D6: 6673 | E6: 6673 | F6: 6673 | G6: 5550 | H6: 6674 | I6: 4549 | J6: 7482 | K6: 7482 | L6: 7482 | M6: 7483 | N6: =SUM(B6:M6) -> 103723
A7: Zalaegerszegi Család- és Gyermekjóléti Központ | B7: 31777 | C7: 20603 | N7: =SUM(B7:M7) -> 52380
A8: Zalaegerszegi Belvárosi I. számú Óvoda | B8: 41071 | C8: 1558 | D8: 1558 | E8: 1558 | F8: 1858 | G8: 1558 | H8: 1258 | I8: 1258 | J8: 22917 | K8: 1558 | L8: 1559 | M8: 1558 | N8: =SUM(B8:M8) -> 79269
A9: Zalaegerszegi Belvárosi II. számú Óvoda | B9: 40683 | C9: 2534 | D9: 2534 | E9: 2534 | F9: 2714 | G9: 2200 | H9: 1842 | I9: 1842 | J9: 4170 | K9: 2783 | L9: 3053 | M9: 3053 | N9: =SUM(B9:M9) -> 69942
A10: Zalaegerszegi Kertvárosi Óvoda | B10: 27982 | C10: 2510 | D10: 2510 | E10: 2510 | F10: 2510 | G10: 2510 | H10: 1750 | I10: 1750 | J10: 3000 | K10: 3210 | L10: 2791 | M10: 2510 | N10: =SUM(B10:M10) -> 55543
A11: Zalaegerszegi Landorhegyi Óvoda | B11: 17027 | C11: 1606 | D11: 1606 | E11: 1606 | F11: 1612 | G11: 1505 | H11: 1425 | I11: 1275 | J11: 1974 | K11: 1756 | L11: 1756 | M11: 1756 | N11: =SUM(B11:M11) -> 34904
A12: Közgyűjteményi és Közművelődési GESZ | D12: 1600 | M12: 1 | N12: =SUM(B12:M12) -> 1601
A13: Keresztury Dezső Városi Művelődési Központ | B13: 32250 | C13: 10800 | D13: 18000 | E13: 12000 | F13: 33494 | G13: 13200 | H13: 10000 | I13: 30300 | J13: 12000 | K13: 16000 | L13: 16550 | M13: 17517 | N13: =SUM(B13:M13) -> 222111
A14: Zalaegerszegi Turisztikai Hivatal és Információs Iroda | B14: 100 | C14: 1150 | D14: 150 | E14: 150 | F14: 150 | G14: 150 | H14: 170 | I14: 150 | J14: 150 | K14: 150 | L14: 150 | M14: 160 | N14: =SUM(B14:M14) -> 2780
A15: Deák Ferenc Megyei és Városi Könyvtár | B15: 3000 | C15: 2000 | D15: 17577 | E15: 1000 | F15: 5000 | G15: 2000 | H15: 1000 | I15: 1000 | J15: 3000 | K15: 1000 | L15: 5000 | M15: 1000 | N15: =SUM(B15:M15) -> 42577
A16: Zalaegerszegi Múzeumok Igazgatósága | B16: 4000 | C16: 43000 | D16: 10375 | E16: 8000 | F16: 10500 | G16: 9480 | H16: 5000 | I16: 6867 | J16: 10500 | K16: 10500 | L16: 25500 | M16: 12370 | N16: =SUM(B16:M16) -> 156092
A17: Hevesi Sándor Színház | B17: 35000 | C17: 53500 | D17: 52000 | E17: 41000 | F17: 44000 | G17: 40000 | H17: 34885 | I17: 38000 | J17: 50000 | K17: 105000 | L17: 100000 | M17: 92000 | N17: =SUM(B17:M17) -> 685385
A18: Griff Bábszínház | B18: 10460 | C18: 10505 | D18: 10700 | E18: 10700 | F18: 10000 | G18: 10000 | H18: 8500 | I18: 10000 | J18: 11000 | K18: 12500 | L18: 14100 | M18: 10700 | N18: =SUM(B18:M18) -> 129165
A19: Városi Sportlétesítmény Gondnokság Intézménye | B19: 16767 | C19: 21871 | D19: 12806 | E19: 11802 | F19: 6506 | G19: 6143 | H19: 10800 | I19: 5751 | J19: 6947 | K19: 11089 | L19: 11668 | M19: 7224 | N19: =SUM(B19:M19) -> 129374
A20: Vásárcsarnok | B20: 16000 | C20: 13035 | D20: 13000 | E20: 13000 | F20: 13000 | G20: 14000 | H20: 13292 | I20: 9834 | J20: 11000 | K20: 14000 | L20: 10000 | M20: 14000 | N20: =SUM(B20:M20) -> 154161
A21: Göcseji Tudásközpont-Zalaegerszegi Helyi Termék Piac | B21: 7588 | C21: 7240 | D21: 2106 | E21: 1908 | F21: 1908 | G21: 1908 | H21: 1908 | I21: 1908 | J21: 1907 | K21: 1908 | L21: 1908 | M21: 1908 | N21: =SUM(B21:M21) -> 34105
A22: Bevételek összesen: | B22: =SUM(B2:B21) -> 2742256 | C22: =SUM(C2:C21) -> 2706146 | D22: =SUM(D2:D21) -> 6660941 | E22: =SUM(E2:E21) -> 3265657 | F22: =SUM(F2:F21) -> 2675774 | G22: =SUM(G2:G21) -> 5363048 | H22: =SUM(H2:H21) -> 2679063 | I22: =SUM(I2:I21) -> 2828020 | ... M22: =SUM(M2:M21) -> 2892711 | N22: =SUM(B22:M22) -> 42503994

Sheet 16
A1: Megnevezés | B1: január | C1: február | D1: március | E1: április | F1: május | G1: június | H1: július | I1: augusztus | J1: szeptember | K1: október | L1: november | M1: december | N1: Összesen
A2: Önkormányzat működési kiadásai | B2: 457420 | C2: 574420 | D2: 1706128 | E2: 986179 | F2: 794179 | G2: 1168479 | H2: 791179 | I2: 808479 | J2: 1493479 | K2: 803480 | L2: 775981 | M2: 818136 | N2: =SUM(B2:M2) -> 11177539
A3: Önkormányzat felhalmozási kiadási | B3: 1320768 | C3: 1071820 | D3: 3892263 | E3: 1278815 | F3: 884025 | G3: 3210643 | H3: 944358 | I3: 1080570 | J3: 3177112 | K3: 668308 | L3: 564808 | M3: 876382 | N3: =SUM(B3:M3) -> 18969872
A4: Önkormányzat költségvetési szervek nélkül | B4: =SUM(B2:B3) -> 1778188 | C4: =SUM(C2:C3) -> 1646240 | D4: =SUM(D2:D3) -> 5598391 | E4: =SUM(E2:E3) -> 2264994 | F4: =SUM(F2:F3) -> 1678204 | G4: =SUM(G2:G3) -> 4379122 | H4: =SUM(H2:H3) -> 1735537 | I4: =SUM(I2:I3) -> 1889049 | ... N4: =SUM(N2:N3) -> 30147411
A5: Önkormányzat által irányított költségvetési szervek
A6: Polgármesteri Hivatal | B6: 169045 | C6: 229404 | D6: 215400 | E6: 180790 | F6: 180094 | G6: 179359 | H6: 187629 | I6: 180097 | J6: 181717 | K6: 182669 | L6: 192354 | M6: 317905 | N6: =SUM(B6:M6) -> 2396463
A7: Zalaegerszegi Gazdasági Ellátó Szervezet | B7: 180739 | C7: 179039 | D7: 186768 | E7: 180499 | F7: 179789 | G7: 156797 | H7: 139449 | I7: 139649 | J7: 205393 | K7: 205225 | L7: 204925 | M7: 204933 | N7: =SUM(B7:M7) -> 2163205
A8: Zalaegerszegi Egyesített Bölcsődék | B8: 100521 | C8: 100521 | D8: 100521 | E8: 100820 | F8: 100521 | G8: 99092 | H8: 100590 | I8: 99591 | J8: 101892 | K8: 101593 | L8: 101863 | M8: 101723 | N8: =SUM(B8:M8) -> 1209248
A9: Zalaegerszegi Család- és Gyermekjóléti Központ | B9: 31777 | C9: 31777 | D9: 31777 | E9: 32077 | F9: 31977 | G9: 31775 | H9: 31776 | I9: 31775 | J9: 32047 | K9: 31907 | L9: 31878 | M9: 32279 | N9: =SUM(B9:M9) -> 382822
A10: Zalaegerszegi Belvárosi I. számú Óvoda | B10: 60148 | C10: 61048 | D10: 60148 | E10: 60148 | F10: 62399 | G10: 60444 | H10: 59563 | I10: 59564 | J10: 60147 | K10: 61355 | L10: 61607 | M10: 60605 | N10: =SUM(B10:M10) -> 727176
A11: Zalaegerszegi Belvárosi II. számú Óvoda | B11: 45814 | C11: 45816 | D11: 45815 | E11: 45816 | F11: 47516 | G11: 44315 | H11: 44073 | I11: 43572 | J11: 47437 | K11: 47788 | L11: 48387 | M11: 47438 | N11: =SUM(B11:M11) -> 553787
A12: Zalaegerszegi Kertvárosi Óvoda | B12: 53476 | C12: 53476 | D12: 53476 | E12: 53776 | F12: 55976 | G12: 53976 | H12: 49475 | I12: 51530 | J12: 54962 | K12: 55461 | L12: 55161 | M12: 54961 | N12: =SUM(B12:M12) -> 645706
A13: Zalaegerszegi Landorhegyi Óvoda | B13: 46055 | C13: 46055 | D13: 46055 | E13: 46055 | F13: 48790 | G13: 45693 | H13: 45408 | I13: 45908 | J13: 46973 | K13: 46673 | L13: 46773 | M13: 46471 | N13: =SUM(B13:M13) -> 556909
A14: Közgyűjteményi és Közművelődési GESZ | B14: 8252 | C14: 9051 | D14: 8740 | E14: 8320 | F14: 8750 | G14: 8570 | H14: 8370 | I14: 8300 | J14: 8530 | K14: 8670 | L14: 8470 | M14: 8595 | N14: =SUM(B14:M14) -> 102618
A15: Keresztury Dezső Városi Művelődési Központ | B15: 32250 | C15: 48146 | D15: 58666 | E15: 43146 | F15: 44146 | G15: 59926 | H15: 43146 | I15: 43146 | J15: 54926 | K15: 43146 | L15: 43146 | M15: 65250 | N15: =SUM(B15:M15) -> 579040
A16: Zalaegerszegi Turisztikai Hivatal és Információs Iroda | B16: 2300 | C16: 2617 | D16: 2717 | E16: 2617 | F16: 2617 | G16: 2617 | H16: 2616 | I16: 2616 | J16: 2616 | K16: 2616 | L16: 2616 | M16: 2730 | N16: =SUM(B16:M16) -> 31295
A17: Deák Ferenc Megyei és Városi Könyvtár | B17: 36617 | C17: 35600 | D17: 44372 | E17: 46372 | F17: 43372 | G17: 40342 | H17: 43572 | I17: 40572 | J17: 47372 | K17: 46372 | L17: 53372 | M17: 61652 | N17: =SUM(B17:M17) -> 539587
... A23: Göcseji Tudásközpont-Zalaegerszegi Helyi Termék Piac | B23: 7588 | C23: 7240 | D23: 6811 | E23: 6911 | F23: 6812 | G23: 6911 | H23: 6860 | I23: 6861 | J23: 6611 | K23: 6610 | L23: 6860 | M23: 6861 | N23: =SUM(B23:M23) -> 82936
A24: Kiadások összesen: | B24: =SUM(B4:B23) -> 2742256 | C24: =SUM(C4:C23) -> 2706146 | D24: =SUM(D4:D23) -> 6660941 | E24: =SUM(E4:E23) -> 3265657 | F24: =SUM(F4:F23) -> 2675774 | G24: =SUM(G4:G23) -> 5363048 | H24: =SUM(H4:H23) -> 2679063 | I24: =SUM(I4:I23) -> 2828020 | ... M24: =SUM(M4:M23) -> 2892711 | N24: =SUM(B24:M24) -> 42503994

Sheet 17
B5: 2025. évi kötelezettség | C5: 2026. évi kötelezettség | D5: 2027. évi kötelezettség | E5: 2028. évi kötelezettség | F5: Megjegyzés
A6: I. Hitelek törlesztése és kamatai | B6: 196961 | C6: 177303 | D6: 161653 | E6: 139153 | F6: részletesen a 11. mellékletben
A8: II. Támogatási és egyéb megállapodások
A9: ZTE Football Club Zrt. | B9: 165000 | C9: 165000 | D9: 165000 | E9: 165000 | F9: megállapodás szerint 2034-ig
A11: III. Készfizető kezességvállalások
A12: Észak-zalai Víz- és Csatornamű Zrt. (fejlesztési célú hitelfelvétel) | B12: 50187 | C12: 50187 | D12: 50187 | E12: 50187 | F12: ZMJVK 45/2019.(III.07.) kgy.határozat 15 éves futamidő
A13: IV. Garanciavállalás
A14: Zalavíz Zrt. (zártvégű pénzügyi lízing gépre, berendezésre) | B14: 9247 | C14: 10301 | D14: 11477 | E14: 12780 | F14: garanciavállalás 50.735 E Ft-ra, 2029.12.27.napjáig
A15: Összes kötelezettség: | B15: =SUM(B6:B14) -> 421395 | C15: =SUM(C6:C14) -> 402791 | D15: =SUM(D6:D14) -> 388317 | E15: =SUM(E6:E14) -> 367120
