Workbook

Sheet Alibánfa
A1: Gördülő fejlesztési terv a 2024 - 2038 időszakra
A2: BERUHÁZÁSOK ÖSSZEFOGLALÓ TÁBLÁZATA
A3: A tervet benyújtó szervezet megnevezése: | K3: ALIBÁNFA | R3: ellátásért felelős / ellátásért felelősök képviselője / víziközmű-szolgáltató *
A4: Víziközmű-szolgáltató megnevezése: | K4: ÉSZAK ZALAI VÍZ- ÉS CSATORNAMŰ ZÁRTKÖRŰEN MŰKÖDŐ RÉSZVÉNYTÁRSASÁG
A5: Víziközmű-szolgáltatási ágazat megnevezése: | K5: IVÓVÍZ ÁGAZAT
A6: Véleményeltérést megfogalmazó érintett fél megnevezése:
A7: Víziközmű-rendszer kódja: ** | K7: 11-32054-1-029-02-07 | R7: Zalaegerszeg-IV
A9: Fontossági sorrend | B9: Beruházás megnevezése | E9: Műszaki állapot felmérés, szükségességi indoklás | H9: Vízjogi létesítési/elvi engedély száma | I9: Az érintett ellátásért felelős(ök) megnevezése | J9: Tervezett nettó költség | K9: Forrás 2024 évre | L9: Megvalósítás időtartama | N9: Tervezett időtáv | O9: A beruházás ütemezése a tervezési időszak évei szerint
E10: Jelenlegi műszaki állapot | F10: Feladat szükségessége | G10: Megvalósítást követő várható műszaki állapot | J10: (eFt) | L10: Kezdés | M10: Befejezés | N10: (rövid / közép / hosszú) | O10: 1 | P10: 2 | Q10: 3 | R10: 4 | S10: 5 | T10: 6 | U10: 7 | V10: 8 | W10: 9 | X10: 10 | Y10: 11 | Z10: 12 | AA10: 13 | AB10: 14 | AC10: 15
B11: szakág | C11: Helyszín | D11: beruházás megnevezése
A12: I. Felszín alatti vízkivétel
B13: MÉLYFÚRÁSÚ KÚT, HAGYOMÁNYOS ÁTMÉRŐVEL
B14: Épület, építmény
B16: Gép, berendezés
B18: Irányítástechnika, energiaellátás
B20: Összesen: | J20: =SUM(J12:J19) -> 0
A21: III. Vízműtelep és vízkezelő létesítmények
C22: Helyszín | D22: beruházás megnevezése
B23: VÍZMŰTELEP
B24: Épület, építmény
B26: Gép, berendezés
B28: Irányítástechnika, energiaellátás
B30: VÍZKEZELŐ LÉTESÍTMÉNYEK
B31: Épület, építmény
B33: Gép, berendezés
B35: Irányítástechnika, energiaellátás
B37: Összesen | J37: =SUM(J23:J36) -> 0
A38: IV. Vízelosztás
C39: Helyszín | D39: beruházás megnevezése
B40: IVÓVÍZHÁLÓZAT
B41: Épület, építmény
B43: Gép, berendezés
B45: Irányítástechnika, energiaellátás
B47: VÍZTÁROLÓK
B48: Épület, építmény
B50: Gép, berendezés
B52: Irányítástechnika, energiaellátás
B54: NYOMÁSFOKOZÓK
B55: Épület, építmény
B57: Gép, berendezés
...

Sheet Babosdöbréte
A1: Gördülő fejlesztési terv a 2024 - 2038 időszakra
A2: BERUHÁZÁSOK ÖSSZEFOGLALÓ TÁBLÁZATA
A3: A tervet benyújtó szervezet megnevezése: | K3: BABOSDÖBRÉTE | R3: ellátásért felelős / ellátásért felelősök képviselője / víziközmű-szolgáltató *
A4: Víziközmű-szolgáltató megnevezése: | K4: ÉSZAK ZALAI VÍZ- ÉS CSATORNAMŰ ZÁRTKÖRŰEN MŰKÖDŐ RÉSZVÉNYTÁRSASÁG
A5: Víziközmű-szolgáltatási ágazat megnevezése: | K5: IVÓVÍZ ÁGAZAT
A6: Véleményeltérést megfogalmazó érintett fél megnevezése:
A7: Víziközmű-rendszer kódja: ** | K7: 11-32054-1-029-02-07 | R7: Zalaegerszeg-IV
A9: Fontossági sorrend | B9: Beruházás megnevezése | E9: Műszaki állapot felmérés, szükségességi indoklás | H9: Vízjogi létesítési/elvi engedély száma | I9: Az érintett ellátásért felelős(ök) megnevezése | J9: Tervezett nettó költség | K9: Forrás 2024 évre | L9: Megvalósítás időtartama | N9: Tervezett időtáv | O9: A beruházás ütemezése a tervezési időszak évei szerint
E10: Jelenlegi műszaki állapot | F10: Feladat szükségessége | G10: Megvalósítást követő várható műszaki állapot | J10: (eFt) | L10: Kezdés | M10: Befejezés | N10: (rövid / közép / hosszú) | O10: 1 | P10: 2 | Q10: 3 | R10: 4 | S10: 5 | T10: 6 | U10: 7 | V10: 8 | W10: 9 | X10: 10 | Y10: 11 | Z10: 12 | AA10: 13 | AB10: 14 | AC10: 15
B11: szakág | C11: Helyszín | D11: beruházás megnevezése
A12: I. Felszín alatti vízkivétel
B13: MÉLYFÚRÁSÚ KÚT, HAGYOMÁNYOS ÁTMÉRŐVEL
B14: Épület, építmény
B16: Gép, berendezés
B18: Irányítástechnika, energiaellátás
B20: Összesen: | J20: =SUM(J12:J18) -> 0
A21: III. Vízműtelep és vízkezelő létesítmények
C22: Helyszín | D22: beruházás megnevezése
B23: VÍZMŰTELEP
B24: Épület, építmény
B26: Gép, berendezés
B28: Irányítástechnika, energiaellátás
B30: VÍZKEZELŐ LÉTESÍTMÉNYEK
B31: Épület, építmény
B33: Gép, berendezés
B35: Irányítástechnika, energiaellátás
B37: Összesen | J37: =SUM(J23:J36) -> 0
A38: IV. Vízelosztás
C39: Helyszín | D39: beruházás megnevezése
B40: IVÓVÍZHÁLÓZAT
B41: Épület, építmény
B43: Gép, berendezés
B45: Irányítástechnika, energiaellátás
B47: VÍZTÁROLÓK
B48: Épület, építmény
B50: Gép, berendezés
B52: Irányítástechnika, energiaellátás
B54: NYOMÁSFOKOZÓK
B55: Épület, építmény
B57: Gép, berendezés
...

Sheet Bagod
A1: Gördülő fejlesztési terv a 2024 - 2038 időszakra
A2: BERUHÁZÁSOK ÖSSZEFOGLALÓ TÁBLÁZATA
A3: A tervet benyújtó szervezet megnevezése: | K3: BAGOD | R3: ellátásért felelős / ellátásért felelősök képviselője / víziközmű-szolgáltató *
A4: Víziközmű-szolgáltató megnevezése: | K4: ÉSZAK ZALAI VÍZ- ÉS CSATORNAMŰ ZÁRTKÖRŰEN MŰKÖDŐ RÉSZVÉNYTÁRSASÁG
A5: Víziközmű-szolgáltatási ágazat megnevezése: | K5: IVÓVÍZ ÁGAZAT
A6: Véleményeltérést megfogalmazó érintett fél megnevezése:
A7: Víziközmű-rendszer kódja: ** | K7: 11-32054-1-029-02-07 | R7: Zalaegerszeg-IV
A9: Fontossági sorrend | B9: Beruházás megnevezése | E9: Műszaki állapot felmérés, szükségességi indoklás | H9: Vízjogi létesítési/elvi engedély száma | I9: Az érintett ellátásért felelős(ök) megnevezése | J9: Tervezett nettó költség | K9: Forrás 2024 évre | L9: Megvalósítás időtartama | N9: Tervezett időtáv | O9: A beruházás ütemezése a tervezési időszak évei szerint
E10: Jelenlegi műszaki állapot | F10: Feladat szükségessége | G10: Megvalósítást követő várható műszaki állapot | J10: (eFt) | L10: Kezdés | M10: Befejezés | N10: (rövid / közép / hosszú) | O10: 1 | P10: 2 | Q10: 3 | R10: 4 | S10: 5 | T10: 6 | U10: 7 | V10: 8 | W10: 9 | X10: 10 | Y10: 11 | Z10: 12 | AA10: 13 | AB10: 14 | AC10: 15
B11: szakág | C11: Helyszín | D11: beruházás megnevezése
A12: I. Felszín alatti vízkivétel
B13: MÉLYFÚRÁSÚ KÚT, HAGYOMÁNYOS ÁTMÉRŐVEL
B14: Épület, építmény
B16: Gép, berendezés
B18: Irányítástechnika, energiaellátás
B20: Összesen: | J20: =SUM(J12:J19) -> 0
A21: III. Vízműtelep és vízkezelő létesítmények
C22: Helyszín | D22: beruházás megnevezése
B23: VÍZMŰTELEP
B24: Épület, építmény
B26: Gép, berendezés
B28: Irányítástechnika, energiaellátás
B30: VÍZKEZELŐ LÉTESÍTMÉNYEK
B31: Épület, építmény
B33: Gép, berendezés
B35: Irányítástechnika, energiaellátás
B37: Összesen | J37: =SUM(J23:J36) -> 0
A38: IV. Vízelosztás
C39: Helyszín | D39: beruházás megnevezése
B40: IVÓVÍZHÁLÓZAT
B41: Épület, építmény
B43: Gép, berendezés
B45: Irányítástechnika, energiaellátás
B47: VÍZTÁROLÓK
B48: Épület, építmény
B50: Gép, berendezés
B52: Irányítástechnika, energiaellátás
B54: NYOMÁSFOKOZÓK
B55: Épület, építmény
B57: Gép, berendezés
...

Sheet Becsvölgye
A1: Gördülő fejlesztési terv a 2024 - 2038 időszakra
A2: BERUHÁZÁSOK ÖSSZEFOGLALÓ TÁBLÁZATA
A3: A tervet benyújtó szervezet megnevezése: | K3: BECSVÖLGYE | R3: ellátásért felelős / ellátásért felelősök képviselője / víziközmű-szolgáltató *
A4: Víziközmű-szolgáltató megnevezése: | K4: ÉSZAK ZALAI VÍZ- ÉS CSATORNAMŰ ZÁRTKÖRŰEN MŰKÖDŐ RÉSZVÉNYTÁRSASÁG
A5: Víziközmű-szolgáltatási ágazat megnevezése: | K5: IVÓVÍZ ÁGAZAT
A6: Véleményeltérést megfogalmazó érintett fél megnevezése:
A7: Víziközmű-rendszer kódja: ** | K7: 11-32054-1-029-02-07 | R7: Zalaegerszeg-IV
A9: Fontossági sorrend | B9: Beruházás megnevezése | E9: Műszaki állapot felmérés, szükségességi indoklás | H9: Vízjogi létesítési/elvi engedély száma | I9: Az érintett ellátásért felelős(ök) megnevezése | J9: Tervezett nettó költség | K9: Forrás 2024 évre | L9: Megvalósítás időtartama | N9: Tervezett időtáv | O9: A beruházás ütemezése a tervezési időszak évei szerint
E10: Jelenlegi műszaki állapot | F10: Feladat szükségessége | G10: Megvalósítást követő várható műszaki állapot | J10: (eFt) | L10: Kezdés | M10: Befejezés | N10: (rövid / közép / hosszú) | O10: 1 | P10: 2 | Q10: 3 | R10: 4 | S10: 5 | T10: 6 | U10: 7 | V10: 8 | W10: 9 | X10: 10 | Y10: 11 | Z10: 12 | AA10: 13 | AB10: 14 | AC10: 15
B11: szakág | C11: Helyszín | D11: beruházás megnevezése
A12: I. Felszín alatti vízkivétel
B13: MÉLYFÚRÁSÚ KÚT, HAGYOMÁNYOS ÁTMÉRŐVEL
B14: Épület, építmény
B16: Gép, berendezés
B18: Irányítástechnika, energiaellátás
B20: Összesen: | J20: =SUM(J12:J19) -> 0
A21: III. Vízműtelep és vízkezelő létesítmények
C22: Helyszín | D22: beruházás megnevezése
B23: VÍZMŰTELEP
B24: Épület, építmény
B26: Gép, berendezés
B28: Irányítástechnika, energiaellátás
B30: VÍZKEZELŐ LÉTESÍTMÉNYEK
B31: Épület, építmény
B33: Gép, berendezés
B35: Irányítástechnika, energiaellátás
B37: Összesen | J37: =SUM(J23:J36) -> 0
A38: IV. Vízelosztás
C39: Helyszín | D39: beruházás megnevezése
B40: IVÓVÍZHÁLÓZAT
B41: Épület, építmény
B43: Gép, berendezés
B45: Irányítástechnika, energiaellátás
B47: VÍZTÁROLÓK
B48: Épület, építmény
B50: Gép, berendezés
B52: Irányítástechnika, energiaellátás
B54: NYOMÁSFOKOZÓK
B55: Épület, építmény
B57: Gép, berendezés
...

Sheet Bocfölde
A1: Gördülő fejlesztési terv a 2024 - 2038 időszakra
A2: BERUHÁZÁSOK ÖSSZEFOGLALÓ TÁBLÁZATA
A3: A tervet benyújtó szervezet megnevezése: | K3: BOCFÖLDE | R3: ellátásért felelős / ellátásért felelősök képviselője / víziközmű-szolgáltató *
A4: Víziközmű-szolgáltató megnevezése: | K4: ÉSZAK ZALAI VÍZ- ÉS CSATORNAMŰ ZÁRTKÖRŰEN MŰKÖDŐ RÉSZVÉNYTÁRSASÁG
A5: Víziközmű-szolgáltatási ágazat megnevezése: | K5: IVÓVÍZ ÁGAZAT
A6: Véleményeltérést megfogalmazó érintett fél megnevezése:
A7: Víziközmű-rendszer kódja: ** | K7: 11-32054-1-029-02-07 | R7: Zalaegerszeg-IV
A9: Fontossági sorrend | B9: Beruházás megnevezése | E9: Műszaki állapot felmérés, szükségességi indoklás | H9: Vízjogi létesítési/elvi engedély száma | I9: Az érintett ellátásért felelős(ök) megnevezése | J9: Tervezett nettó költség | K9: Forrás 2024 évre | L9: Megvalósítás időtartama | N9: Tervezett időtáv | O9: A beruházás ütemezése a tervezési időszak évei szerint
E10: Jelenlegi műszaki állapot | F10: Feladat szükségessége | G10: Megvalósítást követő várható műszaki állapot | J10: (eFt) | L10: Kezdés | M10: Befejezés | N10: (rövid / közép / hosszú) | O10: 1 | P10: 2 | Q10: 3 | R10: 4 | S10: 5 | T10: 6 | U10: 7 | V10: 8 | W10: 9 | X10: 10 | Y10: 11 | Z10: 12 | AA10: 13 | AB10: 14 | AC10: 15
B11: szakág | C11: Helyszín | D11: beruházás megnevezése
A12: I. Felszín alatti vízkivétel
B13: MÉLYFÚRÁSÚ KÚT, HAGYOMÁNYOS ÁTMÉRŐVEL
B14: Épület, építmény
B16: Gép, berendezés
B18: Irányítástechnika, energiaellátás
B20: Összesen: | J20: =SUM(J12:J19) -> 0
A21: III. Vízműtelep és vízkezelő létesítmények
C22: Helyszín | D22: beruházás megnevezése
B23: VÍZMŰTELEP
B24: Épület, építmény
B26: Gép, berendezés
B28: Irányítástechnika, energiaellátás
B30: VÍZKEZELŐ LÉTESÍTMÉNYEK
B31: Épület, építmény
B33: Gép, berendezés
B35: Irányítástechnika, energiaellátás
B37: Összesen | J37: =SUM(J23:J36) -> 0
A38: IV. Vízelosztás
C39: Helyszín | D39: beruházás megnevezése
B40: IVÓVÍZHÁLÓZAT
B41: Épület, építmény
B43: Gép, berendezés
B45: Irányítástechnika, energiaellátás
B47: VÍZTÁROLÓK
B48: Épület, építmény
B50: Gép, berendezés
B52: Irányítástechnika, energiaellátás
B54: NYOMÁSFOKOZÓK
B55: Épület, építmény
B57: Gép, berendezés
...

Sheet Boncodfölde
A1: Gördülő fejlesztési terv a 2024 - 2038 időszakra
A2: BERUHÁZÁSOK ÖSSZEFOGLALÓ TÁBLÁZATA
A3: A tervet benyújtó szervezet megnevezése: | K3: BONCODFÖLDE | R3: ellátásért felelős / ellátásért felelősök képviselője / víziközmű-szolgáltató *
A4: Víziközmű-szolgáltató megnevezése: | K4: ÉSZAK ZALAI VÍZ- ÉS CSATORNAMŰ ZÁRTKÖRŰEN MŰKÖDŐ RÉSZVÉNYTÁRSASÁG
A5: Víziközmű-szolgáltatási ágazat megnevezése: | K5: IVÓVÍZ ÁGAZAT
A6: Véleményeltérést megfogalmazó érintett fél megnevezése:
A7: Víziközmű-rendszer kódja: ** | K7: 11-32054-1-029-02-07 | R7: Zalaegerszeg-IV
A9: Fontossági sorrend | B9: Beruházás megnevezése | E9: Műszaki állapot felmérés, szükségességi indoklás | H9: Vízjogi létesítési/elvi engedély száma | I9: Az érintett ellátásért felelős(ök) megnevezése | J9: Tervezett nettó költség | K9: Forrás 2024 évre | L9: Megvalósítás időtartama | N9: Tervezett időtáv | O9: A beruházás ütemezése a tervezési időszak évei szerint
E10: Jelenlegi műszaki állapot | F10: Feladat szükségessége | G10: Megvalósítást követő várható műszaki állapot | J10: (eFt) | L10: Kezdés | M10: Befejezés | N10: (rövid / közép / hosszú) | O10: 1 | P10: 2 | Q10: 3 | R10: 4 | S10: 5 | T10: 6 | U10: 7 | V10: 8 | W10: 9 | X10: 10 | Y10: 11 | Z10: 12 | AA10: 13 | AB10: 14 | AC10: 15
B11: szakág | C11: Helyszín | D11: beruházás megnevezése
A12: I. Felszín alatti vízkivétel
B13: MÉLYFÚRÁSÚ KÚT, HAGYOMÁNYOS ÁTMÉRŐVEL
B14: Épület, építmény
B16: Gép, berendezés
B18: Irányítástechnika, energiaellátás
B20: Összesen: | J20: =SUM(J12:J19) -> 0
A21: III. Vízműtelep és vízkezelő létesítmények
C22: Helyszín | D22: beruházás megnevezése
B23: VÍZMŰTELEP
B24: Épület, építmény
B26: Gép, berendezés
B28: Irányítástechnika, energiaellátás
B30: VÍZKEZELŐ LÉTESÍTMÉNYEK
B31: Épület, építmény
B33: Gép, berendezés
B35: Irányítástechnika, energiaellátás
B37: Összesen | J37: =SUM(J23:J36) -> 0
A38: IV. Vízelosztás
C39: Helyszín | D39: beruházás megnevezése
B40: IVÓVÍZHÁLÓZAT
B41: Épület, építmény
B43: Gép, berendezés
B45: Irányítástechnika, energiaellátás
B47: VÍZTÁROLÓK
B48: Épület, építmény
B50: Gép, berendezés
B52: Irányítástechnika, energiaellátás
B54: NYOMÁSFOKOZÓK
B55: Épület, építmény
B57: Gép, berendezés
...

Sheet Böde
A1: Gördülő fejlesztési terv a 2024 - 2038 időszakra
A2: BERUHÁZÁSOK ÖSSZEFOGLALÓ TÁBLÁZATA
A3: A tervet benyújtó szervezet megnevezése: | K3: BÖDE | R3: ellátásért felelős / ellátásért felelősök képviselője / víziközmű-szolgáltató *
A4: Víziközmű-szolgáltató megnevezése: | K4: ÉSZAK ZALAI VÍZ- ÉS CSATORNAMŰ ZÁRTKÖRŰEN MŰKÖDŐ RÉSZVÉNYTÁRSASÁG
A5: Víziközmű-szolgáltatási ágazat megnevezése: | K5: IVÓVÍZ ÁGAZAT
A6: Véleményeltérést megfogalmazó érintett fél megnevezése:
A7: Víziközmű-rendszer kódja: ** | K7: 11-32054-1-029-02-07 | R7: Zalaegerszeg-IV
A9: Fontossági sorrend | B9: Beruházás megnevezése | E9: Műszaki állapot felmérés, szükségességi indoklás | H9: Vízjogi létesítési/elvi engedély száma | I9: Az érintett ellátásért felelős(ök) megnevezése | J9: Tervezett nettó költség | K9: Forrás 2024 évre | L9: Megvalósítás időtartama | N9: Tervezett időtáv | O9: A beruházás ütemezése a tervezési időszak évei szerint
E10: Jelenlegi műszaki állapot | F10: Feladat szükségessége | G10: Megvalósítást követő várható műszaki állapot | J10: (eFt) | L10: Kezdés | M10: Befejezés | N10: (rövid / közép / hosszú) | O10: 1 | P10: 2 | Q10: 3 | R10: 4 | S10: 5 | T10: 6 | U10: 7 | V10: 8 | W10: 9 | X10: 10 | Y10: 11 | Z10: 12 | AA10: 13 | AB10: 14 | AC10: 15
B11: szakág | C11: Helyszín | D11: beruházás megnevezése
A12: I. Felszín alatti vízkivétel
B13: MÉLYFÚRÁSÚ KÚT, HAGYOMÁNYOS ÁTMÉRŐVEL
B14: Épület, építmény
B16: Gép, berendezés
B18: Irányítástechnika, energiaellátás
B20: Összesen: | J20: =SUM(J12:J18) -> 0
A21: III. Vízműtelep és vízkezelő létesítmények
C22: Helyszín | D22: beruházás megnevezése
B23: VÍZMŰTELEP
B24: Épület, építmény
B26: Gép, berendezés
B28: Irányítástechnika, energiaellátás
B30: VÍZKEZELŐ LÉTESÍTMÉNYEK
B31: Épület, építmény
B33: Gép, berendezés
B35: Irányítástechnika, energiaellátás
B37: Összesen | J37: =SUM(J23:J36) -> 0
A38: IV. Vízelosztás
C39: Helyszín | D39: beruházás megnevezése
B40: IVÓVÍZHÁLÓZAT
B41: Épület, építmény
B43: Gép, berendezés
B45: Irányítástechnika, energiaellátás
B47: VÍZTÁROLÓK
B48: Épület, építmény
B50: Gép, berendezés
B52: Irányítástechnika, energiaellátás
B54: NYOMÁSFOKOZÓK
B55: Épület, építmény
B57: Gép, berendezés
...

Sheet Csatár
A1: Gördülő fejlesztési terv a 2024 - 2038 időszakra
A2: BERUHÁZÁSOK ÖSSZEFOGLALÓ TÁBLÁZATA
A3: A tervet benyújtó szervezet megnevezése: | K3: CSATÁR | R3: ellátásért felelős / ellátásért felelősök képviselője / víziközmű-szolgáltató *
A4: Víziközmű-szolgáltató megnevezése: | K4: ÉSZAK ZALAI VÍZ- ÉS CSATORNAMŰ ZÁRTKÖRŰEN MŰKÖDŐ RÉSZVÉNYTÁRSASÁG
A5: Víziközmű-szolgáltatási ágazat megnevezése: | K5: IVÓVÍZ ÁGAZAT
A6: Véleményeltérést megfogalmazó érintett fél megnevezése:
A7: Víziközmű-rendszer kódja: ** | K7: 11-32054-1-029-02-07 | R7: Zalaegerszeg-IV
A9: Fontossági sorrend | B9: Beruházás megnevezése | E9: Műszaki állapot felmérés, szükségességi indoklás | H9: Vízjogi létesítési/elvi engedély száma | I9: Az érintett ellátásért felelős(ök) megnevezése | J9: Tervezett nettó költség | K9: Forrás 2024 évre | L9: Megvalósítás időtartama | N9: Tervezett időtáv | O9: A beruházás ütemezése a tervezési időszak évei szerint
E10: Jelenlegi műszaki állapot | F10: Feladat szükségessége | G10: Megvalósítást követő várható műszaki állapot | J10: (eFt) | L10: Kezdés | M10: Befejezés | N10: (rövid / közép / hosszú) | O10: 1 | P10: 2 | Q10: 3 | R10: 4 | S10: 5 | T10: 6 | U10: 7 | V10: 8 | W10: 9 | X10: 10 | Y10: 11 | Z10: 12 | AA10: 13 | AB10: 14 | AC10: 15
B11: szakág | C11: Helyszín | D11: beruházás megnevezése
A12: I. Felszín alatti vízkivétel
B13: MÉLYFÚRÁSÚ KÚT, HAGYOMÁNYOS ÁTMÉRŐVEL
B14: Épület, építmény
B16: Gép, berendezés
B18: Irányítástechnika, energiaellátás
B20: Összesen: | J20: =SUM(J12:J18) -> 0
A21: III. Vízműtelep és vízkezelő létesítmények
C22: Helyszín | D22: beruházás megnevezése
B23: VÍZMŰTELEP
B24: Épület, építmény
B26: Gép, berendezés
B28: Irányítástechnika, energiaellátás
B30: VÍZKEZELŐ LÉTESÍTMÉNYEK
B31: Épület, építmény
B33: Gép, berendezés
B35: Irányítástechnika, energiaellátás
B37: Összesen | J37: =SUM(J23:J36) -> 0
A38: IV. Vízelosztás
C39: Helyszín | D39: beruházás megnevezése
B40: IVÓVÍZHÁLÓZAT
B41: Épület, építmény
B43: Gép, berendezés
B45: Irányítástechnika, energiaellátás
B47: VÍZTÁROLÓK
B48: Épület, építmény
B50: Gép, berendezés
B52: Irányítástechnika, energiaellátás
B54: NYOMÁSFOKOZÓK
B55: Épület, építmény
B57: Gép, berendezés
...

Sheet Csonkahegyhát
A1: Gördülő fejlesztési terv a 2024 - 2038 időszakra
A2: BERUHÁZÁSOK ÖSSZEFOGLALÓ TÁBLÁZATA
A3: A tervet benyújtó szervezet megnevezése: | K3: CSONKAHEGYHÁT | R3: ellátásért felelős / ellátásért felelősök képviselője / víziközmű-szolgáltató *
A4: Víziközmű-szolgáltató megnevezése: | K4: ÉSZAK ZALAI VÍZ- ÉS CSATORNAMŰ ZÁRTKÖRŰEN MŰKÖDŐ RÉSZVÉNYTÁRSASÁG
A5: Víziközmű-szolgáltatási ágazat megnevezése: | K5: IVÓVÍZ ÁGAZAT
A6: Véleményeltérést megfogalmazó érintett fél megnevezése:
A7: Víziközmű-rendszer kódja: ** | K7: 11-32054-1-029-02-07 | R7: Zalaegerszeg-IV
A9: Fontossági sorrend | B9: Beruházás megnevezése | E9: Műszaki állapot felmérés, szükségességi indoklás | H9: Vízjogi létesítési/elvi engedély száma | I9: Az érintett ellátásért felelős(ök) megnevezése | J9: Tervezett nettó költség | K9: Forrás 2024 évre | L9: Megvalósítás időtartama | N9: Tervezett időtáv | O9: A beruházás ütemezése a tervezési időszak évei szerint
E10: Jelenlegi műszaki állapot | F10: Feladat szükségessége | G10: Megvalósítást követő várható műszaki állapot | J10: (eFt) | L10: Kezdés | M10: Befejezés | N10: (rövid / közép / hosszú) | O10: 1 | P10: 2 | Q10: 3 | R10: 4 | S10: 5 | T10: 6 | U10: 7 | V10: 8 | W10: 9 | X10: 10 | Y10: 11 | Z10: 12 | AA10: 13 | AB10: 14 | AC10: 15
B11: szakág | C11: Helyszín | D11: beruházás megnevezése
A12: I. Felszín alatti vízkivétel
B13: MÉLYFÚRÁSÚ KÚT, HAGYOMÁNYOS ÁTMÉRŐVEL
B14: Épület, építmény
B16: Gép, berendezés
B18: Irányítástechnika, energiaellátás
B20: Összesen: | J20: =SUM(J12:J19) -> 0
A21: III. Vízműtelep és vízkezelő létesítmények
C22: Helyszín | D22: beruházás megnevezése
B23: VÍZMŰTELEP
B24: Épület, építmény
B26: Gép, berendezés
B28: Irányítástechnika, energiaellátás
B30: VÍZKEZELŐ LÉTESÍTMÉNYEK
B31: Épület, építmény
B33: Gép, berendezés
B35: Irányítástechnika, energiaellátás
B37: Összesen | J37: =SUM(J23:J36) -> 0
A38: IV. Vízelosztás
C39: Helyszín | D39: beruházás megnevezése
B40: IVÓVÍZHÁLÓZAT
B41: Épület, építmény
B43: Gép, berendezés
B45: Irányítástechnika, energiaellátás
B47: VÍZTÁROLÓK
B48: Épület, építmény
B50: Gép, berendezés
B52: Irányítástechnika, energiaellátás
B54: NYOMÁSFOKOZÓK
B55: Épület, építmény
B57: Gép, berendezés
...

Sheet Dobronhegy
A1: Gördülő fejlesztési terv a 2024 - 2038 időszakra
A2: BERUHÁZÁSOK ÖSSZEFOGLALÓ TÁBLÁZATA
A3: A tervet benyújtó szervezet megnevezése: | K3: DOBRONHEGY | R3: ellátásért felelős / ellátásért felelősök képviselője / víziközmű-szolgáltató *
A4: Víziközmű-szolgáltató megnevezése: | K4: ÉSZAK ZALAI VÍZ- ÉS CSATORNAMŰ ZÁRTKÖRŰEN MŰKÖDŐ RÉSZVÉNYTÁRSASÁG
A5: Víziközmű-szolgáltatási ágazat megnevezése: | K5: IVÓVÍZ ÁGAZAT
A6: Véleményeltérést megfogalmazó érintett fél megnevezése:
A7: Víziközmű-rendszer kódja: ** | K7: 11-32054-1-029-02-07 | R7: Zalaegerszeg-IV
A9: Fontossági sorrend | B9: Beruházás megnevezése | E9: Műszaki állapot felmérés, szükségességi indoklás | H9: Vízjogi létesítési/elvi engedély száma | I9: Az érintett ellátásért felelős(ök) megnevezése | J9: Tervezett nettó költség | K9: Forrás 2024 évre | L9: Megvalósítás időtartama | N9: Tervezett időtáv | O9: A beruházás ütemezése a tervezési időszak évei szerint
E10: Jelenlegi műszaki állapot | F10: Feladat szükségessége | G10: Megvalósítást követő várható műszaki állapot | J10: (eFt) | L10: Kezdés | M10: Befejezés | N10: (rövid / közép / hosszú) | O10: 1 | P10: 2 | Q10: 3 | R10: 4 | S10: 5 | T10: 6 | U10: 7 | V10: 8 | W10: 9 | X10: 10 | Y10: 11 | Z10: 12 | AA10: 13 | AB10: 14 | AC10: 15
B11: szakág | C11: Helyszín | D11: beruházás megnevezése
A12: I. Felszín alatti vízkivétel
B13: MÉLYFÚRÁSÚ KÚT, HAGYOMÁNYOS ÁTMÉRŐVEL
B14: Épület, építmény
B16: Gép, berendezés
B18: Irányítástechnika, energiaellátás
B20: Összesen: | J20: =SUM(J12:J19) -> 0
A21: III. Vízműtelep és vízkezelő létesítmények
C22: Helyszín | D22: beruházás megnevezése
B23: VÍZMŰTELEP
B24: Épület, építmény
B26: Gép, berendezés
B28: Irányítástechnika, energiaellátás
B30: VÍZKEZELŐ LÉTESÍTMÉNYEK
B31: Épület, építmény
B33: Gép, berendezés
B35: Irányítástechnika, energiaellátás
B37: Összesen | J37: =SUM(J23:J36) -> 0
A38: IV. Vízelosztás
C39: Helyszín | D39: beruházás megnevezése
B40: IVÓVÍZHÁLÓZAT
B41: Épület, építmény
B43: Gép, berendezés
B45: Irányítástechnika, energiaellátás
B47: VÍZTÁROLÓK
B48: Épület, építmény
B50: Gép, berendezés
B52: Irányítástechnika, energiaellátás
B54: NYOMÁSFOKOZÓK
B55: Épület, építmény
B57: Gép, berendezés
...

Sheet Hagyárosbörönd
A1: Gördülő fejlesztési terv a 2024 - 2038 időszakra
A2: BERUHÁZÁSOK ÖSSZEFOGLALÓ TÁBLÁZATA
A3: A tervet benyújtó szervezet megnevezése: | K3: HAGYÁROSBÖRÖND | R3: ellátásért felelős / ellátásért felelősök képviselője / víziközmű-szolgáltató *
A4: Víziközmű-szolgáltató megnevezése: | K4: ÉSZAK ZALAI VÍZ- ÉS CSATORNAMŰ ZÁRTKÖRŰEN MŰKÖDŐ RÉSZVÉNYTÁRSASÁG
A5: Víziközmű-szolgáltatási ágazat megnevezése: | K5: IVÓVÍZ ÁGAZAT
A6: Véleményeltérést megfogalmazó érintett fél megnevezése:
A7: Víziközmű-rendszer kódja: ** | K7: 11-32054-1-029-02-07 | R7: Zalaegerszeg-IV
A9: Fontossági sorrend | B9: Beruházás megnevezése | E9: Műszaki állapot felmérés, szükségességi indoklás | H9: Vízjogi létesítési/elvi engedély száma | I9: Az érintett ellátásért felelős(ök) megnevezése | J9: Tervezett nettó költség | K9: Forrás 2024 évre | L9: Megvalósítás időtartama | N9: Tervezett időtáv | O9: A beruházás ütemezése a tervezési időszak évei szerint
E10: Jelenlegi műszaki állapot | F10: Feladat szükségessége | G10: Megvalósítást követő várható műszaki állapot | J10: (eFt) | L10: Kezdés | M10: Befejezés | N10: (rövid / közép / hosszú) | O10: 1 | P10: 2 | Q10: 3 | R10: 4 | S10: 5 | T10: 6 | U10: 7 | V10: 8 | W10: 9 | X10: 10 | Y10: 11 | Z10: 12 | AA10: 13 | AB10: 14 | AC10: 15
B11: szakág | C11: Helyszín | D11: beruházás megnevezése
A12: I. Felszín alatti vízkivétel
B13: MÉLYFÚRÁSÚ KÚT, HAGYOMÁNYOS ÁTMÉRŐVEL
B14: Épület, építmény
B16: Gép, berendezés
B18: Irányítástechnika, energiaellátás
B20: Összesen: | J20: =SUM(J12:J19) -> 0
A21: III. Vízműtelep és vízkezelő létesítmények
C22: Helyszín | D22: beruházás megnevezése
B23: VÍZMŰTELEP
B24: Épület, építmény
B26: Gép, berendezés
B28: Irányítástechnika, energiaellátás
B30: VÍZKEZELŐ LÉTESÍTMÉNYEK
B31: Épület, építmény
B33: Gép, berendezés
B35: Irányítástechnika, energiaellátás
B37: Összesen | J37: =SUM(J23:J36) -> 0
A38: IV. Vízelosztás
C39: Helyszín | D39: beruházás megnevezése
B40: IVÓVÍZHÁLÓZAT
B41: Épület, építmény
B43: Gép, berendezés
B45: Irányítástechnika, energiaellátás
B47: VÍZTÁROLÓK
B48: Épület, építmény
B50: Gép, berendezés
B52: Irányítástechnika, energiaellátás
B54: NYOMÁSFOKOZÓK
B55: Épület, építmény
B57: Gép, berendezés
...

Sheet Hottó
A1: Gördülő fejlesztési terv a 2024 - 2038 időszakra
A2: BERUHÁZÁSOK ÖSSZEFOGLALÓ TÁBLÁZATA
A3: A tervet benyújtó szervezet megnevezése: | K3: HOTTÓ | R3: ellátásért felelős / ellátásért felelősök képviselője / víziközmű-szolgáltató *
A4: Víziközmű-szolgáltató megnevezése: | K4: ÉSZAK ZALAI VÍZ- ÉS CSATORNAMŰ ZÁRTKÖRŰEN MŰKÖDŐ RÉSZVÉNYTÁRSASÁG
A5: Víziközmű-szolgáltatási ágazat megnevezése: | K5: IVÓVÍZ ÁGAZAT
A6: Véleményeltérést megfogalmazó érintett fél megnevezése:
A7: Víziközmű-rendszer kódja: ** | K7: 11-32054-1-029-02-07 | R7: Zalaegerszeg-IV
A9: Fontossági sorrend | B9: Beruházás megnevezése | E9: Műszaki állapot felmérés, szükségességi indoklás | H9: Vízjogi létesítési/elvi engedély száma | I9: Az érintett ellátásért felelős(ök) megnevezése | J9: Tervezett nettó költség | K9: Forrás 2024 évre | L9: Megvalósítás időtartama | N9: Tervezett időtáv | O9: A beruházás ütemezése a tervezési időszak évei szerint
E10: Jelenlegi műszaki állapot | F10: Feladat szükségessége | G10: Megvalósítást követő várható műszaki állapot | J10: (eFt) | L10: Kezdés | M10: Befejezés | N10: (rövid / közép / hosszú) | O10: 1 | P10: 2 | Q10: 3 | R10: 4 | S10: 5 | T10: 6 | U10: 7 | V10: 8 | W10: 9 | X10: 10 | Y10: 11 | Z10: 12 | AA10: 13 | AB10: 14 | AC10: 15
B11: szakág | C11: Helyszín | D11: beruházás megnevezése
A12: I. Felszín alatti vízkivétel
B13: MÉLYFÚRÁSÚ KÚT, HAGYOMÁNYOS ÁTMÉRŐVEL
B14: Épület, építmény
B16: Gép, berendezés
B18: Irányítástechnika, energiaellátás
B20: Összesen: | J20: =SUM(J12:J18) -> 0
A21: III. Vízműtelep és vízkezelő létesítmények
C22: Helyszín | D22: beruházás megnevezése
B23: VÍZMŰTELEP
B24: Épület, építmény
B26: Gép, berendezés
B28: Irányítástechnika, energiaellátás
B30: VÍZKEZELŐ LÉTESÍTMÉNYEK
B31: Épület, építmény
B33: Gép, berendezés
B35: Irányítástechnika, energiaellátás
B37: Összesen | J37: =SUM(J23:J36) -> 0
A38: IV. Vízelosztás
C39: Helyszín | D39: beruházás megnevezése
B40: IVÓVÍZHÁLÓZAT
B41: Épület, építmény
B43: Gép, berendezés
B45: Irányítástechnika, energiaellátás
B47: VÍZTÁROLÓK
B48: Épület, építmény
B50: Gép, berendezés
B52: Irányítástechnika, energiaellátás
B54: NYOMÁSFOKOZÓK
B55: Épület, építmény
B57: Gép, berendezés
...

Sheet Kávás
A1: Gördülő fejlesztési terv a 2024 - 2038 időszakra
A2: BERUHÁZÁSOK ÖSSZEFOGLALÓ TÁBLÁZATA
A3: A tervet benyújtó szervezet megnevezése: | K3: KÁVÁS | R3: ellátásért felelős / ellátásért felelősök képviselője / víziközmű-szolgáltató *
A4: Víziközmű-szolgáltató megnevezése: | K4: ÉSZAK ZALAI VÍZ- ÉS CSATORNAMŰ ZÁRTKÖRŰEN MŰKÖDŐ RÉSZVÉNYTÁRSASÁG
A5: Víziközmű-szolgáltatási ágazat megnevezése: | K5: IVÓVÍZ ÁGAZAT
A6: Véleményeltérést megfogalmazó érintett fél megnevezése:
A7: Víziközmű-rendszer kódja: ** | K7: 11-32054-1-029-02-07 | R7: Zalaegerszeg-IV
A9: Fontossági sorrend | B9: Beruházás megnevezése | E9: Műszaki állapot felmérés, szükségességi indoklás | H9: Vízjogi létesítési/elvi engedély száma | I9: Az érintett ellátásért felelős(ök) megnevezése | J9: Tervezett nettó költség | K9: Forrás 2024 évre | L9: Megvalósítás időtartama | N9: Tervezett időtáv | O9: A beruházás ütemezése a tervezési időszak évei szerint
E10: Jelenlegi műszaki állapot | F10: Feladat szükségessége | G10: Megvalósítást követő várható műszaki állapot | J10: (eFt) | L10: Kezdés | M10: Befejezés | N10: (rövid / közép / hosszú) | O10: 1 | P10: 2 | Q10: 3 | R10: 4 | S10: 5 | T10: 6 | U10: 7 | V10: 8 | W10: 9 | X10: 10 | Y10: 11 | Z10: 12 | AA10: 13 | AB10: 14 | AC10: 15
B11: szakág | C11: Helyszín | D11: beruházás megnevezése
A12: I. Felszín alatti vízkivétel
B13: MÉLYFÚRÁSÚ KÚT, HAGYOMÁNYOS ÁTMÉRŐVEL
B14: Épület, építmény
B16: Gép, berendezés
B18: Irányítástechnika, energiaellátás
B20: Összesen: | J20: =SUM(J12:J19) -> 0
A21: III. Vízműtelep és vízkezelő létesítmények
C22: Helyszín | D22: beruházás megnevezése
B23: VÍZMŰTELEP
B24: Épület, építmény
B26: Gép, berendezés
B28: Irányítástechnika, energiaellátás
B30: VÍZKEZELŐ LÉTESÍTMÉNYEK
B31: Épület, építmény
B33: Gép, berendezés
B35: Irányítástechnika, energiaellátás
B37: Összesen | J37: =SUM(J23:J36) -> 0
A38: IV. Vízelosztás
C39: Helyszín | D39: beruházás megnevezése
B40: IVÓVÍZHÁLÓZAT
B41: Épület, építmény
B43: Gép, berendezés
B45: Irányítástechnika, energiaellátás
B47: VÍZTÁROLÓK
B48: Épület, építmény
B50: Gép, berendezés
B52: Irányítástechnika, energiaellátás
B54: NYOMÁSFOKOZÓK
B55: Épület, építmény
B57: Gép, berendezés
...

Sheet Kiskutas
A1: Gördülő fejlesztési terv a 2024 - 2038 időszakra
A2: BERUHÁZÁSOK ÖSSZEFOGLALÓ TÁBLÁZATA
A3: A tervet benyújtó szervezet megnevezése: | K3: KISKUTAS | R3: ellátásért felelős / ellátásért felelősök képviselője / víziközmű-szolgáltató *
A4: Víziközmű-szolgáltató megnevezése: | K4: ÉSZAK ZALAI VÍZ- ÉS CSATORNAMŰ ZÁRTKÖRŰEN MŰKÖDŐ RÉSZVÉNYTÁRSASÁG
A5: Víziközmű-szolgáltatási ágazat megnevezése: | K5: IVÓVÍZ ÁGAZAT
A6: Véleményeltérést megfogalmazó érintett fél megnevezése:
A7: Víziközmű-rendszer kódja: ** | K7: 11-32054-1-029-02-07 | R7: Zalaegerszeg-IV
A9: Fontossági sorrend | B9: Beruházás megnevezése | E9: Műszaki állapot felmérés, szükségességi indoklás | H9: Vízjogi létesítési/elvi engedély száma | I9: Az érintett ellátásért felelős(ök) megnevezése | J9: Tervezett nettó költség | K9: Forrás 2024 évre | L9: Megvalósítás időtartama | N9: Tervezett időtáv | O9: A beruházás ütemezése a tervezési időszak évei szerint
E10: Jelenlegi műszaki állapot | F10: Feladat szükségessége | G10: Megvalósítást követő várható műszaki állapot | J10: (eFt) | L10: Kezdés | M10: Befejezés | N10: (rövid / közép / hosszú) | O10: 1 | P10: 2 | Q10: 3 | R10: 4 | S10: 5 | T10: 6 | U10: 7 | V10: 8 | W10: 9 | X10: 10 | Y10: 11 | Z10: 12 | AA10: 13 | AB10: 14 | AC10: 15
B11: szakág | C11: Helyszín | D11: beruházás megnevezése
A12: I. Felszín alatti vízkivétel
B13: MÉLYFÚRÁSÚ KÚT, HAGYOMÁNYOS ÁTMÉRŐVEL
B14: Épület, építmény
B16: Gép, berendezés
B18: Irányítástechnika, energiaellátás
B20: Összesen: | J20: =SUM(J12:J18) -> 0
A21: III. Vízműtelep és vízkezelő létesítmények
C22: Helyszín | D22: beruházás megnevezése
B23: VÍZMŰTELEP
B24: Épület, építmény
B26: Gép, berendezés
B28: Irányítástechnika, energiaellátás
B30: VÍZKEZELŐ LÉTESÍTMÉNYEK
B31: Épület, építmény
B33: Gép, berendezés
B35: Irányítástechnika, energiaellátás
B37: Összesen | J37: =SUM(J23:J36) -> 0
A38: IV. Vízelosztás
C39: Helyszín | D39: beruházás megnevezése
B40: IVÓVÍZHÁLÓZAT
B41: Épület, építmény
B43: Gép, berendezés
B45: Irányítástechnika, energiaellátás
B47: VÍZTÁROLÓK
B48: Épület, építmény
B50: Gép, berendezés
B52: Irányítástechnika, energiaellátás
B54: NYOMÁSFOKOZÓK
B55: Épület, építmény
B57: Gép, berendezés
...

Sheet Kispáli
A1: Gördülő fejlesztési terv a 2024 - 2038 időszakra
A2: BERUHÁZÁSOK ÖSSZEFOGLALÓ TÁBLÁZATA
A3: A tervet benyújtó szervezet megnevezése: | K3: KISPÁLI | R3: ellátásért felelős / ellátásért felelősök képviselője / víziközmű-szolgáltató *
A4: Víziközmű-szolgáltató megnevezése: | K4: ÉSZAK ZALAI VÍZ- ÉS CSATORNAMŰ ZÁRTKÖRŰEN MŰKÖDŐ RÉSZVÉNYTÁRSASÁG
A5: Víziközmű-szolgáltatási ágazat megnevezése: | K5: IVÓVÍZ ÁGAZAT
A6: Véleményeltérést megfogalmazó érintett fél megnevezése:
A7: Víziközmű-rendszer kódja: ** | K7: 11-32054-1-029-02-07 | R7: Zalaegerszeg-IV
A9: Fontossági sorrend | B9: Beruházás megnevezése | E9: Műszaki állapot felmérés, szükségességi indoklás | H9: Vízjogi létesítési/elvi engedély száma | I9: Az érintett ellátásért felelős(ök) megnevezése | J9: Tervezett nettó költség | K9: Forrás 2024 évre | L9: Megvalósítás időtartama | N9: Tervezett időtáv | O9: A beruházás ütemezése a tervezési időszak évei szerint
E10: Jelenlegi műszaki állapot | F10: Feladat szükségessége | G10: Megvalósítást követő várható műszaki állapot | J10: (eFt) | L10: Kezdés | M10: Befejezés | N10: (rövid / közép / hosszú) | O10: 1 | P10: 2 | Q10: 3 | R10: 4 | S10: 5 | T10: 6 | U10: 7 | V10: 8 | W10: 9 | X10: 10 | Y10: 11 | Z10: 12 | AA10: 13 | AB10: 14 | AC10: 15
B11: szakág | C11: Helyszín | D11: beruházás megnevezése
A12: I. Felszín alatti vízkivétel
B13: MÉLYFÚRÁSÚ KÚT, HAGYOMÁNYOS ÁTMÉRŐVEL
B14: Épület, építmény
B16: Gép, berendezés
B18: Irányítástechnika, energiaellátás
B20: Összesen: | J20: =SUM(J12:J19) -> 0
A21: III. Vízműtelep és vízkezelő létesítmények
C22: Helyszín | D22: beruházás megnevezése
B23: VÍZMŰTELEP
B24: Épület, építmény
B26: Gép, berendezés
B28: Irányítástechnika, energiaellátás
B30: VÍZKEZELŐ LÉTESÍTMÉNYEK
B31: Épület, építmény
B33: Gép, berendezés
B35: Irányítástechnika, energiaellátás
B37: Összesen | J37: =SUM(J23:J36) -> 0
A38: IV. Vízelosztás
C39: Helyszín | D39: beruházás megnevezése
B40: IVÓVÍZHÁLÓZAT
B41: Épület, építmény
B43: Gép, berendezés
B45: Irányítástechnika, energiaellátás
B47: VÍZTÁROLÓK
B48: Épület, építmény
B50: Gép, berendezés
B52: Irányítástechnika, energiaellátás
B54: NYOMÁSFOKOZÓK
B55: Épület, építmény
B57: Gép, berendezés
...

Sheet Kustánszeg
A1: Gördülő fejlesztési terv a 2024 - 2038 időszakra
A2: BERUHÁZÁSOK ÖSSZEFOGLALÓ TÁBLÁZATA
A3: A tervet benyújtó szervezet megnevezése: | K3: KUSTÁNSZEG | R3: ellátásért felelős / ellátásért felelősök képviselője / víziközmű-szolgáltató *
A4: Víziközmű-szolgáltató megnevezése: | K4: ÉSZAK ZALAI VÍZ- ÉS CSATORNAMŰ ZÁRTKÖRŰEN MŰKÖDŐ RÉSZVÉNYTÁRSASÁG
A5: Víziközmű-szolgáltatási ágazat megnevezése: | K5: IVÓVÍZ ÁGAZAT
A6: Véleményeltérést megfogalmazó érintett fél megnevezése:
A7: Víziközmű-rendszer kódja: ** | K7: 11-32054-1-029-02-07 | R7: Zalaegerszeg-IV
A9: Fontossági sorrend | B9: Beruházás megnevezése | E9: Műszaki állapot felmérés, szükségességi indoklás | H9: Vízjogi létesítési/elvi engedély száma | I9: Az érintett ellátásért felelős(ök) megnevezése | J9: Tervezett nettó költség | K9: Forrás 2024 évre | L9: Megvalósítás időtartama | N9: Tervezett időtáv | O9: A beruházás ütemezése a tervezési időszak évei szerint
E10: Jelenlegi műszaki állapot | F10: Feladat szükségessége | G10: Megvalósítást követő várható műszaki állapot | J10: (eFt) | L10: Kezdés | M10: Befejezés | N10: (rövid / közép / hosszú) | O10: 1 | P10: 2 | Q10: 3 | R10: 4 | S10: 5 | T10: 6 | U10: 7 | V10: 8 | W10: 9 | X10: 10 | Y10: 11 | Z10: 12 | AA10: 13 | AB10: 14 | AC10: 15
B11: szakág | C11: Helyszín | D11: beruházás megnevezése
A12: I. Felszín alatti vízkivétel
B13: MÉLYFÚRÁSÚ KÚT, HAGYOMÁNYOS ÁTMÉRŐVEL
B14: Épület, építmény
B16: Gép, berendezés
B18: Irányítástechnika, energiaellátás
B20: Összesen: | J20: =SUM(J12:J19) -> 0
A21: III. Vízműtelep és vízkezelő létesítmények
C22: Helyszín | D22: beruházás megnevezése
B23: VÍZMŰTELEP
B24: Épület, építmény
B26: Gép, berendezés
B28: Irányítástechnika, energiaellátás
B30: VÍZKEZELŐ LÉTESÍTMÉNYEK
B31: Épület, építmény
B33: Gép, berendezés
B35: Irányítástechnika, energiaellátás
B37: Összesen | J37: =SUM(J23:J36) -> 0
A38: IV. Vízelosztás
C39: Helyszín | D39: beruházás megnevezése
B40: IVÓVÍZHÁLÓZAT
B41: Épület, építmény
B43: Gép, berendezés
B45: Irányítástechnika, energiaellátás
B47: VÍZTÁROLÓK
B48: Épület, építmény
B50: Gép, berendezés
B52: Irányítástechnika, energiaellátás
B54: NYOMÁSFOKOZÓK
B55: Épület, építmény
B57: Gép, berendezés
...

Sheet Milejszeg
A1: Gördülő fejlesztési terv a 2024 - 2038 időszakra
A2: BERUHÁZÁSOK ÖSSZEFOGLALÓ TÁBLÁZATA
A3: A tervet benyújtó szervezet megnevezése: | K3: MILEJSZEG | R3: ellátásért felelős / ellátásért felelősök képviselője / víziközmű-szolgáltató *
A4: Víziközmű-szolgáltató megnevezése: | K4: ÉSZAK ZALAI VÍZ- ÉS CSATORNAMŰ ZÁRTKÖRŰEN MŰKÖDŐ RÉSZVÉNYTÁRSASÁG
A5: Víziközmű-szolgáltatási ágazat megnevezése: | K5: IVÓVÍZ ÁGAZAT
A6: Véleményeltérést megfogalmazó érintett fél megnevezése:
A7: Víziközmű-rendszer kódja: ** | K7: 11-32054-1-029-02-07 | R7: Zalaegerszeg-IV
A9: Fontossági sorrend | B9: Beruházás megnevezése | E9: Műszaki állapot felmérés, szükségességi indoklás | H9: Vízjogi létesítési/elvi engedély száma | I9: Az érintett ellátásért felelős(ök) megnevezése | J9: Tervezett nettó költség | K9: Forrás 2024 évre | L9: Megvalósítás időtartama | N9: Tervezett időtáv | O9: A beruházás ütemezése a tervezési időszak évei szerint
E10: Jelenlegi műszaki állapot | F10: Feladat szükségessége | G10: Megvalósítást követő várható műszaki állapot | J10: (eFt) | L10: Kezdés | M10: Befejezés | N10: (rövid / közép / hosszú) | O10: 1 | P10: 2 | Q10: 3 | R10: 4 | S10: 5 | T10: 6 | U10: 7 | V10: 8 | W10: 9 | X10: 10 | Y10: 11 | Z10: 12 | AA10: 13 | AB10: 14 | AC10: 15
B11: szakág | C11: Helyszín | D11: beruházás megnevezése
A12: I. Felszín alatti vízkivétel
B13: MÉLYFÚRÁSÚ KÚT, HAGYOMÁNYOS ÁTMÉRŐVEL
B14: Épület, építmény
B16: Gép, berendezés
B18: Irányítástechnika, energiaellátás
B20: Összesen: | J20: =SUM(J12:J19) -> 0
A21: III. Vízműtelep és vízkezelő létesítmények
C22: Helyszín | D22: beruházás megnevezése
B23: VÍZMŰTELEP
B24: Épület, építmény
B26: Gép, berendezés
B28: Irányítástechnika, energiaellátás
B30: VÍZKEZELŐ LÉTESÍTMÉNYEK
B31: Épület, építmény
B33: Gép, berendezés
B35: Irányítástechnika, energiaellátás
B37: Összesen | J37: =SUM(J23:J36) -> 0
A38: IV. Vízelosztás
C39: Helyszín | D39: beruházás megnevezése
B40: IVÓVÍZHÁLÓZAT
B41: Épület, építmény
B43: Gép, berendezés
B45: Irányítástechnika, energiaellátás
B47: VÍZTÁROLÓK
B48: Épület, építmény
B50: Gép, berendezés
B52: Irányítástechnika, energiaellátás
B54: NYOMÁSFOKOZÓK
B55: Épület, építmény
B57: Gép, berendezés
...

Sheet Nagykutas
A1: Gördülő fejlesztési terv a 2024 - 2038 időszakra
A2: BERUHÁZÁSOK ÖSSZEFOGLALÓ TÁBLÁZATA
A3: A tervet benyújtó szervezet megnevezése: | K3: NAGYKUTAS | R3: ellátásért felelős / ellátásért felelősök képviselője / víziközmű-szolgáltató *
A4: Víziközmű-szolgáltató megnevezése: | K4: ÉSZAK ZALAI VÍZ- ÉS CSATORNAMŰ ZÁRTKÖRŰEN MŰKÖDŐ RÉSZVÉNYTÁRSASÁG
A5: Víziközmű-szolgáltatási ágazat megnevezése: | K5: IVÓVÍZ ÁGAZAT
A6: Véleményeltérést megfogalmazó érintett fél megnevezése:
A7: Víziközmű-rendszer kódja: ** | K7: 11-32054-1-029-02-07 | R7: Zalaegerszeg-IV
A9: Fontossági sorrend | B9: Beruházás megnevezése | E9: Műszaki állapot felmérés, szükségességi indoklás | H9: Vízjogi létesítési/elvi engedély száma | I9: Az érintett ellátásért felelős(ök) megnevezése | J9: Tervezett nettó költség | K9: Forrás 2024 évre | L9: Megvalósítás időtartama | N9: Tervezett időtáv | O9: A beruházás ütemezése a tervezési időszak évei szerint
E10: Jelenlegi műszaki állapot | F10: Feladat szükségessége | G10: Megvalósítást követő várható műszaki állapot | J10: (eFt) | L10: Kezdés | M10: Befejezés | N10: (rövid / közép / hosszú) | O10: 1 | P10: 2 | Q10: 3 | R10: 4 | S10: 5 | T10: 6 | U10: 7 | V10: 8 | W10: 9 | X10: 10 | Y10: 11 | Z10: 12 | AA10: 13 | AB10: 14 | AC10: 15
B11: szakág | C11: Helyszín | D11: beruházás megnevezése
A12: I. Felszín alatti vízkivétel
B13: MÉLYFÚRÁSÚ KÚT, HAGYOMÁNYOS ÁTMÉRŐVEL
B14: Épület, építmény
B16: Gép, berendezés
B18: Irányítástechnika, energiaellátás
B20: Összesen: | J20: =SUM(J12:J18) -> 0
A21: III. Vízműtelep és vízkezelő létesítmények
C22: Helyszín | D22: beruházás megnevezése
B23: VÍZMŰTELEP
B24: Épület, építmény
B26: Gép, berendezés
B28: Irányítástechnika, energiaellátás
B30: VÍZKEZELŐ LÉTESÍTMÉNYEK
B31: Épület, építmény
B33: Gép, berendezés
B35: Irányítástechnika, energiaellátás
B37: Összesen | J37: =SUM(J23:J36) -> 0
A38: IV. Vízelosztás
C39: Helyszín | D39: beruházás megnevezése
B40: IVÓVÍZHÁLÓZAT
B41: Épület, építmény
B43: Gép, berendezés
B45: Irányítástechnika, energiaellátás
B47: VÍZTÁROLÓK
B48: Épület, építmény
B50: Gép, berendezés
B52: Irányítástechnika, energiaellátás
B54: NYOMÁSFOKOZÓK
B55: Épület, építmény
B57: Gép, berendezés
...

Sheet Nagypáli
A1: Gördülő fejlesztési terv a 2024 - 2038 időszakra
A2: BERUHÁZÁSOK ÖSSZEFOGLALÓ TÁBLÁZATA
A3: A tervet benyújtó szervezet megnevezése: | K3: NAGYPÁLI | R3: ellátásért felelős / ellátásért felelősök képviselője / víziközmű-szolgáltató *
A4: Víziközmű-szolgáltató megnevezése: | K4: ÉSZAK ZALAI VÍZ- ÉS CSATORNAMŰ ZÁRTKÖRŰEN MŰKÖDŐ RÉSZVÉNYTÁRSASÁG
A5: Víziközmű-szolgáltatási ágazat megnevezése: | K5: IVÓVÍZ ÁGAZAT
A6: Véleményeltérést megfogalmazó érintett fél megnevezése:
A7: Víziközmű-rendszer kódja: ** | K7: 11-32054-1-029-02-07 | R7: Zalaegerszeg-IV
A9: Fontossági sorrend | B9: Beruházás megnevezése | E9: Műszaki állapot felmérés, szükségességi indoklás | H9: Vízjogi létesítési/elvi engedély száma | I9: Az érintett ellátásért felelős(ök) megnevezése | J9: Tervezett nettó költség | K9: Forrás 2024 évre | L9: Megvalósítás időtartama | N9: Tervezett időtáv | O9: A beruházás ütemezése a tervezési időszak évei szerint
E10: Jelenlegi műszaki állapot | F10: Feladat szükségessége | G10: Megvalósítást követő várható műszaki állapot | J10: (eFt) | L10: Kezdés | M10: Befejezés | N10: (rövid / közép / hosszú) | O10: 1 | P10: 2 | Q10: 3 | R10: 4 | S10: 5 | T10: 6 | U10: 7 | V10: 8 | W10: 9 | X10: 10 | Y10: 11 | Z10: 12 | AA10: 13 | AB10: 14 | AC10: 15
B11: szakág | C11: Helyszín | D11: beruházás megnevezése
A12: I. Felszín alatti vízkivétel
B13: MÉLYFÚRÁSÚ KÚT, HAGYOMÁNYOS ÁTMÉRŐVEL
B14: Épület, építmény
B16: Gép, berendezés
B18: Irányítástechnika, energiaellátás
B20: Összesen: | J20: =SUM(J12:J19) -> 0
A21: III. Vízműtelep és vízkezelő létesítmények
C22: Helyszín | D22: beruházás megnevezése
B23: VÍZMŰTELEP
B24: Épület, építmény
B26: Gép, berendezés
B28: Irányítástechnika, energiaellátás
B30: VÍZKEZELŐ LÉTESÍTMÉNYEK
B31: Épület, építmény
B33: Gép, berendezés
B35: Irányítástechnika, energiaellátás
B37: Összesen | J37: =SUM(J23:J36) -> 0
A38: IV. Vízelosztás
C39: Helyszín | D39: beruházás megnevezése
B40: IVÓVÍZHÁLÓZAT
B41: Épület, építmény
B43: Gép, berendezés
B45: Irányítástechnika, energiaellátás
B47: VÍZTÁROLÓK
B48: Épület, építmény
B50: Gép, berendezés
B52: Irányítástechnika, energiaellátás
B54: NYOMÁSFOKOZÓK
B55: Épület, építmény
B57: Gép, berendezés
...

Sheet Németfalu
A1: Gördülő fejlesztési terv a 2024 - 2038 időszakra
A2: BERUHÁZÁSOK ÖSSZEFOGLALÓ TÁBLÁZATA
A3: A tervet benyújtó szervezet megnevezése: | K3: NÉMETFALU | R3: ellátásért felelős / ellátásért felelősök képviselője / víziközmű-szolgáltató *
A4: Víziközmű-szolgáltató megnevezése: | K4: ÉSZAK ZALAI VÍZ- ÉS CSATORNAMŰ ZÁRTKÖRŰEN MŰKÖDŐ RÉSZVÉNYTÁRSASÁG
A5: Víziközmű-szolgáltatási ágazat megnevezése: | K5: IVÓVÍZ ÁGAZAT
A6: Véleményeltérést megfogalmazó érintett fél megnevezése:
A7: Víziközmű-rendszer kódja: ** | K7: 11-32054-1-029-02-07 | R7: Zalaegerszeg-IV
A9: Fontossági sorrend | B9: Beruházás megnevezése | E9: Műszaki állapot felmérés, szükségességi indoklás | H9: Vízjogi létesítési/elvi engedély száma | I9: Az érintett ellátásért felelős(ök) megnevezése | J9: Tervezett nettó költség | K9: Forrás 2024 évre | L9: Megvalósítás időtartama | N9: Tervezett időtáv | O9: A beruházás ütemezése a tervezési időszak évei szerint
E10: Jelenlegi műszaki állapot | F10: Feladat szükségessége | G10: Megvalósítást követő várható műszaki állapot | J10: (eFt) | L10: Kezdés | M10: Befejezés | N10: (rövid / közép / hosszú) | O10: 1 | P10: 2 | Q10: 3 | R10: 4 | S10: 5 | T10: 6 | U10: 7 | V10: 8 | W10: 9 | X10: 10 | Y10: 11 | Z10: 12 | AA10: 13 | AB10: 14 | AC10: 15
B11: szakág | C11: Helyszín | D11: beruházás megnevezése
A12: I. Felszín alatti vízkivétel
B13: MÉLYFÚRÁSÚ KÚT, HAGYOMÁNYOS ÁTMÉRŐVEL
B14: Épület, építmény
B16: Gép, berendezés
B18: Irányítástechnika, energiaellátás
B20: Összesen: | J20: =SUM(J12:J19) -> 0
A21: III. Vízműtelep és vízkezelő létesítmények
C22: Helyszín | D22: beruházás megnevezése
B23: VÍZMŰTELEP
B24: Épület, építmény
B26: Gép, berendezés
B28: Irányítástechnika, energiaellátás
B30: VÍZKEZELŐ LÉTESÍTMÉNYEK
B31: Épület, építmény
B33: Gép, berendezés
B35: Irányítástechnika, energiaellátás
B37: Összesen | J37: =SUM(J23:J36) -> 0
A38: IV. Vízelosztás
C39: Helyszín | D39: beruházás megnevezése
B40: IVÓVÍZHÁLÓZAT
B41: Épület, építmény
B43: Gép, berendezés
B45: Irányítástechnika, energiaellátás
B47: VÍZTÁROLÓK
B48: Épület, építmény
B50: Gép, berendezés
B52: Irányítástechnika, energiaellátás
B54: NYOMÁSFOKOZÓK
B55: Épület, építmény
B57: Gép, berendezés
...

Sheet Pálfiszeg
A1: Gördülő fejlesztési terv a 2024 - 2038 időszakra
A2: BERUHÁZÁSOK ÖSSZEFOGLALÓ TÁBLÁZATA
A3: A tervet benyújtó szervezet megnevezése: | K3: PÁLFISZEG | R3: ellátásért felelős / ellátásért felelősök képviselője / víziközmű-szolgáltató *
A4: Víziközmű-szolgáltató megnevezése: | K4: ÉSZAK ZALAI VÍZ- ÉS CSATORNAMŰ ZÁRTKÖRŰEN MŰKÖDŐ RÉSZVÉNYTÁRSASÁG
A5: Víziközmű-szolgáltatási ágazat megnevezése: | K5: IVÓVÍZ ÁGAZAT
A6: Véleményeltérést megfogalmazó érintett fél megnevezése:
A7: Víziközmű-rendszer kódja: ** | K7: 11-32054-1-029-02-07 | R7: Zalaegerszeg-IV
A9: Fontossági sorrend | B9: Beruházás megnevezése | E9: Műszaki állapot felmérés, szükségességi indoklás | H9: Vízjogi létesítési/elvi engedély száma | I9: Az érintett ellátásért felelős(ök) megnevezése | J9: Tervezett nettó költség | K9: Forrás 2024 évre | L9: Megvalósítás időtartama | N9: Tervezett időtáv | O9: A beruházás ütemezése a tervezési időszak évei szerint
E10: Jelenlegi műszaki állapot | F10: Feladat szükségessége | G10: Megvalósítást követő várható műszaki állapot | J10: (eFt) | L10: Kezdés | M10: Befejezés | N10: (rövid / közép / hosszú) | O10: 1 | P10: 2 | Q10: 3 | R10: 4 | S10: 5 | T10: 6 | U10: 7 | V10: 8 | W10: 9 | X10: 10 | Y10: 11 | Z10: 12 | AA10: 13 | AB10: 14 | AC10: 15
B11: szakág | C11: Helyszín | D11: beruházás megnevezése
A12: I. Felszín alatti vízkivétel
B13: MÉLYFÚRÁSÚ KÚT, HAGYOMÁNYOS ÁTMÉRŐVEL
B14: Épület, építmény
B16: Gép, berendezés
B18: Irányítástechnika, energiaellátás
B20: Összesen: | J20: =SUM(J12:J19) -> 0
A21: III. Vízműtelep és vízkezelő létesítmények
C22: Helyszín | D22: beruházás megnevezése
B23: VÍZMŰTELEP
B24: Épület, építmény
B26: Gép, berendezés
B28: Irányítástechnika, energiaellátás
B30: VÍZKEZELŐ LÉTESÍTMÉNYEK
B31: Épület, építmény
B33: Gép, berendezés
B35: Irányítástechnika, energiaellátás
B37: Összesen | J37: =SUM(J23:J36) -> 0
A38: IV. Vízelosztás
C39: Helyszín | D39: beruházás megnevezése
B40: IVÓVÍZHÁLÓZAT
B41: Épület, építmény
B43: Gép, berendezés
B45: Irányítástechnika, energiaellátás
B47: VÍZTÁROLÓK
B48: Épület, építmény
B50: Gép, berendezés
B52: Irányítástechnika, energiaellátás
B54: NYOMÁSFOKOZÓK
B55: Épület, építmény
B57: Gép, berendezés
...

Sheet Pethőhenye
A1: Gördülő fejlesztési terv a 2024 - 2038 időszakra
A2: BERUHÁZÁSOK ÖSSZEFOGLALÓ TÁBLÁZATA
A3: A tervet benyújtó szervezet megnevezése: | K3: PETHŐHENYE | R3: ellátásért felelős / ellátásért felelősök képviselője / víziközmű-szolgáltató *
A4: Víziközmű-szolgáltató megnevezése: | K4: ÉSZAK ZALAI VÍZ- ÉS CSATORNAMŰ ZÁRTKÖRŰEN MŰKÖDŐ RÉSZVÉNYTÁRSASÁG
A5: Víziközmű-szolgáltatási ágazat megnevezése: | K5: IVÓVÍZ ÁGAZAT
A6: Véleményeltérést megfogalmazó érintett fél megnevezése:
A7: Víziközmű-rendszer kódja: ** | K7: 11-32054-1-029-02-07 | R7: Zalaegerszeg-IV
A9: Fontossági sorrend | B9: Beruházás megnevezése | E9: Műszaki állapot felmérés, szükségességi indoklás | H9: Vízjogi létesítési/elvi engedély száma | I9: Az érintett ellátásért felelős(ök) megnevezése | J9: Tervezett nettó költség | K9: Forrás 2024 évre | L9: Megvalósítás időtartama | N9: Tervezett időtáv | O9: A beruházás ütemezése a tervezési időszak évei szerint
E10: Jelenlegi műszaki állapot | F10: Feladat szükségessége | G10: Megvalósítást követő várható műszaki állapot | J10: (eFt) | L10: Kezdés | M10: Befejezés | N10: (rövid / közép / hosszú) | O10: 1 | P10: 2 | Q10: 3 | R10: 4 | S10: 5 | T10: 6 | U10: 7 | V10: 8 | W10: 9 | X10: 10 | Y10: 11 | Z10: 12 | AA10: 13 | AB10: 14 | AC10: 15
B11: szakág | C11: Helyszín | D11: beruházás megnevezése
A12: I. Felszín alatti vízkivétel
B13: MÉLYFÚRÁSÚ KÚT, HAGYOMÁNYOS ÁTMÉRŐVEL
B14: Épület, építmény
B16: Gép, berendezés
B18: Irányítástechnika, energiaellátás
B20: Összesen: | J20: =SUM(J12:J19) -> 0
A21: III. Vízműtelep és vízkezelő létesítmények
C22: Helyszín | D22: beruházás megnevezése
B23: VÍZMŰTELEP
B24: Épület, építmény
B26: Gép, berendezés
B28: Irányítástechnika, energiaellátás
B30: VÍZKEZELŐ LÉTESÍTMÉNYEK
B31: Épület, építmény
B33: Gép, berendezés
B35: Irányítástechnika, energiaellátás
B37: Összesen | J37: =SUM(J23:J36) -> 0
A38: IV. Vízelosztás
C39: Helyszín | D39: beruházás megnevezése
B40: IVÓVÍZHÁLÓZAT
B41: Épület, építmény
B43: Gép, berendezés
B45: Irányítástechnika, energiaellátás
B47: VÍZTÁROLÓK
B48: Épület, építmény
B50: Gép, berendezés
B52: Irányítástechnika, energiaellátás
B54: NYOMÁSFOKOZÓK
B55: Épület, építmény
B57: Gép, berendezés
...

Sheet Sárhida
A1: Gördülő fejlesztési terv a 2024 - 2038 időszakra
A2: BERUHÁZÁSOK ÖSSZEFOGLALÓ TÁBLÁZATA
A3: A tervet benyújtó szervezet megnevezése: | K3: SÁRHIDA | R3: ellátásért felelős / ellátásért felelősök képviselője / víziközmű-szolgáltató *
A4: Víziközmű-szolgáltató megnevezése: | K4: ÉSZAK ZALAI VÍZ- ÉS CSATORNAMŰ ZÁRTKÖRŰEN MŰKÖDŐ RÉSZVÉNYTÁRSASÁG
A5: Víziközmű-szolgáltatási ágazat megnevezése: | K5: IVÓVÍZ ÁGAZAT
A6: Véleményeltérést megfogalmazó érintett fél megnevezése:
A7: Víziközmű-rendszer kódja: ** | K7: 11-32054-1-029-02-07 | R7: Zalaegerszeg-IV
A9: Fontossági sorrend | B9: Beruházás megnevezése | E9: Műszaki állapot felmérés, szükségességi indoklás | H9: Vízjogi létesítési/elvi engedély száma | I9: Az érintett ellátásért felelős(ök) megnevezése | J9: Tervezett nettó költség | K9: Forrás 2024 évre | L9: Megvalósítás időtartama | N9: Tervezett időtáv | O9: A beruházás ütemezése a tervezési időszak évei szerint
E10: Jelenlegi műszaki állapot | F10: Feladat szükségessége | G10: Megvalósítást követő várható műszaki állapot | J10: (eFt) | L10: Kezdés | M10: Befejezés | N10: (rövid / közép / hosszú) | O10: 1 | P10: 2 | Q10: 3 | R10: 4 | S10: 5 | T10: 6 | U10: 7 | V10: 8 | W10: 9 | X10: 10 | Y10: 11 | Z10: 12 | AA10: 13 | AB10: 14 | AC10: 15
B11: szakág | C11: Helyszín | D11: beruházás megnevezése
A12: I. Felszín alatti vízkivétel
B13: MÉLYFÚRÁSÚ KÚT, HAGYOMÁNYOS ÁTMÉRŐVEL
B14: Épület, építmény
B16: Gép, berendezés
B18: Irányítástechnika, energiaellátás
B20: Összesen: | J20: =SUM(J12:J18) -> 0
A21: III. Vízműtelep és vízkezelő létesítmények
C22: Helyszín | D22: beruházás megnevezése
B23: VÍZMŰTELEP
B24: Épület, építmény
B26: Gép, berendezés
B28: Irányítástechnika, energiaellátás
B30: VÍZKEZELŐ LÉTESÍTMÉNYEK
B31: Épület, építmény
B33: Gép, berendezés
B35: Irányítástechnika, energiaellátás
B37: Összesen | J37: =SUM(J23:J36) -> 0
A38: IV. Vízelosztás
C39: Helyszín | D39: beruházás megnevezése
B40: IVÓVÍZHÁLÓZAT
B41: Épület, építmény
B43: Gép, berendezés
B45: Irányítástechnika, energiaellátás
B47: VÍZTÁROLÓK
B48: Épület, építmény
B50: Gép, berendezés
B52: Irányítástechnika, energiaellátás
B54: NYOMÁSFOKOZÓK
B55: Épület, építmény
B57: Gép, berendezés
...

Sheet Teskánd
A1: Gördülő fejlesztési terv a 2024 - 2038 időszakra
A2: BERUHÁZÁSOK ÖSSZEFOGLALÓ TÁBLÁZATA
A3: A tervet benyújtó szervezet megnevezése: | K3: TESKÁND | R3: ellátásért felelős / ellátásért felelősök képviselője / víziközmű-szolgáltató *
A4: Víziközmű-szolgáltató megnevezése: | K4: ÉSZAK ZALAI VÍZ- ÉS CSATORNAMŰ ZÁRTKÖRŰEN MŰKÖDŐ RÉSZVÉNYTÁRSASÁG
A5: Víziközmű-szolgáltatási ágazat megnevezése: | K5: IVÓVÍZ ÁGAZAT
A6: Véleményeltérést megfogalmazó érintett fél megnevezése:
A7: Víziközmű-rendszer kódja: ** | K7: 11-32054-1-029-02-07 | R7: Zalaegerszeg-IV
A9: Fontossági sorrend | B9: Beruházás megnevezése | E9: Műszaki állapot felmérés, szükségességi indoklás | H9: Vízjogi létesítési/elvi engedély száma | I9: Az érintett ellátásért felelős(ök) megnevezése | J9: Tervezett nettó költség | K9: Forrás 2024 évre | L9: Megvalósítás időtartama | N9: Tervezett időtáv | O9: A beruházás ütemezése a tervezési időszak évei szerint
E10: Jelenlegi műszaki állapot | F10: Feladat szükségessége | G10: Megvalósítást követő várható műszaki állapot | J10: (eFt) | L10: Kezdés | M10: Befejezés | N10: (rövid / közép / hosszú) | O10: 1 | P10: 2 | Q10: 3 | R10: 4 | S10: 5 | T10: 6 | U10: 7 | V10: 8 | W10: 9 | X10: 10 | Y10: 11 | Z10: 12 | AA10: 13 | AB10: 14 | AC10: 15
B11: szakág | C11: Helyszín | D11: beruházás megnevezése
A12: I. Felszín alatti vízkivétel
B13: MÉLYFÚRÁSÚ KÚT, HAGYOMÁNYOS ÁTMÉRŐVEL
B14: Épület, építmény
B16: Gép, berendezés
B18: Irányítástechnika, energiaellátás
B20: Összesen: | J20: =SUM(J12:J18) -> 0
A21: III. Vízműtelep és vízkezelő létesítmények
C22: Helyszín | D22: beruházás megnevezése
B23: VÍZMŰTELEP
B24: Épület, építmény
B26: Gép, berendezés
B28: Irányítástechnika, energiaellátás
B30: VÍZKEZELŐ LÉTESÍTMÉNYEK
B31: Épület, építmény
B33: Gép, berendezés
B35: Irányítástechnika, energiaellátás
B37: Összesen | J37: =SUM(J23:J36) -> 0
A38: IV. Vízelosztás
C39: Helyszín | D39: beruházás megnevezése
B40: IVÓVÍZHÁLÓZAT
B41: Épület, építmény
B43: Gép, berendezés
B45: Irányítástechnika, energiaellátás
B47: VÍZTÁROLÓK
B48: Épület, építmény
B50: Gép, berendezés
B52: Irányítástechnika, energiaellátás
B54: NYOMÁSFOKOZÓK
B55: Épület, építmény
B57: Gép, berendezés
...

Sheet Zalaboldogfa
A1: Gördülő fejlesztési terv a 2024 - 2038 időszakra
A2: BERUHÁZÁSOK ÖSSZEFOGLALÓ TÁBLÁZATA
A3: A tervet benyújtó szervezet megnevezése: | K3: ZALABOLDOGFA | R3: ellátásért felelős / ellátásért felelősök képviselője / víziközmű-szolgáltató *
A4: Víziközmű-szolgáltató megnevezése: | K4: ÉSZAK ZALAI VÍZ- ÉS CSATORNAMŰ ZÁRTKÖRŰEN MŰKÖDŐ RÉSZVÉNYTÁRSASÁG
A5: Víziközmű-szolgáltatási ágazat megnevezése: | K5: IVÓVÍZ ÁGAZAT
A6: Véleményeltérést megfogalmazó érintett fél megnevezése:
A7: Víziközmű-rendszer kódja: ** | K7: 11-32054-1-029-02-07 | R7: Zalaegerszeg-IV
A9: Fontossági sorrend | B9: Beruházás megnevezése | E9: Műszaki állapot felmérés, szükségességi indoklás | H9: Vízjogi létesítési/elvi engedély száma | I9: Az érintett ellátásért felelős(ök) megnevezése | J9: Tervezett nettó költség | K9: Forrás 2024 évre | L9: Megvalósítás időtartama | N9: Tervezett időtáv | O9: A beruházás ütemezése a tervezési időszak évei szerint
E10: Jelenlegi műszaki állapot | F10: Feladat szükségessége | G10: Megvalósítást követő várható műszaki állapot | J10: (eFt) | L10: Kezdés | M10: Befejezés | N10: (rövid / közép / hosszú) | O10: 1 | P10: 2 | Q10: 3 | R10: 4 | S10: 5 | T10: 6 | U10: 7 | V10: 8 | W10: 9 | X10: 10 | Y10: 11 | Z10: 12 | AA10: 13 | AB10: 14 | AC10: 15
B11: szakág | C11: Helyszín | D11: beruházás megnevezése
A12: I. Felszín alatti vízkivétel
B13: MÉLYFÚRÁSÚ KÚT, HAGYOMÁNYOS ÁTMÉRŐVEL
B14: Épület, építmény
B16: Gép, berendezés
B18: Irányítástechnika, energiaellátás
B20: Összesen: | J20: =SUM(J12:J19) -> 0
A21: III. Vízműtelep és vízkezelő létesítmények
C22: Helyszín | D22: beruházás megnevezése
B23: VÍZMŰTELEP
B24: Épület, építmény
B26: Gép, berendezés
B28: Irányítástechnika, energiaellátás
B30: VÍZKEZELŐ LÉTESÍTMÉNYEK
B31: Épület, építmény
B33: Gép, berendezés
B35: Irányítástechnika, energiaellátás
B37: Összesen | J37: =SUM(J23:J36) -> 0
A38: IV. Vízelosztás
C39: Helyszín | D39: beruházás megnevezése
B40: IVÓVÍZHÁLÓZAT
B41: Épület, építmény
B43: Gép, berendezés
B45: Irányítástechnika, energiaellátás
B47: VÍZTÁROLÓK
B48: Épület, építmény
B50: Gép, berendezés
B52: Irányítástechnika, energiaellátás
B54: NYOMÁSFOKOZÓK
B55: Épület, építmény
B57: Gép, berendezés
...

Sheet Zalaegerszeg
A1: Gördülő fejlesztési terv a 2024 - 2038 időszakra
A2: BERUHÁZÁSOK ÖSSZEFOGLALÓ TÁBLÁZATA
A3: A tervet benyújtó szervezet megnevezése: | K3: ZALAEGERSZEG | R3: ellátásért felelős / ellátásért felelősök képviselője / víziközmű-szolgáltató *
A4: Víziközmű-szolgáltató megnevezése: | K4: ÉSZAK ZALAI VÍZ- ÉS CSATORNAMŰ ZÁRTKÖRŰEN MŰKÖDŐ RÉSZVÉNYTÁRSASÁG
A5: Víziközmű-szolgáltatási ágazat megnevezése: | K5: IVÓVÍZ ÁGAZAT
A6: Véleményeltérést megfogalmazó érintett fél megnevezése:
A7: Víziközmű-rendszer kódja: ** | K7: 11-32054-1-029-02-07 | R7: ZALAEGERSZEG-IV
A9: Fontossági sorrend | B9: Beruházás megnevezése | E9: Műszaki állapot felmérés, szükségességi indoklás | H9: Vízjogi létesítési/elvi engedély száma | I9: Az érintett ellátásért felelős(ök) megnevezése | J9: Tervezett nettó költség | K9: Forrás 2024 évre | L9: Megvalósítás időtartama | N9: Tervezett időtáv | O9: A beruházás ütemezése a tervezési időszak évei szerint
E10: Jelenlegi műszaki állapot | F10: Feladat szükségessége | G10: Megvalósítást követő várható műszaki állapot | J10: (eFt) | L10: Kezdés | M10: Befejezés | N10: (rövid / közép / hosszú) | O10: 1 | P10: 2 | Q10: 3 | R10: 4 | S10: 5 | T10: 6 | U10: 7 | V10: 8 | W10: 9 | X10: 10 | Y10: 11 | Z10: 12 | AA10: 13 | AB10: 14 | AC10: 15
B11: szakág | C11: Helyszín | D11: beruházás megnevezése
A12: I. Felszín alatti vízkivétel
B13: MÉLYFÚRÁSÚ KÚT, HAGYOMÁNYOS ÁTMÉRŐVEL
B14: Épület, építmény
A15: 2 | C15: Zalaegerszeg, Keleti vízbázis | D15: 2 db új kút létesítése | I15: Zalaegerszeg | J15: =SUM(O15:AC15) -> 147500 | L15: 45474 | M15: 45657 | N15: rövid | O15: 147500
B16: Gép, berendezés
B18: Irányítástechnika, energiaellátás
B20: Összesen: | J20: =SUM(J12:J18) -> 147500
A21: III. Vízműtelep és vízkezelő létesítmények
C22: Helyszín | D22: beruházás megnevezése
B23: VÍZMŰTELEP
B24: Épület, építmény
B26: Gép, berendezés
B28: Irányítástechnika, energiaellátás
B30: VÍZKEZELŐ LÉTESÍTMÉNYEK
B31: Épület, építmény
B33: Gép, berendezés
A34: 3 | C34: É-i vízbázis és vízműtelep kiépítése | D34: ivóvízminőség javítása és vízellátásának fejlesztése | I34: Zalaegerszeg | J34: =SUM(O34:AC34) -> 1500000 | L34: 47849 | M34: 48213 | N34: hosszú | V34: 1500000
B35: Irányítástechnika, energiaellátás
B37: Összesen | J37: =SUM(J23:J36) -> 1500000
A38: IV. Vízelosztás
C39: Helyszín | D39: beruházás megnevezése
B40: IVÓVÍZHÁLÓZAT
B41: Épület, építmény
A42: 1 | C42: Zalaegerszeg Nekeresdi u. | D42: körvezetékesítés | I42: Zalaegerszeg | J42: =SUM(O42:AC42) -> 52080 | L42: 45292 | M42: 45657 | N42: rövid | O42: 52080
B43: Irányítástechnika, energiaellátás
B45: Összesen | J45: =SUM(J42:J44) -> 52080
B46: VÍZTÁROLÓK
B47: Épület, építmény
B48: Gép, berendezés
B50: Irányítástechnika, energiaellátás
...

Sheet Zalaszentgyörgy
A1: Gördülő fejlesztési terv a 2024 - 2038 időszakra
A2: BERUHÁZÁSOK ÖSSZEFOGLALÓ TÁBLÁZATA
A3: A tervet benyújtó szervezet megnevezése: | K3: ZALASZENTGYÖRGY | R3: ellátásért felelős / ellátásért felelősök képviselője / víziközmű-szolgáltató *
A4: Víziközmű-szolgáltató megnevezése: | K4: ÉSZAK ZALAI VÍZ- ÉS CSATORNAMŰ ZÁRTKÖRŰEN MŰKÖDŐ RÉSZVÉNYTÁRSASÁG
A5: Víziközmű-szolgáltatási ágazat megnevezése: | K5: IVÓVÍZ ÁGAZAT
A6: Véleményeltérést megfogalmazó érintett fél megnevezése:
A7: Víziközmű-rendszer kódja: ** | K7: 11-32054-1-029-02-07 | R7: Zalaegerszeg-IV
A9: Fontossági sorrend | B9: Beruházás megnevezése | E9: Műszaki állapot felmérés, szükségességi indoklás | H9: Vízjogi létesítési/elvi engedély száma | I9: Az érintett ellátásért felelős(ök) megnevezése | J9: Tervezett nettó költség | K9: Forrás 2024 évre | L9: Megvalósítás időtartama | N9: Tervezett időtáv | O9: A beruházás ütemezése a tervezési időszak évei szerint
E10: Jelenlegi műszaki állapot | F10: Feladat szükségessége | G10: Megvalósítást követő várható műszaki állapot | J10: (eFt) | L10: Kezdés | M10: Befejezés | N10: (rövid / közép / hosszú) | O10: 1 | P10: 2 | Q10: 3 | R10: 4 | S10: 5 | T10: 6 | U10: 7 | V10: 8 | W10: 9 | X10: 10 | Y10: 11 | Z10: 12 | AA10: 13 | AB10: 14 | AC10: 15
B11: szakág | C11: Helyszín | D11: beruházás megnevezése
A12: I. Felszín alatti vízkivétel
B13: MÉLYFÚRÁSÚ KÚT, HAGYOMÁNYOS ÁTMÉRŐVEL
B14: Épület, építmény
B16: Gép, berendezés
B18: Irányítástechnika, energiaellátás
B20: Összesen: | J20: =SUM(J12:J19) -> 0
A21: III. Vízműtelep és vízkezelő létesítmények
C22: Helyszín | D22: beruházás megnevezése
B23: VÍZMŰTELEP
B24: Épület, építmény
B26: Gép, berendezés
B28: Irányítástechnika, energiaellátás
B30: VÍZKEZELŐ LÉTESÍTMÉNYEK
B31: Épület, építmény
B33: Gép, berendezés
B35: Irányítástechnika, energiaellátás
B37: Összesen | J37: =SUM(J23:J36) -> 0
A38: IV. Vízelosztás
C39: Helyszín | D39: beruházás megnevezése
B40: IVÓVÍZHÁLÓZAT
B41: Épület, építmény
B43: Gép, berendezés
B45: Irányítástechnika, energiaellátás
B47: VÍZTÁROLÓK
B48: Épület, építmény
