Workbook
Name _GoBack: '2'!#REF!

Sheet 1
B1: 2025. évi eredeti előirányzat | C1: 2025. évi módosított előirányzat | D1: Teljesítés az I. félévben | E1: Teljesítés %-a | G1: Megnevezés | H1: 2025. évi eredeti előirányzat | I1: 2025. évi módosított előirányzat | J1: Teljesítés az I. félévben | K1: Teljesítés %-a
A2: I. Működési célú bevételek | G2: I. Működési célú kiadások
A3: 1.) Működési célú támogatások államháztartáson belülről | B3: 8103587 | C3: 8750096 | D3: 4163244 | E3: =D3/C3*100 -> 47.579409 | G3: 1.) Költségvetési szervek kiadásai | H3: 12211496 | I3: 12652021 | J3: 5934817 | K3: =J3/I3*100 -> 46.908055
A4: 2.) Közhatalmi bevételek | B4: 9347900 | C4: 9347900 | D4: 5535788 | E4: =D4/C4*100 -> 59.219589 | G4: 2.) Önkormányzat szakosztályainak kiadásai | H4: 7350700 | I4: 7537920 | J4: 2452290 | K4: =J4/I4*100 -> 32.532715
A5: 3.) Működési bevételek | B5: 4395669 | C5: 5262979 | D5: 2652306 | E5: =D5/C5*100 -> 50.395527 | G5: 3.Egyéb működési célú kiadások (költségvetési szervek és tartalék nélkül) | H5: 6030945 | I5: 6427541 | J5: 3420510 | K5: =J5/I5*100 -> 53.216463
A6: 4.) Működési célú átvett pénzeszközök | C6: 36019 | D6: 46781 | E6: =D6/C6*100 -> 129.87868 | G6: 4.) Céltartalékból működésre | H6: 436014 | I6: 958841 | K6: =J6/I6*100 -> 0
A7: Költségvetési műk. bevételei összesen: | B7: =SUM(B3+B4+B5+B6) -> 21847156 | C7: =SUM(C3+C4+C5+C6) -> 23396994 | D7: =SUM(D3+D4+D5+D6) -> 12398119 | E7: =D7/C7*100 -> 52.990222 | G7: 5.) Általános tartalék | H7: 10000 | I7: 10000 | K7: =J7/I7*100 -> 0
A8: Finanszírozási bevételek | G8: Költségvetési műk. kiadásai összesen: | H8: =SUM(H2:H7) -> 26039155 | I8: =SUM(I2:I7) -> 27586323 | J8: =SUM(J2:J7) -> 11807617 | K8: =J8/I8*100 -> 42.802431
A9: 5.) Előző év költségvetési maradványának igénybevétele | B9: 2592710 | C9: 2590040 | D9: 2590040 | E9: =D9/C9*100 -> 100 | G9: 6.) Egyéb finanszírozási kiadás (államháztartáson belüli megelőlegezés visszafizetése) | H9: 200711 | I9: 577027 | J9: 577027 | K9: =J9/I9*100 -> 100
A10: 6.) Forgatási célú értékpapír beváltás | B10: 1800000 | C10: 1800000 | E10: =D10/C10*100 -> 0
A11: 7.) Államháztartáson belüli megelőlegezések | C11: 376316 | D11: 376316 | E11: =D11/C11*100 -> 100
A12: MŰKÖDÉSI CÉLÚ BEVÉTELEK ÖSSZ: | B12: =SUM(B7:B11) -> 26239866 | C12: =SUM(C7:C11) -> 28163350 | D12: =SUM(D7:D11) -> 15364475 | E12: =D12/C12*100 -> 54.554856 | G12: MŰKÖDÉSI CÉLÚ KIADÁSOK ÖSSZ.: | H12: =SUM(H8:H9) -> 26239866 | I12: =SUM(I8:I9) -> 28163350 | J12: =SUM(J8:J9) -> 12384644 | K12: =J12/I12*100 -> 43.974328
A13: II. Felhalmozási célú bevételek | G13: II. Felhalmozási célú kiadások
A14: 1.) Felhalmozási célú támogatások államháztartáson belülről | B14: 1665620 | C14: 2159285 | D14: 510557 | E14: =D14/C14*100 -> 23.644725 | G14: 1.) Egyéb felhalmozási célú kiadások | H14: 575452 | I14: 589815 | J14: 12021 | K14: =J14/I14*100 -> 2.0380967
A15: 2.) Felhalmozási bevételek | B15: 214221 | C15: 287508 | D15: 121184 | E15: =D15/C15*100 -> 42.149784 | G15: ebből: költségvetési szervek
A16: 3.) Közhatalmi bevétel | B16: 30000 | C16: 30000 | E16: =D16/C16*100 -> 0 | G16: 2.) Beruházás | H16: 7130360 | I16: 7865551 | J16: 1830288 | K16: =J16/I16*100 -> 23.269673
A17: 4.) Felhalmozási célú átvett pénzeszközök | B17: 15224 | C17: 28174 | D17: 7322 | E17: =D17/C17*100 -> 25.9885 | G17: ebből: költségvetési szervek | H17: 128132 | I17: 223584 | J17: 79459 | K17: =J17/I17*100 -> 35.538768
A18: 5.) Fejlesztéshez működési jellegű bevétel (HD, áfa visszaigénylés) | B18: 757769 | C18: 1327927 | D18: 610028 | E18: =D18/C18*100 -> 45.938369 | G18: 3.) Felújítás | H18: 2940784 | I18: 3732260 | J18: 411687 | K18: =J18/I18*100 -> 11.030502
A19: Költségvetési felhalm. bevételei összesen: | B19: =SUM(B13:B18) -> 2682834 | C19: =SUM(C13:C18) -> 3832894 | D19: =SUM(D13:D18) -> 1249091 | E19: =D19/C19*100 -> 32.588718 | G19: ebből: költségvetési szervek | H19: 16955 | I19: 106593 | J19: 17633 | K19: =J19/I19*100 -> 16.542362
A20: Finanszírozási bevételek | G20: 4.) Céltartalék | H20: 420571 | I20: 411871 | K20: =J20/I20*100 -> 0
A21: 6.) Hitel felvétel | G21: 5.) Fejlesztési hitel kamata | H21: 79109 | I21: 79109 | J21: 34791 | K21: =J21/I21*100 -> 43.978561
A22: 7.) Előző év költségvetési maradványának igénybevétele | B22: 4491781 | C22: 4874051 | D22: 4874051 | E22: =D22/C22*100 -> 100 | G22: Költségvetési felh.célú kiadásai összesen: | H22: =SUM(H14+H16+H18+H20+H21) -> 11146276 | I22: =SUM(I14+I16+I18+I20+I21) -> 12678606 | J22: =SUM(J14+J16+J18+J20+J21) -> 2288787 | K22: =J22/I22*100 -> 18.052355
A23: 8.) Forgatási célú értékpapír beváltás projektekhez kapcsolódóan | B23: 4089513 | C23: 4089513 | D23: 1135000 | E23: =D23/C23*100 -> 27.753916 | G23: Finanszírozási kiadások
G24: 6.) Hitel- és kölcsön törlesztések | H24: 117852 | I24: 117852 | J24: 58926 | K24: =J24/I24*100 -> 50
A25: FELHALMOZÁSI CÉLÚ BEVÉTELEK ÖSSZESEN: | B25: =SUM(B19:B24) -> 11264128 | C25: =SUM(C19:C24) -> 12796458 | D25: =SUM(D19:D24) -> 7258142 | E25: =D25/C25*100 -> 56.71993 | G25: FELHALMOZÁSI CÉLÚ KIADÁSOK ÖSSZESEN: | H25: =SUM(H22:H24) -> 11264128 | I25: =SUM(I22:I24) -> 12796458 | J25: =SUM(J22:J24) -> 2347713 | K25: =J25/I25*100 -> 18.346585
A26: ÖNKORMÁNYZAT ÖSSZESEN: | B26: =SUM(B12+B25) -> 37503994 | C26: =SUM(C12+C25) -> 40959808 | D26: =SUM(D12+D25) -> 22622617 | E26: =D26/C26*100 -> 55.231257 | G26: ÖNKORMÁNYZAT ÖSSZESEN: | H26: =SUM(H12+H25) -> 37503994 | I26: =SUM(I12+I25) -> 40959808 | J26: =SUM(J12+J25) -> 14732357 | K26: =J26/I26*100 -> 35.967837
A27: 9.) Forgatási célú értékpapír beváltás | B27: 5000000 | C27: 5000000 | E27: =D27/C27*100 -> 0 | G27: 7.) Forgatási célú értékpapír vásárlás hazai forrásból átmenetileg szabad pénzeszközökből | H27: 5000000 | I27: 5000000 | J27: 1843768 | K27: =J27/I27*100 -> 36.87536
A28: MINDÖSSZESEN: | B28: =SUM(B26:B27) -> 42503994 | C28: =SUM(C26:C27) -> 45959808 | D28: =SUM(D26:D27) -> 22622617 | E28: =D28/C28*100 -> 49.22261 | G28: MINDÖSSZESEN: | H28: =SUM(H26:H27) -> 42503994 | I28: =SUM(I26:I27) -> 45959808 | J28: =SUM(J26:J27) -> 16576125 | K28: =J28/I28*100 -> 36.066567

Sheet 2
A1: Rovat száma | B1: Megnevezés | C1: 2025. évi eredeti előirányzat | D1: 2025. évi módosított előirányzat | E1: Teljesítés az I. félévben | F1: Teljesítés %-a
A2: B | B2: BEVÉTELEK
A3: B1 | B3: Működési célú támogatások államháztartáson belülről
A4: B11 | B4: Helyi önkormányzatok általános működésének és ágazati feladatainak állami támogatása | C4: 6519307 | D4: 6661500 | E4: 3597030 | F4: =E4/D4*100 -> 53.997298
A5: B12 | B5: Elvonások és befizetések bevételei | D5: 1454 | E5: 1454 | F5: =E5/D5*100 -> 100
A6: B14 | B6: Működési célú visszatérítendő támogatások, kölcsönök visszatérülése államháztartáson belülről | C6: 35700 | D6: 35700 | E6: 26000 | F6: =E6/D6*100 -> 72.829132
A7: B16 | B7: Egyéb működési célú támogatások bevételei államháztartáson belülről | C7: 1548580 | D7: 2051442 | E7: 538760 | F7: =E7/D7*100 -> 26.262502
B8: Működési célú támogatások államháztartáson belülről összesen | C8: =SUM(C4:C7) -> 8103587 | D8: =SUM(D4:D7) -> 8750096 | E8: =SUM(E4:E7) -> 4163244 | F8: =E8/D8*100 -> 47.579409
A9: B2 | B9: Felhalmozási célú támogatások államháztartáson belülről
A10: B21 | B10: Felhalmozási célú önkormányzati támogatás | D10: 411476 | E10: 411476 | F10: =E10/D10*100 -> 100
A11: B25 | B11: Egyéb felhalmozási célú támogatások bevételei államháztartáson belülről | C11: 1665620 | D11: 1747809 | E11: 99081 | F11: =E11/D11*100 -> 5.6688689
B12: Felhalmozási célú támogatások államháztartáson belülről összesen | C12: =SUM(C10:C11) -> 1665620 | D12: =SUM(D10:D11) -> 2159285 | E12: =SUM(E10:E11) -> 510557 | F12: =E12/D12*100 -> 23.644725
A13: B3 | B13: Közhatalmi bevételek
A14: B311 | B14: Magánszemélyek jövedelemadói | E14: 63
A15: B34 | B15: Vagyoni típusú adók (építményadó, magánszemélyek kommunális adója) | C15: 1601000 | D15: 1601000 | E15: 855923 | F15: =E15/D15*100 -> 53.461774
A16: B35 | B16: Termékek és szolgáltatások adói
A17: B351 | B17: Értékesítési és forgalmi adók (iparűzési adó) | C17: 7630000 | D17: 7630000 | E17: 4569865 | F17: =E17/D17*100 -> 59.893381
A18: B355 | B18: Egyéb áruhasználati és szolgáltatási adók ( idegenforgalmi adó) | C18: 40000 | D18: 40000 | E18: 16621 | F18: =E18/D18*100 -> 41.5525
A19: B36 | B19: Egyéb közhatalmi bevételek (különféle bírságok, talajterhelési díj) | C19: 106900 | D19: 106900 | E19: 93316 | F19: =E19/D19*100 -> 87.292797
B20: Közhatalmi bevételek összesen | C20: =SUM(C13:C19) -> 9377900 | D20: =SUM(D13:D19) -> 9377900 | E20: =SUM(E13:E19) -> 5535788 | F20: =E20/D20*100 -> 59.030145
A21: B4 | B21: Működési bevételek | C21: 5153438 | D21: 6590906 | E21: 3262334 | F21: =E21/D21*100 -> 49.497505
A22: B5 | B22: Felhalmozási bevételek
A23: B52 | B23: Ingatlanok értékesítése | C23: 214221 | D23: 244508 | E23: 75087 | F23: =E23/D23*100 -> 30.709425
A24: B53 | B24: Egyéb tárgyi eszközök értékesítése | E24: 3097
A25: B54 | B25: Részesedések értékesítése | D25: 43000 | E25: 43000 | F25: =E25/D25*100 -> 100
B26: Felhalmozási bevételek összesen | C26: =SUM(C23:C25) -> 214221 | D26: =SUM(D23:D25) -> 287508 | E26: =SUM(E23:E25) -> 121184 | F26: =E26/D26*100 -> 42.149784
A27: B6 | B27: Működési célú átvett pénzeszközök | D27: 36019 | E27: 46781 | F27: =E27/D27*100 -> 129.87868
A28: B7 | B28: Felhalmozási célú átvett pénzeszközök
A29: B74 | B29: Felhalmozási célú visszatérítendő támogatások, kölcsönök visszatérülése államháztartáson kívülről | C29: 15224 | D29: 15224 | E29: 2913 | F29: =E29/D29*100 -> 19.134262
A30: B73 | B30: Egyéb felhalmozási célú átvett pénzeszközök | D30: 12950 | E30: 4409 | F30: =E30/D30*100 -> 34.046332
B31: Felhalmozási célú átvett pénzeszközök összesen | C31: =SUM(C29:C30) -> 15224 | D31: =SUM(D29:D30) -> 28174 | E31: =SUM(E29:E30) -> 7322 | F31: =E31/D31*100 -> 25.9885
A32: B1-B7 | B32: Költségvetési bevételek | C32: =SUM(C8+C12+C20+C21+C26+C27+C31) -> 24529990 | D32: =SUM(D8+D12+D20+D21+D26+D27+D31) -> 27229888 | E32: =SUM(E8+E12+E20+E21+E26+E27+E31) -> 13647210 | F32: =E32/D32*100 -> 50.118495
A33: B8 | B33: Finanszírozási bevételek
A34: B81 | B34: Belföldi finanszírozás bevételei
A35: B811 | B35: Hitel-, kölcsönfelvétel államháztartáson kívülről
A36: B8121 | B36: Forgatási célú belföldi értékpapírok beváltása, értékesítése | C36: 10889513 | D36: 10889513 | E36: 1135000 | F36: =E36/D36*100 -> 10.422872
A37: B813 | B37: Maradvány igénybevétele | C37: 7084491 | D37: 7464091 | E37: 7464091 | F37: =E37/D37*100 -> 100
A38: B814 | B38: Államháztartáson belüli megelőlegezések | D38: 376316 | E38: 376316 | F38: =E38/D38*100 -> 100
A39: B817 | B39: Lekötött bankbetétek megszüntetése
B40: Finanszírozási bevételek összesen | C40: =SUM(C35:C39) -> 17974004 | D40: =SUM(D35:D39) -> 18729920 | E40: =SUM(E35:E39) -> 8975407 | F40: =E40/D40*100 -> 47.920157
B41: BEVÉTELEK ÖSSZESEN: | C41: =SUM(C32+C40) -> 42503994 | D41: =SUM(D32+D40) -> 45959808 | E41: =SUM(E32+E40) -> 22622617 | F41: =E41/D41*100 -> 49.22261

Sheet 3
B1: Mutató | D1: 2025. bevétel eredeti előirányzata | F1: Mutató | H1: 2025. bevétel módosított előirányzata | J1: Teljesítés összege 2025. I. félévben | K1: Teljesítés %-a
A2: Hozzájárulás jogcíme | B2: lakosságszám | C2: mutató | D2: Normatíva Ft/fő | E2: Hozzájárulás ezer Ft-ban | F2: lakosságszám | G2: mutató | H2: Normatíva Ft/fő | I2: Hozzájárulás ezer Ft-ban
A3: 2. melléklet szerinti jogcímek
A4: 1.1. Települési önkormányzatok működésének általános támogatása
A5: 1.1.1.1. önkormányzati hivatal működésének támogatása - elismert hivatali létszám alapján | B5: 54752 | C5: 126.66 | D5: 6633500 | E5: 840199 | F5: 54297 | G5: 125.82 | H5: 6994000 | I5: 879985 | J5: 457592 | K5: =SUM(J5/I5)*100 -> 51.999977
A6: Település-üzemeltetéshez kapcsolódó feladataellátás támogatása
A7: 1.1.1.2. zöldterület-gazdálkodás támogatása (hektár) | C7: 23950.2 | D7: 26000 | E7: 62275 | G7: 23950.2 | H7: 26000 | I7: 62275 | J7: 32383 | K7: =SUM(J7/I7)*100 -> 52
A8: 1.1.1.3. közvilágítás támogatása (km) | C8: 408.5 | D8: 425000 | E8: 173613 | G8: 408.5 | H8: 425000 | I8: 173613 | J8: 90279 | K8: =SUM(J8/I8)*100 -> 52.000138
A9: 1.1.1.4. köztemető támogatása (m²) | C9: 321768 | D9: 85 | E9: 27350 | G9: 321768 | H9: 85 | I9: 27350 | J9: 14222 | K9: =SUM(J9/I9)*100 -> 52
A10: 1.1.1.5. közutak támogatása (km) | C10: 203.003 | D10: 485000 | E10: 98456 | G10: 203.003 | H10: 485000 | I10: 98456 | J10: 51197 | K10: =SUM(J10/I10)*100 -> 51.999878
A11: 1.1.1.6. egyéb önkormányzati feladatok támogatása | B11: 54297 | D11: 2800 | E11: 152032 | F11: 54297 | H11: 2800 | I11: 152032 | J11: 79057 | K11: =SUM(J11/I11)*100 -> 52.000237
A12: 1.1.1.7. Lakott külterülettel kapcsolatos feladatok támogatása | B12: 4951 | D12: 2550 | E12: 12625 | F12: 4951 | H12: 2550 | I12: 12625 | J12: 6565 | K12: =SUM(J12/I12)*100 -> 52
A13: 1.2. Óvodaműködtetési támogatás
A14: 1.2.1.1. Óvodaműködtetési támogatás | C14: 1302.7 | D14: 172374 | E14: 224552 | G14: 1302.7 | H14: 172374 | I14: 224552 | J14: 116767 | K14: =SUM(J14/I14)*100 -> 51.999982
A15: 1.2.2.1. Az óvodában foglalkoztatott pedagógusok átlagbéralapú támogatása | C15: 119.9 | D15: 8372000 | E15: 1003803 | G15: 119.9 | H15: 8372000 | I15: 1003803 | J15: 521977 | K15: =SUM(J15/I15)*100 -> 51.999944
A16: -pedagógusok 2025. január 1-jei béremeléséhez | C16: 119.9 | D16: 1775000 | E16: 212822 | G16: 119.9 | H16: 1775000 | I16: 212822 | J16: 110667 | K16: =SUM(J16/I16)*100 -> 51.999793
A17: 1.2.3. Kiegészítő támogatás az óvodapedagógusok minősítéséből adódó többletkiadásokhoz
A18: 1.2.3.1.1.1. Pedagógus II. kategóriába sorolt pedagógusok kiegészítő támogatása | C18: 44 | D18: 717000 | E18: 31548 | G18: 44 | H18: 717000 | I18: 31548 | J18: 16405 | K18: =SUM(J18/I18)*100 -> 52.000127
A19: -pedagógusok 2025. január 1-jei béremeléséhez | C19: 44 | D19: 152000 | E19: 6688 | G19: 44 | H19: 152000 | I19: 6688 | J19: 3478 | K19: =SUM(J19/I19)*100 -> 52.003589
A20: 1.2.3.1.1.2. Mesterpedagógus, kutatótanár kategóriába sorolt pedagógusok kiegészítő támogatása | C20: 2 | D20: 2674000 | E20: 5348 | G20: 2 | H20: 2674000 | I20: 5348 | J20: 2781 | K20: =SUM(J20/I20)*100 -> 52.000748
A21: -pedagógusok 2025. január 1-jei béremeléséhez | C21: 2 | D21: 567000 | E21: 1134 | G21: 2 | H21: 567000 | I21: 1134 | J21: 590 | K21: =SUM(J21/I21)*100 -> 52.028219
A22: 1.2.3.1.2.1. Mesterfokozatú végzettségű pedagógus II.kategóriába sorolt pedagógusok kiegészítő támogatása | C22: 1 | D22: 864000 | E22: 864 | G22: 1 | H22: 864000 | I22: 864 | J22: 449 | K22: =SUM(J22/I22)*100 -> 51.967593
A23: -pedagógusok 2025. január 1-jei béremeléséhez | C23: 1 | D23: 183000 | E23: 183 | G23: 1 | H23: 183000 | I23: 183 | J23: 95 | K23: =SUM(J23/I23)*100 -> 51.912568
A24: 1.2.5.1.1. Az óvodában foglalkoztatott pedagógusok nevelőmunkáját közvetlenük segítők átlagbéralapú támogatása | C24: 82 | D24: 5268000 | E24: 431976 | G24: 82 | H24: 5268000 | I24: 431976 | J24: 224628 | K24: =SUM(J24/I24)*100 -> 52.000111
A25: 1.3.2.Szociális és gyermekjóléti alapszolgáltatás feladatai
A26: 1.3.2.1. Család és gyermekjóléti szolgálat | C26: 8.3 | D26: 6643100 | E26: 55138 | G26: 9 | H26: 7140000 | I26: 64260 | J26: 33415 | K26: =SUM(J26/I26)*100 -> 51.999689
A27: 1.3.2.2. Család- és gyermekjóléti központ ( járáshoz tartozó összes településre) | C27: 22.6 | D27: 6770000 | E27: 153002 | G27: 22.6 | H27: 6770000 | I27: 153002 | J27: 79561 | K27: =SUM(J27/I27)*100 -> 51.999974
A28: 1.3.2.2. Család- és gyermekjóléti központ kiegészítés a kijelölt intézmény esetében | C28: 1 | D28: 15000000 | E28: 15000 | G28: 1 | H28: 15000000 | I28: 15000 | J28: 7800 | K28: =SUM(J28/I28)*100 -> 52
A29: 1.3.2.2.2. Óvodai és iskolai szociális segítő tevékenység támogatása | C29: 13726 | D29: 5255 | E29: 72130 | G29: 13726 | H29: 5255 | I29: 72130 | J29: 37508 | K29: =SUM(J29/I29)*100 -> 52.000555
A30: 1.3.2.3.2. Szociális étkeztetés - társulás által történő feladatellátás | C30: 310 | D30: 97410 | E30: 30197 | G30: 310 | H30: 97410 | I30: 30197 | J30: 15702 | K30: =SUM(J30/I30)*100 -> 51.998543
A31: 1.3.2.4. Házi segítségnyújtás
A32: 1.3.2.4.1. Szociális segítés | C32: 2 | D32: 25000 | E32: 50 | G32: 2 | H32: 25000 | I32: 50 | J32: 26 | K32: =SUM(J32/I32)*100 -> 52
A33: 1.3.2.4.3. Személyi gondozás - társulás által történő feladatellátás | C33: 50 | D33: 842600 | E33: 42130 | G33: 50 | H33: 842600 | I33: 42130 | J33: 21908 | K33: =SUM(J33/I33)*100 -> 52.000949
A34: 1.3.2.6. Időskorúak nappali intézményi ellátása társulás által történő feladatellátás | C34: 55 | D34: 558800 | E34: 30734 | G34: 55 | H34: 558800 | I34: 30734 | J34: 15982 | K34: =SUM(J34/I34)*100 -> 52.001041
A35: 1.3.2.8.2. Demens személyek nappali intézményi ellátása - társulás által történő feladatellátás | C35: 4 | D35: 1119800 | E35: 4479 | G35: 4 | H35: 1119800 | I35: 4479 | J35: 2329 | K35: =SUM(J35/I35)*100 -> 51.998214
A36: 1.3.2.9.2. Pszichiátriai betegek nappali intézményi ellátása - társulás által történő feladatellátás | C36: 20 | D36: 605500 | E36: 12110 | G36: 20 | H36: 605500 | I36: 12110 | J36: 6297 | K36: =SUM(J36/I36)*100 -> 51.998348
A37: 1.3.2.10.2. Szenvedélybetegek nappali intézményi ellátása - társulás által történő feladatellátás | C37: 8 | D37: 579400 | E37: 4635 | G37: 8 | H37: 579400 | I37: 4635 | J37: 2410 | K37: =SUM(J37/I37)*100 -> 51.995685
A38: 1.3.3. Bölcsőde, mini bölcsőde támogatása
A39: 1.3.3.1. Bölcsődei bértámogatás
A40: 1.3.3.1.1. Felsőfokú végzettségű kisgyermeknevelők, szaktanácsadók bértámogatása | C40: 23.7 | D40: 8522000 | E40: 201971 | G40: 23.7 | H40: 8522000 | I40: 201971 | J40: 105025 | K40: =SUM(J40/I40)*100 -> 52.00004
A41: -pedagógusok 2025. január 1-jei béremeléséhez | C41: 23.7 | D41: 1775000 | E41: 42068 | G41: 23.7 | H41: 1775000 | I41: 42068 | J41: 21875 | K41: =SUM(J41/I41)*100 -> 51.999144
A42: 1.3.3.1.2. Bölcsődei dajkák,középfokú végzettségű kisgyermeknevelők, szaktanácsadók bértámogatása | C42: 60.3 | D42: 7338000 | E42: 442481 | G42: 60.3 | H42: 7338000 | I42: 442481 | J42: 230090 | K42: =SUM(J42/I42)*100 -> 51.999973
A43: 1.3.3.2. Bölcsődei üzemeltetési támogatás | E43: 119963 | I43: 119963 | J43: 62381 | K43: =SUM(J43/I43)*100 -> 52.0002
A44: 1.3.4. A települési önk. által biztosított egyes szociális szakosított ellátások, valamint a gyermekek átmeneti gondozásával kapcsolatos feladataok támogatása
A45: 1.3.4.1 Bértámogatása | C45: 35.2 | D45: 7791200 | E45: 274250 | G45: 35.2 | H45: 7791200 | I45: 274250 | J45: 142610 | K45: =SUM(J45/I45)*100 -> 52
A46: 1.3.4.2. Intézmény üzemeltetési támogatás | E46: 28719 | I46: 28719 | J46: 14934 | K46: =SUM(J46/I46)*100 -> 52.000418
A47: 1.4.1. Intézményi gyermekétkeztetés támogatása
A48: 1.4.1.1. Intézményi gyermekétkeztetés bértámogatás | C48: 98.4 | D48: 3924000 | E48: 386122 | G48: 98.4 | H48: 3924000 | I48: 386122 | J48: 200783 | K48: =SUM(J48/I48)*100 -> 51.999886
A49: 1.4.1.2. Intézményi gyermekétkeztetés - üzemeltetési támogatás | E49: 380951 | I49: 380951 | J49: 198095 | K49: =SUM(J49/I49)*100 -> 52.000126
A50: 1.4.2. Szünidei étkeztetés támogatása | C50: 576 | D50: 285 | E50: 164 | G50: 576 | H50: 285 | I50: 164 | J50: 85 | K50: =SUM(J50/I50)*100 -> 51.829268
A51: 1.5. A települési önkormányzatok kulturális feladatainak támogatása
A52: 1.5.1. Vármegyeszékhely megyei jogú városok kulturális feladatainak támogatása | B52: 54297 | D52: 964 | E52: 52342 | F52: 54297 | H52: 964 | I52: 52342 | J52: 27218 | K52: =SUM(J52/I52)*100 -> 52.000306
A53: 1.5.5. Vármegyei hatókörű városi könyvtár kistelepülési könyvtári célú kiegészítő támogatása | E53: 176203 | I53: 176203 | J53: 91626 | K53: =SUM(J53/I53)*100 -> 52.00025
A54: 3. melléklet: Helyi önkormányzatok kiegészítő támogatásai
A55: 2. 2.22 Szociális ágazati összevont pótlék és egészségügyi kiegészítő pótlék | I55: 91728 | J55: 108748 | K55: =SUM(J55/I55)*100 -> 118.55486
A56: 2.3.2.1. Vármegyei hatókörű városi múzeumok feladatainak támogatása (Zalaegerszegi Múzeumok Igazgatósága) | E56: 110200 | I56: 110200 | J56: 57304 | K56: =SUM(J56/I56)*100 -> 52
A57: bértámogatás 682/2021. (XII.16.) Korm.rendelet | E57: 40649 | I57: 40649 | J57: 21138 | K57: =SUM(J57/I57)*100 -> 52.001279
A58: 2.3.2.2. Vármegyei hatáskörű városi könyvtárak feladatainak támogatása (Deák Ferenc Megyei és Városi Könyvtár) | E58: 135000 | I58: 135000 | J58: 70200 | K58: =SUM(J58/I58)*100 -> 52
A59: bértámogatás 682/2021. (XII.16.) Korm.rendelet | E59: 35500 | I59: 35500 | J59: 18460 | K59: =SUM(J59/I59)*100 -> 52
A60: 2.3.3. Települési önkormányzatok kulturális feladatainak bérjellegű támogatása | E60: 237651 | I60: 239208 | J60: 124388 | K60: =SUM(J60/I60)*100 -> 51.999933
A61: 2.4.9. Zalaegerszegi Mindszentyneum működtetési támogatása | E61: 150000 | I61: 150000 | J61: 150000 | K61: =SUM(J61/I61)*100 -> 100
A62: 3.1 Vis maior támogatás | I62: 1476 | J62: 1476 | K62: =SUM(J62/I62)*100 -> 100
A63: IX. Helyi önkormányzatok támogatásai fejezet 14. Zalaegerszeg Megyei Jogú Város fejlesztési feladatainak támogatása | I63: 410000 | J63: 410000 | K63: =SUM(J63/I63)*100 -> 100
A64: Állami hozzájárulás összesen: | E64: =SUM(E5:E63) -> 6519307 | I64: =SUM(I5:I63) -> 7072976 | J64: =SUM(J5:J63) -> 4008506 | K64: =SUM(J64/I64)*100 -> 56.673542

Sheet 4
A3: Rovat száma | B3: Megnevezés | C3: 2025. évi eredeti előirányzat | D3: 2025. évi módosított előirányzat | E3: 2025. I. félévi teljesítés | F3: Teljesítés %-a
B4: Költségvetési kiadások
A5: K1 | B5: Személyi juttatások | C5: 7656349 | D5: 7921577 | E5: ='7'!H17 -> 3572614 | F5: =E5/D5*100 -> 45.099783
A6: K2 | B6: Munkaadókat terhelő járulékok és szociális hj. adó | C6: 1117509 | D6: 1149585 | E6: ='7'!I17 -> 473038 | F6: =E6/D6*100 -> 41.148588
A7: K3 | B7: Dologi kiadások | C7: 10698899 | D7: 11039809 | E7: ='7'!J17 -> 4316153 | F7: =E7/D7*100 -> 39.096265
A8: K4 | B8: Ellátottak pénzbeli juttatásai | C8: 132608 | D8: 120685 | E8: ='7'!K17 -> 32594 | F8: =E8/D8*100 -> 27.007499
A9: K5 | B9: Egyéb működési célú kiadások | C9: 6512899 | D9: 7433776 | E9: ='7'!L17 -> 3448009 | F9: =E9/D9*100 -> 46.383009
B10: Működési költségvetés összesen: | C10: =SUM(C5:C9) -> 26118264 | D10: =SUM(D5:D9) -> 27665432 | E10: =SUM(E5:E9) -> 11842408 | F10: =E10/D10*100 -> 42.805795
A11: K6 | B11: Beruházások | C11: 7540931 | D11: 8276122 | E11: ='7'!M17 -> 1830288 | F11: =E11/D11*100 -> 22.115285
A12: K7 | B12: Felújítások | C12: 2950784 | D12: 3733560 | E12: ='7'!N17 -> 411687 | F12: =E12/D12*100 -> 11.026661
A13: K8 | B13: Egyéb felhalmozási célú kiadások | C13: 575452 | D13: 589815 | E13: ='7'!O17 -> 12021 | F13: =E13/D13*100 -> 2.0380967
B14: Felhalmozási költségvetés összesen: | C14: =SUM(C11:C13) -> 11067167 | D14: =SUM(D11:D13) -> 12599497 | E14: =SUM(E11:E13) -> 2253996 | F14: =E14/D14*100 -> 17.889571
A15: K1-K8 | B15: Költségvetési kiadások összesen: | C15: =SUM(C14,C10) -> 37185431 | D15: =SUM(D14,D10) -> 40264929 | E15: =SUM(E14,E10) -> 14096404 | F15: =E15/D15*100 -> 35.009137
A16: K9 | B16: Finanszírozási kiadások | C16: 5318563 | D16: 5694879 | E16: ='7'!P17+'7'!Q17 -> 2479721 | F16: =E16/D16*100 -> 43.542997
B17: Önkormányzat kiadásai összesen | C17: =SUM(C15:C16) -> 42503994 | D17: =SUM(D15:D16) -> 45959808 | E17: =SUM(E15:E16) -> 16576125 | F17: =E17/D17*100 -> 36.066567

Sheet 5
A1: Cím szám | B1: Alcím szám | C1: Megnevezés | D1: Előirányzat | F1: Teljesítés | H1: Költségvetési bevételek | O1: Finanszírozási bevételek
D2: Eredeti | E2: Módosított | F2: Összege | G2: %-a | H2: Működési célú támogatások áht-n belülről | I2: Felhalmozási célú támogatások áht-n belülről | J2: Közhatalmi bevételek | K2: Működési bevételek | L2: Felhalmozási bevételek | M2: Működési célú átvett pénzeszközök | N2: Felhalmozási célú átvett pénzeszközök | O2: Hitel-, kölcsönfelvétel áht-n kívülről | P2: Maradvány igénybevétele | Q2: Egyéb finanszírozási bevétel
C3: Önkormányzat
B4: 12 | C4: Szociális és igazgatási feladatok | D4: 24381 | E4: 24381 | F4: =SUM(H4:Q4) -> 16503 | G4: =F4/E4*100 -> 67.687954 | H4: ='6'!I11 -> 816 | I4: ='6'!J11 -> 0 | J4: ='6'!K11 -> 1720 | K4: ='6'!L11 -> 12819 | L4: ='6'!M11 -> 0 | M4: ='6'!N11 -> 1148 | N4: ='6'!O11 -> 0 | O4: ='6'!P11 -> 0 | ... Q4: ='6'!R11 -> 0
B5: 13 | C5: Humánigazgatási feladatok | D5: 375825 | E5: 562290 | F5: =SUM(H5:Q5) -> 256578 | G5: =F5/E5*100 -> 45.630902 | H5: ='6'!I34 -> 243819 | I5: ='6'!J34 -> 6000 | J5: ='6'!K34 -> 0 | K5: ='6'!L34 -> 4559 | L5: ='6'!M34 -> 0 | M5: ='6'!N34 -> 2200 | N5: ='6'!O34 -> 0 | O5: ='6'!P34 -> 0 | ... Q5: ='6'!R34 -> 0
B6: 14 | C6: Főépítészi feladatok | D6: 9131 | E6: 9131 | F6: =SUM(H6:Q6) -> 5553 | G6: =F6/E6*100 -> 60.814807 | H6: ='6'!I39 -> 0 | I6: ='6'!J39 -> 0 | J6: ='6'!K39 -> 0 | K6: ='6'!L39 -> 1502 | L6: ='6'!M39 -> 0 | M6: ='6'!N39 -> 0 | N6: ='6'!O39 -> 0 | O6: ='6'!P39 -> 0 | ... Q6: ='6'!R39 -> 0
B7: 15 | C7: Városüzemelési felad. | D7: 841716 | E7: 865247 | F7: =SUM(H7:Q7) -> 334454 | G7: =F7/E7*100 -> 38.654165 | H7: ='6'!I78 -> 31 | I7: ='6'!J78 -> 0 | J7: ='6'!K78 -> 784 | K7: ='6'!L78 -> 288117 | L7: ='6'!M78 -> 4000 | M7: ='6'!N78 -> 0 | N7: ='6'!O78 -> 4409 | O7: ='6'!P78 -> 0 | ... Q7: ='6'!R78 -> 0
B8: 16 | C8: Városépítészeti feladatok | D8: 11670857 | E8: 12692766 | F8: =SUM(H8:Q8) -> 6278211 | G8: =F8/E8*100 -> 49.462907 | H8: ='6'!I111 -> 12307 | I8: ='6'!J111 -> 499601 | J8: ='6'!K111 -> 0 | K8: ='6'!L111 -> 496819 | L8: ='6'!M111 -> 0 | M8: ='6'!N111 -> 0 | N8: ='6'!O111 -> 0 | O8: ='6'!P111 -> 0 | ... Q8: ='6'!R111 -> 1135000
B9: 17 | C9: Vagyonkez. feladatok | D9: 1081242 | E9: 2051285 | F9: =SUM(H9:Q9) -> 1451481 | G9: =F9/E9*100 -> 70.759597 | H9: ='6'!I150 -> 0 | I9: ='6'!J150 -> 0 | J9: ='6'!K150 -> 0 | K9: ='6'!L150 -> 1326261 | L9: ='6'!M150 -> 115534 | M9: ='6'!N150 -> 0 | N9: ='6'!O150 -> 1886 | O9: ='6'!P150 -> 0 | ... Q9: ='6'!R150 -> 0
B10: 18 | C10: Jogi és közig. feladatok | D10: 139760 | E10: 139760 | F10: =SUM(H10:Q10) -> 88578 | G10: =F10/E10*100 -> 63.378649 | H10: ='6'!I161 -> 0 | I10: ='6'!J161 -> 0 | J10: ='6'!K161 -> 55419 | K10: ='6'!L161 -> 33159 | L10: ='6'!M161 -> 0 | M10: ='6'!N161 -> 0 | N10: ='6'!O161 -> 0 | O10: ='6'!P161 -> 0 | ... Q10: ='6'!R161 -> 0
B11: 19 | C11: Pénzügyi lebonyolítás | D11: 25106264 | E11: 25668862 | F11: =SUM(H11:Q11) -> 11800948 | G11: =F11/E11*100 -> 45.973787 | H11: ='6'!I198 -> 3475305 | I11: ='6'!J198 -> 1476 | J11: ='6'!K198 -> 5475275 | K11: ='6'!L198 -> 151278 | L11: ='6'!M198 -> 0 | M11: ='6'!N198 -> 29600 | N11: ='6'!O198 -> 1027 | O11: ='6'!P198 -> 0 | ... Q11: ='6'!R198 -> 376316
B12: 22 | C12: Polgármesteri Kabinet | E12: 10738 | F12: =SUM(H12:Q12) -> 14336 | G12: =F12/E12*100 -> 133.50717 | H12: ='6'!I208 -> 967 | I12: ='6'!J208 -> 0 | J12: ='6'!K208 -> 0 | K12: ='6'!L208 -> 129 | L12: ='6'!M208 -> 0 | M12: ='6'!N208 -> 13240 | N12: ='6'!O208 -> 0 | O12: ='6'!P208 -> 0 | ... Q12: ='6'!R208 -> 0
C13: Önkormányzat összesen költségvetési szervek nélkül | D13: =SUM(D4:D12) -> 39249176 | E13: =SUM(E4:E12) -> 42024460 | F13: =SUM(F4:F12) -> 20246642 | G13: =F13/E13*100 -> 48.178232 | H13: =SUM(H4:H12) -> 3733245 | I13: =SUM(I4:I12) -> 507077 | J13: =SUM(J4:J12) -> 5533198 | K13: =SUM(K4:K12) -> 2314643 | L13: =SUM(L4:L12) -> 119534 | M13: =SUM(M4:M12) -> 46188 | N13: =SUM(N4:N12) -> 7322 | O13: =SUM(O4:O12) -> 0 | ... Q13: =SUM(Q4:Q12) -> 1511316
A14: 2 | C14: Költségvetési szervek | D14: 3254818 | E14: 3935348 | F14: =SUM(H14:Q14) -> 2375975 | G14: =F14/E14*100 -> 60.37522 | H14: ='6'!I210 -> 429999 | I14: ='6'!J210 -> 3480 | J14: ='6'!K210 -> 2590 | K14: ='6'!L210 -> 947691 | L14: ='6'!M210 -> 1650 | M14: ='6'!N210 -> 593 | N14: ='6'!O210 -> 0 | O14: ='6'!P210 -> 0 | ... Q14: ='6'!R210 -> 0
C15: Önkormányzat összesen: | D15: =SUM(D13:D14) -> 42503994 | E15: =SUM(E13:E14) -> 45959808 | F15: =SUM(F13:F14) -> 22622617 | G15: =F15/E15*100 -> 49.22261 | H15: =SUM(H13:H14) -> 4163244 | I15: =SUM(I13:I14) -> 510557 | J15: =SUM(J13:J14) -> 5535788 | K15: =SUM(K13:K14) -> 3262334 | L15: =SUM(L13:L14) -> 121184 | M15: =SUM(M13:M14) -> 46781 | N15: =SUM(N13:N14) -> 7322 | O15: =SUM(O13:O14) -> 0 | ... Q15: =SUM(Q13:Q14) -> 1511316

Sheet 6
A1: Cím szám | B1: Alcím szám | C1: Megnevezés | D1: Tervezési alapegység | E1: Előirányzat | G1: Teljesítés | I1: Költségvetési bevételek | P1: Finanszírozási bevételek
E2: Eredeti | F2: Módosított | G2: Összege | H2: %-a | I2: Működési célú támogatások áht-n belülről | J2: Felhalmozási célú támogatások áht-n belülről | K2: Közhatalmi bevételek | L2: Működési bevételek | M2: Felhalmozási bevételek | N2: Működési célú átvett pénzeszközök | O2: Felhalmozási célú átvett pénzeszközök | P2: Hitel-, kölcsönfelvétel áht-n kívülről | Q2: Maradvány igénybevétele | R2: Egyéb finanszírozási bevétel
A3: 1 | C3: Önkormányzat
A4: 1 | B4: 1 | C4: Szakosztályok
A5: 1 | B5: 12 | C5: Szociális és igazgatási feladatok
C6: 011130 Önkorm. és önkorm. hivatal. jogalk. és ált.ig.tev.
C7: - Egerszeg kártya értékesítés | D7: 221902 | E7: 24381 | F7: 24381 | G7: =SUM(I7:R7) -> 12819 | H7: =G7/F7*100 -> 52.577827 | L7: 12819
C8: - igazgatási bírság | D8: 121602 | G8: =SUM(I8:R8) -> 1720 | K8: 1720
C9: 107060 Egyéb szociális pénzbeli ellátások, támogatások
C10: - köztemetés megtérítése | D10: 121203 | G10: =SUM(I10:R10) -> 1964 | I10: 816 | N10: 1148
C11: Szociális és igazgatási feladatok összesen: | E11: =SUM(E5:E10) -> 24381 | F11: =SUM(F5:F10) -> 24381 | G11: =SUM(G5:G10) -> 16503 | H11: =G11/F11*100 -> 67.687954 | I11: =SUM(I5:I10) -> 816 | J11: =SUM(J5:J10) -> 0 | K11: =SUM(K5:K10) -> 1720 | L11: =SUM(L5:L10) -> 12819 | M11: =SUM(M5:M10) -> 0 | N11: =SUM(N5:N10) -> 1148 | O11: =SUM(O5:O10) -> 0 | P11: =SUM(P5:P10) -> 0 | ... R11: =SUM(R5:R10) -> 0
A12: 1 | B12: 13 | C12: Humánigazgatási feladatok
C13: 101211 Fogyatékossággal élők tartós bentlakásos ellátása
C14: - Református Egyház által fizetendő bérleti díj | D14: 131703 | E14: 9101 | F14: 9101 | G14: =SUM(I14:R14) -> 4559 | H14: =G14/F14*100 -> 50.093396 | L14: 4559
C15: 081041 Versenysport- és utánpótlás-nevelési tevékenység
C16: - Andráshidai TE részére TAO támogatás megelőlegezés visszafizetése | D16: 132949 | E16: 13224 | F16: 13224 | G16: =SUM(I16:R16) -> 0 | H16: =G16/F16*100 -> 0
C17: 018030 Támogatási célú finanszírozási műveletek
C18: - Hevesi Sándor Színház társműködtetöi támogatás | D18: 131508 | E18: 288500 | F18: 331775 | G18: =SUM(I18:R18) -> 72125 | H18: =G18/F18*100 -> 21.73913 | I18: 72125
C19: - Griff Bábszínház társműködtetöi támogatás | D19: 131509 | E19: 65000 | F19: 80000 | G19: =SUM(I19:R19) -> 16250 | H19: =G19/F19*100 -> 20.3125 | I19: 16250
C20: - Mindszentyneum működési támogatás átadása | D20: 131513 | G20: =SUM(I20:R20) -> 150000 | I20: 150000
C21: 082091 Közművelődés - közösségi és társ. részvétel fejleszt.
C22: - Magyar Kultúra Napja | D22: 131346 | G22: =SUM(I22:R22) -> 88 | I22: 88
C23: - Szelestey hagyaték felvásárlásához támogatás | D23: 132941 | F23: 6000 | G23: =SUM(I23:R23) -> 6000 | H23: =G23/F23*100 -> 100 | J23: 6000
C24: 081 030 Sportlétesítmények, edzőtáborok működtetése és fejlesztése
C25: - Zalaegerszegi Sport és Tanuszoda műk. támogatása a Honvédelmi Minisztériumtól | D25: 191801 | F25: 120000 | G25: =SUM(I25:R25) -> 0
C26: 102023 Időskorúak tartós bentlakásos ellátása
C27: - Idősek Otthona férőhely megváltás | D27: 121319 | F27: 2190 | G27: =SUM(I27:R27) -> 2190 | H27: =G27/F27*100 -> 100 | N27: 2190
C28: 109010 Szociális szolgáltatás igazgatása
C29: - Városi Idősügyi Tanács feladatai támogatás visszafizetése | D29: 131706 | G29: =SUM(I29:R29) -> 10 | N29: 10
C30: 098010 Oktatás igazgatása
C31: - szakképzési ösztöndíj támogatásból visszafizetés | D31: 131112 | G31: =SUM(I31:R31) -> 32 | I31: 32
C32: 104031 Gyermekek bölcsődében, minibölcsődében történő ellátása
C33: - Bölcsödei ellátás biztosítása (Söjtör Önkorm.) | D33: 131717 | G33: =SUM(I33:R33) -> 5324 | I33: 5324
C34: Humánigazgatási feladatok összesen: | E34: =SUM(E14:E29) -> 375825 | F34: =SUM(F14:F29) -> 562290 | G34: =SUM(G13:G33) -> 256578 | H34: =G34/F34*100 -> 45.630902 | I34: =SUM(I13:I33) -> 243819 | J34: =SUM(J13:J33) -> 6000 | K34: =SUM(K13:K33) -> 0 | L34: =SUM(L13:L33) -> 4559 | M34: =SUM(M13:M33) -> 0 | N34: =SUM(N13:N33) -> 2200 | O34: =SUM(O13:O33) -> 0 | P34: =SUM(P13:P33) -> 0 | ... R34: =SUM(R13:R33) -> 0
A35: 1 | B35: 14 | C35: Főépítészi feladatok
C36: 013350 Önk-i vagyonnal való gazdálkodáshoz kapcs.fa.
C37: - belterületbe vonással kapcsolatos bevétel | D37: 171967 | E37: 5080 | F37: 5080 | G37: =SUM(I37:R37) -> 1502 | H37: =G37/F37*100 -> 29.566929 | L37: 1502
C38: - Helyi építészeti értékek védelme | D38: 164903 | E38: 4051 | F38: 4051 | G38: =SUM(I38:R38) -> 4051 | H38: =G38/F38*100 -> 100 | Q38: 4051
C39: Főépítészi feladatok összesen: | E39: =SUM(E37:E38) -> 9131 | F39: =SUM(F37:F38) -> 9131 | G39: =SUM(G37:G38) -> 5553 | H39: =G39/F39*100 -> 60.814807 | I39: =SUM(I37:I38) -> 0 | J39: =SUM(J37:J38) -> 0 | K39: =SUM(K37:K38) -> 0 | L39: =SUM(L37:L38) -> 1502 | M39: =SUM(M37:M38) -> 0 | N39: =SUM(N37:N38) -> 0 | O39: =SUM(O37:O38) -> 0 | P39: =SUM(P37:P38) -> 0 | ... R39: =SUM(R37:R38) -> 0
A40: 1 | B40: 15 | C40: Városüzemelési feladatok
C41: 081061 Szabadidős park, fürdő és strandszolgáltatás
C42: - Gébárti fürdő lét. üzemeltetése | D42: 151906 | E42: 17780 | F42: 17780 | G42: =SUM(I42:R42) -> 4389 | H42: =G42/F42*100 -> 24.685039 | L42: 4389
C43: - Aquapark üzemeltetés | D43: 151907 | E43: 266700 | F43: 266700 | G43: =SUM(I43:R43) -> 0 | H43: =G43/F43*100 -> 0
C44: - Aquacity és egyéb gébárti létesítmények felújítása | D44: 162903 | G44: =SUM(I44:R44) -> 8445 | L44: 8445
C45: - Gébárti kemping, fedett fürdő földhasználat | D45: 151909 | G45: =SUM(I45:R45) -> 11596 | L45: 11596
C46: 066010 Zöldterület kezelés
C47: - faértékesítés bevétele | D47: 152908 | E47: 1270 | F47: 1270 | G47: =SUM(I47:R47) -> 229 | H47: =G47/F47*100 -> 18.031496 | L47: 229
C48: - haszonbérleti szerződések, kishaszonbérlet | D48: 151506 | E48: 635 | F48: 635 | G48: =SUM(I48:R48) -> 740 | H48: =G48/F48*100 -> 116.53543 | L48: 740
C49: - környezetvédelmi alap | D49: 151607 | E49: 37113 | F49: 37113 | G49: =SUM(I49:R49) -> 37248 | H49: =G49/F49*100 -> 100.36375 | K49: 135 | Q49: 37113
C50: 042180 Állategészségügy
C51: - állategészségügyi tevékenység | D51: 151902 | E51: 3175 | F51: 3175 | G51: =SUM(I51:R51) -> 1989 | H51: =G51/F51*100 -> 62.645669 | K51: 634 | L51: 1355
C52: - Ebrendészeti telep felújításához támogatás a Közös ügyünk az állatvédelem Alapítványtól | D52: 154908 | F52: 10916 | G52: =SUM(I52:R52) -> 2660 | H52: =G52/F52*100 -> 24.3679 | O52: 2660
C53: 066020 Város-, községgazdálkodási egyéb szolgáltatás
C54: - Zalai Közszolgáltató Nonprofit Kft. bérleti díj | D54: 151701 | E54: 4318 | F54: 4318 | G54: =SUM(I54:R54) -> 2097 | H54: =G54/F54*100 -> 48.56415 | L54: 2097
C55: - egyéb város- és községgazdálkodás | D55: 151601 | G55: =SUM(I55:R55) -> 37 | K55: 15 | L55: 22
C56: - köztisztaság szerződéses munkák | D56: 151603 | E56: 44000 | F56: 44000 | G56: =SUM(I56:R56) -> 19311 | H56: =G56/F56*100 -> 43.888636 | L56: 19311
C57: - közművesítési hozzájárulás | D57: 151611 | F57: 6001 | G57: =SUM(I57:R57) -> 8065 | H57: =G57/F57*100 -> 134.39427 | L57: 8065
C58: - nyilvános illemhely üzemeltetése | D58: 151631 | G58: =SUM(I58:R58) -> 42 | L58: 42
C59: - kéményseprési díj | D59: 151633 | G59: =SUM(I59:R59) -> 82 | L59: 82
C60: - küzműnyilvántartásból származó bevétel | D60: 151634 | G60: =SUM(I60:R60) -> 6 | L60: 6
C61: 045120 Út, autópálya építése
C62: - parkolómegváltás bevétele | D62: 152442 | F62: 5080 | G62: =SUM(I62:R62) -> 5080 | H62: =G62/F62*100 -> 100 | L62: 1080 | M62: 4000
C63: - Batsányi J.u. Jókai M.u. és Pintér M.u.közti, déli oldali járdaszakaszának felújítása | D63: 154401 | F63: 1534 | G63: =SUM(I63:R63) -> 1749 | H63: =G63/F63*100 -> 114.01565 | O63: 1749
C64: 045170 Parkoló, garázs üzemeltetése, fenntartása
C65: - parkolási közszolgáltatási tevékenység ellátásával kapcsolatos bevétel | D65: 151910 | E65: 466725 | F65: 466725 | G65: =SUM(I65:R65) -> 194326 | H65: =G65/F65*100 -> 41.636081 | L65: 194326
C66: 045160 Közutak, hidak, alagutak üzemeltetése, fenntartása
C67: - helyi utak, hidak fenntartása | D67: 151401 | G67: =SUM(I67:R67) -> 3414 | L67: 3414
C68: - forgalomtechnikai és közlekedési feladatok | D68: 151402 | G68: =SUM(I68:R68) -> 389 | L68: 389
C69: - utastájékoztató rendszer üzemeltetése | D69: 151407 | G69: =SUM(I69:R69) -> 47 | L69: 47
C70: 063020 Víztermelés, -kezelés, -ellátás
C71: - települési vízellátás | D71: 151301 | G71: =SUM(I71:R71) -> 471 | L71: 471
C72: - Önkormányzati Társulás Zalaegerszeg és térsége ivóvízminőségének javítására műk. támogatás | D72: 151323 | G72: =SUM(I72:R72) -> 31 | I72: 31
C73: 064010 Közvilágítás
C74: - egyéb villamosenergia vásárlás | D74: 151209 | G74: =SUM(I74:R74) -> 787 | L74: 787
C75: - közvilágítás villamosenergia vásárlás | D75: 151201 | G75: =SUM(I75:R75) -> 31200 | L75: 31200
C76: 051040 Nem veszélyes hulladék kezelése, ártalmatlanítása
C77: - Buslakpusztai bezárt hulladéklerakó szennyezés lokalizációja létesítmény üzemeltetés | D77: 152915 | G77: =SUM(I77:R77) -> 24 | L77: 24
C78: Városüzemelési feladatok összesen: | E78: =SUM(E41:E77) -> 841716 | F78: =SUM(F41:F77) -> 865247 | G78: =SUM(G41:G77) -> 334454 | H78: =G78/F78*100 -> 38.654165 | I78: =SUM(I41:I77) -> 31 | J78: =SUM(J41:J77) -> 0 | K78: =SUM(K41:K77) -> 784 | L78: =SUM(L41:L77) -> 288117 | M78: =SUM(M41:M77) -> 4000 | N78: =SUM(N41:N77) -> 0 | O78: =SUM(O41:O77) -> 4409 | P78: =SUM(P41:P77) -> 0 | ... R78: =SUM(R41:R77) -> 0
A79: 1 | B79: 16. | C79: Városépítészeti feladatok
C80: 052020 Szennyvíz gyűjtése, tisztítása, elhelyezése
C81: - ZALAVÍZ Zrt. nem vÍzi közmű után fizetendő bérleti díj | D81: 161909 | E81: 111439 | F81: 109951 | G81: =SUM(I81:R81) -> 72048 | H81: =G81/F81*100 -> 65.527371 | L81: 21740 | Q81: 50308
C82: - szennyvízvagyon használati díja és Áfa visszaig. | D82: 164106 | E82: 691692 | F82: 691631 | G82: =SUM(I82:R82) -> 117546 | H82: =G82/F82*100 -> 16.995479 | L82: 92750 | Q82: 24796
C83: - ivóvízvagyon használati díja és Áfa visszaig.+ KIEFO | D83: 164204 | E83: 194838 | F83: 195018 | G83: =SUM(I83:R83) -> 70243 | H83: =G83/F83*100 -> 36.018726 | L83: 54862 | Q83: 15381
C84: - Zalaegerszeg nyugati vízbázisról ellátott települések ívóvízminőségének javítása KEHOP projekt | D84: 164206 | E84: 2951 | F84: 2951 | G84: =SUM(I84:R84) -> 135 | H84: =G84/F84*100 -> 4.5747204 | Q84: 135
C85: - VÁRA-ÉMI 2020-001 Szennyvíz Gépészet Projekt | D85: 164109 | E85: 19173 | F85: 19173 | G85: =SUM(I85:R85) -> 0 | H85: =G85/F85*100 -> 0
C86: - KEHOP 2.1.11-21-2021-00002 Ivóvízhálózatok és szennyvízhálózatok hatékonyságnövelő fejlesztése | D86: 164207 | E86: 22535 | F86: 22535 | G86: =SUM(I86:R86) -> 22535 | H86: =G86/F86*100 -> 100 | Q86: 22535
C87: 013350 Önk-i vagyonnal való gazdálkodáshoz kapcs. fa.
C88: - TOP-6.4.1-15-ZL1-2016-00001 Gyalogos és kerékpárosbarát belváros közlekedési feltételeinek megteremtése Zalaegerszegen hivatásforgalmi kerékpárutak fejlesztésével és a Kosztolányi Dezső út kétirányúsításával | D88: 163607 | E88: 300 | F88: 300 | G88: =SUM(I88:R88) -> 300 | H88: =G88/F88*100 -> 100 | Q88: 300
C89: -TOP-6.1.1-16 Zalaegerszegi Logisztikai Központ létrehozása (nettó fin.) | D89: 163625 | E89: 31513 | F89: 31513 | G89: =SUM(I89:R89) -> 31513 | H89: =G89/F89*100 -> 100 | Q89: 31513
C90: - TOP-6.1.2-16-ZL1-2017-00001 Inkubátorház bővítés Zalaegerszegen-III.ütem | D90: 163626 | E90: 3 | F90: 3 | G90: =SUM(I90:R90) -> 3 | H90: =G90/F90*100 -> 100 | Q90: 3
C91: - TOP Plusz -1.3-1-21 FVS TVP projekt | D91: 163658 | E91: 404 | F91: 404 | G91: =SUM(I91:R91) -> 404 | H91: =G91/F91*100 -> 100 | Q91: 404
C92: - TOP Plusz-1.2.1-21-ZA2-2022-00006 Zeg-Teskánd kerékpárút projekt | D92: 163662 | E92: 799187 | F92: 799187 | G92: =SUM(I92:R92) -> 799187 | H92: =G92/F92*100 -> 100 | Q92: 799187
C93: - TOP_PLUSZ-6.2.1-23-ZL1-2023-00001 Csácsbozsoki kilátó | D93: 163679 | E93: 100000 | F93: 100000 | G93: =SUM(I93:R93) -> 0 | H93: =G93/F93*100 -> 0
C94: - TOP_PLUSZ-3.4.1-23-ZL1-2023-00001 Bazitai Óvoda újjáépítése | D94: 163680 | E94: 395834 | F94: 395834 | G94: =SUM(I94:R94) -> 40572 | H94: =G94/F94*100 -> 10.249751 | I94: 12307 | J94: 23430 | Q94: 4835
C95: - TOP_PLUSZ-3.4.1-23-ZL1-2023-00002 Ságodi Óvoda felújítása | D95: 163681 | E95: 290941 | F95: 290941 | G95: =SUM(I95:R95) -> 0 | H95: =G95/F95*100 -> 0
C96: - TOP_PLUSZ-3.4.1-23-ZL1-2024-00003 Orvosi rendelők felújítása (Kölcsey u.11., Mátyás király u. 16., Gasparich u. 21.) | D96: 163682 | E96: 250000 | F96: 250000 | G96: =SUM(I96:R96) -> 0 | H96: =G96/F96*100 -> 0
C97: - TOP_PLUSZ-3.4.1-23-ZL1-2024-00004 Zala Vármegyei Pedagógiai Szakszolgálat fejlesztése | D97: 163666 | F97: 496622 | G97: =SUM(I97:R97) -> 0 | H97: =G97/F97*100 -> 0
C98: TOP_PLUSZ-1.3.2-23-ZL1-2024-00001Páterdombi közösségi tér kialakítása | D98: 163671 | F98: 100000 | G98: =SUM(I98:R98) -> 0 | H98: =G98/F98*100 -> 0
C99: - Mindszenty Múzeum és Zarándokközpont fejlesztése, zalaegerszegi "Mindszenty Út" megvalósítása MVP | D99: 163621 | E99: 927793 | F99: 997870 | G99: =SUM(I99:R99) -> 241870 | H99: =G99/F99*100 -> 24.238628 | L99: 70077 | Q99: 66793 | R99: 105000
C100: - Alsóerdei Sport- és Rekreációs Központ fejlesztése MVP támogatással | D100: 163702 | E100: 38350 | F100: 38350 | G100: =SUM(I100:R100) -> 38350 | H100: =G100/F100*100 -> 100 | Q100: 38350
...

Sheet 7
A1: Cím szám | B1: Alcím szám | C1: Megnevezés | D1: Előirányzat | F1: Teljesítés | H1: Költségvetési kiadások | P1: Finanszírozási kiadások
D2: Eredeti | E2: Módosított | F2: Összege | G2: %-a | H2: Személyi juttatások | I2: Munkaadókat terhelő járulékok és szociális hj.adó | J2: Dologi kiadások | K2: Ellátottak pénzbeli juttatásai | L2: Egyéb működési célú kiadások | M2: Beruházások | N2: Felújítások | O2: Egyéb felhalmo-zási célú kiadások | P2: Hitel-, kölcsöntör-lesztés áht-n kívülre | Q2: Egyéb finanszírozási kiadás
A3: 1 | C3: Önkormányzat
A4: 1 | B4: 1 | C4: Szakosztályok
B5: 12 | C5: Szociális és igazgatási feladatok | D5: 229592 | E5: 185736 | F5: =SUM(H5:Q5) -> 51849 | G5: =F5/E5*100 -> 27.915428 | H5: ='8'!K48 -> 0 | I5: ='8'!L48 -> 1702 | J5: ='8'!M48 -> 21662 | K5: ='8'!N48 -> 26235 | L5: ='8'!O48 -> 2250 | M5: ='8'!P48 -> 0 | N5: ='8'!Q48 -> 0 | O5: ='8'!R48 -> 0 | ... Q5: ='8'!T48 -> 0
B6: 13 | C6: Humánigazgatási feladatok | D6: 1957638 | E6: 2261144 | F6: =SUM(H6:Q6) -> 1075901 | G6: =F6/E6*100 -> 47.582153 | H6: ='8'!K209 -> 2883 | I6: ='8'!L209 -> 839 | J6: ='8'!M209 -> 25032 | K6: ='8'!N209 -> 5250 | L6: ='8'!O209 -> 1004104 | M6: ='8'!P209 -> 1267 | N6: ='8'!Q209 -> 32821 | O6: ='8'!R209 -> 3705 | ... Q6: ='8'!T209 -> 0
B7: 14 | C7: Főépítészi feladatok | D7: 48793 | E7: 48793 | F7: =SUM(H7:Q7) -> 4214 | G7: =F7/E7*100 -> 8.6364847 | H7: ='8'!K221 -> 0 | I7: ='8'!L221 -> 0 | J7: ='8'!M221 -> 1141 | K7: ='8'!N221 -> 0 | L7: ='8'!O221 -> 0 | M7: ='8'!P221 -> 3073 | N7: ='8'!Q221 -> 0 | O7: ='8'!R221 -> 0 | ... Q7: ='8'!T221 -> 0
B8: 15 | C8: Városüzemelési feladatok | D8: 3974143 | E8: 4097094 | F8: =SUM(H8:Q8) -> 1881779 | G8: =F8/E8*100 -> 45.929603 | H8: ='8'!K372 -> 7833 | I8: ='8'!L372 -> 1080 | J8: ='8'!M372 -> 1136799 | K8: ='8'!N372 -> 0 | L8: ='8'!O372 -> 603148 | M8: ='8'!P372 -> 90742 | N8: ='8'!Q372 -> 42177 | O8: ='8'!R372 -> 0 | ... Q8: ='8'!T372 -> 0
B9: 16 | C9: Városépítészeti feladatok | D9: 12578048 | E9: 13920296 | F9: =SUM(H9:Q9) -> 2516548 | G9: =F9/E9*100 -> 18.078265 | H9: ='8'!K482 -> 0 | I9: ='8'!L482 -> 34 | J9: ='8'!M482 -> 542837 | K9: ='8'!N482 -> 0 | L9: ='8'!O482 -> 670 | M9: ='8'!P482 -> 1650476 | N9: ='8'!Q482 -> 317965 | O9: ='8'!R482 -> 4566 | ... Q9: ='8'!T482 -> 0
B10: 17 | C10: Vagyonkezelési feladatok | D10: 182507 | E10: 197968 | F10: =SUM(H10:Q10) -> 40144 | G10: =F10/E10*100 -> 20.278025 | H10: ='8'!K499 -> 0 | I10: ='8'!L499 -> 0 | J10: ='8'!M499 -> 38353 | K10: ='8'!N499 -> 0 | L10: ='8'!O499 -> 0 | M10: ='8'!P499 -> 700 | N10: ='8'!Q499 -> 1091 | O10: ='8'!R499 -> 0 | ... Q10: ='8'!T499 -> 0
B11: 18 | C11: Jogi és közig.feladatok | D11: 684446 | E11: 689192 | F11: =SUM(H11:Q11) -> 308421 | G11: =F11/E11*100 -> 44.7511 | H11: ='8'!K526 -> 193075 | I11: ='8'!L526 -> 22368 | J11: ='8'!M526 -> 74514 | K11: ='8'!N526 -> 0 | L11: ='8'!O526 -> 14190 | M11: ='8'!P526 -> 4274 | N11: ='8'!Q526 -> 0 | O11: ='8'!R526 -> 0 | ... Q11: ='8'!T526 -> 0
B12: 19 | C12: Pénzügyi lebonyolítás | D12: 8879771 | E12: 9430450 | F12: =SUM(H12:Q12) -> 3404749 | G12: =F12/E12*100 -> 36.103781 | H12: ='8'!K556 -> 0 | I12: ='8'!L556 -> 0 | J12: ='8'!M556 -> 285788 | K12: ='8'!N556 -> 0 | L12: ='8'!O556 -> 1582008 | M12: ='8'!P556 -> 0 | N12: ='8'!Q556 -> 0 | O12: ='8'!R556 -> 1000 | ... Q12: ='8'!T556 -> 1477027
B13: 22 | C13: Polgármesteri Kabinet kiadásai | D13: 745888 | E13: 766225 | F13: =SUM(H13:Q13) -> 316843 | G13: =F13/E13*100 -> 41.35117 | H13: ='8'!K599 -> 20347 | I13: ='8'!L599 -> 7189 | J13: ='8'!M599 -> 72120 | K13: ='8'!N599 -> 0 | L13: ='8'!O599 -> 214140 | M13: ='8'!P599 -> 297 | N13: ='8'!Q599 -> 0 | O13: ='8'!R599 -> 2750 | ... Q13: ='8'!T599 -> 0
B14: 30 | C14: Tartalékok | D14: 866585 | E14: 1380712 | F14: =SUM(H14:Q14) -> 943768 | G14: =F14/E14*100 -> 68.353719 | H14: ='8'!K615 -> 0 | I14: ='8'!L615 -> 0 | J14: ='8'!M615 -> 0 | K14: ='8'!N615 -> 0 | L14: ='8'!O615 -> 0 | M14: ='8'!P615 -> 0 | N14: ='8'!Q615 -> 0 | O14: ='8'!R615 -> 0 | ... Q14: ='8'!T615 -> 943768
C15: Önkormányzat összesen költségvetési szervek nélkül | D15: =SUM(D5:D14) -> 30147411 | E15: =SUM(E5:E14) -> 32977610 | F15: =SUM(F5:F14) -> 10544216 | G15: =F15/E15*100 -> 31.973863 | H15: =SUM(H5:H14) -> 224138 | I15: =SUM(I5:I14) -> 33212 | J15: =SUM(J5:J14) -> 2198246 | K15: =SUM(K5:K14) -> 31485 | L15: =SUM(L5:L14) -> 3420510 | M15: =SUM(M5:M14) -> 1750829 | N15: =SUM(N5:N14) -> 394054 | O15: =SUM(O5:O14) -> 12021 | ... Q15: =SUM(Q5:Q14) -> 2420795
A16: 2 | C16: Költségvetési szervek | D16: 12356583 | E16: 12982198 | F16: =SUM(H16:Q16) -> 6031909 | G16: =F16/E16*100 -> 46.462926 | H16: ='8'!K617 -> 3348476 | I16: ='8'!L617 -> 439826 | J16: ='8'!M617 -> 2117907 | K16: ='8'!N617 -> 1109 | L16: ='8'!O617 -> 27499 | M16: ='8'!P617 -> 79459 | N16: ='8'!Q617 -> 17633 | O16: ='8'!R617 -> 0 | ... Q16: ='8'!T617 -> 0
C17: Önkormányzat összesen: | D17: =SUM(D15:D16) -> 42503994 | E17: =SUM(E15:E16) -> 45959808 | F17: =SUM(F15:F16) -> 16576125 | G17: =F17/E17*100 -> 36.066567 | H17: =SUM(H15:H16) -> 3572614 | I17: =SUM(I15:I16) -> 473038 | J17: =SUM(J15:J16) -> 4316153 | K17: =SUM(K15:K16) -> 32594 | L17: =SUM(L15:L16) -> 3448009 | M17: =SUM(M15:M16) -> 1830288 | N17: =SUM(N15:N16) -> 411687 | O17: =SUM(O15:O16) -> 12021 | ... Q17: =SUM(Q15:Q16) -> 2420795

Sheet 8
A1: Cím szám | B1: Alcím szám | C1: Sorszám | D1: Megnevezés | E1: feladat jellege | F1: Tervezési alapegység | G1: Előirányzat | I1: Teljesítés | K1: Költségvetési kiadások | S1: Finanszírozási kiadások
G2: Eredeti | H2: Módosított | I2: Összege | J2: %-a | K2: Személyi juttatások | L2: Munkaadókat terhelő járulékok és szociális hj.adó | M2: Dologi kiadások | N2: Ellátottak pénzbeli juttatásai | O2: Egyéb működési célú kiadások | P2: Beruházások | Q2: Felújítások | R2: Egyéb felhalmo-zási célú kiadások | S2: Hitel-, kölcsöntör-lesztés áht-n kívülre | T2: Egyéb finanszírozási kiadás
A3: 1 | D3: Önkormányzat
A4: 1 | B4: 1 | D4: Szakosztályok
A5: 1 | B5: 12 | D5: Szociális és igazgatási feladatok
D6: 105010 Munkanélküli aktív korúak ellátásai
D7: - megélhetési támogatás | E7: 2 | F7: 121103 | G7: 5000 | H7: 5000 | I7: =SUM(K7:T7) -> 923 | J7: =I7/H7*100 -> 18.46 | N7: 923
D8: 106020 Lakásfenntartással, lakhatással összefüggő ellátások
D9: - lakásfenntartási segély | E9: 2 | F9: 121104 | G9: 20000 | H9: 20000 | I9: =SUM(K9:T9) -> 6277 | J9: =I9/H9*100 -> 31.385 | N9: 6277
D10: - önkormányzati bérlakásban élők lakásfenntartási segélye Lakásalapból | E10: 2 | F10: 121117 | G10: 18738 | H10: 9000 | I10: =SUM(K10:T10) -> 2498 | J10: =I10/H10*100 -> 27.755556 | N10: 2498
D11: - gázártámogatás | E11: 2 | F11: 121202 | G11: 5700 | H11: 5700 | I11: =SUM(K11:T11) -> 75 | J11: =I11/H11*100 -> 1.3157895 | N11: 75
D12: - villamosenergia támogatás | E12: 2 | F12: 121205 | G12: 5700 | H12: 5700 | I12: =SUM(K12:T12) -> 22 | J12: =I12/H12*100 -> 0.38596491 | N12: 22
D13: 107060 Egyéb szociális pénzbeli ellátások, támogatások
D14: - gyermekétkeztetési támogatás | E14: 2 | F14: 121111 | G14: 2000 | H14: 2000 | I14: =SUM(K14:T14) -> 735 | J14: =I14/H14*100 -> 36.75 | N14: 735
D15: - átmeneti segély | E15: 2 | F15: 121127 | G15: 4000 | H15: 4000 | I15: =SUM(K15:T15) -> 2278 | J15: =I15/H15*100 -> 56.95 | N15: 2278
D16: - egyszeri nevelési juttatás | E16: 2 | F16: 121115 | G16: 700 | H16: 700 | I16: =SUM(K16:T16) -> 0 | J16: =I16/H16*100 -> 0
D17: - szociális krízis alap | E17: 2 | F17: 121129 | G17: 3600 | H17: 3600 | I17: =SUM(K17:T17) -> 1370 | J17: =I17/H17*100 -> 38.055556 | N17: 1370
D18: - tüzifa támogatás | E18: 2 | F18: 121106 | G18: 3000 | H18: 3000 | I18: =SUM(K18:T18) -> 1966 | J18: =I18/H18*100 -> 65.533333 | N18: 1966
D19: 103010 Elhunyt személyek hátramaradottainak pénzbeli ellátása
D20: - temetési segély | E20: 2 | F20: 121131 | G20: 2000 | H20: 2000 | I20: =SUM(K20:T20) -> 917 | J20: =I20/H20*100 -> 45.85 | N20: 917
D21: 106020 Lakásfenntartással, lakhatással összefüggő ellátások
D22: - lakhatási krízis alap Lakásalapból | E22: 2 | F22: 121130 | G22: 3000 | H22: 1000 | I22: =SUM(K22:T22) -> 0 | J22: =I22/H22*100 -> 0
D23: 107060 Egyéb szociális pénzbeli ellátások, támogatások
D24: - gyógyszertámogatás | E24: 1 | F24: 121204 | G24: 14000 | H24: 14000 | I24: =SUM(K24:T24) -> 2489 | J24: =I24/H24*100 -> 17.778571 | N24: 2489
D25: - gyógyászati segédeszköz támogatás | E25: 1 | F25: 121132 | G25: 750 | H25: 750 | I25: =SUM(K25:T25) -> 669 | J25: =I25/H25*100 -> 89.2 | N25: 669
D26: - köztemetés | E26: 1 | F26: 121203 | G26: 6500 | H26: 6500 | I26: =SUM(K26:T26) -> 1929 | J26: =I26/H26*100 -> 29.676923 | M26: 410 | N26: 1519
D27: 094260 Hallgatói és oktatói ösztöndíjak, egyéb juttatások
D28: - Bursa Hungarica ösztöndíj | E28: 2 | F28: 121504 | G28: 4000 | H28: 4000 | I28: =SUM(K28:T28) -> 750 | J28: =I28/H28*100 -> 18.75 | O28: 750
D29: 061030 Lakáshoz jutást segítő támogatások
D30: - lakásgazdálkodási feladatokra | E30: 1 | F30: 121403 | G30: 50 | H30: 50 | I30: =SUM(K30:T30) -> 0 | J30: =I30/H30*100 -> 0
D31: 104042 Család- és gyermekjóléti szolgálat
D32: - Család-és Gyermekjóléti Központhoz krízissegélyezés | E32: 1 | F32: 121301 | G32: 2500 | H32: 0 | I32: =SUM(K32:T32) -> 0
D33: 011130 Önkorm. és önkorm. hivatal. jogalk. és ált.ig.tev.
D34: - Egerszegkártya | E34: 2 | F34: 221902 | G34: 74335 | H34: 69516 | I34: =SUM(K34:T34) -> 21056 | J34: =I34/H34*100 -> 30.28943 | M34: 21056
D35: - Nemzedékek kézfogása | E35: 2 | F35: 22190** | G35: 22320 | H35: 22320 | I35: =SUM(K35:T35) -> 6395 | J35: =I35/H35*100 -> 28.651434 | L35: 1702 | M35: 196 | N35: 4497
D36: - bírtokvédelmi költség megelőlegezés | E36: 1 | F36: 121118 | G36: 200 | H36: 200 | I36: =SUM(K36:T36) -> 0 | J36: =I36/H36*100 -> 0
D37: - talált tárgyak felértékeltetése | E37: 1 | F37: 121515 | G37: 200 | H37: 200 | I37: =SUM(K37:T37) -> 0 | J37: =I37/H37*100 -> 0
D38: 032020 Tűz- és katasztrófavéd. tevékenység
D39: - helyi védelmi igazgatás | E39: 1 | F39: 121601 | G39: 500 | H39: 500 | I39: =SUM(K39:T39) -> 0 | J39: =I39/H39*100 -> 0
D40: 109010 Szociális szolgáltatás igazgatása
D41: - "Lakhatásért" Közalapítvány támogatása | E41: 2 | F41: 121517 | G41: 3000 | H41: 3000 | I41: =SUM(K41:T41) -> 1500 | J41: =I41/H41*100 -> 50 | O41: 1500
D42: Szociális és igazgatási fa.működési kiadás összesen: | G42: =SUM(G7:G41) -> 201793 | H42: =SUM(H7:H41) -> 182736 | I42: =SUM(I7:I41) -> 51849 | J42: =I42/H42*100 -> 28.373719 | K42: =SUM(K7:K41) -> 0 | L42: =SUM(L7:L41) -> 1702 | M42: =SUM(M7:M41) -> 21662 | N42: =SUM(N7:N41) -> 26235 | O42: =SUM(O7:O41) -> 2250 | P42: =SUM(P7:P41) -> 0 | Q42: =SUM(Q7:Q41) -> 0 | R42: =SUM(R7:R41) -> 0 | ... T42: =SUM(T7:T41) -> 0
D43: Beruházási és felújítási kiadások:
C44: 1./1 | D44: Önkormányzat által nyújtott lakástámogatás első lakáshoz jutók részére (Lakásalapból) | F44: 121401 | G44: 21200 | H44: 2000 | I44: =SUM(K44:T44) -> 0 | J44: =I44/H44*100 -> 0
D45: 2024. évről áthúzódó feladat
C46: 1.a/1 | D46: Családok otthonteremtési kedvezménye (Lakásalap) | F46: 121405 | G46: 2780 | H46: 1000 | I46: =SUM(K46:T46) -> 0 | J46: =I46/H46*100 -> 0
C47: 1.a/2 | D47: Kamatmentes kölcsön az ideiglenesen nehéz helyzetbe került zeg-i polgárok számára (Lakásalapból) | F47: 121402 | G47: 3819 | H47: 0 | I47: =SUM(K47:T47) -> 0
D48: Szociális és igazgatási fa. kiadásai összesen: | G48: =SUM(G42:G47) -> 229592 | H48: =SUM(H42:H47) -> 185736 | I48: =SUM(I42:I47) -> 51849 | J48: =I48/H48*100 -> 27.915428 | K48: =SUM(K42:K47) -> 0 | L48: =SUM(L42:L47) -> 1702 | M48: =SUM(M42:M47) -> 21662 | N48: =SUM(N42:N47) -> 26235 | O48: =SUM(O42:O47) -> 2250 | P48: =SUM(P42:P47) -> 0 | Q48: =SUM(Q42:Q47) -> 0 | R48: =SUM(R42:R47) -> 0 | ... T48: =SUM(T42:T47) -> 0
A49: 1 | B49: 13 | D49: Humánigazgatási feladatok
D50: Oktatási feladatok
D51: 098010 Oktatás igazgatása
D52: - Zalaegerszegi Szakképzési Centrum részére támogatás szakképzési ösztöndíj céljára | E52: 2 | F52: 131112 | G52: 17000 | H52: 17000 | I52: =SUM(K52:T52) -> 8500 | J52: =I52/H52*100 -> 50 | O52: 8500
D53: - intézmények és civil szervezetek támogatása, rendezvényeik finanszírozása | E53: 2 | F53: 131123 | G53: 3000 | H53: 3000 | I53: =SUM(K53:T53) -> 1205 | J53: =I53/H53*100 -> 40.166667 | O53: 1205
D54: - pedagógus napi rendezvény szervezése | E54: 2 | F54: 131212 | G54: 1100 | H54: 1100 | I54: =SUM(K54:T54) -> 869 | J54: =I54/H54*100 -> 79 | K54: 695 | M54: 174
D55: - díszokleveles pedagógusok ünnepsége és jutalmazása | E55: 2 | F55: 131122 | G55: 2000 | H55: 2000 | I55: =SUM(K55:T55) -> 0 | J55: =I55/H55*100 -> 0
D56: - Zeg.Felsőfokú Oktatásáért Közalapítvány támogatása | E56: 2 | F56: 131107 | G56: 45000 | H56: 45000 | I56: =SUM(K56:T56) -> 27500 | J56: =I56/H56*100 -> 61.111111 | O56: 27500
D57: - nyári táboroztatás | E57: 2 | F57: 131128 | G57: 11000 | H57: 0 | I57: =SUM(K57:T57) -> 0
D58: - Nemzeti Orvosbiológiai Alapítvány tudósképző akadémia programjának támogatása | E58: 2 | F58: 131129 | G58: 2500 | H58: 2500 | I58: =SUM(K58:T58) -> 2500 | J58: =I58/H58*100 -> 100 | O58: 2500
D59: Kulturális és ifjúsági feladatok
D60: 084070 A fiatalok társ. integrációját segítő struktúra, szakmai szolgált. fejlesztése, működtetése
D61: - ifjúsági rendezvények | E61: 2 | F61: 131201 | G61: 2000 | H61: 2000 | I61: =SUM(K61:T61) -> 1431 | J61: =I61/H61*100 -> 71.55 | K61: 1060 | L61: 350 | M61: 21
D62: - Zalaegerszegi Városi Diákönkormányzat | E62: 2 | F62: 131202 | G62: 2200 | H62: 2200 | I62: =SUM(K62:T62) -> 1910 | J62: =I62/H62*100 -> 86.818182 | K62: 458 | L62: 118 | M62: 334 | R62: 1000
D63: - Zalaegerszegi Városi Diáknapok | E63: 2 | F63: 131205 | G63: 3650 | H63: 3650 | I63: =SUM(K63:T63) -> 3642 | J63: =I63/H63*100 -> 99.780822 | K63: 31 | L63: 10 | M63: 601 | O63: 3000
D64: - Zalaegerszegi Egyetemisták Egyesülete | E64: 2 | F64: 131206 | G64: 250 | H64: 250 | I64: =SUM(K64:T64) -> 0 | J64: =I64/H64*100 -> 0
D65: - Zalaegerszegi Ifjúsági Kerekasztal | E65: 2 | F65: 131209 | G65: 1195 | H65: 1195 | I65: =SUM(K65:T65) -> 220 | J65: =I65/H65*100 -> 18.410042 | K65: 33 | L65: 187
D66: - "Fiatalok az Egészséges Jövőért" Alapítvány országos vetélkedője | E66: 2 | F66: 131214 | G66: 500 | H66: 500 | I66: =SUM(K66:T66) -> 0 | J66: =I66/H66*100 -> 0
D67: 094260 Hallgatói és oktatói ösztöndíjak, egyéb juttatások
D68: - felsőoktatási ösztöndíj és támogatás | E68: 2 | F68: 131101 | G68: 17000 | H68: 17000 | I68: =SUM(K68:T68) -> 8500 | J68: =I68/H68*100 -> 50 | N68: 5250 | O68: 3250
D69: 074052 Kábítószer megelőzés programja
D70: - Zalaegerszegi Kábítószerügyi Egyeztető Fórum | E70: 2 | F70: 131120 | G70: 500 | H70: 500 | I70: =SUM(K70:T70) -> 0 | J70: =I70/H70*100 -> 0
D71: 082091 Közművelődés - közösségi és társ. részvétel fejleszt.
D72: - Magyar Kultúra Napja | E72: 2 | F72: 131346 | G72: 7310 | H72: 7310 | I72: =SUM(K72:T72) -> 2660 | J72: =I72/H72*100 -> 36.388509 | K72: 256 | L72: 18 | M72: 6 | O72: 2380
D73: - Gébárti Népművészeti Fesztivál | E73: 2 | F73: 131339 | G73: 1500 | H73: 1500 | I73: =SUM(K73:T73) -> 0 | J73: =I73/H73*100 -> 0
D74: - Egerszeg búcsú | E74: 2 | F74: 131306 | G74: 1000 | H74: 1000 | I74: =SUM(K74:T74) -> 0 | J74: =I74/H74*100 -> 0
D75: - Filmzenei koncert | E75: 2 | F75: 131341 | G75: 14000 | H75: 14000 | I75: =SUM(K75:T75) -> 14000 | J75: =I75/H75*100 -> 100 | O75: 14000
D76: - Zegasztár támogatása | E76: 2 | F76: 131326 | G76: 2500 | H76: 2500 | I76: =SUM(K76:T76) -> 0 | J76: =I76/H76*100 -> 0
D77: - Formula Student East | E77: 2 | F77: 221910 | G77: 5000 | H77: 5000 | I77: =SUM(K77:T77) -> 0 | J77: =I77/H77*100 -> 0
D78: - Városi Hangverseny- és Kiállítóteremben rendezvények | E78: 2 | F78: 131332 | G78: 1500 | H78: 1500 | I78: =SUM(K78:T78) -> 1500 | J78: =I78/H78*100 -> 100 | O78: 1500
D79: - Zalaegerszegi Múzeumok Igazgatósága a '80-as évek kiállítás | E79: 2 | F79: 131333 | G79: 3800 | H79: 3800 | I79: =SUM(K79:T79) -> 3800 | J79: =I79/H79*100 -> 100 | O79: 3800
D80: - Városi karácsonyi hangverseny | E80: 2 | F80: 131361 | G80: 500 | H80: 500 | I80: =SUM(K80:T80) -> 0 | J80: =I80/H80*100 -> 0
D81: - Street Food weekend | E81: 2 | F81: 131409 | G81: 4500 | H81: 4500 | I81: =SUM(K81:T81) -> 4500 | J81: =I81/H81*100 -> 100 | O81: 4500
D82: - Majális | E82: 2 | F82: 131352 | G82: 10000 | H82: 0 | I82: =SUM(K82:T82) -> 0
D83: - Sörfesztivál támogatása | E83: 2 | F83: 131353 | G83: 100 | H83: 100 | I83: =SUM(K83:T83) -> 0 | J83: =I83/H83*100 -> 0
D84: - Egerszegi Adventtel kapcsolatos kiadások | E84: 2 | F84: 131329 | G84: 100 | H84: 100 | I84: =SUM(K84:T84) -> 0 | J84: =I84/H84*100 -> 0
D85: - Kvártélyház Kft. támogatása | E85: 2 | F85: 131321 | G85: 120000 | H85: 120000 | I85: =SUM(K85:T85) -> 120000 | J85: =I85/H85*100 -> 100 | O85: 120000
D86: - Zalaegerszegi Rendezvényszervező Kft. működési támogatása | E86: 2 | F86: 131313 | G86: 30000 | H86: 30000 | I86: =SUM(K86:T86) -> 0 | J86: =I86/H86*100 -> 0
D87: - Keresztury Emlékbizottság | E87: 2 | F87: 131501 | G87: 200 | H87: 200 | I87: =SUM(K87:T87) -> 0 | J87: =I87/H87*100 -> 0
D88: - Éves sajtófotó kiállítás | E88: 2 | F88: 131310 | G88: 300 | H88: 300 | I88: =SUM(K88:T88) -> 300 | J88: =I88/H88*100 -> 100 | O88: 300
D89: - Városi farsang | E89: 2 | F89: 131410 | G89: 500 | H89: 500 | I89: =SUM(K89:T89) -> 500 | J89: =I89/H89*100 -> 100 | O89: 500
D90: - Kárpát-medencei ifjúsági tábor | E90: 2 | F90: 221944 | G90: 500 | H90: 500 | I90: =SUM(K90:T90) -> 0 | J90: =I90/H90*100 -> 0
D91: - 140 éves jubileum | E91: 2 | F91: 131362 | G91: 1000 | H91: 1000 | I91: =SUM(K91:T91) -> 0 | J91: =I91/H91*100 -> 0
D92: - Gébárti Művésztelep | E92: 2 | F92: 131307 | G92: 1200 | H92: 1200 | I92: =SUM(K92:T92) -> 0 | J92: =I92/H92*100 -> 0
D93: - II. Nemzetközi Tánc és Világzenei Fesztivál | E93: 2 | F93: 131357 | G93: 500 | H93: 500 | I93: =SUM(K93:T93) -> 500 | J93: =I93/H93*100 -> 100 | O93: 500
D94: - Zala Open támogatása | E94: 2 | F94: 131323 | G94: 1500 | H94: 1500 | I94: =SUM(K94:T94) -> 0 | J94: =I94/H94*100 -> 0
D95: - Verbunk verseny | E95: 2 | F95: 131319 | G95: 4000 | H95: 4000 | I95: =SUM(K95:T95) -> 0 | J95: =I95/H95*100 -> 0
D96: - Zalaegerszegi Szimfonikus Zenekar támogatása | E96: 2 | F96: 131348 | G96: 6000 | H96: 6000 | I96: =SUM(K96:T96) -> 6000 | J96: =I96/H96*100 -> 100 | O96: 6000
D97: - Városi Gyermeknap | E97: 2 | F97: 131213 | G97: 3500 | H97: 3500 | I97: =SUM(K97:T97) -> 3500 | J97: =I97/H97*100 -> 100 | O97: 3500
D98: - Prósza Fesztivál | E98: 2 | F98: 131363 | G98: 3500 | H98: 3500 | I98: =SUM(K98:T98) -> 3500 | J98: =I98/H98*100 -> 100 | O98: 3500
D99: - '47-es Honvéd Zászlóalj Hagyományőrző Egyesület támogatása | E99: 2 | F99: 131345 | G99: 500 | H99: 500 | I99: =SUM(K99:T99) -> 500 | J99: =I99/H99*100 -> 100 | O99: 500
D100: 084031 Civil szervezetek műk. támogatása
...

Sheet 9
A1: Cím szám | B1: Sorszám | C1: Költségvetési szerv megnevezése | D1: Előirányzat | F1: Teljesítés | H1: Költségvetési bevételek | O1: Finanszírozási bevételek
D2: Eredeti | E2: Módosított | F2: Összege | G2: %-a | H2: Működési célú támogatások áht-n belülről | I2: Felhalmozási célú támogatások áht-n belülről | J2: Közhatalmi bevételek | K2: Működési bevételek | L2: Felhalmozási bevételek | M2: Működési célú átvett pénzeszközök | N2: Felhalmozási célú átvett pénzeszközök | O2: Maradvány igénybevétele | P2: Központi, irányító szervi támogatás | Q2: Egyéb finanszírozási bevétel
A3: 2 | C3: Költségvetési szervek
B4: 1 | C4: Polgármesteri Hivatal | D4: 2396463 | E4: 2384834 | F4: =SUM(H4:Q4) -> 1107039 | G4: =F4/E4*100 -> 46.41996 | H4: 1424 | I4: 0 | J4: 2590 | K4: 13454 | L4: 107 | M4: 0 | N4: 0 | O4: 86407 | P4: 1003057 | Q4: 0
B5: 2 | C5: Zalaegerszegi Gazdasági Ellátó Szervezet | D5: 2163205 | E5: 2272916 | F5: =SUM(H5:Q5) -> 1379197 | G5: =F5/E5*100 -> 60.679629 | H5: 123240 | I5: 0 | J5: 0 | K5: 377841 | L5: 240 | M5: 0 | N5: 0 | O5: 212430 | P5: 665446 | Q5: 0
B6: 3 | C6: Zalaegerszegi Egyesített Bölcsődék | D6: 1209248 | E6: 1336847 | F6: =SUM(H6:Q6) -> 659471 | G6: =F6/E6*100 -> 49.330327 | H6: 0 | I6: 800 | J6: 0 | K6: 69952 | L6: 1300 | M6: 0 | N6: 0 | O6: 148808 | P6: 438611 | Q6: 0
B7: 4 | C7: Zalaegerszegi Család- és Gyermekjóléti Központ | D7: 382822 | E7: 483829 | F7: =SUM(H7:Q7) -> 274421 | G7: =F7/E7*100 -> 56.718593 | H7: 0 | I7: 0 | J7: 0 | K7: 2847 | L7: 0 | M7: 0 | N7: 0 | O7: 118514 | P7: 153060 | Q7: 0
B8: 5 | C8: Zalaegerszegi Belvárosi I. számú Óvoda | D8: 727176 | E8: 741983 | F8: =SUM(H8:Q8) -> 333170 | G8: =F8/E8*100 -> 44.902646 | H8: 570 | I8: 0 | J8: 0 | K8: 10444 | L8: 0 | M8: 0 | N8: 0 | O8: 45951 | P8: 276205 | Q8: 0
B9: 6 | C9: Zalaegerszegi Belvárosi II. számú Óvoda | D9: 553787 | E9: 560718 | F9: =SUM(H9:Q9) -> 254534 | G9: =F9/E9*100 -> 45.394298 | H9: 370 | I9: 130 | J9: 0 | K9: 15632 | L9: 3 | M9: 0 | N9: 0 | O9: 42903 | P9: 195496 | Q9: 0
B10: 7 | C10: Zalaegerszegi Kertvárosi Óvoda | D10: 645706 | E10: 651477 | F10: =SUM(H10:Q10) -> 307804 | G10: =F10/E10*100 -> 47.247102 | H10: 170 | I10: 0 | J10: 0 | K10: 13871 | L10: 0 | M10: 0 | N10: 0 | O10: 31073 | P10: 262690 | Q10: 0
B11: 8 | C11: Zalaegerszegi Landorhegyi Óvoda | D11: 556909 | E11: 568583 | F11: =SUM(H11:Q11) -> 269497 | G11: =F11/E11*100 -> 47.398005 | H11: 170 | I11: 0 | J11: 0 | K11: 11678 | L11: 0 | M11: 0 | N11: 0 | O11: 24443 | P11: 233206 | Q11: 0
B12: 9 | C12: Közgyűjteményi és Közművelődési GESZ | D12: 102618 | E12: 105697 | F12: =SUM(H12:Q12) -> 48553 | G12: =F12/E12*100 -> 45.936025 | H12: 400 | I12: 0 | J12: 0 | K12: 16 | L12: 0 | M12: 0 | N12: 0 | O12: 2273 | P12: 45864 | Q12: 0
B13: 10 | C13: Keresztury Dezső Városi Művelődési Központ | D13: 579040 | E13: 624809 | F13: =SUM(H13:Q13) -> 333887 | G13: =F13/E13*100 -> 53.438251 | H13: 21386 | I13: 0 | J13: 0 | K13: 97596 | L13: 0 | M13: 0 | N13: 0 | O13: 11450 | P13: 203455 | Q13: 0
B14: 11 | C14: Zalaegerszegi Turisztikai Hivatal és Információs Iroda | D14: 31295 | E14: 35384 | F14: =SUM(H14:Q14) -> 17240 | G14: =F14/E14*100 -> 48.722586 | H14: 2000 | I14: 0 | J14: 0 | K14: 1113 | L14: 0 | M14: 0 | N14: 0 | O14: 1589 | P14: 12538 | Q14: 0
B15: 12 | C15: Deák Ferenc Megyei és Városi Könyvtár | D15: 539587 | E15: 558196 | F15: =SUM(H15:Q15) -> 276937 | G15: =F15/E15*100 -> 49.61286 | H15: 4911 | I15: 0 | J15: 0 | K15: 12030 | L15: 0 | M15: 593 | N15: 0 | O15: 15380 | P15: 244023 | Q15: 0
... B21: 18 | C21: Göcseji Tudásközpont - Zalaegerszegi Helyi Termék Piac | D21: 82936 | E21: 105433 | F21: =SUM(H21:Q21) -> 58903 | G21: =F21/E21*100 -> 55.867707 | H21: 0 | I21: 0 | J21: 0 | K21: 27100 | L21: 0 | M21: 0 | N21: 0 | O21: 13709 | P21: 18094 | Q21: 0
C22: Költségvetési szervek mindösszesen: | D22: =SUM(D3:D21) -> 12356583 | E22: =SUM(E3:E21) -> 12982198 | F22: =SUM(F3:F21) -> 6757585 | G22: =F22/E22*100 -> 52.052703 | H22: =SUM(H3:H21) -> 429999 | I22: =SUM(I3:I21) -> 3480 | J22: =SUM(J3:J21) -> 2590 | K22: =SUM(K3:K21) -> 947691 | L22: =SUM(L3:L21) -> 1650 | M22: =SUM(M3:M21) -> 593 | N22: =SUM(N3:N21) -> 0 | O22: =SUM(O3:O21) -> 989972 | ... Q22: =SUM(Q3:Q21) -> 0

Sheet 10
A1: Cím szám | B1: Sorszám | C1: Költségvetési szerv megnevezése | D1: Előirányzat | F1: Teljesítés | H1: Költségvetési kiadások | P1: Finanszírozási kiadások
D2: Eredeti | E2: Módosított | F2: összege | G2: %-a | H2: Személyi juttatások | I2: Munkaadókat terhelő járulékok és szociális hozzájárulási adó | J2: Dologi kiadások | K2: Ellátottak pénzbeli juttatásai | L2: Egyéb működési célú kiadások | M2: Beruházások | N2: Felújítások | O2: Egyéb felhalmozási célú kiadások
A3: 2 | C3: Költségvetési szervek
B4: 1 | C4: Polgármesteri Hivatal | D4: 2396463 | E4: 2384834 | F4: =SUM(H4:P4) -> 1103156 | G4: =F4/E4*100 -> 46.25714 | H4: 839281 | I4: 126076 | J4: 126504 | K4: 0 | L4: 0 | M4: 11295 | N4: 0 | O4: 0 | P4: 0
B5: 2 | C5: Zalaegerszegi Gazdasági Ellátó Szervezet | D5: 2163205 | E5: 2272916 | F5: =SUM(H5:P5) -> 1125990 | G5: =F5/E5*100 -> 49.539446 | H5: 155856 | I5: 20034 | J5: 933572 | K5: 0 | L5: 0 | M5: 3654 | N5: 12874 | O5: 0 | P5: 0
B6: 3 | C6: Zalaegerszegi Egyesített Bölcsődék | D6: 1209248 | E6: 1336847 | F6: =SUM(H6:P6) -> 581950 | G6: =F6/E6*100 -> 43.531534 | H6: 407933 | I6: 54522 | J6: 101283 | K6: 0 | L6: 1454 | M6: 15780 | N6: 978 | O6: 0 | P6: 0
B7: 4 | C7: Zalaegerszegi Család- és Gyermekjóléti Központ | D7: 382822 | E7: 483829 | F7: =SUM(H7:P7) -> 180594 | G7: =F7/E7*100 -> 37.325997 | H7: 146110 | I7: 18934 | J7: 14304 | K7: 1109 | L7: 0 | M7: 137 | N7: 0 | O7: 0 | P7: 0
B8: 5 | C8: Zalaegerszegi Belvárosi I. számú Óvoda | D8: 727176 | E8: 741983 | F8: =SUM(H8:P8) -> 333164 | G8: =F8/E8*100 -> 44.901837 | H8: 250148 | I8: 29711 | J8: 49440 | K8: 0 | L8: 0 | M8: 2715 | N8: 1150 | O8: 0 | P8: 0
B9: 6 | C9: Zalaegerszegi Belvárosi II. számú Óvoda | D9: 553787 | E9: 560718 | F9: =SUM(H9:P9) -> 254513 | G9: =F9/E9*100 -> 45.390553 | H9: 160557 | I9: 22793 | J9: 68571 | K9: 0 | L9: 0 | M9: 2592 | N9: 0 | O9: 0 | P9: 0
B10: 7 | C10: Zalaegerszegi Kertvárosi Óvoda | D10: 645706 | E10: 651477 | F10: =SUM(H10:P10) -> 307700 | G10: =F10/E10*100 -> 47.231138 | H10: 193965 | I10: 27079 | J10: 85848 | K10: 0 | L10: 0 | M10: 808 | N10: 0 | O10: 0 | P10: 0
B11: 8 | C11: Zalaegerszegi Landorhegyi Óvoda | D11: 556909 | E11: 568583 | F11: =SUM(H11:P11) -> 266886 | G11: =F11/E11*100 -> 46.938793 | H11: 188067 | I11: 26870 | J11: 50451 | K11: 0 | L11: 0 | M11: 1498 | N11: 0 | O11: 0 | P11: 0
B12: 9 | C12: Közgyűjteményi és Közművelődési GESZ | D12: 102618 | E12: 105697 | F12: =SUM(H12:P12) -> 48516 | G12: =F12/E12*100 -> 45.901019 | H12: 40978 | I12: 5532 | J12: 1695 | K12: 0 | L12: 0 | M12: 311 | N12: 0 | O12: 0 | P12: 0
B13: 10 | C13: Keresztury Dezső Városi Művelődési Központ | D13: 579040 | E13: 624809 | F13: =SUM(H13:P13) -> 334784 | G13: =F13/E13*100 -> 53.581815 | H13: 146829 | I13: 18689 | J13: 165003 | K13: 0 | L13: 0 | M13: 2259 | N13: 2004 | O13: 0 | P13: 0
B14: 11 | C14: Zalaegerszegi Turisztikai Hivatal és Információs Iroda | D14: 31295 | E14: 35384 | F14: =SUM(H14:P14) -> 15504 | G14: =F14/E14*100 -> 43.816414 | H14: 11448 | I14: 1464 | J14: 2551 | K14: 0 | L14: 0 | M14: 41 | N14: 0 | O14: 0 | P14: 0
B15: 12 | C15: Deák Ferenc Megyei és Városi Könyvtár | D15: 539587 | E15: 558196 | F15: =SUM(H15:P15) -> 226089 | G15: =F15/E15*100 -> 40.503515 | H15: 127100 | I15: 15320 | J15: 67052 | K15: 0 | L15: 11000 | M15: 5617 | N15: 0 | O15: 0 | P15: 0
... B21: 18 | C21: Göcseji Tudásközpont - Zalaegerszegi Helyi Termék Piac | D21: 82936 | E21: 105433 | F21: =SUM(H21:P21) -> 45498 | G21: =F21/E21*100 -> 43.153472 | H21: 17121 | I21: 1881 | J21: 24391 | K21: 0 | L21: 0 | M21: 1478 | N21: 627 | O21: 0 | P21: 0
C22: Költségvetési szervek mindösszesen: | D22: =SUM(D3:D21) -> 12356583 | E22: =SUM(E3:E21) -> 12982198 | F22: =SUM(F3:F21) -> 6031909 | G22: =F22/E22*100 -> 46.462926 | H22: =SUM(H3:H21) -> 3348476 | I22: =SUM(I3:I21) -> 439826 | J22: =SUM(J3:J21) -> 2117907 | K22: =SUM(K3:K21) -> 1109 | L22: =SUM(L3:L21) -> 27499 | M22: =SUM(M3:M21) -> 79459 | N22: =SUM(N3:N21) -> 17633 | O22: =SUM(O3:O21) -> 0 | P22: =SUM(P3:P21) -> 0
