Workbook

Sheet Alibánfa
A1: Gördülő fejlesztési terv a 2025 - 2039 időszakra
A2: BERUHÁZÁSOK ÖSSZEFOGLALÓ TÁBLÁZATA
A3: A tervet benyújtó szervezet megnevezése: | K3: ALIBÁNFA | R3: ellátásért felelős / ellátásért felelősök képviselője / víziközmű-szolgáltató *
A4: Víziközmű-szolgáltató megnevezése: | K4: ÉSZAK ZALAI VÍZ- ÉS CSATORNAMŰ ZÁRTKÖRŰEN MŰKÖDŐ RÉSZVÉNYTÁRSASÁG
A5: Víziközmű-szolgáltatási ágazat megnevezése: | K5: SZENNYVÍZ ÁGAZAT
A6: Véleményeltérést megfogalmazó érintett fél megnevezése:
A7: Víziközmű-rendszer kódja: ** | K7: 21-32054-1-048-01-10 | R7: Zalaegerszeg-SZV
A8: V. Szennyvízelvezetés
A9: Fontossági sorrend | B9: Beruházás megnevezése | E9: Műszaki állapot felmérés, szükségességi indoklás | H9: Vízjogi létesítési/elvi engedély száma | I9: Az érintett ellátásért felelős(ök) megnevezése | J9: Tervezett nettó költség | K9: Forrás 2025 évre | L9: Megvalósítás időtartama | N9: Tervezett időtáv | O9: A beruházás ütemezése a tervezési időszak évei szerint
E10: Jelenlegi műszaki állapot | F10: Feladat szükségessége | G10: Megvalósítást követő várható műszaki állapot | J10: (eFt) | L10: Kezdés | M10: Befejezés | N10: (rövid / közép / hosszú) | O10: 1 | P10: 2 | Q10: 3 | R10: 4 | S10: 5 | T10: 6 | U10: 7 | V10: 8 | W10: 9 | X10: 10 | Y10: 11 | Z10: 12 | AA10: 13 | AB10: 14 | AC10: 15
B11: szakág | C11: Helyszín | D11: beruházás megnevezése
B13: SZENNYVÍZCSATORNA (GRAVITÁCIÓS)
B14: Épület, építmény
B16: SZENNYVÍZVEZETÉKEK (KÉNYSZERÁRAMOLTATÁSÚ)
B18: SZENNYVÍZÁTEMELŐK
B19: Épület, építmény
B20: Gép, berendezés
B21: Irányítástechnika, energiaellátás
B23: Összesen: | J23: =SUM(J13:J22) -> 0 | K23: 0 | O23: =SUM(O12:O22) -> 0 | P23: =SUM(P12:P22) -> 0 | Q23: =SUM(Q12:Q22) -> 0 | R23: =SUM(R12:R22) -> 0 | S23: =SUM(S12:S22) -> 0 | T23: =SUM(T12:T22) -> 0 | U23: =SUM(U12:U22) -> 0 | V23: =SUM(V12:V22) -> 0 | ... AC23: =SUM(AC12:AC22) -> 0
K24: Jelenleg beruházási igény nem ismert, nincs rendelkezésre álló forrás beruházásra.
B25: Tervezett feladatok nettó költsége a teljes ütem tekintetében (eFt) | C25: Rendelkezésre álló források számszerűsített értéke a teljes ütem tekintetében (eFt) | D25: Rendelkezésre álló források megnevezése
A26: I. ütem | B26: =O23 -> 0 | C26: 0 | D26: Fejlesztési díj (2025)
A27: II. ütem | B27: =SUM(P23:S23) -> 0 | C27: =C26*4 -> 0 | D27: Fejlesztési díj (2026-2029)
A28: III. ütem | B28: =SUM(T23:AC23) -> 0 | C28: =C26*10 -> 0 | D28: Fejlesztési díj (2030-2039)

Sheet Alsónemesapáti
A1: Gördülő fejlesztési terv a 2025 - 2039 időszakra
A2: BERUHÁZÁSOK ÖSSZEFOGLALÓ TÁBLÁZATA
A3: A tervet benyújtó szervezet megnevezése: | K3: ALSÓNEMESAPÁTI | R3: ellátásért felelős / ellátásért felelősök képviselője / víziközmű-szolgáltató *
A4: Víziközmű-szolgáltató megnevezése: | K4: ÉSZAK ZALAI VÍZ- ÉS CSATORNAMŰ ZÁRTKÖRŰEN MŰKÖDŐ RÉSZVÉNYTÁRSASÁG
A5: Víziközmű-szolgáltatási ágazat megnevezése: | K5: SZENNYVÍZ ÁGAZAT
A6: Véleményeltérést megfogalmazó érintett fél megnevezése:
A7: Víziközmű-rendszer kódja: ** | K7: 21-32054-1-048-01-10 | R7: Zalaegerszeg-SZV
A8: V. Szennyvízelvezetés
A9: Fontossági sorrend | B9: Beruházás megnevezése | E9: Műszaki állapot felmérés, szükségességi indoklás | H9: Vízjogi létesítési/elvi engedély száma | I9: Az érintett ellátásért felelős(ök) megnevezése | J9: Tervezett nettó költség | K9: Forrás 2025 évre | L9: Megvalósítás időtartama | N9: Tervezett időtáv | O9: A beruházás ütemezése a tervezési időszak évei szerint
E10: Jelenlegi műszaki állapot | F10: Feladat szükségessége | G10: Megvalósítást követő várható műszaki állapot | J10: (eFt) | L10: Kezdés | M10: Befejezés | N10: (rövid / közép / hosszú) | O10: 1 | P10: 2 | Q10: 3 | R10: 4 | S10: 5 | T10: 6 | U10: 7 | V10: 8 | W10: 9 | X10: 10 | Y10: 11 | Z10: 12 | AA10: 13 | AB10: 14 | AC10: 15
B11: szakág | C11: Helyszín | D11: beruházás megnevezése
B13: SZENNYVÍZCSATORNA (GRAVITÁCIÓS)
B14: Épület, építmény
B16: SZENNYVÍZVEZETÉKEK (KÉNYSZERÁRAMOLTATÁSÚ)
B18: SZENNYVÍZÁTEMELŐK
B19: Épület, építmény
B20: Gép, berendezés
B21: Irányítástechnika, energiaellátás
B23: Összesen: | J23: =SUM(J13:J22) -> 0 | K23: 0 | O23: =SUM(O12:O22) -> 0 | P23: =SUM(P12:P22) -> 0 | Q23: =SUM(Q12:Q22) -> 0 | R23: =SUM(R12:R22) -> 0 | S23: =SUM(S12:S22) -> 0 | T23: =SUM(T12:T22) -> 0 | U23: =SUM(U12:U22) -> 0 | V23: =SUM(V12:V22) -> 0 | ... AC23: =SUM(AC12:AC22) -> 0
K24: Jelenleg beruházási igény nem ismert, nincs rendelkezésre álló forrás beruházásra.
B25: Tervezett feladatok nettó költsége a teljes ütem tekintetében (eFt) | C25: Rendelkezésre álló források számszerűsített értéke a teljes ütem tekintetében (eFt) | D25: Rendelkezésre álló források megnevezése
A26: I. ütem | B26: =O23 -> 0 | C26: 0 | D26: Fejlesztési díj (2025)
A27: II. ütem | B27: =SUM(P23:S23) -> 0 | C27: =C26*4 -> 0 | D27: Fejlesztési díj (2026-2029)
A28: III. ütem | B28: =SUM(T23:AC23) -> 0 | C28: =C26*10 -> 0 | D28: Fejlesztési díj (2030-2039)

Sheet Babosdöbréte
A1: Gördülő fejlesztési terv a 2025 - 2039 időszakra
A2: BERUHÁZÁSOK ÖSSZEFOGLALÓ TÁBLÁZATA
A3: A tervet benyújtó szervezet megnevezése: | K3: BABOSDÖBRÉTE | R3: ellátásért felelős / ellátásért felelősök képviselője / víziközmű-szolgáltató *
A4: Víziközmű-szolgáltató megnevezése: | K4: ÉSZAK ZALAI VÍZ- ÉS CSATORNAMŰ ZÁRTKÖRŰEN MŰKÖDŐ RÉSZVÉNYTÁRSASÁG
A5: Víziközmű-szolgáltatási ágazat megnevezése: | K5: SZENNYVÍZ ÁGAZAT
A6: Véleményeltérést megfogalmazó érintett fél megnevezése:
A7: Víziközmű-rendszer kódja: ** | K7: 21-32054-1-048-01-10 | R7: Zalaegerszeg-SZV
A8: V. Szennyvízelvezetés
A9: Fontossági sorrend | B9: Beruházás megnevezése | E9: Műszaki állapot felmérés, szükségességi indoklás | H9: Vízjogi létesítési/elvi engedély száma | I9: Az érintett ellátásért felelős(ök) megnevezése | J9: Tervezett nettó költség | K9: Forrás 2025 évre | L9: Megvalósítás időtartama | N9: Tervezett időtáv | O9: A beruházás ütemezése a tervezési időszak évei szerint
E10: Jelenlegi műszaki állapot | F10: Feladat szükségessége | G10: Megvalósítást követő várható műszaki állapot | J10: (eFt) | L10: Kezdés | M10: Befejezés | N10: (rövid / közép / hosszú) | O10: 1 | P10: 2 | Q10: 3 | R10: 4 | S10: 5 | T10: 6 | U10: 7 | V10: 8 | W10: 9 | X10: 10 | Y10: 11 | Z10: 12 | AA10: 13 | AB10: 14 | AC10: 15
B11: szakág | C11: Helyszín | D11: beruházás megnevezése
B13: SZENNYVÍZCSATORNA (GRAVITÁCIÓS)
B14: Épület, építmény
B16: SZENNYVÍZVEZETÉKEK (KÉNYSZERÁRAMOLTATÁSÚ)
B18: SZENNYVÍZÁTEMELŐK
B19: Épület, építmény
B20: Gép, berendezés
B21: Irányítástechnika, energiaellátás
B23: Összesen: | J23: =SUM(J13:J22) -> 0 | K23: 0 | O23: =SUM(O12:O22) -> 0 | P23: =SUM(P12:P22) -> 0 | Q23: =SUM(Q12:Q22) -> 0 | R23: =SUM(R12:R22) -> 0 | S23: =SUM(S12:S22) -> 0 | T23: =SUM(T12:T22) -> 0 | U23: =SUM(U12:U22) -> 0 | V23: =SUM(V12:V22) -> 0 | ... AC23: =SUM(AC12:AC22) -> 0
K24: Jelenleg beruházási igény nem ismert, nincs rendelkezésre álló forrás beruházásra.
B25: Tervezett feladatok nettó költsége a teljes ütem tekintetében (eFt) | C25: Rendelkezésre álló források számszerűsített értéke a teljes ütem tekintetében (eFt) | D25: Rendelkezésre álló források megnevezése
A26: I. ütem | B26: =O23 -> 0 | C26: 0 | D26: Fejlesztési díj (2025)
A27: II. ütem | B27: =SUM(P23:S23) -> 0 | C27: =C26*4 -> 0 | D27: Fejlesztési díj (2026-2029)
A28: III. ütem | B28: =SUM(T23:AC23) -> 0 | C28: =C26*10 -> 0 | D28: Fejlesztési díj (2030-2039)

Sheet Bagod
A1: Gördülő fejlesztési terv a 2025 - 2039 időszakra
A2: BERUHÁZÁSOK ÖSSZEFOGLALÓ TÁBLÁZATA
A3: A tervet benyújtó szervezet megnevezése: | K3: BAGOD | R3: ellátásért felelős / ellátásért felelősök képviselője / víziközmű-szolgáltató *
A4: Víziközmű-szolgáltató megnevezése: | K4: ÉSZAK ZALAI VÍZ- ÉS CSATORNAMŰ ZÁRTKÖRŰEN MŰKÖDŐ RÉSZVÉNYTÁRSASÁG
A5: Víziközmű-szolgáltatási ágazat megnevezése: | K5: SZENNYVÍZ ÁGAZAT
A6: Véleményeltérést megfogalmazó érintett fél megnevezése:
A7: Víziközmű-rendszer kódja: ** | K7: 21-32054-1-048-01-10 | R7: Zalaegerszeg-SZV
A8: V. Szennyvízelvezetés
A9: Fontossági sorrend | B9: Beruházás megnevezése | E9: Műszaki állapot felmérés, szükségességi indoklás | H9: Vízjogi létesítési/elvi engedély száma | I9: Az érintett ellátásért felelős(ök) megnevezése | J9: Tervezett nettó költség | K9: Forrás 2025 évre | L9: Megvalósítás időtartama | N9: Tervezett időtáv | O9: A beruházás ütemezése a tervezési időszak évei szerint
E10: Jelenlegi műszaki állapot | F10: Feladat szükségessége | G10: Megvalósítást követő várható műszaki állapot | J10: (eFt) | L10: Kezdés | M10: Befejezés | N10: (rövid / közép / hosszú) | O10: 1 | P10: 2 | Q10: 3 | R10: 4 | S10: 5 | T10: 6 | U10: 7 | V10: 8 | W10: 9 | X10: 10 | Y10: 11 | Z10: 12 | AA10: 13 | AB10: 14 | AC10: 15
B11: szakág | C11: Helyszín | D11: beruházás megnevezése
B13: SZENNYVÍZCSATORNA (GRAVITÁCIÓS)
B14: Épület, építmény
B16: SZENNYVÍZVEZETÉKEK (KÉNYSZERÁRAMOLTATÁSÚ)
B18: SZENNYVÍZÁTEMELŐK
B19: Épület, építmény
B20: Gép, berendezés
B21: Irányítástechnika, energiaellátás
B23: Összesen: | J23: =SUM(J13:J22) -> 0 | K23: 0 | O23: =SUM(O12:O22) -> 0 | P23: =SUM(P12:P22) -> 0 | Q23: =SUM(Q12:Q22) -> 0 | R23: =SUM(R12:R22) -> 0 | S23: =SUM(S12:S22) -> 0 | T23: =SUM(T12:T22) -> 0 | U23: =SUM(U12:U22) -> 0 | V23: =SUM(V12:V22) -> 0 | ... AC23: =SUM(AC12:AC22) -> 0
K24: Jelenleg beruházási igény nem ismert, nincs rendelkezésre álló forrás beruházásra.
B25: Tervezett feladatok nettó költsége a teljes ütem tekintetében (eFt) | C25: Rendelkezésre álló források számszerűsített értéke a teljes ütem tekintetében (eFt) | D25: Rendelkezésre álló források megnevezése
A26: I. ütem | B26: =O23 -> 0 | C26: 0 | D26: Fejlesztési díj (2025)
A27: II. ütem | B27: =SUM(P23:S23) -> 0 | C27: =C26*4 -> 0 | D27: Fejlesztési díj (2026-2029)
A28: III. ütem | B28: =SUM(T23:AC23) -> 0 | C28: =C26*10 -> 0 | D28: Fejlesztési díj (2030-2039)

Sheet Bak
A1: Gördülő fejlesztési terv a 2025 - 2039 időszakra
A2: BERUHÁZÁSOK ÖSSZEFOGLALÓ TÁBLÁZATA
A3: A tervet benyújtó szervezet megnevezése: | K3: BAK | R3: ellátásért felelős / ellátásért felelősök képviselője / víziközmű-szolgáltató *
A4: Víziközmű-szolgáltató megnevezése: | K4: ÉSZAK ZALAI VÍZ- ÉS CSATORNAMŰ ZÁRTKÖRŰEN MŰKÖDŐ RÉSZVÉNYTÁRSASÁG
A5: Víziközmű-szolgáltatási ágazat megnevezése: | K5: SZENNYVÍZ ÁGAZAT
A6: Véleményeltérést megfogalmazó érintett fél megnevezése:
A7: Víziközmű-rendszer kódja: ** | K7: 21-32054-1-048-01-10 | R7: Zalaegerszeg-SZV
A8: V. Szennyvízelvezetés
A9: Fontossági sorrend | B9: Beruházás megnevezése | E9: Műszaki állapot felmérés, szükségességi indoklás | H9: Vízjogi létesítési/elvi engedély száma | I9: Az érintett ellátásért felelős(ök) megnevezése | J9: Tervezett nettó költség | K9: Forrás 2025 évre | L9: Megvalósítás időtartama | N9: Tervezett időtáv | O9: A beruházás ütemezése a tervezési időszak évei szerint
E10: Jelenlegi műszaki állapot | F10: Feladat szükségessége | G10: Megvalósítást követő várható műszaki állapot | J10: (eFt) | L10: Kezdés | M10: Befejezés | N10: (rövid / közép / hosszú) | O10: 1 | P10: 2 | Q10: 3 | R10: 4 | S10: 5 | T10: 6 | U10: 7 | V10: 8 | W10: 9 | X10: 10 | Y10: 11 | Z10: 12 | AA10: 13 | AB10: 14 | AC10: 15
B11: szakág | C11: Helyszín | D11: beruházás megnevezése
B13: SZENNYVÍZCSATORNA (GRAVITÁCIÓS)
B14: Épület, építmény
B16: SZENNYVÍZVEZETÉKEK (KÉNYSZERÁRAMOLTATÁSÚ)
B18: SZENNYVÍZÁTEMELŐK
B19: Épület, építmény
B20: Gép, berendezés
B21: Irányítástechnika, energiaellátás
B23: Összesen: | J23: =SUM(J13:J22) -> 0 | K23: 0 | O23: =SUM(O12:O22) -> 0 | P23: =SUM(P12:P22) -> 0 | Q23: =SUM(Q12:Q22) -> 0 | R23: =SUM(R12:R22) -> 0 | S23: =SUM(S12:S22) -> 0 | T23: =SUM(T12:T22) -> 0 | U23: =SUM(U12:U22) -> 0 | V23: =SUM(V12:V22) -> 0 | ... AC23: =SUM(AC12:AC22) -> 0
K24: Jelenleg beruházási igény nem ismert, nincs rendelkezésre álló forrás beruházásra.
B25: Tervezett feladatok nettó költsége a teljes ütem tekintetében (eFt) | C25: Rendelkezésre álló források számszerűsített értéke a teljes ütem tekintetében (eFt) | D25: Rendelkezésre álló források megnevezése
A26: I. ütem | B26: =O23 -> 0 | C26: 0 | D26: Fejlesztési díj (2025)
A27: II. ütem | B27: =SUM(P23:S23) -> 0 | C27: =C26*4 -> 0 | D27: Fejlesztési díj (2026-2029)
A28: III. ütem | B28: =SUM(T23:AC23) -> 0 | C28: =C26*10 -> 0 | D28: Fejlesztési díj (2030-2039)

Sheet Bocfölde
A1: Gördülő fejlesztési terv a 2025 - 2039 időszakra
A2: BERUHÁZÁSOK ÖSSZEFOGLALÓ TÁBLÁZATA
A3: A tervet benyújtó szervezet megnevezése: | K3: BOCFÖLDE | R3: ellátásért felelős / ellátásért felelősök képviselője / víziközmű-szolgáltató *
A4: Víziközmű-szolgáltató megnevezése: | K4: ÉSZAK ZALAI VÍZ- ÉS CSATORNAMŰ ZÁRTKÖRŰEN MŰKÖDŐ RÉSZVÉNYTÁRSASÁG
A5: Víziközmű-szolgáltatási ágazat megnevezése: | K5: SZENNYVÍZ ÁGAZAT
A6: Véleményeltérést megfogalmazó érintett fél megnevezése:
A7: Víziközmű-rendszer kódja: ** | K7: 21-32054-1-048-01-10 | R7: Zalaegerszeg-SZV
A8: V. Szennyvízelvezetés
A9: Fontossági sorrend | B9: Beruházás megnevezése | E9: Műszaki állapot felmérés, szükségességi indoklás | H9: Vízjogi létesítési/elvi engedély száma | I9: Az érintett ellátásért felelős(ök) megnevezése | J9: Tervezett nettó költség | K9: Forrás 2025 évre | L9: Megvalósítás időtartama | N9: Tervezett időtáv | O9: A beruházás ütemezése a tervezési időszak évei szerint
E10: Jelenlegi műszaki állapot | F10: Feladat szükségessége | G10: Megvalósítást követő várható műszaki állapot | J10: (eFt) | L10: Kezdés | M10: Befejezés | N10: (rövid / közép / hosszú) | O10: 1 | P10: 2 | Q10: 3 | R10: 4 | S10: 5 | T10: 6 | U10: 7 | V10: 8 | W10: 9 | X10: 10 | Y10: 11 | Z10: 12 | AA10: 13 | AB10: 14 | AC10: 15
B11: szakág | C11: Helyszín | D11: beruházás megnevezése
B13: SZENNYVÍZCSATORNA (GRAVITÁCIÓS)
B14: Épület, építmény
B16: SZENNYVÍZVEZETÉKEK (KÉNYSZERÁRAMOLTATÁSÚ)
B18: SZENNYVÍZÁTEMELŐK
B19: Épület, építmény
B20: Gép, berendezés
B21: Irányítástechnika, energiaellátás
B23: Összesen: | J23: =SUM(J13:J22) -> 0 | K23: 0 | O23: =SUM(O12:O22) -> 0 | P23: =SUM(P12:P22) -> 0 | Q23: =SUM(Q12:Q22) -> 0 | R23: =SUM(R12:R22) -> 0 | S23: =SUM(S12:S22) -> 0 | T23: =SUM(T12:T22) -> 0 | U23: =SUM(U12:U22) -> 0 | V23: =SUM(V12:V22) -> 0 | ... AC23: =SUM(AC12:AC22) -> 0
K24: Jelenleg beruházási igény nem ismert, nincs rendelkezésre álló forrás beruházásra.
B25: Tervezett feladatok nettó költsége a teljes ütem tekintetében (eFt) | C25: Rendelkezésre álló források számszerűsített értéke a teljes ütem tekintetében (eFt) | D25: Rendelkezésre álló források megnevezése
A26: I. ütem | B26: =O23 -> 0 | C26: 0 | D26: Fejlesztési díj (2025)
A27: II. ütem | B27: =SUM(P23:S23) -> 0 | C27: =C26*4 -> 0 | D27: Fejlesztési díj (2026-2029)
A28: III. ütem | B28: =SUM(T23:AC23) -> 0 | C28: =C26*10 -> 0 | D28: Fejlesztési díj (2030-2039)

Sheet Boncodfölde
A1: Gördülő fejlesztési terv a 2025 - 2039 időszakra
A2: BERUHÁZÁSOK ÖSSZEFOGLALÓ TÁBLÁZATA
A3: A tervet benyújtó szervezet megnevezése: | K3: BONCODFÖLDE | R3: ellátásért felelős / ellátásért felelősök képviselője / víziközmű-szolgáltató *
A4: Víziközmű-szolgáltató megnevezése: | K4: ÉSZAK ZALAI VÍZ- ÉS CSATORNAMŰ ZÁRTKÖRŰEN MŰKÖDŐ RÉSZVÉNYTÁRSASÁG
A5: Víziközmű-szolgáltatási ágazat megnevezése: | K5: SZENNYVÍZ ÁGAZAT
A6: Véleményeltérést megfogalmazó érintett fél megnevezése:
A7: Víziközmű-rendszer kódja: ** | K7: 21-32054-1-048-01-10 | R7: Zalaegerszeg-SZV
A8: V. Szennyvízelvezetés
A9: Fontossági sorrend | B9: Beruházás megnevezése | E9: Műszaki állapot felmérés, szükségességi indoklás | H9: Vízjogi létesítési/elvi engedély száma | I9: Az érintett ellátásért felelős(ök) megnevezése | J9: Tervezett nettó költség | K9: Forrás 2025 évre | L9: Megvalósítás időtartama | N9: Tervezett időtáv | O9: A beruházás ütemezése a tervezési időszak évei szerint
E10: Jelenlegi műszaki állapot | F10: Feladat szükségessége | G10: Megvalósítást követő várható műszaki állapot | J10: (eFt) | L10: Kezdés | M10: Befejezés | N10: (rövid / közép / hosszú) | O10: 1 | P10: 2 | Q10: 3 | R10: 4 | S10: 5 | T10: 6 | U10: 7 | V10: 8 | W10: 9 | X10: 10 | Y10: 11 | Z10: 12 | AA10: 13 | AB10: 14 | AC10: 15
B11: szakág | C11: Helyszín | D11: beruházás megnevezése
B13: SZENNYVÍZCSATORNA (GRAVITÁCIÓS)
B14: Épület, építmény
B16: SZENNYVÍZVEZETÉKEK (KÉNYSZERÁRAMOLTATÁSÚ)
B18: SZENNYVÍZÁTEMELŐK
B19: Épület, építmény
B20: Gép, berendezés
B21: Irányítástechnika, energiaellátás
B23: Összesen: | J23: =SUM(J13:J22) -> 0 | K23: 0 | O23: =SUM(O12:O22) -> 0 | P23: =SUM(P12:P22) -> 0 | Q23: =SUM(Q12:Q22) -> 0 | R23: =SUM(R12:R22) -> 0 | S23: =SUM(S12:S22) -> 0 | T23: =SUM(T12:T22) -> 0 | U23: =SUM(U12:U22) -> 0 | V23: =SUM(V12:V22) -> 0 | ... AC23: =SUM(AC12:AC22) -> 0
K24: Jelenleg beruházási igény nem ismert, nincs rendelkezésre álló forrás beruházásra.
B25: Tervezett feladatok nettó költsége a teljes ütem tekintetében (eFt) | C25: Rendelkezésre álló források számszerűsített értéke a teljes ütem tekintetében (eFt) | D25: Rendelkezésre álló források megnevezése
A26: I. ütem | B26: =O23 -> 0 | C26: 0 | D26: Fejlesztési díj (2025)
A27: II. ütem | B27: =SUM(P23:S23) -> 0 | C27: =C26*4 -> 0 | D27: Fejlesztési díj (2026-2029)
A28: III. ütem | B28: =SUM(T23:AC23) -> 0 | C28: =C26*10 -> 0 | D28: Fejlesztési díj (2030-2039)

Sheet Böde
A1: Gördülő fejlesztési terv a 2025 - 2039 időszakra
A2: BERUHÁZÁSOK ÖSSZEFOGLALÓ TÁBLÁZATA
A3: A tervet benyújtó szervezet megnevezése: | K3: BÖDE | R3: ellátásért felelős / ellátásért felelősök képviselője / víziközmű-szolgáltató *
A4: Víziközmű-szolgáltató megnevezése: | K4: ÉSZAK ZALAI VÍZ- ÉS CSATORNAMŰ ZÁRTKÖRŰEN MŰKÖDŐ RÉSZVÉNYTÁRSASÁG
A5: Víziközmű-szolgáltatási ágazat megnevezése: | K5: SZENNYVÍZ ÁGAZAT
A6: Véleményeltérést megfogalmazó érintett fél megnevezése:
A7: Víziközmű-rendszer kódja: ** | K7: 21-32054-1-048-01-10 | R7: Zalaegerszeg-SZV
A8: V. Szennyvízelvezetés
A9: Fontossági sorrend | B9: Beruházás megnevezése | E9: Műszaki állapot felmérés, szükségességi indoklás | H9: Vízjogi létesítési/elvi engedély száma | I9: Az érintett ellátásért felelős(ök) megnevezése | J9: Tervezett nettó költség | K9: Forrás 2025 évre | L9: Megvalósítás időtartama | N9: Tervezett időtáv | O9: A beruházás ütemezése a tervezési időszak évei szerint
E10: Jelenlegi műszaki állapot | F10: Feladat szükségessége | G10: Megvalósítást követő várható műszaki állapot | J10: (eFt) | L10: Kezdés | M10: Befejezés | N10: (rövid / közép / hosszú) | O10: 1 | P10: 2 | Q10: 3 | R10: 4 | S10: 5 | T10: 6 | U10: 7 | V10: 8 | W10: 9 | X10: 10 | Y10: 11 | Z10: 12 | AA10: 13 | AB10: 14 | AC10: 15
B11: szakág | C11: Helyszín | D11: beruházás megnevezése
B13: SZENNYVÍZCSATORNA (GRAVITÁCIÓS)
B14: Épület, építmény
B16: SZENNYVÍZVEZETÉKEK (KÉNYSZERÁRAMOLTATÁSÚ)
B18: SZENNYVÍZÁTEMELŐK
B19: Épület, építmény
B20: Gép, berendezés
B21: Irányítástechnika, energiaellátás
B23: Összesen: | J23: =SUM(J13:J22) -> 0 | K23: 0 | O23: =SUM(O12:O22) -> 0 | P23: =SUM(P12:P22) -> 0 | Q23: =SUM(Q12:Q22) -> 0 | R23: =SUM(R12:R22) -> 0 | S23: =SUM(S12:S22) -> 0 | T23: =SUM(T12:T22) -> 0 | U23: =SUM(U12:U22) -> 0 | V23: =SUM(V12:V22) -> 0 | ... AC23: =SUM(AC12:AC22) -> 0
K24: Jelenleg beruházási igény nem ismert, nincs rendelkezésre álló forrás beruházásra.
B25: Tervezett feladatok nettó költsége a teljes ütem tekintetében (eFt) | C25: Rendelkezésre álló források számszerűsített értéke a teljes ütem tekintetében (eFt) | D25: Rendelkezésre álló források megnevezése
A26: I. ütem | B26: =O23 -> 0 | C26: 0 | D26: Fejlesztési díj (2025)
A27: II. ütem | B27: =SUM(P23:S23) -> 0 | C27: =C26*4 -> 0 | D27: Fejlesztési díj (2026-2029)
A28: III. ütem | B28: =SUM(T23:AC23) -> 0 | C28: =C26*10 -> 0 | D28: Fejlesztési díj (2030-2039)

Sheet Búcsúszentlászló
A1: Gördülő fejlesztési terv a 2025 - 2039 időszakra
A2: BERUHÁZÁSOK ÖSSZEFOGLALÓ TÁBLÁZATA
A3: A tervet benyújtó szervezet megnevezése: | K3: BUCSUSZENTLÁSZLÓ | R3: ellátásért felelős / ellátásért felelősök képviselője / víziközmű-szolgáltató *
A4: Víziközmű-szolgáltató megnevezése: | K4: ÉSZAK ZALAI VÍZ- ÉS CSATORNAMŰ ZÁRTKÖRŰEN MŰKÖDŐ RÉSZVÉNYTÁRSASÁG
A5: Víziközmű-szolgáltatási ágazat megnevezése: | K5: SZENNYVÍZ ÁGAZAT
A6: Véleményeltérést megfogalmazó érintett fél megnevezése:
A7: Víziközmű-rendszer kódja: ** | K7: 21-32054-1-048-01-10 | R7: Zalaegerszeg-SZV
A8: V. Szennyvízelvezetés
A9: Fontossági sorrend | B9: Beruházás megnevezése | E9: Műszaki állapot felmérés, szükségességi indoklás | H9: Vízjogi létesítési/elvi engedély száma | I9: Az érintett ellátásért felelős(ök) megnevezése | J9: Tervezett nettó költség | K9: Forrás 2025 évre | L9: Megvalósítás időtartama | N9: Tervezett időtáv | O9: A beruházás ütemezése a tervezési időszak évei szerint
E10: Jelenlegi műszaki állapot | F10: Feladat szükségessége | G10: Megvalósítást követő várható műszaki állapot | J10: (eFt) | L10: Kezdés | M10: Befejezés | N10: (rövid / közép / hosszú) | O10: 1 | P10: 2 | Q10: 3 | R10: 4 | S10: 5 | T10: 6 | U10: 7 | V10: 8 | W10: 9 | X10: 10 | Y10: 11 | Z10: 12 | AA10: 13 | AB10: 14 | AC10: 15
B11: szakág | C11: Helyszín | D11: beruházás megnevezése
B13: SZENNYVÍZCSATORNA (GRAVITÁCIÓS)
B14: Épület, építmény
B16: SZENNYVÍZVEZETÉKEK (KÉNYSZERÁRAMOLTATÁSÚ)
B18: SZENNYVÍZÁTEMELŐK
B19: Épület, építmény
B20: Gép, berendezés
B21: Irányítástechnika, energiaellátás
B23: Összesen: | J23: =SUM(J13:J22) -> 0 | K23: 0 | O23: =SUM(O12:O22) -> 0 | P23: =SUM(P12:P22) -> 0 | Q23: =SUM(Q12:Q22) -> 0 | R23: =SUM(R12:R22) -> 0 | S23: =SUM(S12:S22) -> 0 | T23: =SUM(T12:T22) -> 0 | U23: =SUM(U12:U22) -> 0 | V23: =SUM(V12:V22) -> 0 | ... AC23: =SUM(AC12:AC22) -> 0
K24: Jelenleg beruházási igény nem ismert, nincs rendelkezésre álló forrás beruházásra.
B25: Tervezett feladatok nettó költsége a teljes ütem tekintetében (eFt) | C25: Rendelkezésre álló források számszerűsített értéke a teljes ütem tekintetében (eFt) | D25: Rendelkezésre álló források megnevezése
A26: I. ütem | B26: =O23 -> 0 | C26: 0 | D26: Fejlesztési díj (2025)
A27: II. ütem | B27: =SUM(P23:S23) -> 0 | C27: =C26*4 -> 0 | D27: Fejlesztési díj (2026-2029)
A28: III. ütem | B28: =SUM(T23:AC23) -> 0 | C28: =C26*10 -> 0 | D28: Fejlesztési díj (2030-2039)

Sheet Csatár
A1: Gördülő fejlesztési terv a 2025 - 2039 időszakra
A2: BERUHÁZÁSOK ÖSSZEFOGLALÓ TÁBLÁZATA
A3: A tervet benyújtó szervezet megnevezése: | K3: CSATRÁ | R3: ellátásért felelős / ellátásért felelősök képviselője / víziközmű-szolgáltató *
A4: Víziközmű-szolgáltató megnevezése: | K4: ÉSZAK ZALAI VÍZ- ÉS CSATORNAMŰ ZÁRTKÖRŰEN MŰKÖDŐ RÉSZVÉNYTÁRSASÁG
A5: Víziközmű-szolgáltatási ágazat megnevezése: | K5: SZENNYVÍZ ÁGAZAT
A6: Véleményeltérést megfogalmazó érintett fél megnevezése:
A7: Víziközmű-rendszer kódja: ** | K7: 21-32054-1-048-01-10 | R7: Zalaegerszeg-SZV
A8: V. Szennyvízelvezetés
A9: Fontossági sorrend | B9: Beruházás megnevezése | E9: Műszaki állapot felmérés, szükségességi indoklás | H9: Vízjogi létesítési/elvi engedély száma | I9: Az érintett ellátásért felelős(ök) megnevezése | J9: Tervezett nettó költség | K9: Forrás 2025 évre | L9: Megvalósítás időtartama | N9: Tervezett időtáv | O9: A beruházás ütemezése a tervezési időszak évei szerint
E10: Jelenlegi műszaki állapot | F10: Feladat szükségessége | G10: Megvalósítást követő várható műszaki állapot | J10: (eFt) | L10: Kezdés | M10: Befejezés | N10: (rövid / közép / hosszú) | O10: 1 | P10: 2 | Q10: 3 | R10: 4 | S10: 5 | T10: 6 | U10: 7 | V10: 8 | W10: 9 | X10: 10 | Y10: 11 | Z10: 12 | AA10: 13 | AB10: 14 | AC10: 15
B11: szakág | C11: Helyszín | D11: beruházás megnevezése
B13: SZENNYVÍZCSATORNA (GRAVITÁCIÓS)
B14: Épület, építmény
B16: SZENNYVÍZVEZETÉKEK (KÉNYSZERÁRAMOLTATÁSÚ)
B18: SZENNYVÍZÁTEMELŐK
B19: Épület, építmény
B20: Gép, berendezés
B21: Irányítástechnika, energiaellátás
B23: Összesen: | J23: =SUM(J13:J22) -> 0 | K23: 0 | O23: =SUM(O12:O22) -> 0 | P23: =SUM(P12:P22) -> 0 | Q23: =SUM(Q12:Q22) -> 0 | R23: =SUM(R12:R22) -> 0 | S23: =SUM(S12:S22) -> 0 | T23: =SUM(T12:T22) -> 0 | U23: =SUM(U12:U22) -> 0 | V23: =SUM(V12:V22) -> 0 | ... AC23: =SUM(AC12:AC22) -> 0
K24: Jelenleg beruházási igény nem ismert, nincs rendelkezésre álló forrás beruházásra.
B25: Tervezett feladatok nettó költsége a teljes ütem tekintetében (eFt) | C25: Rendelkezésre álló források számszerűsített értéke a teljes ütem tekintetében (eFt) | D25: Rendelkezésre álló források megnevezése
A26: I. ütem | B26: =O23 -> 0 | C26: 0 | D26: Fejlesztési díj (2025)
A27: II. ütem | B27: =SUM(P23:S23) -> 0 | C27: =C26*4 -> 0 | D27: Fejlesztési díj (2026-2029)
A28: III. ütem | B28: =SUM(T23:AC23) -> 0 | C28: =C26*10 -> 0 | D28: Fejlesztési díj (2030-2039)

Sheet Csonkahegyhát
A1: Gördülő fejlesztési terv a 2025 - 2039 időszakra
A2: BERUHÁZÁSOK ÖSSZEFOGLALÓ TÁBLÁZATA
A3: A tervet benyújtó szervezet megnevezése: | K3: CSONKAHEGYHÁT | R3: ellátásért felelős / ellátásért felelősök képviselője / víziközmű-szolgáltató *
A4: Víziközmű-szolgáltató megnevezése: | K4: ÉSZAK ZALAI VÍZ- ÉS CSATORNAMŰ ZÁRTKÖRŰEN MŰKÖDŐ RÉSZVÉNYTÁRSASÁG
A5: Víziközmű-szolgáltatási ágazat megnevezése: | K5: SZENNYVÍZ ÁGAZAT
A6: Véleményeltérést megfogalmazó érintett fél megnevezése:
A7: Víziközmű-rendszer kódja: ** | K7: 21-32054-1-048-01-10 | R7: Zalaegerszeg-SZV
A8: V. Szennyvízelvezetés
A9: Fontossági sorrend | B9: Beruházás megnevezése | E9: Műszaki állapot felmérés, szükségességi indoklás | H9: Vízjogi létesítési/elvi engedély száma | I9: Az érintett ellátásért felelős(ök) megnevezése | J9: Tervezett nettó költség | K9: Forrás 2025 évre | L9: Megvalósítás időtartama | N9: Tervezett időtáv | O9: A beruházás ütemezése a tervezési időszak évei szerint
E10: Jelenlegi műszaki állapot | F10: Feladat szükségessége | G10: Megvalósítást követő várható műszaki állapot | J10: (eFt) | L10: Kezdés | M10: Befejezés | N10: (rövid / közép / hosszú) | O10: 1 | P10: 2 | Q10: 3 | R10: 4 | S10: 5 | T10: 6 | U10: 7 | V10: 8 | W10: 9 | X10: 10 | Y10: 11 | Z10: 12 | AA10: 13 | AB10: 14 | AC10: 15
B11: szakág | C11: Helyszín | D11: beruházás megnevezése
B13: SZENNYVÍZCSATORNA (GRAVITÁCIÓS)
B14: Épület, építmény
B16: SZENNYVÍZVEZETÉKEK (KÉNYSZERÁRAMOLTATÁSÚ)
B18: SZENNYVÍZÁTEMELŐK
B19: Épület, építmény
B20: Gép, berendezés
B21: Irányítástechnika, energiaellátás
B23: Összesen: | J23: =SUM(J13:J22) -> 0 | K23: 0 | O23: =SUM(O12:O22) -> 0 | P23: =SUM(P12:P22) -> 0 | Q23: =SUM(Q12:Q22) -> 0 | R23: =SUM(R12:R22) -> 0 | S23: =SUM(S12:S22) -> 0 | T23: =SUM(T12:T22) -> 0 | U23: =SUM(U12:U22) -> 0 | V23: =SUM(V12:V22) -> 0 | ... AC23: =SUM(AC12:AC22) -> 0
K24: Jelenleg beruházási igény nem ismert, nincs rendelkezésre álló forrás beruházásra.
B25: Tervezett feladatok nettó költsége a teljes ütem tekintetében (eFt) | C25: Rendelkezésre álló források számszerűsített értéke a teljes ütem tekintetében (eFt) | D25: Rendelkezésre álló források megnevezése
A26: I. ütem | B26: =O23 -> 0 | C26: 0 | D26: Fejlesztési díj (2025)
A27: II. ütem | B27: =SUM(P23:S23) -> 0 | C27: =C26*4 -> 0 | D27: Fejlesztési díj (2026-2029)
A28: III. ütem | B28: =SUM(T23:AC23) -> 0 | C28: =C26*10 -> 0 | D28: Fejlesztési díj (2030-2039)

Sheet Dobronhegy
A1: Gördülő fejlesztési terv a 2025 - 2039 időszakra
A2: BERUHÁZÁSOK ÖSSZEFOGLALÓ TÁBLÁZATA
A3: A tervet benyújtó szervezet megnevezése: | K3: DOBRONHEGY | R3: ellátásért felelős / ellátásért felelősök képviselője / víziközmű-szolgáltató *
A4: Víziközmű-szolgáltató megnevezése: | K4: ÉSZAK ZALAI VÍZ- ÉS CSATORNAMŰ ZÁRTKÖRŰEN MŰKÖDŐ RÉSZVÉNYTÁRSASÁG
A5: Víziközmű-szolgáltatási ágazat megnevezése: | K5: SZENNYVÍZ ÁGAZAT
A6: Véleményeltérést megfogalmazó érintett fél megnevezése:
A7: Víziközmű-rendszer kódja: ** | K7: 21-32054-1-048-01-10 | R7: Zalaegerszeg-SZV
A8: V. Szennyvízelvezetés
A9: Fontossági sorrend | B9: Beruházás megnevezése | E9: Műszaki állapot felmérés, szükségességi indoklás | H9: Vízjogi létesítési/elvi engedély száma | I9: Az érintett ellátásért felelős(ök) megnevezése | J9: Tervezett nettó költség | K9: Forrás 2025 évre | L9: Megvalósítás időtartama | N9: Tervezett időtáv | O9: A beruházás ütemezése a tervezési időszak évei szerint
E10: Jelenlegi műszaki állapot | F10: Feladat szükségessége | G10: Megvalósítást követő várható műszaki állapot | J10: (eFt) | L10: Kezdés | M10: Befejezés | N10: (rövid / közép / hosszú) | O10: 1 | P10: 2 | Q10: 3 | R10: 4 | S10: 5 | T10: 6 | U10: 7 | V10: 8 | W10: 9 | X10: 10 | Y10: 11 | Z10: 12 | AA10: 13 | AB10: 14 | AC10: 15
B11: szakág | C11: Helyszín | D11: beruházás megnevezése
B13: SZENNYVÍZCSATORNA (GRAVITÁCIÓS)
B14: Épület, építmény
B16: SZENNYVÍZVEZETÉKEK (KÉNYSZERÁRAMOLTATÁSÚ)
B18: SZENNYVÍZÁTEMELŐK
B19: Épület, építmény
B20: Gép, berendezés
B21: Irányítástechnika, energiaellátás
B23: Összesen: | J23: =SUM(J13:J22) -> 0 | K23: 0 | O23: =SUM(O12:O22) -> 0 | P23: =SUM(P12:P22) -> 0 | Q23: =SUM(Q12:Q22) -> 0 | R23: =SUM(R12:R22) -> 0 | S23: =SUM(S12:S22) -> 0 | T23: =SUM(T12:T22) -> 0 | U23: =SUM(U12:U22) -> 0 | V23: =SUM(V12:V22) -> 0 | ... AC23: =SUM(AC12:AC22) -> 0
K24: Jelenleg beruházási igény nem ismert, nincs rendelkezésre álló forrás beruházásra.
B25: Tervezett feladatok nettó költsége a teljes ütem tekintetében (eFt) | C25: Rendelkezésre álló források számszerűsített értéke a teljes ütem tekintetében (eFt) | D25: Rendelkezésre álló források megnevezése
A26: I. ütem | B26: =O23 -> 0 | C26: 0 | D26: Fejlesztési díj (2025)
A27: II. ütem | B27: =SUM(P23:S23) -> 0 | C27: =C26*4 -> 0 | D27: Fejlesztési díj (2026-2029)
A28: III. ütem | B28: =SUM(T23:AC23) -> 0 | C28: =C26*10 -> 0 | D28: Fejlesztési díj (2030-2039)

Sheet Egervár
A1: Gördülő fejlesztési terv a 2025 - 2039 időszakra
A2: BERUHÁZÁSOK ÖSSZEFOGLALÓ TÁBLÁZATA
A3: A tervet benyújtó szervezet megnevezése: | K3: EGERVÁR | R3: ellátásért felelős / ellátásért felelősök képviselője / víziközmű-szolgáltató *
A4: Víziközmű-szolgáltató megnevezése: | K4: ÉSZAK ZALAI VÍZ- ÉS CSATORNAMŰ ZÁRTKÖRŰEN MŰKÖDŐ RÉSZVÉNYTÁRSASÁG
A5: Víziközmű-szolgáltatási ágazat megnevezése: | K5: SZENNYVÍZ ÁGAZAT
A6: Véleményeltérést megfogalmazó érintett fél megnevezése:
A7: Víziközmű-rendszer kódja: ** | K7: 21-32054-1-048-01-10 | R7: Zalaegerszeg-SZV
A8: V. Szennyvízelvezetés
A9: Fontossági sorrend | B9: Beruházás megnevezése | E9: Műszaki állapot felmérés, szükségességi indoklás | H9: Vízjogi létesítési/elvi engedély száma | I9: Az érintett ellátásért felelős(ök) megnevezése | J9: Tervezett nettó költség | K9: Forrás 2025 évre | L9: Megvalósítás időtartama | N9: Tervezett időtáv | O9: A beruházás ütemezése a tervezési időszak évei szerint
E10: Jelenlegi műszaki állapot | F10: Feladat szükségessége | G10: Megvalósítást követő várható műszaki állapot | J10: (eFt) | L10: Kezdés | M10: Befejezés | N10: (rövid / közép / hosszú) | O10: 1 | P10: 2 | Q10: 3 | R10: 4 | S10: 5 | T10: 6 | U10: 7 | V10: 8 | W10: 9 | X10: 10 | Y10: 11 | Z10: 12 | AA10: 13 | AB10: 14 | AC10: 15
B11: szakág | C11: Helyszín | D11: beruházás megnevezése
B13: SZENNYVÍZCSATORNA (GRAVITÁCIÓS)
B14: Épület, építmény
B16: SZENNYVÍZVEZETÉKEK (KÉNYSZERÁRAMOLTATÁSÚ)
B18: SZENNYVÍZÁTEMELŐK
B19: Épület, építmény
B20: Gép, berendezés
B21: Irányítástechnika, energiaellátás
B23: Összesen: | J23: =SUM(J13:J22) -> 0 | K23: 0 | O23: =SUM(O12:O22) -> 0 | P23: =SUM(P12:P22) -> 0 | Q23: =SUM(Q12:Q22) -> 0 | R23: =SUM(R12:R22) -> 0 | S23: =SUM(S12:S22) -> 0 | T23: =SUM(T12:T22) -> 0 | U23: =SUM(U12:U22) -> 0 | V23: =SUM(V12:V22) -> 0 | ... AC23: =SUM(AC12:AC22) -> 0
K24: Jelenleg beruházási igény nem ismert, nincs rendelkezésre álló forrás beruházásra.
B25: Tervezett feladatok nettó költsége a teljes ütem tekintetében (eFt) | C25: Rendelkezésre álló források számszerűsített értéke a teljes ütem tekintetében (eFt) | D25: Rendelkezésre álló források megnevezése
A26: I. ütem | B26: =O23 -> 0 | C26: 0 | D26: Fejlesztési díj (2025)
A27: II. ütem | B27: =SUM(P23:S23) -> 0 | C27: =C26*4 -> 0 | D27: Fejlesztési díj (2026-2029)
A28: III. ütem | B28: =SUM(T23:AC23) -> 0 | C28: =C26*10 -> 0 | D28: Fejlesztési díj (2030-2039)

Sheet Gősfa
A1: Gördülő fejlesztési terv a 2025 - 2039 időszakra
A2: BERUHÁZÁSOK ÖSSZEFOGLALÓ TÁBLÁZATA
A3: A tervet benyújtó szervezet megnevezése: | K3: GŐSFA | R3: ellátásért felelős / ellátásért felelősök képviselője / víziközmű-szolgáltató *
A4: Víziközmű-szolgáltató megnevezése: | K4: ÉSZAK ZALAI VÍZ- ÉS CSATORNAMŰ ZÁRTKÖRŰEN MŰKÖDŐ RÉSZVÉNYTÁRSASÁG
A5: Víziközmű-szolgáltatási ágazat megnevezése: | K5: SZENNYVÍZ ÁGAZAT
A6: Véleményeltérést megfogalmazó érintett fél megnevezése:
A7: Víziközmű-rendszer kódja: ** | K7: 21-32054-1-048-01-10 | R7: Zalaegerszeg-SZV
A8: V. Szennyvízelvezetés
A9: Fontossági sorrend | B9: Beruházás megnevezése | E9: Műszaki állapot felmérés, szükségességi indoklás | H9: Vízjogi létesítési/elvi engedély száma | I9: Az érintett ellátásért felelős(ök) megnevezése | J9: Tervezett nettó költség | K9: Forrás 2025 évre | L9: Megvalósítás időtartama | N9: Tervezett időtáv | O9: A beruházás ütemezése a tervezési időszak évei szerint
E10: Jelenlegi műszaki állapot | F10: Feladat szükségessége | G10: Megvalósítást követő várható műszaki állapot | J10: (eFt) | L10: Kezdés | M10: Befejezés | N10: (rövid / közép / hosszú) | O10: 1 | P10: 2 | Q10: 3 | R10: 4 | S10: 5 | T10: 6 | U10: 7 | V10: 8 | W10: 9 | X10: 10 | Y10: 11 | Z10: 12 | AA10: 13 | AB10: 14 | AC10: 15
B11: szakág | C11: Helyszín | D11: beruházás megnevezése
B13: SZENNYVÍZCSATORNA (GRAVITÁCIÓS)
B14: Épület, építmény
B16: SZENNYVÍZVEZETÉKEK (KÉNYSZERÁRAMOLTATÁSÚ)
B18: SZENNYVÍZÁTEMELŐK
B19: Épület, építmény
B20: Gép, berendezés
B21: Irányítástechnika, energiaellátás
B23: Összesen: | J23: =SUM(J13:J22) -> 0 | K23: 0 | O23: =SUM(O12:O22) -> 0 | P23: =SUM(P12:P22) -> 0 | Q23: =SUM(Q12:Q22) -> 0 | R23: =SUM(R12:R22) -> 0 | S23: =SUM(S12:S22) -> 0 | T23: =SUM(T12:T22) -> 0 | U23: =SUM(U12:U22) -> 0 | V23: =SUM(V12:V22) -> 0 | ... AC23: =SUM(AC12:AC22) -> 0
K24: Jelenleg beruházási igény nem ismert, nincs rendelkezésre álló forrás beruházásra.
B25: Tervezett feladatok nettó költsége a teljes ütem tekintetében (eFt) | C25: Rendelkezésre álló források számszerűsített értéke a teljes ütem tekintetében (eFt) | D25: Rendelkezésre álló források megnevezése
A26: I. ütem | B26: =O23 -> 0 | C26: 0 | D26: Fejlesztési díj (2025)
A27: II. ütem | B27: =SUM(P23:S23) -> 0 | C27: =C26*4 -> 0 | D27: Fejlesztési díj (2026-2029)
A28: III. ütem | B28: =SUM(T23:AC23) -> 0 | C28: =C26*10 -> 0 | D28: Fejlesztési díj (2030-2039)

Sheet Hagyárosbörönd
A1: Gördülő fejlesztési terv a 2025 - 2039 időszakra
A2: BERUHÁZÁSOK ÖSSZEFOGLALÓ TÁBLÁZATA
A3: A tervet benyújtó szervezet megnevezése: | K3: HAGYÁROSBÖRÖND | R3: ellátásért felelős / ellátásért felelősök képviselője / víziközmű-szolgáltató *
A4: Víziközmű-szolgáltató megnevezése: | K4: ÉSZAK ZALAI VÍZ- ÉS CSATORNAMŰ ZÁRTKÖRŰEN MŰKÖDŐ RÉSZVÉNYTÁRSASÁG
A5: Víziközmű-szolgáltatási ágazat megnevezése: | K5: SZENNYVÍZ ÁGAZAT
A6: Véleményeltérést megfogalmazó érintett fél megnevezése:
A7: Víziközmű-rendszer kódja: ** | K7: 21-32054-1-048-01-10 | R7: Zalaegerszeg-SZV
A8: V. Szennyvízelvezetés
A9: Fontossági sorrend | B9: Beruházás megnevezése | E9: Műszaki állapot felmérés, szükségességi indoklás | H9: Vízjogi létesítési/elvi engedély száma | I9: Az érintett ellátásért felelős(ök) megnevezése | J9: Tervezett nettó költség | K9: Forrás 2025 évre | L9: Megvalósítás időtartama | N9: Tervezett időtáv | O9: A beruházás ütemezése a tervezési időszak évei szerint
E10: Jelenlegi műszaki állapot | F10: Feladat szükségessége | G10: Megvalósítást követő várható műszaki állapot | J10: (eFt) | L10: Kezdés | M10: Befejezés | N10: (rövid / közép / hosszú) | O10: 1 | P10: 2 | Q10: 3 | R10: 4 | S10: 5 | T10: 6 | U10: 7 | V10: 8 | W10: 9 | X10: 10 | Y10: 11 | Z10: 12 | AA10: 13 | AB10: 14 | AC10: 15
B11: szakág | C11: Helyszín | D11: beruházás megnevezése
B13: SZENNYVÍZCSATORNA (GRAVITÁCIÓS)
B14: Épület, építmény
B16: SZENNYVÍZVEZETÉKEK (KÉNYSZERÁRAMOLTATÁSÚ)
B18: SZENNYVÍZÁTEMELŐK
B19: Épület, építmény
B20: Gép, berendezés
B21: Irányítástechnika, energiaellátás
B23: Összesen: | J23: =SUM(J13:J22) -> 0 | K23: 0 | O23: =SUM(O12:O22) -> 0 | P23: =SUM(P12:P22) -> 0 | Q23: =SUM(Q12:Q22) -> 0 | R23: =SUM(R12:R22) -> 0 | S23: =SUM(S12:S22) -> 0 | T23: =SUM(T12:T22) -> 0 | U23: =SUM(U12:U22) -> 0 | V23: =SUM(V12:V22) -> 0 | ... AC23: =SUM(AC12:AC22) -> 0
K24: Jelenleg beruházási igény nem ismert, nincs rendelkezésre álló forrás beruházásra.
B25: Tervezett feladatok nettó költsége a teljes ütem tekintetében (eFt) | C25: Rendelkezésre álló források számszerűsített értéke a teljes ütem tekintetében (eFt) | D25: Rendelkezésre álló források megnevezése
A26: I. ütem | B26: =O23 -> 0 | C26: 0 | D26: Fejlesztési díj (2025)
A27: II. ütem | B27: =SUM(P23:S23) -> 0 | C27: =C26*4 -> 0 | D27: Fejlesztési díj (2026-2029)
A28: III. ütem | B28: =SUM(T23:AC23) -> 0 | C28: =C26*10 -> 0 | D28: Fejlesztési díj (2030-2039)

Sheet Hottó
A1: Gördülő fejlesztési terv a 2025 - 2039 időszakra
A2: BERUHÁZÁSOK ÖSSZEFOGLALÓ TÁBLÁZATA
A3: A tervet benyújtó szervezet megnevezése: | K3: HOTTÓ | R3: ellátásért felelős / ellátásért felelősök képviselője / víziközmű-szolgáltató *
A4: Víziközmű-szolgáltató megnevezése: | K4: ÉSZAK ZALAI VÍZ- ÉS CSATORNAMŰ ZÁRTKÖRŰEN MŰKÖDŐ RÉSZVÉNYTÁRSASÁG
A5: Víziközmű-szolgáltatási ágazat megnevezése: | K5: SZENNYVÍZ ÁGAZAT
A6: Véleményeltérést megfogalmazó érintett fél megnevezése:
A7: Víziközmű-rendszer kódja: ** | K7: 21-32054-1-048-01-10 | R7: Zalaegerszeg-SZV
A8: V. Szennyvízelvezetés
A9: Fontossági sorrend | B9: Beruházás megnevezése | E9: Műszaki állapot felmérés, szükségességi indoklás | H9: Vízjogi létesítési/elvi engedély száma | I9: Az érintett ellátásért felelős(ök) megnevezése | J9: Tervezett nettó költség | K9: Forrás 2025 évre | L9: Megvalósítás időtartama | N9: Tervezett időtáv | O9: A beruházás ütemezése a tervezési időszak évei szerint
E10: Jelenlegi műszaki állapot | F10: Feladat szükségessége | G10: Megvalósítást követő várható műszaki állapot | J10: (eFt) | L10: Kezdés | M10: Befejezés | N10: (rövid / közép / hosszú) | O10: 1 | P10: 2 | Q10: 3 | R10: 4 | S10: 5 | T10: 6 | U10: 7 | V10: 8 | W10: 9 | X10: 10 | Y10: 11 | Z10: 12 | AA10: 13 | AB10: 14 | AC10: 15
B11: szakág | C11: Helyszín | D11: beruházás megnevezése
B13: SZENNYVÍZCSATORNA (GRAVITÁCIÓS)
B14: Épület, építmény
B16: SZENNYVÍZVEZETÉKEK (KÉNYSZERÁRAMOLTATÁSÚ)
B18: SZENNYVÍZÁTEMELŐK
B19: Épület, építmény
B20: Gép, berendezés
B21: Irányítástechnika, energiaellátás
B23: Összesen: | J23: =SUM(J13:J22) -> 0 | K23: 0 | O23: =SUM(O12:O22) -> 0 | P23: =SUM(P12:P22) -> 0 | Q23: =SUM(Q12:Q22) -> 0 | R23: =SUM(R12:R22) -> 0 | S23: =SUM(S12:S22) -> 0 | T23: =SUM(T12:T22) -> 0 | U23: =SUM(U12:U22) -> 0 | V23: =SUM(V12:V22) -> 0 | ... AC23: =SUM(AC12:AC22) -> 0
K24: Jelenleg beruházási igény nem ismert, nincs rendelkezésre álló forrás beruházásra.
B25: Tervezett feladatok nettó költsége a teljes ütem tekintetében (eFt) | C25: Rendelkezésre álló források számszerűsített értéke a teljes ütem tekintetében (eFt) | D25: Rendelkezésre álló források megnevezése
A26: I. ütem | B26: =O23 -> 0 | C26: 0 | D26: Fejlesztési díj (2025)
A27: II. ütem | B27: =SUM(P23:S23) -> 0 | C27: =C26*4 -> 0 | D27: Fejlesztési díj (2026-2029)
A28: III. ütem | B28: =SUM(T23:AC23) -> 0 | C28: =C26*10 -> 0 | D28: Fejlesztési díj (2030-2039)

Sheet Kávás
A1: Gördülő fejlesztési terv a 2025 - 2039 időszakra
A2: BERUHÁZÁSOK ÖSSZEFOGLALÓ TÁBLÁZATA
A3: A tervet benyújtó szervezet megnevezése: | K3: KÁVÁS | R3: ellátásért felelős / ellátásért felelősök képviselője / víziközmű-szolgáltató *
A4: Víziközmű-szolgáltató megnevezése: | K4: ÉSZAK ZALAI VÍZ- ÉS CSATORNAMŰ ZÁRTKÖRŰEN MŰKÖDŐ RÉSZVÉNYTÁRSASÁG
A5: Víziközmű-szolgáltatási ágazat megnevezése: | K5: SZENNYVÍZ ÁGAZAT
A6: Véleményeltérést megfogalmazó érintett fél megnevezése:
A7: Víziközmű-rendszer kódja: ** | K7: 21-32054-1-048-01-10 | R7: Zalaegerszeg-SZV
A8: V. Szennyvízelvezetés
A9: Fontossági sorrend | B9: Beruházás megnevezése | E9: Műszaki állapot felmérés, szükségességi indoklás | H9: Vízjogi létesítési/elvi engedély száma | I9: Az érintett ellátásért felelős(ök) megnevezése | J9: Tervezett nettó költség | K9: Forrás 2025 évre | L9: Megvalósítás időtartama | N9: Tervezett időtáv | O9: A beruházás ütemezése a tervezési időszak évei szerint
E10: Jelenlegi műszaki állapot | F10: Feladat szükségessége | G10: Megvalósítást követő várható műszaki állapot | J10: (eFt) | L10: Kezdés | M10: Befejezés | N10: (rövid / közép / hosszú) | O10: 1 | P10: 2 | Q10: 3 | R10: 4 | S10: 5 | T10: 6 | U10: 7 | V10: 8 | W10: 9 | X10: 10 | Y10: 11 | Z10: 12 | AA10: 13 | AB10: 14 | AC10: 15
B11: szakág | C11: Helyszín | D11: beruházás megnevezése
B13: SZENNYVÍZCSATORNA (GRAVITÁCIÓS)
B14: Épület, építmény
B16: SZENNYVÍZVEZETÉKEK (KÉNYSZERÁRAMOLTATÁSÚ)
B18: SZENNYVÍZÁTEMELŐK
B19: Épület, építmény
B20: Gép, berendezés
B21: Irányítástechnika, energiaellátás
B23: Összesen: | J23: =SUM(J13:J22) -> 0 | K23: 0 | O23: =SUM(O12:O22) -> 0 | P23: =SUM(P12:P22) -> 0 | Q23: =SUM(Q12:Q22) -> 0 | R23: =SUM(R12:R22) -> 0 | S23: =SUM(S12:S22) -> 0 | T23: =SUM(T12:T22) -> 0 | U23: =SUM(U12:U22) -> 0 | V23: =SUM(V12:V22) -> 0 | ... AC23: =SUM(AC12:AC22) -> 0
K24: Jelenleg beruházási igény nem ismert, nincs rendelkezésre álló forrás beruházásra.
B25: Tervezett feladatok nettó költsége a teljes ütem tekintetében (eFt) | C25: Rendelkezésre álló források számszerűsített értéke a teljes ütem tekintetében (eFt) | D25: Rendelkezésre álló források megnevezése
A26: I. ütem | B26: =O23 -> 0 | C26: 0 | D26: Fejlesztési díj (2025)
A27: II. ütem | B27: =SUM(P23:S23) -> 0 | C27: =C26*4 -> 0 | D27: Fejlesztési díj (2026-2029)
A28: III. ütem | B28: =SUM(T23:AC23) -> 0 | C28: =C26*10 -> 0 | D28: Fejlesztési díj (2030-2039)

Sheet Kemendollár
A1: Gördülő fejlesztési terv a 2025 - 2039 időszakra
A2: BERUHÁZÁSOK ÖSSZEFOGLALÓ TÁBLÁZATA
A3: A tervet benyújtó szervezet megnevezése: | K3: KEMENDOLLÁR | R3: ellátásért felelős / ellátásért felelősök képviselője / víziközmű-szolgáltató *
A4: Víziközmű-szolgáltató megnevezése: | K4: ÉSZAK ZALAI VÍZ- ÉS CSATORNAMŰ ZÁRTKÖRŰEN MŰKÖDŐ RÉSZVÉNYTÁRSASÁG
A5: Víziközmű-szolgáltatási ágazat megnevezése: | K5: SZENNYVÍZ ÁGAZAT
A6: Véleményeltérést megfogalmazó érintett fél megnevezése:
A7: Víziközmű-rendszer kódja: ** | K7: 21-32054-1-048-01-10 | R7: Zalaegerszeg-SZV
A8: V. Szennyvízelvezetés
A9: Fontossági sorrend | B9: Beruházás megnevezése | E9: Műszaki állapot felmérés, szükségességi indoklás | H9: Vízjogi létesítési/elvi engedély száma | I9: Az érintett ellátásért felelős(ök) megnevezése | J9: Tervezett nettó költség | K9: Forrás 2025 évre | L9: Megvalósítás időtartama | N9: Tervezett időtáv | O9: A beruházás ütemezése a tervezési időszak évei szerint
E10: Jelenlegi műszaki állapot | F10: Feladat szükségessége | G10: Megvalósítást követő várható műszaki állapot | J10: (eFt) | L10: Kezdés | M10: Befejezés | N10: (rövid / közép / hosszú) | O10: 1 | P10: 2 | Q10: 3 | R10: 4 | S10: 5 | T10: 6 | U10: 7 | V10: 8 | W10: 9 | X10: 10 | Y10: 11 | Z10: 12 | AA10: 13 | AB10: 14 | AC10: 15
B11: szakág | C11: Helyszín | D11: beruházás megnevezése
B13: SZENNYVÍZCSATORNA (GRAVITÁCIÓS)
B14: Épület, építmény
B16: SZENNYVÍZVEZETÉKEK (KÉNYSZERÁRAMOLTATÁSÚ)
B18: SZENNYVÍZÁTEMELŐK
B19: Épület, építmény
B20: Gép, berendezés
B21: Irányítástechnika, energiaellátás
B23: Összesen: | J23: =SUM(J13:J22) -> 0 | K23: 0 | O23: =SUM(O12:O22) -> 0 | P23: =SUM(P12:P22) -> 0 | Q23: =SUM(Q12:Q22) -> 0 | R23: =SUM(R12:R22) -> 0 | S23: =SUM(S12:S22) -> 0 | T23: =SUM(T12:T22) -> 0 | U23: =SUM(U12:U22) -> 0 | V23: =SUM(V12:V22) -> 0 | ... AC23: =SUM(AC12:AC22) -> 0
K24: Jelenleg beruházási igény nem ismert, nincs rendelkezésre álló forrás beruházásra.
B25: Tervezett feladatok nettó költsége a teljes ütem tekintetében (eFt) | C25: Rendelkezésre álló források számszerűsített értéke a teljes ütem tekintetében (eFt) | D25: Rendelkezésre álló források megnevezése
A26: I. ütem | B26: =O23 -> 0 | C26: 0 | D26: Fejlesztési díj (2025)
A27: II. ütem | B27: =SUM(P23:S23) -> 0 | C27: =C26*4 -> 0 | D27: Fejlesztési díj (2026-2029)
A28: III. ütem | B28: =SUM(T23:AC23) -> 0 | C28: =C26*10 -> 0 | D28: Fejlesztési díj (2030-2039)

Sheet Keménfa
A1: Gördülő fejlesztési terv a 2025 - 2039 időszakra
A2: BERUHÁZÁSOK ÖSSZEFOGLALÓ TÁBLÁZATA
A3: A tervet benyújtó szervezet megnevezése: | K3: KEMÉNFA | R3: ellátásért felelős / ellátásért felelősök képviselője / víziközmű-szolgáltató *
A4: Víziközmű-szolgáltató megnevezése: | K4: ÉSZAK ZALAI VÍZ- ÉS CSATORNAMŰ ZÁRTKÖRŰEN MŰKÖDŐ RÉSZVÉNYTÁRSASÁG
A5: Víziközmű-szolgáltatási ágazat megnevezése: | K5: SZENNYVÍZ ÁGAZAT
A6: Véleményeltérést megfogalmazó érintett fél megnevezése:
A7: Víziközmű-rendszer kódja: ** | K7: 21-32054-1-048-01-10 | R7: Zalaegerszeg-SZV
A8: V. Szennyvízelvezetés
A9: Fontossági sorrend | B9: Beruházás megnevezése | E9: Műszaki állapot felmérés, szükségességi indoklás | H9: Vízjogi létesítési/elvi engedély száma | I9: Az érintett ellátásért felelős(ök) megnevezése | J9: Tervezett nettó költség | K9: Forrás 2025 évre | L9: Megvalósítás időtartama | N9: Tervezett időtáv | O9: A beruházás ütemezése a tervezési időszak évei szerint
E10: Jelenlegi műszaki állapot | F10: Feladat szükségessége | G10: Megvalósítást követő várható műszaki állapot | J10: (eFt) | L10: Kezdés | M10: Befejezés | N10: (rövid / közép / hosszú) | O10: 1 | P10: 2 | Q10: 3 | R10: 4 | S10: 5 | T10: 6 | U10: 7 | V10: 8 | W10: 9 | X10: 10 | Y10: 11 | Z10: 12 | AA10: 13 | AB10: 14 | AC10: 15
B11: szakág | C11: Helyszín | D11: beruházás megnevezése
B13: SZENNYVÍZCSATORNA (GRAVITÁCIÓS)
B14: Épület, építmény
B16: SZENNYVÍZVEZETÉKEK (KÉNYSZERÁRAMOLTATÁSÚ)
B18: SZENNYVÍZÁTEMELŐK
B19: Épület, építmény
B20: Gép, berendezés
B21: Irányítástechnika, energiaellátás
B23: Összesen: | J23: =SUM(J13:J22) -> 0 | K23: 0 | O23: =SUM(O12:O22) -> 0 | P23: =SUM(P12:P22) -> 0 | Q23: =SUM(Q12:Q22) -> 0 | R23: =SUM(R12:R22) -> 0 | S23: =SUM(S12:S22) -> 0 | T23: =SUM(T12:T22) -> 0 | U23: =SUM(U12:U22) -> 0 | V23: =SUM(V12:V22) -> 0 | ... AC23: =SUM(AC12:AC22) -> 0
K24: Jelenleg beruházási igény nem ismert, nincs rendelkezésre álló forrás beruházásra.
B25: Tervezett feladatok nettó költsége a teljes ütem tekintetében (eFt) | C25: Rendelkezésre álló források számszerűsített értéke a teljes ütem tekintetében (eFt) | D25: Rendelkezésre álló források megnevezése
A26: I. ütem | B26: =O23 -> 0 | C26: 0 | D26: Fejlesztési díj (2025)
A27: II. ütem | B27: =SUM(P23:S23) -> 0 | C27: =C26*4 -> 0 | D27: Fejlesztési díj (2026-2029)
A28: III. ütem | B28: =SUM(T23:AC23) -> 0 | C28: =C26*10 -> 0 | D28: Fejlesztési díj (2030-2039)

Sheet Kisbucsa
A1: Gördülő fejlesztési terv a 2025 - 2039 időszakra
A2: BERUHÁZÁSOK ÖSSZEFOGLALÓ TÁBLÁZATA
A3: A tervet benyújtó szervezet megnevezése: | K3: KISBUCSA | R3: ellátásért felelős / ellátásért felelősök képviselője / víziközmű-szolgáltató *
A4: Víziközmű-szolgáltató megnevezése: | K4: ÉSZAK ZALAI VÍZ- ÉS CSATORNAMŰ ZÁRTKÖRŰEN MŰKÖDŐ RÉSZVÉNYTÁRSASÁG
A5: Víziközmű-szolgáltatási ágazat megnevezése: | K5: SZENNYVÍZ ÁGAZAT
A6: Véleményeltérést megfogalmazó érintett fél megnevezése:
A7: Víziközmű-rendszer kódja: ** | K7: 21-32054-1-048-01-10 | R7: Zalaegerszeg-SZV
A8: V. Szennyvízelvezetés
A9: Fontossági sorrend | B9: Beruházás megnevezése | E9: Műszaki állapot felmérés, szükségességi indoklás | H9: Vízjogi létesítési/elvi engedély száma | I9: Az érintett ellátásért felelős(ök) megnevezése | J9: Tervezett nettó költség | K9: Forrás 2025 évre | L9: Megvalósítás időtartama | N9: Tervezett időtáv | O9: A beruházás ütemezése a tervezési időszak évei szerint
E10: Jelenlegi műszaki állapot | F10: Feladat szükségessége | G10: Megvalósítást követő várható műszaki állapot | J10: (eFt) | L10: Kezdés | M10: Befejezés | N10: (rövid / közép / hosszú) | O10: 1 | P10: 2 | Q10: 3 | R10: 4 | S10: 5 | T10: 6 | U10: 7 | V10: 8 | W10: 9 | X10: 10 | Y10: 11 | Z10: 12 | AA10: 13 | AB10: 14 | AC10: 15
B11: szakág | C11: Helyszín | D11: beruházás megnevezése
B13: SZENNYVÍZCSATORNA (GRAVITÁCIÓS)
B14: Épület, építmény
B16: SZENNYVÍZVEZETÉKEK (KÉNYSZERÁRAMOLTATÁSÚ)
B18: SZENNYVÍZÁTEMELŐK
B19: Épület, építmény
B20: Gép, berendezés
B21: Irányítástechnika, energiaellátás
B23: Összesen: | J23: =SUM(J13:J22) -> 0 | K23: 0 | O23: =SUM(O12:O22) -> 0 | P23: =SUM(P12:P22) -> 0 | Q23: =SUM(Q12:Q22) -> 0 | R23: =SUM(R12:R22) -> 0 | S23: =SUM(S12:S22) -> 0 | T23: =SUM(T12:T22) -> 0 | U23: =SUM(U12:U22) -> 0 | V23: =SUM(V12:V22) -> 0 | ... AC23: =SUM(AC12:AC22) -> 0
K24: Jelenleg beruházási igény nem ismert, nincs rendelkezésre álló forrás beruházásra.
B25: Tervezett feladatok nettó költsége a teljes ütem tekintetében (eFt) | C25: Rendelkezésre álló források számszerűsített értéke a teljes ütem tekintetében (eFt) | D25: Rendelkezésre álló források megnevezése
A26: I. ütem | B26: =O23 -> 0 | C26: 0 | D26: Fejlesztési díj (2025)
A27: II. ütem | B27: =SUM(P23:S23) -> 0 | C27: =C26*4 -> 0 | D27: Fejlesztési díj (2026-2029)
A28: III. ütem | B28: =SUM(T23:AC23) -> 0 | C28: =C26*10 -> 0 | D28: Fejlesztési díj (2030-2039)

Sheet Kiskutas
A1: Gördülő fejlesztési terv a 2025 - 2039 időszakra
A2: BERUHÁZÁSOK ÖSSZEFOGLALÓ TÁBLÁZATA
A3: A tervet benyújtó szervezet megnevezése: | K3: KISKUTAS | R3: ellátásért felelős / ellátásért felelősök képviselője / víziközmű-szolgáltató *
A4: Víziközmű-szolgáltató megnevezése: | K4: ÉSZAK ZALAI VÍZ- ÉS CSATORNAMŰ ZÁRTKÖRŰEN MŰKÖDŐ RÉSZVÉNYTÁRSASÁG
A5: Víziközmű-szolgáltatási ágazat megnevezése: | K5: SZENNYVÍZ ÁGAZAT
A6: Véleményeltérést megfogalmazó érintett fél megnevezése:
A7: Víziközmű-rendszer kódja: ** | K7: 21-32054-1-048-01-10 | R7: Zalaegerszeg-SZV
A8: V. Szennyvízelvezetés
A9: Fontossági sorrend | B9: Beruházás megnevezése | E9: Műszaki állapot felmérés, szükségességi indoklás | H9: Vízjogi létesítési/elvi engedély száma | I9: Az érintett ellátásért felelős(ök) megnevezése | J9: Tervezett nettó költség | K9: Forrás 2025 évre | L9: Megvalósítás időtartama | N9: Tervezett időtáv | O9: A beruházás ütemezése a tervezési időszak évei szerint
E10: Jelenlegi műszaki állapot | F10: Feladat szükségessége | G10: Megvalósítást követő várható műszaki állapot | J10: (eFt) | L10: Kezdés | M10: Befejezés | N10: (rövid / közép / hosszú) | O10: 1 | P10: 2 | Q10: 3 | R10: 4 | S10: 5 | T10: 6 | U10: 7 | V10: 8 | W10: 9 | X10: 10 | Y10: 11 | Z10: 12 | AA10: 13 | AB10: 14 | AC10: 15
B11: szakág | C11: Helyszín | D11: beruházás megnevezése
B13: SZENNYVÍZCSATORNA (GRAVITÁCIÓS)
B14: Épület, építmény
B16: SZENNYVÍZVEZETÉKEK (KÉNYSZERÁRAMOLTATÁSÚ)
B18: SZENNYVÍZÁTEMELŐK
B19: Épület, építmény
B20: Gép, berendezés
B21: Irányítástechnika, energiaellátás
B23: Összesen: | J23: =SUM(J13:J22) -> 0 | K23: 0 | O23: =SUM(O12:O22) -> 0 | P23: =SUM(P12:P22) -> 0 | Q23: =SUM(Q12:Q22) -> 0 | R23: =SUM(R12:R22) -> 0 | S23: =SUM(S12:S22) -> 0 | T23: =SUM(T12:T22) -> 0 | U23: =SUM(U12:U22) -> 0 | V23: =SUM(V12:V22) -> 0 | ... AC23: =SUM(AC12:AC22) -> 0
K24: Jelenleg beruházási igény nem ismert, nincs rendelkezésre álló forrás beruházásra.
B25: Tervezett feladatok nettó költsége a teljes ütem tekintetében (eFt) | C25: Rendelkezésre álló források számszerűsített értéke a teljes ütem tekintetében (eFt) | D25: Rendelkezésre álló források megnevezése
A26: I. ütem | B26: =O23 -> 0 | C26: 0 | D26: Fejlesztési díj (2025)
A27: II. ütem | B27: =SUM(P23:S23) -> 0 | C27: =C26*4 -> 0 | D27: Fejlesztési díj (2026-2029)
A28: III. ütem | B28: =SUM(T23:AC23) -> 0 | C28: =C26*10 -> 0 | D28: Fejlesztési díj (2030-2039)

Sheet Kispáli
A1: Gördülő fejlesztési terv a 2025 - 2039 időszakra
A2: BERUHÁZÁSOK ÖSSZEFOGLALÓ TÁBLÁZATA
A3: A tervet benyújtó szervezet megnevezése: | K3: KISPÁLI | R3: ellátásért felelős / ellátásért felelősök képviselője / víziközmű-szolgáltató *
A4: Víziközmű-szolgáltató megnevezése: | K4: ÉSZAK ZALAI VÍZ- ÉS CSATORNAMŰ ZÁRTKÖRŰEN MŰKÖDŐ RÉSZVÉNYTÁRSASÁG
A5: Víziközmű-szolgáltatási ágazat megnevezése: | K5: SZENNYVÍZ ÁGAZAT
A6: Véleményeltérést megfogalmazó érintett fél megnevezése:
A7: Víziközmű-rendszer kódja: ** | K7: 21-32054-1-048-01-10 | R7: Zalaegerszeg-SZV
A8: V. Szennyvízelvezetés
A9: Fontossági sorrend | B9: Beruházás megnevezése | E9: Műszaki állapot felmérés, szükségességi indoklás | H9: Vízjogi létesítési/elvi engedély száma | I9: Az érintett ellátásért felelős(ök) megnevezése | J9: Tervezett nettó költség | K9: Forrás 2025 évre | L9: Megvalósítás időtartama | N9: Tervezett időtáv | O9: A beruházás ütemezése a tervezési időszak évei szerint
E10: Jelenlegi műszaki állapot | F10: Feladat szükségessége | G10: Megvalósítást követő várható műszaki állapot | J10: (eFt) | L10: Kezdés | M10: Befejezés | N10: (rövid / közép / hosszú) | O10: 1 | P10: 2 | Q10: 3 | R10: 4 | S10: 5 | T10: 6 | U10: 7 | V10: 8 | W10: 9 | X10: 10 | Y10: 11 | Z10: 12 | AA10: 13 | AB10: 14 | AC10: 15
B11: szakág | C11: Helyszín | D11: beruházás megnevezése
B13: SZENNYVÍZCSATORNA (GRAVITÁCIÓS)
B14: Épület, építmény
B16: SZENNYVÍZVEZETÉKEK (KÉNYSZERÁRAMOLTATÁSÚ)
B18: SZENNYVÍZÁTEMELŐK
B19: Épület, építmény
B20: Gép, berendezés
B21: Irányítástechnika, energiaellátás
B23: Összesen: | J23: =SUM(J13:J22) -> 0 | K23: 0 | O23: =SUM(O12:O22) -> 0 | P23: =SUM(P12:P22) -> 0 | Q23: =SUM(Q12:Q22) -> 0 | R23: =SUM(R12:R22) -> 0 | S23: =SUM(S12:S22) -> 0 | T23: =SUM(T12:T22) -> 0 | U23: =SUM(U12:U22) -> 0 | V23: =SUM(V12:V22) -> 0 | ... AC23: =SUM(AC12:AC22) -> 0
K24: Jelenleg beruházási igény nem ismert, nincs rendelkezésre álló forrás beruházásra.
B25: Tervezett feladatok nettó költsége a teljes ütem tekintetében (eFt) | C25: Rendelkezésre álló források számszerűsített értéke a teljes ütem tekintetében (eFt) | D25: Rendelkezésre álló források megnevezése
A26: I. ütem | B26: =O23 -> 0 | C26: 0 | D26: Fejlesztési díj (2025)
A27: II. ütem | B27: =SUM(P23:S23) -> 0 | C27: =C26*4 -> 0 | D27: Fejlesztési díj (2026-2029)
A28: III. ütem | B28: =SUM(T23:AC23) -> 0 | C28: =C26*10 -> 0 | D28: Fejlesztési díj (2030-2039)

Sheet Lakhegy
A1: Gördülő fejlesztési terv a 2025 - 2039 időszakra
A2: BERUHÁZÁSOK ÖSSZEFOGLALÓ TÁBLÁZATA
A3: A tervet benyújtó szervezet megnevezése: | K3: LAKHEGY | R3: ellátásért felelős / ellátásért felelősök képviselője / víziközmű-szolgáltató *
A4: Víziközmű-szolgáltató megnevezése: | K4: ÉSZAK ZALAI VÍZ- ÉS CSATORNAMŰ ZÁRTKÖRŰEN MŰKÖDŐ RÉSZVÉNYTÁRSASÁG
A5: Víziközmű-szolgáltatási ágazat megnevezése: | K5: SZENNYVÍZ ÁGAZAT
A6: Véleményeltérést megfogalmazó érintett fél megnevezése:
A7: Víziközmű-rendszer kódja: ** | K7: 21-32054-1-048-01-10 | R7: Zalaegerszeg-SZV
A8: V. Szennyvízelvezetés
A9: Fontossági sorrend | B9: Beruházás megnevezése | E9: Műszaki állapot felmérés, szükségességi indoklás | H9: Vízjogi létesítési/elvi engedély száma | I9: Az érintett ellátásért felelős(ök) megnevezése | J9: Tervezett nettó költség | K9: Forrás 2025 évre | L9: Megvalósítás időtartama | N9: Tervezett időtáv | O9: A beruházás ütemezése a tervezési időszak évei szerint
E10: Jelenlegi műszaki állapot | F10: Feladat szükségessége | G10: Megvalósítást követő várható műszaki állapot | J10: (eFt) | L10: Kezdés | M10: Befejezés | N10: (rövid / közép / hosszú) | O10: 1 | P10: 2 | Q10: 3 | R10: 4 | S10: 5 | T10: 6 | U10: 7 | V10: 8 | W10: 9 | X10: 10 | Y10: 11 | Z10: 12 | AA10: 13 | AB10: 14 | AC10: 15
B11: szakág | C11: Helyszín | D11: beruházás megnevezése
B13: SZENNYVÍZCSATORNA (GRAVITÁCIÓS)
B14: Épület, építmény
B16: SZENNYVÍZVEZETÉKEK (KÉNYSZERÁRAMOLTATÁSÚ)
B18: SZENNYVÍZÁTEMELŐK
B19: Épület, építmény
B20: Gép, berendezés
B21: Irányítástechnika, energiaellátás
B23: Összesen: | J23: =SUM(J13:J22) -> 0 | K23: 0 | O23: =SUM(O12:O22) -> 0 | P23: =SUM(P12:P22) -> 0 | Q23: =SUM(Q12:Q22) -> 0 | R23: =SUM(R12:R22) -> 0 | S23: =SUM(S12:S22) -> 0 | T23: =SUM(T12:T22) -> 0 | U23: =SUM(U12:U22) -> 0 | V23: =SUM(V12:V22) -> 0 | ... AC23: =SUM(AC12:AC22) -> 0
K24: Jelenleg beruházási igény nem ismert, nincs rendelkezésre álló forrás beruházásra.
B25: Tervezett feladatok nettó költsége a teljes ütem tekintetében (eFt) | C25: Rendelkezésre álló források számszerűsített értéke a teljes ütem tekintetében (eFt) | D25: Rendelkezésre álló források megnevezése
A26: I. ütem | B26: =O23 -> 0 | C26: 0 | D26: Fejlesztési díj (2025)
A27: II. ütem | B27: =SUM(P23:S23) -> 0 | C27: =C26*4 -> 0 | D27: Fejlesztési díj (2026-2029)
A28: III. ütem | B28: =SUM(T23:AC23) -> 0 | C28: =C26*10 -> 0 | D28: Fejlesztési díj (2030-2039)

Sheet Nagykutas
A1: Gördülő fejlesztési terv a 2025 - 2039 időszakra
A2: BERUHÁZÁSOK ÖSSZEFOGLALÓ TÁBLÁZATA
A3: A tervet benyújtó szervezet megnevezése: | K3: NAGYKUTAS | R3: ellátásért felelős / ellátásért felelősök képviselője / víziközmű-szolgáltató *
A4: Víziközmű-szolgáltató megnevezése: | K4: ÉSZAK ZALAI VÍZ- ÉS CSATORNAMŰ ZÁRTKÖRŰEN MŰKÖDŐ RÉSZVÉNYTÁRSASÁG
A5: Víziközmű-szolgáltatási ágazat megnevezése: | K5: SZENNYVÍZ ÁGAZAT
A6: Véleményeltérést megfogalmazó érintett fél megnevezése:
A7: Víziközmű-rendszer kódja: ** | K7: 21-32054-1-048-01-10 | R7: Zalaegerszeg-SZV
A8: V. Szennyvízelvezetés
A9: Fontossági sorrend | B9: Beruházás megnevezése | E9: Műszaki állapot felmérés, szükségességi indoklás | H9: Vízjogi létesítési/elvi engedély száma | I9: Az érintett ellátásért felelős(ök) megnevezése | J9: Tervezett nettó költség | K9: Forrás 2025 évre | L9: Megvalósítás időtartama | N9: Tervezett időtáv | O9: A beruházás ütemezése a tervezési időszak évei szerint
E10: Jelenlegi műszaki állapot | F10: Feladat szükségessége | G10: Megvalósítást követő várható műszaki állapot | J10: (eFt) | L10: Kezdés | M10: Befejezés | N10: (rövid / közép / hosszú) | O10: 1 | P10: 2 | Q10: 3 | R10: 4 | S10: 5 | T10: 6 | U10: 7 | V10: 8 | W10: 9 | X10: 10 | Y10: 11 | Z10: 12 | AA10: 13 | AB10: 14 | AC10: 15
B11: szakág | C11: Helyszín | D11: beruházás megnevezése
B13: SZENNYVÍZCSATORNA (GRAVITÁCIÓS)
B14: Épület, építmény
B16: SZENNYVÍZVEZETÉKEK (KÉNYSZERÁRAMOLTATÁSÚ)
B18: SZENNYVÍZÁTEMELŐK
B19: Épület, építmény
B20: Gép, berendezés
B21: Irányítástechnika, energiaellátás
B23: Összesen: | J23: =SUM(J13:J22) -> 0 | K23: 0 | O23: =SUM(O12:O22) -> 0 | P23: =SUM(P12:P22) -> 0 | Q23: =SUM(Q12:Q22) -> 0 | R23: =SUM(R12:R22) -> 0 | S23: =SUM(S12:S22) -> 0 | T23: =SUM(T12:T22) -> 0 | U23: =SUM(U12:U22) -> 0 | V23: =SUM(V12:V22) -> 0 | ... AC23: =SUM(AC12:AC22) -> 0
K24: Jelenleg beruházási igény nem ismert, nincs rendelkezésre álló forrás beruházásra.
B25: Tervezett feladatok nettó költsége a teljes ütem tekintetében (eFt) | C25: Rendelkezésre álló források számszerűsített értéke a teljes ütem tekintetében (eFt) | D25: Rendelkezésre álló források megnevezése
A26: I. ütem | B26: =O23 -> 0 | C26: 0 | D26: Fejlesztési díj (2025)
A27: II. ütem | B27: =SUM(P23:S23) -> 0 | C27: =C26*4 -> 0 | D27: Fejlesztési díj (2026-2029)
A28: III. ütem | B28: =SUM(T23:AC23) -> 0 | C28: =C26*10 -> 0 | D28: Fejlesztési díj (2030-2039)

Sheet Nagypáli
A1: Gördülő fejlesztési terv a 2025 - 2039 időszakra
A2: BERUHÁZÁSOK ÖSSZEFOGLALÓ TÁBLÁZATA
A3: A tervet benyújtó szervezet megnevezése: | K3: NAGYPÁLI | R3: ellátásért felelős / ellátásért felelősök képviselője / víziközmű-szolgáltató *
A4: Víziközmű-szolgáltató megnevezése: | K4: ÉSZAK ZALAI VÍZ- ÉS CSATORNAMŰ ZÁRTKÖRŰEN MŰKÖDŐ RÉSZVÉNYTÁRSASÁG
A5: Víziközmű-szolgáltatási ágazat megnevezése: | K5: SZENNYVÍZ ÁGAZAT
A6: Véleményeltérést megfogalmazó érintett fél megnevezése:
A7: Víziközmű-rendszer kódja: ** | K7: 21-32054-1-048-01-10 | R7: Zalaegerszeg-SZV
A8: V. Szennyvízelvezetés
A9: Fontossági sorrend | B9: Beruházás megnevezése | E9: Műszaki állapot felmérés, szükségességi indoklás | H9: Vízjogi létesítési/elvi engedély száma | I9: Az érintett ellátásért felelős(ök) megnevezése | J9: Tervezett nettó költség | K9: Forrás 2025 évre | L9: Megvalósítás időtartama | N9: Tervezett időtáv | O9: A beruházás ütemezése a tervezési időszak évei szerint
E10: Jelenlegi műszaki állapot | F10: Feladat szükségessége | G10: Megvalósítást követő várható műszaki állapot | J10: (eFt) | L10: Kezdés | M10: Befejezés | N10: (rövid / közép / hosszú) | O10: 1 | P10: 2 | Q10: 3 | R10: 4 | S10: 5 | T10: 6 | U10: 7 | V10: 8 | W10: 9 | X10: 10 | Y10: 11 | Z10: 12 | AA10: 13 | AB10: 14 | AC10: 15
B11: szakág | C11: Helyszín | D11: beruházás megnevezése
B13: SZENNYVÍZCSATORNA (GRAVITÁCIÓS)
B14: Épület, építmény
B16: SZENNYVÍZVEZETÉKEK (KÉNYSZERÁRAMOLTATÁSÚ)
B18: SZENNYVÍZÁTEMELŐK
B19: Épület, építmény
B20: Gép, berendezés
B21: Irányítástechnika, energiaellátás
