Workbook

Sheet Alibánfa
A1: Gördülő fejlesztési terv a 2025 - 2039 időszakra
A2: BERUHÁZÁSOK ÖSSZEFOGLALÓ TÁBLÁZATA
A3: A tervet benyújtó szervezet megnevezése: | K3: ALIBÁNFA | R3: ellátásért felelős / ellátásért felelősök képviselője / víziközmű-szolgáltató *
A4: Víziközmű-szolgáltató megnevezése: | K4: ÉSZAK ZALAI VÍZ- ÉS CSATORNAMŰ ZÁRTKÖRŰEN MŰKÖDŐ RÉSZVÉNYTÁRSASÁG
A5: Víziközmű-szolgáltatási ágazat megnevezése: | K5: SZENNYVÍZ ÁGAZAT
A6: Véleményeltérést megfogalmazó érintett fél megnevezése:
A7: Víziközmű-rendszer kódja: ** | K7: 21-32054-1-048-01-10 | R7: Zalaegerszeg-SZV
A8: V. Szennyvízelvezetés
A9: Fontossági sorrend | B9: Beruházás megnevezése | E9: Műszaki állapot felmérés, szükségességi indoklás | H9: Vízjogi létesítési/elvi engedély száma | I9: Az érintett ellátásért felelős(ök) megnevezése | J9: Tervezett nettó költség | K9: Forrás 2025 évre | L9: Megvalósítás időtartama | N9: Tervezett időtáv | O9: A beruházás ütemezése a tervezési időszak évei szerint
E10: Jelenlegi műszaki állapot | F10: Feladat szükségessége | G10: Megvalósítást követő várható műszaki állapot | J10: (eFt) | L10: Kezdés | M10: Befejezés | N10: (rövid / közép / hosszú) | O10: 1 | P10: 2 | Q10: 3 | R10: 4 | S10: 5 | T10: 6 | U10: 7 | V10: 8 | W10: 9 | X10: 10 | Y10: 11 | Z10: 12 | AA10: 13 | AB10: 14 | AC10: 15
B11: szakág | C11: Helyszín | D11: beruházás megnevezése
B13: SZENNYVÍZCSATORNA (GRAVITÁCIÓS)
B14: Épület, építmény
B16: SZENNYVÍZVEZETÉKEK (KÉNYSZERÁRAMOLTATÁSÚ)
B18: SZENNYVÍZÁTEMELŐK
B19: Épület, építmény
B20: Gép, berendezés
B21: Irányítástechnika, energiaellátás
B23: Összesen: | J23: =SUM(J13:J22) -> 0 | K23: 0 | O23: =SUM(O12:O22) -> 0 | P23: =SUM(P12:P22) -> 0 | Q23: =SUM(Q12:Q22) -> 0 | R23: =SUM(R12:R22) -> 0 | S23: =SUM(S12:S22) -> 0 | T23: =SUM(T12:T22) -> 0 | U23: =SUM(U12:U22) -> 0 | V23: =SUM(V12:V22) -> 0 | ... AC23: =SUM(AC12:AC22) -> 0
K24: Jelenleg beruházási igény nem ismert, nincs rendelkezésre álló forrás beruházásra.
B25: Tervezett feladatok nettó költsége a teljes ütem tekintetében (eFt) | C25: Rendelkezésre álló források számszerűsített értéke a teljes ütem tekintetében (eFt) | D25: Rendelkezésre álló források megnevezése
A26: I. ütem | B26: =O23 -> 0 | C26: 0 | D26: Fejlesztési díj (2025)
A27: II. ütem | B27: =SUM(P23:S23) -> 0 | C27: =C26*4 -> 0 | D27: Fejlesztési díj (2026-2029)
A28: III. ütem | B28: =SUM(T23:AC23) -> 0 | C28: =C26*10 -> 0 | D28: Fejlesztési díj (2030-2039)

Sheet Alsónemesapáti
A1: Gördülő fejlesztési terv a 2025 - 2039 időszakra
A2: BERUHÁZÁSOK ÖSSZEFOGLALÓ TÁBLÁZATA
A3: A tervet benyújtó szervezet megnevezése: | K3: ALSÓNEMESAPÁTI | R3: ellátásért felelős / ellátásért felelősök képviselője / víziközmű-szolgáltató *
A4: Víziközmű-szolgáltató megnevezése: | K4: ÉSZAK ZALAI VÍZ- ÉS CSATORNAMŰ ZÁRTKÖRŰEN MŰKÖDŐ RÉSZVÉNYTÁRSASÁG
A5: Víziközmű-szolgáltatási ágazat megnevezése: | K5: SZENNYVÍZ ÁGAZAT
A6: Véleményeltérést megfogalmazó érintett fél megnevezése:
A7: Víziközmű-rendszer kódja: ** | K7: 21-32054-1-048-01-10 | R7: Zalaegerszeg-SZV
A8: V. Szennyvízelvezetés
A9: Fontossági sorrend | B9: Beruházás megnevezése | E9: Műszaki állapot felmérés, szükségességi indoklás | H9: Vízjogi létesítési/elvi engedély száma | I9: Az érintett ellátásért felelős(ök) megnevezése | J9: Tervezett nettó költség | K9: Forrás 2025 évre | L9: Megvalósítás időtartama | N9: Tervezett időtáv | O9: A beruházás ütemezése a tervezési időszak évei szerint
E10: Jelenlegi műszaki állapot | F10: Feladat szükségessége | G10: Megvalósítást követő várható műszaki állapot | J10: (eFt) | L10: Kezdés | M10: Befejezés | N10: (rövid / közép / hosszú) | O10: 1 | P10: 2 | Q10: 3 | R10: 4 | S10: 5 | T10: 6 | U10: 7 | V10: 8 | W10: 9 | X10: 10 | Y10: 11 | Z10: 12 | AA10: 13 | AB10: 14 | AC10: 15
B11: szakág | C11: Helyszín | D11: beruházás megnevezése
B13: SZENNYVÍZCSATORNA (GRAVITÁCIÓS)
B14: Épület, építmény
B16: SZENNYVÍZVEZETÉKEK (KÉNYSZERÁRAMOLTATÁSÚ)
B18: SZENNYVÍZÁTEMELŐK
B19: Épület, építmény
B20: Gép, berendezés
B21: Irányítástechnika, energiaellátás
B23: Összesen: | J23: =SUM(J13:J22) -> 0 | K23: 0 | O23: =SUM(O12:O22) -> 0 | P23: =SUM(P12:P22) -> 0 | Q23: =SUM(Q12:Q22) -> 0 | R23: =SUM(R12:R22) -> 0 | S23: =SUM(S12:S22) -> 0 | T23: =SUM(T12:T22) -> 0 | U23: =SUM(U12:U22) -> 0 | V23: =SUM(V12:V22) -> 0 | ... AC23: =SUM(AC12:AC22) -> 0
K24: Jelenleg beruházási igény nem ismert, nincs rendelkezésre álló forrás beruházásra.
B25: Tervezett feladatok nettó költsége a teljes ütem tekintetében (eFt) | C25: Rendelkezésre álló források számszerűsített értéke a teljes ütem tekintetében (eFt) | D25: Rendelkezésre álló források megnevezése
A26: I. ütem | B26: =O23 -> 0 | C26: 0 | D26: Fejlesztési díj (2025)
A27: II. ütem | B27: =SUM(P23:S23) -> 0 | C27: =C26*4 -> 0 | D27: Fejlesztési díj (2026-2029)
A28: III. ütem | B28: =SUM(T23:AC23) -> 0 | C28: =C26*10 -> 0 | D28: Fejlesztési díj (2030-2039)

Sheet Babosdöbréte
A1: Gördülő fejlesztési terv a 2025 - 2039 időszakra
A2: BERUHÁZÁSOK ÖSSZEFOGLALÓ TÁBLÁZATA
A3: A tervet benyújtó szervezet megnevezése: | K3: BABOSDÖBRÉTE | R3: ellátásért felelős / ellátásért felelősök képviselője / víziközmű-szolgáltató *
A4: Víziközmű-szolgáltató megnevezése: | K4: ÉSZAK ZALAI VÍZ- ÉS CSATORNAMŰ ZÁRTKÖRŰEN MŰKÖDŐ RÉSZVÉNYTÁRSASÁG
A5: Víziközmű-szolgáltatási ágazat megnevezése: | K5: SZENNYVÍZ ÁGAZAT
A6: Véleményeltérést megfogalmazó érintett fél megnevezése:
A7: Víziközmű-rendszer kódja: ** | K7: 21-32054-1-048-01-10 | R7: Zalaegerszeg-SZV
A8: V. Szennyvízelvezetés
A9: Fontossági sorrend | B9: Beruházás megnevezése | E9: Műszaki állapot felmérés, szükségességi indoklás | H9: Vízjogi létesítési/elvi engedély száma | I9: Az érintett ellátásért felelős(ök) megnevezése | J9: Tervezett nettó költség | K9: Forrás 2025 évre | L9: Megvalósítás időtartama | N9: Tervezett időtáv | O9: A beruházás ütemezése a tervezési időszak évei szerint
E10: Jelenlegi műszaki állapot | F10: Feladat szükségessége | G10: Megvalósítást követő várható műszaki állapot | J10: (eFt) | L10: Kezdés | M10: Befejezés | N10: (rövid / közép / hosszú) | O10: 1 | P10: 2 | Q10: 3 | R10: 4 | S10: 5 | T10: 6 | U10: 7 | V10: 8 | W10: 9 | X10: 10 | Y10: 11 | Z10: 12 | AA10: 13 | AB10: 14 | AC10: 15
B11: szakág | C11: Helyszín | D11: beruházás megnevezése
B13: SZENNYVÍZCSATORNA (GRAVITÁCIÓS)
B14: Épület, építmény
B16: SZENNYVÍZVEZETÉKEK (KÉNYSZERÁRAMOLTATÁSÚ)
B18: SZENNYVÍZÁTEMELŐK
B19: Épület, építmény
B20: Gép, berendezés
B21: Irányítástechnika, energiaellátás
B23: Összesen: | J23: =SUM(J13:J22) -> 0 | K23: 0 | O23: =SUM(O12:O22) -> 0 | P23: =SUM(P12:P22) -> 0 | Q23: =SUM(Q12:Q22) -> 0 | R23: =SUM(R12:R22) -> 0 | S23: =SUM(S12:S22) -> 0 | T23: =SUM(T12:T22) -> 0 | U23: =SUM(U12:U22) -> 0 | V23: =SUM(V12:V22) -> 0 | ... AC23: =SUM(AC12:AC22) -> 0
K24: Jelenleg beruházási igény nem ismert, nincs rendelkezésre álló forrás beruházásra.
B25: Tervezett feladatok nettó költsége a teljes ütem tekintetében (eFt) | C25: Rendelkezésre álló források számszerűsített értéke a teljes ütem tekintetében (eFt) | D25: Rendelkezésre álló források megnevezése
A26: I. ütem | B26: =O23 -> 0 | C26: 0 | D26: Fejlesztési díj (2025)
A27: II. ütem | B27: =SUM(P23:S23) -> 0 | C27: =C26*4 -> 0 | D27: Fejlesztési díj (2026-2029)
A28: III. ütem | B28: =SUM(T23:AC23) -> 0 | C28: =C26*10 -> 0 | D28: Fejlesztési díj (2030-2039)

Sheet Bagod
A1: Gördülő fejlesztési terv a 2025 - 2039 időszakra
A2: BERUHÁZÁSOK ÖSSZEFOGLALÓ TÁBLÁZATA
A3: A tervet benyújtó szervezet megnevezése: | K3: BAGOD | R3: ellátásért felelős / ellátásért felelősök képviselője / víziközmű-szolgáltató *
A4: Víziközmű-szolgáltató megnevezése: | K4: ÉSZAK ZALAI VÍZ- ÉS CSATORNAMŰ ZÁRTKÖRŰEN MŰKÖDŐ RÉSZVÉNYTÁRSASÁG
A5: Víziközmű-szolgáltatási ágazat megnevezése: | K5: SZENNYVÍZ ÁGAZAT
A6: Véleményeltérést megfogalmazó érintett fél megnevezése:
A7: Víziközmű-rendszer kódja: ** | K7: 21-32054-1-048-01-10 | R7: Zalaegerszeg-SZV
A8: V. Szennyvízelvezetés
A9: Fontossági sorrend | B9: Beruházás megnevezése | E9: Műszaki állapot felmérés, szükségességi indoklás | H9: Vízjogi létesítési/elvi engedély száma | I9: Az érintett ellátásért felelős(ök) megnevezése | J9: Tervezett nettó költség | K9: Forrás 2025 évre | L9: Megvalósítás időtartama | N9: Tervezett időtáv | O9: A beruházás ütemezése a tervezési időszak évei szerint
E10: Jelenlegi műszaki állapot | F10: Feladat szükségessége | G10: Megvalósítást követő várható műszaki állapot | J10: (eFt) | L10: Kezdés | M10: Befejezés | N10: (rövid / közép / hosszú) | O10: 1 | P10: 2 | Q10: 3 | R10: 4 | S10: 5 | T10: 6 | U10: 7 | V10: 8 | W10: 9 | X10: 10 | Y10: 11 | Z10: 12 | AA10: 13 | AB10: 14 | AC10: 15
B11: szakág | C11: Helyszín | D11: beruházás megnevezése
B13: SZENNYVÍZCSATORNA (GRAVITÁCIÓS)
B14: Épület, építmény
B16: SZENNYVÍZVEZETÉKEK (KÉNYSZERÁRAMOLTATÁSÚ)
B18: SZENNYVÍZÁTEMELŐK
B19: Épület, építmény
B20: Gép, berendezés
B21: Irányítástechnika, energiaellátás
B23: Összesen: | J23: =SUM(J13:J22) -> 0 | K23: 0 | O23: =SUM(O12:O22) -> 0 | P23: =SUM(P12:P22) -> 0 | Q23: =SUM(Q12:Q22) -> 0 | R23: =SUM(R12:R22) -> 0 | S23: =SUM(S12:S22) -> 0 | T23: =SUM(T12:T22) -> 0 | U23: =SUM(U12:U22) -> 0 | V23: =SUM(V12:V22) -> 0 | ... AC23: =SUM(AC12:AC22) -> 0
K24: Jelenleg beruházási igény nem ismert, nincs rendelkezésre álló forrás beruházásra.
B25: Tervezett feladatok nettó költsége a teljes ütem tekintetében (eFt) | C25: Rendelkezésre álló források számszerűsített értéke a teljes ütem tekintetében (eFt) | D25: Rendelkezésre álló források megnevezése
A26: I. ütem | B26: =O23 -> 0 | C26: 0 | D26: Fejlesztési díj (2025)
A27: II. ütem | B27: =SUM(P23:S23) -> 0 | C27: =C26*4 -> 0 | D27: Fejlesztési díj (2026-2029)
A28: III. ütem | B28: =SUM(T23:AC23) -> 0 | C28: =C26*10 -> 0 | D28: Fejlesztési díj (2030-2039)

Sheet Bak
A1: Gördülő fejlesztési terv a 2025 - 2039 időszakra
A2: BERUHÁZÁSOK ÖSSZEFOGLALÓ TÁBLÁZATA
A3: A tervet benyújtó szervezet megnevezése: | K3: BAK | R3: ellátásért felelős / ellátásért felelősök képviselője / víziközmű-szolgáltató *
A4: Víziközmű-szolgáltató megnevezése: | K4: ÉSZAK ZALAI VÍZ- ÉS CSATORNAMŰ ZÁRTKÖRŰEN MŰKÖDŐ RÉSZVÉNYTÁRSASÁG
A5: Víziközmű-szolgáltatási ágazat megnevezése: | K5: SZENNYVÍZ ÁGAZAT
A6: Véleményeltérést megfogalmazó érintett fél megnevezése:
A7: Víziközmű-rendszer kódja: ** | K7: 21-32054-1-048-01-10 | R7: Zalaegerszeg-SZV
A8: V. Szennyvízelvezetés
A9: Fontossági sorrend | B9: Beruházás megnevezése | E9: Műszaki állapot felmérés, szükségességi indoklás | H9: Vízjogi létesítési/elvi engedély száma | I9: Az érintett ellátásért felelős(ök) megnevezése | J9: Tervezett nettó költség | K9: Forrás 2025 évre | L9: Megvalósítás időtartama | N9: Tervezett időtáv | O9: A beruházás ütemezése a tervezési időszak évei szerint
E10: Jelenlegi műszaki állapot | F10: Feladat szükségessége | G10: Megvalósítást követő várható műszaki állapot | J10: (eFt) | L10: Kezdés | M10: Befejezés | N10: (rövid / közép / hosszú) | O10: 1 | P10: 2 | Q10: 3 | R10: 4 | S10: 5 | T10: 6 | U10: 7 | V10: 8 | W10: 9 | X10: 10 | Y10: 11 | Z10: 12 | AA10: 13 | AB10: 14 | AC10: 15
B11: szakág | C11: Helyszín | D11: beruházás megnevezése
B13: SZENNYVÍZCSATORNA (GRAVITÁCIÓS)
B14: Épület, építmény
B16: SZENNYVÍZVEZETÉKEK (KÉNYSZERÁRAMOLTATÁSÚ)
B18: SZENNYVÍZÁTEMELŐK
B19: Épület, építmény
B20: Gép, berendezés
B21: Irányítástechnika, energiaellátás
B23: Összesen: | J23: =SUM(J13:J22) -> 0 | K23: 0 | O23: =SUM(O12:O22) -> 0 | P23: =SUM(P12:P22) -> 0 | Q23: =SUM(Q12:Q22) -> 0 | R23: =SUM(R12:R22) -> 0 | S23: =SUM(S12:S22) -> 0 | T23: =SUM(T12:T22) -> 0 | U23: =SUM(U12:U22) -> 0 | V23: =SUM(V12:V22) -> 0 | ... AC23: =SUM(AC12:AC22) -> 0
K24: Jelenleg beruházási igény nem ismert, nincs rendelkezésre álló forrás beruházásra.
B25: Tervezett feladatok nettó költsége a teljes ütem tekintetében (eFt) | C25: Rendelkezésre álló források számszerűsített értéke a teljes ütem tekintetében (eFt) | D25: Rendelkezésre álló források megnevezése
A26: I. ütem | B26: =O23 -> 0 | C26: 0 | D26: Fejlesztési díj (2025)
A27: II. ütem | B27: =SUM(P23:S23) -> 0 | C27: =C26*4 -> 0 | D27: Fejlesztési díj (2026-2029)
A28: III. ütem | B28: =SUM(T23:AC23) -> 0 | C28: =C26*10 -> 0 | D28: Fejlesztési díj (2030-2039)

Sheet Bocfölde
A1: Gördülő fejlesztési terv a 2025 - 2039 időszakra
A2: BERUHÁZÁSOK ÖSSZEFOGLALÓ TÁBLÁZATA
A3: A tervet benyújtó szervezet megnevezése: | K3: BOCFÖLDE | R3: ellátásért felelős / ellátásért felelősök képviselője / víziközmű-szolgáltató *
A4: Víziközmű-szolgáltató megnevezése: | K4: ÉSZAK ZALAI VÍZ- ÉS CSATORNAMŰ ZÁRTKÖRŰEN MŰKÖDŐ RÉSZVÉNYTÁRSASÁG
A5: Víziközmű-szolgáltatási ágazat megnevezése: | K5: SZENNYVÍZ ÁGAZAT
A6: Véleményeltérést megfogalmazó érintett fél megnevezése:
A7: Víziközmű-rendszer kódja: ** | K7: 21-32054-1-048-01-10 | R7: Zalaegerszeg-SZV
A8: V. Szennyvízelvezetés
A9: Fontossági sorrend | B9: Beruházás megnevezése | E9: Műszaki állapot felmérés, szükségességi indoklás | H9: Vízjogi létesítési/elvi engedély száma | I9: Az érintett ellátásért felelős(ök) megnevezése | J9: Tervezett nettó költség | K9: Forrás 2025 évre | L9: Megvalósítás időtartama | N9: Tervezett időtáv | O9: A beruházás ütemezése a tervezési időszak évei szerint
E10: Jelenlegi műszaki állapot | F10: Feladat szükségessége | G10: Megvalósítást követő várható műszaki állapot | J10: (eFt) | L10: Kezdés | M10: Befejezés | N10: (rövid / közép / hosszú) | O10: 1 | P10: 2 | Q10: 3 | R10: 4 | S10: 5 | T10: 6 | U10: 7 | V10: 8 | W10: 9 | X10: 10 | Y10: 11 | Z10: 12 | AA10: 13 | AB10: 14 | AC10: 15
B11: szakág | C11: Helyszín | D11: beruházás megnevezése
B13: SZENNYVÍZCSATORNA (GRAVITÁCIÓS)
B14: Épület, építmény
B16: SZENNYVÍZVEZETÉKEK (KÉNYSZERÁRAMOLTATÁSÚ)
B18: SZENNYVÍZÁTEMELŐK
B19: Épület, építmény
B20: Gép, berendezés
B21: Irányítástechnika, energiaellátás
B23: Összesen: | J23: =SUM(J13:J22) -> 0 | K23: 0 | O23: =SUM(O12:O22) -> 0 | P23: =SUM(P12:P22) -> 0 | Q23: =SUM(Q12:Q22) -> 0 | R23: =SUM(R12:R22) -> 0 | S23: =SUM(S12:S22) -> 0 | T23: =SUM(T12:T22) -> 0 | U23: =SUM(U12:U22) -> 0 | V23: =SUM(V12:V22) -> 0 | ... AC23: =SUM(AC12:AC22) -> 0
K24: Jelenleg beruházási igény nem ismert, nincs rendelkezésre álló forrás beruházásra.
B25: Tervezett feladatok nettó költsége a teljes ütem tekintetében (eFt) | C25: Rendelkezésre álló források számszerűsített értéke a teljes ütem tekintetében (eFt) | D25: Rendelkezésre álló források megnevezése
A26: I. ütem | B26: =O23 -> 0 | C26: 0 | D26: Fejlesztési díj (2025)
A27: II. ütem | B27: =SUM(P23:S23) -> 0 | C27: =C26*4 -> 0 | D27: Fejlesztési díj (2026-2029)
A28: III. ütem | B28: =SUM(T23:AC23) -> 0 | C28: =C26*10 -> 0 | D28: Fejlesztési díj (2030-2039)

Sheet Boncodfölde
A1: Gördülő fejlesztési terv a 2025 - 2039 időszakra
A2: BERUHÁZÁSOK ÖSSZEFOGLALÓ TÁBLÁZATA
A3: A tervet benyújtó szervezet megnevezése: | K3: BONCODFÖLDE | R3: ellátásért felelős / ellátásért felelősök képviselője / víziközmű-szolgáltató *
A4: Víziközmű-szolgáltató megnevezése: | K4: ÉSZAK ZALAI VÍZ- ÉS CSATORNAMŰ ZÁRTKÖRŰEN MŰKÖDŐ RÉSZVÉNYTÁRSASÁG
A5: Víziközmű-szolgáltatási ágazat megnevezése: | K5: SZENNYVÍZ ÁGAZAT
A6: Véleményeltérést megfogalmazó érintett fél megnevezése:
A7: Víziközmű-rendszer kódja: ** | K7: 21-32054-1-048-01-10 | R7: Zalaegerszeg-SZV
A8: V. Szennyvízelvezetés
A9: Fontossági sorrend | B9: Beruházás megnevezése | E9: Műszaki állapot felmérés, szükségességi indoklás | H9: Vízjogi létesítési/elvi engedély száma | I9: Az érintett ellátásért felelős(ök) megnevezése | J9: Tervezett nettó költség | K9: Forrás 2025 évre | L9: Megvalósítás időtartama | N9: Tervezett időtáv | O9: A beruházás ütemezése a tervezési időszak évei szerint
E10: Jelenlegi műszaki állapot | F10: Feladat szükségessége | G10: Megvalósítást követő várható műszaki állapot | J10: (eFt) | L10: Kezdés | M10: Befejezés | N10: (rövid / közép / hosszú) | O10: 1 | P10: 2 | Q10: 3 | R10: 4 | S10: 5 | T10: 6 | U10: 7 | V10: 8 | W10: 9 | X10: 10 | Y10: 11 | Z10: 12 | AA10: 13 | AB10: 14 | AC10: 15
B11: szakág | C11: Helyszín | D11: beruházás megnevezése
B13: SZENNYVÍZCSATORNA (GRAVITÁCIÓS)
B14: Épület, építmény
B16: SZENNYVÍZVEZETÉKEK (KÉNYSZERÁRAMOLTATÁSÚ)
B18: SZENNYVÍZÁTEMELŐK
B19: Épület, építmény
B20: Gép, berendezés
B21: Irányítástechnika, energiaellátás
B23: Összesen: | J23: =SUM(J13:J22) -> 0 | K23: 0 | O23: =SUM(O12:O22) -> 0 | P23: =SUM(P12:P22) -> 0 | Q23: =SUM(Q12:Q22) -> 0 | R23: =SUM(R12:R22) -> 0 | S23: =SUM(S12:S22) -> 0 | T23: =SUM(T12:T22) -> 0 | U23: =SUM(U12:U22) -> 0 | V23: =SUM(V12:V22) -> 0 | ... AC23: =SUM(AC12:AC22) -> 0
K24: Jelenleg beruházási igény nem ismert, nincs rendelkezésre álló forrás beruházásra.
B25: Tervezett feladatok nettó költsége a teljes ütem tekintetében (eFt) | C25: Rendelkezésre álló források számszerűsített értéke a teljes ütem tekintetében (eFt) | D25: Rendelkezésre álló források megnevezése
A26: I. ütem | B26: =O23 -> 0 | C26: 0 | D26: Fejlesztési díj (2025)
A27: II. ütem | B27: =SUM(P23:S23) -> 0 | C27: =C26*4 -> 0 | D27: Fejlesztési díj (2026-2029)
A28: III. ütem | B28: =SUM(T23:AC23) -> 0 | C28: =C26*10 -> 0 | D28: Fejlesztési díj (2030-2039)

Sheet Böde
A1: Gördülő fejlesztési terv a 2025 - 2039 időszakra
A2: BERUHÁZÁSOK ÖSSZEFOGLALÓ TÁBLÁZATA
A3: A tervet benyújtó szervezet megnevezése: | K3: BÖDE | R3: ellátásért felelős / ellátásért felelősök képviselője / víziközmű-szolgáltató *
A4: Víziközmű-szolgáltató megnevezése: | K4: ÉSZAK ZALAI VÍZ- ÉS CSATORNAMŰ ZÁRTKÖRŰEN MŰKÖDŐ RÉSZVÉNYTÁRSASÁG
A5: Víziközmű-szolgáltatási ágazat megnevezése: | K5: SZENNYVÍZ ÁGAZAT
A6: Véleményeltérést megfogalmazó érintett fél megnevezése:
A7: Víziközmű-rendszer kódja: ** | K7: 21-32054-1-048-01-10 | R7: Zalaegerszeg-SZV
A8: V. Szennyvízelvezetés
A9: Fontossági sorrend | B9: Beruházás megnevezése | E9: Műszaki állapot felmérés, szükségességi indoklás | H9: Vízjogi létesítési/elvi engedély száma | I9: Az érintett ellátásért felelős(ök) megnevezése | J9: Tervezett nettó költség | K9: Forrás 2025 évre | L9: Megvalósítás időtartama | N9: Tervezett időtáv | O9: A beruházás ütemezése a tervezési időszak évei szerint
E10: Jelenlegi műszaki állapot | F10: Feladat szükségessége | G10: Megvalósítást követő várható műszaki állapot | J10: (eFt) | L10: Kezdés | M10: Befejezés | N10: (rövid / közép / hosszú) | O10: 1 | P10: 2 | Q10: 3 | R10: 4 | S10: 5 | T10: 6 | U10: 7 | V10: 8 | W10: 9 | X10: 10 | Y10: 11 | Z10: 12 | AA10: 13 | AB10: 14 | AC10: 15
B11: szakág | C11: Helyszín | D11: beruházás megnevezése
B13: SZENNYVÍZCSATORNA (GRAVITÁCIÓS)
B14: Épület, építmény
B16: SZENNYVÍZVEZETÉKEK (KÉNYSZERÁRAMOLTATÁSÚ)
B18: SZENNYVÍZÁTEMELŐK
B19: Épület, építmény
B20: Gép, berendezés
B21: Irányítástechnika, energiaellátás
B23: Összesen: | J23: =SUM(J13:J22) -> 0 | K23: 0 | O23: =SUM(O12:O22) -> 0 | P23: =SUM(P12:P22) -> 0 | Q23: =SUM(Q12:Q22) -> 0 | R23: =SUM(R12:R22) -> 0 | S23: =SUM(S12:S22) -> 0 | T23: =SUM(T12:T22) -> 0 | U23: =SUM(U12:U22) -> 0 | V23: =SUM(V12:V22) -> 0 | ... AC23: =SUM(AC12:AC22) -> 0
K24: Jelenleg beruházási igény nem ismert, nincs rendelkezésre álló forrás beruházásra.
B25: Tervezett feladatok nettó költsége a teljes ütem tekintetében (eFt) | C25: Rendelkezésre álló források számszerűsített értéke a teljes ütem tekintetében (eFt) | D25: Rendelkezésre álló források megnevezése
A26: I. ütem | B26: =O23 -> 0 | C26: 0 | D26: Fejlesztési díj (2025)
A27: II. ütem | B27: =SUM(P23:S23) -> 0 | C27: =C26*4 -> 0 | D27: Fejlesztési díj (2026-2029)
A28: III. ütem | B28: =SUM(T23:AC23) -> 0 | C28: =C26*10 -> 0 | D28: Fejlesztési díj (2030-2039)

Sheet Búcsúszentlászló
A1: Gördülő fejlesztési terv a 2025 - 2039 időszakra
A2: BERUHÁZÁSOK ÖSSZEFOGLALÓ TÁBLÁZATA
A3: A tervet benyújtó szervezet megnevezése: | K3: BUCSUSZENTLÁSZLÓ | R3: ellátásért felelős / ellátásért felelősök képviselője / víziközmű-szolgáltató *
A4: Víziközmű-szolgáltató megnevezése: | K4: ÉSZAK ZALAI VÍZ- ÉS CSATORNAMŰ ZÁRTKÖRŰEN MŰKÖDŐ RÉSZVÉNYTÁRSASÁG
A5: Víziközmű-szolgáltatási ágazat megnevezése: | K5: SZENNYVÍZ ÁGAZAT
A6: Véleményeltérést megfogalmazó érintett fél megnevezése:
A7: Víziközmű-rendszer kódja: ** | K7: 21-32054-1-048-01-10 | R7: Zalaegerszeg-SZV
A8: V. Szennyvízelvezetés
A9: Fontossági sorrend | B9: Beruházás megnevezése | E9: Műszaki állapot felmérés, szükségességi indoklás | H9: Vízjogi létesítési/elvi engedély száma | I9: Az érintett ellátásért felelős(ök) megnevezése | J9: Tervezett nettó költség | K9: Forrás 2025 évre | L9: Megvalósítás időtartama | N9: Tervezett időtáv | O9: A beruházás ütemezése a tervezési időszak évei szerint
E10: Jelenlegi műszaki állapot | F10: Feladat szükségessége | G10: Megvalósítást követő várható műszaki állapot | J10: (eFt) | L10: Kezdés | M10: Befejezés | N10: (rövid / közép / hosszú) | O10: 1 | P10: 2 | Q10: 3 | R10: 4 | S10: 5 | T10: 6 | U10: 7 | V10: 8 | W10: 9 | X10: 10 | Y10: 11 | Z10: 12 | AA10: 13 | AB10: 14 | AC10: 15
B11: szakág | C11: Helyszín | D11: beruházás megnevezése
B13: SZENNYVÍZCSATORNA (GRAVITÁCIÓS)
B14: Épület, építmény
B16: SZENNYVÍZVEZETÉKEK (KÉNYSZERÁRAMOLTATÁSÚ)
B18: SZENNYVÍZÁTEMELŐK
B19: Épület, építmény
B20: Gép, berendezés
B21: Irányítástechnika, energiaellátás
B23: Összesen: | J23: =SUM(J13:J22) -> 0 | K23: 0 | O23: =SUM(O12:O22) -> 0 | P23: =SUM(P12:P22) -> 0 | Q23: =SUM(Q12:Q22) -> 0 | R23: =SUM(R12:R22) -> 0 | S23: =SUM(S12:S22) -> 0 | T23: =SUM(T12:T22) -> 0 | U23: =SUM(U12:U22) -> 0 | V23: =SUM(V12:V22) -> 0 | ... AC23: =SUM(AC12:AC22) -> 0
K24: Jelenleg beruházási igény nem ismert, nincs rendelkezésre álló forrás beruházásra.
B25: Tervezett feladatok nettó költsége a teljes ütem tekintetében (eFt) | C25: Rendelkezésre álló források számszerűsített értéke a teljes ütem tekintetében (eFt) | D25: Rendelkezésre álló források megnevezése
A26: I. ütem | B26: =O23 -> 0 | C26: 0 | D26: Fejlesztési díj (2025)
A27: II. ütem | B27: =SUM(P23:S23) -> 0 | C27: =C26*4 -> 0 | D27: Fejlesztési díj (2026-2029)
A28: III. ütem | B28: =SUM(T23:AC23) -> 0 | C28: =C26*10 -> 0 | D28: Fejlesztési díj (2030-2039)

Sheet Csatár
A1: Gördülő fejlesztési terv a 2025 - 2039 időszakra
A2: BERUHÁZÁSOK ÖSSZEFOGLALÓ TÁBLÁZATA
A3: A tervet benyújtó szervezet megnevezése: | K3: CSATRÁ | R3: ellátásért felelős / ellátásért felelősök képviselője / víziközmű-szolgáltató *
A4: Víziközmű-szolgáltató megnevezése: | K4: ÉSZAK ZALAI VÍZ- ÉS CSATORNAMŰ ZÁRTKÖRŰEN MŰKÖDŐ RÉSZVÉNYTÁRSASÁG
A5: Víziközmű-szolgáltatási ágazat megnevezése: | K5: SZENNYVÍZ ÁGAZAT
A6: Véleményeltérést megfogalmazó érintett fél megnevezése:
A7: Víziközmű-rendszer kódja: ** | K7: 21-32054-1-048-01-10 | R7: Zalaegerszeg-SZV
A8: V. Szennyvízelvezetés
A9: Fontossági sorrend | B9: Beruházás megnevezése | E9: Műszaki állapot felmérés, szükségességi indoklás | H9: Vízjogi létesítési/elvi engedély száma | I9: Az érintett ellátásért felelős(ök) megnevezése | J9: Tervezett nettó költség | K9: Forrás 2025 évre | L9: Megvalósítás időtartama | N9: Tervezett időtáv | O9: A beruházás ütemezése a tervezési időszak évei szerint
E10: Jelenlegi műszaki állapot | F10: Feladat szükségessége | G10: Megvalósítást követő várható műszaki állapot | J10: (eFt) | L10: Kezdés | M10: Befejezés | N10: (rövid / közép / hosszú) | O10: 1 | P10: 2 | Q10: 3 | R10: 4 | S10: 5 | T10: 6 | U10: 7 | V10: 8 | W10: 9 | X10: 10 | Y10: 11 | Z10: 12 | AA10: 13 | AB10: 14 | AC10: 15
B11: szakág | C11: Helyszín | D11: beruházás megnevezése
B13: SZENNYVÍZCSATORNA (GRAVITÁCIÓS)
B14: Épület, építmény
B16: SZENNYVÍZVEZETÉKEK (KÉNYSZERÁRAMOLTATÁSÚ)
B18: SZENNYVÍZÁTEMELŐK
B19: Épület, építmény
B20: Gép, berendezés
B21: Irányítástechnika, energiaellátás
B23: Összesen: | J23: =SUM(J13:J22) -> 0 | K23: 0 | O23: =SUM(O12:O22) -> 0 | P23: =SUM(P12:P22) -> 0 | Q23: =SUM(Q12:Q22) -> 0 | R23: =SUM(R12:R22) -> 0 | S23: =SUM(S12:S22) -> 0 | T23: =SUM(T12:T22) -> 0 | U23: =SUM(U12:U22) -> 0 | V23: =SUM(V12:V22) -> 0 | ... AC23: =SUM(AC12:AC22) -> 0
K24: Jelenleg beruházási igény nem ismert, nincs rendelkezésre álló forrás beruházásra.
B25: Tervezett feladatok nettó költsége a teljes ütem tekintetében (eFt) | C25: Rendelkezésre álló források számszerűsített értéke a teljes ütem tekintetében (eFt) | D25: Rendelkezésre álló források megnevezése
A26: I. ütem | B26: =O23 -> 0 | C26: 0 | D26: Fejlesztési díj (2025)
A27: II. ütem | B27: =SUM(P23:S23) -> 0 | C27: =C26*4 -> 0 | D27: Fejlesztési díj (2026-2029)
A28: III. ütem | B28: =SUM(T23:AC23) -> 0 | C28: =C26*10 -> 0 | D28: Fejlesztési díj (2030-2039)

Sheet Csonkahegyhát
A1: Gördülő fejlesztési terv a 2025 - 2039 időszakra
A2: BERUHÁZÁSOK ÖSSZEFOGLALÓ TÁBLÁZATA
A3: A tervet benyújtó szervezet megnevezése: | K3: CSONKAHEGYHÁT | R3: ellátásért felelős / ellátásért felelősök képviselője / víziközmű-szolgáltató *
A4: Víziközmű-szolgáltató megnevezése: | K4: ÉSZAK ZALAI VÍZ- ÉS CSATORNAMŰ ZÁRTKÖRŰEN MŰKÖDŐ RÉSZVÉNYTÁRSASÁG
A5: Víziközmű-szolgáltatási ágazat megnevezése: | K5: SZENNYVÍZ ÁGAZAT
A6: Véleményeltérést megfogalmazó érintett fél megnevezése:
A7: Víziközmű-rendszer kódja: ** | K7: 21-32054-1-048-01-10 | R7: Zalaegerszeg-SZV
A8: V. Szennyvízelvezetés
A9: Fontossági sorrend | B9: Beruházás megnevezése | E9: Műszaki állapot felmérés, szükségességi indoklás | H9: Vízjogi létesítési/elvi engedély száma | I9: Az érintett ellátásért felelős(ök) megnevezése | J9: Tervezett nettó költség | K9: Forrás 2025 évre | L9: Megvalósítás időtartama | N9: Tervezett időtáv | O9: A beruházás ütemezése a tervezési időszak évei szerint
E10: Jelenlegi műszaki állapot | F10: Feladat szükségessége | G10: Megvalósítást követő várható műszaki állapot | J10: (eFt) | L10: Kezdés | M10: Befejezés | N10: (rövid / közép / hosszú) | O10: 1 | P10: 2 | Q10: 3 | R10: 4 | S10: 5 | T10: 6 | U10: 7 | V10: 8 | W10: 9 | X10: 10 | Y10: 11 | Z10: 12 | AA10: 13 | AB10: 14 | AC10: 15
B11: szakág | C11: Helyszín | D11: beruházás megnevezése
B13: SZENNYVÍZCSATORNA (GRAVITÁCIÓS)
B14: Épület, építmény
B16: SZENNYVÍZVEZETÉKEK (KÉNYSZERÁRAMOLTATÁSÚ)
B18: SZENNYVÍZÁTEMELŐK
B19: Épület, építmény
B20: Gép, berendezés
B21: Irányítástechnika, energiaellátás
B23: Összesen: | J23: =SUM(J13:J22) -> 0 | K23: 0 | O23: =SUM(O12:O22) -> 0 | P23: =SUM(P12:P22) -> 0 | Q23: =SUM(Q12:Q22) -> 0 | R23: =SUM(R12:R22) -> 0 | S23: =SUM(S12:S22) -> 0 | T23: =SUM(T12:T22) -> 0 | U23: =SUM(U12:U22) -> 0 | V23: =SUM(V12:V22) -> 0 | ... AC23: =SUM(AC12:AC22) -> 0
K24: Jelenleg beruházási igény nem ismert, nincs rendelkezésre álló forrás beruházásra.
B25: Tervezett feladatok nettó költsége a teljes ütem tekintetében (eFt) | C25: Rendelkezésre álló források számszerűsített értéke a teljes ütem tekintetében (eFt) | D25: Rendelkezésre álló források megnevezése
A26: I. ütem | B26: =O23 -> 0 | C26: 0 | D26: Fejlesztési díj (2025)
A27: II. ütem | B27: =SUM(P23:S23) -> 0 | C27: =C26*4 -> 0 | D27: Fejlesztési díj (2026-2029)
A28: III. ütem | B28: =SUM(T23:AC23) -> 0 | C28: =C26*10 -> 0 | D28: Fejlesztési díj (2030-2039)

Sheet Dobronhegy
A1: Gördülő fejlesztési terv a 2025 - 2039 időszakra
A2: BERUHÁZÁSOK ÖSSZEFOGLALÓ TÁBLÁZATA
A3: A tervet benyújtó szervezet megnevezése: | K3: DOBRONHEGY | R3: ellátásért felelős / ellátásért felelősök képviselője / víziközmű-szolgáltató *
A4: Víziközmű-szolgáltató megnevezése: | K4: ÉSZAK ZALAI VÍZ- ÉS CSATORNAMŰ ZÁRTKÖRŰEN MŰKÖDŐ RÉSZVÉNYTÁRSASÁG
A5: Víziközmű-szolgáltatási ágazat megnevezése: | K5: SZENNYVÍZ ÁGAZAT
A6: Véleményeltérést megfogalmazó érintett fél megnevezése:
A7: Víziközmű-rendszer kódja: ** | K7: 21-32054-1-048-01-10 | R7: Zalaegerszeg-SZV
A8: V. Szennyvízelvezetés
A9: Fontossági sorrend | B9: Beruházás megnevezése | E9: Műszaki állapot felmérés, szükségességi indoklás | H9: Vízjogi létesítési/elvi engedély száma | I9: Az érintett ellátásért felelős(ök) megnevezése | J9: Tervezett nettó költség | K9: Forrás 2025 évre | L9: Megvalósítás időtartama | N9: Tervezett időtáv | O9: A beruházás ütemezése a tervezési időszak évei szerint
E10: Jelenlegi műszaki állapot | F10: Feladat szükségessége | G10: Megvalósítást követő várható műszaki állapot | J10: (eFt) | L10: Kezdés | M10: Befejezés | N10: (rövid / közép / hosszú) | O10: 1 | P10: 2 | Q10: 3 | R10: 4 | S10: 5 | T10: 6 | U10: 7 | V10: 8 | W10: 9 | X10: 10 | Y10: 11 | Z10: 12 | AA10: 13 | AB10: 14 | AC10: 15
B11: szakág | C11: Helyszín | D11: beruházás megnevezése
B13: SZENNYVÍZCSATORNA (GRAVITÁCIÓS)
B14: Épület, építmény
B16: SZENNYVÍZVEZETÉKEK (KÉNYSZERÁRAMOLTATÁSÚ)
B18: SZENNYVÍZÁTEMELŐK
B19: Épület, építmény
B20: Gép, berendezés
B21: Irányítástechnika, energiaellátás
B23: Összesen: | J23: =SUM(J13:J22) -> 0 | K23: 0 | O23: =SUM(O12:O22) -> 0 | P23: =SUM(P12:P22) -> 0 | Q23: =SUM(Q12:Q22) -> 0 | R23: =SUM(R12:R22) -> 0 | S23: =SUM(S12:S22) -> 0 | T23: =SUM(T12:T22) -> 0 | U23: =SUM(U12:U22) -> 0 | V23: =SUM(V12:V22) -> 0 | ... AC23: =SUM(AC12:AC22) -> 0
K24: Jelenleg beruházási igény nem ismert, nincs rendelkezésre álló forrás beruházásra.
B25: Tervezett feladatok nettó költsége a teljes ütem tekintetében (eFt) | C25: Rendelkezésre álló források számszerűsített értéke a teljes ütem tekintetében (eFt) | D25: Rendelkezésre álló források megnevezése
A26: I. ütem | B26: =O23 -> 0 | C26: 0 | D26: Fejlesztési díj (2025)
A27: II. ütem | B27: =SUM(P23:S23) -> 0 | C27: =C26*4 -> 0 | D27: Fejlesztési díj (2026-2029)
A28: III. ütem | B28: =SUM(T23:AC23) -> 0 | C28: =C26*10 -> 0 | D28: Fejlesztési díj (2030-2039)

Sheet Egervár
A1: Gördülő fejlesztési terv a 2025 - 2039 időszakra
A2: BERUHÁZÁSOK ÖSSZEFOGLALÓ TÁBLÁZATA
A3: A tervet benyújtó szervezet megnevezése: | K3: EGERVÁR | R3: ellátásért felelős / ellátásért felelősök képviselője / víziközmű-szolgáltató *
A4: Víziközmű-szolgáltató megnevezése: | K4: ÉSZAK ZALAI VÍZ- ÉS CSATORNAMŰ ZÁRTKÖRŰEN MŰKÖDŐ RÉSZVÉNYTÁRSASÁG
A5: Víziközmű-szolgáltatási ágazat megnevezése: | K5: SZENNYVÍZ ÁGAZAT
A6: Véleményeltérést megfogalmazó érintett fél megnevezése:
A7: Víziközmű-rendszer kódja: ** | K7: 21-32054-1-048-01-10 | R7: Zalaegerszeg-SZV
A8: V. Szennyvízelvezetés
A9: Fontossági sorrend | B9: Beruházás megnevezése | E9: Műszaki állapot felmérés, szükségességi indoklás | H9: Vízjogi létesítési/elvi engedély száma | I9: Az érintett ellátásért felelős(ök) megnevezése | J9: Tervezett nettó költség | K9: Forrás 2025 évre | L9: Megvalósítás időtartama | N9: Tervezett időtáv | O9: A beruházás ütemezése a tervezési időszak évei szerint
E10: Jelenlegi műszaki állapot | F10: Feladat szükségessége | G10: Megvalósítást követő várható műszaki állapot | J10: (eFt) | L10: Kezdés | M10: Befejezés | N10: (rövid / közép / hosszú) | O10: 1 | P10: 2 | Q10: 3 | R10: 4 | S10: 5 | T10: 6 | U10: 7 | V10: 8 | W10: 9 | X10: 10 | Y10: 11 | Z10: 12 | AA10: 13 | AB10: 14 | AC10: 15
B11: szakág | C11: Helyszín | D11: beruházás megnevezése
B13: SZENNYVÍZCSATORNA (GRAVITÁCIÓS)
B14: Épület, építmény
B16: SZENNYVÍZVEZETÉKEK (KÉNYSZERÁRAMOLTATÁSÚ)
B18: SZENNYVÍZÁTEMELŐK
B19: Épület, építmény
B20: Gép, berendezés
B21: Irányítástechnika, energiaellátás
B23: Összesen: | J23: =SUM(J13:J22) -> 0 | K23: 0 | O23: =SUM(O12:O22) -> 0 | P23: =SUM(P12:P22) -> 0 | Q23: =SUM(Q12:Q22) -> 0 | R23: =SUM(R12:R22) -> 0 | S23: =SUM(S12:S22) -> 0 | T23: =SUM(T12:T22) -> 0 | U23: =SUM(U12:U22) -> 0 | V23: =SUM(V12:V22) -> 0 | ... AC23: =SUM(AC12:AC22) -> 0
K24: Jelenleg beruházási igény nem ismert, nincs rendelkezésre álló forrás beruházásra.
B25: Tervezett feladatok nettó költsége a teljes ütem tekintetében (eFt) | C25: Rendelkezésre álló források számszerűsített értéke a teljes ütem tekintetében (eFt) | D25: Rendelkezésre álló források megnevezése
A26: I. ütem | B26: =O23 -> 0 | C26: 0 | D26: Fejlesztési díj (2025)
A27: II. ütem | B27: =SUM(P23:S23) -> 0 | C27: =C26*4 -> 0 | D27: Fejlesztési díj (2026-2029)
A28: III. ütem | B28: =SUM(T23:AC23) -> 0 | C28: =C26*10 -> 0 | D28: Fejlesztési díj (2030-2039)

Sheet Gősfa
A1: Gördülő fejlesztési terv a 2025 - 2039 időszakra
A2: BERUHÁZÁSOK ÖSSZEFOGLALÓ TÁBLÁZATA
A3: A tervet benyújtó szervezet megnevezése: | K3: GŐSFA | R3: ellátásért felelős / ellátásért felelősök képviselője / víziközmű-szolgáltató *
A4: Víziközmű-szolgáltató megnevezése: | K4: ÉSZAK ZALAI VÍZ- ÉS CSATORNAMŰ ZÁRTKÖRŰEN MŰKÖDŐ RÉSZVÉNYTÁRSASÁG
A5: Víziközmű-szolgáltatási ágazat megnevezése: | K5: SZENNYVÍZ ÁGAZAT
A6: Véleményeltérést megfogalmazó érintett fél megnevezése:
A7: Víziközmű-rendszer kódja: ** | K7: 21-32054-1-048-01-10 | R7: Zalaegerszeg-SZV
A8: V. Szennyvízelvezetés
A9: Fontossági sorrend | B9: Beruházás megnevezése | E9: Műszaki állapot felmérés, szükségességi indoklás | H9: Vízjogi létesítési/elvi engedély száma | I9: Az érintett ellátásért felelős(ök) megnevezése | J9: Tervezett nettó költség | K9: Forrás 2025 évre | L9: Megvalósítás időtartama | N9: Tervezett időtáv | O9: A beruházás ütemezése a tervezési időszak évei szerint
E10: Jelenlegi műszaki állapot | F10: Feladat szükségessége | G10: Megvalósítást követő várható műszaki állapot | J10: (eFt) | L10: Kezdés | M10: Befejezés | N10: (rövid / közép / hosszú) | O10: 1 | P10: 2 | Q10: 3 | R10: 4 | S10: 5 | T10: 6 | U10: 7 | V10: 8 | W10: 9 | X10: 10 | Y10: 11 | Z10: 12 | AA10: 13 | AB10: 14 | AC10: 15
B11: szakág | C11: Helyszín | D11: beruházás megnevezése
B13: SZENNYVÍZCSATORNA (GRAVITÁCIÓS)
B14: Épület, építmény
B16: SZENNYVÍZVEZETÉKEK (KÉNYSZERÁRAMOLTATÁSÚ)
B18: SZENNYVÍZÁTEMELŐK
B19: Épület, építmény
B20: Gép, berendezés
B21: Irányítástechnika, energiaellátás
B23: Összesen: | J23: =SUM(J13:J22) -> 0 | K23: 0 | O23: =SUM(O12:O22) -> 0 | P23: =SUM(P12:P22) -> 0 | Q23: =SUM(Q12:Q22) -> 0 | R23: =SUM(R12:R22) -> 0 | S23: =SUM(S12:S22) -> 0 | T23: =SUM(T12:T22) -> 0 | U23: =SUM(U12:U22) -> 0 | V23: =SUM(V12:V22) -> 0 | ... AC23: =SUM(AC12:AC22) -> 0
K24: Jelenleg beruházási igény nem ismert, nincs rendelkezésre álló forrás beruházásra.
B25: Tervezett feladatok nettó költsége a teljes ütem tekintetében (eFt) | C25: Rendelkezésre álló források számszerűsített értéke a teljes ütem tekintetében (eFt) | D25: Rendelkezésre álló források megnevezése
A26: I. ütem | B26: =O23 -> 0 | C26: 0 | D26: Fejlesztési díj (2025)
A27: II. ütem | B27: =SUM(P23:S23) -> 0 | C27: =C26*4 -> 0 | D27: Fejlesztési díj (2026-2029)
A28: III. ütem | B28: =SUM(T23:AC23) -> 0 | C28: =C26*10 -> 0 | D28: Fejlesztési díj (2030-2039)

Sheet Hagyárosbörönd
A1: Gördülő fejlesztési terv a 2025 - 2039 időszakra
A2: BERUHÁZÁSOK ÖSSZEFOGLALÓ TÁBLÁZATA
A3: A tervet benyújtó szervezet megnevezése: | K3: HAGYÁROSBÖRÖND | R3: ellátásért felelős / ellátásért felelősök képviselője / víziközmű-szolgáltató *
A4: Víziközmű-szolgáltató megnevezése: | K4: ÉSZAK ZALAI VÍZ- ÉS CSATORNAMŰ ZÁRTKÖRŰEN MŰKÖDŐ RÉSZVÉNYTÁRSASÁG
A5: Víziközmű-szolgáltatási ágazat megnevezése: | K5: SZENNYVÍZ ÁGAZAT
A6: Véleményeltérést megfogalmazó érintett fél megnevezése:
A7: Víziközmű-rendszer kódja: ** | K7: 21-32054-1-048-01-10 | R7: Zalaegerszeg-SZV
A8: V. Szennyvízelvezetés
A9: Fontossági sorrend | B9: Beruházás megnevezése | E9: Műszaki állapot felmérés, szükségességi indoklás | H9: Vízjogi létesítési/elvi engedély száma | I9: Az érintett ellátásért felelős(ök) megnevezése | J9: Tervezett nettó költség | K9: Forrás 2025 évre | L9: Megvalósítás időtartama | N9: Tervezett időtáv | O9: A beruházás ütemezése a tervezési időszak évei szerint
E10: Jelenlegi műszaki állapot | F10: Feladat szükségessége | G10: Megvalósítást követő várható műszaki állapot | J10: (eFt) | L10: Kezdés | M10: Befejezés | N10: (rövid / közép / hosszú) | O10: 1 | P10: 2 | Q10: 3 | R10: 4 | S10: 5 | T10: 6 | U10: 7 | V10: 8 | W10: 9 | X10: 10 | Y10: 11 | Z10: 12 | AA10: 13 | AB10: 14 | AC10: 15
B11: szakág | C11: Helyszín | D11: beruházás megnevezése
B13: SZENNYVÍZCSATORNA (GRAVITÁCIÓS)
B14: Épület, építmény
B16: SZENNYVÍZVEZETÉKEK (KÉNYSZERÁRAMOLTATÁSÚ)
B18: SZENNYVÍZÁTEMELŐK
B19: Épület, építmény
B20: Gép, berendezés
B21: Irányítástechnika, energiaellátás
B23: Összesen: | J23: =SUM(J13:J22) -> 0 | K23: 0 | O23: =SUM(O12:O22) -> 0 | P23: =SUM(P12:P22) -> 0 | Q23: =SUM(Q12:Q22) -> 0 | R23: =SUM(R12:R22) -> 0 | S23: =SUM(S12:S22) -> 0 | T23: =SUM(T12:T22) -> 0 | U23: =SUM(U12:U22) -> 0 | V23: =SUM(V12:V22) -> 0 | ... AC23: =SUM(AC12:AC22) -> 0
K24: Jelenleg beruházási igény nem ismert, nincs rendelkezésre álló forrás beruházásra.
B25: Tervezett feladatok nettó költsége a teljes ütem tekintetében (eFt) | C25: Rendelkezésre álló források számszerűsített értéke a teljes ütem tekintetében (eFt) | D25: Rendelkezésre álló források megnevezése
A26: I. ütem | B26: =O23 -> 0 | C26: 0 | D26: Fejlesztési díj (2025)
A27: II. ütem | B27: =SUM(P23:S23) -> 0 | C27: =C26*4 -> 0 | D27: Fejlesztési díj (2026-2029)
A28: III. ütem | B28: =SUM(T23:AC23) -> 0 | C28: =C26*10 -> 0 | D28: Fejlesztési díj (2030-2039)

Sheet Hottó
A1: Gördülő fejlesztési terv a 2025 - 2039 időszakra
A2: BERUHÁZÁSOK ÖSSZEFOGLALÓ TÁBLÁZATA
A3: A tervet benyújtó szervezet megnevezése: | K3: HOTTÓ | R3: ellátásért felelős / ellátásért felelősök képviselője / víziközmű-szolgáltató *
A4: Víziközmű-szolgáltató megnevezése: | K4: ÉSZAK ZALAI VÍZ- ÉS CSATORNAMŰ ZÁRTKÖRŰEN MŰKÖDŐ RÉSZVÉNYTÁRSASÁG
A5: Víziközmű-szolgáltatási ágazat megnevezése: | K5: SZENNYVÍZ ÁGAZAT
A6: Véleményeltérést megfogalmazó érintett fél megnevezése:
A7: Víziközmű-rendszer kódja: ** | K7: 21-32054-1-048-01-10 | R7: Zalaegerszeg-SZV
A8: V. Szennyvízelvezetés
A9: Fontossági sorrend | B9: Beruházás megnevezése | E9: Műszaki állapot felmérés, szükségességi indoklás | H9: Vízjogi létesítési/elvi engedély száma | I9: Az érintett ellátásért felelős(ök) megnevezése | J9: Tervezett nettó költség | K9: Forrás 2025 évre | L9: Megvalósítás időtartama | N9: Tervezett időtáv | O9: A beruházás ütemezése a tervezési időszak évei szerint
E10: Jelenlegi műszaki állapot | F10: Feladat szükségessége | G10: Megvalósítást követő várható műszaki állapot | J10: (eFt) | L10: Kezdés | M10: Befejezés | N10: (rövid / közép / hosszú) | O10: 1 | P10: 2 | Q10: 3 | R10: 4 | S10: 5 | T10: 6 | U10: 7 | V10: 8 | W10: 9 | X10: 10 | Y10: 11 | Z10: 12 | AA10: 13 | AB10: 14 | AC10: 15
B11: szakág | C11: Helyszín | D11: beruházás megnevezése
B13: SZENNYVÍZCSATORNA (GRAVITÁCIÓS)
B14: Épület, építmény
B16: SZENNYVÍZVEZETÉKEK (KÉNYSZERÁRAMOLTATÁSÚ)
B18: SZENNYVÍZÁTEMELŐK
B19: Épület, építmény
B20: Gép, berendezés
B21: Irányítástechnika, energiaellátás
B23: Összesen: | J23: =SUM(J13:J22) -> 0 | K23: 0 | O23: =SUM(O12:O22) -> 0 | P23: =SUM(P12:P22) -> 0 | Q23: =SUM(Q12:Q22) -> 0 | R23: =SUM(R12:R22) -> 0 | S23: =SUM(S12:S22) -> 0 | T23: =SUM(T12:T22) -> 0 | U23: =SUM(U12:U22) -> 0 | V23: =SUM(V12:V22) -> 0 | ... AC23: =SUM(AC12:AC22) -> 0
K24: Jelenleg beruházási igény nem ismert, nincs rendelkezésre álló forrás beruházásra.
B25: Tervezett feladatok nettó költsége a teljes ütem tekintetében (eFt) | C25: Rendelkezésre álló források számszerűsített értéke a teljes ütem tekintetében (eFt) | D25: Rendelkezésre álló források megnevezése
A26: I. ütem | B26: =O23 -> 0 | C26: 0 | D26: Fejlesztési díj (2025)
A27: II. ütem | B27: =SUM(P23:S23) -> 0 | C27: =C26*4 -> 0 | D27: Fejlesztési díj (2026-2029)
A28: III. ütem | B28: =SUM(T23:AC23) -> 0 | C28: =C26*10 -> 0 | D28: Fejlesztési díj (2030-2039)

Sheet Kávás
A1: Gördülő fejlesztési terv a 2025 - 2039 időszakra
A2: BERUHÁZÁSOK ÖSSZEFOGLALÓ TÁBLÁZATA
A3: A tervet benyújtó szervezet megnevezése: | K3: KÁVÁS | R3: ellátásért felelős / ellátásért felelősök képviselője / víziközmű-szolgáltató *
A4: Víziközmű-szolgáltató megnevezése: | K4: ÉSZAK ZALAI VÍZ- ÉS CSATORNAMŰ ZÁRTKÖRŰEN MŰKÖDŐ RÉSZVÉNYTÁRSASÁG
A5: Víziközmű-szolgáltatási ágazat megnevezése: | K5: SZENNYVÍZ ÁGAZAT
A6: Véleményeltérést megfogalmazó érintett fél megnevezése:
A7: Víziközmű-rendszer kódja: ** | K7: 21-32054-1-048-01-10 | R7: Zalaegerszeg-SZV
A8: V. Szennyvízelvezetés
A9: Fontossági sorrend | B9: Beruházás megnevezése | E9: Műszaki állapot felmérés, szükségességi indoklás | H9: Vízjogi létesítési/elvi engedély száma | I9: Az érintett ellátásért felelős(ök) megnevezése | J9: Tervezett nettó költség | K9: Forrás 2025 évre | L9: Megvalósítás időtartama | N9: Tervezett időtáv | O9: A beruházás ütemezése a tervezési időszak évei szerint
E10: Jelenlegi műszaki állapot | F10: Feladat szükségessége | G10: Megvalósítást követő várható műszaki állapot | J10: (eFt) | L10: Kezdés | M10: Befejezés | N10: (rövid / közép / hosszú) | O10: 1 | P10: 2 | Q10: 3 | R10: 4 | S10: 5 | T10: 6 | U10: 7 | V10: 8 | W10: 9 | X10: 10 | Y10: 11 | Z10: 12 | AA10: 13 | AB10: 14 | AC10: 15
B11: szakág | C11: Helyszín | D11: beruházás megnevezése
B13: SZENNYVÍZCSATORNA (GRAVITÁCIÓS)
B14: Épület, építmény
B16: SZENNYVÍZVEZETÉKEK (KÉNYSZERÁRAMOLTATÁSÚ)
B18: SZENNYVÍZÁTEMELŐK
B19: Épület, építmény
B20: Gép, berendezés
B21: Irányítástechnika, energiaellátás
B23: Összesen: | J23: =SUM(J13:J22) -> 0 | K23: 0 | O23: =SUM(O12:O22) -> 0 | P23: =SUM(P12:P22) -> 0 | Q23: =SUM(Q12:Q22) -> 0 | R23: =SUM(R12:R22) -> 0 | S23: =SUM(S12:S22) -> 0 | T23: =SUM(T12:T22) -> 0 | U23: =SUM(U12:U22) -> 0 | V23: =SUM(V12:V22) -> 0 | ... AC23: =SUM(AC12:AC22) -> 0
K24: Jelenleg beruházási igény nem ismert, nincs rendelkezésre álló forrás beruházásra.
B25: Tervezett feladatok nettó költsége a teljes ütem tekintetében (eFt) | C25: Rendelkezésre álló források számszerűsített értéke a teljes ütem tekintetében (eFt) | D25: Rendelkezésre álló források megnevezése
A26: I. ütem | B26: =O23 -> 0 | C26: 0 | D26: Fejlesztési díj (2025)
A27: II. ütem | B27: =SUM(P23:S23) -> 0 | C27: =C26*4 -> 0 | D27: Fejlesztési díj (2026-2029)
A28: III. ütem | B28: =SUM(T23:AC23) -> 0 | C28: =C26*10 -> 0 | D28: Fejlesztési díj (2030-2039)

Sheet Kemendollár
A1: Gördülő fejlesztési terv a 2025 - 2039 időszakra
A2: BERUHÁZÁSOK ÖSSZEFOGLALÓ TÁBLÁZATA
A3: A tervet benyújtó szervezet megnevezése: | K3: KEMENDOLLÁR | R3: ellátásért felelős / ellátásért felelősök képviselője / víziközmű-szolgáltató *
A4: Víziközmű-szolgáltató megnevezése: | K4: ÉSZAK ZALAI VÍZ- ÉS CSATORNAMŰ ZÁRTKÖRŰEN MŰKÖDŐ RÉSZVÉNYTÁRSASÁG
A5: Víziközmű-szolgáltatási ágazat megnevezése: | K5: SZENNYVÍZ ÁGAZAT
A6: Véleményeltérést megfogalmazó érintett fél megnevezése:
A7: Víziközmű-rendszer kódja: ** | K7: 21-32054-1-048-01-10 | R7: Zalaegerszeg-SZV
A8: V. Szennyvízelvezetés
A9: Fontossági sorrend | B9: Beruházás megnevezése | E9: Műszaki állapot felmérés, szükségességi indoklás | H9: Vízjogi létesítési/elvi engedély száma | I9: Az érintett ellátásért felelős(ök) megnevezése | J9: Tervezett nettó költség | K9: Forrás 2025 évre | L9: Megvalósítás időtartama | N9: Tervezett időtáv | O9: A beruházás ütemezése a tervezési időszak évei szerint
E10: Jelenlegi műszaki állapot | F10: Feladat szükségessége | G10: Megvalósítást követő várható műszaki állapot | J10: (eFt) | L10: Kezdés | M10: Befejezés | N10: (rövid / közép / hosszú) | O10: 1 | P10: 2 | Q10: 3 | R10: 4 | S10: 5 | T10: 6 | U10: 7 | V10: 8 | W10: 9 | X10: 10 | Y10: 11 | Z10: 12 | AA10: 13 | AB10: 14 | AC10: 15
B11: szakág | C11: Helyszín | D11: beruházás megnevezése
B13: SZENNYVÍZCSATORNA (GRAVITÁCIÓS)
B14: Épület, építmény
B16: SZENNYVÍZVEZETÉKEK (KÉNYSZERÁRAMOLTATÁSÚ)
B18: SZENNYVÍZÁTEMELŐK
B19: Épület, építmény
B20: Gép, berendezés
B21: Irányítástechnika, energiaellátás
B23: Összesen: | J23: =SUM(J13:J22) -> 0 | K23: 0 | O23: =SUM(O12:O22) -> 0 | P23: =SUM(P12:P22) -> 0 | Q23: =SUM(Q12:Q22) -> 0 | R23: =SUM(R12:R22) -> 0 | S23: =SUM(S12:S22) -> 0 | T23: =SUM(T12:T22) -> 0 | U23: =SUM(U12:U22) -> 0 | V23: =SUM(V12:V22) -> 0 | ... AC23: =SUM(AC12:AC22) -> 0
K24: Jelenleg beruházási igény nem ismert, nincs rendelkezésre álló forrás beruházásra.
B25: Tervezett feladatok nettó költsége a teljes ütem tekintetében (eFt) | C25: Rendelkezésre álló források számszerűsített értéke a teljes ütem tekintetében (eFt) | D25: Rendelkezésre álló források megnevezése
A26: I. ütem | B26: =O23 -> 0 | C26: 0 | D26: Fejlesztési díj (2025)
A27: II. ütem | B27: =SUM(P23:S23) -> 0 | C27: =C26*4 -> 0 | D27: Fejlesztési díj (2026-2029)
A28: III. ütem | B28: =SUM(T23:AC23) -> 0 | C28: =C26*10 -> 0 | D28: Fejlesztési díj (2030-2039)

Sheet Keménfa
A1: Gördülő fejlesztési terv a 2025 - 2039 időszakra
A2: BERUHÁZÁSOK ÖSSZEFOGLALÓ TÁBLÁZATA
A3: A tervet benyújtó szervezet megnevezése: | K3: KEMÉNFA | R3: ellátásért felelős / ellátásért felelősök képviselője / víziközmű-szolgáltató *
A4: Víziközmű-szolgáltató megnevezése: | K4: ÉSZAK ZALAI VÍZ- ÉS CSATORNAMŰ ZÁRTKÖRŰEN MŰKÖDŐ RÉSZVÉNYTÁRSASÁG
A5: Víziközmű-szolgáltatási ágazat megnevezése: | K5: SZENNYVÍZ ÁGAZAT
A6: Véleményeltérést megfogalmazó érintett fél megnevezése:
A7: Víziközmű-rendszer kódja: ** | K7: 21-32054-1-048-01-10 | R7: Zalaegerszeg-SZV
A8: V. Szennyvízelvezetés
A9: Fontossági sorrend | B9: Beruházás megnevezése | E9: Műszaki állapot felmérés, szükségességi indoklás | H9: Vízjogi létesítési/elvi engedély száma | I9: Az érintett ellátásért felelős(ök) megnevezése | J9: Tervezett nettó költség | K9: Forrás 2025 évre | L9: Megvalósítás időtartama | N9: Tervezett időtáv | O9: A beruházás ütemezése a tervezési időszak évei szerint
E10: Jelenlegi műszaki állapot | F10: Feladat szükségessége | G10: Megvalósítást követő várható műszaki állapot | J10: (eFt) | L10: Kezdés | M10: Befejezés | N10: (rövid / közép / hosszú) | O10: 1 | P10: 2 | Q10: 3 | R10: 4 | S10: 5 | T10: 6 | U10: 7 | V10: 8 | W10: 9 | X10: 10 | Y10: 11 | Z10: 12 | AA10: 13 | AB10: 14 | AC10: 15
B11: szakág | C11: Helyszín | D11: beruházás megnevezése
B13: SZENNYVÍZCSATORNA (GRAVITÁCIÓS)
B14: Épület, építmény
B16: SZENNYVÍZVEZETÉKEK (KÉNYSZERÁRAMOLTATÁSÚ)
B18: SZENNYVÍZÁTEMELŐK
B19: Épület, építmény
B20: Gép, berendezés
B21: Irányítástechnika, energiaellátás
B23: Összesen: | J23: =SUM(J13:J22) -> 0 | K23: 0 | O23: =SUM(O12:O22) -> 0 | P23: =SUM(P12:P22) -> 0 | Q23: =SUM(Q12:Q22) -> 0 | R23: =SUM(R12:R22) -> 0 | S23: =SUM(S12:S22) -> 0 | T23: =SUM(T12:T22) -> 0 | U23: =SUM(U12:U22) -> 0 | V23: =SUM(V12:V22) -> 0 | ... AC23: =SUM(AC12:AC22) -> 0
K24: Jelenleg beruházási igény nem ismert, nincs rendelkezésre álló forrás beruházásra.
B25: Tervezett feladatok nettó költsége a teljes ütem tekintetében (eFt) | C25: Rendelkezésre álló források számszerűsített értéke a teljes ütem tekintetében (eFt) | D25: Rendelkezésre álló források megnevezése
A26: I. ütem | B26: =O23 -> 0 | C26: 0 | D26: Fejlesztési díj (2025)
A27: II. ütem | B27: =SUM(P23:S23) -> 0 | C27: =C26*4 -> 0 | D27: Fejlesztési díj (2026-2029)
A28: III. ütem | B28: =SUM(T23:AC23) -> 0 | C28: =C26*10 -> 0 | D28: Fejlesztési díj (2030-2039)

Sheet Kisbucsa
A1: Gördülő fejlesztési terv a 2025 - 2039 időszakra
A2: BERUHÁZÁSOK ÖSSZEFOGLALÓ TÁBLÁZATA
A3: A tervet benyújtó szervezet megnevezése: | K3: KISBUCSA | R3: ellátásért felelős / ellátásért felelősök képviselője / víziközmű-szolgáltató *
A4: Víziközmű-szolgáltató megnevezése: | K4: ÉSZAK ZALAI VÍZ- ÉS CSATORNAMŰ ZÁRTKÖRŰEN MŰKÖDŐ RÉSZVÉNYTÁRSASÁG
A5: Víziközmű-szolgáltatási ágazat megnevezése: | K5: SZENNYVÍZ ÁGAZAT
A6: Véleményeltérést megfogalmazó érintett fél megnevezése:
A7: Víziközmű-rendszer kódja: ** | K7: 21-32054-1-048-01-10 | R7: Zalaegerszeg-SZV
A8: V. Szennyvízelvezetés
A9: Fontossági sorrend | B9: Beruházás megnevezése | E9: Műszaki állapot felmérés, szükségességi indoklás | H9: Vízjogi létesítési/elvi engedély száma | I9: Az érintett ellátásért felelős(ök) megnevezése | J9: Tervezett nettó költség | K9: Forrás 2025 évre | L9: Megvalósítás időtartama | N9: Tervezett időtáv | O9: A beruházás ütemezése a tervezési időszak évei szerint
E10: Jelenlegi műszaki állapot | F10: Feladat szükségessége | G10: Megvalósítást követő várható műszaki állapot | J10: (eFt) | L10: Kezdés | M10: Befejezés | N10: (rövid / közép / hosszú) | O10: 1 | P10: 2 | Q10: 3 | R10: 4 | S10: 5 | T10: 6 | U10: 7 | V10: 8 | W10: 9 | X10: 10 | Y10: 11 | Z10: 12 | AA10: 13 | AB10: 14 | AC10: 15
B11: szakág | C11: Helyszín | D11: beruházás megnevezése
B13: SZENNYVÍZCSATORNA (GRAVITÁCIÓS)
B14: Épület, építmény
B16: SZENNYVÍZVEZETÉKEK (KÉNYSZERÁRAMOLTATÁSÚ)
B18: SZENNYVÍZÁTEMELŐK
B19: Épület, építmény
B20: Gép, berendezés
B21: Irányítástechnika, energiaellátás
B23: Összesen: | J23: =SUM(J13:J22) -> 0 | K23: 0 | O23: =SUM(O12:O22) -> 0 | P23: =SUM(P12:P22) -> 0 | Q23: =SUM(Q12:Q22) -> 0 | R23: =SUM(R12:R22) -> 0 | S23: =SUM(S12:S22) -> 0 | T23: =SUM(T12:T22) -> 0 | U23: =SUM(U12:U22) -> 0 | V23: =SUM(V12:V22) -> 0 | ... AC23: =SUM(AC12:AC22) -> 0
K24: Jelenleg beruházási igény nem ismert, nincs rendelkezésre álló forrás beruházásra.
B25: Tervezett feladatok nettó költsége a teljes ütem tekintetében (eFt) | C25: Rendelkezésre álló források számszerűsített értéke a teljes ütem tekintetében (eFt) | D25: Rendelkezésre álló források megnevezése
A26: I. ütem | B26: =O23 -> 0 | C26: 0 | D26: Fejlesztési díj (2025)
A27: II. ütem | B27: =SUM(P23:S23) -> 0 | C27: =C26*4 -> 0 | D27: Fejlesztési díj (2026-2029)
A28: III. ütem | B28: =SUM(T23:AC23) -> 0 | C28: =C26*10 -> 0 | D28: Fejlesztési díj (2030-2039)

Sheet Kiskutas
A1: Gördülő fejlesztési terv a 2025 - 2039 időszakra
A2: BERUHÁZÁSOK ÖSSZEFOGLALÓ TÁBLÁZATA
A3: A tervet benyújtó szervezet megnevezése: | K3: KISKUTAS | R3: ellátásért felelős / ellátásért felelősök képviselője / víziközmű-szolgáltató *
A4: Víziközmű-szolgáltató megnevezése: | K4: ÉSZAK ZALAI VÍZ- ÉS CSATORNAMŰ ZÁRTKÖRŰEN MŰKÖDŐ RÉSZVÉNYTÁRSASÁG
A5: Víziközmű-szolgáltatási ágazat megnevezése: | K5: SZENNYVÍZ ÁGAZAT
A6: Véleményeltérést megfogalmazó érintett fél megnevezése:
A7: Víziközmű-rendszer kódja: ** | K7: 21-32054-1-048-01-10 | R7: Zalaegerszeg-SZV
A8: V. Szennyvízelvezetés
A9: Fontossági sorrend | B9: Beruházás megnevezése | E9: Műszaki állapot felmérés, szükségességi indoklás | H9: Vízjogi létesítési/elvi engedély száma | I9: Az érintett ellátásért felelős(ök) megnevezése | J9: Tervezett nettó költség | K9: Forrás 2025 évre | L9: Megvalósítás időtartama | N9: Tervezett időtáv | O9: A beruházás ütemezése a tervezési időszak évei szerint
E10: Jelenlegi műszaki állapot | F10: Feladat szükségessége | G10: Megvalósítást követő várható műszaki állapot | J10: (eFt) | L10: Kezdés | M10: Befejezés | N10: (rövid / közép / hosszú) | O10: 1 | P10: 2 | Q10: 3 | R10: 4 | S10: 5 | T10: 6 | U10: 7 | V10: 8 | W10: 9 | X10: 10 | Y10: 11 | Z10: 12 | AA10: 13 | AB10: 14 | AC10: 15
B11: szakág | C11: Helyszín | D11: beruházás megnevezése
B13: SZENNYVÍZCSATORNA (GRAVITÁCIÓS)
B14: Épület, építmény
B16: SZENNYVÍZVEZETÉKEK (KÉNYSZERÁRAMOLTATÁSÚ)
B18: SZENNYVÍZÁTEMELŐK
B19: Épület, építmény
B20: Gép, berendezés
B21: Irányítástechnika, energiaellátás
B23: Összesen: | J23: =SUM(J13:J22) -> 0 | K23: 0 | O23: =SUM(O12:O22) -> 0 | P23: =SUM(P12:P22) -> 0 | Q23: =SUM(Q12:Q22) -> 0 | R23: =SUM(R12:R22) -> 0 | S23: =SUM(S12:S22) -> 0 | T23: =SUM(T12:T22) -> 0 | U23: =SUM(U12:U22) -> 0 | V23: =SUM(V12:V22) -> 0 | ... AC23: =SUM(AC12:AC22) -> 0
K24: Jelenleg beruházási igény nem ismert, nincs rendelkezésre álló forrás beruházásra.
B25: Tervezett feladatok nettó költsége a teljes ütem tekintetében (eFt) | C25: Rendelkezésre álló források számszerűsített értéke a teljes ütem tekintetében (eFt) | D25: Rendelkezésre álló források megnevezése
A26: I. ütem | B26: =O23 -> 0 | C26: 0 | D26: Fejlesztési díj (2025)
A27: II. ütem | B27: =SUM(P23:S23) -> 0 | C27: =C26*4 -> 0 | D27: Fejlesztési díj (2026-2029)
A28: III. ütem | B28: =SUM(T23:AC23) -> 0 | C28: =C26*10 -> 0 | D28: Fejlesztési díj (2030-2039)

Sheet Kispáli
A1: Gördülő fejlesztési terv a 2025 - 2039 időszakra
A2: BERUHÁZÁSOK ÖSSZEFOGLALÓ TÁBLÁZATA
A3: A tervet benyújtó szervezet megnevezése: | K3: KISPÁLI | R3: ellátásért felelős / ellátásért felelősök képviselője / víziközmű-szolgáltató *
A4: Víziközmű-szolgáltató megnevezése: | K4: ÉSZAK ZALAI VÍZ- ÉS CSATORNAMŰ ZÁRTKÖRŰEN MŰKÖDŐ RÉSZVÉNYTÁRSASÁG
A5: Víziközmű-szolgáltatási ágazat megnevezése: | K5: SZENNYVÍZ ÁGAZAT
A6: Véleményeltérést megfogalmazó érintett fél megnevezése:
A7: Víziközmű-rendszer kódja: ** | K7: 21-32054-1-048-01-10 | R7: Zalaegerszeg-SZV
A8: V. Szennyvízelvezetés
A9: Fontossági sorrend | B9: Beruházás megnevezése | E9: Műszaki állapot felmérés, szükségességi indoklás | H9: Vízjogi létesítési/elvi engedély száma | I9: Az érintett ellátásért felelős(ök) megnevezése | J9: Tervezett nettó költség | K9: Forrás 2025 évre | L9: Megvalósítás időtartama | N9: Tervezett időtáv | O9: A beruházás ütemezése a tervezési időszak évei szerint
E10: Jelenlegi műszaki állapot | F10: Feladat szükségessége | G10: Megvalósítást követő várható műszaki állapot | J10: (eFt) | L10: Kezdés | M10: Befejezés | N10: (rövid / közép / hosszú) | O10: 1 | P10: 2 | Q10: 3 | R10: 4 | S10: 5 | T10: 6 | U10: 7 | V10: 8 | W10: 9 | X10: 10 | Y10: 11 | Z10: 12 | AA10: 13 | AB10: 14 | AC10: 15
B11: szakág | C11: Helyszín | D11: beruházás megnevezése
B13: SZENNYVÍZCSATORNA (GRAVITÁCIÓS)
B14: Épület, építmény
B16: SZENNYVÍZVEZETÉKEK (KÉNYSZERÁRAMOLTATÁSÚ)
B18: SZENNYVÍZÁTEMELŐK
B19: Épület, építmény
B20: Gép, berendezés
B21: Irányítástechnika, energiaellátás
B23: Összesen: | J23: =SUM(J13:J22) -> 0 | K23: 0 | O23: =SUM(O12:O22) -> 0 | P23: =SUM(P12:P22) -> 0 | Q23: =SUM(Q12:Q22) -> 0 | R23: =SUM(R12:R22) -> 0 | S23: =SUM(S12:S22) -> 0 | T23: =SUM(T12:T22) -> 0 | U23: =SUM(U12:U22) -> 0 | V23: =SUM(V12:V22) -> 0 | ... AC23: =SUM(AC12:AC22) -> 0
K24: Jelenleg beruházási igény nem ismert, nincs rendelkezésre álló forrás beruházásra.
B25: Tervezett feladatok nettó költsége a teljes ütem tekintetében (eFt) | C25: Rendelkezésre álló források számszerűsített értéke a teljes ütem tekintetében (eFt) | D25: Rendelkezésre álló források megnevezése
A26: I. ütem | B26: =O23 -> 0 | C26: 0 | D26: Fejlesztési díj (2025)
A27: II. ütem | B27: =SUM(P23:S23) -> 0 | C27: =C26*4 -> 0 | D27: Fejlesztési díj (2026-2029)
A28: III. ütem | B28: =SUM(T23:AC23) -> 0 | C28: =C26*10 -> 0 | D28: Fejlesztési díj (2030-2039)

Sheet Lakhegy
A1: Gördülő fejlesztési terv a 2025 - 2039 időszakra
A2: BERUHÁZÁSOK ÖSSZEFOGLALÓ TÁBLÁZATA
A3: A tervet benyújtó szervezet megnevezése: | K3: LAKHEGY | R3: ellátásért felelős / ellátásért felelősök képviselője / víziközmű-szolgáltató *
A4: Víziközmű-szolgáltató megnevezése: | K4: ÉSZAK ZALAI VÍZ- ÉS CSATORNAMŰ ZÁRTKÖRŰEN MŰKÖDŐ RÉSZVÉNYTÁRSASÁG
A5: Víziközmű-szolgáltatási ágazat megnevezése: | K5: SZENNYVÍZ ÁGAZAT
A6: Véleményeltérést megfogalmazó érintett fél megnevezése:
A7: Víziközmű-rendszer kódja: ** | K7: 21-32054-1-048-01-10 | R7: Zalaegerszeg-SZV
A8: V. Szennyvízelvezetés
A9: Fontossági sorrend | B9: Beruházás megnevezése | E9: Műszaki állapot felmérés, szükségességi indoklás | H9: Vízjogi létesítési/elvi engedély száma | I9: Az érintett ellátásért felelős(ök) megnevezése | J9: Tervezett nettó költség | K9: Forrás 2025 évre | L9: Megvalósítás időtartama | N9: Tervezett időtáv | O9: A beruházás ütemezése a tervezési időszak évei szerint
E10: Jelenlegi műszaki állapot | F10: Feladat szükségessége | G10: Megvalósítást követő várható műszaki állapot | J10: (eFt) | L10: Kezdés | M10: Befejezés | N10: (rövid / közép / hosszú) | O10: 1 | P10: 2 | Q10: 3 | R10: 4 | S10: 5 | T10: 6 | U10: 7 | V10: 8 | W10: 9 | X10: 10 | Y10: 11 | Z10: 12 | AA10: 13 | AB10: 14 | AC10: 15
B11: szakág | C11: Helyszín | D11: beruházás megnevezése
B13: SZENNYVÍZCSATORNA (GRAVITÁCIÓS)
B14: Épület, építmény
B16: SZENNYVÍZVEZETÉKEK (KÉNYSZERÁRAMOLTATÁSÚ)
B18: SZENNYVÍZÁTEMELŐK
B19: Épület, építmény
B20: Gép, berendezés
B21: Irányítástechnika, energiaellátás
B23: Összesen: | J23: =SUM(J13:J22) -> 0 | K23: 0 | O23: =SUM(O12:O22) -> 0 | P23: =SUM(P12:P22) -> 0 | Q23: =SUM(Q12:Q22) -> 0 | R23: =SUM(R12:R22) -> 0 | S23: =SUM(S12:S22) -> 0 | T23: =SUM(T12:T22) -> 0 | U23: =SUM(U12:U22) -> 0 | V23: =SUM(V12:V22) -> 0 | ... AC23: =SUM(AC12:AC22) -> 0
K24: Jelenleg beruházási igény nem ismert, nincs rendelkezésre álló forrás beruházásra.
B25: Tervezett feladatok nettó költsége a teljes ütem tekintetében (eFt) | C25: Rendelkezésre álló források számszerűsített értéke a teljes ütem tekintetében (eFt) | D25: Rendelkezésre álló források megnevezése
A26: I. ütem | B26: =O23 -> 0 | C26: 0 | D26: Fejlesztési díj (2025)
A27: II. ütem | B27: =SUM(P23:S23) -> 0 | C27: =C26*4 -> 0 | D27: Fejlesztési díj (2026-2029)
A28: III. ütem | B28: =SUM(T23:AC23) -> 0 | C28: =C26*10 -> 0 | D28: Fejlesztési díj (2030-2039)

Sheet Nagykutas
A1: Gördülő fejlesztési terv a 2025 - 2039 időszakra
A2: BERUHÁZÁSOK ÖSSZEFOGLALÓ TÁBLÁZATA
A3: A tervet benyújtó szervezet megnevezése: | K3: NAGYKUTAS | R3: ellátásért felelős / ellátásért felelősök képviselője / víziközmű-szolgáltató *
A4: Víziközmű-szolgáltató megnevezése: | K4: ÉSZAK ZALAI VÍZ- ÉS CSATORNAMŰ ZÁRTKÖRŰEN MŰKÖDŐ RÉSZVÉNYTÁRSASÁG
A5: Víziközmű-szolgáltatási ágazat megnevezése: | K5: SZENNYVÍZ ÁGAZAT
A6: Véleményeltérést megfogalmazó érintett fél megnevezése:
A7: Víziközmű-rendszer kódja: ** | K7: 21-32054-1-048-01-10 | R7: Zalaegerszeg-SZV
A8: V. Szennyvízelvezetés
A9: Fontossági sorrend | B9: Beruházás megnevezése | E9: Műszaki állapot felmérés, szükségességi indoklás | H9: Vízjogi létesítési/elvi engedély száma | I9: Az érintett ellátásért felelős(ök) megnevezése | J9: Tervezett nettó költség | K9: Forrás 2025 évre | L9: Megvalósítás időtartama | N9: Tervezett időtáv | O9: A beruházás ütemezése a tervezési időszak évei szerint
E10: Jelenlegi műszaki állapot | F10: Feladat szükségessége | G10: Megvalósítást követő várható műszaki állapot | J10: (eFt) | L10: Kezdés | M10: Befejezés | N10: (rövid / közép / hosszú) | O10: 1 | P10: 2 | Q10: 3 | R10: 4 | S10: 5 | T10: 6 | U10: 7 | V10: 8 | W10: 9 | X10: 10 | Y10: 11 | Z10: 12 | AA10: 13 | AB10: 14 | AC10: 15
B11: szakág | C11: Helyszín | D11: beruházás megnevezése
B13: SZENNYVÍZCSATORNA (GRAVITÁCIÓS)
B14: Épület, építmény
B16: SZENNYVÍZVEZETÉKEK (KÉNYSZERÁRAMOLTATÁSÚ)
B18: SZENNYVÍZÁTEMELŐK
B19: Épület, építmény
B20: Gép, berendezés
B21: Irányítástechnika, energiaellátás
B23: Összesen: | J23: =SUM(J13:J22) -> 0 | K23: 0 | O23: =SUM(O12:O22) -> 0 | P23: =SUM(P12:P22) -> 0 | Q23: =SUM(Q12:Q22) -> 0 | R23: =SUM(R12:R22) -> 0 | S23: =SUM(S12:S22) -> 0 | T23: =SUM(T12:T22) -> 0 | U23: =SUM(U12:U22) -> 0 | V23: =SUM(V12:V22) -> 0 | ... AC23: =SUM(AC12:AC22) -> 0
K24: Jelenleg beruházási igény nem ismert, nincs rendelkezésre álló forrás beruházásra.
B25: Tervezett feladatok nettó költsége a teljes ütem tekintetében (eFt) | C25: Rendelkezésre álló források számszerűsített értéke a teljes ütem tekintetében (eFt) | D25: Rendelkezésre álló források megnevezése
A26: I. ütem | B26: =O23 -> 0 | C26: 0 | D26: Fejlesztési díj (2025)
A27: II. ütem | B27: =SUM(P23:S23) -> 0 | C27: =C26*4 -> 0 | D27: Fejlesztési díj (2026-2029)
A28: III. ütem | B28: =SUM(T23:AC23) -> 0 | C28: =C26*10 -> 0 | D28: Fejlesztési díj (2030-2039)

Sheet Nagypáli
A1: Gördülő fejlesztési terv a 2025 - 2039 időszakra
A2: BERUHÁZÁSOK ÖSSZEFOGLALÓ TÁBLÁZATA
A3: A tervet benyújtó szervezet megnevezése: | K3: NAGYPÁLI | R3: ellátásért felelős / ellátásért felelősök képviselője / víziközmű-szolgáltató *
A4: Víziközmű-szolgáltató megnevezése: | K4: ÉSZAK ZALAI VÍZ- ÉS CSATORNAMŰ ZÁRTKÖRŰEN MŰKÖDŐ RÉSZVÉNYTÁRSASÁG
A5: Víziközmű-szolgáltatási ágazat megnevezése: | K5: SZENNYVÍZ ÁGAZAT
A6: Véleményeltérést megfogalmazó érintett fél megnevezése:
A7: Víziközmű-rendszer kódja: ** | K7: 21-32054-1-048-01-10 | R7: Zalaegerszeg-SZV
A8: V. Szennyvízelvezetés
A9: Fontossági sorrend | B9: Beruházás megnevezése | E9: Műszaki állapot felmérés, szükségességi indoklás | H9: Vízjogi létesítési/elvi engedély száma | I9: Az érintett ellátásért felelős(ök) megnevezése | J9: Tervezett nettó költség | K9: Forrás 2025 évre | L9: Megvalósítás időtartama | N9: Tervezett időtáv | O9: A beruházás ütemezése a tervezési időszak évei szerint
E10: Jelenlegi műszaki állapot | F10: Feladat szükségessége | G10: Megvalósítást követő várható műszaki állapot | J10: (eFt) | L10: Kezdés | M10: Befejezés | N10: (rövid / közép / hosszú) | O10: 1 | P10: 2 | Q10: 3 | R10: 4 | S10: 5 | T10: 6 | U10: 7 | V10: 8 | W10: 9 | X10: 10 | Y10: 11 | Z10: 12 | AA10: 13 | AB10: 14 | AC10: 15
B11: szakág | C11: Helyszín | D11: beruházás megnevezése
B13: SZENNYVÍZCSATORNA (GRAVITÁCIÓS)
B14: Épület, építmény
B16: SZENNYVÍZVEZETÉKEK (KÉNYSZERÁRAMOLTATÁSÚ)
B18: SZENNYVÍZÁTEMELŐK
B19: Épület, építmény
B20: Gép, berendezés
B21: Irányítástechnika, energiaellátás
B23: Összesen: | J23: =SUM(J13:J22) -> 0 | K23: 0 | O23: =SUM(O12:O22) -> 0 | P23: =SUM(P12:P22) -> 0 | Q23: =SUM(Q12:Q22) -> 0 | R23: =SUM(R12:R22) -> 0 | S23: =SUM(S12:S22) -> 0 | T23: =SUM(T12:T22) -> 0 | U23: =SUM(U12:U22) -> 0 | V23: =SUM(V12:V22) -> 0 | ... AC23: =SUM(AC12:AC22) -> 0
K24: Jelenleg beruházási igény nem ismert, nincs rendelkezésre álló forrás beruházásra.
B25: Tervezett feladatok nettó költsége a teljes ütem tekintetében (eFt) | C25: Rendelkezésre álló források számszerűsített értéke a teljes ütem tekintetében (eFt) | D25: Rendelkezésre álló források megnevezése
A26: I. ütem | B26: =O23 -> 0 | C26: 0 | D26: Fejlesztési díj (2025)
A27: II. ütem | B27: =SUM(P23:S24) -> 0 | C27: =C26*4 -> 0 | D27: Fejlesztési díj (2026-2029)
A28: III. ütem | B28: =SUM(T23:AC23) -> 0 | C28: =C26*10 -> 0 | D28: Fejlesztési díj (2030-2039)

Sheet Nemesapáti
A1: Gördülő fejlesztési terv a 2025 - 2039 időszakra
A2: BERUHÁZÁSOK ÖSSZEFOGLALÓ TÁBLÁZATA
A3: A tervet benyújtó szervezet megnevezése: | K3: NEMESAPÁTI | R3: ellátásért felelős / ellátásért felelősök képviselője / víziközmű-szolgáltató *
A4: Víziközmű-szolgáltató megnevezése: | K4: ÉSZAK ZALAI VÍZ- ÉS CSATORNAMŰ ZÁRTKÖRŰEN MŰKÖDŐ RÉSZVÉNYTÁRSASÁG
A5: Víziközmű-szolgáltatási ágazat megnevezése: | K5: SZENNYVÍZ ÁGAZAT
A6: Véleményeltérést megfogalmazó érintett fél megnevezése:
A7: Víziközmű-rendszer kódja: ** | K7: 21-32054-1-048-01-10 | R7: Zalaegerszeg-SZV
A8: V. Szennyvízelvezetés
A9: Fontossági sorrend | B9: Beruházás megnevezése | E9: Műszaki állapot felmérés, szükségességi indoklás | H9: Vízjogi létesítési/elvi engedély száma | I9: Az érintett ellátásért felelős(ök) megnevezése | J9: Tervezett nettó költség | K9: Forrás 2025 évre | L9: Megvalósítás időtartama | N9: Tervezett időtáv | O9: A beruházás ütemezése a tervezési időszak évei szerint
E10: Jelenlegi műszaki állapot | F10: Feladat szükségessége | G10: Megvalósítást követő várható műszaki állapot | J10: (eFt) | L10: Kezdés | M10: Befejezés | N10: (rövid / közép / hosszú) | O10: 1 | P10: 2 | Q10: 3 | R10: 4 | S10: 5 | T10: 6 | U10: 7 | V10: 8 | W10: 9 | X10: 10 | Y10: 11 | Z10: 12 | AA10: 13 | AB10: 14 | AC10: 15
B11: szakág | C11: Helyszín | D11: beruházás megnevezése
B13: SZENNYVÍZCSATORNA (GRAVITÁCIÓS)
B14: Épület, építmény
B16: SZENNYVÍZVEZETÉKEK (KÉNYSZERÁRAMOLTATÁSÚ)
B18: SZENNYVÍZÁTEMELŐK
B19: Épület, építmény
B20: Gép, berendezés
B21: Irányítástechnika, energiaellátás
B23: Összesen: | J23: =SUM(J13:J22) -> 0 | K23: 0 | O23: =SUM(O12:O22) -> 0 | P23: =SUM(P12:P22) -> 0 | Q23: =SUM(Q12:Q22) -> 0 | R23: =SUM(R12:R22) -> 0 | S23: =SUM(S12:S22) -> 0 | T23: =SUM(T12:T22) -> 0 | U23: =SUM(U12:U22) -> 0 | V23: =SUM(V12:V22) -> 0 | ... AC23: =SUM(AC12:AC22) -> 0
K24: Jelenleg beruházási igény nem ismert, nincs rendelkezésre álló forrás beruházásra.
B25: Tervezett feladatok nettó költsége a teljes ütem tekintetében (eFt) | C25: Rendelkezésre álló források számszerűsített értéke a teljes ütem tekintetében (eFt) | D25: Rendelkezésre álló források megnevezése
A26: I. ütem | B26: =O23 -> 0 | C26: 0 | D26: Fejlesztési díj (2025)
A27: II. ütem | B27: =SUM(P23:S23) -> 0 | C27: =C26*4 -> 0 | D27: Fejlesztési díj (2026-2029)
A28: III. ütem | B28: =SUM(T23:AC23) -> 0 | C28: =C26*10 -> 0 | D28: Fejlesztési díj (2030-2039)

Sheet Nemeshetés
A1: Gördülő fejlesztési terv a 2025 - 2039 időszakra
A2: BERUHÁZÁSOK ÖSSZEFOGLALÓ TÁBLÁZATA
A3: A tervet benyújtó szervezet megnevezése: | K3: NEMESHETÉS | R3: ellátásért felelős / ellátásért felelősök képviselője / víziközmű-szolgáltató *
A4: Víziközmű-szolgáltató megnevezése: | K4: ÉSZAK ZALAI VÍZ- ÉS CSATORNAMŰ ZÁRTKÖRŰEN MŰKÖDŐ RÉSZVÉNYTÁRSASÁG
A5: Víziközmű-szolgáltatási ágazat megnevezése: | K5: SZENNYVÍZ ÁGAZAT
A6: Véleményeltérést megfogalmazó érintett fél megnevezése:
A7: Víziközmű-rendszer kódja: ** | K7: 21-32054-1-048-01-10 | R7: Zalaegerszeg-SZV
A8: V. Szennyvízelvezetés
A9: Fontossági sorrend | B9: Beruházás megnevezése | E9: Műszaki állapot felmérés, szükségességi indoklás | H9: Vízjogi létesítési/elvi engedély száma | I9: Az érintett ellátásért felelős(ök) megnevezése | J9: Tervezett nettó költség | K9: Forrás 2025 évre | L9: Megvalósítás időtartama | N9: Tervezett időtáv | O9: A beruházás ütemezése a tervezési időszak évei szerint
E10: Jelenlegi műszaki állapot | F10: Feladat szükségessége | G10: Megvalósítást követő várható műszaki állapot | J10: (eFt) | L10: Kezdés | M10: Befejezés | N10: (rövid / közép / hosszú) | O10: 1 | P10: 2 | Q10: 3 | R10: 4 | S10: 5 | T10: 6 | U10: 7 | V10: 8 | W10: 9 | X10: 10 | Y10: 11 | Z10: 12 | AA10: 13 | AB10: 14 | AC10: 15
B11: szakág | C11: Helyszín | D11: beruházás megnevezése
B13: SZENNYVÍZCSATORNA (GRAVITÁCIÓS)
B14: Épület, építmény
B16: SZENNYVÍZVEZETÉKEK (KÉNYSZERÁRAMOLTATÁSÚ)
B18: SZENNYVÍZÁTEMELŐK
B19: Épület, építmény
B20: Gép, berendezés
B21: Irányítástechnika, energiaellátás
B23: Összesen: | J23: =SUM(J13:J22) -> 0 | K23: 0 | O23: =SUM(O12:O22) -> 0 | P23: =SUM(P12:P22) -> 0 | Q23: =SUM(Q12:Q22) -> 0 | R23: =SUM(R12:R22) -> 0 | S23: =SUM(S12:S22) -> 0 | T23: =SUM(T12:T22) -> 0 | U23: =SUM(U12:U22) -> 0 | V23: =SUM(V12:V22) -> 0 | ... AC23: =SUM(AC12:AC22) -> 0
K24: Jelenleg beruházási igény nem ismert, nincs rendelkezésre álló forrás beruházásra.
B25: Tervezett feladatok nettó költsége a teljes ütem tekintetében (eFt) | C25: Rendelkezésre álló források számszerűsített értéke a teljes ütem tekintetében (eFt) | D25: Rendelkezésre álló források megnevezése
A26: I. ütem | B26: =O23 -> 0 | C26: 0 | D26: Fejlesztési díj (2025)
A27: II. ütem | B27: =SUM(P23:S23) -> 0 | C27: =C26*4 -> 0 | D27: Fejlesztési díj (2026-2029)
A28: III. ütem | B28: =SUM(T23:AC23) -> 0 | C28: =C26*10 -> 0 | D28: Fejlesztési díj (2030-2039)

Sheet Nemesándorháza
A1: Gördülő fejlesztési terv a 2025 - 2039 időszakra
A2: BERUHÁZÁSOK ÖSSZEFOGLALÓ TÁBLÁZATA
A3: A tervet benyújtó szervezet megnevezése: | K3: NEMESSÁNDORHÁZA | R3: ellátásért felelős / ellátásért felelősök képviselője / víziközmű-szolgáltató *
A4: Víziközmű-szolgáltató megnevezése: | K4: ÉSZAK ZALAI VÍZ- ÉS CSATORNAMŰ ZÁRTKÖRŰEN MŰKÖDŐ RÉSZVÉNYTÁRSASÁG
A5: Víziközmű-szolgáltatási ágazat megnevezése: | K5: SZENNYVÍZ ÁGAZAT
A6: Véleményeltérést megfogalmazó érintett fél megnevezése:
A7: Víziközmű-rendszer kódja: ** | K7: 21-32054-1-048-01-10 | R7: Zalaegerszeg-SZV
A8: V. Szennyvízelvezetés
A9: Fontossági sorrend | B9: Beruházás megnevezése | E9: Műszaki állapot felmérés, szükségességi indoklás | H9: Vízjogi létesítési/elvi engedély száma | I9: Az érintett ellátásért felelős(ök) megnevezése | J9: Tervezett nettó költség | K9: Forrás 2025 évre | L9: Megvalósítás időtartama | N9: Tervezett időtáv | O9: A beruházás ütemezése a tervezési időszak évei szerint
E10: Jelenlegi műszaki állapot | F10: Feladat szükségessége | G10: Megvalósítást követő várható műszaki állapot | J10: (eFt) | L10: Kezdés | M10: Befejezés | N10: (rövid / közép / hosszú) | O10: 1 | P10: 2 | Q10: 3 | R10: 4 | S10: 5 | T10: 6 | U10: 7 | V10: 8 | W10: 9 | X10: 10 | Y10: 11 | Z10: 12 | AA10: 13 | AB10: 14 | AC10: 15
B11: szakág | C11: Helyszín | D11: beruházás megnevezése
B13: SZENNYVÍZCSATORNA (GRAVITÁCIÓS)
B14: Épület, építmény
B16: SZENNYVÍZVEZETÉKEK (KÉNYSZERÁRAMOLTATÁSÚ)
B18: SZENNYVÍZÁTEMELŐK
B19: Épület, építmény
B20: Gép, berendezés
B21: Irányítástechnika, energiaellátás
B23: Összesen: | J23: =SUM(J13:J22) -> 0 | K23: 0 | O23: =SUM(O12:O22) -> 0 | P23: =SUM(P12:P22) -> 0 | Q23: =SUM(Q12:Q22) -> 0 | R23: =SUM(R12:R22) -> 0 | S23: =SUM(S12:S22) -> 0 | T23: =SUM(T12:T22) -> 0 | U23: =SUM(U12:U22) -> 0 | V23: =SUM(V12:V22) -> 0 | ... AC23: =SUM(AC12:AC22) -> 0
K24: Jelenleg beruházási igény nem ismert, nincs rendelkezésre álló forrás beruházásra.
B25: Tervezett feladatok nettó költsége a teljes ütem tekintetében (eFt) | C25: Rendelkezésre álló források számszerűsített értéke a teljes ütem tekintetében (eFt) | D25: Rendelkezésre álló források megnevezése
A26: I. ütem | B26: =O23 -> 0 | C26: 0 | D26: Fejlesztési díj (2025)
A27: II. ütem | B27: =SUM(P23:S23) -> 0 | C27: =C26*4 -> 0 | D27: Fejlesztési díj (2026-2029)
A28: III. ütem | B28: =SUM(T23:AC23) -> 0 | C28: =C26*10 -> 0 | D28: Fejlesztési díj (2030-2039)

Sheet Nemesszentandrás
A1: Gördülő fejlesztési terv a 2025 - 2039 időszakra
A2: BERUHÁZÁSOK ÖSSZEFOGLALÓ TÁBLÁZATA
A3: A tervet benyújtó szervezet megnevezése: | K3: NEMESSZENTANDRÁS | R3: ellátásért felelős / ellátásért felelősök képviselője / víziközmű-szolgáltató *
A4: Víziközmű-szolgáltató megnevezése: | K4: ÉSZAK ZALAI VÍZ- ÉS CSATORNAMŰ ZÁRTKÖRŰEN MŰKÖDŐ RÉSZVÉNYTÁRSASÁG
A5: Víziközmű-szolgáltatási ágazat megnevezése: | K5: SZENNYVÍZ ÁGAZAT
A6: Véleményeltérést megfogalmazó érintett fél megnevezése:
A7: Víziközmű-rendszer kódja: ** | K7: 21-32054-1-048-01-10 | R7: Zalaegerszeg-SZV
A8: V. Szennyvízelvezetés
A9: Fontossági sorrend | B9: Beruházás megnevezése | E9: Műszaki állapot felmérés, szükségességi indoklás | H9: Vízjogi létesítési/elvi engedély száma | I9: Az érintett ellátásért felelős(ök) megnevezése | J9: Tervezett nettó költség | K9: Forrás 2025 évre | L9: Megvalósítás időtartama | N9: Tervezett időtáv | O9: A beruházás ütemezése a tervezési időszak évei szerint
E10: Jelenlegi műszaki állapot | F10: Feladat szükségessége | G10: Megvalósítást követő várható műszaki állapot | J10: (eFt) | L10: Kezdés | M10: Befejezés | N10: (rövid / közép / hosszú) | O10: 1 | P10: 2 | Q10: 3 | R10: 4 | S10: 5 | T10: 6 | U10: 7 | V10: 8 | W10: 9 | X10: 10 | Y10: 11 | Z10: 12 | AA10: 13 | AB10: 14 | AC10: 15
B11: szakág | C11: Helyszín | D11: beruházás megnevezése
B13: SZENNYVÍZCSATORNA (GRAVITÁCIÓS)
B14: Épület, építmény
B16: SZENNYVÍZVEZETÉKEK (KÉNYSZERÁRAMOLTATÁSÚ)
B18: SZENNYVÍZÁTEMELŐK
B19: Épület, építmény
B20: Gép, berendezés
B21: Irányítástechnika, energiaellátás
B23: Összesen: | J23: =SUM(J13:J22) -> 0 | K23: 0 | O23: =SUM(O12:O22) -> 0 | P23: =SUM(P12:P22) -> 0 | Q23: =SUM(Q12:Q22) -> 0 | R23: =SUM(R12:R22) -> 0 | S23: =SUM(S12:S22) -> 0 | T23: =SUM(T12:T22) -> 0 | U23: =SUM(U12:U22) -> 0 | V23: =SUM(V12:V22) -> 0 | ... AC23: =SUM(AC12:AC22) -> 0
K24: Jelenleg beruházási igény nem ismert, nincs rendelkezésre álló forrás beruházásra.
B25: Tervezett feladatok nettó költsége a teljes ütem tekintetében (eFt) | C25: Rendelkezésre álló források számszerűsített értéke a teljes ütem tekintetében (eFt) | D25: Rendelkezésre álló források megnevezése
A26: I. ütem | B26: =O23 -> 0 | C26: 0 | D26: Fejlesztési díj (2025)
A27: II. ütem | B27: =SUM(P23:S23) -> 0 | C27: =C26*4 -> 0 | D27: Fejlesztési díj (2026-2029)
A28: III. ütem | B28: =SUM(T23:AC23) -> 0 | C28: =C26*10 -> 0 | D28: Fejlesztési díj (2030-2039)

Sheet Németfalu
A1: Gördülő fejlesztési terv a 2025 - 2039 időszakra
A2: BERUHÁZÁSOK ÖSSZEFOGLALÓ TÁBLÁZATA
A3: A tervet benyújtó szervezet megnevezése: | K3: NÉMETFALU | R3: ellátásért felelős / ellátásért felelősök képviselője / víziközmű-szolgáltató *
A4: Víziközmű-szolgáltató megnevezése: | K4: ÉSZAK ZALAI VÍZ- ÉS CSATORNAMŰ ZÁRTKÖRŰEN MŰKÖDŐ RÉSZVÉNYTÁRSASÁG
A5: Víziközmű-szolgáltatási ágazat megnevezése: | K5: SZENNYVÍZ ÁGAZAT
A6: Véleményeltérést megfogalmazó érintett fél megnevezése:
A7: Víziközmű-rendszer kódja: ** | K7: 21-32054-1-048-01-10 | R7: Zalaegerszeg-SZV
A8: V. Szennyvízelvezetés
A9: Fontossági sorrend | B9: Beruházás megnevezése | E9: Műszaki állapot felmérés, szükségességi indoklás | H9: Vízjogi létesítési/elvi engedély száma | I9: Az érintett ellátásért felelős(ök) megnevezése | J9: Tervezett nettó költség | K9: Forrás 2025 évre | L9: Megvalósítás időtartama | N9: Tervezett időtáv | O9: A beruházás ütemezése a tervezési időszak évei szerint
E10: Jelenlegi műszaki állapot | F10: Feladat szükségessége | G10: Megvalósítást követő várható műszaki állapot | J10: (eFt) | L10: Kezdés | M10: Befejezés | N10: (rövid / közép / hosszú) | O10: 1 | P10: 2 | Q10: 3 | R10: 4 | S10: 5 | T10: 6 | U10: 7 | V10: 8 | W10: 9 | X10: 10 | Y10: 11 | Z10: 12 | AA10: 13 | AB10: 14 | AC10: 15
B11: szakág | C11: Helyszín | D11: beruházás megnevezése
B13: SZENNYVÍZCSATORNA (GRAVITÁCIÓS)
B14: Épület, építmény
B16: SZENNYVÍZVEZETÉKEK (KÉNYSZERÁRAMOLTATÁSÚ)
B18: SZENNYVÍZÁTEMELŐK
B19: Épület, építmény
B20: Gép, berendezés
B21: Irányítástechnika, energiaellátás
B23: Összesen: | J23: =SUM(J13:J22) -> 0 | K23: 0 | O23: =SUM(O12:O22) -> 0 | P23: =SUM(P12:P22) -> 0 | Q23: =SUM(Q12:Q22) -> 0 | R23: =SUM(R12:R22) -> 0 | S23: =SUM(S12:S22) -> 0 | T23: =SUM(T12:T22) -> 0 | U23: =SUM(U12:U22) -> 0 | V23: =SUM(V12:V22) -> 0 | ... AC23: =SUM(AC12:AC22) -> 0
K24: Jelenleg beruházási igény nem ismert, nincs rendelkezésre álló forrás beruházásra.
B25: Tervezett feladatok nettó költsége a teljes ütem tekintetében (eFt) | C25: Rendelkezésre álló források számszerűsített értéke a teljes ütem tekintetében (eFt) | D25: Rendelkezésre álló források megnevezése
A26: I. ütem | B26: =O23 -> 0 | C26: 0 | D26: Fejlesztési díj (2025)
A27: II. ütem | B27: =SUM(P23:S23) -> 0 | C27: =C26*4 -> 0 | D27: Fejlesztési díj (2026-2029)
A28: III. ütem | B28: =SUM(T23:AC23) -> 0 | C28: =C26*10 -> 0 | D28: Fejlesztési díj (2030-2039)

Sheet Ozmánbük
A1: Gördülő fejlesztési terv a 2025 - 2039 időszakra
A2: BERUHÁZÁSOK ÖSSZEFOGLALÓ TÁBLÁZATA
A3: A tervet benyújtó szervezet megnevezése: | K3: OZMÁNBÜK | R3: ellátásért felelős / ellátásért felelősök képviselője / víziközmű-szolgáltató *
A4: Víziközmű-szolgáltató megnevezése: | K4: ÉSZAK ZALAI VÍZ- ÉS CSATORNAMŰ ZÁRTKÖRŰEN MŰKÖDŐ RÉSZVÉNYTÁRSASÁG
A5: Víziközmű-szolgáltatási ágazat megnevezése: | K5: SZENNYVÍZ ÁGAZAT
A6: Véleményeltérést megfogalmazó érintett fél megnevezése:
A7: Víziközmű-rendszer kódja: ** | K7: 21-32054-1-048-01-10 | R7: Zalaegerszeg-SZV
A8: V. Szennyvízelvezetés
A9: Fontossági sorrend | B9: Beruházás megnevezése | E9: Műszaki állapot felmérés, szükségességi indoklás | H9: Vízjogi létesítési/elvi engedély száma | I9: Az érintett ellátásért felelős(ök) megnevezése | J9: Tervezett nettó költség | K9: Forrás 2025 évre | L9: Megvalósítás időtartama | N9: Tervezett időtáv | O9: A beruházás ütemezése a tervezési időszak évei szerint
E10: Jelenlegi műszaki állapot | F10: Feladat szükségessége | G10: Megvalósítást követő várható műszaki állapot | J10: (eFt) | L10: Kezdés | M10: Befejezés | N10: (rövid / közép / hosszú) | O10: 1 | P10: 2 | Q10: 3 | R10: 4 | S10: 5 | T10: 6 | U10: 7 | V10: 8 | W10: 9 | X10: 10 | Y10: 11 | Z10: 12 | AA10: 13 | AB10: 14 | AC10: 15
B11: szakág | C11: Helyszín | D11: beruházás megnevezése
B13: SZENNYVÍZCSATORNA (GRAVITÁCIÓS)
B14: Épület, építmény
B16: SZENNYVÍZVEZETÉKEK (KÉNYSZERÁRAMOLTATÁSÚ)
B18: SZENNYVÍZÁTEMELŐK
B19: Épület, építmény
B20: Gép, berendezés
B21: Irányítástechnika, energiaellátás
B23: Összesen: | J23: =SUM(J13:J22) -> 0 | K23: 0 | O23: =SUM(O12:O22) -> 0 | P23: =SUM(P12:P22) -> 0 | Q23: =SUM(Q12:Q22) -> 0 | R23: =SUM(R12:R22) -> 0 | S23: =SUM(S12:S22) -> 0 | T23: =SUM(T12:T22) -> 0 | U23: =SUM(U12:U22) -> 0 | V23: =SUM(V12:V22) -> 0 | ... AC23: =SUM(AC12:AC22) -> 0
K24: Jelenleg beruházási igény nem ismert, nincs rendelkezésre álló forrás beruházásra.
B25: Tervezett feladatok nettó költsége a teljes ütem tekintetében (eFt) | C25: Rendelkezésre álló források számszerűsített értéke a teljes ütem tekintetében (eFt) | D25: Rendelkezésre álló források megnevezése
A26: I. ütem | B26: =O23 -> 0 | C26: 0 | D26: Fejlesztési díj (2025)
A27: II. ütem | B27: =SUM(P23:S23) -> 0 | C27: =C26*4 -> 0 | D27: Fejlesztési díj (2026-2029)
A28: III. ütem | B28: =SUM(T23:AC23) -> 0 | C28: =C26*10 -> 0 | D28: Fejlesztési díj (2030-2039)

Sheet Pethőhenye
A1: Gördülő fejlesztési terv a 2025 - 2039 időszakra
A2: BERUHÁZÁSOK ÖSSZEFOGLALÓ TÁBLÁZATA
A3: A tervet benyújtó szervezet megnevezése: | K3: PETHŐHENYE | R3: ellátásért felelős / ellátásért felelősök képviselője / víziközmű-szolgáltató *
A4: Víziközmű-szolgáltató megnevezése: | K4: ÉSZAK ZALAI VÍZ- ÉS CSATORNAMŰ ZÁRTKÖRŰEN MŰKÖDŐ RÉSZVÉNYTÁRSASÁG
A5: Víziközmű-szolgáltatási ágazat megnevezése: | K5: SZENNYVÍZ ÁGAZAT
A6: Véleményeltérést megfogalmazó érintett fél megnevezése:
A7: Víziközmű-rendszer kódja: ** | K7: 21-32054-1-048-01-10 | R7: Zalaegerszeg-SZV
A8: V. Szennyvízelvezetés
A9: Fontossági sorrend | B9: Beruházás megnevezése | E9: Műszaki állapot felmérés, szükségességi indoklás | H9: Vízjogi létesítési/elvi engedély száma | I9: Az érintett ellátásért felelős(ök) megnevezése | J9: Tervezett nettó költség | K9: Forrás 2025 évre | L9: Megvalósítás időtartama | N9: Tervezett időtáv | O9: A beruházás ütemezése a tervezési időszak évei szerint
E10: Jelenlegi műszaki állapot | F10: Feladat szükségessége | G10: Megvalósítást követő várható műszaki állapot | J10: (eFt) | L10: Kezdés | M10: Befejezés | N10: (rövid / közép / hosszú) | O10: 1 | P10: 2 | Q10: 3 | R10: 4 | S10: 5 | T10: 6 | U10: 7 | V10: 8 | W10: 9 | X10: 10 | Y10: 11 | Z10: 12 | AA10: 13 | AB10: 14 | AC10: 15
B11: szakág | C11: Helyszín | D11: beruházás megnevezése
B13: SZENNYVÍZCSATORNA (GRAVITÁCIÓS)
B14: Épület, építmény
B16: SZENNYVÍZVEZETÉKEK (KÉNYSZERÁRAMOLTATÁSÚ)
B18: SZENNYVÍZÁTEMELŐK
B19: Épület, építmény
B20: Gép, berendezés
B21: Irányítástechnika, energiaellátás
B23: Összesen: | J23: =SUM(J13:J22) -> 0 | K23: 0 | O23: =SUM(O12:O22) -> 0 | P23: =SUM(P12:P22) -> 0 | Q23: =SUM(Q12:Q22) -> 0 | R23: =SUM(R12:R22) -> 0 | S23: =SUM(S12:S22) -> 0 | T23: =SUM(T12:T22) -> 0 | U23: =SUM(U12:U22) -> 0 | V23: =SUM(V12:V22) -> 0 | ... AC23: =SUM(AC12:AC22) -> 0
K24: Jelenleg beruházási igény nem ismert, nincs rendelkezésre álló forrás beruházásra.
B25: Tervezett feladatok nettó költsége a teljes ütem tekintetében (eFt) | C25: Rendelkezésre álló források számszerűsített értéke a teljes ütem tekintetében (eFt) | D25: Rendelkezésre álló források megnevezése
A26: I. ütem | B26: =O23 -> 0 | C26: 0 | D26: Fejlesztési díj (2025)
A27: II. ütem | B27: =SUM(P23:S23) -> 0 | C27: =C26*4 -> 0 | D27: Fejlesztési díj (2026-2029)
A28: III. ütem | B28: =SUM(T23:AC23) -> 0 | C28: =C26*10 -> 0 | D28: Fejlesztési díj (2030-2039)

Sheet Pókaszepetk
A1: Gördülő fejlesztési terv a 2025 - 2039 időszakra
A2: BERUHÁZÁSOK ÖSSZEFOGLALÓ TÁBLÁZATA
A3: A tervet benyújtó szervezet megnevezése: | K3: PÓKASZEPETK | R3: ellátásért felelős / ellátásért felelősök képviselője / víziközmű-szolgáltató *
A4: Víziközmű-szolgáltató megnevezése: | K4: ÉSZAK ZALAI VÍZ- ÉS CSATORNAMŰ ZÁRTKÖRŰEN MŰKÖDŐ RÉSZVÉNYTÁRSASÁG
A5: Víziközmű-szolgáltatási ágazat megnevezése: | K5: SZENNYVÍZ ÁGAZAT
A6: Véleményeltérést megfogalmazó érintett fél megnevezése:
A7: Víziközmű-rendszer kódja: ** | K7: 21-32054-1-048-01-10 | R7: Zalaegerszeg-SZV
A8: V. Szennyvízelvezetés
A9: Fontossági sorrend | B9: Beruházás megnevezése | E9: Műszaki állapot felmérés, szükségességi indoklás | H9: Vízjogi létesítési/elvi engedély száma | I9: Az érintett ellátásért felelős(ök) megnevezése | J9: Tervezett nettó költség | K9: Forrás 2025 évre | L9: Megvalósítás időtartama | N9: Tervezett időtáv | O9: A beruházás ütemezése a tervezési időszak évei szerint
E10: Jelenlegi műszaki állapot | F10: Feladat szükségessége | G10: Megvalósítást követő várható műszaki állapot | J10: (eFt) | L10: Kezdés | M10: Befejezés | N10: (rövid / közép / hosszú) | O10: 1 | P10: 2 | Q10: 3 | R10: 4 | S10: 5 | T10: 6 | U10: 7 | V10: 8 | W10: 9 | X10: 10 | Y10: 11 | Z10: 12 | AA10: 13 | AB10: 14 | AC10: 15
B11: szakág | C11: Helyszín | D11: beruházás megnevezése
B13: SZENNYVÍZCSATORNA (GRAVITÁCIÓS)
B14: Épület, építmény
B16: SZENNYVÍZVEZETÉKEK (KÉNYSZERÁRAMOLTATÁSÚ)
B18: SZENNYVÍZÁTEMELŐK
B19: Épület, építmény
B20: Gép, berendezés
B21: Irányítástechnika, energiaellátás
B23: Összesen: | J23: =SUM(J13:J22) -> 0 | K23: 0 | O23: =SUM(O12:O22) -> 0 | P23: =SUM(P12:P22) -> 0 | Q23: =SUM(Q12:Q22) -> 0 | R23: =SUM(R12:R22) -> 0 | S23: =SUM(S12:S22) -> 0 | T23: =SUM(T12:T22) -> 0 | U23: =SUM(U12:U22) -> 0 | V23: =SUM(V12:V22) -> 0 | ... AC23: =SUM(AC12:AC22) -> 0
K24: Jelenleg beruházási igény nem ismert, nincs rendelkezésre álló forrás beruházásra.
B25: Tervezett feladatok nettó költsége a teljes ütem tekintetében (eFt) | C25: Rendelkezésre álló források számszerűsített értéke a teljes ütem tekintetében (eFt) | D25: Rendelkezésre álló források megnevezése
A26: I. ütem | B26: =O23 -> 0 | C26: 0 | D26: Fejlesztési díj (2025)
A27: II. ütem | B27: =SUM(P23:S23) -> 0 | C27: =C26*4 -> 0 | D27: Fejlesztési díj (2026-2029)
A28: III. ütem | B28: =SUM(T23:AC23) -> 0 | C28: =C26*10 -> 0 | D28: Fejlesztési díj (2030-2039)

Sheet Pusztaszenlászló
A1: Gördülő fejlesztési terv a 2025 - 2039 időszakra
A2: BERUHÁZÁSOK ÖSSZEFOGLALÓ TÁBLÁZATA
A3: A tervet benyújtó szervezet megnevezése: | K3: PUSZTASZENTLÁSZLÓ | R3: ellátásért felelős / ellátásért felelősök képviselője / víziközmű-szolgáltató *
A4: Víziközmű-szolgáltató megnevezése: | K4: ÉSZAK ZALAI VÍZ- ÉS CSATORNAMŰ ZÁRTKÖRŰEN MŰKÖDŐ RÉSZVÉNYTÁRSASÁG
A5: Víziközmű-szolgáltatási ágazat megnevezése: | K5: SZENNYVÍZ ÁGAZAT
A6: Véleményeltérést megfogalmazó érintett fél megnevezése:
A7: Víziközmű-rendszer kódja: ** | K7: 21-32054-1-048-01-10 | R7: Zalaegerszeg-SZV
A8: V. Szennyvízelvezetés
A9: Fontossági sorrend | B9: Beruházás megnevezése | E9: Műszaki állapot felmérés, szükségességi indoklás | H9: Vízjogi létesítési/elvi engedély száma | I9: Az érintett ellátásért felelős(ök) megnevezése | J9: Tervezett nettó költség | K9: Forrás 2025 évre | L9: Megvalósítás időtartama | N9: Tervezett időtáv | O9: A beruházás ütemezése a tervezési időszak évei szerint
E10: Jelenlegi műszaki állapot | F10: Feladat szükségessége | G10: Megvalósítást követő várható műszaki állapot | J10: (eFt) | L10: Kezdés | M10: Befejezés | N10: (rövid / közép / hosszú) | O10: 1 | P10: 2 | Q10: 3 | R10: 4 | S10: 5 | T10: 6 | U10: 7 | V10: 8 | W10: 9 | X10: 10 | Y10: 11 | Z10: 12 | AA10: 13 | AB10: 14 | AC10: 15
B11: szakág | C11: Helyszín | D11: beruházás megnevezése
B13: SZENNYVÍZCSATORNA (GRAVITÁCIÓS)
B14: Épület, építmény
B16: SZENNYVÍZVEZETÉKEK (KÉNYSZERÁRAMOLTATÁSÚ)
B18: SZENNYVÍZÁTEMELŐK
B19: Épület, építmény
B20: Gép, berendezés
B21: Irányítástechnika, energiaellátás
B23: Összesen: | J23: =SUM(J13:J22) -> 0 | K23: 0 | O23: =SUM(O12:O22) -> 0 | P23: =SUM(P12:P22) -> 0 | Q23: =SUM(Q12:Q22) -> 0 | R23: =SUM(R12:R22) -> 0 | S23: =SUM(S12:S22) -> 0 | T23: =SUM(T12:T22) -> 0 | U23: =SUM(U12:U22) -> 0 | V23: =SUM(V12:V22) -> 0 | ... AC23: =SUM(AC12:AC22) -> 0
K24: Jelenleg beruházási igény nem ismert, nincs rendelkezésre álló forrás beruházásra.
B25: Tervezett feladatok nettó költsége a teljes ütem tekintetében (eFt) | C25: Rendelkezésre álló források számszerűsített értéke a teljes ütem tekintetében (eFt) | D25: Rendelkezésre álló források megnevezése
A26: I. ütem | B26: =O23 -> 0 | C26: 0 | D26: Fejlesztési díj (2025)
A27: II. ütem | B27: =SUM(P23:S23) -> 0 | C27: =C26*4 -> 0 | D27: Fejlesztési díj (2026-2029)
A28: III. ütem | B28: =SUM(T23:AC23) -> 0 | C28: =C26*10 -> 0 | D28: Fejlesztési díj (2030-2039)

Sheet Salomvár
A1: Gördülő fejlesztési terv a 2025 - 2039 időszakra
A2: BERUHÁZÁSOK ÖSSZEFOGLALÓ TÁBLÁZATA
A3: A tervet benyújtó szervezet megnevezése: | K3: SALOMVÁR | R3: ellátásért felelős / ellátásért felelősök képviselője / víziközmű-szolgáltató *
A4: Víziközmű-szolgáltató megnevezése: | K4: ÉSZAK ZALAI VÍZ- ÉS CSATORNAMŰ ZÁRTKÖRŰEN MŰKÖDŐ RÉSZVÉNYTÁRSASÁG
A5: Víziközmű-szolgáltatási ágazat megnevezése: | K5: SZENNYVÍZ ÁGAZAT
A6: Véleményeltérést megfogalmazó érintett fél megnevezése:
A7: Víziközmű-rendszer kódja: ** | K7: 21-32054-1-048-01-10 | R7: Zalaegerszeg-SZV
A8: V. Szennyvízelvezetés
A9: Fontossági sorrend | B9: Beruházás megnevezése | E9: Műszaki állapot felmérés, szükségességi indoklás | H9: Vízjogi létesítési/elvi engedély száma | I9: Az érintett ellátásért felelős(ök) megnevezése | J9: Tervezett nettó költség | K9: Forrás 2025 évre | L9: Megvalósítás időtartama | N9: Tervezett időtáv | O9: A beruházás ütemezése a tervezési időszak évei szerint
E10: Jelenlegi műszaki állapot | F10: Feladat szükségessége | G10: Megvalósítást követő várható műszaki állapot | J10: (eFt) | L10: Kezdés | M10: Befejezés | N10: (rövid / közép / hosszú) | O10: 1 | P10: 2 | Q10: 3 | R10: 4 | S10: 5 | T10: 6 | U10: 7 | V10: 8 | W10: 9 | X10: 10 | Y10: 11 | Z10: 12 | AA10: 13 | AB10: 14 | AC10: 15
B11: szakág | C11: Helyszín | D11: beruházás megnevezése
B13: SZENNYVÍZCSATORNA (GRAVITÁCIÓS)
B14: Épület, építmény
B16: SZENNYVÍZVEZETÉKEK (KÉNYSZERÁRAMOLTATÁSÚ)
B18: SZENNYVÍZÁTEMELŐK
B19: Épület, építmény
B20: Gép, berendezés
B21: Irányítástechnika, energiaellátás
B23: Összesen: | J23: =SUM(J13:J22) -> 0 | K23: 0 | O23: =SUM(O12:O22) -> 0 | P23: =SUM(P12:P22) -> 0 | Q23: =SUM(Q12:Q22) -> 0 | R23: =SUM(R12:R22) -> 0 | S23: =SUM(S12:S22) -> 0 | T23: =SUM(T12:T22) -> 0 | U23: =SUM(U12:U22) -> 0 | V23: =SUM(V12:V22) -> 0 | ... AC23: =SUM(AC12:AC22) -> 0
K24: Jelenleg beruházási igény nem ismert, nincs rendelkezésre álló forrás beruházásra.
B25: Tervezett feladatok nettó költsége a teljes ütem tekintetében (eFt) | C25: Rendelkezésre álló források számszerűsített értéke a teljes ütem tekintetében (eFt) | D25: Rendelkezésre álló források megnevezése
A26: I. ütem | B26: =O23 -> 0 | C26: 0 | D26: Fejlesztési díj (2025)
A27: II. ütem | B27: =SUM(P23:S23) -> 0 | C27: =C26*4 -> 0 | D27: Fejlesztési díj (2026-2029)
A28: III. ütem | B28: =SUM(T23:AC23) -> 0 | C28: =C26*10 -> 0 | D28: Fejlesztési díj (2030-2039)

Sheet Sárhida
A1: Gördülő fejlesztési terv a 2025 - 2039 időszakra
A2: BERUHÁZÁSOK ÖSSZEFOGLALÓ TÁBLÁZATA
A3: A tervet benyújtó szervezet megnevezése: | K3: SÁRHIDA | R3: ellátásért felelős / ellátásért felelősök képviselője / víziközmű-szolgáltató *
A4: Víziközmű-szolgáltató megnevezése: | K4: ÉSZAK ZALAI VÍZ- ÉS CSATORNAMŰ ZÁRTKÖRŰEN MŰKÖDŐ RÉSZVÉNYTÁRSASÁG
A5: Víziközmű-szolgáltatási ágazat megnevezése: | K5: SZENNYVÍZ ÁGAZAT
A6: Véleményeltérést megfogalmazó érintett fél megnevezése:
A7: Víziközmű-rendszer kódja: ** | K7: 21-32054-1-048-01-10 | R7: Zalaegerszeg-SZV
A8: V. Szennyvízelvezetés
A9: Fontossági sorrend | B9: Beruházás megnevezése | E9: Műszaki állapot felmérés, szükségességi indoklás | H9: Vízjogi létesítési/elvi engedély száma | I9: Az érintett ellátásért felelős(ök) megnevezése | J9: Tervezett nettó költség | K9: Forrás 2025 évre | L9: Megvalósítás időtartama | N9: Tervezett időtáv | O9: A beruházás ütemezése a tervezési időszak évei szerint
E10: Jelenlegi műszaki állapot | F10: Feladat szükségessége | G10: Megvalósítást követő várható műszaki állapot | J10: (eFt) | L10: Kezdés | M10: Befejezés | N10: (rövid / közép / hosszú) | O10: 1 | P10: 2 | Q10: 3 | R10: 4 | S10: 5 | T10: 6 | U10: 7 | V10: 8 | W10: 9 | X10: 10 | Y10: 11 | Z10: 12 | AA10: 13 | AB10: 14 | AC10: 15
B11: szakág | C11: Helyszín | D11: beruházás megnevezése
B13: SZENNYVÍZCSATORNA (GRAVITÁCIÓS)
B14: Épület, építmény
B16: SZENNYVÍZVEZETÉKEK (KÉNYSZERÁRAMOLTATÁSÚ)
B18: SZENNYVÍZÁTEMELŐK
B19: Épület, építmény
B20: Gép, berendezés
B21: Irányítástechnika, energiaellátás
B23: Összesen: | J23: =SUM(J13:J22) -> 0 | K23: 0 | O23: =SUM(O12:O22) -> 0 | P23: =SUM(P12:P22) -> 0 | Q23: =SUM(Q12:Q22) -> 0 | R23: =SUM(R12:R22) -> 0 | S23: =SUM(S12:S22) -> 0 | T23: =SUM(T12:T22) -> 0 | U23: =SUM(U12:U22) -> 0 | V23: =SUM(V12:V22) -> 0 | ... AC23: =SUM(AC12:AC22) -> 0
K24: Jelenleg beruházási igény nem ismert, nincs rendelkezésre álló forrás beruházásra.
B25: Tervezett feladatok nettó költsége a teljes ütem tekintetében (eFt) | C25: Rendelkezésre álló források számszerűsített értéke a teljes ütem tekintetében (eFt) | D25: Rendelkezésre álló források megnevezése
A26: I. ütem | B26: =O23 -> 0 | C26: 0 | D26: Fejlesztési díj (2025)
A27: II. ütem | B27: =SUM(P23:S23) -> 0 | C27: =C26*4 -> 0 | D27: Fejlesztési díj (2026-2029)
A28: III. ütem | B28: =SUM(T23:AC23) -> 0 | C28: =C26*10 -> 0 | D28: Fejlesztési díj (2030-2039)

Sheet Söjtör
A1: Gördülő fejlesztési terv a 2025 - 2039 időszakra
A2: BERUHÁZÁSOK ÖSSZEFOGLALÓ TÁBLÁZATA
A3: A tervet benyújtó szervezet megnevezése: | K3: SÖJTÖR | R3: ellátásért felelős / ellátásért felelősök képviselője / víziközmű-szolgáltató *
A4: Víziközmű-szolgáltató megnevezése: | K4: ÉSZAK ZALAI VÍZ- ÉS CSATORNAMŰ ZÁRTKÖRŰEN MŰKÖDŐ RÉSZVÉNYTÁRSASÁG
A5: Víziközmű-szolgáltatási ágazat megnevezése: | K5: SZENNYVÍZ ÁGAZAT
A6: Véleményeltérést megfogalmazó érintett fél megnevezése:
A7: Víziközmű-rendszer kódja: ** | K7: 21-32054-1-048-01-10 | R7: Zalaegerszeg-SZV
A8: V. Szennyvízelvezetés
A9: Fontossági sorrend | B9: Beruházás megnevezése | E9: Műszaki állapot felmérés, szükségességi indoklás | H9: Vízjogi létesítési/elvi engedély száma | I9: Az érintett ellátásért felelős(ök) megnevezése | J9: Tervezett nettó költség | K9: Forrás 2025 évre | L9: Megvalósítás időtartama | N9: Tervezett időtáv | O9: A beruházás ütemezése a tervezési időszak évei szerint
E10: Jelenlegi műszaki állapot | F10: Feladat szükségessége | G10: Megvalósítást követő várható műszaki állapot | J10: (eFt) | L10: Kezdés | M10: Befejezés | N10: (rövid / közép / hosszú) | O10: 1 | P10: 2 | Q10: 3 | R10: 4 | S10: 5 | T10: 6 | U10: 7 | V10: 8 | W10: 9 | X10: 10 | Y10: 11 | Z10: 12 | AA10: 13 | AB10: 14 | AC10: 15
B11: szakág | C11: Helyszín | D11: beruházás megnevezése
B13: SZENNYVÍZCSATORNA (GRAVITÁCIÓS)
B14: Épület, építmény
B16: SZENNYVÍZVEZETÉKEK (KÉNYSZERÁRAMOLTATÁSÚ)
B18: SZENNYVÍZÁTEMELŐK
B19: Épület, építmény
B20: Gép, berendezés
B21: Irányítástechnika, energiaellátás
B23: Összesen: | J23: =SUM(J13:J22) -> 0 | K23: 0 | O23: =SUM(O12:O22) -> 0 | P23: =SUM(P12:P22) -> 0 | Q23: =SUM(Q12:Q22) -> 0 | R23: =SUM(R12:R22) -> 0 | S23: =SUM(S12:S22) -> 0 | T23: =SUM(T12:T22) -> 0 | U23: =SUM(U12:U22) -> 0 | V23: =SUM(V12:V22) -> 0 | ... AC23: =SUM(AC12:AC22) -> 0
K24: Jelenleg beruházási igény nem ismert, nincs rendelkezésre álló forrás beruházásra.
B25: Tervezett feladatok nettó költsége a teljes ütem tekintetében (eFt) | C25: Rendelkezésre álló források számszerűsített értéke a teljes ütem tekintetében (eFt) | D25: Rendelkezésre álló források megnevezése
A26: I. ütem | B26: =O23 -> 0 | C26: 0 | D26: Fejlesztési díj (2025)
A27: II. ütem | B27: =SUM(P23:S23) -> 0 | C27: =C26*4 -> 0 | D27: Fejlesztési díj (2026-2029)
A28: III. ütem | B28: =SUM(T23:AC23) -> 0 | C28: =C26*10 -> 0 | D28: Fejlesztési díj (2030-2039)

Sheet Teskánd
A1: Gördülő fejlesztési terv a 2025 - 2039 időszakra
A2: BERUHÁZÁSOK ÖSSZEFOGLALÓ TÁBLÁZATA
A3: A tervet benyújtó szervezet megnevezése: | K3: TESKÁND | R3: ellátásért felelős / ellátásért felelősök képviselője / víziközmű-szolgáltató *
A4: Víziközmű-szolgáltató megnevezése: | K4: ÉSZAK ZALAI VÍZ- ÉS CSATORNAMŰ ZÁRTKÖRŰEN MŰKÖDŐ RÉSZVÉNYTÁRSASÁG
A5: Víziközmű-szolgáltatási ágazat megnevezése: | K5: SZENNYVÍZ ÁGAZAT
A6: Véleményeltérést megfogalmazó érintett fél megnevezése:
A7: Víziközmű-rendszer kódja: ** | K7: 21-32054-1-048-01-10 | R7: Zalaegerszeg-SZV
A8: V. Szennyvízelvezetés
A9: Fontossági sorrend | B9: Beruházás megnevezése | E9: Műszaki állapot felmérés, szükségességi indoklás | H9: Vízjogi létesítési/elvi engedély száma | I9: Az érintett ellátásért felelős(ök) megnevezése | J9: Tervezett nettó költség | K9: Forrás 2025 évre | L9: Megvalósítás időtartama | N9: Tervezett időtáv | O9: A beruházás ütemezése a tervezési időszak évei szerint
E10: Jelenlegi műszaki állapot | F10: Feladat szükségessége | G10: Megvalósítást követő várható műszaki állapot | J10: (eFt) | L10: Kezdés | M10: Befejezés | N10: (rövid / közép / hosszú) | O10: 1 | P10: 2 | Q10: 3 | R10: 4 | S10: 5 | T10: 6 | U10: 7 | V10: 8 | W10: 9 | X10: 10 | Y10: 11 | Z10: 12 | AA10: 13 | AB10: 14 | AC10: 15
B11: szakág | C11: Helyszín | D11: beruházás megnevezése
B13: SZENNYVÍZCSATORNA (GRAVITÁCIÓS)
B14: Épület, építmény
B16: SZENNYVÍZVEZETÉKEK (KÉNYSZERÁRAMOLTATÁSÚ)
B18: SZENNYVÍZÁTEMELŐK
B19: Épület, építmény
B20: Gép, berendezés
B21: Irányítástechnika, energiaellátás
B23: Összesen: | J23: =SUM(J13:J22) -> 0 | K23: 0 | O23: =SUM(O12:O22) -> 0 | P23: =SUM(P12:P22) -> 0 | Q23: =SUM(Q12:Q22) -> 0 | R23: =SUM(R12:R22) -> 0 | S23: =SUM(S12:S22) -> 0 | T23: =SUM(T12:T22) -> 0 | U23: =SUM(U12:U22) -> 0 | V23: =SUM(V12:V22) -> 0 | ... AC23: =SUM(AC12:AC22) -> 0
K24: Jelenleg beruházási igény nem ismert, nincs rendelkezésre álló forrás beruházásra.
B25: Tervezett feladatok nettó költsége a teljes ütem tekintetében (eFt) | C25: Rendelkezésre álló források számszerűsített értéke a teljes ütem tekintetében (eFt) | D25: Rendelkezésre álló források megnevezése
A26: I. ütem | B26: =O23 -> 0 | C26: 0 | D26: Fejlesztési díj (2025)
A27: II. ütem | B27: =SUM(P23:S23) -> 0 | C27: =C26*4 -> 0 | D27: Fejlesztési díj (2026-2029)
A28: III. ütem | B28: =SUM(T23:AC23) -> 0 | C28: =C26*10 -> 0 | D28: Fejlesztési díj (2030-2039)

Sheet Vasboldogasszony
A1: Gördülő fejlesztési terv a 2025 - 2039 időszakra
A2: BERUHÁZÁSOK ÖSSZEFOGLALÓ TÁBLÁZATA
A3: A tervet benyújtó szervezet megnevezése: | K3: VASBOLDOGASSZONY | R3: ellátásért felelős / ellátásért felelősök képviselője / víziközmű-szolgáltató *
A4: Víziközmű-szolgáltató megnevezése: | K4: ÉSZAK ZALAI VÍZ- ÉS CSATORNAMŰ ZÁRTKÖRŰEN MŰKÖDŐ RÉSZVÉNYTÁRSASÁG
A5: Víziközmű-szolgáltatási ágazat megnevezése: | K5: SZENNYVÍZ ÁGAZAT
A6: Véleményeltérést megfogalmazó érintett fél megnevezése:
A7: Víziközmű-rendszer kódja: ** | K7: 21-32054-1-048-01-10 | R7: Zalaegerszeg-SZV
A8: V. Szennyvízelvezetés
A9: Fontossági sorrend | B9: Beruházás megnevezése | E9: Műszaki állapot felmérés, szükségességi indoklás | H9: Vízjogi létesítési/elvi engedély száma | I9: Az érintett ellátásért felelős(ök) megnevezése | J9: Tervezett nettó költség | K9: Forrás 2025 évre | L9: Megvalósítás időtartama | N9: Tervezett időtáv | O9: A beruházás ütemezése a tervezési időszak évei szerint
E10: Jelenlegi műszaki állapot | F10: Feladat szükségessége | G10: Megvalósítást követő várható műszaki állapot | J10: (eFt) | L10: Kezdés | M10: Befejezés | N10: (rövid / közép / hosszú) | O10: 1 | P10: 2 | Q10: 3 | R10: 4 | S10: 5 | T10: 6 | U10: 7 | V10: 8 | W10: 9 | X10: 10 | Y10: 11 | Z10: 12 | AA10: 13 | AB10: 14 | AC10: 15
B11: szakág | C11: Helyszín | D11: beruházás megnevezése
B13: SZENNYVÍZCSATORNA (GRAVITÁCIÓS)
B14: Épület, építmény
B16: SZENNYVÍZVEZETÉKEK (KÉNYSZERÁRAMOLTATÁSÚ)
B18: SZENNYVÍZÁTEMELŐK
B19: Épület, építmény
B20: Gép, berendezés
B21: Irányítástechnika, energiaellátás
B23: Összesen: | J23: =SUM(J13:J22) -> 0 | K23: 0 | O23: =SUM(O12:O22) -> 0 | P23: =SUM(P12:P22) -> 0 | Q23: =SUM(Q12:Q22) -> 0 | R23: =SUM(R12:R22) -> 0 | S23: =SUM(S12:S22) -> 0 | T23: =SUM(T12:T22) -> 0 | U23: =SUM(U12:U22) -> 0 | V23: =SUM(V12:V22) -> 0 | ... AC23: =SUM(AC12:AC22) -> 0
K24: Jelenleg beruházási igény nem ismert, nincs rendelkezésre álló forrás beruházásra.
B25: Tervezett feladatok nettó költsége a teljes ütem tekintetében (eFt) | C25: Rendelkezésre álló források számszerűsített értéke a teljes ütem tekintetében (eFt) | D25: Rendelkezésre álló források megnevezése
A26: I. ütem | B26: =O23 -> 0 | C26: 0 | D26: Fejlesztési díj (2025)
A27: II. ütem | B27: =SUM(P23:S23) -> 0 | C27: =C26*4 -> 0 | D27: Fejlesztési díj (2026-2029)
A28: III. ütem | B28: =SUM(T23:AC23) -> 0 | C28: =C26*10 -> 0 | D28: Fejlesztési díj (2030-2039)

Sheet Vaspör
A1: Gördülő fejlesztési terv a 2025 - 2039 időszakra
A2: BERUHÁZÁSOK ÖSSZEFOGLALÓ TÁBLÁZATA
A3: A tervet benyújtó szervezet megnevezése: | K3: VASPÖR | R3: ellátásért felelős / ellátásért felelősök képviselője / víziközmű-szolgáltató *
A4: Víziközmű-szolgáltató megnevezése: | K4: ÉSZAK ZALAI VÍZ- ÉS CSATORNAMŰ ZÁRTKÖRŰEN MŰKÖDŐ RÉSZVÉNYTÁRSASÁG
A5: Víziközmű-szolgáltatási ágazat megnevezése: | K5: SZENNYVÍZ ÁGAZAT
A6: Véleményeltérést megfogalmazó érintett fél megnevezése:
A7: Víziközmű-rendszer kódja: ** | K7: 21-32054-1-048-01-10 | R7: Zalaegerszeg-SZV
A8: V. Szennyvízelvezetés
A9: Fontossági sorrend | B9: Beruházás megnevezése | E9: Műszaki állapot felmérés, szükségességi indoklás | H9: Vízjogi létesítési/elvi engedély száma | I9: Az érintett ellátásért felelős(ök) megnevezése | J9: Tervezett nettó költség | K9: Forrás 2025 évre | L9: Megvalósítás időtartama | N9: Tervezett időtáv | O9: A beruházás ütemezése a tervezési időszak évei szerint
E10: Jelenlegi műszaki állapot | F10: Feladat szükségessége | G10: Megvalósítást követő várható műszaki állapot | J10: (eFt) | L10: Kezdés | M10: Befejezés | N10: (rövid / közép / hosszú) | O10: 1 | P10: 2 | Q10: 3 | R10: 4 | S10: 5 | T10: 6 | U10: 7 | V10: 8 | W10: 9 | X10: 10 | Y10: 11 | Z10: 12 | AA10: 13 | AB10: 14 | AC10: 15
B11: szakág | C11: Helyszín | D11: beruházás megnevezése
B13: SZENNYVÍZCSATORNA (GRAVITÁCIÓS)
B14: Épület, építmény
B16: SZENNYVÍZVEZETÉKEK (KÉNYSZERÁRAMOLTATÁSÚ)
B18: SZENNYVÍZÁTEMELŐK
B19: Épület, építmény
B20: Gép, berendezés
B21: Irányítástechnika, energiaellátás
B23: Összesen: | J23: =SUM(J13:J22) -> 0 | K23: 0 | O23: =SUM(O12:O22) -> 0 | P23: =SUM(P12:P22) -> 0 | Q23: =SUM(Q12:Q22) -> 0 | R23: =SUM(R12:R22) -> 0 | S23: =SUM(S12:S22) -> 0 | T23: =SUM(T12:T22) -> 0 | U23: =SUM(U12:U22) -> 0 | V23: =SUM(V12:V22) -> 0 | ... AC23: =SUM(AC12:AC22) -> 0
K24: Jelenleg beruházási igény nem ismert, nincs rendelkezésre álló forrás beruházásra.
B25: Tervezett feladatok nettó költsége a teljes ütem tekintetében (eFt) | C25: Rendelkezésre álló források számszerűsített értéke a teljes ütem tekintetében (eFt) | D25: Rendelkezésre álló források megnevezése
A26: I. ütem | B26: =O23 -> 0 | C26: 0 | D26: Fejlesztési díj (2025)
A27: II. ütem | B27: =SUM(P23:S23) -> 0 | C27: =C26*4 -> 0 | D27: Fejlesztési díj (2026-2029)
A28: III. ütem | B28: =SUM(T23:AC23) -> 0 | C28: =C26*10 -> 0 | D28: Fejlesztési díj (2030-2039)

Sheet Vöckönd
A1: Gördülő fejlesztési terv a 2025 - 2039 időszakra
A2: BERUHÁZÁSOK ÖSSZEFOGLALÓ TÁBLÁZATA
A3: A tervet benyújtó szervezet megnevezése: | K3: VÖCKÖND | R3: ellátásért felelős / ellátásért felelősök képviselője / víziközmű-szolgáltató *
A4: Víziközmű-szolgáltató megnevezése: | K4: ÉSZAK ZALAI VÍZ- ÉS CSATORNAMŰ ZÁRTKÖRŰEN MŰKÖDŐ RÉSZVÉNYTÁRSASÁG
A5: Víziközmű-szolgáltatási ágazat megnevezése: | K5: SZENNYVÍZ ÁGAZAT
A6: Véleményeltérést megfogalmazó érintett fél megnevezése:
A7: Víziközmű-rendszer kódja: ** | K7: 21-32054-1-048-01-10 | R7: Zalaegerszeg-SZV
A8: V. Szennyvízelvezetés
A9: Fontossági sorrend | B9: Beruházás megnevezése | E9: Műszaki állapot felmérés, szükségességi indoklás | H9: Vízjogi létesítési/elvi engedély száma | I9: Az érintett ellátásért felelős(ök) megnevezése | J9: Tervezett nettó költség | K9: Forrás 2025 évre | L9: Megvalósítás időtartama | N9: Tervezett időtáv | O9: A beruházás ütemezése a tervezési időszak évei szerint
E10: Jelenlegi műszaki állapot | F10: Feladat szükségessége | G10: Megvalósítást követő várható műszaki állapot | J10: (eFt) | L10: Kezdés | M10: Befejezés | N10: (rövid / közép / hosszú) | O10: 1 | P10: 2 | Q10: 3 | R10: 4 | S10: 5 | T10: 6 | U10: 7 | V10: 8 | W10: 9 | X10: 10 | Y10: 11 | Z10: 12 | AA10: 13 | AB10: 14 | AC10: 15
B12: szakág | C12: Helyszín | D12: beruházás megnevezése
B13: SZENNYVÍZCSATORNA (GRAVITÁCIÓS)
B14: Épület, építmény
B16: SZENNYVÍZVEZETÉKEK (KÉNYSZERÁRAMOLTATÁSÚ)
B18: SZENNYVÍZÁTEMELŐK
B19: Épület, építmény
B20: Gép, berendezés
B21: Irányítástechnika, energiaellátás
B23: Összesen: | J23: =SUM(J13:J22) -> 0 | K23: 0 | O23: =SUM(O12:O22) -> 0 | P23: =SUM(P12:P22) -> 0 | Q23: =SUM(Q12:Q22) -> 0 | R23: =SUM(R12:R22) -> 0 | S23: =SUM(S12:S22) -> 0 | T23: =SUM(T12:T22) -> 0 | U23: =SUM(U12:U22) -> 0 | V23: =SUM(V12:V22) -> 0 | ... AC23: =SUM(AC12:AC22) -> 0
K24: Jelenleg beruházási igény nem ismert, nincs rendelkezésre álló forrás beruházásra.
B25: Tervezett feladatok nettó költsége a teljes ütem tekintetében (eFt) | C25: Rendelkezésre álló források számszerűsített értéke a teljes ütem tekintetében (eFt) | D25: Rendelkezésre álló források megnevezése
A26: I. ütem | B26: =O23 -> 0 | C26: 0 | D26: Fejlesztési díj (2025)
A27: II. ütem | B27: =SUM(P23:S23) -> 0 | C27: =C26*4 -> 0 | D27: Fejlesztési díj (2026-2029)
A28: III. ütem | B28: =SUM(T23:AC23) -> 0 | C28: =C26*10 -> 0 | D28: Fejlesztési díj (2030-2039)

Sheet Zalaboldogfa
A1: Gördülő fejlesztési terv a 2025 - 2039 időszakra
A2: BERUHÁZÁSOK ÖSSZEFOGLALÓ TÁBLÁZATA
A3: A tervet benyújtó szervezet megnevezése: | K3: ZALABOLDOGFA | R3: ellátásért felelős / ellátásért felelősök képviselője / víziközmű-szolgáltató *
A4: Víziközmű-szolgáltató megnevezése: | K4: ÉSZAK ZALAI VÍZ- ÉS CSATORNAMŰ ZÁRTKÖRŰEN MŰKÖDŐ RÉSZVÉNYTÁRSASÁG
A5: Víziközmű-szolgáltatási ágazat megnevezése: | K5: SZENNYVÍZ ÁGAZAT
A6: Véleményeltérést megfogalmazó érintett fél megnevezése:
A7: Víziközmű-rendszer kódja: ** | K7: 21-32054-1-048-01-10 | R7: Zalaegerszeg-SZV
A8: V. Szennyvízelvezetés
A9: Fontossági sorrend | B9: Beruházás megnevezése | E9: Műszaki állapot felmérés, szükségességi indoklás | H9: Vízjogi létesítési/elvi engedély száma | I9: Az érintett ellátásért felelős(ök) megnevezése | J9: Tervezett nettó költség | K9: Forrás 2025 évre | L9: Megvalósítás időtartama | N9: Tervezett időtáv | O9: A beruházás ütemezése a tervezési időszak évei szerint
E10: Jelenlegi műszaki állapot | F10: Feladat szükségessége | G10: Megvalósítást követő várható műszaki állapot | J10: (eFt) | L10: Kezdés | M10: Befejezés | N10: (rövid / közép / hosszú) | O10: 1 | P10: 2 | Q10: 3 | R10: 4 | S10: 5 | T10: 6 | U10: 7 | V10: 8 | W10: 9 | X10: 10 | Y10: 11 | Z10: 12 | AA10: 13 | AB10: 14 | AC10: 15
B11: szakág | C11: Helyszín | D11: beruházás megnevezése
B13: SZENNYVÍZCSATORNA (GRAVITÁCIÓS)
B14: Épület, építmény
B16: SZENNYVÍZVEZETÉKEK (KÉNYSZERÁRAMOLTATÁSÚ)
B18: SZENNYVÍZÁTEMELŐK
B19: Épület, építmény
B20: Gép, berendezés
B21: Irányítástechnika, energiaellátás
B23: Összesen: | J23: =SUM(J13:J22) -> 0 | K23: 0 | O23: =SUM(O12:O22) -> 0 | P23: =SUM(P12:P22) -> 0 | Q23: =SUM(Q12:Q22) -> 0 | R23: =SUM(R12:R22) -> 0 | S23: =SUM(S12:S22) -> 0 | T23: =SUM(T12:T22) -> 0 | U23: =SUM(U12:U22) -> 0 | V23: =SUM(V12:V22) -> 0 | ... AC23: =SUM(AC12:AC22) -> 0
K24: Jelenleg beruházási igény nem ismert, nincs rendelkezésre álló forrás beruházásra.
B25: Tervezett feladatok nettó költsége a teljes ütem tekintetében (eFt) | C25: Rendelkezésre álló források számszerűsített értéke a teljes ütem tekintetében (eFt) | D25: Rendelkezésre álló források megnevezése
A26: I. ütem | B26: =O23 -> 0 | C26: 0 | D26: Fejlesztési díj (2025)
A27: II. ütem | B27: =SUM(P23:S23) -> 0 | C27: =C26*4 -> 0 | D27: Fejlesztési díj (2026-2029)
A28: III. ütem | B28: =SUM(T23:AC23) -> 0 | C28: =C26*10 -> 0 | D28: Fejlesztési díj (2030-2039)

Sheet Zalacséb
A1: Gördülő fejlesztési terv a 2025 - 2039 időszakra
A2: BERUHÁZÁSOK ÖSSZEFOGLALÓ TÁBLÁZATA
A3: A tervet benyújtó szervezet megnevezése: | K3: ZALACSÉB | R3: ellátásért felelős / ellátásért felelősök képviselője / víziközmű-szolgáltató *
A4: Víziközmű-szolgáltató megnevezése: | K4: ÉSZAK ZALAI VÍZ- ÉS CSATORNAMŰ ZÁRTKÖRŰEN MŰKÖDŐ RÉSZVÉNYTÁRSASÁG
A5: Víziközmű-szolgáltatási ágazat megnevezése: | K5: SZENNYVÍZ ÁGAZAT
A6: Véleményeltérést megfogalmazó érintett fél megnevezése:
A7: Víziközmű-rendszer kódja: ** | K7: 21-32054-1-048-01-10 | R7: Zalaegerszeg-SZV
A8: V. Szennyvízelvezetés
A9: Fontossági sorrend | B9: Beruházás megnevezése | E9: Műszaki állapot felmérés, szükségességi indoklás | H9: Vízjogi létesítési/elvi engedély száma | I9: Az érintett ellátásért felelős(ök) megnevezése | J9: Tervezett nettó költség | K9: Forrás 2025 évre | L9: Megvalósítás időtartama | N9: Tervezett időtáv | O9: A beruházás ütemezése a tervezési időszak évei szerint
E10: Jelenlegi műszaki állapot | F10: Feladat szükségessége | G10: Megvalósítást követő várható műszaki állapot | J10: (eFt) | L10: Kezdés | M10: Befejezés | N10: (rövid / közép / hosszú) | O10: 1 | P10: 2 | Q10: 3 | R10: 4 | S10: 5 | T10: 6 | U10: 7 | V10: 8 | W10: 9 | X10: 10 | Y10: 11 | Z10: 12 | AA10: 13 | AB10: 14 | AC10: 15
B11: szakág | C11: Helyszín | D11: beruházás megnevezése
B13: SZENNYVÍZCSATORNA (GRAVITÁCIÓS)
B14: Épület, építmény
B16: SZENNYVÍZVEZETÉKEK (KÉNYSZERÁRAMOLTATÁSÚ)
B18: SZENNYVÍZÁTEMELŐK
B19: Épület, építmény
B20: Gép, berendezés
B21: Irányítástechnika, energiaellátás
B23: Összesen: | J23: =SUM(J13:J22) -> 0 | K23: 0 | O23: =SUM(O12:O22) -> 0 | P23: =SUM(P12:P22) -> 0 | Q23: =SUM(Q12:Q22) -> 0 | R23: =SUM(R12:R22) -> 0 | S23: =SUM(S12:S22) -> 0 | T23: =SUM(T12:T22) -> 0 | U23: =SUM(U12:U22) -> 0 | V23: =SUM(V12:V22) -> 0 | ... AC23: =SUM(AC12:AC22) -> 0
K24: Jelenleg beruházási igény nem ismert, nincs rendelkezésre álló forrás beruházásra.
B25: Tervezett feladatok nettó költsége a teljes ütem tekintetében (eFt) | C25: Rendelkezésre álló források számszerűsített értéke a teljes ütem tekintetében (eFt) | D25: Rendelkezésre álló források megnevezése
A26: I. ütem | B26: =O23 -> 0 | C26: 0 | D26: Fejlesztési díj (2025)
A27: II. ütem | B27: =SUM(P23:S23) -> 0 | C27: =C26*4 -> 0 | D27: Fejlesztési díj (2026-2029)
A28: III. ütem | B28: =SUM(T23:AC23) -> 0 | C28: =C26*10 -> 0 | D28: Fejlesztési díj (2030-2039)

Sheet Zalaegerszeg
A1: Gördülő fejlesztési terv a 2025 - 2039 időszakra
A2: BERUHÁZÁSOK ÖSSZEFOGLALÓ TÁBLÁZATA
A3: A tervet benyújtó szervezet megnevezése: | K3: ZALAEGERSZEG | R3: ellátásért felelős / ellátásért felelősök képviselője / víziközmű-szolgáltató *
A4: Víziközmű-szolgáltató megnevezése: | K4: ÉSZAK ZALAI VÍZ- ÉS CSATORNAMŰ ZÁRTKÖRŰEN MŰKÖDŐ RÉSZVÉNYTÁRSASÁG
A5: Víziközmű-szolgáltatási ágazat megnevezése: | K5: SZENNYVÍZ ÁGAZAT
A6: Véleményeltérést megfogalmazó érintett fél megnevezése:
A7: Víziközmű-rendszer kódja: ** | K7: 21-32054-1-048-01-10 | R7: Zalaegerszeg-SZV
A8: V. Szennyvízelvezetés
A9: Fontossági sorrend | B9: Beruházás megnevezése | E9: Műszaki állapot felmérés, szükségességi indoklás | H9: Vízjogi létesítési/elvi engedély száma | I9: Az érintett ellátásért felelős(ök) megnevezése | J9: Tervezett nettó költség | K9: Forrás 2025 évre | L9: Megvalósítás időtartama | N9: Tervezett időtáv | O9: A beruházás ütemezése a tervezési időszak évei szerint
E10: Jelenlegi műszaki állapot | F10: Feladat szükségessége | G10: Megvalósítást követő várható műszaki állapot | J10: (eFt) | L10: Kezdés | M10: Befejezés | N10: (rövid / közép / hosszú) | O10: 1 | P10: 2 | Q10: 3 | R10: 4 | S10: 5 | T10: 6 | U10: 7 | V10: 8 | W10: 9 | X10: 10 | Y10: 11 | Z10: 12 | AA10: 13 | AB10: 14 | AC10: 15
B11: szakág | C11: Helyszín | D11: beruházás megnevezése
B13: SZENNYVÍZCSATORNA (GRAVITÁCIÓS)
B14: Épület, építmény
A15: 2 | C15: Zalaegerszeg Azáleás u. | D15: szennyvízelvezetés kiépítése | E15: Az üzemelő viziközmű technológiailag elavult, üzemeltetése, és javítása már nem gazdaságos. Jelenleg a piacon magasabb műszaki tartalmak érhetőek el | F15: A viziközmű rendszer hatékonyságának növelése, az üzemeltetési költségek szinten tartása miatt szükséges | G15: A beavatkozás után egy hatékonyan működő viziközmű elemet kapunk, mely a kor elvárásainak megfelel. A rendszer üzembiztos, hatékony, és korszerű lesz | H15: - | I15: Zalaegerszeg | J15: =SUM(O15:AC15) -> 30000 | L15: 46023 | M15: 46387 | N15: közép | P15: 30000
B16: SZENNYVÍZVEZETÉKEK (KÉNYSZERÁRAMOLTATÁSÚ)
B18: SZENNYVÍZÁTEMELŐK
B19: Épület, építmény
B20: Gép, berendezés
B21: Irányítástechnika, energiaellátás
A23: VI. Szennyvíztisztítás
B24: SZENNYVÍZTISZTÍTÓ-TELEP
B25: Épület, építmény
A26: 3 | C26: Zalaegerszeg szennyvíztisztító telep biológiai medence | D26: 1. biológia műtárgy újjáépítése | E26: A műtárgy állaga előrehaladott elhasználódást mutat. | F26: A viziközmű műtárgy/berendezés nem tudja betölteni funkcióját, technológiai paraméterek nem teljesülnek. Határérték túllépés várható | G26: A viziközmű elem állapota megközelíti az új elem berendezés állapotát. Az üzembiztonság jelentősen növekszik, balesetveszélyes állapot megszűnik. Teljesíthető határértékek. | H26: - | I26: Zalaegerszeg | J26: =SUM(O26:AC26) -> 4000000 | L26: 46023 | M26: 46387 | N26: közép | P26: 4000000
B27: Gép, berendezés
B28: Irányítástechnika, energiaellátás
B29: EGYEDI SZENNYVÍZKEZELŐ LÉTESÍTMÉNY
B30: Épület, építmény
B32: Gép, berendezés
B34: Irányítástechnika, energiaellátás
B36: TERMÉSZETKÖZELI SZENNYVÍZTISZTÍTÓK
B37: Épület, építmény
B39: Gép, berendezés
B41: Irányítástechnika, energiaellátás
B43: EGYEDI ZÁRT SZENNYVÍZTÁROLÓ
B44: Épület, építmény
... B48: Irányítástechnika, energiaellátás
B51: Összesen: | J51: =SUM(J13:J50) -> 4030000 | K51: =C54 -> 0 | O51: =SUM(O12:O50) -> 0 | P51: =SUM(P12:P50) -> 4030000 | Q51: =SUM(Q12:Q50) -> 0 | R51: =SUM(R12:R50) -> 0 | S51: =SUM(S12:S50) -> 0 | T51: =SUM(T12:T50) -> 0 | U51: =SUM(U12:U50) -> 0 | V51: =SUM(V12:V50) -> 0 | ... AC51: =SUM(AC12:AC50) -> 0
K52: Beruházásra fejlesztési forrás biztosított
B53: Tervezett feladatok nettó költsége a teljes ütem tekintetében (eFt) | C53: Rendelkezésre álló források számszerűsített értéke a teljes ütem tekintetében (eFt) | D53: Rendelkezésre álló források megnevezése
A54: I. ütem | B54: =O51 -> 0 | C54: 0 | D54: Fejlesztési díj (2025)
A55: II. ütem | B55: =SUM(P51:S51) -> 4030000 | C55: 0 | D55: Fejlesztési díj (2026-2029)
A56: III. ütem | B56: =SUM(T51:AC51) -> 0 | C56: 0 | D56: Fejlesztési díj (2030-2039)

Sheet Zalaistvánd
A1: Gördülő fejlesztési terv a 2025 - 2039 időszakra
A2: BERUHÁZÁSOK ÖSSZEFOGLALÓ TÁBLÁZATA
A3: A tervet benyújtó szervezet megnevezése: | K3: ZALAISTVÁND | R3: ellátásért felelős / ellátásért felelősök képviselője / víziközmű-szolgáltató *
A4: Víziközmű-szolgáltató megnevezése: | K4: ÉSZAK ZALAI VÍZ- ÉS CSATORNAMŰ ZÁRTKÖRŰEN MŰKÖDŐ RÉSZVÉNYTÁRSASÁG
A5: Víziközmű-szolgáltatási ágazat megnevezése: | K5: SZENNYVÍZ ÁGAZAT
A6: Véleményeltérést megfogalmazó érintett fél megnevezése:
A7: Víziközmű-rendszer kódja: ** | K7: 21-32054-1-048-01-10 | R7: Zalaegerszeg-SZV
A8: V. Szennyvízelvezetés
A9: Fontossági sorrend | B9: Beruházás megnevezése | E9: Műszaki állapot felmérés, szükségességi indoklás | H9: Vízjogi létesítési/elvi engedély száma | I9: Az érintett ellátásért felelős(ök) megnevezése | J9: Tervezett nettó költség | K9: Forrás 2025 évre | L9: Megvalósítás időtartama | N9: Tervezett időtáv | O9: A beruházás ütemezése a tervezési időszak évei szerint
E10: Jelenlegi műszaki állapot | F10: Feladat szükségessége | G10: Megvalósítást követő várható műszaki állapot | J10: (eFt) | L10: Kezdés | M10: Befejezés | N10: (rövid / közép / hosszú) | O10: 1 | P10: 2 | Q10: 3 | R10: 4 | S10: 5 | T10: 6 | U10: 7 | V10: 8 | W10: 9 | X10: 10 | Y10: 11 | Z10: 12 | AA10: 13 | AB10: 14 | AC10: 15
B11: szakág | C11: Helyszín | D11: beruházás megnevezése
B13: SZENNYVÍZCSATORNA (GRAVITÁCIÓS)
B14: Épület, építmény
B16: SZENNYVÍZVEZETÉKEK (KÉNYSZERÁRAMOLTATÁSÚ)
B18: SZENNYVÍZÁTEMELŐK
B19: Épület, építmény
B20: Gép, berendezés
B21: Irányítástechnika, energiaellátás
B23: Összesen: | J23: =SUM(J13:J22) -> 0 | K23: 0 | O23: =SUM(O12:O22) -> 0 | P23: =SUM(P12:P22) -> 0 | Q23: =SUM(Q12:Q22) -> 0 | R23: =SUM(R12:R22) -> 0 | S23: =SUM(S12:S22) -> 0 | T23: =SUM(T12:T22) -> 0 | U23: =SUM(U12:U22) -> 0 | V23: =SUM(V12:V22) -> 0 | ... AC23: =SUM(AC12:AC22) -> 0
K24: Jelenleg beruházási igény nem ismert, nincs rendelkezésre álló forrás beruházásra.
B25: Tervezett feladatok nettó költsége a teljes ütem tekintetében (eFt) | C25: Rendelkezésre álló források számszerűsített értéke a teljes ütem tekintetében (eFt) | D25: Rendelkezésre álló források megnevezése
A26: I. ütem | B26: =O23 -> 0 | C26: 0 | D26: Fejlesztési díj (2025)
A27: II. ütem | B27: =SUM(P23:S23) -> 0 | C27: =C26*4 -> 0 | D27: Fejlesztési díj (2026-2029)
A28: III. ütem | B28: =SUM(T23:AC23) -> 0 | C28: =C26*10 -> 0 | D28: Fejlesztési díj (2030-2039)

Sheet Zalaszentgyörgy
A1: Gördülő fejlesztési terv a 2025 - 2039 időszakra
A2: BERUHÁZÁSOK ÖSSZEFOGLALÓ TÁBLÁZATA
A3: A tervet benyújtó szervezet megnevezése: | K3: ZALASZENTGYÖRGY | R3: ellátásért felelős / ellátásért felelősök képviselője / víziközmű-szolgáltató *
A4: Víziközmű-szolgáltató megnevezése: | K4: ÉSZAK ZALAI VÍZ- ÉS CSATORNAMŰ ZÁRTKÖRŰEN MŰKÖDŐ RÉSZVÉNYTÁRSASÁG
A5: Víziközmű-szolgáltatási ágazat megnevezése: | K5: SZENNYVÍZ ÁGAZAT
A6: Véleményeltérést megfogalmazó érintett fél megnevezése:
A7: Víziközmű-rendszer kódja: ** | K7: 21-32054-1-048-01-10 | R7: Zalaegerszeg-SZV
A8: V. Szennyvízelvezetés
A9: Fontossági sorrend | B9: Beruházás megnevezése | E9: Műszaki állapot felmérés, szükségességi indoklás | H9: Vízjogi létesítési/elvi engedély száma | I9: Az érintett ellátásért felelős(ök) megnevezése | J9: Tervezett nettó költség | K9: Forrás 2025 évre | L9: Megvalósítás időtartama | N9: Tervezett időtáv | O9: A beruházás ütemezése a tervezési időszak évei szerint
E10: Jelenlegi műszaki állapot | F10: Feladat szükségessége | G10: Megvalósítást követő várható műszaki állapot | J10: (eFt) | L10: Kezdés | M10: Befejezés | N10: (rövid / közép / hosszú) | O10: 1 | P10: 2 | Q10: 3 | R10: 4 | S10: 5 | T10: 6 | U10: 7 | V10: 8 | W10: 9 | X10: 10 | Y10: 11 | Z10: 12 | AA10: 13 | AB10: 14 | AC10: 15
B11: szakág | C11: Helyszín | D11: beruházás megnevezése
B13: SZENNYVÍZCSATORNA (GRAVITÁCIÓS)
B14: Épület, építmény
B16: SZENNYVÍZVEZETÉKEK (KÉNYSZERÁRAMOLTATÁSÚ)
B18: SZENNYVÍZÁTEMELŐK
B19: Épület, építmény
B20: Gép, berendezés
B21: Irányítástechnika, energiaellátás
B23: Összesen: | J23: =SUM(J13:J22) -> 0 | K23: 0 | O23: =SUM(O12:O22) -> 0 | P23: =SUM(P12:P22) -> 0 | Q23: =SUM(Q12:Q22) -> 0 | R23: =SUM(R12:R22) -> 0 | S23: =SUM(S12:S22) -> 0 | T23: =SUM(T12:T22) -> 0 | U23: =SUM(U12:U22) -> 0 | V23: =SUM(V12:V22) -> 0 | ... AC23: =SUM(AC12:AC22) -> 0
K24: Jelenleg beruházási igény nem ismert, nincs rendelkezésre álló forrás beruházásra.
B25: Tervezett feladatok nettó költsége a teljes ütem tekintetében (eFt) | C25: Rendelkezésre álló források számszerűsített értéke a teljes ütem tekintetében (eFt) | D25: Rendelkezésre álló források megnevezése
A26: I. ütem | B26: =O23 -> 0 | C26: 0 | D26: Fejlesztési díj (2025)
A27: II. ütem | B27: =SUM(P23:S23) -> 0 | C27: =C26*4 -> 0 | D27: Fejlesztési díj (2026-2029)
A28: III. ütem | B28: =SUM(T23:AC23) -> 0 | C28: =C26*10 -> 0 | D28: Fejlesztési díj (2030-2039)

Sheet Zalaszentiván
A1: Gördülő fejlesztési terv a 2025 - 2039 időszakra
A2: BERUHÁZÁSOK ÖSSZEFOGLALÓ TÁBLÁZATA
A3: A tervet benyújtó szervezet megnevezése: | K3: ZALASZENTIVÁN | R3: ellátásért felelős / ellátásért felelősök képviselője / víziközmű-szolgáltató *
A4: Víziközmű-szolgáltató megnevezése: | K4: ÉSZAK ZALAI VÍZ- ÉS CSATORNAMŰ ZÁRTKÖRŰEN MŰKÖDŐ RÉSZVÉNYTÁRSASÁG
A5: Víziközmű-szolgáltatási ágazat megnevezése: | K5: SZENNYVÍZ ÁGAZAT
A6: Véleményeltérést megfogalmazó érintett fél megnevezése:
A7: Víziközmű-rendszer kódja: ** | K7: 21-32054-1-048-01-10 | R7: Zalaegerszeg-SZV
A8: V. Szennyvízelvezetés
A9: Fontossági sorrend | B9: Beruházás megnevezése | E9: Műszaki állapot felmérés, szükségességi indoklás | H9: Vízjogi létesítési/elvi engedély száma | I9: Az érintett ellátásért felelős(ök) megnevezése | J9: Tervezett nettó költség | K9: Forrás 2025 évre | L9: Megvalósítás időtartama | N9: Tervezett időtáv | O9: A beruházás ütemezése a tervezési időszak évei szerint
E10: Jelenlegi műszaki állapot | F10: Feladat szükségessége | G10: Megvalósítást követő várható műszaki állapot | J10: (eFt) | L10: Kezdés | M10: Befejezés | N10: (rövid / közép / hosszú) | O10: 1 | P10: 2 | Q10: 3 | R10: 4 | S10: 5 | T10: 6 | U10: 7 | V10: 8 | W10: 9 | X10: 10 | Y10: 11 | Z10: 12 | AA10: 13 | AB10: 14 | AC10: 15
B11: szakág | C11: Helyszín | D11: beruházás megnevezése
B13: SZENNYVÍZCSATORNA (GRAVITÁCIÓS)
B14: Épület, építmény
B16: SZENNYVÍZVEZETÉKEK (KÉNYSZERÁRAMOLTATÁSÚ)
B18: SZENNYVÍZÁTEMELŐK
B19: Épület, építmény
B20: Gép, berendezés
B21: Irányítástechnika, energiaellátás
B23: Összesen: | J23: =SUM(J13:J22) -> 0 | K23: 0 | O23: =SUM(O12:O22) -> 0 | P23: =SUM(P12:P22) -> 0 | Q23: =SUM(Q12:Q22) -> 0 | R23: =SUM(R12:R22) -> 0 | S23: =SUM(S12:S22) -> 0 | T23: =SUM(T12:T22) -> 0 | U23: =SUM(U12:U22) -> 0 | V23: =SUM(V12:V22) -> 0 | ... AC23: =SUM(AC12:AC22) -> 0
K24: Jelenleg beruházási igény nem ismert, nincs rendelkezésre álló forrás beruházásra.
B25: Tervezett feladatok nettó költsége a teljes ütem tekintetében (eFt) | C25: Rendelkezésre álló források számszerűsített értéke a teljes ütem tekintetében (eFt) | D25: Rendelkezésre álló források megnevezése
A26: I. ütem | B26: =O23 -> 0 | C26: 0 | D26: Fejlesztési díj (2025)
A27: II. ütem | B27: =SUM(P23:S23) -> 0 | C27: =C26*4 -> 0 | D27: Fejlesztési díj (2026-2029)
A28: III. ütem | B28: =SUM(T23:AC23) -> 0 | C28: =C26*10 -> 0 | D28: Fejlesztési díj (2030-2039)

Sheet Zalaszentlőrinc
A1: Gördülő fejlesztési terv a 2025 - 2039 időszakra
A2: BERUHÁZÁSOK ÖSSZEFOGLALÓ TÁBLÁZATA
A3: A tervet benyújtó szervezet megnevezése: | K3: ZALASZENTLŐRINC | R3: ellátásért felelős / ellátásért felelősök képviselője / víziközmű-szolgáltató *
A4: Víziközmű-szolgáltató megnevezése: | K4: ÉSZAK ZALAI VÍZ- ÉS CSATORNAMŰ ZÁRTKÖRŰEN MŰKÖDŐ RÉSZVÉNYTÁRSASÁG
A5: Víziközmű-szolgáltatási ágazat megnevezése: | K5: SZENNYVÍZ ÁGAZAT
A6: Véleményeltérést megfogalmazó érintett fél megnevezése:
A7: Víziközmű-rendszer kódja: ** | K7: 21-32054-1-048-01-10 | R7: Zalaegerszeg-SZV
A8: V. Szennyvízelvezetés
A9: Fontossági sorrend | B9: Beruházás megnevezése | E9: Műszaki állapot felmérés, szükségességi indoklás | H9: Vízjogi létesítési/elvi engedély száma | I9: Az érintett ellátásért felelős(ök) megnevezése | J9: Tervezett nettó költség | K9: Forrás 2025 évre | L9: Megvalósítás időtartama | N9: Tervezett időtáv | O9: A beruházás ütemezése a tervezési időszak évei szerint
E10: Jelenlegi műszaki állapot | F10: Feladat szükségessége | G10: Megvalósítást követő várható műszaki állapot | J10: (eFt) | L10: Kezdés | M10: Befejezés | N10: (rövid / közép / hosszú) | O10: 1 | P10: 2 | Q10: 3 | R10: 4 | S10: 5 | T10: 6 | U10: 7 | V10: 8 | W10: 9 | X10: 10 | Y10: 11 | Z10: 12 | AA10: 13 | AB10: 14 | AC10: 15
B11: szakág | C11: Helyszín | D11: beruházás megnevezése
B13: SZENNYVÍZCSATORNA (GRAVITÁCIÓS)
B14: Épület, építmény
B16: SZENNYVÍZVEZETÉKEK (KÉNYSZERÁRAMOLTATÁSÚ)
B18: SZENNYVÍZÁTEMELŐK
B19: Épület, építmény
B20: Gép, berendezés
B21: Irányítástechnika, energiaellátás
B23: Összesen: | J23: =SUM(J13:J22) -> 0 | K23: 0 | O23: =SUM(O12:O22) -> 0 | P23: =SUM(P12:P22) -> 0 | Q23: =SUM(Q12:Q22) -> 0 | R23: =SUM(R12:R22) -> 0 | S23: =SUM(S12:S22) -> 0 | T23: =SUM(T12:T22) -> 0 | U23: =SUM(U12:U22) -> 0 | V23: =SUM(V12:V22) -> 0 | ... AC23: =SUM(AC12:AC22) -> 0
K24: Jelenleg beruházási igény nem ismert, nincs rendelkezésre álló forrás beruházásra.
B25: Tervezett feladatok nettó költsége a teljes ütem tekintetében (eFt) | C25: Rendelkezésre álló források számszerűsített értéke a teljes ütem tekintetében (eFt) | D25: Rendelkezésre álló források megnevezése
A26: I. ütem | B26: =O23 -> 0 | C26: 0 | D26: Fejlesztési díj (2025)
A27: II. ütem | B27: =SUM(P23:S23) -> 0 | C27: =C26*4 -> 0 | D27: Fejlesztési díj (2026-2029)
A28: III. ütem | B28: =SUM(T23:AC23) -> 0 | C28: =C26*10 -> 0 | D28: Fejlesztési díj (2030-2039)

Sheet VKR összesítő
A1: Gördülő fejlesztési terv a 2025 - 2039 időszakra
A2: BERUHÁZÁSOK ÖSSZEFOGLALÓ TÁBLÁZATA
A3: A tervet benyújtó szervezet megnevezése: | K3: ZALAEGERSZEG | R3: ellátásért felelős / ellátásért felelősök képviselője / víziközmű-szolgáltató *
A4: Víziközmű-szolgáltató megnevezése: | K4: ÉSZAK ZALAI VÍZ- ÉS CSATORNAMŰ ZÁRTKÖRŰEN MŰKÖDŐ RÉSZVÉNYTÁRSASÁG
A5: Víziközmű-szolgáltatási ágazat megnevezése: | K5: SZENNYVÍZ ÁGAZAT
A6: Véleményeltérést megfogalmazó érintett fél megnevezése:
A7: Víziközmű-rendszer kódja: ** | K7: 21-32054-1-048-01-10 | R7: Zalaegerszeg-SZV
A8: V. Szennyvízelvezetés
A9: Fontossági sorrend | B9: Beruházás megnevezése | E9: Műszaki állapot felmérés, szükségességi indoklás | H9: Vízjogi létesítési/elvi engedély száma | I9: Az érintett ellátásért felelős(ök) megnevezése | J9: Tervezett nettó költség | K9: Forrás 2025 évre | L9: Megvalósítás időtartama | N9: Tervezett időtáv | O9: A beruházás ütemezése a tervezési időszak évei szerint
E10: Jelenlegi műszaki állapot | F10: Feladat szükségessége | G10: Megvalósítást követő várható műszaki állapot | J10: (eFt) | L10: Kezdés | M10: Befejezés | N10: (rövid / közép / hosszú) | O10: 1 | P10: 2 | Q10: 3 | R10: 4 | S10: 5 | T10: 6 | U10: 7 | V10: 8 | W10: 9 | X10: 10 | Y10: 11 | Z10: 12 | AA10: 13 | AB10: 14 | AC10: 15
B11: szakág | C11: Helyszín | D11: beruházás megnevezése
B13: SZENNYVÍZCSATORNA (GRAVITÁCIÓS)
B14: Épület, építmény
A15: =Zalaegerszeg!A15 -> 2 | C15: =Zalaegerszeg!C15 -> Zalaegerszeg Azáleás u. | D15: =Zalaegerszeg!D15 -> szennyvízelvezetés kiépítése | E15: =Zalaegerszeg!E15 -> Az üzemelő viziközmű technológiailag elavult, üzemeltetése, és javítása már nem gazdaságos. Jelenleg a piacon magasabb műszaki tartalmak érhetőek el | F15: =Zalaegerszeg!F15 -> A viziközmű rendszer hatékonyságának növelése, az üzemeltetési költségek szinten tartása miatt szükséges | G15: =Zalaegerszeg!G15 -> A beavatkozás után egy hatékonyan működő viziközmű elemet kapunk, mely a kor elvárásainak megfelel. A rendszer üzembiztos, hatékony, és korszerű lesz | H15: =Zalaegerszeg!H15 -> - | I15: =Zalaegerszeg!I15 -> Zalaegerszeg | J15: =Zalaegerszeg!J15 -> 30000 | L15: =Zalaegerszeg!L15 -> 46023 | M15: =Zalaegerszeg!M15 -> 46387 | N15: =Zalaegerszeg!N15 -> közép | P15: =Zalaegerszeg!P15 -> 30000
B16: SZENNYVÍZVEZETÉKEK (KÉNYSZERÁRAMOLTATÁSÚ)
B18: SZENNYVÍZÁTEMELŐK
B19: Épület, építmény
B21: Gép, berendezés
B23: Irányítástechnika, energiaellátás
B24: összesen: | J24: =SUM(J13:J23) -> 30000
A25: VI. Szennyvíztisztítás
B26: SZENNYVÍZTISZTÍTÓ-TELEP
B27: Épület, építmény
A28: =Zalaegerszeg!A26 -> 3 | C28: =Zalaegerszeg!C26 -> Zalaegerszeg szennyvíztisztító telep biológiai medence | D28: =Zalaegerszeg!D26 -> 1. biológia műtárgy újjáépítése | E28: =Zalaegerszeg!E26 -> A műtárgy állaga előrehaladott elhasználódást mutat. | F28: =Zalaegerszeg!F26 -> A viziközmű műtárgy/berendezés nem tudja betölteni funkcióját, technológiai paraméterek nem teljesülnek. Határérték túllépés várható | G28: =Zalaegerszeg!G26 -> A viziközmű elem állapota megközelíti az új elem berendezés állapotát. Az üzembiztonság jelentősen növekszik, balesetveszélyes állapot megszűnik. Teljesíthető határértékek. | H28: =Zalaegerszeg!H26 -> - | I28: =Zalaegerszeg!I26 -> Zalaegerszeg | J28: =Zalaegerszeg!J26 -> 4000000 | L28: =Zalaegerszeg!L26 -> 46023 | M28: =Zalaegerszeg!M26 -> 46387 | N28: =Zalaegerszeg!N26 -> közép | P28: =Zalaegerszeg!P26 -> 4000000
B29: Gép, berendezés
B30: Irányítástechnika, energiaellátás
B31: EGYEDI SZENNYVÍZKEZELŐ LÉTESÍTMÉNY
B32: Épület, építmény
B34: Gép, berendezés
B36: Irányítástechnika, energiaellátás
B38: TERMÉSZETKÖZELI SZENNYVÍZTISZTÍTÓK
B39: Épület, építmény
B41: Gép, berendezés
B43: Irányítástechnika, energiaellátás
B45: EGYEDI ZÁRT SZENNYVÍZTÁROLÓ
B46: Épület, építmény
... B50: Irányítástechnika, energiaellátás
B53: Összesen: | J53: =SUM(J24:J52) -> 4030000 | K53: =Zalaegerszeg!K51 -> 0 | O53: =SUM(O12:O52) -> 0 | P53: =SUM(P12:P52) -> 4030000 | Q53: =SUM(Q12:Q52) -> 0 | R53: =SUM(R12:R52) -> 0 | S53: =SUM(S12:S52) -> 0 | T53: =SUM(T12:T52) -> 0 | U53: =SUM(U12:U52) -> 0 | V53: =SUM(V12:V52) -> 0 | ... AC53: =SUM(AC12:AC52) -> 0
K54: Beruházásra fejlesztési forrás biztosított
B55: Tervezett feladatok nettó költsége a teljes ütem tekintetében (eFt) | C55: Rendelkezésre álló források számszerűsített értéke a teljes ütem tekintetében (eFt) | D55: Rendelkezésre álló források megnevezése
A56: I. ütem | B56: =Alibánfa!B26+Alsónemesapáti!B26+Babosdöbréte!B26+Bagod!B26+Bak!B26+Bocfölde!B26+Boncodfölde!B26+Böde!B26+Búcsúszentlászló!B26+Csatár!B26+Csonkahegyhát!B26+Dobronhegy!B26+Egervár!B26+Gősfa!B26+Hagyárosbörönd!B26+Hottó!B26+Kávás!B26+Kemendollár!B26+Keménfa!B26+Kisbucsa!B26+Kiskutas!B26+Kispáli!B26+Lakhegy!B26+Nagykutas!B26+Nagypáli!B26+Nemesapáti!B26+Nemeshetés!B26+Nemesándorháza!B26+Nemesszentandrás!B26+Németfalu!B26+Ozmánbük!B26+Pethőhenye!B26+Pókaszepetk!B26+Pusztaszenlászló!B26+Salomvár!B26+Sárhida!B26+Söjtör!B26+Teskánd!B26+Vasboldogasszony!B26+Vaspör!B26+Vöckönd!B26+Zalaboldogfa!B26+Zalacséb!B26+Zalaegerszeg!B54+Zalaistvánd!B26+Zalaszentgyörgy!B26+Zalaszentiván!B26+Zalaszentlőrinc!B26 -> 0 | C56: =Zalaegerszeg!C54 -> 0 | D56: Fejlesztési díj (2025)
A57: II. ütem | B57: =Alibánfa!B27+Alsónemesapáti!B27+Babosdöbréte!B27+Bagod!B27+Bak!B27+Bocfölde!B27+Boncodfölde!B27+Böde!B27+Búcsúszentlászló!B27+Csatár!B27+Csonkahegyhát!B27+Dobronhegy!B27+Egervár!B27+Gősfa!B27+Hagyárosbörönd!B27+Hottó!B27+Kávás!B27+Kemendollár!B27+Keménfa!B27+Kisbucsa!B27+Kiskutas!B27+Kispáli!B27+Lakhegy!B27+Nagykutas!B27+Nagypáli!B27+Nemesapáti!B27+Nemeshetés!B27+Nemesándorháza!B27+Nemesszentandrás!B27+Németfalu!B27+Ozmánbük!B27+Pethőhenye!B27+Pókaszepetk!B27+Pusztaszenlászló!B27+Salomvár!B27+Sárhida!B27+Söjtör!B27+Teskánd!B27+Vasboldogasszony!B27+Vaspör!B27+Vöckönd!B27+Zalaboldogfa!B27+Zalacséb!B27+Zalaegerszeg!B55+Zalaistvánd!B27+Zalaszentgyörgy!B27+Zalaszentiván!B27+Zalaszentlőrinc!B27 -> 4030000 | C57: =Alibánfa!C27+Alsónemesapáti!C27+Babosdöbréte!C27+Bagod!C27+Bak!C27+Bocfölde!C27+Boncodfölde!C27+Böde!C27+Búcsúszentlászló!C27+Csatár!C27+Csonkahegyhát!C27+Dobronhegy!C27+Egervár!C27+Gősfa!C27+Hagyárosbörönd!C27+Hottó!C27+Kávás!C27+Kemendollár!C27+Keménfa!C27+Kisbucsa!C27+Kiskutas!C27+Kispáli!C27+Lakhegy!C27+Nagykutas!C27+Nagypáli!C27+Nemesapáti!C27+Nemeshetés!C27+Nemesándorháza!C27+Nemesszentandrás!C27+Németfalu!C27+Ozmánbük!C27+Pethőhenye!C27+Pókaszepetk!C27+Pusztaszenlászló!C27+Salomvár!C27+Sárhida!C27+Söjtör!C27+Teskánd!C27+Vasboldogasszony!C27+Vaspör!C27+Vöckönd!C27+Zalaboldogfa!C27+Zalacséb!C27+Zalaegerszeg!C55+Zalaistvánd!C27+Zalaszentgyörgy!C27+Zalaszentiván!C27+Zalaszentlőrinc!C27 -> 0 | D57: Fejlesztési díj (2026-2029)
A58: III. ütem | B58: =Alibánfa!B28+Alsónemesapáti!B28+Babosdöbréte!B28+Bagod!B28+Bak!B28+Bocfölde!B28+Boncodfölde!B28+Böde!B28+Búcsúszentlászló!B28+Csatár!B28+Csonkahegyhát!B28+Dobronhegy!B28+Egervár!B28+Gősfa!B28+Hagyárosbörönd!B28+Hottó!B28+Kávás!B28+Kemendollár!B28+Keménfa!B28+Kisbucsa!B28+Kiskutas!B28+Kispáli!B28+Lakhegy!B28+Nagykutas!B28+Nagypáli!B28+Nemesapáti!B28+Nemeshetés!B28+Nemesándorháza!B28+Nemesszentandrás!B28+Németfalu!B28+Ozmánbük!B28+Pethőhenye!B28+Pókaszepetk!B28+Pusztaszenlászló!B28+Salomvár!B28+Sárhida!B28+Söjtör!B28+Teskánd!B28+Vasboldogasszony!B28+Vaspör!B28+Vöckönd!B28+Zalaboldogfa!B28+Zalacséb!B28+Zalaegerszeg!B56+Zalaistvánd!B28+Zalaszentgyörgy!B28+Zalaszentiván!B28+Zalaszentlőrinc!B28 -> 0 | C58: =Alibánfa!C28+Alsónemesapáti!C28+Babosdöbréte!C28+Bagod!C28+Bak!C28+Bocfölde!C28+Boncodfölde!C28+Böde!C28+Búcsúszentlászló!C28+Csatár!C28+Csonkahegyhát!C28+Dobronhegy!C28+Egervár!C28+Gősfa!C28+Hagyárosbörönd!C28+Hottó!C28+Kávás!C28+Kemendollár!C28+Keménfa!C28+Kisbucsa!C28+Kiskutas!C28+Kispáli!C28+Lakhegy!C28+Nagykutas!C28+Nagypáli!C28+Nemesapáti!C28+Nemeshetés!C28+Nemesándorháza!C28+Nemesszentandrás!C28+Németfalu!C28+Ozmánbük!C28+Pethőhenye!C28+Pókaszepetk!C28+Pusztaszenlászló!C28+Salomvár!C28+Sárhida!C28+Söjtör!C28+Teskánd!C28+Vasboldogasszony!C28+Vaspör!C28+Vöckönd!C28+Zalaboldogfa!C28+Zalacséb!C28+Zalaegerszeg!C56+Zalaistvánd!C28+Zalaszentgyörgy!C28+Zalaszentiván!C28+Zalaszentlőrinc!C28 -> 0 | D58: Fejlesztési díj (2030-2039)
