Workbook
Name _GoBack: '2'!#REF!

Sheet 1
B1: 2024. évi tény adat | C1: 2025. évi eredeti előirányzat | D1: Módosítás összege III. névig | E1: mód Iv | F1: Módosítás összege | G1: 2025. évi módosított előirányzat | H1: Megnevezés | I1: 2024. évi tény adat | J1: 2025. évi eredeti előirányzat | K1: Módosítás összege III. névig | L1: mód IV | M1: Módosítás összege | N1: 2025. évi módosított előirányzat
A2: I. Működési célú bevételek | H2: I. Működési célú kiadások
A3: 1.) Működési célú támogatások államháztartáson belülről | B3: 8198586 | C3: 8103587 | D3: 898274 | E3: =táj1!E189 -> 150290 | F3: =SUM(D3:E3) -> 1048564 | G3: =C3+F3 -> 9152151 | H3: 1.) Költségvetési szervek kiadásai | I3: 11142143 | J3: 12211496 | K3: 571773 | L3: =táj4!D22+táj4!E22+táj4!F22+táj4!G22+táj4!H22 -> 116674 | M3: =SUM(K3:L3) -> 688447 | N3: =J3+M3 -> 12899943
A4: 2.) Közhatalmi bevételek | B4: 9178491 | C4: 9347900 | E4: =táj1!G189 -> 408 | F4: =SUM(D4:E4) -> 408 | G4: =C4+F4 -> 9348308 | H4: 2.) Önkormányzat szakosztályainak kiadásai | I4: 4570680 | J4: 7350700 | K4: 314973 | L4: =táj2!G651+táj2!H651+táj2!I651+táj2!J651 -> -86088 | M4: =SUM(K4:L4) -> 228885 | N4: =J4+M4 -> 7579585
A5: 3.) Működési bevételek | B5: 5066787 | C5: 4395669 | D5: 1259678 | E5: =táj1!H189-E18 -> 90475 | F5: =SUM(D5:E5) -> 1350153 | G5: =C5+F5 -> 5745822 | H5: 3.Egyéb működési célú kiadások (költségvetési szervek és tartalék nélkül) | I5: 7015783 | J5: 6030945 | K5: 879206 | L5: =táj2!K651-táj2!K650 -> 90141 | M5: =SUM(K5:L5) -> 969347 | N5: =J5+M5 -> 7000292
A6: 4.) Működési célú átvett pénzeszközök | B6: 75182 | D6: 48059 | E6: =táj1!J189 -> 22035 | F6: =SUM(D6:E6) -> 70094 | G6: =C6+F6 -> 70094 | H6: 4.) Céltartalékból működésre | J6: 436014 | K6: 89077 | L6: =táj2!K650 -> -54859 | M6: =SUM(K6:L6) -> 34218 | N6: =J6+M6 -> 470232
A7: Költségvetési műk. bevételei összesen: | B7: =SUM(B3+B4+B5+B6) -> 22519046 | C7: =SUM(C3+C4+C5+C6) -> 21847156 | D7: =SUM(D3+D4+D5+D6) -> 2206011 | E7: =SUM(E3+E4+E5+E6) -> 263208 | F7: =SUM(F3+F4+F5+F6) -> 2469219 | G7: =SUM(G3+G4+G5+G6) -> 24316375 | H7: 5.) Általános tartalék | J7: 10000 | K7: 0 | L7: =táj2!K636 -> 0 | M7: =SUM(K7:L7) -> 0 | N7: =J7+M7 -> 10000
A8: Finanszírozási bevételek | F8: =SUM(D8:E8) -> 0 | G8: =C8+F8 -> 0 | H8: Költségvetési műk. kiadásai összesen: | I8: =SUM(I2:I7) -> 22728606 | J8: =SUM(J2:J7) -> 26039155 | K8: =SUM(K2:K7) -> 1855029 | L8: =SUM(L2:L7) -> 65868 | M8: =SUM(M2:M7) -> 1920897 | N8: =SUM(N2:N7) -> 27960052
A9: 5.) Előző év költségvetési maradványának igénybevétele | B9: 4122770 | C9: 2592710 | D9: -350982 | E9: -197340 | F9: =SUM(D9:E9) -> -548322 | G9: =C9+F9 -> 2044388 | H9: 6.) Egyéb finanszírozási kiadás (államháztartáson belüli megelőlegezés visszafizetése) | I9: 198930 | J9: 200711 | K9: 376316 | L9: 0 | M9: =SUM(K9:L9) -> 376316 | N9: =J9+M9 -> 577027
A10: 6.) Forgatási célú értékpapír beváltás | B10: 1686509 | C10: 1800000 | F10: =SUM(D10:E10) -> 0 | G10: =C10+F10 -> 1800000 | M10: =SUM(K10:L10) -> 0 | N10: =J10+M10 -> 0
A11: 7.) Államháztartáson belüli megelőlegezések | B11: 207278 | D11: 376316 | F11: =SUM(D11:E11) -> 376316 | G11: =C11+F11 -> 376316 | M11: =SUM(K11:L11) -> 0 | N11: =J11+M11 -> 0
A12: MŰKÖDÉSI CÉLÚ BEVÉTELEK ÖSSZ: | B12: =SUM(B7:B11) -> 28535603 | C12: =SUM(C7:C11) -> 26239866 | D12: =SUM(D7:D11) -> 2231345 | E12: =SUM(E7:E11) -> 65868 | F12: =SUM(F7:F11) -> 2297213 | G12: =SUM(G7:G11) -> 28537079 | H12: MŰKÖDÉSI CÉLÚ KIADÁSOK ÖSSZ.: | I12: =SUM(I8:I11) -> 22927536 | J12: =SUM(J8:J9) -> 26239866 | K12: =SUM(K8:K9) -> 2231345 | L12: =SUM(L8:L9) -> 65868 | M12: =SUM(M8:M9) -> 2297213 | N12: =SUM(N8:N9) -> 28537079 | O12: =G12-N12 -> 0
A13: II. Felhalmozási célú bevételek | F13: =SUM(D13:E13) -> 0 | G13: =C13+F13 -> 0 | H13: II. Felhalmozási célú kiadások | M13: =SUM(K13:L13) -> 0 | N13: =J13+M13 -> 0 | O13: =G13-N13 -> 0
A14: 1.) Felhalmozási célú támogatások államháztartáson belülről | B14: 2527273 | C14: 1665620 | D14: 2763326 | E14: =táj1!F189 -> 392129 | F14: =SUM(D14:E14) -> 3155455 | G14: =C14+F14 -> 4821075 | H14: 1.) Egyéb felhalmozási célú kiadások | I14: 1556518 | J14: 575452 | K14: -374125 | L14: =táj2!N653 -> 394 | M14: =SUM(K14:L14) -> -373731 | N14: =J14+M14 -> 201721
A15: 2.) Felhalmozási bevételek | B15: 536690 | C15: 214221 | D15: 163146 | E15: =táj1!I189 -> 2413 | F15: =SUM(D15:E15) -> 165559 | G15: =C15+F15 -> 379780 | H15: ebből: költségvetési szervek | K15: 0 | L15: =táj2!N652 -> 0 | M15: =SUM(K15:L15) -> 0 | N15: =J15+M15 -> 0
A16: 3.) Közhatalmi bevételek | C16: 30000 | F16: =SUM(D16:E16) -> 0 | G16: =C16+F16 -> 30000 | H16: 2.) Beruházás | I16: 3782739 | J16: 7130360 | K16: 2042228 | L16: =táj2!L653-táj2!L650 -> 348704 | M16: =SUM(K16:L16) -> 2390932 | N16: =J16+M16 -> 9521292
A17: 4.) Felhalmozási célú átvett pénzeszközök | B17: 67791 | C17: 15224 | D17: 13964 | E17: =táj1!K189 -> 1211 | F17: =SUM(D17:E17) -> 15175 | G17: =C17+F17 -> 30399 | H17: ebből: költségvetési szervek | I17: 233726 | J17: 128132 | K17: 140976 | L17: =táj2!L652 -> 16574 | M17: =SUM(K17:L17) -> 157550 | N17: =J17+M17 -> 285682
A18: 5.) Fejlesztéshez működési jellegű bevétel (HD, áfa visszaigénylés) | B18: 1111531 | C18: 757769 | D18: 574216 | E18: 24217 | F18: =SUM(D18:E18) -> 598433 | G18: =C18+F18 -> 1356202 | H18: 3.) Felújítás | I18: 2610578 | J18: 2940784 | K18: 2232677 | L18: =táj2!M653-táj2!M650 -> 274415 | M18: =SUM(K18:L18) -> 2507092 | N18: =J18+M18 -> 5447876
A19: Költségvetési felhalmozási célú bevételek összesen: | B19: =SUM(B14:B18) -> 4243285 | C19: =SUM(C14:C18) -> 2682834 | D19: =SUM(D14:D18) -> 3514652 | E19: =SUM(E14:E18) -> 419970 | F19: =SUM(F14:F18) -> 3934622 | G19: =SUM(G14:G18) -> 6617456 | H19: ebből: költségvetési szervek | I19: 44981 | J19: 16955 | K19: 73745 | L19: =táj2!M652 -> 4610 | M19: =SUM(K19:L19) -> 78355 | N19: =J19+M19 -> 95310
A20: Finanszírozási bevételek | F20: =SUM(D20:E20) -> 0 | G20: =C20+F20 -> 0 | H20: 4.) Céltartalék | J20: 420571 | K20: 344454 | L20: =táj2!M647+táj2!L648 -> -6203 | M20: =SUM(K20:L20) -> 338251 | N20: =J20+M20 -> 758822
A21: 6.) Hitelfelvétel | F21: =SUM(D21:E21) -> 0 | G21: =C21+F21 -> 0 | H21: 5.)Fejlesztési hitel kamata | I21: 91264 | J21: 79109 | K21: 0 | L21: 0 | M21: =SUM(K21:L21) -> 0 | N21: =J21+M21 -> 79109
A22: 7.) Előző év költségvetési maradványának igénybevétele | B22: 4556250 | C22: 4491781 | D22: 730582 | E22: 197340 | F22: =SUM(D22:E22) -> 927922 | G22: =C22+F22 -> 5419703 | H22: Költségvetési felhalmozási célú kiadások összesen: | I22: =SUM(I14+I16+I18+I20+I21) -> 8041099 | J22: =SUM(J14+J16+J18+J20+J21) -> 11146276 | K22: =SUM(K14+K16+K18+K20+K21) -> 4245234 | L22: =SUM(L14+L16+L18+L20+L21) -> 617310 | M22: =SUM(M14+M16+M18+M20+M21) -> 4862544 | N22: =SUM(N14+N16+N18+N20+N21) -> 16008820
A23: 8.) Forgatási célú értékpapír beváltás projektekhez kapcsolódóan | B23: 2746960 | C23: 4089513 | F23: =SUM(D23:E23) -> 0 | G23: =C23+F23 -> 4089513 | H23: Finanszírozási kiadások | M23: =SUM(K23:L23) -> 0 | N23: =J23+M23 -> 0
F24: =SUM(D24:E24) -> 0 | G24: =C24+F24 -> 0 | H24: 6.) Hitel- és kölcsön törlesztések | I24: 117851 | J24: 117852 | M24: =SUM(K24:L24) -> 0 | N24: =J24+M24 -> 117852
A25: FELHALMOZÁSI CÉLÚ BEVÉTELEK ÖSSZESEN: | B25: =SUM(B19:B23) -> 11546495 | C25: =SUM(C19:C24) -> 11264128 | D25: =SUM(D19:D24) -> 4245234 | E25: =SUM(E19:E24) -> 617310 | F25: =SUM(F19:F24) -> 4862544 | G25: =SUM(G19:G24) -> 16126672 | H25: FELHALMOZÁSI CÉLÚ KIADÁSOK ÖSSZESEN: | I25: =SUM(I22:I24) -> 8158950 | J25: =SUM(J22:J24) -> 11264128 | K25: =SUM(K22:K24) -> 4245234 | L25: =SUM(L22:L24) -> 617310 | M25: =SUM(M22:M24) -> 4862544 | N25: =SUM(N22:N24) -> 16126672 | O25: =G25-N25 -> 0
A26: ÖNKORMÁNYZAT ÖSSZESEN: | B26: =SUM(B12+B25) -> 40082098 | C26: =SUM(C12+C25) -> 37503994 | D26: =SUM(D12+D25) -> 6476579 | E26: =SUM(E12+E25) -> 683178 | F26: =SUM(F12+F25) -> 7159757 | G26: =SUM(G12+G25) -> 44663751 | H26: ÖNKORMÁNYZAT ÖSSZESEN: | I26: =SUM(I12+I25) -> 31086486 | J26: =SUM(J12+J25) -> 37503994 | K26: =SUM(K12+K25) -> 6476579 | L26: =SUM(L12+L25) -> 683178 | M26: =SUM(M12+M25) -> 7159757 | N26: =SUM(N12+N25) -> 44663751 | O26: =G26-N26 -> 0
A27: 9.) Forgatási célú értékpapír beváltás | B27: 1173479 | C27: 5000000 | F27: =SUM(D27:E27) -> 0 | G27: =C27+F27 -> 5000000 | H27: 7.) Forgatási célú értékpapír vásárlás hazai forrásból átmenetileg szabad pénzeszközökből | I27: 2705000 | J27: 5000000 | M27: =SUM(K27:L27) -> 0 | N27: =J27+M27 -> 5000000
A28: MINDÖSSZESEN: | B28: =SUM(B26:B27) -> 41255577 | C28: =SUM(C26:C27) -> 42503994 | D28: =SUM(D26:D27) -> 6476579 | E28: =SUM(E26:E27) -> 683178 | F28: =SUM(F26:F27) -> 7159757 | G28: =SUM(G26:G27) -> 49663751 | H28: MINDÖSSZESEN: | I28: =SUM(I26:I27) -> 33791486 | J28: =SUM(J26:J27) -> 42503994 | K28: =SUM(K26:K27) -> 6476579 | L28: =SUM(L26:L27) -> 683178 | M28: =SUM(M26:M27) -> 7159757 | N28: =SUM(N26:N27) -> 49663751 | O28: =G28-N28 -> 0
D30: költségvetési bevételek - működési | G30: =G7 -> 24316375 | J30: intézményi változás | L30: =L3+L15+L17+L19 -> 137858
D31: költségvetési kiadások - működési | G31: =N8 -> 27960052 | L31: =táj3!N22 -> 137858
D32: működési hiány | G32: =G30-G31 -> -3643677 | L32: =táj4!M22 -> 137858
D34: költségvetési bevételek - felhalmozási | G34: =G19 -> 6617456
D35: költségvetési kiadások - felhalmozási | G35: =N22 -> 16008820
D36: felhalmozási hiány | G36: =G34-G35 -> -9391364
D38: költségvetési hiány: | G38: =G32+G36 -> -13035041

Sheet 2
A1: Rovat száma | B1: Megnevezés | C1: 2024. évi tény adat | D1: 2025. évi eredeti előirányzat | E1: Módosítás összege III. névig | F1: Módosítás összege IV. név | G1: Módosítás összege | H1: 2025. évi módosított előirányzat
A2: B | B2: BEVÉTELEK
A3: B1 | B3: Működési célú támogatások államháztartáson belülről
A4: B11 | B4: Helyi önkormányzatok általános működésének és ágazati feladatainak állami támogatása | C4: 6275117 | D4: 6519307 | E4: 614586 | F4: 41795 | G4: =SUM(E4:F4) -> 656381 | H4: =SUM(D4+G4) -> 7175688
A5: B12 | B5: Elvonások és befizetések bevételei | C5: 33004 | E5: 1454 | F5: 0 | G5: =SUM(E5:F5) -> 1454 | H5: =SUM(D5+G5) -> 1454
A6: B14 | B6: Működési célú visszatérítendő támogatások, kölcsönök visszatérülése államháztartáson belülről | C6: 19000 | D6: 35700 | E6: -9700 | F6: 0 | G6: =SUM(E6:F6) -> -9700 | H6: =SUM(D6+G6) -> 26000
A7: B16 | B7: Egyéb működési célú támogatások bevételei államháztartáson belülről | C7: 1871465 | D7: 1548580 | E7: 291934 | F7: 108495 | G7: =SUM(E7:F7) -> 400429 | H7: =SUM(D7+G7) -> 1949009
B8: Működési célú támogatások államháztartáson belülről összesen | C8: =SUM(C4:C7) -> 8198586 | D8: =SUM(D4:D7) -> 8103587 | E8: =SUM(E4:E7) -> 898274 | F8: =SUM(F4:F7) -> 150290 | G8: =SUM(G4:G7) -> 1048564 | H8: =SUM(H4:H7) -> 9152151
A9: B2 | B9: Felhalmozási célú támogatások államháztartáson belülről | G9: =SUM(E9:F9) -> 0 | H9: =SUM(D9+G9) -> 0
A10: B21 | B10: Felhalmozási célú önkormányzati támogatás | C10: 900000 | E10: 436899 | F10: 0 | G10: =SUM(E10:F10) -> 436899 | H10: =SUM(D10+G10) -> 436899
A11: B25 | B11: Egyéb felhalmozási célú támogatások bevételei államháztartáson belülről | C11: 1627273 | D11: 1665620 | E11: 2326427 | F11: 392129 | G11: =SUM(E11:F11) -> 2718556 | H11: =SUM(D11+G11) -> 4384176
B12: Felhalmozási célú támogatások államháztartáson belülről összesen | C12: =SUM(C10:C11) -> 2527273 | D12: =SUM(D10:D11) -> 1665620 | E12: =SUM(E10:E11) -> 2763326 | F12: =SUM(F10:F11) -> 392129 | G12: =SUM(G10:G11) -> 3155455 | H12: =SUM(H10:H11) -> 4821075
A13: B3 | B13: Közhatalmi bevételek | G13: =SUM(E13:F13) -> 0 | H13: =SUM(D13+G13) -> 0
A14: B311 | B14: Magánszemélyek jövedelemadói | C14: 47 | G14: =SUM(E14:F14) -> 0 | H14: =SUM(D14+G14) -> 0
A15: B34 | B15: Vagyoni típusú adók (építményadó, magánszemélyek kommunális adója) | C15: 1128675 | D15: 1601000 | F15: 0 | G15: =SUM(E15:F15) -> 0 | H15: =SUM(D15+G15) -> 1601000
A16: B35 | B16: Termékek és szolgáltatások adói | G16: =SUM(E16:F16) -> 0 | H16: =SUM(D16+G16) -> 0
A17: B351 | B17: Értékesítési és forgalmi adók (iparűzési adó) | C17: 7842151 | D17: 7630000 | F17: 0 | G17: =SUM(E17:F17) -> 0 | H17: =SUM(D17+G17) -> 7630000
A18: B355 | B18: Egyéb áruhasználati és szolgáltatási adók ( idegenforgalmi adó) | C18: 29352 | D18: 40000 | F18: 0 | G18: =SUM(E18:F18) -> 0 | H18: =SUM(D18+G18) -> 40000
A19: B36 | B19: Egyéb közhatalmi bevételek (különféle bírságok, talajterhelési díj) | C19: 178266 | D19: 106900 | F19: 408 | G19: =SUM(E19:F19) -> 408 | H19: =SUM(D19+G19) -> 107308
B20: Közhatalmi bevételek összesen | C20: =SUM(C14:C19) -> 9178491 | D20: =SUM(D13:D19) -> 9377900 | E20: =SUM(E13:E19) -> 0 | F20: =SUM(F13:F19) -> 408 | G20: =SUM(G13:G19) -> 408 | H20: =SUM(H13:H19) -> 9378308
A21: B4 | B21: Működési bevételek | C21: 6178318 | D21: 5153438 | E21: 1833894 | F21: 114692 | G21: =SUM(E21:F21) -> 1948586 | H21: =SUM(D21+G21) -> 7102024
A22: B5 | B22: Felhalmozási bevételek | G22: =SUM(E22:F22) -> 0 | H22: =SUM(D22+G22) -> 0
A23: B52 | B23: Ingatlanok értékesítése | C23: 509749 | D23: 214221 | E23: 97648 | F23: 0 | G23: =SUM(E23:F23) -> 97648 | H23: =SUM(D23+G23) -> 311869
A24: B53 | B24: Egyéb tárgyi eszközök értékesítése | C24: 26941 | E24: 22498 | F24: 2413 | G24: =SUM(E24:F24) -> 24911 | H24: =SUM(D24+G24) -> 24911
A25: B54 | B25: Részesedések értékesítése | E25: 43000 | F25: 0 | G25: =SUM(E25:F25) -> 43000 | H25: =SUM(D25+G25) -> 43000
B26: Felhalmozási bevételek összesen | C26: =SUM(C23:C25) -> 536690 | D26: =SUM(D23:D25) -> 214221 | E26: =SUM(E23:E25) -> 163146 | F26: =SUM(F23:F25) -> 2413 | G26: =SUM(G23:G25) -> 165559 | H26: =SUM(H23:H25) -> 379780
A27: B6 | B27: Működési célú átvett pénzeszközök | C27: 75182 | E27: 48059 | F27: 22035 | G27: =SUM(E27:F27) -> 70094 | H27: =SUM(D27+G27) -> 70094
A28: B7 | B28: Felhalmozási célú átvett pénzeszközök | G28: =SUM(E28:F28) -> 0 | H28: =SUM(D28+G28) -> 0
A29: B74 | B29: Felhalmozási célú visszatérítendő támogatások, kölcsönök visszatérülése államháztartáson kívülről | C29: 9199 | D29: 15224 | G29: =SUM(E29:F29) -> 0 | H29: =SUM(D29+G29) -> 15224
A30: B75 | B30: Egyéb felhalmozási célú átvett pénzeszközök | C30: 58592 | E30: 13964 | F30: 1211 | G30: =SUM(E30:F30) -> 15175 | H30: =SUM(D30+G30) -> 15175
B31: Felhalmozási célú átvett pénzeszközök összesen | C31: =SUM(C29:C30) -> 67791 | D31: =SUM(D29:D30) -> 15224 | E31: =SUM(E29:E30) -> 13964 | F31: =SUM(F29:F30) -> 1211 | G31: =SUM(G29:G30) -> 15175 | H31: =SUM(H29:H30) -> 30399
A32: B1-B7 | B32: Költségvetési bevételek | C32: =SUM(C8+C12+C20+C21+C26+C27+C31) -> 26762331 | D32: =SUM(D8+D12+D20+D21+D26+D27+D31) -> 24529990 | E32: =SUM(E8+E12+E20+E21+E26+E27+E31) -> 5720663 | F32: =SUM(F8+F12+F20+F21+F26+F27+F31) -> 683178 | G32: =SUM(G8+G12+G20+G21+G26+G27+G31) -> 6403841 | H32: =SUM(H8+H12+H20+H21+H26+H27+H31) -> 30933831
A33: B8 | B33: Finanszírozási bevételek | G33: =SUM(E33:F33) -> 0 | H33: =SUM(D33+G33) -> 0
A34: B81 | B34: Belföldi finanszírozás bevételei | G34: =SUM(E34:F34) -> 0 | H34: =SUM(D34+G34) -> 0
A35: B811 | B35: Hitel-, kölcsönfelvétel államháztartáson kívülről | G35: =SUM(E35:F35) -> 0 | H35: =SUM(D35+G35) -> 0
A36: B8121 | B36: Forgatási célú belföldi értékpapírok beváltása, értékesítése | C36: 4636988 | D36: 10889513 | G36: =SUM(E36:F36) -> 0 | H36: =SUM(D36+G36) -> 10889513
A37: B813 | B37: Maradvány igénybevétele | C37: 8679020 | D37: 7084491 | E37: 379600 | F37: 0 | G37: =SUM(E37:F37) -> 379600 | H37: =SUM(D37+G37) -> 7464091
A38: B814 | B38: Államháztartáson belüli megelőlegezések | C38: 207278 | E38: 376316 | F38: 0 | G38: =SUM(E38:F38) -> 376316 | H38: =SUM(D38+G38) -> 376316
A39: B817 | B39: Lekötött bankbetétek megszüntetése | C39: 969960 | G39: =SUM(E39:F39) -> 0 | H39: =SUM(D39+G39) -> 0
B40: Finanszírozási bevételek összesen | C40: =SUM(C35:C39) -> 14493246 | D40: =SUM(D35:D38) -> 17974004 | E40: =SUM(E35:E38) -> 755916 | F40: =SUM(F35:F38) -> 0 | G40: =SUM(G35:G38) -> 755916 | H40: =SUM(H35:H38) -> 18729920
B41: BEVÉTELEK ÖSSZESEN: | C41: =SUM(C32+C40) -> 41255577 | D41: =SUM(D32+D40) -> 42503994 | E41: =SUM(E32+E40) -> 6476579 | F41: =SUM(F32+F40) -> 683178 | G41: =SUM(G32+G40) -> 7159757 | H41: =SUM(H32+H40) -> 49663751

Sheet 3
B1: Mutató | D1: 2025. tervezett bevétel | F1: Mutató | H1: 2025. módosított bevételi ei. | O1: EREDETI EI.
A2: Hozzájárulás jogcíme | B2: lakosságszám | C2: mutató | D2: Normatíva Ft/fő | E2: Hozzájárulás ezer Ft-ban | F2: lakosságszám | G2: mutató | H2: Normatíva Ft/fő | I2: Hozzájárulás ezer Ft-ban | O2: Forintban
A3: 2. melléklet szerinti jogcímek
A4: 1.1. Települési önkormányzatok működésének általános támogatása
A5: 1.1.1.1. önkormányzati hivatal működésének támogatása - elismert hivatali létszám alapján | B5: 54752 | C5: 126.66 | D5: 6633500 | E5: 840199 | F5: 54297 | G5: 125.82 | H5: 6994000 | I5: 879985 | J5: =I5-K5 -> -0.08 | K5: =L5/1000 -> 879985.08 | L5: 879985080 | M5: 879985080 | N5: 879985080 | O5: 840199110
A6: Település-üzemeltetéshez kapcsolódó feladataellátás támogatása | J6: =I6-K6 -> 0 | K6: =L6/1000 -> 0
A7: 1.1.1.2. zöldterület-gazdálkodás támogatása (hektár) | C7: 23950.2 | D7: 26000 | E7: 62275 | G7: 23950.2 | H7: 26000 | I7: 62275 | J7: =I7-K7 -> -0.2 | K7: =L7/1000 -> 62275.2 | L7: 62275200 | M7: 62275200 | N7: 62275200 | O7: 62275200
A8: 1.1.1.3. közvilágítás támogatása (km) | C8: 408.5 | D8: 425000 | E8: 173613 | G8: 408.5 | H8: 425000 | I8: 173613 | J8: =I8-K8 -> 0.5 | K8: =L8/1000 -> 173612.5 | L8: 173612500 | M8: 173612500 | N8: 173612500 | O8: 173612500
A9: 1.1.1.4. köztemető támogatása (m²) | C9: 321768 | D9: 85 | E9: 27350 | G9: 321768 | H9: 85 | I9: 27350 | J9: =I9-K9 -> -0.28 | K9: =L9/1000 -> 27350.28 | L9: 27350280 | M9: 27350280 | N9: 27350280 | O9: 27350280
A10: 1.1.1.5. közutak támogatása (km) | C10: 203.003 | D10: 485000 | E10: 98456 | G10: 203.003 | H10: 485000 | I10: 98456 | J10: =I10-K10 -> -0.455 | K10: =L10/1000 -> 98456.455 | L10: 98456455 | M10: 98456455 | N10: 98456455 | O10: 98456455
A11: 1.1.1.6. egyéb önkormányzati feladatok támogatása | B11: 54297 | D11: 2800 | E11: 152032 | F11: 54297 | H11: 2800 | I11: 152032 | J11: =I11-K11 -> 0.4 | K11: =L11/1000 -> 152031.6 | L11: 152031600 | M11: 152031600 | N11: 152031600 | O11: 152031600
A12: 1.1.1.7. Lakott külterülettel kapcsolatos feladatok támogatása | B12: 4951 | D12: 2550 | E12: 12625 | F12: 4951 | H12: 2550 | I12: 12625 | J12: =I12-K12 -> -0.05 | K12: =L12/1000 -> 12625.05 | L12: 12625050 | M12: 12625050 | N12: 12625050 | O12: 12625050
A13: 1.1.2. Nem közművel összegyűjtött háztartási szennyvíz ártalmatlanítása | G13: 2000 | H13: 500 | I13: 1000 | J13: =I13-K13 -> 0 | K13: =L13/1000 -> 1000 | L13: 1000000 | M13: 1000000
A14: 1.2. Óvodaműködtetési támogatás | J14: =I14-K14 -> 0 | K14: =L14/1000 -> 0
A15: 1.2.1.1. Óvodaműködtetési támogatás | C15: 1302.7 | D15: 172374 | E15: 224552 | G15: 1314.3 | H15: 172374 | I15: 226551 | J15: =I15-K15 -> -0.1482 | K15: =L15/1000 -> 226551.15 | L15: =G15*H15 -> 2.2655115e+08 | M15: 227533680 | N15: 224551610 | O15: 224551610
A16: 1.2.2.1. Az óvodában foglalkoztatott pedagógusok átlagbéralapú támogatása | C16: 119.9 | D16: 8372000 | E16: 1003803 | G16: 121.2 | H16: 8372000 | I16: 1014686 | J16: =I16-K16 -> -0.4 | K16: =L16/1000 -> 1014686.4 | L16: =G16*H16 -> 1014686400 | M16: 1016360800 | N16: 1003802800 | O16: 1003802800
A17: -pedagógusok 2025. január 1-jei béremeléséhez | C17: 119.9 | D17: 1775000 | E17: 212822 | G17: 121.2 | H17: 1775000 | I17: 215130 | J17: =I17-K17 -> 0 | K17: =L17/1000 -> 215130 | L17: =G17*H17 -> 215130000 | M17: 215485000 | N17: 212822500 | O17: 212822500
A18: - óvodapedagógusok béremelése az 1231/2025. (VI.30.)Korm. határozat és a 182/2025. (VI.30.) Korm. rendelet alapján | G18: 121.2 | H18: 90000 | I18: 10908 | J18: =I18-K18 -> 0 | K18: =L18/1000 -> 10908 | L18: =G18*H18 -> 10908000 | M18: 10926000
A19: 1.2.3. Kiegészítő támogatás az óvodapedagógusok minősítéséből adódó többletkiadásokhoz | J19: =I19-K19 -> 0 | K19: =L19/1000 -> 0 | L19: =G19*H19 -> 0
A20: 1.2.3.1.1.1.1. Pedagógus II. kategóriába sorolt pedagógusok kiegészítő támogatása | C20: 44 | D20: 717000 | E20: 31548 | G20: 44.7 | H20: 717000 | I20: 32050 | J20: =I20-K20 -> 0.1 | K20: =L20/1000 -> 32049.9 | L20: =G20*H20 -> 32049900 | M20: 30759300 | N20: 31548000 | O20: 31548000
A21: -pedagógusok 2025. január 1-jei béremeléséhez | C21: 44 | D21: 152000 | E21: 6688 | G21: 44.7 | H21: 152000 | I21: 6794 | J21: =I21-K21 -> -0.4 | K21: =L21/1000 -> 6794.4 | L21: =G21*H21 -> 6794400 | M21: 6520800 | N21: 6688000 | O21: 6688000
A22: 1.2.3.1.1.1.2. Mesterpedagógus, kutatótanár kategóriába sorolt pedagógusok kiegészítő támogatása | C22: 2 | D22: 2674000 | E22: 5348 | G22: 4 | H22: 2674000 | I22: 10696 | J22: =I22-K22 -> 0 | K22: =L22/1000 -> 10696 | L22: =G22*H22 -> 10696000 | M22: 10696000 | N22: 5348000 | O22: 5348000
A23: -pedagógusok 2025. január 1-jei béremeléséhez | C23: 2 | D23: 567000 | E23: 1134 | G23: 4 | H23: 567000 | I23: 2268 | J23: =I23-K23 -> 0 | K23: =L23/1000 -> 2268 | L23: =G23*H23 -> 2268000 | M23: 2268000 | N23: 1134000 | O23: 1134000
A24: 1.2.3.1.1.2.1. Mesterfokozatú végzettségű pedagógus II.kategóriába sorolt pedagógusok kiegészítő támogatása | C24: 1 | D24: 864000 | E24: 864 | G24: 1 | H24: 864000 | I24: 864 | J24: =I24-K24 -> 0 | K24: =L24/1000 -> 864 | L24: =G24*H24 -> 864000 | M24: 864000 | N24: 864000 | O24: 864000
A25: -pedagógusok 2025. január 1-jei béremeléséhez | C25: 1 | D25: 183000 | E25: 183 | G25: 1 | H25: 183000 | I25: 183 | J25: =I25-K25 -> 0 | K25: =L25/1000 -> 183 | L25: =G25*H25 -> 183000 | M25: 183000 | N25: 183000 | O25: 183000
A26: 1.2.5.1.1. Az óvodában foglalkoztatott pedagógusok nevelőmunkáját közvetlenük segítők átlagbéralapú támogatása | C26: 82 | D26: 5268000 | E26: 431976 | G26: 81.7 | H26: 5268000 | I26: 430396 | J26: =I26-K26 -> 0.4 | K26: =L26/1000 -> 430395.6 | L26: =G26*H26 -> 430395600 | M26: 431976000 | N26: 431976000 | O26: 431976000
A27: 1.3.2.Szociális és gyermekjóléti alapszolgáltatás feladatai | J27: =I27-K27 -> 0 | K27: =L27/1000 -> 0 | L27: =G27*H27 -> 0
A28: 1.3.2.1. Család és gyermekjóléti szolgálat | C28: 8.3 | D28: 6643100 | E28: 55138 | G28: 9 | H28: 7140000 | I28: 64260 | J28: =I28-K28 -> 0 | K28: =L28/1000 -> 64260 | L28: =G28*H28 -> 64260000 | M28: 64260000 | N28: 64260000 | O28: 55137730
A29: 1.3.2.2. Család- és gyermekjóléti központ ( járáshoz tartozó összes településre) | C29: 22.6 | D29: 6770000 | E29: 153002 | G29: 22.6 | H29: 6770000 | I29: 153002 | J29: =I29-K29 -> 0 | K29: =L29/1000 -> 153002 | L29: =G29*H29 -> 153002000 | M29: 153002000 | N29: 153002000 | O29: 153002000
A30: 1.3.2.2. Család- és gyermekjóléti központ kiegészítés a kijelölt intézmény esetében | C30: 1 | D30: 15000000 | E30: 15000 | G30: 1 | H30: 15000000 | I30: 15000 | J30: =I30-K30 -> 0 | K30: =L30/1000 -> 15000 | L30: =G30*H30 -> 15000000 | M30: 15000000 | N30: 15000000 | O30: 15000000
A31: 1.3.2.2.2. Óvodai és iskolai szociális segítő tevékenység támogatása | C31: 13726 | D31: 5255 | E31: 72130 | G31: 13726 | H31: 5255 | I31: 72130 | J31: =I31-K31 -> -0.13 | K31: =L31/1000 -> 72130.13 | L31: =G31*H31 -> 72130130 | M31: 72130130 | N31: 72130130 | O31: 72130130
A32: 1.3.2.3.2. Szociális étkeztetés - társulás által történő feladatellátás | C32: 310 | D32: 97410 | E32: 30197 | G32: 310 | H32: 97410 | I32: 30197 | J32: =I32-K32 -> -0.1 | K32: =L32/1000 -> 30197.1 | L32: =G32*H32 -> 30197100 | M32: 30197100 | N32: 30197100 | O32: 30197100
A33: 1.3.2.4. Házi segítségnyújtás | J33: =I33-K33 -> 0 | K33: =L33/1000 -> 0 | L33: =G33*H33 -> 0
A34: 1.3.2.4.1. Szociális segítés | C34: 2 | D34: 25000 | E34: 50 | G34: 2 | H34: 25000 | I34: 50 | J34: =I34-K34 -> 0 | K34: =L34/1000 -> 50 | L34: =G34*H34 -> 50000 | M34: 50000 | N34: 50000 | O34: 50000
A35: 1.3.2.4.3. Személyi gondozás - társulás által történő feladatellátás | C35: 50 | D35: 842600 | E35: 42130 | G35: 50 | H35: 842600 | I35: 42130 | J35: =I35-K35 -> 0 | K35: =L35/1000 -> 42130 | L35: =G35*H35 -> 42130000 | M35: 42130000 | N35: 42130000 | O35: 42130000
A36: 1.3.2.6. Időskorúak nappali intézményi ellátása társulás által történő feladatellátás | C36: 55 | D36: 558800 | E36: 30734 | G36: 55 | H36: 558800 | I36: 30734 | J36: =I36-K36 -> 0 | K36: =L36/1000 -> 30734 | L36: =G36*H36 -> 30734000 | M36: 30734000 | N36: 30734000 | O36: 30734000
A37: 1.3.2.8.2. Demens személyek nappali intézményi ellátása - társulás által történő feladatellátás | C37: 4 | D37: 1119800 | E37: 4479 | G37: 4 | H37: 1119800 | I37: 4479 | J37: =I37-K37 -> -0.2 | K37: =L37/1000 -> 4479.2 | L37: =G37*H37 -> 4479200 | M37: 4479200 | N37: 4479200 | O37: 4479200
A38: 1.3.2.9.2. Pszichiátriai betegek nappali intézményi ellátása - társulás által történő feladatellátás | C38: 20 | D38: 605500 | E38: 12110 | G38: 20 | H38: 605500 | I38: 12110 | J38: =I38-K38 -> 0 | K38: =L38/1000 -> 12110 | L38: =G38*H38 -> 12110000 | M38: 12110000 | N38: 12110000 | O38: 12110000
A39: 1.3.2.10.2. Szenvedélybetegek nappali intézményi ellátása - társulás által történő feladatellátás | C39: 8 | D39: 579400 | E39: 4635 | G39: 8 | H39: 579400 | I39: 4635 | J39: =I39-K39 -> -0.2 | K39: =L39/1000 -> 4635.2 | L39: =G39*H39 -> 4635200 | M39: 4635200 | N39: 4635200 | O39: 4635200
A40: 1.3.3. Bölcsőde, mini böcsőde támogatása | J40: =I40-K40 -> 0 | K40: =L40/1000 -> 0 | L40: =G40*H40 -> 0
A41: 1.3.3.1. Bölcsődei bértámogatás | J41: =I41-K41 -> 0 | K41: =L41/1000 -> 0 | L41: =G41*H41 -> 0
A42: 1.3.3.1.1. Felsőfokú végzettségű kisgyermeknevelők, szaktanácsadók bértámogatása | C42: 23.7 | D42: 8522000 | E42: 201971 | G42: 25 | H42: 8522000 | I42: 213050 | J42: =I42-K42 -> 0 | K42: =L42/1000 -> 213050 | L42: =G42*H42 -> 213050000 | M42: 208789000 | N42: 201971400 | O42: 201971400
A43: -pedagógusok 2025. január 1-jei béremeléséhez | C43: 23.7 | D43: 1775000 | E43: 42068 | G43: 25 | H43: 1775000 | I43: 44375 | J43: =I43-K43 -> 0 | K43: =L43/1000 -> 44375 | L43: =G43*H43 -> 44375000 | M43: 43487500 | N43: 42067500 | O43: 42067500
A44: 1.3.3.1.2. Bölcsődei dajkák,középfokú végzettségű kisgyermeknevelők, szaktanácsadók bértámogatása | C44: 60.3 | D44: 7338000 | E44: 442481 | G44: 57.9 | H44: 7338000 | I44: 424870 | J44: =I44-K44 -> -0.2 | K44: =L44/1000 -> 424870.2 | L44: =G44*H44 -> 424870200 | M44: 425604000 | N44: 442481400 | O44: 442481400
A45: 1.3.3.2. Bölcsődei üzemeltetési támogatás | E45: 119963 | I45: 119963 | J45: =I45-K45 -> 0.253 | K45: =L45/1000 -> 119962.75 | L45: 119962747 | M45: 119962747 | N45: 119962747 | O45: 119962747
A46: 1.3.4. A települési önk. által biztosított egyes szociális szakosított ellátások, valamint a gyermekek átmeneti gondozásával kapcsolatos feladataok támogatása | J46: =I46-K46 -> 0 | K46: =L46/1000 -> 0 | L46: =G46*H46 -> 0
A47: 1.3.4.1 Bértámogatása | C47: 35.2 | D47: 7791200 | E47: 274250 | G47: 35.2 | H47: 7791200 | I47: 274250 | J47: =I47-K47 -> -0.24 | K47: =L47/1000 -> 274250.24 | L47: =G47*H47 -> 274250240 | M47: 274250240 | N47: 274250240 | O47: 274250240
A48: 1.3.4.2. Intézmény üzemeltetési támogatás | E48: 28719 | I48: 28719 | J48: =I48-K48 -> 0.029 | K48: =L48/1000 -> 28718.971 | L48: 28718971 | M48: 28718971 | N48: 28718971 | O48: 28718971
A49: 1.4.1. Intézményi gyermekétkeztetés támogatása | J49: =I49-K49 -> 0 | K49: =L49/1000 -> 0 | L49: =G49*H49 -> 0
A50: 1.4.1.1. Intézményi gyermekétkeztetés bértámogatás | C50: 98.4 | D50: 3924000 | E50: 386122 | G50: 95.18 | H50: 3924000 | I50: 373487 | J50: =I50-K50 -> 0.68 | K50: =L50/1000 -> 373486.32 | L50: =G50*H50 -> 373486320 | M50: 384355800 | N50: 386121600 | O50: 386121600
A51: 1.4.1.2. Intézményi gyermekétkeztetés - üzemeltetési támogatás | E51: 380951 | I51: 422544 | J51: =I51-K51 -> -0.028 | K51: =L51/1000 -> 422544.03 | L51: 422544028 | M51: 422544028 | N51: 380950504 | O51: 380950504
A52: 1.4.2. Szünidei étkeztetés támogatása | C52: 576 | D52: 285 | E52: 164 | G52: 416 | H52: 285 | I52: 119 | J52: =I52-K52 -> 0.44 | K52: =L52/1000 -> 118.56 | L52: =G52*H52 -> 118560 | M52: 158460 | N52: 164160 | O52: 164160
A53: 1.5. A települési önkormányzatok kulturális feladatainak támogatása | J53: =I53-K53 -> 0 | K53: =L53/1000 -> 0
A54: 1.5.1. Vármegyeszékhely megyei jogú városok kulturális feladatainak támogatása | B54: 54297 | D54: 964 | E54: 52342 | F54: 54297 | H54: 964 | I54: 52342 | J54: =I54-K54 -> -0.308 | K54: =L54/1000 -> 52342.308 | L54: 52342308 | M54: 52342308 | N54: 52342308 | O54: 52342308
A55: 1.5.5. Vármegyei hatókörű városi könyvtár kistelepülési könyvtári célú kiegészítő támogatása | E55: 176203 | I55: 176203 | J55: =I55-K55 -> 0.38 | K55: =L55/1000 -> 176202.62 | L55: 176202620 | M55: 176202620 | N55: 176202620 | O55: 176202620
A56: 3. melléklet: Helyi önkormányzatok kiegészítő támogatásai | J56: =I56-K56 -> 0 | K56: =L56/1000 -> 0
A57: 2.1.5. Önkormányzatok rendkívüli támogatása | I57: 354098 | J57: =I57-K57 -> 0.318 | K57: =L57/1000 -> 354097.68 | L57: 354097682 | M57: 354097682
A58: 2.3.2. Szociális ágazati összevont pótlék és egészségügyi kiegészítő pótlék | I58: 194391 | J58: =I58-K58 -> 0.207 | K58: =L58/1000 -> 194390.79 | L58: 194390793 | M58: 143185570 | N58: 91727557
A59: 2.4.2. Vármegyei hatókörű városi múzeumok feladatainak támogatása (Zalaegerszegi Múzeumok Igazgatósága) | E59: 110200 | I59: 110200 | J59: =I59-K59 -> 0 | K59: =L59/1000 -> 110200 | L59: 110200000 | M59: 110200000 | N59: 110200000 | O59: 110200000
A60: bértámogatás 682/2021. (XII.16.) Korm.rendelet | E60: 40649 | I60: 40649 | J60: =I60-K60 -> -0.414 | K60: =L60/1000 -> 40649.414 | L60: 40649414 | M60: 40649414 | N60: 40649414 | O60: 40649414
A61: 2.4.3. Vármegyei hatáskörű városi könyvtárak feladatainak támogatása (Deák Ferenc Megyei és Városi Könyvtár) | E61: 135000 | I61: 135000 | J61: =I61-K61 -> 0 | K61: =L61/1000 -> 135000 | L61: 135000000 | M61: 135000000 | N61: 135000000 | O61: 135000000
A62: bértámogatás 682/2021. (XII.16.) Korm.rendelet | E62: 35500 | I62: 35500 | J62: =I62-K62 -> 0 | K62: =L62/1000 -> 35500 | L62: 35500000 | M62: 35500000 | N62: 35500000 | O62: 35500000
A63: 2.4.7. Települési önkormányzatok kulturális feladatainak bérjellegű támogatása | E63: 237651 | I63: 239208 | J63: =I63-K63 -> 0.383 | K63: =L63/1000 -> 239207.62 | L63: 239207617 | M63: 239207617 | N63: 239207617 | O63: 237651143
A64: 2.4.8. A települési önkormányzatok könyvtári célú érdekeltségnövelő támogatása | I64: 131 | J64: =I64-K64 -> 0 | K64: =L64/1000 -> 131 | L64: 131000
A65: 2.4.9. Zalaegerszegi Mindszentyneum működtetési támogatása | E65: 150000 | I65: 150000 | J65: =I65-K65 -> 0 | K65: =L65/1000 -> 150000 | L65: 150000000 | M65: 150000000 | N65: 150000000 | O65: 150000000
A66: 3.1 Vis maior támogatás | I66: 26899 | J66: =I66-K66 -> -0.75 | K66: =L66/1000 -> 26899.75 | L66: 26899750 | M66: 26899750 | N66: 1476720
A67: IX. Helyi önkormányzatok támogatásai fejezet 14. Zalaegerszeg Megyei Jogú Város fejlesztési feladatainak támogatása | I67: 410000 | J67: =I67-K67 -> 0 | K67: =L67/1000 -> 410000 | L67: 410000000 | M67: 410000000 | N67: 410000000
A68: Állami hozzájárulás összesen: | E68: =SUM(E5:E65) -> 6519307 | I68: =SUM(I5:I67) -> 7612587 | K68: =SUM(K5:K67) -> 7612587.5 | L68: =SUM(L5:L67) -> 7.6125875e+09 | M68: =SUM(M5:M67) -> 7570792082 | N68: =SUM(N5:N67) -> 7072976463 | O68: =SUM(O5:O67) -> 6519307472

Sheet 4
A1: Rovat száma | B1: Megnevezés | C1: 2024. évi tény adat | D1: 2025. évi eredeti előirányzat | E1: Módosítás összege | F1: 2025. évi módosított előirányzat
B2: Költségvetési kiadások
A3: K1 | B3: Személyi juttatások | C3: 6759751 | D3: 7656349 | E3: =390379+táj2!G653 -> 444742 | F3: =SUM(D3:E3) -> 8101091
A4: K2 | B4: Munkaadókat terhelő járulékok és szociális hj. adó | C4: 902730 | D4: 1117509 | E4: =47604+táj2!H653 -> 31223 | F4: =SUM(D4:E4) -> 1148732
A5: K3 | B5: Dologi kiadások | C5: 7957478 | D5: 10698899 | E5: =468887+táj2!I653 -> 461431 | F5: =SUM(D5:E5) -> 11160330
A6: K4 | B6: Ellátottak pénzbeli juttatásai | C6: 64566 | D6: 132608 | E6: =-11923+táj2!J653 -> -11923 | F6: =SUM(D6:E6) -> 120685
A7: K5 | B7: Egyéb működési célú kiadások | C7: 7135345 | D7: 6512899 | E7: =960082+táj2!K653 -> 995424 | F7: =SUM(D7:E7) -> 7508323
B8: Működési költségvetés összesen: | C8: 22819870 | D8: =SUM(D3:D7) -> 26118264 | E8: =SUM(E3:E7) -> 1920897 | F8: =SUM(F3:F7) -> 28039161
A9: K6 | B9: Beruházások | C9: 3782739 | D9: 7540931 | E9: =2391326+táj2!L653 -> 2735030 | F9: =SUM(D9:E9) -> 10275961
A10: K7 | B10: Felújítások | C10: 2610578 | D10: 2950784 | E10: =2228033+táj2!M653 -> 2501245 | F10: =SUM(D10:E10) -> 5452029
A11: K8 | B11: Egyéb felhalmozási célú kiadások | C11: 1556518 | D11: 575452 | E11: =-374125+táj2!N653 -> -373731 | F11: =SUM(D11:E11) -> 201721
B12: Felhalmozási költségvetés összesen: | C12: 7949835 | D12: =SUM(D9:D11) -> 11067167 | E12: =SUM(E9:E11) -> 4862544 | F12: =SUM(F9:F11) -> 15929711
A13: K1-K8 | B13: Költségvetési kiadások összesen: | C13: 30769705 | D13: =SUM(D8+D12) -> 37185431 | E13: =SUM(E8+E12) -> 6783441 | F13: =SUM(F8+F12) -> 43968872
A14: K9 | B14: Finanszírozási kiadások | C14: 3021781 | D14: 5318563 | E14: =376316+táj2!O653+táj2!P653 -> 376316 | F14: =SUM(D14:E14) -> 5694879
B15: Önkormányzat kiadásai összesen | C15: 33791486 | D15: =SUM(D13:D14) -> 42503994 | E15: =SUM(E13:E14) -> 7159757 | F15: =SUM(F13:F14) -> 49663751

Sheet 5
A1: Cím szám | B1: Alcím szám | C1: Megnevezés | D1: Költségvetési bevételek | K1: Finanszírozási bevételek | N1: Összesen
D2: Működési célú támogatások áht-n belülről | E2: Felhalmozási célú támogatások áht-n belülről | F2: Közhatalmi bevételek | G2: Működési bevételek | H2: Felhalmozási bevételek | I2: Működési célú átvett pénzeszközök | J2: Felhalmozási célú átvett pénzeszközök | K2: Hitel-, kölcsönfelvétel áht-n kívülről | L2: Maradvány igénybevétele | M2: Egyéb finanszírozási bevétel
A3: 1 | C3: Önkormányzat
B4: 12 | C4: Szociális és igazgatási feladatok | D4: ='6'!E8 -> 0 | E4: ='6'!F8 -> 0 | F4: ='6'!G8 -> 0 | G4: ='6'!H8 -> 24381 | H4: ='6'!I8 -> 0 | I4: ='6'!J8 -> 0 | J4: ='6'!K8 -> 0 | K4: ='6'!L8 -> 0 | ... M4: ='6'!N8 -> 0 | N4: =SUM(D4:M4) -> 24381
B5: 13 | C5: Humánigazgatási feladatok | D5: ='6'!E29 -> 366675 | E5: ='6'!F29 -> 6000 | F5: ='6'!G29 -> 0 | G5: ='6'!H29 -> 9101 | H5: ='6'!I29 -> 0 | I5: ='6'!J29 -> 14695 | J5: ='6'!K29 -> 13224 | K5: ='6'!L29 -> 0 | ... M5: ='6'!N29 -> 0 | N5: =SUM(D5:M5) -> 409695
B6: 14 | C6: Főépítészi feladatok | D6: ='6'!E34 -> 0 | E6: ='6'!F34 -> 0 | F6: ='6'!G34 -> 0 | G6: ='6'!H34 -> 5080 | H6: ='6'!I34 -> 0 | I6: ='6'!J34 -> 0 | J6: ='6'!K34 -> 0 | K6: ='6'!L34 -> 0 | ... M6: ='6'!N34 -> 0 | N6: =SUM(D6:M6) -> 9131
B7: 15 | C7: Városüzemelési felad. | D7: ='6'!E60 -> 0 | E7: ='6'!F60 -> 0 | F7: ='6'!G60 -> 0 | G7: ='6'!H60 -> 868955 | H7: ='6'!I60 -> 4000 | I7: ='6'!J60 -> 0 | J7: ='6'!K60 -> 12887 | K7: ='6'!L60 -> 0 | ... M7: ='6'!N60 -> 0 | N7: =SUM(D7:M7) -> 922955
B8: 16 | C8: Városépítészeti feladatok | D8: ='6'!E101 -> 762666 | E8: ='6'!F101 -> 4772311 | F8: ='6'!G101 -> 0 | G8: ='6'!H101 -> 2065695 | H8: ='6'!I101 -> 0 | I8: ='6'!J101 -> 0 | J8: ='6'!K101 -> 500 | K8: ='6'!L101 -> 0 | ... M8: ='6'!N101 -> 4036710 | N8: =SUM(D8:M8) -> 15772365
B9: 17 | C9: Vagyonkez. feladatok | D9: ='6'!E135 -> 0 | E9: ='6'!F135 -> 0 | F9: ='6'!G135 -> 0 | G9: ='6'!H135 -> 1712254 | H9: ='6'!I135 -> 373367 | I9: ='6'!J135 -> 0 | J9: ='6'!K135 -> 2000 | K9: ='6'!L135 -> 0 | ... M9: ='6'!N135 -> 52803 | N9: =SUM(D9:M9) -> 2148244
B10: 18 | C10: Jogi és közig. feladatok | D10: ='6'!E143 -> 0 | E10: ='6'!F143 -> 0 | F10: ='6'!G143 -> 96308 | G10: ='6'!H143 -> 47217 | H10: ='6'!I143 -> 0 | I10: ='6'!J143 -> 0 | J10: ='6'!K143 -> 0 | K10: ='6'!L143 -> 0 | ... M10: ='6'!N143 -> 0 | N10: =SUM(D10:M10) -> 143525
B11: 19 | C11: Pénzügyi lebonyolítás | D11: ='6'!E177 -> 7053142 | E11: ='6'!F177 -> 26899 | F11: ='6'!G177 -> 9277000 | G11: ='6'!H177 -> 266342 | H11: ='6'!I177 -> 0 | I11: ='6'!J177 -> 41100 | J11: ='6'!K177 -> 800 | K11: ='6'!L177 -> 0 | ... M11: ='6'!N177 -> 7176316 | N11: =SUM(D11:M11) -> 26132251
B12: 22 | C12: Polgármesteri Kabinet | D12: ='6'!E186 -> 2567 | E12: ='6'!F186 -> 0 | F12: ='6'!G186 -> 0 | G12: ='6'!H186 -> 0 | H12: ='6'!I186 -> 0 | I12: ='6'!J186 -> 12238 | J12: ='6'!K186 -> 0 | K12: ='6'!L186 -> 0 | ... M12: ='6'!N186 -> 0 | N12: =SUM(D12:M12) -> 14805
C13: Önkormányzat összesen költségvetési szervek nélkül | D13: =SUM(D4:D12) -> 8185050 | E13: =SUM(E4:E12) -> 4805210 | F13: =SUM(F4:F12) -> 9373308 | G13: =SUM(G4:G12) -> 4999025 | H13: =SUM(H4:H12) -> 377367 | I13: =SUM(I4:I12) -> 68033 | J13: =SUM(J4:J12) -> 29411 | K13: =SUM(K4:K12) -> 0 | ... M13: =SUM(M4:M12) -> 11265829 | N13: =SUM(D13:M13) -> 45577352
A14: 2 | C14: Költségvetési szervek | D14: ='9'!G22 -> 967101 | E14: ='9'!H22 -> 15865 | F14: ='9'!I22 -> 5000 | G14: ='9'!J22 -> 2102999 | H14: ='9'!K22 -> 2413 | I14: ='9'!L22 -> 2061 | J14: ='9'!M22 -> 988 | L14: ='9'!N22 -> 989972 | N14: =SUM(D14:M14) -> 4086399
C15: Önkormányzat összesen: | D15: =SUM(D13:D14) -> 9152151 | E15: =SUM(E13:E14) -> 4821075 | F15: =SUM(F13:F14) -> 9378308 | G15: =SUM(G13:G14) -> 7102024 | H15: =SUM(H13:H14) -> 379780 | I15: =SUM(I13:I14) -> 70094 | J15: =SUM(J13:J14) -> 30399 | K15: =SUM(K13:K14) -> 0 | ... M15: =SUM(M13:M14) -> 11265829 | N15: =SUM(D15:M15) -> 49663751

Sheet 6
A1: Cím szám | B1: Alcím szám | C1: Megnevezés | D1: Tervezési alapegység | E1: Költségvetési bevételek | L1: Finanszírozási bevételek | O1: Összesen:
E2: Működési célú támogatások áht-n belülről | F2: Felhalmozási célú támogatások áht-n belülről | G2: Közhatalmi bevételek | H2: Működési bevételek | I2: Felhalmozási bevételek | J2: Működési célú átvett pénzeszközök | K2: Felhalmozási célú átvett pénzeszközök | L2: Hitel-, kölcsönfelvétel áht-n kívülről | M2: Maradvány igénybevétele | N2: Egyéb finanszírozási bevétel
A3: 1 | C3: Önkormányzat
A4: 1 | B4: 1 | C4: Szakosztályok
A5: 1 | B5: 12 | C5: Szociális és igazgatási feladatok
C6: 011130 Önkorm. és önkorm. hivatal. jogalk. és ált.ig.tev.
C7: - Egerszeg kártya értékesítés | D7: 221 902 | H7: =24381+táj1!H7 -> 24381 | O7: =SUM(H7:N7) -> 24381
C8: Szociális és igazgatási feladatok összesen: | E8: =SUM(E5:E7) -> 0 | F8: =SUM(F5:F7) -> 0 | G8: =SUM(G5:G7) -> 0 | H8: =SUM(H5:H7) -> 24381 | I8: =SUM(I5:I7) -> 0 | J8: =SUM(J5:J7) -> 0 | K8: =SUM(K5:K7) -> 0 | N8: =SUM(N7:N7) -> 0 | O8: =SUM(O7:O7) -> 24381
A9: 1 | B9: 13 | C9: Humánigazgatási feladatok
C10: 101211 Fogyatékossággal élők tartós bentlakásos ellátása
C11: - Református Egyház által fizetendő bérleti díj | D11: 131703 | H11: =9101+táj1!H11 -> 9101 | O11: =SUM(E11:N11) -> 9101
C12: 081041 Versenysport- és utánpótlás-nevelési tevékenység
C13: - Andráshidai TE részére TAO támogatás megelőlegezés visszafizetése | D13: 132949 | K13: =13224+táj1!K13 -> 13224 | O13: =SUM(E13:N13) -> 13224
C14: 018030 Támogatási célú finanszírozási műveletek
C15: - Hevesi Sándor Színház társműködtetöi támogatás | D15: 131508 | E15: =72125+táj1!E15 -> 72125 | O15: =SUM(E15:N15) -> 72125
C16: - Griff Bábszínház társműködtetöi támogatás | D16: 131509 | E16: =16250+táj1!E16 -> 16250 | O16: =SUM(E16:N16) -> 16250
C17: - Mindszentyneum működési támogatás | D17: 131513 | E17: =150000+táj1!E17 -> 150000 | O17: =SUM(E17:N17) -> 150000
C18: 082091 Közművelődés - közösségi és társ. részvétel fejleszt.
C19: - Szelestey hagyaték felvásárlásához támogatás | D19: 132941 | F19: =6000+táj1!F19 -> 6000 | O19: =SUM(E19:N19) -> 6000
C20: Egészséges Zalaegerszeg Program indítása | D20: 131721 | J20: =0+táj1!J20 -> 3435 | O20: =SUM(E20:N20) -> 3435
C21: Egerszegi Advent megvalósítása | D21: 131329 | J21: =0+táj1!J21 -> 2500 | O21: =SUM(E21:N21) -> 2500
C22: Magyarország ifjúsági fővárosa | D22: 131365 | E22: =0+táj1!E22 -> 3000 | O22: =SUM(E22:N22) -> 3000
C23: 081030 Sportlétes., edzőtáborok működtetése és fejlesztése
C24: - Zalaegerszegi Sport és Tanuszoda műk. támogatása a Honvédelmi Minisztériumtól | D24: 191801 | E24: =120000+táj1!E24 -> 120000 | O24: =SUM(E24:N24) -> 120000
C25: 102023 Időskorúak tartós bentlakásos ellátása
C26: - Idősek Otthona férőhely megváltás | D26: 121319 | J26: =4380+táj1!J26 -> 8760 | O26: =SUM(E26:N26) -> 8760
C27: 104031 Gyermekek bölcsődében, minibölcsődében történő ellátása
C28: - Bölcsődei ellátás biztosítása (Söjtör Önkorm.) | D28: 131717 | E28: =5300+táj1!E28 -> 5300 | O28: =SUM(E28:N28) -> 5300
C29: Humánigazgatási feladatok összesen: | E29: =SUM(E9:E28) -> 366675 | F29: =SUM(F9:F28) -> 6000 | G29: =SUM(G9:G28) -> 0 | H29: =SUM(H9:H28) -> 9101 | I29: =SUM(I9:I28) -> 0 | J29: =SUM(J9:J28) -> 14695 | K29: =SUM(K9:K28) -> 13224 | L29: =SUM(L9:L28) -> 0 | ... O29: =SUM(O9:O28) -> 409695
A30: 1 | B30: 14 | C30: Főépítészi feladatok
C31: 013350 Önkormányzati vagyonnal való gazdálkodáshoz kapcsolódó feladatok
C32: - belterületbe vonással kapcsolatos bevétel | D32: 171967 | H32: =5080+táj1!H32 -> 5080 | O32: =SUM(E32:N32) -> 5080
C33: - Helyi építészeti értékek védelme alap | D33: 164903 | M33: =4051+táj1!M33 -> 4051 | O33: =SUM(E33:N33) -> 4051
C34: Főépítészi feladatok összesen: | E34: =SUM(E32:E33) -> 0 | F34: =SUM(F32:F33) -> 0 | G34: =SUM(G32:G33) -> 0 | H34: =SUM(H32:H33) -> 5080 | I34: =SUM(I32:I33) -> 0 | J34: =SUM(J32:J33) -> 0 | K34: =SUM(K32:K33) -> 0 | L34: =SUM(L32:L33) -> 0 | ... O34: =SUM(O32:O33) -> 9131
A35: 1 | B35: 15 | C35: Városüzemelési feladatok
C36: 081061 Szabadidős park, fürdő és strandszolgáltatás
C37: - Gébárti fürdő lét. üzemeltetése | D37: 151906 | H37: =17780+táj1!H37 -> 13824 | O37: =SUM(E37:N37) -> 13824
C38: - Aquapark üzemeltetés | D38: 151 907 | H38: =266700+táj1!H38 -> 254159 | O38: =SUM(E38:N38) -> 254159
C39: - Gébárti kemping, fedett fürdő földhasználat | D39: 151909 | H39: =0+táj1!H39 -> 15874 | O39: =SUM(E39:N39) -> 15874
C40: 066010 Zöldterület kezelés
C41: - faértékesítés bevétele | D41: 152 908 | H41: =1270+táj1!H41 -> 1270 | O41: =SUM(E41:N41) -> 1270
C42: - haszonbérleti szerződések, kishaszonbérlet | D42: 151506 | H42: =635+táj1!H42 -> 635 | O42: =SUM(E42:N42) -> 635
C43: - környezetvéd.alap feltöltése | D43: 151607 | M43: =37113+táj1!M43 -> 37113 | O43: =SUM(E43:N43) -> 37113
C44: 042180 Állategészségügy
C45: - állategészségügyi tevékenység | D45: 151902 | H45: =3175+táj1!H45 -> 3175 | O45: =SUM(E45:N45) -> 3175
C46: - Ebrendészeti telep felújításához támogatás a Közös ügyünk az állatvédelem Alapítványtól | D46: 154908 | K46: =10916+táj1!K46 -> 10916 | O46: =SUM(E46:N46) -> 10916
C47: 066020 Város-, községgazdálkodási egyéb szolgáltatás
C48: - Zalai Közszolgáltató Nonprofit Kft. bérleti díj | D48: 151701 | H48: =4318+táj1!H48 -> 4318 | O48: =SUM(E48:N48) -> 4318
C49: - köztisztaság szerződéses munkák | D49: 151603 | H49: =51918+táj1!H49 -> 60623 | O49: =SUM(E49:N49) -> 60623
C50: - közművesítési hozzájárulás | D50: 151611 | H50: =6001+táj1!H50 -> 12567 | O50: =SUM(E50:N50) -> 12567
C51: 045120 Út, autópálya építése
C52: - parkolómegváltás bevétele | D52: 152442 | H52: =1080+táj1!H52 -> 1080 | I52: =4000+táj1!I52 -> 4000 | O52: =SUM(E52:N52) -> 5080
C53: - Batsányi J.u. Jókai M.u. és Pintér M.u.közti, déli oldali járdaszakaszának felújítása | D53: 154401 | K53: =1748+táj1!K53 -> 1971 | O53: =SUM(E53:N53) -> 1971
C54: 045170 Parkoló, garázs üzemeltetése, fenntartása
C55: - parkolási közszolgáltatási tevékenység ellátásával kapcsolatos bevétel | D55: 151 910 | H55: =466725+táj1!H55 -> 466725 | O55: =SUM(E55:N55) -> 466725
C56: 064010 Közvilágítás
C57: - közvilágítás villamosenergia vásárlás | D57: 151201 | H57: =31200+táj1!H57 -> 31200 | O57: =SUM(E57:N57) -> 31200
C58: 045160 Közutak, hidak, alagutak üzemeltetése, fenntartása
C59: - helyi utak, hidak fenntartása | D59: 151401 | H59: =3505+táj1!H59 -> 3505 | O59: =SUM(E59:N59) -> 3505
C60: Városüzemelési feladatok összesen: | E60: =SUM(E36:E59) -> 0 | F60: =SUM(F36:F59) -> 0 | G60: =SUM(G36:G59) -> 0 | H60: =SUM(H36:H59) -> 868955 | I60: =SUM(I36:I59) -> 4000 | J60: =SUM(J36:J59) -> 0 | K60: =SUM(K36:K59) -> 12887 | L60: =SUM(L36:L59) -> 0 | ... O60: =SUM(O36:O59) -> 922955
A61: 1 | B61: 16. | C61: Városépítészeti feladatok
C62: 052020 Szennyvíz gyűjtése, tisztítása, elhelyezése
C63: - ZALAVÍZ Zrt. nem víziközmű után fizetendő bérleti díj | D63: 161909 | H63: =59533+táj1!H63 -> 59533 | M63: =50307+táj1!M63 -> 50307 | O63: =SUM(E63:N63) -> 109840
C64: - szennyvíz vagyon használati díja és Áfa visszaig. | D64: 164106 | H64: =659162+táj1!H64 -> 657409 | M64: =24796+táj1!M64 -> 24796 | O64: =SUM(E64:N64) -> 682205
C65: - ivóvíz vagyon használati díja és Áfa visszaig.+ KIEFO | D65: 164204 | H65: =188908+táj1!H65 -> 190661 | M65: =15381+táj1!M65 -> 15381 | O65: =SUM(E65:N65) -> 206042
C66: - Zalaegerszeg nyugati vízbázisról ellátott települések ívóvízminőségének javítása KEHOP projekt | D66: 164206 | F66: =2816+táj1!F66 -> 2816 | M66: =135+táj1!M66 -> 135 | O66: =SUM(E66:N66) -> 2951
C67: - VÁRA-ÉMI 2020-001 Szennyvíz Gépészet Projekt | D67: 164109 | F67: =19173+táj1!F67 -> 19173 | O67: =SUM(E67:N67) -> 19173
C68: - KEHOP 2.1.11-21-2021-00002 Ivóvízhálózatok és szennyvízhálózatok hatékonyságnövelő fejlesztése | D68: 164207 | H68: =0+táj1!H68 -> 0 | M68: =22535+táj1!M68 -> 22535 | O68: =SUM(E68:N68) -> 22535
C69: 013350 Önk-i vagyonnal való gazdálkodáshoz kapcs. fa.
C70: - TOP-6.4.1-15-ZL1-2016-00001 Gyalogos és kerékpárosbarát belváros közlekedési feltételeinek megteremtése Zalaegerszegen hivatásforgalmi kerékpárutak fejlesztésével és a Kosztolányi Dezső út kétirányúsításával | D70: 163607 | M70: =300+táj1!M70 -> 300 | O70: =SUM(E70:N70) -> 300
C71: -TOP-6.1.1-16 Zalaegerszegi Logisztikai Központ létrehozása (nettó fin.) | D71: 163625 | M71: =31513+táj1!M71 -> 31513 | O71: =SUM(E71:N71) -> 31513
C72: - TOP-6.1.2-16-ZL1-2017-00001 Inkubátorház bővítés Zalaegerszegen-III.ütem | D72: 163626 | H72: =1+táj1!H72 -> 1 | M72: =2+táj1!M72 -> 2 | O72: =SUM(E72:N72) -> 3
C73: - TOP Plusz -1.3-1-21 FVS TVP projekt | D73: 163658 | M73: =404+táj1!M73 -> 404 | O73: =SUM(E73:N73) -> 404
C74: - TOP Plusz-1.2.1-21-ZA2-2022-00006 Zeg-Teskánd kerékpárút projekt | D74: 163662 | M74: =799187+táj1!M74 -> 799187 | O74: =SUM(E74:N74) -> 799187
C75: - TOP_PLUSZ-6.2.1-23-ZL1-2023-00001 Csácsbozsoki kilátó | D75: 163679 | E75: =27301+táj1!E75 -> 8066 | F75: =72699+táj1!F75 -> 91934 | O75: =SUM(E75:N75) -> 100000
C76: - TOP_PLUSZ-3.4.1-23-ZL1-2023-00001 Bazitai Óvoda újjáépítése | D76: 163680 | E76: =104310+táj1!E76 -> 104310 | F76: =286689+táj1!F76 -> 286689 | M76: =4835+táj1!M76 -> 4835 | O76: =SUM(E76:N76) -> 395834
C77: - TOP_PLUSZ-3.4.1-23-ZL1-2023-00002 Ságodi Óvoda felújítása | D77: 163681 | E77: =66310+táj1!E77 -> 66310 | F77: =224631+táj1!F77 -> 224631 | O77: =SUM(E77:N77) -> 290941
C78: - TOP_PLUSZ-3.4.1-23-ZL1-2024-00003 Orvosi rendelők felújítása (Kölcsey u.11., Mátyás király u. 16., Gasparich u. 21.) | D78: 163682 | E78: =13053+táj1!E78 -> 13053 | F78: =236947+táj1!F78 -> 236947 | O78: =SUM(E78:N78) -> 250000
C79: - TOP_PLUSZ-3.4.1-23-ZL1-2024-00004 Zala Vármegyei Pedagógiai Szakszolgálat fejlesztése | D79: 163666 | E79: =109334+táj1!E79 -> 109334 | F79: =387288+táj1!F79 -> 387288 | O79: =SUM(E79:N79) -> 496622
C80: TOP_PLUSZ-1.3.2-23-ZL1-2024-00001Páterdombi közösségi tér kialakítása | D80: 163671 | E80: =5510+táj1!E80 -> 5510 | F80: =94490+táj1!F80 -> 94490 | O80: =SUM(E80:N80) -> 100000
C81: - TOP_PLUSZ-3.4..1-23-ZL1-2025-00005 Tipegő bölcsőde felújítása | D81: 163672 | E81: =10198+táj1!E81 -> 10198 | F81: =193802+táj1!F81 -> 193802 | O81: =SUM(E81:N81) -> 204000
C82: - TOP_PLUSZ-1.3.2-23-ZL1-2025-00003 Gyermek játszóház kialakítása Zalaegerszegen | D82: 163665 | E82: =62742+táj1!E82 -> 62742 | F82: =893258+táj1!F82 -> 893258 | H82: =246256+táj1!H82 -> 248401 | O82: =SUM(E82:N82) -> 1204401
C83: - TOP_PLUSZ-3.4.1-23-ZL1-2025-00006 Űrhajós utcai óvoda felújítása | D83: 163685 | E83: =10327+táj1!E83 -> 10327 | F83: =175673+táj1!F83 -> 175673 | O83: =SUM(E83:N83) -> 186000
C84: - TOP_PLUSZ-3.4.1-23-ZL1-2025-00007 Napsugár óvoda felújítása | D84: 163684 | E84: =21646+táj1!E84 -> 21646 | F84: =338354+táj1!F84 -> 338354 | O84: =SUM(E84:N84) -> 360000
C85: TOP_PLUSZ-3.4.1-23-ZL1-2025-00008 Ady iskola infrastruktúra fejlesztése | D85: 163686 | E85: =16847+táj1!E85 -> 16847 | F85: =354359+táj1!F85 -> 354359 | O85: =SUM(E85:N85) -> 371206
C86: TOP_PLUSZ-6.2.1-23-ZL1-2025-000007 Ebergényi bekötőút burkolatfelújítása | D86: 163673 | E86: =táj1!E86 -> 13681 | F86: =táj1!F86 -> 166319 | O86: =SUM(E86:N86) -> 180000
C87: TOP_PLUSZ-1.3.2-23-ZL1-2024-00002 Kaszaházai közösségi tér kialakítása | D87: 163687 | E87: =0+táj1!E87 -> 8584 | F87: =0+táj1!F87 -> 191416 | G87: =0+táj1!G87 -> 0 | O87: =SUM(E87:N87) -> 200000
C88: TOP_PLUSZ-3.2.1-23-ZL1-2024-00001 Helyi kulturális közösségfejlesztési folyamat kezdeményezése és megvalósítása Zalaegerszegen | D88: 163678 | E88: =0+táj1!E88 -> 66518 | F88: =0+táj1!F88 -> 14299 | O88: =SUM(E88:N88) -> 80817
C89: - Mindszenty Múzeum és Zarándokközpont fejlesztése, zalaegerszegi "Mindszenty Út" megvalósítása MVP | D89: 163621 | H89: =70077+táj1!H89 -> 82941 | M89: =66793+táj1!M89 -> 66793 | N89: =861000+táj1!N89 -> 861000 | O89: =SUM(E89:N89) -> 1010734
C90: - Alsóerdei Sport- és Rekreációs Központ fejlesztése MVP támogatással | D90: 163702 | H90: =0+táj1!H90 -> 0 | M90: =38350+táj1!M90 -> 38350 | O90: =SUM(E90:N90) -> 38350
C91: - Modern Városok Program keretében tervezett közúthálózat és kapcsolódó tereinek fejlesztései | D91: 163650 | H91: =351556+táj1!H91 -> 351556 | M91: =129945+táj1!M91 -> 129945 | N91: =3175710+táj1!N91 -> 3175710 | O91: =SUM(E91:N91) -> 3657211
C92: Versenyképes Járások Program - Deák Ferenc Megyei és Városi Könyvtár fűtéskorszerűsítése | D92: 164959 | F92: =93556+táj1!F92 -> 93556 | O92: =SUM(E92:N92) -> 93556
C93: Versenyképes Járások Program - Hevesi Sándor Színház infrastrukturális fejlesztése | D93: 164958 | F93: =184642+táj1!F93 -> 184642 | O93: =SUM(E93:N93) -> 184642
C94: - Északi Ipari park infrastuktúra fejlesztésével összefüggő közműfejlesztések és közműcsatlakozások ivóvíz és ipari víz, szennyvízellátás | D94: 163654 | H94: =441783+táj1!H94 -> 441783 | M94: =1636233+táj1!M94 -> 1636233 | O94: =SUM(E94:N94) -> 2078016
C95: - Északi Ipari park infrastuktúra fejlesztésével összefüggő közműfejlesztések és közműcsatlakozások - csapadékvíz biztonságos kezelése | D95: 163661 | E95: =245540+táj1!E95 -> 245540 | F95: =754460+táj1!F95 -> 754460 | O95: =SUM(E95:N95) -> 1000000
C96: - Északi Ipari park infrastuktúra fejlesztésével összefüggő közműfejlesztések és közműcsatlakozások - csapadékvíz biztonságos kezelése Nagypáli | D96: 163683 | M96: =900000+táj1!M96 -> 900000 | O96: =SUM(E96:N96) -> 900000
C97: - Andráshidai mini bölcsőde építése RRF-1.1.2-21-2022-00019 | D97: 132937 | F97: =68205+táj1!F97 -> 68205 | M97: =1407+táj1!M97 -> 1407 | O97: =SUM(E97:N97) -> 69612
C98: - EIT Urban Mobility projekt | D98: 163663 | M98: =3807+táj1!M98 -> 3807 | O98: =SUM(E98:N98) -> 3807
C99: - Északi ipari park bővítése,vízi közművek és feltáró út építése, közvilágítása | D99: 163664 | H99: =33091+táj1!H99 -> 33410 | M99: =408553+táj1!M99 -> 408553 | O99: =SUM(E99:N99) -> 441963
C100: - Pózváért Alapítványtól felhalmozási célra átvett pénzeszköz | D100: 162987 | K100: =500+táj1!K100 -> 500 | O100: =SUM(E100:N100) -> 500
...

Sheet 7
A1: Cím szám | B1: Alcím szám | C1: Megnevezés | D1: Költségvetési kiadások | L1: Finanszírozási kiadások | N1: Kiadások összesen
D2: Személyi juttatások | E2: Munkaadókat terhelő járulékok és szociális hj.adó | F2: Dologi kiadások | G2: Ellátottak pénzbeli juttatásai | H2: Egyéb működési célú kiadások | I2: Beruházások | J2: Felújítások | K2: Egyéb felhalmozási célú kiadások | L2: Hitel-, kölcsöntör-lesztés áht-n kívülre | M2: Egyéb finanszírozási kiadás
A3: 1 | C3: Önkormányzat
A4: 1 | B4: 1 | C4: Szakosztályok
B5: 12 | C5: Szociális és igazgatási feladatok | D5: ='8'!G48 -> 150 | E5: ='8'!H48 -> 4250 | F5: ='8'!I48 -> 70239 | G5: ='8'!J48 -> 98770 | H5: ='8'!K48 -> 7700 | I5: ='8'!L48 -> 0 | J5: ='8'!M48 -> 0 | K5: ='8'!N48 -> 3000 | ... M5: ='8'!P48 -> 0 | N5: =SUM(D5:M5) -> 184109
B6: 13 | C6: Humánigazgatási feladatok | D6: ='8'!G212 -> 10567 | E6: ='8'!H212 -> 3330 | F6: ='8'!I212 -> 50555 | G6: ='8'!J212 -> 11000 | H6: ='8'!K212 -> 1771370 | I6: ='8'!L212 -> 44539 | J6: ='8'!M212 -> 160237 | K6: ='8'!N212 -> 25840 | ... M6: ='8'!P212 -> 0 | N6: =SUM(D6:M6) -> 2077438
B7: 14 | C7: Főépítészi feladatok | D7: ='8'!G224 -> 0 | E7: ='8'!H224 -> 0 | F7: ='8'!I224 -> 9229 | G7: ='8'!J224 -> 0 | H7: ='8'!K224 -> 0 | I7: ='8'!L224 -> 19713 | J7: ='8'!M224 -> 0 | K7: ='8'!N224 -> 10051 | ... M7: ='8'!P224 -> 0 | N7: =SUM(D7:M7) -> 38993
B8: 15 | C8: Városüzemelési feladatok | D8: ='8'!G382 -> 16458 | E8: ='8'!H382 -> 2150 | F8: ='8'!I382 -> 2725449 | G8: ='8'!J382 -> 0 | H8: ='8'!K382 -> 1226533 | I8: ='8'!L382 -> 292072 | J8: ='8'!M382 -> 268643 | K8: ='8'!N382 -> 436 | ... M8: ='8'!P382 -> 0 | N8: =SUM(D8:M8) -> 4531741
B9: 16 | C9: Városépítészeti feladatok | D9: ='8'!G510 -> 74818 | E9: ='8'!H510 -> 10548 | F9: ='8'!I510 -> 2789413 | G9: ='8'!J510 -> 0 | H9: ='8'!K510 -> 358961 | I9: ='8'!L510 -> 8772910 | J9: ='8'!M510 -> 4918730 | K9: ='8'!N510 -> 78194 | ... M9: ='8'!P510 -> 0 | N9: =SUM(D9:M9) -> 17003574
B10: 17 | C10: Vagyonkezelési feladatok | D10: ='8'!G528 -> 0 | E10: ='8'!H528 -> 0 | F10: ='8'!I528 -> 139990 | G10: ='8'!J528 -> 0 | H10: ='8'!K528 -> 0 | I10: ='8'!L528 -> 70105 | J10: ='8'!M528 -> 2350 | K10: ='8'!N528 -> 53000 | ... M10: ='8'!P528 -> 0 | N10: =SUM(D10:M10) -> 265445
B11: 18 | C11: Jogi és közig.feladatok | D11: ='8'!G556 -> 395245 | E11: ='8'!H556 -> 52134 | F11: ='8'!I556 -> 209668 | G11: ='8'!J556 -> 0 | H11: ='8'!K556 -> 15350 | I11: ='8'!L556 -> 19974 | J11: ='8'!M556 -> 2606 | K11: ='8'!N556 -> 150 | ... M11: ='8'!P556 -> 0 | N11: =SUM(D11:M11) -> 695127
B12: 19 | C12: Pénzügyi lebonyolítás | D12: ='8'!G589 -> 0 | E12: ='8'!H589 -> 0 | F12: ='8'!I589 -> 696128 | G12: ='8'!J589 -> 0 | H12: ='8'!K589 -> 3166407 | I12: ='8'!L589 -> 0 | J12: ='8'!M589 -> 0 | K12: ='8'!N589 -> 9800 | ... M12: ='8'!P589 -> 5577027 | N12: =SUM(D12:M12) -> 9567214
B13: 22 | C13: Polgármesteri Kabinet kiadásai | D13: ='8'!G634 -> 66535 | E13: ='8'!H634 -> 23212 | F13: ='8'!I634 -> 198856 | G13: ='8'!J634 -> 0 | H13: ='8'!K634 -> 453971 | I13: ='8'!L634 -> 16297 | J13: ='8'!M634 -> 0 | K13: ='8'!N634 -> 21250 | ... M13: ='8'!P634 -> 0 | N13: =SUM(D13:M13) -> 780121
B14: 30 | C14: Tartalékok | D14: ='8'!G650 -> 0 | E14: ='8'!H650 -> 0 | F14: ='8'!I650 -> 0 | G14: ='8'!J650 -> 0 | H14: ='8'!K650 -> 480232 | I14: ='8'!L650 -> 754669 | J14: ='8'!M650 -> 4153 | K14: ='8'!N650 -> 0 | ... M14: ='8'!P650 -> 0 | N14: =SUM(D14:M14) -> 1239054
C15: Önkormányzat összesen költségvetési szervek nélkül | D15: =SUM(D3:D14) -> 563773 | E15: =SUM(E3:E14) -> 95624 | F15: =SUM(F5:F14) -> 6889527 | G15: =SUM(G5:G14) -> 109770 | H15: =SUM(H5:H14) -> 7480524 | I15: =SUM(I5:I14) -> 9990279 | J15: =SUM(J5:J14) -> 5356719 | K15: =SUM(K5:K14) -> 201721 | L15: =SUM(L5:L14) -> 117852 | M15: =SUM(M5:M14) -> 5577027 | N15: =SUM(N5:N14) -> 36382816
A16: 2 | C16: Költségvetési szervek | D16: ='10'!G22 -> 7537318 | E16: ='10'!H22 -> 1053108 | F16: ='10'!I22 -> 4270803 | G16: ='10'!J22 -> 10915 | H16: ='10'!K22 -> 27799 | I16: ='10'!L22 -> 285682 | J16: ='10'!M22 -> 95310 | K16: ='10'!N22 -> 0 | M16: ='10'!O22 -> 0 | N16: =SUM(D16:M16) -> 13280935
C17: Önkormányzat összesen: | D17: =SUM(D15:D16) -> 8101091 | E17: =SUM(E15:E16) -> 1148732 | F17: =SUM(F15:F16) -> 11160330 | G17: =SUM(G15:G16) -> 120685 | H17: =SUM(H15:H16) -> 7508323 | I17: =SUM(I15:I16) -> 10275961 | J17: =SUM(J15:J16) -> 5452029 | K17: =SUM(K15:K16) -> 201721 | ... N17: =SUM(N15:N16) -> 49663751

Sheet 8
A1: Cím szám | B1: Alcím szám | C1: Sorszám | D1: Megnevezés | E1: feladat jellege | F1: Tervezési alapegység | G1: Költségvetési kiadások | O1: Finanszírozási kiadások | Q1: Kiadás összesen
G2: Személyi juttatások | H2: Munkaadókat terhelő járulékok és szociális hj.adó | I2: Dologi kiadások | J2: Ellátottak pénzbeli juttatásai | K2: Egyéb működési célú kiadások | L2: Beruházások | M2: Felújítások | N2: Egyéb felhalmo-zási célú kiadások | O2: Hitel-, kölcsöntör-lesztés áht-n kívülre | P2: Egyéb finanszírozási kiadás
A3: 1 | D3: Önkormányzat
A4: 1 | B4: 1 | D4: Szakosztályok
A5: 1 | B5: 12 | D5: Szociális és igazgatási feladatok
D6: 105010 Munkanélküli aktív korúak ellátásai
D7: - megélhetési támogatás | E7: 2 | F7: 121103 | J7: =5000+táj2!J7 -> 5000 | Q7: =SUM(G7:P7) -> 5000
D8: 106020 Lakásfenntartással, lakhatással összefüggő ellátások
D9: - lakásfenntartási segély | E9: 2 | F9: 121104 | J9: =20000+táj2!J9 -> 20000 | Q9: =SUM(G9:P9) -> 20000
D10: - önkormányzati bérlakásban élők lakásfenntartási segélye Lakásalapból | E10: 2 | F10: 121117 | J10: =9000+táj2!J10 -> 9000 | Q10: =SUM(G10:P10) -> 9000
D11: - gázártámogatás | E11: 2 | F11: 121202 | J11: =2950+táj2!J11 -> 2950 | Q11: =SUM(G11:P11) -> 2950
D12: - villamosenergia támogatás | E12: 2 | F12: 121205 | J12: =3200+táj2!J12 -> 3200 | Q12: =SUM(G12:P12) -> 3200
D13: 107060 Egyéb szociális pénzbeli ellátások, támogatások
D14: - gyermekétkeztetési támogatás | E14: 2 | F14: 121111 | J14: =2000+táj2!J14 -> 2000 | Q14: =SUM(G14:P14) -> 2000
D15: - átmeneti segély | E15: 2 | F15: 121127 | J15: =6000+táj2!J15 -> 6000 | Q15: =SUM(G15:P15) -> 6000
D16: - egyszeri nevelési juttatás | E16: 2 | F16: 121115 | J16: =700+táj2!J16 -> 2700 | Q16: =SUM(G16:P16) -> 2700
D17: - szociális krízis alap | E17: 2 | F17: 121129 | J17: =3600+táj2!J17 -> 3600 | Q17: =SUM(G17:P17) -> 3600
D18: - tüzifa támogatás | E18: 2 | F18: 121106 | J18: =5000+táj2!J18 -> 5000 | Q18: =SUM(G18:P18) -> 5000
D19: 103010 Elhunyt személyek hátramaradottainak pénzbeli ellátása
D20: - temetési segély | E20: 2 | F20: 121131 | J20: =2000+táj2!J20 -> 2000 | Q20: =SUM(G20:P20) -> 2000
D21: 106020 Lakásfenntartással, lakhatással összefüggő ellátások
D22: - lakhatási krízis alap Lakásalapból | E22: 2 | F22: 121130 | J22: =1000+táj2!J22 -> 1000 | Q22: =SUM(G22:P22) -> 1000
D23: 107060 Egyéb szociális pénzbeli ellátások, támogatások
D24: - gyógyszertámogatás | E24: 1 | F24: 121204 | J24: =14000+táj2!J24 -> 12000 | Q24: =SUM(G24:P24) -> 12000
D25: - gyógyászati segédeszköz támogatás | E25: 1 | F25: 121132 | J25: =1500+táj2!J25 -> 1500 | Q25: =SUM(G25:P25) -> 1500
D26: - köztemetés | E26: 1 | F26: 121203 | I26: =1200+táj2!I26 -> 1200 | J26: =4700+táj2!J26 -> 4700 | K26: =600+táj2!K26 -> 600 | Q26: =SUM(G26:P26) -> 6500
D27: 094260 Hallgatói és oktatói ösztöndíjak, egyéb juttatások
D28: - Bursa Hungarica ösztöndíj | E28: 2 | F28: 121504 | J28: =0+táj2!J28 -> 0 | K28: =4000+táj2!K28 -> 4000 | Q28: =SUM(G28:P28) -> 4000
D29: 061030 Lakáshoz jutást segítő támogatások
D30: - lakásgazdálkodási feladatokra | E30: 1 | F30: 121403 | I30: =50+táj2!I30 -> 50 | Q30: =SUM(G30:P30) -> 50
D31: 104042 Család- és gyermekjóléti szolgálat
D32: - Családsegítő Szolgálathoz krízissegélyezés | E32: 1 | F32: 121301 | J32: =0+táj2!J32 -> 0 | Q32: =SUM(G32:P32) -> 0
D33: 011130 Önkorm. és önkorm. hivatal. jogalk. és ált.ig.tev.
D34: - Egerszegkártya | E34: 2 | F34: 221902 | I34: =68568+táj2!I34 -> 67889 | Q34: =SUM(G34:P34) -> 67889
D35: - Nemzedékek kézfogása | E35: 2 | F35: 22190** | H35: =4200+táj2!H35 -> 4200 | I35: =500+táj2!I35 -> 500 | J35: =18120+táj2!J35 -> 18120 | Q35: =SUM(G35:P35) -> 22820
D36: - bírtokvédelmi költség megelőlegezés | E36: 1 | F36: 121118 | I36: =200+táj2!I36 -> 200 | Q36: =SUM(G36:P36) -> 200
D37: - talált tárgyak felértékeltetése | E37: 1 | F37: 121515 | I37: =200+táj2!I37 -> 200 | Q37: =SUM(G37:P37) -> 200
D38: 032020 Tűz- és katasztrófavéd. tevékenység
D39: - helyi védelmi igazgatás | E39: 1 | F39: 121601 | G39: =150+táj2!G39 -> 150 | H39: =50+táj2!H39 -> 50 | I39: =200+táj2!I39 -> 200 | K39: =100+táj2!K39 -> 100 | Q39: =SUM(G39:P39) -> 500
D40: 109010 Szociális szolgáltatás igazgatása
D41: - "Lakhatásért" Közalapítvány támogatása | E41: 2 | F41: 121517 | K41: =3000+táj2!K41 -> 3000 | Q41: =SUM(G41:P41) -> 3000
D42: Szociális és igazgatási fa.működési kiadás összesen: | G42: =SUM(G7:G41) -> 150 | H42: =SUM(H7:H41) -> 4250 | I42: =SUM(I7:I41) -> 70239 | J42: =SUM(J7:J41) -> 98770 | K42: =SUM(K7:K41) -> 7700 | L42: =SUM(L7:L41) -> 0 | M42: =SUM(M7:M41) -> 0 | N42: =SUM(N7:N41) -> 0 | ... Q42: =SUM(Q7:Q41) -> 181109
D43: Beruházási és felújítási kiadások:
C44: 1./1 | D44: Önkormányzat által nyújtott lakástámogatás első lakáshoz jutók részére (Lakásalapból) | F44: 121401 | N44: =2000+táj2!N44 -> 2000 | Q44: =SUM(G44:P44) -> 2000
D45: 2024. évről áthúzódó feladat
C46: 1.a/1 | D46: Családok otthonteremtési kedvezménye (Lakásalap) | F46: 121405 | N46: =1000+táj2!N46 -> 1000 | Q46: =SUM(G46:P46) -> 1000
C47: 1.a/2 | D47: Kamatmentes kölcsön az ideiglenesen nehéz helyzetbe került zeg-i polgárok számára (Lakásalapból) | F47: 121402 | N47: =0+táj2!N47 -> 0 | Q47: =SUM(G47:P47) -> 0
D48: Szociális és igazgatási fa. kiadásai összesen: | G48: =SUM(G42:G47) -> 150 | H48: =SUM(H42:H47) -> 4250 | I48: =SUM(I42:I47) -> 70239 | J48: =SUM(J42:J47) -> 98770 | K48: =SUM(K42:K47) -> 7700 | L48: =SUM(L42:L47) -> 0 | M48: =SUM(M42:M47) -> 0 | N48: =SUM(N42:N47) -> 3000 | ... Q48: =SUM(Q42:Q47) -> 184109
A49: 1 | B49: 13 | D49: Humánigazgatási feladatok
D50: Oktatási feladatok
D51: 098010 Oktatás igazgatása
D52: - Zalaegerszegi Szakképzési Centrum részére támogatás szakképzési ösztöndíj céljára | E52: 2 | F52: 131112 | K52: =17000+táj2!K52 -> 17000 | Q52: =SUM(G52:P52) -> 17000
D53: - intézmények és civil szervezetek támogatása, rendezvényeik finanszírozása | E53: 2 | F53: 131123 | K53: =3000+táj2!K53 -> 3000 | Q53: =SUM(G53:P53) -> 3000
D54: - pedagógusnapi rendezvény szervezése | E54: 2 | F54: 131212 | G54: =695+táj2!G54 -> 695 | H54: =502+táj2!H54 -> 502 | I54: =275+táj2!I54 -> 275 | Q54: =SUM(G54:P54) -> 1472
D55: - díszokleveles pedagógusok ünnepsége és jutalmazása | E55: 2 | F55: 131122 | G55: =1000+táj2!G55 -> 692 | H55: =130+táj2!H55 -> 11 | I55: =870+táj2!I55 -> 7 | Q55: =SUM(G55:P55) -> 710
D56: - Zeg.Felsőfokú Oktatásáért Közalapítvány támogatása | E56: 2 | F56: 131107 | K56: =45000+táj2!K56 -> 45000 | Q56: =SUM(G56:P56) -> 45000
D57: - nyári táboroztatás | E57: 2 | F57: 131128 | K57: =0+táj2!K57 -> 0 | Q57: =SUM(G57:P57) -> 0
D58: - Nemzeti Orvosbiológiai Alapítvány tudósképző akadémia programjának támogatása | E58: 2 | F58: 131129 | K58: =2500+táj2!K58 -> 2500 | Q58: =SUM(G58:P58) -> 2500
D59: Kulturális és ifjúsági feladatok
D60: 084070 A fiatalok társ. integrációját segítő struktúra, szakmai szolgált. fejlesztése, működtetése
D61: - ifjúsági rendezvények | E61: 2 | F61: 131201 | G61: =1346+táj2!G61 -> 1346 | H61: =450+táj2!H61 -> 449 | I61: =204+táj2!I61 -> 35 | Q61: =SUM(G61:P61) -> 1830
D62: - Zalaegerszegi Városi Diákönkormányzat | E62: 2 | F62: 131202 | G62: =458+táj2!G62 -> 1058 | H62: =197+táj2!H62 -> 409 | I62: =545+táj2!I62 -> 1233 | N62: =1000+táj2!N62 -> 1000 | Q62: =SUM(G62:P62) -> 3700
D63: - Zalaegerszegi Városi Diáknapok | E63: 2 | F63: 131205 | G63: =31+táj2!G63 -> 31 | H63: =11+táj2!H63 -> 10 | I63: =2102+táj2!I63 -> 602 | K63: =1506+táj2!K63 -> 1480 | Q63: =SUM(G63:P63) -> 2123
D64: - Zalaegerszegi Egyetemisták Egyesülete | E64: 2 | F64: 131206 | K64: =250+táj2!K64 -> 250 | Q64: =SUM(G64:P64) -> 250
D65: - Zalaegerszegi Ifjúsági Kerekasztal | E65: 2 | F65: 131209 | G65: =585+táj2!G65 -> 585 | H65: =300+táj2!H65 -> 300 | I65: =310+táj2!I65 -> 337 | Q65: =SUM(G65:P65) -> 1222
D66: - "Fiatalok az Egészséges Jövőért" Alapítvány országos vetélkedője | E66: 2 | F66: 131214 | K66: =500+táj2!K66 -> 500 | Q66: =SUM(G66:P66) -> 500
D67: 094260 Hallgatói és oktatói ösztöndíjak, egyéb juttatások
D68: - felsőoktatási ösztöndíj és támogatás | E68: 2 | F68: 131101 | J68: =10500+táj2!J68 -> 10500 | K68: =6500+táj2!K68 -> 6500 | Q68: =SUM(G68:P68) -> 17000
D69: 074052 Kábítószer megelőzés programja
D70: - Zalaegerszegi Kábítószerügyi Egyeztető Fórum | E70: 2 | F70: 131120 | G70: =150+táj2!G70 -> 0 | H70: =45+táj2!H70 -> 0 | I70: =305+táj2!I70 -> 445 | Q70: =SUM(G70:P70) -> 445
D71: 082091 Közművelődés - közösségi és társ. részvétel fejleszt.
D72: - Magyar Kultúra Napja | E72: 2 | F72: 131346 | G72: =820+táj2!G72 -> 820 | H72: =210+táj2!H72 -> 210 | I72: =1930+táj2!I72 -> 2155 | K72: =4350+táj2!K72 -> 4350 | Q72: =SUM(G72:P72) -> 7535
D73: - Gébárti Népművészeti Fesztivál | E73: 2 | F73: 131339 | K73: =1500+táj2!K73 -> 1500 | Q73: =SUM(G73:P73) -> 1500
D74: - Egerszeg búcsú | E74: 2 | F74: 131306 | K74: =1000+táj2!K74 -> 1000 | Q74: =SUM(G74:P74) -> 1000
D75: - Filmzenei koncert | E75: 2 | F75: 131341 | K75: =14000+táj2!K75 -> 14000 | Q75: =SUM(G75:P75) -> 14000
D76: - Zegasztár támogatása | E76: 2 | F76: 131326 | K76: =2500+táj2!K76 -> 2850 | Q76: =SUM(G76:P76) -> 2850
D77: - Formula Student East | E77: 2 | F77: 221910 | K77: =4000+táj2!K77 -> 1000 | Q77: =SUM(G77:P77) -> 1000
D78: - Városi Hangverseny- és Kiállítóteremben rendezvények | E78: 2 | F78: 131332 | K78: =1500+táj2!K78 -> 1500 | Q78: =SUM(G78:P78) -> 1500
D79: - Zalaegerszegi Múzeumok Igazgatósága a '80-as évek kiállítás | E79: 2 | F79: 131333 | K79: =3800+táj2!K79 -> 3800 | Q79: =SUM(G79:P79) -> 3800
D80: - Városi karácsonyi hangverseny | E80: 2 | F80: 131361 | K80: =500+táj2!K80 -> 500 | Q80: =SUM(G80:P80) -> 500
D81: - Street Food weekend | E81: 2 | F81: 131409 | K81: =4500+táj2!K81 -> 4500 | Q81: =SUM(G81:P81) -> 4500
D82: - Majális | E82: 2 | F82: 131352 | K82: =0+táj2!K82 -> 0 | Q82: =SUM(G82:P82) -> 0
D83: - Sörfesztivál támogatása | E83: 2 | F83: 131353 | K83: =100+táj2!K83 -> 100 | Q83: =SUM(G83:P83) -> 100
D84: - Egerszegi Adventtel kapcsolatos kiadások | E84: 2 | F84: 131329 | K84: =100+táj2!K84 -> 2600 | Q84: =SUM(G84:P84) -> 2600
D85: - Kvártélyház Kft. támogatása | E85: 2 | F85: 131321 | K85: =163000+táj2!K85 -> 163000 | Q85: =SUM(G85:P85) -> 163000
D86: - Zalaegerszegi Rendezvényszervező Kft. működési támogatása | E86: 2 | F86: 131313 | K86: =30000+táj2!K86 -> 30000 | Q86: =SUM(G86:P86) -> 30000
D87: - Keresztury Emlékbizottság | E87: 2 | F87: 131501 | I87: =200+táj2!I87 -> 120 | Q87: =SUM(G87:P87) -> 120
D88: - Éves sajtófotó kiállítás | E88: 2 | F88: 131310 | K88: =300+táj2!K88 -> 300 | Q88: =SUM(G88:P88) -> 300
D89: - Városi farsang | E89: 2 | F89: 131410 | K89: =500+táj2!K89 -> 500 | Q89: =SUM(G89:P89) -> 500
D90: - Kárpát-medencei ifjúsági tábor | E90: 2 | F90: 221944 | K90: =500+táj2!K90 -> 500 | Q90: =SUM(G90:P90) -> 500
D91: - 140 éves jubileum | E91: 2 | F91: 131362 | K91: =1000+táj2!K91 -> 0 | Q91: =SUM(G91:P91) -> 0
D92: - Gébárti Művésztelep | E92: 2 | F92: 131307 | K92: =1200+táj2!K92 -> 1200 | Q92: =SUM(G92:P92) -> 1200
D93: - II. Nemzetközi Tánc és Világzenei Fesztivál | E93: 2 | F93: 131357 | K93: =500+táj2!K93 -> 500 | Q93: =SUM(G93:P93) -> 500
D94: - Zala Open támogatása | E94: 2 | F94: 131323 | K94: =1500+táj2!K94 -> 1500 | Q94: =SUM(G94:P94) -> 1500
D95: - Verbunk verseny | E95: 2 | F95: 131319 | K95: =4000+táj2!K95 -> 4000 | Q95: =SUM(G95:P95) -> 4000
D96: - Zalaegerszegi Szimfonikus Zenekar támogatása | E96: 2 | F96: 131348 | K96: =6000+táj2!K96 -> 6000 | Q96: =SUM(G96:P96) -> 6000
D97: - Városi Gyermeknap | E97: 2 | F97: 131213 | K97: =3500+táj2!K97 -> 3500 | Q97: =SUM(G97:P97) -> 3500
D98: - Prósza Fesztivál | E98: 2 | F98: 131363 | K98: =3500+táj2!K98 -> 3500 | Q98: =SUM(G98:P98) -> 3500
D99: - '47-es Honvéd Zászlóalj Hagyományőrző Egyesület támogatása | E99: 2 | F99: 131345 | K99: =500+táj2!K99 -> 500 | Q99: =SUM(G99:P99) -> 500
D100: - Harangláb Népzenei Együttes 40 éves jubileuma | E100: 2 | F100: 131364 | K100: =1000+táj2!K100 -> 1000 | Q100: =SUM(G100:P100) -> 1000
...

Sheet 9
A1: Címszám | B1: Sorszám | C1: Megnevezés | D1: 2024. évi tény adat | E1: 2025. évi eredeti előirányzat | F1: Módosítás összege | G1: Költségvetési bevételek | N1: Finanszírozási bevételek | Q1: 2025. évi módosított előirányzat
G2: Működési célú támogatások áht-n belülről | H2: Felhalmozási célú támogatások áht-n belülről | I2: Közhatalmi bevételek | J2: Működési bevételek | K2: Felhalmozási bevételek | L2: Működési célú átvett pénzeszközök | M2: Felhalmozási célú átvett pénzeszközök | N2: Maradvány igénybevétele | O2: Központi, irányító szervi támogatás | P2: Egyéb finanszírozási bevétel
A3: 2 | C3: Költségvetési szervek
B4: 1 | C4: Polgármesteri Hivatal | D4: 2207865 | E4: 2396463 | F4: =13035+táj3!N4 -> 40028 | G4: =2848+táj3!D4 -> 6186 | H4: =0+táj3!E4 -> 0 | I4: =5000+táj3!F4 -> 5000 | J4: =31309+táj3!G4 -> 32551 | K4: =0+táj3!H4 -> 2413 | L4: =0+táj3!I4 -> 0 | M4: =0+táj3!J4 -> 0 | N4: =86407+táj3!K4 -> 86407 | O4: =2283934+táj3!L4 -> 2303934 | P4: =0+táj3!M4 -> 0 | Q4: =SUM(G4:P4) -> 2436491
B5: 2 | C5: Zalaegerszegi Gazdasági Ellátó Szervezet | D5: 2190269 | E5: 2163205 | F5: =108705+táj3!N5 -> 90271 | G5: =237551+táj3!D5 -> 237551 | H5: =0+táj3!E5 -> 0 | I5: =0+táj3!F5 -> 0 | J5: =846571+táj3!G5 -> 846571 | K5: =0+táj3!H5 -> 0 | L5: =0+táj3!I5 -> 0 | M5: =0+táj3!J5 -> 0 | N5: =212430+táj3!K5 -> 212430 | O5: =975358+táj3!L5 -> 956924 | P5: =0+táj3!M5 -> 0 | Q5: =SUM(G5:P5) -> 2253476
B6: 3 | C6: Zalaegerszegi Egyesített Bölcsődék | D6: 1254349 | E6: 1209248 | F6: =131634+táj3!N6 -> 135081 | G6: =0+táj3!D6 -> 0 | H6: =800+táj3!E6 -> 800 | I6: =0+táj3!F6 -> 0 | J6: =89067+táj3!G6 -> 89067 | K6: =0+táj3!H6 -> 0 | L6: =0+táj3!I6 -> 0 | M6: =0+táj3!J6 -> 0 | N6: =148808+táj3!K6 -> 148808 | O6: =1102207+táj3!L6 -> 1105654 | Q6: =SUM(G6:P6) -> 1344329
B7: 4 | C7: Zalaegerszegi Család- és Gyermekjóléti Központ | D7: 482328 | E7: 382822 | F7: =125596+táj3!N7 -> 144278 | G7: =0+táj3!D7 -> 0 | H7: =0+táj3!E7 -> 0 | I7: =0+táj3!F7 -> 0 | J7: =0+táj3!G7 -> 0 | K7: =0+táj3!H7 -> 0 | L7: =0+táj3!I7 -> 0 | M7: =0+táj3!J7 -> 0 | N7: =118514+táj3!K7 -> 118514 | O7: =389904+táj3!L7 -> 408586 | P7: =0+táj3!M7 -> 0 | Q7: =SUM(G7:P7) -> 527100
B8: 5 | C8: Zalaegerszegi Belvárosi I. számú Óvoda | D8: 634440 | E8: 727176 | F8: =13519+táj3!N8 -> 15149 | G8: =426+táj3!D8 -> 426 | H8: =144+táj3!E8 -> 144 | I8: =0+táj3!F8 -> 0 | J8: =18697+táj3!G8 -> 18697 | K8: =0+táj3!H8 -> 0 | L8: =0+táj3!I8 -> 0 | M8: =0+táj3!J8 -> 0 | N8: =45951+táj3!K8 -> 45951 | O8: =675477+táj3!L8 -> 677107 | P8: =0+táj3!M8 -> 0 | Q8: =SUM(G8:P8) -> 742325
B9: 6 | C9: Zalaegerszegi Belvárosi II. számú Óvoda | D9: 529445 | E9: 553787 | F9: =23114+táj3!N9 -> 27386 | G9: =370+táj3!D9 -> 370 | H9: =131+táj3!E9 -> 131 | I9: =0+táj3!F9 -> 0 | J9: =46706+táj3!G9 -> 46706 | K9: =0+táj3!H9 -> 0 | L9: =0+táj3!I9 -> 0 | M9: =0+táj3!J9 -> 0 | N9: =42903+táj3!K9 -> 42903 | O9: =486791+táj3!L9 -> 491063 | P9: =0+táj3!M9 -> 0 | Q9: =SUM(G9:P9) -> 581173
B10: 7 | C10: Zalaegerszegi Kertvárosi Óvoda | D10: 585010 | E10: 645706 | F10: =5808+táj3!N10 -> 6374 | G10: =170+táj3!D10 -> 170 | H10: =0+táj3!E10 -> 0 | I10: =0+táj3!F10 -> 0 | J10: =30071+táj3!G10 -> 30071 | K10: =0+táj3!H10 -> 0 | L10: =0+táj3!I10 -> 0 | M10: =0+táj3!J10 -> 988 | N10: =31073+táj3!K10 -> 31073 | O10: =590200+táj3!L10 -> 589778 | P10: =0+táj3!M10 -> 0 | Q10: =SUM(G10:P10) -> 652080
B11: 8 | C11: Zalaegerszegi Landorhegyi Óvoda | D11: 515065 | E11: 556909 | F11: =25849+táj3!N11 -> 27004 | G11: =170+táj3!D11 -> 170 | H11: =0+táj3!E11 -> 0 | I11: =0+táj3!F11 -> 0 | J11: =30736+táj3!G11 -> 30736 | K11: =0+táj3!H11 -> 0 | L11: =0+táj3!I11 -> 0 | M11: =0+táj3!J11 -> 0 | N11: =24443+táj3!K11 -> 24443 | O11: =527409+táj3!L11 -> 528564 | P11: =0+táj3!M11 -> 0 | Q11: =SUM(G11:P11) -> 583913
B12: 9 | C12: Közgyűjteményi és Közművelődési GESZ | D12: 92322 | E12: 102618 | F12: =5179+táj3!N12 -> 5683 | G12: =400+táj3!D12 -> 400 | H12: =0+táj3!E12 -> 0 | I12: =0+táj3!F12 -> 0 | J12: =13+táj3!G12 -> 17 | K12: =0+táj3!H12 -> 0 | L12: =0+táj3!I12 -> 0 | M12: =0+táj3!J12 -> 0 | N12: =2273+táj3!K12 -> 2273 | O12: =105111+táj3!L12 -> 105611 | P12: =0+táj3!M12 -> 0 | Q12: =SUM(G12:P12) -> 108301
B13: 10 | C13: Keresztury Dezső Városi Művelődési Központ | D13: 674544 | E13: 579040 | F13: =30521+táj3!N13 -> 68384 | G13: =29994+táj3!D13 -> 32539 | H13: =850+táj3!E13 -> 850 | I13: =0+táj3!F13 -> 0 | J13: =168767+táj3!G13 -> 192280 | K13: =0+táj3!H13 -> 0 | L13: =0+táj3!I13 -> 1200 | M13: =0+táj3!J13 -> 0 | N13: =11450+táj3!K13 -> 11450 | O13: =398500+táj3!L13 -> 409105 | P13: =0+táj3!M13 -> 0 | Q13: =SUM(G13:P13) -> 647424
B14: 11 | C14: Zalaegerszegi Turisztikai Hivatal és Információs Iroda | D14: 37202 | E14: 31295 | F14: =4593+táj3!N14 -> 7507 | G14: =3500+táj3!D14 -> 3500 | H14: =0+táj3!E14 -> 260 | I14: =0+táj3!F14 -> 0 | J14: =1780+táj3!G14 -> 3030 | K14: =0+táj3!H14 -> 0 | L14: =0+táj3!I14 -> 0 | M14: =0+táj3!J14 -> 0 | N14: =1589+táj3!K14 -> 1589 | O14: =29019+táj3!L14 -> 30423 | P14: =0+táj3!M14 -> 0 | Q14: =SUM(G14:P14) -> 38802
B15: 12 | C15: Deák Ferenc Megyei és Városi Könyvtár | D15: 563480 | E15: 539587 | F15: =29789+táj3!N15 -> 27921 | G15: =15832+táj3!D15 -> 17660 | H15: =80+táj3!E15 -> 80 | I15: =0+táj3!F15 -> 0 | J15: =28000+táj3!G15 -> 24093 | K15: =0+táj3!H15 -> 0 | L15: =591+táj3!I15 -> 591 | M15: =0+táj3!J15 -> 0 | N15: =15380+táj3!K15 -> 15380 | O15: =509493+táj3!L15 -> 509704 | P15: =0+táj3!M15 -> 0 | Q15: =SUM(G15:P15) -> 567508
B16: 13 | C16: Zalaegerszegi Múzeumok Igazgatósága | D16: 659280 | E16: 631507 | F16: =93002+táj3!N16 -> 119386 | G16: =201500+táj3!D16 -> 213069 | H16: =2550+táj3!E16 -> 3150 | I16: =0+táj3!F16 -> 0 | J16: =102370+táj3!G16 -> 117331 | K16: =0+táj3!H16 -> 0 | L16: =1250+táj3!I16 -> 270 | M16: =0+táj3!J16 -> 0 | N16: =64507+táj3!K16 -> 64507 | O16: =352332+táj3!L16 -> 352566 | P16: =0+táj3!M16 -> 0 | Q16: =SUM(G16:P16) -> 750893
B17: 14 | C17: Hevesi Sándor Színház | D17: 1411235 | E17: 1118724 | F17: =107288+táj3!N17 -> 128328 | G17: =357325+táj3!D17 -> 363325 | H17: =10450+táj3!E17 -> 10450 | I17: =0+táj3!F17 -> 0 | J17: =322885+táj3!G17 -> 337925 | K17: =0+táj3!H17 -> 0 | L17: =0+táj3!I17 -> 0 | M17: =0+táj3!J17 -> 0 | N17: =87548+táj3!K17 -> 87548 | O17: =447804+táj3!L17 -> 447804 | P17: =0+táj3!M17 -> 0 | Q17: =SUM(G17:P17) -> 1247052
B18: 15 | C18: Griff Bábszínház | D18: 266026 | E18: 206530 | F18: =20379+táj3!N18 -> 26929 | G18: =83000+táj3!D18 -> 89550 | H18: =0+táj3!E18 -> 0 | I18: =0+táj3!F18 -> 0 | J18: =42665+táj3!G18 -> 42665 | K18: =0+táj3!H18 -> 0 | L18: =0+táj3!I18 -> 0 | M18: =0+táj3!J18 -> 0 | N18: =23879+táj3!K18 -> 23879 | O18: =77365+táj3!L18 -> 77365 | P18: =0+táj3!M18 -> 0 | Q18: =SUM(G18:P18) -> 233459
B19: 16 | C19: Városi Sportlétesítmény Gondnokság Intézménye | D19: 273325 | E19: 268284 | F19: =25138+táj3!N19 -> 28338 | G19: =0+táj3!D19 -> 0 | H19: =0+táj3!E19 -> 0 | I19: =0+táj3!F19 -> 0 | J19: =114374+táj3!G19 -> 114374 | K19: =0+táj3!H19 -> 0 | L19: =0+táj3!I19 -> 0 | M19: =0+táj3!J19 -> 0 | N19: =37964+táj3!K19 -> 37964 | O19: =141084+táj3!L19 -> 144284 | P19: =0+táj3!M19 -> 0 | Q19: =SUM(G19:P19) -> 296622
B20: 17 | C20: Vásárcsarnok | D20: 156250 | E20: 160746 | F20: =50+táj3!N20 -> 380 | G20: =485+táj3!D20 -> 535 | H20: =0+táj3!E20 -> 0 | I20: =0+táj3!F20 -> 0 | J20: =132582+táj3!G20 -> 132862 | K20: =0+táj3!H20 -> 0 | L20: =0+táj3!I20 -> 0 | M20: =0+táj3!J20 -> 0 | N20: =21144+táj3!K20 -> 21144 | O20: =6585+táj3!L20 -> 6585 | P20: =0+táj3!M20 -> 0 | Q20: =SUM(G20:P20) -> 161126
B21: 18 | C21: Göcseji Tudásközpont - Zalaegerszegi Helyi Termék Piac | D21: 83387 | E21: 82936 | F21: =23295+táj3!N21 -> 25925 | G21: =150+táj3!D21 -> 1650 | H21: =0+táj3!E21 -> 0 | I21: =0+táj3!F21 -> 0 | J21: =42893+táj3!G21 -> 44023 | K21: =0+táj3!H21 -> 0 | L21: =0+táj3!I21 -> 0 | M21: =0+táj3!J21 -> 0 | N21: =13709+táj3!K21 -> 13709 | O21: =49479+táj3!L21 -> 49479 | P21: =0+táj3!M21 -> 0 | Q21: =SUM(G21:P21) -> 108861
C22: Összesen: | D22: =SUM(D4:D21) -> 12615822 | E22: =SUM(E4:E21) -> 12356583 | F22: =SUM(F4:F21) -> 924352 | G22: =SUM(G4:G21) -> 967101 | H22: =SUM(H4:H21) -> 15865 | I22: =SUM(I4:I21) -> 5000 | J22: =SUM(J4:J21) -> 2102999 | K22: =SUM(K4:K21) -> 2413 | ... Q22: =SUM(Q4:Q21) -> 13280935

Sheet 10
A1: Cím szám | B1: Sorszám | C1: Megnevezés | D1: 2024. évi tény adat | E1: 2025. évi eredeti előirányzat | F1: Módosítás összege | G1: Költségvetési kiadások | O1: Finanszírozási kiadások | P1: 2025. évi módosított előirányzat
G2: Személyi juttatások | H2: Munkaadókat terhelő járulékok és szociális hj.adó | I2: Dologi kiadások | J2: Ellátottak pénzbeli juttatásai | K2: Egyéb működési célú kiadások | L2: Beruházások | M2: Felújítások | N2: Egyéb felhalmo-zási célú kiadások
A3: 2 | C3: Költségvetési szervek
B4: 1 | C4: Polgármesteri Hivatal | D4: 2121458 | E4: 2396463 | F4: =13035+táj4!M4 -> 40028 | G4: =1840816+táj4!D4 -> 1844413 | H4: =269594+táj4!E4 -> 270062 | I4: =252815+táj4!F4 -> 273330 | J4: =0+táj4!G4 -> 0 | K4: =0+táj4!H4 -> 0 | L4: =46273+táj4!I4 -> 48686 | M4: =0+táj4!J4 -> 0 | N4: =0+táj4!K4 -> 0 | O4: =0+táj4!L4 -> 0 | P4: =SUM(G4:O4) -> 2436491
B5: 2 | C5: Zalaegerszegi Gazdasági Ellátó Szervezet | D5: 1977839 | E5: 2163205 | F5: =108705+táj4!M5 -> 90271 | G5: =390656+táj4!D5 -> 390656 | H5: =58281+táj4!E5 -> 58281 | I5: =1771035+táj4!F5 -> 1751821 | J5: =0+táj4!G5 -> 0 | K5: =0+táj4!H5 -> 0 | L5: =21459+táj4!I5 -> 21239 | M5: =30479+táj4!J5 -> 31479 | N5: =0+táj4!K5 -> 0 | O5: =0+táj4!L5 -> 0 | P5: =SUM(G5:O5) -> 2253476
B6: 3 | C6: Zalaegerszegi Egyesített Bölcsődék | D6: 1105541 | E6: 1209248 | F6: =131634+táj4!M6 -> 135081 | G6: =904010+táj4!D6 -> 907373 | H6: =133684+táj4!E6 -> 134122 | I6: =233502+táj4!F6 -> 233648 | J6: =0+táj4!G6 -> 0 | K6: =1454+táj4!H6 -> 1454 | L6: =34944+táj4!I6 -> 33694 | M6: =33288+táj4!J6 -> 34038 | N6: =0+táj4!K6 -> 0 | O6: =0+táj4!L6 -> 0 | P6: =SUM(G6:O6) -> 1344329
B7: 4 | C7: Zalaegerszegi Család- és Gyermekjóléti Központ | D7: 363814 | E7: 382822 | F7: =125596+táj4!M7 -> 144278 | G7: =368697+táj4!D7 -> 385403 | H7: =56965+táj4!E7 -> 58941 | I7: =60101+táj4!F7 -> 59101 | J7: =10915+táj4!G7 -> 10915 | K7: =240+táj4!H7 -> 240 | L7: =11500+táj4!I7 -> 12500 | M7: =0+táj4!J7 -> 0 | N7: =0+táj4!K7 -> 0 | O7: =0+táj4!L7 -> 0 | P7: =SUM(G7:O7) -> 527100
B8: 5 | C8: Zalaegerszegi Belvárosi I. számú Óvoda | D8: 588489 | E8: 727176 | F8: =13519+táj4!M8 -> 15149 | G8: =538848+táj4!D8 -> 538826 | H8: =80433+táj4!E8 -> 80430 | I8: =100438+táj4!F8 -> 101593 | J8: =0+táj4!G8 -> 0 | K8: =0+táj4!H8 -> 0 | L8: =7282+táj4!I8 -> 7782 | M8: =13694+táj4!J8 -> 13694 | N8: =0+táj4!K8 -> 0 | O8: =0+táj4!L8 -> 0 | P8: =SUM(G8:O8) -> 742325
B9: 6 | C9: Zalaegerszegi Belvárosi II. számú Óvoda | D9: 486542 | E9: 553787 | F9: =23114+táj4!M9 -> 27386 | G9: =365990+táj4!D9 -> 370188 | H9: =53832+táj4!E9 -> 54378 | I9: =145993+táj4!F9 -> 145271 | J9: =0+táj4!G9 -> 0 | K9: =0+táj4!H9 -> 0 | L9: =7982+táj4!I9 -> 7982 | M9: =3104+táj4!J9 -> 3354 | N9: =0+táj4!K9 -> 0 | O9: =0+táj4!L9 -> 0 | P9: =SUM(G9:O9) -> 581173
B10: 7 | C10: Zalaegerszegi Kertvárosi Óvoda | D10: 553937 | E10: 645706 | F10: =5808+táj4!M10 -> 6374 | G10: =412686+táj4!D10 -> 412664 | H10: =62316+táj4!E10 -> 62313 | I10: =170412+táj4!F10 -> 170015 | J10: =0+táj4!G10 -> 0 | K10: =0+táj4!H10 -> 0 | L10: =6100+táj4!I10 -> 6488 | M10: =0+táj4!J10 -> 600 | N10: =0+táj4!K10 -> 0 | O10: =0+táj4!L10 -> 0 | P10: =SUM(G10:O10) -> 652080
B11: 8 | C11: Zalaegerszegi Landorhegyi Óvoda | D11: 490622 | E11: 556909 | F11: =25849+táj4!M11 -> 27004 | G11: =405867+táj4!D11 -> 405845 | H11: =60401+táj4!E11 -> 60398 | I11: =104276+táj4!F11 -> 104956 | J11: =0+táj4!G11 -> 0 | K11: =0+táj4!H11 -> 0 | L11: =11477+táj4!I11 -> 11977 | M11: =737+táj4!J11 -> 737 | N11: =0+táj4!K11 -> 0 | O11: =0+táj4!L11 -> 0 | P11: =SUM(G11:O11) -> 583913
B12: 9 | C12: Közgyűjteményi és Közművelődési GESZ | D12: 90049 | E12: 102618 | F12: =5179+táj4!M12 -> 5683 | G12: =90288+táj4!D12 -> 90043 | H12: =11986+táj4!E12 -> 12231 | I12: =4323+táj4!F12 -> 4577 | J12: =0+táj4!G12 -> 0 | K12: =0+táj4!H12 -> 0 | L12: =1200+táj4!I12 -> 1450 | M12: =0+táj4!J12 -> 0 | N12: =0+táj4!K12 -> 0 | O12: =0+táj4!L12 -> 0 | P12: =SUM(G12:O12) -> 108301
B13: 10 | C13: Keresztury Dezső Városi Művelődési Központ | D13: 663094 | E13: 579040 | F13: =30521+táj4!M13 -> 68384 | G13: =330802+táj4!D13 -> 326802 | H13: =43180+táj4!E13 -> 43180 | I13: =224629+táj4!F13 -> 262779 | J13: =0+táj4!G13 -> 0 | K13: =0+táj4!H13 -> 0 | L13: =4450+táj4!I13 -> 4963 | M13: =6500+táj4!J13 -> 9700 | N13: =0+táj4!K13 -> 0 | O13: =0+táj4!L13 -> 0 | P13: =SUM(G13:O13) -> 647424
B14: 11 | C14: Zalaegerszegi Turisztikai Hivatal és Információs Iroda | D14: 35613 | E14: 31295 | F14: =4593+táj4!M14 -> 7507 | G14: =25861+táj4!D14 -> 26851 | H14: =3403+táj4!E14 -> 3607 | I14: =6400+táj4!F14 -> 7790 | J14: =0+táj4!G14 -> 0 | K14: =0+táj4!H14 -> 0 | L14: =224+táj4!I14 -> 554 | M14: =0+táj4!J14 -> 0 | N14: =0+táj4!K14 -> 0 | O14: =0+táj4!L14 -> 0 | P14: =SUM(G14:O14) -> 38802
B15: 12 | C15: Deák Ferenc Megyei és Városi Könyvtár | D15: 548100 | E15: 539587 | F15: =29789+táj4!M15 -> 27921 | G15: =306511+táj4!D15 -> 303771 | H15: =39453+táj4!E15 -> 39103 | I15: =190712+táj4!F15 -> 188854 | J15: =0+táj4!G15 -> 0 | K15: =11000+táj4!H15 -> 11000 | L15: =20430+táj4!I15 -> 24780 | M15: =1270+táj4!J15 -> 0 | N15: =0+táj4!K15 -> 0 | O15: =0+táj4!L15 -> 0 | P15: =SUM(G15:O15) -> 567508
B16: 13 | C16: Zalaegerszegi Múzeumok Igazgatósága | D16: 594773 | E16: 631507 | F16: =93002+táj4!M16 -> 119386 | G16: =393146+táj4!D16 -> 389556 | H16: =51340+táj4!E16 -> 51012 | I16: =237549+táj4!F16 -> 267191 | J16: =0+táj4!G16 -> 0 | K16: =15045+táj4!H16 -> 15105 | L16: =26429+táj4!I16 -> 27029 | M16: =1000+táj4!J16 -> 1000 | N16: =0+táj4!K16 -> 0 | O16: =0+táj4!L16 -> 0 | P16: =SUM(G16:O16) -> 750893
B17: 14 | C17: Hevesi Sándor Színház | D17: 1323687 | E17: 1118724 | F17: =107288+táj4!M17 -> 128328 | G17: =744734+táj4!D17 -> 766734 | H17: =95602+táj4!E17 -> 75602 | I17: =339629+táj4!F17 -> 358669 | J17: =0+táj4!G17 -> 0 | K17: =0+táj4!H17 -> 0 | L17: =46047+táj4!I17 -> 46047 | M17: =0+táj4!J17 -> 0 | N17: =0+táj4!K17 -> 0 | O17: =0+táj4!L17 -> 0 | P17: =SUM(G17:O17) -> 1247052
B18: 15 | C18: Griff Bábszínház | D18: 242147 | E18: 206530 | F18: =20379+táj4!M18 -> 26929 | G18: =130255+táj4!D18 -> 132255 | H18: =16170+táj4!E18 -> 14170 | I18: =78484+táj4!F18 -> 85034 | J18: =0+táj4!G18 -> 0 | K18: =0+táj4!H18 -> 0 | L18: =2000+táj4!I18 -> 2000 | M18: =0+táj4!J18 -> 0 | N18: =0+táj4!K18 -> 0 | O18: =0+táj4!L18 -> 0 | P18: =SUM(G18:O18) -> 233459
B19: 16 | C19: Városi Sportlétesítmény Gondnokság Intézménye | D19: 235361 | E19: 268284 | F19: =25138+táj4!M19 -> 28338 | G19: =131847+táj4!D19 -> 131847 | H19: =18378+táj4!E19 -> 18378 | I19: =127759+táj4!F19 -> 123759 | J19: =0+táj4!G19 -> 0 | K19: =0+táj4!H19 -> 0 | L19: =15438+táj4!I19 -> 22638 | M19: =0+táj4!J19 -> 0 | N19: =0+táj4!K19 -> 0 | O19: =0+táj4!L19 -> 0 | P19: =SUM(G19:O19) -> 296622
B20: 17 | C20: Vásárcsarnok | D20: 135106 | E20: 160746 | F20: =50+táj4!M20 -> 380 | G20: =73066+táj4!D20 -> 72716 | H20: =10602+táj4!E20 -> 11232 | I20: =74588+táj4!F20 -> 74638 | J20: =0+táj4!G20 -> 0 | K20: =0+táj4!H20 -> 0 | L20: =2540+táj4!I20 -> 2540 | M20: =0+táj4!J20 -> 0 | N20: =0+táj4!K20 -> 0 | O20: =0+táj4!L20 -> 0 | P20: =SUM(G20:O20) -> 161126
B21: 18 | C21: Göcseji Tudásközpont - Zalaegerszegi Helyi Termék Piac | D21: 69678 | E21: 82936 | F21: =23295+táj4!M21 -> 25925 | G21: =40155+táj4!D21 -> 41375 | H21: =5488+táj4!E21 -> 5668 | I21: =56627+táj4!F21 -> 57777 | J21: =0+táj4!G21 -> 0 | K21: =0+táj4!H21 -> 0 | L21: =3333+táj4!I21 -> 3333 | M21: =628+táj4!J21 -> 708 | N21: =0+táj4!K21 -> 0 | O21: =0+táj4!L21 -> 0 | P21: =SUM(G21:O21) -> 108861
C22: Összesen: | D22: =SUM(D4:D21) -> 11625850 | E22: =SUM(E4:E21) -> 12356583 | F22: =SUM(F4:F21) -> 924352 | G22: =SUM(G4:G21) -> 7537318 | H22: =SUM(H4:H21) -> 1053108 | I22: =SUM(I4:I21) -> 4270803 | J22: =SUM(J4:J21) -> 10915 | K22: =SUM(K4:K21) -> 27799 | ... P22: =SUM(P4:P21) -> 13280935

Sheet 11
A1: Cím szám | B1: Sorszám | C1: Megnevezés | D1: 2025. évi eredeti létszám | E1: 2025. évi II. negyedévi módosított előírányzat (törvény módosítás miatt) | F1: Javasolt módosítás | G1: közszolgálati jogviszony | H1: közalkalmazotti jogviszony | I1: köznvelési foglalkoztatotti jogviszony | J1: egészségügyi szolgálati jogviszony | K1: munkaviszony | L1: megbízásos jogviszony | M1: vállalkozási jogviszony | N1: közfoglalkoztatási jogviszony | O1: 2025. évi IV. negyedévi módosított előírányzat
G2: A közszolgálati tisztviselőkról szóló 2011. évi CXCIX. törvény | H2: A közalkalmazottak jogállásáról szóló 1992. évi XXXIII. törvény | I2: A pedagógusok új életpályájáról szóló 2023. évi LII. törvény | J2: Az egészségügyi szolgálati jogviszonyról szóló 2020. évi C. törvény | K2: A munka törvénykönyvéről szóló 2012. évi I. törvény | L2: A Polgári Törvénykönyvről szóló 2013. évi V. törvény | M2: A Polgári Törvénykönyvről szóló 2013. évi V. törvény | N2: A közfoglalkoztatásról és a közfoglalkoztatáshoz kapcsolódó, valamint egyéb törvények módosításáról szóló 2011. évi CVI. törvény
A3: 1 | C3: Önkormányzat | D3: 6 | E3: 11 | G3: 4 | H3: 2 | L3: 5 | O3: =SUM(G3:N3) -> 11
A4: 2 | B4: 1 | C4: Polgármesteri Hivatal | D4: 191 | E4: 196 | G4: 184 | K4: 7 | L4: 5 | O4: =SUM(G4:N4) -> 196
B5: 2 | C5: Zalaegerszegi GESZ | D5: 52 | E5: 52 | H5: 35 | J5: 15.5 | L5: 1.5 | O5: =SUM(G5:N5) -> 52
B6: 3 | C6: Zalaegerszegi Egyesített Bölcsődék | D6: 127.5 | E6: 132.6 | H6: 127.5 | K6: 5.1 | O6: =SUM(G6:N6) -> 132.6
B7: 4 | C7: Zalaegerszegi Család- és Gyermekjóléti Központ | D7: 63.5 | E7: 66.3 | H7: 63.5 | L7: 2.8 | O7: =SUM(G7:N7) -> 66.3
B8: 5 | C8: Zalaegerszegi Belvárosi I. sz.Óvoda | D8: 71 | E8: 71 | I8: 71 | O8: =SUM(G8:N8) -> 71
B9: 6 | C9: Zalaegerszegi Belvárosi II. sz.Óvoda | D9: 51 | E9: 56.3 | F9: 1 | I9: 52 | K9: 5.3 | O9: =SUM(G9:N9) -> 57.3
B10: 7 | C10: Zalaegerszegi Kertvárosi Óvoda | D10: 59 | E10: 59 | I10: 59 | O10: =SUM(G10:N10) -> 59
B11: 8 | C11: Zalaegerszegi Landorhegyi Óvoda | D11: 57 | E11: 60 | I11: 57 | K11: 3 | O11: =SUM(G11:N11) -> 60
B12: 9 | C12: Közgyűjteményi és Közművelődési GESZ | D12: 14 | E12: 14 | H12: 14 | O12: =SUM(G12:N12) -> 14
B13: 10 | C13: Keresztury Dezső Városi Művelődési Központ | D13: 60.5 | E13: 60.5 | K13: 60.5 | O13: =SUM(G13:N13) -> 60.5
B14: 11 | C14: Zalaegerszegi Turisztikai Hivatal és Információs Iroda | D14: 4 | E14: 4 | H14: 4 | O14: =SUM(G14:N14) -> 4
B15: 12 | C15: Deák Ferenc Megyei és Városi Könyvtár | D15: 54 | E15: 54 | K15: 54 | O15: =SUM(G15:N15) -> 54
B16: 13 | C16: Zalaegerszegi Múzeumok Igazgatósága | D16: 75 | E16: 79 | K16: 75 | L16: 4 | O16: =SUM(G16:N16) -> 79
B17: 14 | C17: Hevesi Sándor Színház | D17: 127 | E17: 136.5 | K17: 127 | L17: 9.5 | O17: =SUM(G17:N17) -> 136.5
B18: 15 | C18: Griff Bábszínház | D18: 20 | E18: 27 | K18: 20 | L18: 7 | O18: =SUM(G18:N18) -> 27
B19: 16 | C19: Városi Sportlétesítmények Gondnoksága | D19: 23 | E19: 23 | H19: 23 | O19: =SUM(G19:N19) -> 23
B20: 17 | C20: Vásárcsarnok | D20: 11 | E20: 9 | H20: 9 | O20: =SUM(G20:N20) -> 9
B21: 18 | C21: Göcseji Tudásközpont - Zalaegerszegi Helyi Termékpiac | D21: 6 | E21: 6 | H21: 6 | O21: =SUM(G21:N21) -> 6
C22: Költségvetési szervek összesen: | D22: =SUM(D4:D21) -> 1066.5 | E22: =SUM(E4:E21) -> 1106.2 | F22: =SUM(F4:F21) -> 1 | G22: =SUM(G4:G21) -> 184 | H22: =SUM(H4:H21) -> 282 | I22: =SUM(I4:I21) -> 239 | J22: =SUM(J4:J21) -> 15.5 | K22: =SUM(K4:K21) -> 356.9 | ... O22: =SUM(O4:O21) -> 1107.2
C23: Mindösszesen: | D23: =D22+D3 -> 1072.5 | E23: =E22+E3 -> 1117.2 | F23: =F22+F3 -> 1 | G23: =G22+G3 -> 188 | H23: =H22+H3 -> 284 | I23: =I22+I3 -> 239 | J23: =J22+J3 -> 15.5 | K23: =K22+K3 -> 356.9 | ... O23: =O22+O3 -> 1118.2

Sheet táj1
A1: Cím szám | B1: Alcím szám | C1: Megnevezés | D1: Tervezési alapegység | E1: Költségvetési bevételek | L1: Finanszírozási bevételek | O1: Összesen:
E2: Működési célú támogatások áht-n belülről | F2: Felhalmozási célú támogatások áht-n belülről | G2: Közhatalmi bevételek | H2: Működési bevételek | I2: Felhalmozási bevételek | J2: Működési célú átvett pénzeszközök | K2: Felhalmozási célú átvett pénzeszközök | L2: Hitel-, kölcsönfelvétel áht-n kívülről | M2: Maradvány igénybevétele | N2: Egyéb finanszírozási bevétel
A3: 1 | C3: Önkormányzat
A4: 1 | B4: 1 | C4: Szakosztályok
A5: 1 | B5: 12 | C5: Szociális és igazgatási feladatok
C6: 011130 Önkorm. és önkorm. hivatal. jogalk. és ált.ig.tev.
C7: - Egerszeg kártya értékesítés | D7: 221 902 | O7: =SUM(H7:N7) -> 0
C8: Szociális és igazgatási feladatok összesen: | E8: =SUM(E5:E7) -> 0 | F8: =SUM(F5:F7) -> 0 | G8: =SUM(G5:G7) -> 0 | H8: =SUM(H5:H7) -> 0 | I8: =SUM(I5:I7) -> 0 | J8: =SUM(J5:J7) -> 0 | K8: =SUM(K5:K7) -> 0 | N8: =SUM(N7:N7) -> 0 | O8: =SUM(O7:O7) -> 0
A9: 1 | B9: 13 | C9: Humánigazgatási feladatok
C10: 101211 Fogyatékossággal élők tartós bentlakásos ellátása
C11: - Református Egyház által fizetendő bérleti díj | D11: 131703 | O11: =SUM(E11:N11) -> 0
C12: 081041 Versenysport- és utánpótlás-nevelési tevékenység
C13: - Andráshidai TE részére TAO támogatás megelőlegezés visszafizetése | D13: 132949 | O13: =SUM(E13:N13) -> 0
C14: 018030 Támogatási célú finanszírozási műveletek
C15: - Hevesi Sándor Színház társműködtetöi támogatás | D15: 131508 | O15: =SUM(E15:N15) -> 0
C16: - Griff Bábszínház társműködtetöi támogatás | D16: 131509 | O16: =SUM(E16:N16) -> 0
C17: - Mindszentyneum működési támogatás | D17: 131513 | O17: =SUM(E17:N17) -> 0
C18: 082091 Közművelődés - közösségi és társ. részvétel fejleszt.
C19: - Szelestey hagyaték felvásárlásához támogatás | D19: 132941 | O19: =SUM(E19:N19) -> 0
C20: Egészséges Zalaegerszeg Program indítása | D20: 131721 | J20: 3435 | O20: =SUM(E20:N20) -> 3435
C21: Egerszegi Advent megvalósítása | D21: 131329 | J21: 2500 | O21: =SUM(E21:N21) -> 2500
C22: Magyarország ifjúsági fővárosa | D22: 131365 | E22: 3000 | O22: =SUM(E22:N22) -> 3000
C23: 081030 Sportlétes., edzőtáborok működtetése és fejlesztése
C24: - Zalaegerszegi Sport és Tanuszoda műk. támogatása a Honvédelmi Minisztériumtól | D24: 191801 | O24: =SUM(E24:N24) -> 0
C25: 102023 Időskorúak tartós bentlakásos ellátása
C26: - Idősek Otthona férőhely megváltás | D26: 121319 | J26: 4380 | O26: =SUM(E26:N26) -> 4380
C27: 104031 Gyermekek bölcsődében, minibölcsődében történő ellátása
C28: - Bölcsődei ellátás biztosítása (Söjtör Önkorm.) | D28: 131717 | O28: =SUM(E28:N28) -> 0
C29: Humánigazgatási feladatok összesen: | E29: =SUM(E10:E28) -> 3000 | F29: =SUM(F10:F28) -> 0 | G29: =SUM(G10:G28) -> 0 | H29: =SUM(H10:H28) -> 0 | I29: =SUM(I10:I28) -> 0 | J29: =SUM(J10:J28) -> 10315 | K29: =SUM(K10:K28) -> 0 | L29: =SUM(L10:L28) -> 0 | ... O29: =SUM(O10:O28) -> 13315
A30: 1 | B30: 14 | C30: Főépítészi feladatok
C31: 013350 Önk-i vagyonnal való gazdálkodáshoz kapcs.fa.
C32: - belterületbe vonással kapcsolatos bevétel | D32: 171967 | O32: =SUM(E32:N32) -> 0
C33: - Helyi építészeti értékek védelme alap | D33: 164903 | O33: =SUM(E33:N33) -> 0
C34: Főépítészi feladatok összesen: | E34: =SUM(E32:E33) -> 0 | F34: =SUM(F32:F33) -> 0 | G34: =SUM(G32:G33) -> 0 | H34: =SUM(H32:H33) -> 0 | I34: =SUM(I32:I33) -> 0 | J34: =SUM(J32:J33) -> 0 | K34: =SUM(K32:K33) -> 0 | L34: =SUM(L32:L33) -> 0 | ... O34: =SUM(O32:O33) -> 0
A35: 1 | B35: 15 | C35: Városüzemelési feladatok
C36: 081061 Szabadidős park, fürdő és strandszolgáltatás
C37: - Gébárti fürdő lét. üzemeltetése | D37: 151906 | H37: -3956 | O37: =SUM(E37:N37) -> -3956
C38: - Aquapark üzemeltetés | D38: 151 907 | H38: -12541 | O38: =SUM(E38:N38) -> -12541
C39: - Gébárti kemping, fedett fürdő földhasználat | D39: 151909 | H39: 15874 | O39: =SUM(E39:N39) -> 15874
C40: 066010 Zöldterület kezelés | O40: =SUM(E40:N40) -> 0
C41: - fa értékesítés bevétele | D41: 152 908
C42: - haszonbérleti szerződések, kishaszonbérlet | D42: 151506 | O42: =SUM(E42:N42) -> 0
C43: - környezetvéd.alap feltöltése | D43: 151607 | O43: =SUM(E43:N43) -> 0
C44: 042180 Állat-egészségügy
C45: - állategészségügyi tevékenység | D45: 151902 | O45: =SUM(E45:N45) -> 0
C46: - Ebrendészeti telep felújításához támogatás a Közös ügyünk az állatvédelem Alapítványtól | D46: 154908 | O46: =SUM(E46:N46) -> 0
C47: 066020 Város-, községgazdálkodási egyéb szolgáltatás
C48: - Zalai Közszolgáltató Nonprofit Kft. bérleti díj | D48: 151701
C49: - köztisztaság szerződéses munkák | D49: 151603 | H49: 8705 | O49: =SUM(E49:N49) -> 8705
C50: - közművesítési hozzájárulás | D50: 151611 | H50: 6566 | O50: =SUM(E50:N50) -> 6566
C51: 045120 Út, autópálya építése
C52: - parkolómegváltás bevétele | D52: 152442 | O52: =SUM(E52:N52) -> 0
C53: - Batsányi J.u. Jókai M.u. és Pintér M.u.közti, déli oldali járdaszakaszának felújítása | D53: 154401 | K53: 223 | O53: =SUM(E53:N53) -> 223
C54: 045170 Parkoló, garázs üzemeltetése, fenntartása
C55: - parkolási közszolgáltatási tevékenység ellátásával kapcsolatos bevétel | D55: 151 910 | O55: =SUM(E55:N55) -> 0
C56: 064010 Közvilágítás
C57: - közvilágítás villamosenergia vásárlás | D57: 151201 | O57: =SUM(E57:N57) -> 0
C58: 045160 Közutak, hidak, alagutak üzemeltetése, fenntartása
C59: - helyi utak, hidak fenntartása | D59: 151401 | O59: =SUM(E59:N59) -> 0
C60: Városüzemelési feladatok összesen: | E60: =SUM(E36:E59) -> 0 | F60: =SUM(F36:F59) -> 0 | G60: =SUM(G36:G59) -> 0 | H60: =SUM(H36:H59) -> 14648 | I60: =SUM(I36:I59) -> 0 | J60: =SUM(J36:J59) -> 0 | K60: =SUM(K36:K59) -> 223 | L60: =SUM(L36:L59) -> 0 | ... O60: =SUM(O36:O59) -> 14871
A61: 1 | B61: 16. | C61: Városépítészeti feladatok
C62: 052020 Szennyvíz gyűjtése, tisztítása, elhelyezése
C63: - ZALAVÍZ Zrt. nem víziközmű után fizetendő bérleti díj | D63: 161909 | O63: =SUM(E63:N63) -> 0
C64: - szennyvíz vagyon használati díja és Áfa visszaig. | D64: 164106 | H64: -1753 | O64: =SUM(E64:N64) -> -1753
C65: - ivóvíz vagyon használati díja és Áfa visszaig.+ KIEFO | D65: 164204 | H65: 1753 | O65: =SUM(E65:N65) -> 1753
C66: - Zalaegerszeg nyugati vízbázisról ellátott települések ívóvízminőségének javítása KEHOP projekt | D66: 164206 | O66: =SUM(E66:N66) -> 0
C67: - VÁRA-ÉMI 2020-001 Szennyvíz Gépészet Projekt | D67: 164109 | O67: =SUM(E67:N67) -> 0
C68: - KEHOP 2.1.11-21-2021-00002 Ivóvízhálózatok és szennyvízhálózatok hatékonyságnövelő fejlesztése | D68: 164207 | O68: =SUM(E68:N68) -> 0
C69: 013350 Önk-i vagyonnal való gazdálkodáshoz kapcs. fa.
C70: - TOP-6.4.1-15-ZL1-2016-00001 Gyalogos és kerékpárosbarát belváros közlekedési feltételeinek megteremtése Zalaegerszegen hivatásforgalmi kerékpárutak fejlesztésével és a Kosztolányi Dezső út kétirányúsításával | D70: 163607
C71: -TOP-6.1.1-16 Zalaegerszegi Logisztikai Központ létrehozása (nettó fin.) | D71: 163625 | O71: =SUM(E71:N71) -> 0
C72: - TOP-6.1.2-16-ZL1-2017-00001 Inkubátorház bővítés Zalaegerszegen-III.ütem | D72: 163626 | O72: =SUM(E72:N72) -> 0
C73: - TOP Plusz -1.3-1-21 FVS TVP projekt | D73: 163658 | O73: =SUM(E73:N73) -> 0
C74: - TOP Plusz-1.2.1-21-ZA2-2022-00006 Zeg-Teskánd kerékpárút projekt | D74: 163662 | O74: =SUM(E74:N74) -> 0
C75: TOP_PLUSZ-6.2.1-23-ZL1-2025-00003 Parkerdei kerékpárút | D75: 163679 | E75: -19235 | F75: 19235 | O75: =SUM(E75:N75) -> 0
C76: - TOP_PLUSZ-3.4.1-23-ZL1-2023-00001 Bazitai Óvoda újjáépítése | D76: 163680 | O76: =SUM(E76:N76) -> 0
C77: - TOP_PLUSZ-3.4.1-23-ZL1-2023-00002 Ságodi Óvoda felújítása | D77: 163681 | O77: =SUM(E77:N77) -> 0
C78: - TOP_PLUSZ-3.4.1-23-ZL1-2024-00003 Orvosi rendelők felújítása (Kölcsey u.11., Mátyás király u. 16., Gasparich u. 21.) | D78: 163682 | O78: =SUM(E78:N78) -> 0
C79: - TOP_PLUSZ-3.4.1-23-ZL1-2024-00004 Zala Vármegyei Pedagógiai Szakszolgálat fejlesztése | D79: 163666 | O79: =SUM(E79:N79) -> 0
C80: - TOP_PLUSZ-1.3.2-23-ZL1-2024-00001Páterdombi közösségi tér kialakítása | D80: 163671 | O80: =SUM(E80:N80) -> 0
C81: - TOP_PLUSZ-3.4..1-23-ZL1-2025-00005 Tipegő bölcsőde felújítása | D81: 163672 | O81: =SUM(E81:N81) -> 0
C82: - TOP_PLUSZ-1.3.2-23-ZL1-2025-00003 Gyermek játszóház kialakítása Zalaegerszegen | D82: 163665 | H82: 2145 | O82: =SUM(E82:N82) -> 2145
C83: - TOP_PLUSZ-3.4.1-23-ZL1-2025-00006 Űrhajós utcai óvoda felújítása | D83: 163685 | O83: =SUM(E83:N83) -> 0
C84: - TOP_PLUSZ-3.4.1-23-ZL1-2025-00007 Napsugár óvoda felújítása | D84: 163684 | O84: =SUM(E84:N84) -> 0
C85: TOP_PLUSZ-3.4.1-23-ZL1-2025-00008 Ady iskola infrastruktúra fejlesztése | D85: 163686 | O85: =SUM(E85:N85) -> 0
C86: TOP_PLUSZ-6.2.1-23-ZL1-2025-000007 Ebergényi bekötőút burkolatfelújítása | D86: 163673 | E86: 13681 | F86: 166319 | O86: =SUM(E86:N86) -> 180000
C87: TOP_PLUSZ-1.3.2-23-ZL1-2024-00002 Kaszaházai közösségi tér kialakítása | D87: 163687 | E87: 8584 | F87: 191416 | O87: =SUM(E87:N87) -> 200000
C88: TOP_PLUSZ-3.2.1-23-ZL1-2024-00001 Helyi kulturális közösségfejlesztési folyamat kezdeményezése és megvalósítása Zalaegerszegen | D88: 163678 | E88: 66518 | F88: 14299 | O88: =SUM(E88:N88) -> 80817
C89: - Mindszenty Múzeum és Zarándokközpont fejlesztése, zalaegerszegi "Mindszenty Út" megvalósítása MVP | D89: 163621 | H89: 12864 | O89: =SUM(E89:N89) -> 12864
C90: - Alsóerdei Sport- és Rekreációs Központ fejlesztése MVP támogatással | D90: 163702 | O90: =SUM(E90:N90) -> 0
C91: - Modern Városok Program keretében tervezett közúthálózat és kapcsolódó tereinek fejlesztései | D91: 163650 | O91: =SUM(E91:N91) -> 0
C92: Versenyképes Járások Program - Deák Ferenc Megyei és Városi Könyvtár fűtéskorszerűsítése | D92: 164959 | O92: =SUM(E92:N92) -> 0
C93: Versenyképes Járások Program - Hevesi Sándor Színház infrastrukturális fejlesztése | D93: 164958 | O93: =SUM(E93:N93) -> 0
C94: - Északi Ipari park infrastuktúra fejlesztésével összefüggő közműfejlesztések és közműcsatlakozások ivóvíz és ipari víz, szennyvízellátás | D94: 163654 | O94: =SUM(E94:N94) -> 0
C95: - Északi Ipari park infrastuktúra fejlesztésével összefüggő közműfejlesztések és közműcsatlakozások - csapadékvíz biztonságos kezelése | D95: 163661 | O95: =SUM(E95:N95) -> 0
C96: - Északi Ipari park infrastuktúra fejlesztésével összefüggő közműfejlesztések és közműcsatlakozások - csapadékvíz biztonságos kezelése Nagypáli | D96: 163683 | O96: =SUM(E96:N96) -> 0
C97: - Andráshidai mini bölcsőde építése RRF-1.1.2-21-2022-00019 | D97: 132937 | O97: =SUM(E97:N97) -> 0
C98: - EIT Urban Mobility projekt | D98: 163663 | O98: =SUM(E98:N98) -> 0
C99: - Északi ipari park bővítése,vízi közművek és feltáró út építése, közvilágítása | D99: 163664 | H99: 319 | O99: =SUM(E99:N99) -> 319
C100: - Pózváért Alapítványtól felhalmozási célra átvett pénzeszköz | D100: 162987 | O100: =SUM(E100:N100) -> 0
...

Sheet táj2
A1: Cím szám | B1: Alcím szám | C1: Sorszám | D1: Megnevezés | E1: feladat jellege | F1: Tervezési alapegység | G1: Költségvetési kiadások | O1: Finanszírozási kiadások | Q1: Kiadás összesen | R1: Módosítás hatáskör szerint
G2: Személyi juttatások | H2: Munkaadókat terhelő járulékok és szociális hj.adó | I2: Dologi kiadások | J2: Ellátottak pénzbeli juttatásai | K2: Egyéb működési célú kiadások | L2: Beruházások | M2: Felújítások | N2: Egyéb felhalmozási célú kiadások | O2: Hitel-, kölcsöntör-lesztés áht-n kívülre | P2: Egyéb finanszírozási kiadás
A3: 1 | D3: Önkormányzat
A4: 1 | B4: 1 | D4: Szakosztályok
A5: 1 | B5: 12 | D5: Szociális és igazgatási feladatok
D6: 105010 Munkanélküli aktív korúak ellátásai
D7: - megélhetési támogatás | E7: 2 | F7: 121103 | Q7: =SUM(G7:P7) -> 0
D8: 106020 Lakásfenntartással, lakhatással összefüggő ellátások
D9: - lakásfenntartási segély | E9: 2 | F9: 121104 | Q9: =SUM(G9:P9) -> 0
D10: - önkormányzati bérlakásban élők lakásfenntartási segélye Lakásalapból | E10: 2 | F10: 121117 | Q10: =SUM(G10:P10) -> 0
D11: - gázártámogatás | E11: 2 | F11: 121202 | Q11: =SUM(G11:P11) -> 0
D12: - villamosenergia támogatás | E12: 2 | F12: 121205 | Q12: =SUM(G12:P12) -> 0
D13: 107060 Egyéb szociális pénzbeli ellátások, támogatások
D14: - gyermekétkeztetési támogatás | E14: 2 | F14: 121111 | Q14: =SUM(G14:P14) -> 0
D15: - átmeneti segély | E15: 2 | F15: 121127 | Q15: =SUM(G15:P15) -> 0
D16: - egyszeri nevelési juttatás | E16: 2 | F16: 121115 | J16: 2000 | Q16: =SUM(G16:P16) -> 2000 | R16: kgy
D17: - szociális krízis alap | E17: 2 | F17: 121129 | Q17: =SUM(G17:P17) -> 0
D18: - tüzifa támogatás | E18: 2 | F18: 121106 | Q18: =SUM(G18:P18) -> 0
D19: 103010 Elhunyt személyek hátramaradottainak pénzbeli ellátása
D20: - temetési segély | E20: 2 | F20: 121131 | Q20: =SUM(G20:P20) -> 0
D21: 106020 Lakásfenntartással, lakhatással összefüggő ellátások
D22: - lakhatási krízis alap Lakásalapból | E22: 2 | F22: 121130 | Q22: =SUM(G22:P22) -> 0
D23: 107060 Egyéb szociális pénzbeli ellátások, támogatások
D24: - gyógyszertámogatás | E24: 1 | F24: 121204 | J24: -2000 | Q24: =SUM(G24:P24) -> -2000 | R24: kgy
D25: - gyógyászati segédeszköz támogatás | E25: 1 | F25: 121132 | Q25: =SUM(G25:P25) -> 0
D26: - köztemetés | E26: 1 | F26: 121203 | Q26: =SUM(G26:P26) -> 0
D27: 094260 Hallgatói és oktatói ösztöndíjak, egyéb juttatások
D28: - Bursa Hungarica ösztöndíj | E28: 2 | F28: 121504 | Q28: =SUM(G28:P28) -> 0
D29: 061030 Lakáshoz jutást segítő támogatások
D30: - lakásgazdálkodási feladatokra | E30: 1 | F30: 121403 | Q30: =SUM(G30:P30) -> 0
D31: 104042 Család- és gyermekjóléti szolgálat
D32: - Családsegítő Szolgálathoz krízissegélyezés | E32: 1 | F32: 121301 | Q32: =SUM(G32:P32) -> 0
D33: 011130 Önkorm. és önkorm. hivatal. jogalk. és ált.ig.tev.
D34: - Egerszegkártya | E34: 2 | F34: 221902 | I34: -679 | Q34: =SUM(G34:P34) -> -679 | R34: kgy
D35: - Nemzedékek kézfogása | E35: 2 | F35: 22190** | Q35: =SUM(G35:P35) -> 0
D36: - bírtokvédelmi költség megelőlegezés | E36: 1 | F36: 121118 | Q36: =SUM(G36:P36) -> 0
D37: - talált tárgyak felértékeltetése | E37: 1 | F37: 121515 | Q37: =SUM(G37:P37) -> 0
D38: 032020 Tűz- és katasztrófavéd. tevékenység
D39: - helyi védelmi igazgatás | E39: 1 | F39: 121601 | Q39: =SUM(G39:P39) -> 0
D40: 109010 Szociális szolgáltatás igazgatása
D41: - "Lakhatásért" Közalapítvány támogatása | E41: 2 | F41: 121517 | Q41: =SUM(G41:P41) -> 0
D42: Szociális és igazgatási fa.működési kiadás összesen: | G42: =SUM(G7:G41) -> 0 | H42: =SUM(H7:H41) -> 0 | I42: =SUM(I7:I41) -> -679 | J42: =SUM(J7:J41) -> 0 | K42: =SUM(K7:K41) -> 0 | L42: =SUM(L7:L41) -> 0 | M42: =SUM(M7:M41) -> 0 | N42: =SUM(N7:N41) -> 0 | ... Q42: =SUM(Q7:Q41) -> -679
D43: Beruházási és felújítási kiadások:
C44: 1./1 | D44: Önkormányzat által nyújtott lakástámogatás első lakáshoz jutók részére (Lakásalapból) | F44: 121401 | Q44: =SUM(G44:P44) -> 0
D45: 2024. évről áthúzódó feladat
C46: 1.a/1 | D46: Családok otthonteremtési kedvezménye (Lakásalap) | F46: 121405 | Q46: =SUM(G46:P46) -> 0
C47: 1.a/2 | D47: Kamatmentes kölcsön az ideiglenesen nehéz helyzetbe került zeg-i polgárok számára (Lakásalapból) | F47: 121402 | Q47: =SUM(G47:P47) -> 0
D48: Szociális és igazgatási fa. kiadásai összesen: | G48: =SUM(G42:G47) -> 0 | H48: =SUM(H42:H47) -> 0 | I48: =SUM(I42:I47) -> -679 | J48: =SUM(J42:J47) -> 0 | K48: =SUM(K42:K47) -> 0 | L48: =SUM(L42:L47) -> 0 | M48: =SUM(M42:M47) -> 0 | N48: =SUM(N42:N47) -> 0 | ... Q48: =SUM(Q42:Q47) -> -679
A49: 1 | B49: 13 | D49: Humánigazgatási feladatok
D50: Oktatási feladatok
D51: 098010 Oktatás igazgatása
D52: - Zalaegerszegi Szakképzési Centrum részére támogatás szakképzési ösztöndíj céljára | E52: 2 | F52: 131112 | Q52: =SUM(G52:P52) -> 0
D53: - intézmények és civil szervezetek támogatása, rendezvényeik finanszírozása | E53: 2 | F53: 131123 | Q53: =SUM(G53:P53) -> 0
D54: - pedagógusnapi rendezvény szervezése | E54: 2 | F54: 131212 | Q54: =SUM(G54:P54) -> 0
D55: - díszokleveles pedagógusok ünnepsége és jutalmazása | E55: 2 | F55: 131122 | G55: -308 | H55: -119 | I55: -863 | Q55: =SUM(G55:P55) -> -1290 | R55: pm
D56: - Zeg.Felsőfokú Oktatásáért Közalapítvány támogatása | E56: 2 | F56: 131107 | Q56: =SUM(G56:P56) -> 0
D57: - nyári táboroztatás | E57: 2 | F57: 131128 | Q57: =SUM(G57:P57) -> 0
D58: - Nemzeti Orvosbiológiai Alapítvány tudósképző akadémia programjának támogatása | E58: 2 | F58: 131129 | Q58: =SUM(G58:P58) -> 0
D59: Kulturális és ifjúsági feladatok
D60: 084070 A fiatalok társ. integrációját segítő struktúra, szakmai szolgált. fejlesztése, működtetése
D61: - ifjúsági rendezvények | E61: 2 | F61: 131201 | H61: -1 | I61: -169 | Q61: =SUM(G61:P61) -> -170 | R61: pm
D62: - Zalaegerszegi Városi Diákönkormányzat | E62: 2 | F62: 131202 | G62: 600 | H62: 212 | I62: 688 | Q62: =SUM(G62:P62) -> 1500 | R62: pm
D63: - Zalaegerszegi Városi Diáknapok | E63: 2 | F63: 131205 | H63: -1 | I63: -1500 | K63: -26 | Q63: =SUM(G63:P63) -> -1527 | R63: pm
D64: - Zalaegerszegi Egyetemisták Egyesülete | E64: 2 | F64: 131206 | Q64: =SUM(G64:P64) -> 0
D65: - Zalaegerszegi Ifjúsági Kerekasztal | E65: 2 | F65: 131209 | I65: 27 | Q65: =SUM(G65:P65) -> 27 | R65: pm
D66: - "Fiatalok az Egészséges Jövőért" Alapítvány országos vetélkedője | E66: 2 | F66: 131214 | Q66: =SUM(G66:P66) -> 0
D67: 094260 Hallgatói és oktatói ösztöndíjak, egyéb juttatások
D68: - felsőoktatási ösztöndíj és támogatás | E68: 2 | F68: 131101 | Q68: =SUM(G68:P68) -> 0
D69: 074052 Kábítószer megelőzés programja
D70: - Zalaegerszegi Kábítószerügyi Egyeztető Fórum | E70: 2 | F70: 131120 | G70: -150 | H70: -45 | I70: 140 | Q70: =SUM(G70:P70) -> -55 | R70: pm
D71: 082091 Közművelődés - közösségi és társ. részvétel fejleszt.
D72: - Magyar Kultúra Napja | E72: 2 | F72: 131346 | I72: 225 | Q72: =SUM(G72:P72) -> 225 | R72: pm
D73: - Gébárti Népművészeti Fesztivál | E73: 2 | F73: 131339 | Q73: =SUM(G73:P73) -> 0
D74: - Egerszeg búcsú | E74: 2 | F74: 131306 | Q74: =SUM(G74:P74) -> 0
D75: - Filmzenei koncert | E75: 2 | F75: 131341 | Q75: =SUM(G75:P75) -> 0
D76: - Zegasztár támogatása | E76: 2 | F76: 131326 | K76: 350 | Q76: =SUM(G76:P76) -> 350 | R76: pm
D77: - Formula Student East | E77: 2 | F77: 221910 | K77: -3000 | Q77: =SUM(G77:P77) -> -3000 | R77: pm
D78: - Városi Hangverseny- és Kiállítóteremben rendezvények | E78: 2 | F78: 131332 | Q78: =SUM(G78:P78) -> 0
D79: - Zalaegerszegi Múzeumok Igazgatósága a '80-as évek kiállítás | E79: 2 | F79: 131333 | Q79: =SUM(G79:P79) -> 0
D80: - Városi karácsonyi hangverseny | E80: 2 | F80: 131361 | Q80: =SUM(G80:P80) -> 0
D81: - Street Food weekend | E81: 2 | F81: 131409 | Q81: =SUM(G81:P81) -> 0
D82: - Majális | E82: 2 | F82: 131352 | Q82: =SUM(G82:P82) -> 0
D83: - Sörfesztivál támogatása | E83: 2 | F83: 131353 | Q83: =SUM(G83:P83) -> 0
D84: - Egerszegi Adventtel kapcsolatos kiadások | E84: 2 | F84: 131329 | K84: 2500 | Q84: =SUM(G84:P84) -> 2500 | R84: pm
D85: - Kvártélyház Kft. támogatása | E85: 2 | F85: 131321 | Q85: =SUM(G85:P85) -> 0
D86: - Zalaegerszegi Rendezvényszervező Kft. működési támogatása | E86: 2 | F86: 131313 | Q86: =SUM(G86:P86) -> 0
D87: - Keresztury Emlékbizottság | E87: 2 | F87: 131501 | I87: -80 | Q87: =SUM(G87:P87) -> -80 | R87: kgy
D88: - Éves sajtófotó kiállítás | E88: 2 | F88: 131310 | Q88: =SUM(G88:P88) -> 0
D89: - Városi farsang | E89: 2 | F89: 131410 | Q89: =SUM(G89:P89) -> 0
D90: - Kárpát-medencei ifjúsági tábor | E90: 2 | F90: 221944 | Q90: =SUM(G90:P90) -> 0
D91: - 140 éves jubileum | E91: 2 | F91: 131362 | K91: -1000 | Q91: =SUM(G91:P91) -> -1000 | R91: pm
D92: - Gébárti Művésztelep | E92: 2 | F92: 131307 | Q92: =SUM(G92:P92) -> 0
D93: - II. Nemzetközi Tánc és Világzenei Fesztivál | E93: 2 | F93: 131357 | Q93: =SUM(G93:P93) -> 0
D94: - Zala Open támogatása | E94: 2 | F94: 131323 | Q94: =SUM(G94:P94) -> 0
D95: - Verbunk verseny | E95: 2 | F95: 131319 | Q95: =SUM(G95:P95) -> 0
D96: - Zalaegerszegi Szimfonikus Zenekar támogatása | E96: 2 | F96: 131348 | Q96: =SUM(G96:P96) -> 0
D97: - Városi Gyermeknap | E97: 2 | F97: 131213 | Q97: =SUM(G97:P97) -> 0
D98: - Prósza Fesztivál | E98: 2 | F98: 131363 | Q98: =SUM(G98:P98) -> 0
D99: - '47-es Honvéd Zászlóalj Hagyományőrző Egyesület támogatása | E99: 2 | F99: 131345 | Q99: =SUM(G99:P99) -> 0
D100: - Harangláb Népzenei Együttes 40 éves jubileuma | E100: 2 | F100: 131364 | Q100: =SUM(G100:P100) -> 0
...

Sheet táj3
A1: Címszám | B1: Sorszám | C1: Megnevezés | D1: Költségvetési bevételek | K1: Finanszírozási bevételek | N1: Bevételek összesen
D2: Működési célú támogatások áht-n belülről | E2: Felhalmozási célú támogatások áht-n belülről | F2: Közhatalmi bevételek | G2: Működési bevételek | H2: Felhalmozási bevételek | I2: Működési célú átvett pénzeszközök | J2: Felhalmozási célú átvett pénzeszközök | K2: Maradvány igénybevétele | L2: Központi, irányító szervi támogatás | M2: Egyéb finanszírozási bevétel
A3: 2 | C3: Költségvetési szervek
B4: 1 | C4: Polgármesteri Hivatal | D4: 3338 | G4: 1242 | H4: 2413 | L4: 20000 | N4: =SUM(D4:M4) -> 26993
B5: 2 | C5: Zalaegerszegi Gazdasági Ellátó Szervezet | L5: -18434 | N5: =SUM(D5:M5) -> -18434
B6: 3 | C6: Zalaegerszegi Egyesített Bölcsődék | L6: 3447 | N6: =SUM(G6:M6) -> 3447
B7: 4 | C7: Zalaegerszegi Család- és Gyermekjóléti Központ | L7: 18682 | N7: =SUM(D7:M7) -> 18682
B8: 5 | C8: Zalaegerszegi Belvárosi I. számú Óvoda | L8: 1630 | N8: =SUM(D8:M8) -> 1630
B9: 6 | C9: Zalaegerszegi Belvárosi II. számú Óvoda | L9: 4272 | N9: =SUM(D9:M9) -> 4272
B10: 7 | C10: Zalaegerszegi Kertvárosi Óvoda | J10: 988 | L10: -422 | N10: =SUM(D10:M10) -> 566
B11: 8 | C11: Zalaegerszegi Landorhegyi Óvoda | L11: 1155 | N11: =SUM(D11:M11) -> 1155
B12: 9 | C12: Közgyűjteményi és Közművelődési GESZ | G12: 4 | L12: 500 | N12: =SUM(D12:M12) -> 504
B13: 10 | C13: Keresztury Dezső Városi Művelődési Központ | D13: 2545 | G13: 23513 | I13: 1200 | L13: 10605 | N13: =SUM(D13:M13) -> 37863
B14: 11 | C14: Zalaegerszegi Turisztikai Hivatal és Információs Iroda | E14: 260 | G14: 1250 | L14: 1404 | N14: =SUM(D14:M14) -> 2914
B15: 12 | C15: Deák Ferenc Megyei és Városi Könyvtár | D15: 1828 | G15: -3907 | L15: 211 | N15: =SUM(D15:M15) -> -1868
B16: 13 | C16: Zalaegerszegi Múzeumok Igazgatósága | D16: 11569 | E16: 600 | G16: 14961 | I16: -980 | L16: 234 | N16: =SUM(D16:M16) -> 26384
B17: 14 | C17: Hevesi Sándor Színház | D17: 6000 | G17: 15040 | N17: =SUM(D17:M17) -> 21040
B18: 15 | C18: Griff Bábszínház | D18: 6550 | N18: =SUM(D18:M18) -> 6550
B19: 16 | C19: Városi Sportlétesítmény Gondnokság Intézménye | L19: 3200 | N19: =SUM(D19:M19) -> 3200
B20: 17 | C20: Vásárcsarnok | D20: 50 | G20: 280 | N20: =SUM(D20:M20) -> 330
B21: 18 | C21: Göcseji Tudásközpont - Zalaegerszegi Helyi Termék Piac | D21: 1500 | G21: 1130 | N21: =SUM(D21:M21) -> 2630
C22: Összesen: | D22: =SUM(D4:D21) -> 33380 | E22: =SUM(E4:E21) -> 860 | F22: =SUM(F4:F21) -> 0 | G22: =SUM(G4:G21) -> 53513 | H22: =SUM(H4:H21) -> 2413 | I22: =SUM(I4:I21) -> 220 | J22: =SUM(J4:J21) -> 988 | K22: =SUM(K4:K21) -> 0 | ... N22: =SUM(N4:N21) -> 137858

Sheet táj4
A1: Cím szám | B1: Sorszám | C1: Megnevezés | D1: Költségvetési kiadások | L1: Finanszírozási kiadások | M1: Kiadások összesen
D2: Személyi juttatások | E2: Munkaadókat terhelő járulékok és szociális hj.adó | F2: Dologi kiadások | G2: Ellátottak pénzbeli juttatásai | H2: Egyéb működési célú kiadások | I2: Beruházások | J2: Felújítások | K2: Egyéb felhalmo-zási célú kiadások
A3: 2 | C3: Költségvetési szervek
B4: 1 | C4: Polgármesteri Hivatal | D4: 3597 | E4: 468 | F4: 20515 | I4: 2413 | M4: =SUM(D4:L4) -> 26993
B5: 2 | C5: Zalaegerszegi Gazdasági Ellátó Szervezet | F5: -19214 | I5: -220 | J5: 1000 | M5: =SUM(D5:L5) -> -18434
B6: 3 | C6: Zalaegerszegi Egyesített Bölcsődék | D6: 3363 | E6: 438 | F6: 146 | I6: -1250 | J6: 750 | M6: =SUM(D6:L6) -> 3447
B7: 4 | C7: Zalaegerszegi Család- és Gyermekjóléti Központ | D7: 16706 | E7: 1976 | F7: -1000 | I7: 1000 | M7: =SUM(D7:L7) -> 18682
B8: 5 | C8: Zalaegerszegi Belvárosi I. számú Óvoda | D8: -22 | E8: -3 | F8: 1155 | I8: 500 | M8: =SUM(D8:L8) -> 1630
B9: 6 | C9: Zalaegerszegi Belvárosi II. számú Óvoda | D9: 4198 | E9: 546 | F9: -722 | J9: 250 | M9: =SUM(D9:L9) -> 4272
B10: 7 | C10: Zalaegerszegi Kertvárosi Óvoda | D10: -22 | E10: -3 | F10: -397 | I10: 388 | J10: 600 | M10: =SUM(D10:L10) -> 566
B11: 8 | C11: Zalaegerszegi Landorhegyi Óvoda | D11: -22 | E11: -3 | F11: 680 | I11: 500 | M11: =SUM(D11:L11) -> 1155
B12: 9 | C12: Közgyűjteményi és Közművelődési GESZ | D12: -245 | E12: 245 | F12: 254 | I12: 250 | M12: =SUM(D12:L12) -> 504
B13: 10 | C13: Keresztury Dezső Városi Művelődési Központ | D13: -4000 | F13: 38150 | I13: 513 | J13: 3200 | M13: =SUM(D13:L13) -> 37863
B14: 11 | C14: Zalaegerszegi Turisztikai Hivatal és Információs Iroda | D14: 990 | E14: 204 | F14: 1390 | I14: 330 | M14: =SUM(D14:L14) -> 2914
B15: 12 | C15: Deák Ferenc Megyei és Városi Könyvtár | D15: -2740 | E15: -350 | F15: -1858 | I15: 4350 | J15: -1270 | M15: =SUM(D15:L15) -> -1868
B16: 13 | C16: Zalaegerszegi Múzeumok Igazgatósága | D16: -3590 | E16: -328 | F16: 29642 | H16: 60 | I16: 600 | M16: =SUM(D16:L16) -> 26384
B17: 14 | C17: Hevesi Sándor Színház | D17: 22000 | E17: -20000 | F17: 19040 | M17: =SUM(D17:L17) -> 21040
B18: 15 | C18: Griff Bábszínház | D18: 2000 | E18: -2000 | F18: 6550 | M18: =SUM(D18:L18) -> 6550
B19: 16 | C19: Városi Sportlétesítmény Gondnokság Intézménye | F19: -4000 | I19: 7200 | M19: =SUM(D19:L19) -> 3200
B20: 17 | C20: Vásárcsarnok | D20: -350 | E20: 630 | F20: 50 | M20: =SUM(D20:L20) -> 330
B21: 18 | C21: Göcseji Tudásközpont - Zalaegerszegi Helyi Termék Piac | D21: 1220 | E21: 180 | F21: 1150 | J21: 80 | M21: =SUM(D21:L21) -> 2630
C22: Összesen: | D22: =SUM(D4:D21) -> 43083 | E22: =SUM(E4:E21) -> -18000 | F22: =SUM(F4:F21) -> 91531 | G22: =SUM(G4:G21) -> 0 | H22: =SUM(H4:H21) -> 60 | I22: =SUM(I4:I21) -> 16574 | J22: =SUM(J4:J21) -> 4610 | K22: =SUM(K4:K21) -> 0 | ... M22: =SUM(M4:M21) -> 137858
