Workbook
Name _GoBack: '2'!#REF!

Sheet 1
A1: Megnevezés | B1: 2025. évi tény adat | C1: 2026. évi eredeti előirányzat | D1: módosítás I | E1: módosítás II | F1: módosítás július | G1: módosítás III | H1: módosítás IV | I1: módosítás V | J1: 2026. évi módosítás | K1: 2026. évi módosított előirányzat | O1: Megnevezés | P1: 2025. évi tény adat | Q1: 2026. évi eredeti előirányzat | R1: módosítás I | S1: módosítás II | T1: módosítás július | U1: módosítás III | V1: módosítás IV | W1: módosítás V | X1: 2026. évi módosítás | Y1: 2026. évi módosított előirányzat
A2: I. Működési célú bevételek | O2: I. Működési célú kiadások
A3: 1.) Működési célú támogatások államháztartáson belülről | B3: 8525092101 | C3: 9763426527 | D3: 512399226 | E3: 159138751 | F3: =táj1!E167 -> 1480301 | J3: =SUM(D3:I3) -> 673018278 | K3: =C3+J3 -> 10436444805 | L3: ='6'!E167 -> 10436444805 | M3: =K3-L3 -> 0 | O3: 1.) Költségvetési szervek kiadásai | P3: 12033636846 | Q3: 13639731562 | R3: 181572928 | S3: 251996880 | X3: =SUM(R3:W3) -> 433569808 | Y3: =Q3+X3 -> 14073301370 | Z3: ='8'!G580+'8'!H580+'8'!I580+'8'!J580+'8'!K580 -> 14073301370 | AA3: =Y3-Z3 -> 0
A4: 2.) Közhatalmi bevételek | B4: =9801435482-30000000 -> 9771435482 | C4: 9682800000 | D4: 0 | E4: 0 | F4: =táj1!G167 -> 0 | J4: =SUM(D4:I4) -> 0 | K4: =C4+J4 -> 9682800000 | L4: ='6'!G167 -> 9682800000 | M4: =K4-L4 -> 0 | O4: 2.) Önkormányzat szakosztályainak kiadásai | P4: =5125217316-P21 -> 5057526144 | Q4: 7041320625 | R4: 206613357 | S4: 181599483 | T4: =táj2!G581+táj2!H581+táj2!I581+táj2!J581 -> -24316502 | X4: =SUM(R4:W4) -> 363896338 | Y4: =Q4+X4 -> 7405216963 | Z4: ='8'!G579+'8'!H579+'8'!I579+'8'!J579-'8'!I516 -> 7405216963 | AA4: =Y4-Z4 -> 0
A5: 3.) Működési bevételek | B5: =6735319570-B18 -> 5550205259 | C5: 5019473934 | D5: 98327675 | E5: 55839643 | F5: =táj1!H167-F18 -> 2234636 | J5: =SUM(D5:I5) -> 156401954 | K5: =C5+J5 -> 5175875888 | L5: ='6'!H167-'1'!K18 -> 5175875888 | M5: =K5-L5 -> 0 | O5: 3.) Egyéb működési célú kiadások (költségvetési szervek és tartalék nélkül) | P5: 6996527356 | Q5: 6928639061 | R5: 160424917 | S5: 58982726 | T5: =táj2!K581-táj2!K578 -> 400000 | X5: =SUM(R5:W5) -> 219807643 | Y5: =Q5+X5 -> 7148446704 | Z5: ='8'!K579-'8'!K578 -> 7148446704 | AA5: =Y5-Z5 -> 0
A6: 4.) Működési célú átvett pénzeszközök | B6: 107943628 | C6: 3000000 | E6: 31210000 | F6: =táj1!J167 -> 6249 | J6: =SUM(D6:I6) -> 31216249 | K6: =C6+J6 -> 34216249 | L6: ='6'!J167 -> 34216249 | M6: =K6-L6 -> 0 | O6: 4.) Céltartalékból működésre | Q6: 560609897 | R6: -21897746 | S6: 17288825 | T6: =táj2!K578-táj2!K566 -> 1486550 | X6: =SUM(R6:W6) -> -3122371 | Y6: =Q6+X6 -> 557487526 | Z6: ='8'!K568+'8'!K569+'8'!K570+'8'!K571+'8'!K572+'8'!K573+'8'!K574 -> 557487526 | AA6: =Y6-Z6 -> 0
A7: Költségvetési műk. bevételei összesen: | B7: =SUM(B3+B4+B5+B6) -> 23954676470 | C7: =SUM(C3+C4+C5+C6) -> 24468700461 | D7: =SUM(D3+D4+D5+D6) -> 610726901 | E7: =SUM(E3+E4+E5+E6) -> 246188394 | F7: =SUM(F3+F4+F5+F6) -> 3721186 | G7: =SUM(G3+G4+G5+G6) -> 0 | H7: =SUM(H3+H4+H5+H6) -> 0 | I7: =SUM(I3+I4+I5+I6) -> 0 | ... M7: =SUM(M3+M4+M5+M6) -> 0 | O7: 5.) Általános tartalék | Q7: 10000000 | S7: 5991706 | T7: =táj2!K566 -> 0 | X7: =SUM(R7:W7) -> 5991706 | Y7: =Q7+X7 -> 15991706 | Z7: ='8'!K566 -> 15991706 | AA7: =Y7-Z7 -> 0
A8: Finanszírozási bevételek | M8: =K8-L8 -> 0 | O8: Költségvetési műk. kiadásai összesen: | P8: =SUM(P2:P7) -> 24087690346 | Q8: =SUM(Q2:Q7) -> 28180301145 | R8: =SUM(R2:R7) -> 526713456 | S8: =SUM(S2:S7) -> 515859620 | T8: =SUM(T2:T7) -> -22429952 | U8: =SUM(U2:U7) -> 0 | V8: =SUM(V2:V7) -> 0 | W8: =SUM(W2:W7) -> 0 | ... AA8: =SUM(AA2:AA7) -> 0
A9: 5.) Előző év költségvetési maradványának igénybevétele | B9: 2111808000 | C9: 1355728334 | D9: -84013445 | E9: 269671226 | F9: -26151138 | J9: =SUM(D9:I9) -> 159506643 | K9: =C9+J9 -> 1515234977 | L9: ='6'!M167-'1'!K22 -> 1515234977 | M9: =K9-L9 -> 0 | O9: 6.) Egyéb finanszírozási kiadás (államháztartáson belüli megelőlegezés visszafizetése) | P9: 577027063 | Q9: 244127650 | X9: =SUM(R9:W9) -> 0 | Y9: =Q9+X9 -> 244127650 | Z9: ='8'!P499 -> 244127650 | AA9: =Y9-Z9 -> 0
A10: 6.) Forgatási célú értékpapír beváltás | C10: 2600000000 | J10: =SUM(D10:I10) -> 0 | K10: =C10+J10 -> 2600000000 | L10: ='6'!N136 -> 2600000000 | M10: =K10-L10 -> 0 | X10: =SUM(R10:W10) -> 0 | Y10: =Q10+X10 -> 0 | AA10: =Y10-Z10 -> 0
A11: 7.) Államháztartáson belüli megelőlegezések | B11: 620443526 | J11: =SUM(D11:I11) -> 0 | K11: =C11+J11 -> 0 | M11: =K11-L11 -> 0 | X11: =SUM(R11:W11) -> 0 | Y11: =Q11+X11 -> 0 | AA11: =Y11-Z11 -> 0
A12: MŰKÖDÉSI CÉLÚ BEVÉTELEK ÖSSZ: | B12: =SUM(B7:B11) -> 26686927996 | C12: =SUM(C7:C11) -> 28424428795 | D12: =SUM(D7:D11) -> 526713456 | E12: =SUM(E7:E11) -> 515859620 | F12: =SUM(F7:F11) -> -22429952 | G12: =SUM(G7:G11) -> 0 | H12: =SUM(H7:H11) -> 0 | I12: =SUM(I7:I11) -> 0 | ... M12: =SUM(M7:M11) -> 0 | O12: MŰKÖDÉSI CÉLÚ KIADÁSOK ÖSSZ.: | P12: =SUM(P8:P11) -> 24664717409 | Q12: =SUM(Q8:Q11) -> 28424428795 | R12: =SUM(R8:R11) -> 526713456 | S12: =SUM(S8:S11) -> 515859620 | T12: =SUM(T8:T11) -> -22429952 | U12: =SUM(U8:U11) -> 0 | V12: =SUM(V8:V11) -> 0 | W12: =SUM(W8:W11) -> 0 | ... AA12: =SUM(AA8:AA11) -> 0 | AB12: =K12-Y12 -> 0
A13: II. Felhalmozási célú bevételek | M13: =K13-L13 -> 0 | O13: II. Felhalmozási célú kiadások | X13: =SUM(R13:W13) -> 0 | AA13: =Y13-Z13 -> 0
A14: 1.) Felhalmozási célú támogatások államháztartáson belülről | B14: 880159915 | C14: 4881455631 | D14: 2707827498 | E14: -13824487 | F14: =táj1!F167 -> 0 | J14: =SUM(D14:I14) -> 2694003011 | K14: =C14+J14 -> 7575458642 | L14: ='6'!F167 -> 7575458642 | M14: =K14-L14 -> 0 | O14: 1.) Egyéb felhalmozási célú kiadások | P14: 141380917 | Q14: 125794890 | R14: 0 | S14: 384199 | T14: =táj2!N581 -> 0 | X14: =SUM(R14:W14) -> 384199 | Y14: =Q14+X14 -> 126179089 | Z14: ='8'!N581 -> 126179089 | AA14: =Y14-Z14 -> 0
A15: 2.) Felhalmozási bevételek | B15: 318519767 | C15: 174046508 | D15: 0 | E15: 0 | F15: =táj1!I167 -> 0 | J15: =SUM(D15:I15) -> 0 | K15: =C15+J15 -> 174046508 | L15: ='6'!I167 -> 174046508 | M15: =K15-L15 -> 0 | O15: ebből: költségvetési szervek | P15: 0 | Q15: 0 | R15: 0 | S15: 0 | X15: =SUM(R15:W15) -> 0 | Y15: =Q15+X15 -> 0 | Z15: ='8'!N580 -> 0 | AA15: =Y15-Z15 -> 0
A16: 3.) Közhatalmi bevételek | B16: 30000000 | C16: 0 | J16: =SUM(D16:I16) -> 0 | K16: =C16+J16 -> 0 | M16: =K16-L16 -> 0 | O16: 2.) Beruházás | P16: 3923576495 | Q16: 6871822071 | R16: 2330506914 | S16: -155205059 | T16: =táj2!L581 -> 29170924 | X16: =SUM(R16:W16) -> 2204472779 | Y16: =Q16+X16 -> 9076294850 | Z16: ='8'!L581-'8'!L577 -> 9076294850 | AA16: =Y16-Z16 -> 0
A17: 4.) Felhalmozási célú átvett pénzeszközök | B17: 78604733 | C17: 0 | D17: 546000 | E17: 82380 | F17: =táj1!K167 -> 0 | J17: =SUM(D17:I17) -> 628380 | K17: =C17+J17 -> 628380 | L17: ='6'!K167 -> 628380 | M17: =K17-L17 -> 0 | O17: ebből: költségvetési szervek | P17: 292821080 | Q17: 202558834 | R17: 34020500 | S17: 89901669 | X17: =SUM(R17:W17) -> 123922169 | Y17: =Q17+X17 -> 326481003 | Z17: ='8'!L580 -> 326481003 | AA17: =Y17-Z17 -> 0
A18: 5.) Fejlesztéshez működési jellegű bevétel (HD, áfa visszaigénylés) | B18: 1185114311 | C18: 720931677 | D18: 7321441 | E18: 59277394 | F18: 35618783 | J18: =SUM(D18:I18) -> 102217618 | K18: =C18+J18 -> 823149295 | L18: 787530512 | M18: =K18-L18 -> 35618783 | O18: 3.) Felújítás | P18: 2268539904 | Q18: 3672194497 | R18: 464794519 | S18: 343039356 | T18: =táj2!M581 -> 32598997 | X18: =SUM(R18:W18) -> 840432872 | Y18: =Q18+X18 -> 4512627369 | Z18: ='8'!M581-'8'!M576 -> 4512627369 | AA18: =Y18-Z18 -> 0
A19: Költségvetési felhalm. bevételei összesen: | B19: =SUM(B14:B18) -> 2492398726 | C19: =SUM(C14:C18) -> 5776433816 | D19: =SUM(D14:D18) -> 2715694939 | E19: =SUM(E14:E18) -> 45535287 | F19: =SUM(F14:F18) -> 35618783 | G19: =SUM(G14:G18) -> 0 | H19: =SUM(H14:H18) -> 0 | I19: =SUM(I14:I18) -> 0 | ... M19: =SUM(M14:M18) -> 35618783 | O19: ebből: költségvetési szervek | P19: 88419844 | Q19: 3441757 | R19: 16374107 | S19: 40666231 | X19: =SUM(R19:W19) -> 57040338 | Y19: =Q19+X19 -> 60482095 | Z19: ='8'!M580 -> 60482095 | AA19: =Y19-Z19 -> 0
A20: Finanszírozási bevételek | M20: =K20-L20 -> 0 | O20: 4.) Céltartalék | Q20: 20000000 | R20: 4980000 | S20: -14078600 | T20: =táj2!L578+táj2!M578 -> 0 | X20: =SUM(R20:W20) -> -9098600 | Y20: =Q20+X20 -> 10901400 | Z20: ='8'!L578+'8'!M578 -> 10901400 | AA20: =Y20-Z20 -> 0
A21: 6.) Hitelfelvétel | C21: 0 | E21: 500000000 | J21: =SUM(D21:I21) -> 500000000 | K21: =C21+J21 -> 500000000 | L21: ='6'!L167 -> 500000000 | M21: =K21-L21 -> 0 | O21: 5.)Fejlesztési hitel kamata | P21: 67691172 | Q21: 58226153 | X21: =SUM(R21:W21) -> 0 | Y21: =Q21+X21 -> 58226153 | Z21: ='8'!I516 -> 58226153 | AA21: =Y21-Z21 -> 0.34585
A22: 7.) Előző év költségvetési maradványának igénybevétele | B22: =7464090724-B9 -> 5352282724 | C22: 3827275063 | D22: 84586494 | E22: 128604609 | F22: =táj1!M167-'1'!F9 -> 26151138 | J22: =SUM(D22:I22) -> 239342241 | K22: =C22+J22 -> 4066617304 | L22: ='6'!M167-'1'!L9 -> 4066617304 | M22: =K22-L22 -> 0 | O22: Költségvetési felh.célú kiadásai összesen: | P22: =P14+P16+P18+P20+P21 -> 6401188488 | Q22: =Q14+Q16+Q18+Q20+Q21 -> 1.0748038e+10 | R22: =R14+R16+R18+R20+R21 -> 2800281433 | S22: =S14+S16+S18+S20+S21 -> 174139896 | T22: =T14+T16+T18+T20+T21 -> 61769921 | U22: =U14+U16+U18+U20+U21 -> 0 | V22: =V14+V16+V18+V20+V21 -> 0 | W22: =W14+W16+W18+W20+W21 -> 0 | ... AA22: =AA14+AA16+AA18+AA20+AA21 -> 0.34585
A23: 8.) Forgatási célú értékpapír beváltás projektekhez kapcsolódóan | B23: 2234000000 | C23: 1262180000 | J23: =SUM(D23:I23) -> 0 | K23: =C23+J23 -> 1262180000 | L23: ='6'!N93+'6'!N120 -> 1262180000 | M23: =K23-L23 -> 0 | O23: Finanszírozási kiadások | X23: =SUM(R23:W23) -> 0 | AA23: =Y23-Z23 -> 0
J24: =SUM(D24:I24) -> 0 | K24: =C24+J24 -> 0 | M24: =K24-L24 -> 0 | O24: 6.) Hitel- és kölcsöntörlesztések | P24: 117851268 | Q24: 117851268 | S24: 500000000 | X24: =SUM(R24:W24) -> 500000000 | Y24: =Q24+X24 -> 617851268 | Z24: ='8'!O516+'8'!O517 -> 617851268 | AA24: =Y24-Z24 -> 0
A25: FELHALMOZÁSI CÉLÚ BEVÉTELEK ÖSSZESEN: | B25: =SUM(B19:B24) -> 10078681450 | C25: =SUM(C19:C24) -> 10865888879 | D25: =SUM(D19:D24) -> 2800281433 | E25: =SUM(E19:E24) -> 674139896 | F25: =SUM(F19:F24) -> 61769921 | G25: =SUM(G19:G24) -> 0 | H25: =SUM(H19:H24) -> 0 | I25: =SUM(I19:I24) -> 0 | ... M25: =SUM(M19:M24) -> 35618783 | O25: FELHALMOZÁSI CÉLÚ KIADÁSOK ÖSSZESEN: | P25: =SUM(P22:P24) -> 6519039756 | Q25: =SUM(Q22:Q24) -> 1.0865889e+10 | R25: =SUM(R22:R24) -> 2800281433 | S25: =SUM(S22:S24) -> 674139896 | T25: =SUM(T22:T24) -> 61769921 | U25: =SUM(U22:U24) -> 0 | V25: =SUM(V22:V24) -> 0 | W25: =SUM(W22:W24) -> 0 | ... AA25: =SUM(AA22:AA24) -> 0.34585
A26: ÖNKORMÁNYZAT ÖSSZESEN: | B26: =SUM(B12+B25) -> 36765609446 | C26: =SUM(C12+C25) -> 39290317674 | D26: =SUM(D12+D25) -> 3326994889 | E26: =SUM(E12+E25) -> 1189999516 | F26: =SUM(F12+F25) -> 39339969 | G26: =SUM(G12+G25) -> 0 | H26: =SUM(H12+H25) -> 0 | I26: =SUM(I12+I25) -> 0 | ... M26: =SUM(M12+M25) -> 35618783 | O26: ÖNKORMÁNYZAT ÖSSZESEN: | P26: =P12+P25 -> 31183757165 | Q26: =Q12+Q25 -> 3.9290318e+10 | R26: =R12+R25 -> 3326994889 | S26: =S12+S25 -> 1189999516 | T26: =T12+T25 -> 39339969 | U26: =U12+U25 -> 0 | V26: =V12+V25 -> 0 | W26: =W12+W25 -> 0 | ... AA26: =AA12+AA25 -> 0.34585
A27: 9.) Forgatási célú értékpapír beváltás | B27: 4000000000 | C27: 5000000000 | J27: =SUM(D27:I27) -> 0 | K27: =C27+J27 -> 5000000000 | L27: ='6'!N131 -> 5000000000 | M27: =K27-L27 -> 0 | O27: 7.) Forgatási célú értékpapír vásárlás hazai forrásból átmenetileg szabad pénzeszközökből | P27: 4000000000 | Q27: 5000000000 | X27: =SUM(R27:W27) -> 0 | Y27: =Q27+X27 -> 5000000000 | Z27: ='8'!P518 -> 5000000000 | AA27: =Y27-Z27 -> 0
A28: MINDÖSSZESEN: | B28: =SUM(B26:B27) -> 40765609446 | C28: =SUM(C26:C27) -> 44290317674 | D28: =SUM(D26:D27) -> 3326994889 | E28: =SUM(E26:E27) -> 1189999516 | F28: =SUM(F26:F27) -> 39339969 | G28: =SUM(G26:G27) -> 0 | H28: =SUM(H26:H27) -> 0 | I28: =SUM(I26:I27) -> 0 | ... M28: =SUM(M26:M27) -> 35618783 | O28: MINDÖSSZESEN: | P28: =SUM(P26:P27) -> 35183757165 | Q28: =SUM(Q26:Q27) -> 4.4290318e+10 | R28: =SUM(R26:R27) -> 3326994889 | S28: =SUM(S26:S27) -> 1189999516 | T28: =SUM(T26:T27) -> 39339969 | U28: =SUM(U26:U27) -> 0 | V28: =SUM(V26:V27) -> 0 | W28: =SUM(W26:W27) -> 0 | ... AA28: =SUM(AA26:AA27) -> 0.34585
J30: költségvetési bevételek működési | O30: =K7 -> 25329336942
J31: költségvetési kiadások működési | O31: =Y8 -> 29200444269
J32: működési hiány | O32: =O30-O31 -> -3871107327
J34: költségvetési bevételek felhalmozási | O34: =K19 -> 8573282825
J35: költségvetési kiadások felhalmozási | O35: =Y22 -> 1.3784229e+10
J36: felhalmozási hiány | O36: =O34-O35 -> -5.210946e+09
J38: költségvetési hiány: | O38: =O32+O36 -> -9.0820534e+09

Sheet 2
A1: Rovat száma | B1: Megnevezés | C1: 2025. évi tény adat | D1: 2026. évi eredeti előirányzat | E1: I. névi módosítás | F1: II. névi módosítás | G1: júliusi módosítás | K1: Módosítás összege | L1: 2026. évi módosított előirányzat
A2: B | B2: BEVÉTELEK
A3: B1 | B3: Működési célú támogatások államháztartáson belülről
A4: B11 | B4: Önkormányzatok működési támogatásai | C4: 7262877598 | D4: 7260136532 | E4: 321868587 | F4: 88355345 | G4: 1486550 | K4: =SUM(E4:J4) -> 411710482 | L4: =SUM(D4+K4) -> 7671847014 | M4: ='6'!E139+'6'!E141+'6'!E18 -> 7671847014 | N4: =L4-M4 -> 0
A5: B12 | B5: Elvonások és befizetések bevételei | C5: 1454265 | D5: 0 | K5: =SUM(E5:J5) -> 0 | L5: =SUM(D5+K5) -> 0
A6: B14 | B6: Működési célú visszatérítendő támogatások, kölcsönök visszatérülése államháztartáson belülről | C6: 26000000 | D6: 35700000 | K6: =SUM(E6:J6) -> 0 | L6: =SUM(D6+K6) -> 35700000
A7: B15 | B7: Működési célú visszatérítendő támogatások, kölcsönök igénybevétele államháztartáson belülről | C7: 32698835 | K7: =SUM(E7:J7) -> 0 | L7: =SUM(D7+K7) -> 0
A8: B16 | B8: Egyéb működési célú támogatások bevételei államháztartáson belülről | C8: 1202061403 | D8: 2467589995 | E8: 190530639 | F8: 70783406 | G8: -6249 | K8: =SUM(E8:J8) -> 261307796 | L8: =SUM(D8+K8) -> 2728897791
B9: Működési célú támogatások államháztartáson belülről összesen | C9: =SUM(C4:C8) -> 8525092101 | D9: =SUM(D4:D8) -> 9763426527 | E9: =SUM(E4:E8) -> 512399226 | F9: =SUM(F4:F8) -> 159138751 | G9: =SUM(G4:G8) -> 1480301 | H9: =SUM(H4:H8) -> 0 | I9: =SUM(I4:I8) -> 0 | J9: =SUM(J4:J8) -> 0 | ... L9: =SUM(L4:L8) -> 10436444805 | M9: ='6'!E167 -> 10436444805 | N9: =L9-M9 -> 0
A10: B2 | B10: Felhalmozási célú támogatások államháztartáson belülről | K10: =SUM(E10:J10) -> 0 | L10: =SUM(D10+K10) -> 0
A11: B21 | B11: Felhalmozási célú önkormányzati támogatás | C11: 451996804 | K11: =SUM(E11:J11) -> 0 | L11: =SUM(D11+K11) -> 0
A12: B24 | B12: Felhalmozási célú visszatérítendő támogatások, kölcsönök visszatérülése államháztartáson belülről | C12: 2550000 | K12: =SUM(E12:J12) -> 0 | L12: =SUM(D12+K12) -> 0
A13: B25 | B13: Egyéb felhalmozási célú támogatások bevételei államháztartáson belülről | C13: 425613111 | D13: 4881455631 | E13: 2707827498 | F13: -13824487 | K13: =SUM(E13:J13) -> 2694003011 | L13: =SUM(D13+K13) -> 7575458642
B14: Felhalmozási célú támogatások államháztartáson belülről összesen | C14: =SUM(C10:C13) -> 880159915 | D14: =SUM(D10:D13) -> 4881455631 | E14: =SUM(E10:E13) -> 2707827498 | F14: =SUM(F10:F13) -> -13824487 | G14: =SUM(G10:G13) -> 0 | H14: =SUM(H10:H13) -> 0 | I14: =SUM(I10:I13) -> 0 | J14: =SUM(J10:J13) -> 0 | ... L14: =SUM(L10:L13) -> 7575458642 | M14: ='6'!F167 -> 7575458642 | N14: =L14-M14 -> 0
A15: B3 | B15: Közhatalmi bevételek | K15: =SUM(E15:J15) -> 0 | L15: =SUM(D15+K15) -> 0
A16: B311 | B16: Magánszemélyek jövedelemadói | C16: 60681 | K16: =SUM(E16:J16) -> 0 | L16: =SUM(D16+K16) -> 0
A17: B34 | B17: Vagyoni típusú adók (építményadó, magánszemélyek kommunális adója) | C17: 1598158911 | D17: 1575000000 | K17: =SUM(E17:J17) -> 0 | L17: =SUM(D17+K17) -> 1575000000
A18: B35 | B18: Termékek és szolgáltatások adói | K18: =SUM(E18:J18) -> 0 | L18: =SUM(D18+K18) -> 0
A19: B351 | B19: Értékesítési és forgalmi adók (iparűzési adó) | C19: 7959128228 | D19: 7950000000 | K19: =SUM(E19:J19) -> 0 | L19: =SUM(D19+K19) -> 7950000000
A20: B355 | B20: Egyéb áruhasználati és szolgáltatási adók ( idegenforgalmi adó) | C20: 38166535 | D20: 37000000 | K20: =SUM(E20:J20) -> 0 | L20: =SUM(D20+K20) -> 37000000
A21: B36 | B21: Egyéb közhatalmi bevételek (talajterhelési díj, közterület használati díj, különféle bírságok) | C21: 205921127 | D21: 120800000 | K21: =SUM(E21:J21) -> 0 | L21: =SUM(D21+K21) -> 120800000
B22: Közhatalmi bevételek összesen | C22: =SUM(C15:C21) -> 9801435482 | D22: =SUM(D15:D21) -> 9682800000 | E22: =SUM(E15:E21) -> 0 | F22: =SUM(F15:F21) -> 0 | G22: =SUM(G15:G21) -> 0 | H22: =SUM(H15:H21) -> 0 | I22: =SUM(I15:I21) -> 0 | J22: =SUM(J15:J21) -> 0 | ... L22: =SUM(L15:L21) -> 9682800000 | M22: ='6'!G167 -> 9682800000 | N22: =L22-M22 -> 0
A23: B4 | B23: Működési bevételek | C23: 6735319570 | D23: 5740405611 | E23: 105649116 | F23: 115117037 | G23: 37853419 | K23: =SUM(E23:J23) -> 258619572 | L23: =SUM(D23+K23) -> 5999025183 | M23: ='6'!H167 -> 5999025183 | N23: =L23-M23 -> 0
A24: B5 | B24: Felhalmozási bevételek | K24: =SUM(E24:J24) -> 0 | L24: =SUM(D24+K24) -> 0
A25: B52 | B25: Ingatlanok értékesítése | C25: 220649382 | D25: 174046508 | K25: =SUM(E25:J25) -> 0 | L25: =SUM(D25+K25) -> 174046508
A26: B53 | B26: Egyéb tárgyi eszközök értékesítése | C26: 54542485 | K26: =SUM(E26:J26) -> 0 | L26: =SUM(D26+K26) -> 0
A27: B54 | B27: Részesedések értékesítése | C27: 43327900 | K27: =SUM(E27:J27) -> 0 | L27: =SUM(D27+K27) -> 0
B28: Felhalmozási bevételek összesen | C28: =SUM(C25:C27) -> 318519767 | D28: =SUM(D25:D27) -> 174046508 | E28: =SUM(E25:E27) -> 0 | F28: =SUM(F25:F27) -> 0 | G28: =SUM(G25:G27) -> 0 | H28: =SUM(H25:H27) -> 0 | I28: =SUM(I25:I27) -> 0 | J28: =SUM(J25:J27) -> 0 | ... L28: =SUM(L25:L27) -> 174046508 | M28: ='6'!I167 -> 174046508 | N28: =L28-M28 -> 0
A29: B6 | B29: Működési célú átvett pénzeszközök | C29: 107943628 | D29: 3000000 | E29: 0 | F29: 31210000 | G29: 6249 | K29: =SUM(E29:J29) -> 31216249 | L29: =SUM(D29+K29) -> 34216249 | M29: ='6'!J167 -> 34216249 | N29: =L29-M29 -> 0
A30: B7 | B30: Felhalmozási célú átvett pénzeszközök | K30: =SUM(E30:J30) -> 0 | L30: =SUM(D30+K30) -> 0
A31: B74 | B31: Felhalmozási célú visszatérítendő támogatások, kölcsönök visszatérülése államháztartáson kívülről | C31: 20922178 | K31: =SUM(E31:J31) -> 0 | L31: =SUM(D31+K31) -> 0
A32: B75 | B32: Egyéb felhalmozási célú átvett pénzeszközök | C32: 57682555 | E32: 546000 | F32: 82380 | K32: =SUM(E32:J32) -> 628380 | L32: =SUM(D32+K32) -> 628380
B33: Felhalmozási célú átvett pénzeszközök összesen | C33: =SUM(C31:C32) -> 78604733 | D33: =SUM(D31:D32) -> 0 | E33: =SUM(E31:E32) -> 546000 | F33: =SUM(F31:F32) -> 82380 | G33: =SUM(G31:G32) -> 0 | H33: =SUM(H31:H32) -> 0 | I33: =SUM(I31:I32) -> 0 | J33: =SUM(J31:J32) -> 0 | ... L33: =SUM(L31:L32) -> 628380 | M33: ='6'!K167 -> 628380 | N33: =L33-M33 -> 0
A34: B1-B7 | B34: Költségvetési bevételek | C34: =SUM(C9+C14+C22+C23+C28+C29+C33) -> 26447075196 | D34: =SUM(D9+D14+D22+D23+D28+D29+D33) -> 30245134277 | E34: =SUM(E9+E14+E22+E23+E28+E29+E33) -> 3326421840 | F34: =SUM(F9+F14+F22+F23+F28+F29+F33) -> 291723681 | G34: =SUM(G9+G14+G22+G23+G28+G29+G33) -> 39339969 | H34: =SUM(H9+H14+H22+H23+H28+H29+H33) -> 0 | I34: =SUM(I9+I14+I22+I23+I28+I29+I33) -> 0 | J34: =SUM(J9+J14+J22+J23+J28+J29+J33) -> 0 | ... L34: =SUM(L9+L14+L22+L23+L28+L29+L33) -> 33902619767
A35: B8 | B35: Finanszírozási bevételek | K35: =SUM(E35:J35) -> 0 | L35: =SUM(D35+K35) -> 0
A36: B81 | B36: Belföldi finanszírozás bevételei | K36: =SUM(E36:J36) -> 0 | L36: =SUM(D36+K36) -> 0
A37: B811 | B37: Hitel-, kölcsönfelvétel államháztartáson kívülről | F37: 500000000 | K37: =SUM(E37:J37) -> 500000000 | L37: =SUM(D37+K37) -> 500000000
A38: B8121 | B38: Forgatási célú belföldi értékpapírok beváltása, értékesítése | C38: 6234000000 | D38: 8862180000 | K38: =SUM(E38:J38) -> 0 | L38: =SUM(D38+K38) -> 8862180000
A39: B813 | B39: Maradvány igénybevétele | C39: 7464090724 | D39: 5183003397 | E39: 573049 | F39: 398275835 | K39: =SUM(E39:J39) -> 398848884 | L39: =SUM(D39+K39) -> 5581852281
A40: B814 | B40: Államháztartáson belüli megelőlegezések | C40: 620443526 | K40: =SUM(E40:J40) -> 0 | L40: =SUM(D40+K40) -> 0
...

Sheet 3
A1: Hozzájárulás jogcíme | B1: 2026. eredeti előirányzat | E1: 2026. módosított előirányzat | H1: változás az I. névben | I1: változás az II. névben | J1: változás júliusban
B2: mutató | C2: Normatíva Ft/fő | D2: Állami támogatás (Ft) | E2: mutató | F2: Normatíva Ft/fő | G2: Állami támogatás (Ft)
A3: 2. melléklet szerinti jogcímek
A4: 1.1. Települési önkormányzatok működésének általános támogatása
A5: 1.1.1. Önkormányzati hivatal működésének támogatása - elismert hivatali létszám alapján | B5: 125.17 | C5: 7475000 | D5: =B5*C5 -> 935645750 | E5: 125.17 | F5: 7475000 | G5: =E5*F5 -> 935645750
A6: Település-üzemeltetéshez kapcsolódó feladataellátás támogatása
A7: 1.1.2. zöldterület-gazdálkodás támogatása (hektár) | B7: 2403.8 | C7: 26000 | D7: =B7*C7 -> 62498800 | E7: 2403.8 | F7: 26000 | G7: =E7*F7 -> 62498800
A8: 1.1.3. közvilágítás támogatása | D8: 204055000 | G8: 204055000
A9: 1.1.4. köztemető támogatása (m²) | B9: 320382 | C9: 85 | D9: =B9*C9 -> 27232470 | E9: 320382 | F9: 85 | G9: =E9*F9 -> 27232470
A10: 1.1.5. közutak támogatása (km) | B10: 203.082 | C10: 485000 | D10: =B10*C10 -> 98494770 | E10: 203.082 | F10: 485000 | G10: =E10*F10 -> 98494770
A11: 1.1.6. Egyéb önkormányzati feladatok támogatása | B11: 53675 | C11: 2800 | D11: =B11*C11 -> 150290000 | E11: 53675 | F11: 2800 | G11: =E11*F11 -> 150290000
A12: 1.1.7. Lakott külterülettel kapcsolatos feladatok támogatása | B12: 5093 | C12: 2550 | D12: =B12*C12 -> 12987150 | E12: 5093 | F12: 2550 | G12: =E12*F12 -> 12987150
A13: 1.1.8. Nem közművel összegyűjtött háztartási szennyvíz ártalmatlanítása (m3) | B13: 2000 | C13: 1500 | D13: =B13*C13 -> 3000000 | E13: 2000 | F13: 1500 | G13: =E13*F13 -> 3000000
A14: 1.2.1.Óvodaműködtetési támogatás
A15: 1.2.1. Óvodaműködtetési támogatás | B15: 1278.7 | C15: 172374 | D15: =B15*C15 -> 2.2041463e+08 | E15: 1278.7 | F15: 172374 | G15: =E15*F15 -> 2.2041463e+08
A16: 1.2.2. Az óvodában foglalkoztatott pedagógusok átlagbéralapú támogatása | B16: 116.4 | C16: 11460000 | D16: =B16*C16 -> 1333944000 | E16: 116.4 | F16: 11460000 | G16: =E16*F16 -> 1333944000
A17: 2025. évi egyszeri kiegészítő tanárbér 36/2026. (III.5.) Korm. rendelet alapján | G17: 24555720 | I17: 24555720
A18: 1.2.3. Kiegészítő támogatás az óvodapedagógusok minősítéséből adódó többletkiadásokhoz
A19: 1.2.3.1.1.1. Pedagógus II. kategóriába sorolt pedagógusok kiegészítő támogatása | B19: 43.7 | C19: 956000 | D19: =B19*C19 -> 41777200 | E19: 43.7 | F19: 956000 | G19: =E19*F19 -> 41777200
A20: 1.2.3.1.1.2. Mesterpedagógus, kutatótanár kategóriába sorolt pedagógusok kiegészítő támogatása | B20: 3.6 | C20: 3565000 | D20: =B20*C20 -> 12834000 | E20: 3.6 | F20: 3565000 | G20: =E20*F20 -> 12834000
A21: 1.2.5. Az óvodában foglalkoztatott pedagógusok nevelőmunkáját közvetlenül segítők átlagbéralapú támogatása | B21: 81 | C21: 5567000 | D21: =B21*C21 -> 450927000 | E21: 81 | F21: 5567000 | G21: =E21*F21 -> 450927000
A22: 1.3.2.Szociális és gyermekjóléti alapszolgáltatás feladatai
A23: 1.3.2.1. Család-és gyermekjóléti szolgálat | B23: 8.9 | C23: 7855000 | D23: =B23*C23 -> 69909500 | E23: 8.9 | F23: 7855000 | G23: =E23*F23 -> 69909500
A24: 1.3.2.2. Család- és gyermekjóléti központ ( járáshoz tartozó összes településre) | B24: 22.4 | C24: 7270000 | D24: 179048000 | E24: 22.4 | F24: 7270000 | G24: 179048000
A25: 1.3.2.2.2. Óvodai és iskolai szociális segítő tevékenység támogatása | B25: 13726 | C25: 5640 | D25: =B25*C25 -> 77414640 | E25: 13726 | F25: 5640 | G25: =E25*F25 -> 77414640
A26: 1.3.2.3 Szociális étkeztetés - társulás által történő feladatellátás | B26: 305 | C26: 103990 | D26: =B26*C26 -> 31716950 | E26: 305 | F26: 103990 | G26: =E26*F26 -> 31716950
A27: 1.3.2.4. Házi segítségnyújtás
A28: 1.3.2.4.1. Szociális segítés | B28: 2 | C28: 25000 | D28: =B28*C28 -> 50000 | E28: 2 | F28: 25000 | G28: =E28*F28 -> 50000
A29: 1.3.2.4.2. Személyi gondozás - társulás által történő feladatellátás | B29: 49 | C29: 928930 | D29: =B29*C29 -> 45517570 | E29: 49 | F29: 928930 | G29: =E29*F29 -> 45517570
A30: 1.3.2.6. Időskorúak nappali intézményi ellátása társulás által történő feladatellátás | B30: 55 | C30: 606400 | D30: =B30*C30 -> 33352000 | E30: 55 | F30: 606400 | G30: =E30*F30 -> 33352000
A31: 1.3.2.8. Demens személyek nappali intézményi ellátása - társulás által történő feladatellátás | B31: 4 | C31: 1187880 | D31: =B31*C31 -> 4751520 | E31: 4 | F31: 1187880 | G31: =E31*F31 -> 4751520
A32: 1.3.2.9. Pszichiátriai betegek nappali intézményi ellátása - társulás által történő feladatellátás | B32: 20 | C32: 637180 | D32: =B32*C32 -> 12743600 | E32: 20 | F32: 637180 | G32: =E32*F32 -> 12743600
A33: 1.3.2.10. Szenvedélybetegek nappali intézményi ellátása - társulás által történő feladatellátás | B33: 8 | C33: 603600 | D33: =B33*C33 -> 4828800 | E33: 8 | F33: 603600 | G33: =E33*F33 -> 4828800
A34: 1.3.3. Bölcsőde, mini bölcsőde támogatása
A35: 1.3.3. Bölcsődei bértámogatás
A36: 1.3.3.1.1. Felsőfokú végzettségű kisgyermeknevelők, szaktanácsadók bértámogatása | B36: 26.2 | C36: 11312000 | D36: =B36*C36 -> 296374400 | E36: 26.2 | F36: 11312000 | G36: =E36*F36 -> 296374400
A37: 1.3.3.1.2. Bölcsődei dajkák,középfokú végzettségű kisgyermeknevelők, szaktanácsadók bértámogatása | B37: 54.8 | C37: 8538000 | D37: =B37*C37 -> 467882400 | E37: 54.8 | F37: 8538000 | G37: =E37*F37 -> 467882400
A38: 1.3.3.2. Bölcsődei üzemeltetési támogatás | D38: 117701040 | G38: 117701040
A39: 1.3.4. A települési önk. által biztosított egyes szociális szakosított ellátások, valamint a gyermekek átmeneti gondozásával kapcsolatos feladatok támogatása
A40: 1.3.4.1 Bértámogatás | B40: 35.2 | C40: 8675000 | D40: =B40*C40 -> 305360000 | E40: 35.2 | F40: 8675000 | G40: =E40*F40 -> 305360000
...

Sheet 4
A1: Rovat száma | B1: Megnevezés | C1: 2025. évi tény adat | D1: 2026. évi eredeti előirányzat | E1: Módosítás összege | F1: 2026. évi módosított előirányzat
B2: Költségvetési kiadások
A3: K1 | B3: Személyi juttatások | C3: 7650417154 | D3: 8806752914 | E3: =275388044+táj2!G581 -> 280778044 | F3: =SUM(D3:E3) -> 9087530958
A4: K2 | B4: Munkaadókat terhelő járulékok és szociális hj. adó | C4: 1008664377 | D4: 1310324181 | E4: =38947833+táj2!H581 -> 39637583 | F4: =SUM(D4:E4) -> 1349961764
A5: K3 | B5: Dologi kiadások | C5: 8395426848 | D5: 10473811744 | E5: =406160956+táj2!I581 -> 375764704 | F5: =SUM(D5:E5) -> 10849576448
A6: K4 | B6: Ellátottak pénzbeli juttatásai | C6: 76787137 | D6: 112689501 | E6: =1057550+táj2!J581 -> 1057550 | F6: =SUM(D6:E6) -> 113747051
A7: K5 | B7: Egyéb működési célú kiadások | C7: 7024086002 | D7: 7534948958 | E7: =321018693+táj2!K581 -> 322905243 | F7: =SUM(D7:E7) -> 7857854201
B8: Működési költségvetés összesen: | C8: =SUM(C3:C7) -> 24155381518 | D8: =SUM(D3:D7) -> 28238527298 | E8: =SUM(E3:E7) -> 1020143124 | F8: =SUM(F3:F7) -> 29258670422
A9: K6 | B9: Beruházások | C9: 3923576495 | D9: 6881822071 | E9: =2166203255+táj2!L581 -> 2195374179 | F9: =SUM(D9:E9) -> 9077196250
A10: K7 | B10: Felújítások | C10: 2268539904 | D10: 3682194497 | E10: =807833875+táj2!M581 -> 840432872 | F10: =SUM(D10:E10) -> 4522627369
A11: K8 | B11: Egyéb felhalmozási célú kiadások | C11: 141380917 | D11: 125794890 | E11: =384199+táj2!N581 -> 384199 | F11: =SUM(D11:E11) -> 126179089
B12: Felhalmozási költségvetés összesen: | C12: =SUM(C9:C11) -> 6333497316 | D12: =SUM(D9:D11) -> 10689811458 | E12: =SUM(E9:E11) -> 3036191250 | F12: =SUM(F9:F11) -> 13726002708
A13: K1-K8 | B13: Költségvetési kiadások összesen: | C13: =SUM(C8+C12) -> 30488878834 | D13: =SUM(D8+D12) -> 38928338756 | E13: =SUM(E8+E12) -> 4056334374 | F13: =SUM(F8+F12) -> 42984673130
A14: K9 | B14: Finanszírozási kiadások | C14: 4694878331 | D14: ='7'!L17+'7'!M17 -> 5861978918 | E14: =0+táj2!P581 -> 0 | F14: =SUM(D14:E14) -> 5861978918
B15: Önkormányzat kiadásai összesen | C15: =SUM(C13:C14) -> 35183757165 | D15: =SUM(D13:D14) -> 44790317674 | E15: =SUM(E13:E14) -> 4056334374 | F15: =SUM(F13:F14) -> 48846652048

Sheet 5
A1: Címszám | B1: Alcímszám | C1: Megnevezés | D1: Költségvetési bevételek | K1: Finanszírozási bevételek | N1: Összesen
D2: Működési célú támogatások áht-n belülről | E2: Felhalmozási célú támogatások áht-n belülről | F2: Közhatalmi bevételek | G2: Működési bevételek | H2: Felhalmozási bevételek | I2: Működési célú átvett pénzeszközök | J2: Felhalmozási célú átvett pénzeszközök | K2: Hitel-, kölcsönfelvétel áht-n kívülről | L2: Maradvány igénybevétele | M2: Egyéb finanszírozási bevétel
A3: 1 | C3: Önkormányzat
B4: 12 | C4: Szociális és igazgatási feladatok | D4: ='6'!E11 -> 0 | E4: ='6'!F11 -> 0 | F4: ='6'!G11 -> 3000000 | G4: ='6'!H11 -> 24000000 | H4: ='6'!I11 -> 0 | I4: ='6'!J11 -> 3000000 | J4: ='6'!K11 -> 0 | K4: ='6'!L11 -> 0 | ... M4: ='6'!N11 -> 0 | N4: =SUM(D4:M4) -> 30000000
B5: 13 | C5: Humánigazgatási feladatok | D5: ='6'!E21 -> 292850000 | E5: ='6'!F21 -> 0 | F5: ='6'!G21 -> 0 | G5: ='6'!H21 -> 9519000 | H5: ='6'!I21 -> 0 | I5: ='6'!J21 -> 0 | J5: ='6'!K21 -> 0 | K5: ='6'!L21 -> 0 | ... M5: ='6'!N21 -> 0 | N5: =SUM(D5:M5) -> 302369000
B6: 14 | C6: Főépítészi feladatok | D6: ='6'!E25 -> 0 | E6: ='6'!F25 -> 0 | F6: ='6'!G25 -> 0 | G6: ='6'!H25 -> 5080000 | H6: ='6'!I25 -> 0 | I6: ='6'!J25 -> 0 | J6: ='6'!K25 -> 0 | K6: ='6'!L25 -> 0 | ... M6: ='6'!N25 -> 0 | N6: =SUM(D6:M6) -> 5080000
B7: 15 | C7: Városüzemelési feladatok | D7: ='6'!E41 -> 0 | E7: ='6'!F41 -> 0 | F7: ='6'!G41 -> 0 | G7: ='6'!H41 -> 864561156 | H7: ='6'!I41 -> 0 | I7: ='6'!J41 -> 0 | J7: ='6'!K41 -> 0 | K7: ='6'!L41 -> 0 | ... M7: ='6'!N41 -> 0 | N7: =SUM(D7:M7) -> 900424954
B8: 16 | C8: Városépítészeti feladatok | D8: ='6'!E93 -> 1163926979 | E8: ='6'!F93 -> 7557048778 | F8: ='6'!G93 -> 0 | G8: ='6'!H93 -> 1645188196 | H8: ='6'!I93 -> 0 | I8: ='6'!J93 -> 6249 | J8: ='6'!K93 -> 0 | K8: ='6'!L93 -> 0 | ... M8: ='6'!N93 -> 1222710000 | N8: =SUM(D8:M8) -> 14742294145
B9: 17 | C9: Vagyonkezelési feladatok | D9: ='6'!E120 -> 0 | E9: ='6'!F120 -> 0 | F9: ='6'!G120 -> 0 | G9: ='6'!H120 -> 1183926420 | H9: ='6'!I120 -> 174046508 | I9: ='6'!J120 -> 0 | J9: ='6'!K120 -> 0 | K9: ='6'!L120 -> 0 | ... M9: ='6'!N120 -> 39470000 | N9: =SUM(D9:M9) -> 1411141407
B10: 18 | C10: Jogi és közig. feladatok | D10: ='6'!E128 -> 0 | E10: ='6'!F128 -> 0 | F10: ='6'!G128 -> 107800000 | G10: ='6'!H128 -> 44840000 | H10: ='6'!I128 -> 0 | I10: ='6'!J128 -> 0 | J10: ='6'!K128 -> 0 | K10: ='6'!L128 -> 0 | ... M10: ='6'!N128 -> 0 | N10: =SUM(D10:M10) -> 152640000
B11: 19 | C11: Pénzügyi lebonyolítás | D11: ='6'!E159 -> 7901963697 | E11: ='6'!F159 -> 0 | F11: ='6'!G159 -> 9567000000 | G11: ='6'!H159 -> 178340510 | H11: ='6'!I159 -> 0 | I11: ='6'!J159 -> 26600000 | J11: ='6'!K159 -> 0 | K11: ='6'!L159 -> 500000000 | ... M11: ='6'!N159 -> 7600000000 | N11: =SUM(D11:M11) -> 27145391723
B12: 22 | C12: Polgármesteri Kabinet | D12: ='6'!E164 -> 160179 | E12: ='6'!F164 -> 0 | F12: ='6'!G164 -> 0 | G12: ='6'!H164 -> 0 | H12: ='6'!I164 -> 0 | I12: ='6'!J164 -> 300000 | J12: ='6'!K164 -> 0 | K12: ='6'!L164 -> 0 | ... M12: ='6'!N164 -> 0 | N12: =SUM(D12:M12) -> 460179
C13: Önkormányzat összesen költségvetési szervek nélkül | D13: =SUM(D4:D12) -> 9358900855 | E13: =SUM(E4:E12) -> 7557048778 | F13: =SUM(F4:F12) -> 9677800000 | G13: =SUM(G4:G12) -> 3955455282 | H13: =SUM(H4:H12) -> 174046508 | I13: =SUM(I4:I12) -> 29906249 | J13: =SUM(J4:J12) -> 0 | K13: =SUM(K4:K12) -> 500000000 | ... M13: =SUM(M4:M12) -> 8862180000 | N13: =SUM(D13:M13) -> 44689801408
A14: 2 | C14: Költségvetési szervek | D14: ='6'!E166 -> 1077543950 | E14: ='6'!F166 -> 18409864 | F14: ='6'!G166 -> 5000000 | G14: ='6'!H166 -> 2043569901 | H14: ='6'!I166 -> 0 | I14: ='6'!J166 -> 4310000 | J14: ='6'!K166 -> 628380 | L14: ='6'!M166 -> 1007388545 | M14: ='6'!N166 -> 0 | N14: =SUM(D14:M14) -> 4156850640
C15: Önkormányzat összesen: | D15: =SUM(D13:D14) -> 10436444805 | E15: =SUM(E13:E14) -> 7575458642 | F15: =SUM(F13:F14) -> 9682800000 | G15: =SUM(G13:G14) -> 5999025183 | H15: =SUM(H13:H14) -> 174046508 | I15: =SUM(I13:I14) -> 34216249 | J15: =SUM(J13:J14) -> 628380 | K15: =SUM(K13:K14) -> 500000000 | ... M15: =SUM(M13:M14) -> 8862180000 | N15: =SUM(D15:M15) -> 48846652048
I17: költségvetési | K17: =SUM(D15:J15) -> 33902619767

Sheet 6
A1: Cím szám | B1: Alcím szám | C1: Megnevezés | D1: Tervezési alapegység | E1: Költségvetési bevételek | L1: Finanszírozási bevételek | O1: Összesen:
E2: Működési célú támogatások áht-n belülről | F2: Felhalmozási célú támogatások áht-n belülről | G2: Közhatalmi bevételek | H2: Működési bevételek | I2: Felhalmozási bevételek | J2: Működési célú átvett pénzeszközök | K2: Felhalmozási célú átvett pénzeszközök | L2: Hitel-, kölcsönfelvétel áht-n kívülről | M2: Maradvány igénybevétele | N2: Egyéb finanszírozási bevétel
A3: 1 | C3: Önkormányzat
A4: 1 | B4: 1 | C4: Szakosztályok
A5: 1 | B5: 12 | C5: Szociális és igazgatási feladatok
C6: 011130 Önkorm. és önkorm. hivatal. jogalk. és ált.ig.tev.
C7: - Egerszeg kártya értékesítés | D7: 221 902 | E7: =0+táj1!E7 -> 0 | F7: =0+táj1!F7 -> 0 | G7: =0+táj1!G7 -> 0 | H7: =24000000+táj1!H7 -> 24000000 | I7: =0+táj1!I7 -> 0 | J7: =0+táj1!J7 -> 0 | K7: =0+táj1!K7 -> 0 | L7: =0+táj1!L7 -> 0 | M7: =0+táj1!M7 -> 0 | N7: =0+táj1!N7 -> 0 | O7: =SUM(E7:N7) -> 24000000
C8: - igazgatási bírság | D8: 121602 | E8: =0+táj1!E8 -> 0 | F8: =0+táj1!F8 -> 0 | G8: =3000000+táj1!G8 -> 3000000 | H8: =0+táj1!H8 -> 0 | I8: =0+táj1!I8 -> 0 | J8: =0+táj1!J8 -> 0 | K8: =0+táj1!K8 -> 0 | L8: =0+táj1!L8 -> 0 | M8: =0+táj1!M8 -> 0 | N8: =0+táj1!N8 -> 0 | O8: =SUM(E8:N8) -> 3000000
C9: 107060 Egyéb szociális pénzbeli ellátások, támogatások
C10: - köztemetés megtérítése | D10: 121203 | E10: =0+táj1!E10 -> 0 | F10: =0+táj1!F10 -> 0 | G10: =0+táj1!G10 -> 0 | H10: =0+táj1!H10 -> 0 | I10: =0+táj1!I10 -> 0 | J10: =3000000+táj1!J10 -> 3000000 | K10: =0+táj1!K10 -> 0 | L10: =0+táj1!L10 -> 0 | M10: =0+táj1!M10 -> 0 | N10: =0+táj1!N10 -> 0 | O10: =SUM(E10:N10) -> 3000000
C11: Szociális és igazgatási feladatok összesen: | E11: =SUM(E3:E10) -> 0 | F11: =SUM(F3:F10) -> 0 | G11: =SUM(G3:G10) -> 3000000 | H11: =SUM(H3:H10) -> 24000000 | I11: =SUM(I3:I10) -> 0 | J11: =SUM(J3:J10) -> 3000000 | K11: =SUM(K3:K10) -> 0 | L11: =SUM(L3:L10) -> 0 | ... O11: =SUM(O3:O10) -> 30000000
A12: 1 | B12: 13 | C12: Humánigazgatási feladatok
C13: 074052 Kábítószer megelőzés programja
C14: - Zalaegerszegi Kábítószerügyi Egyeztető Fórum | D14: 131120 | E14: =2850000+táj1!E14 -> 2850000 | F14: =0+táj1!F14 -> 0 | G14: =0+táj1!G14 -> 0 | H14: =0+táj1!H14 -> 0 | I14: =0+táj1!I14 -> 0 | J14: =0+táj1!J14 -> 0 | K14: =0+táj1!K14 -> 0 | L14: =0+táj1!L14 -> 0 | M14: =0+táj1!M14 -> 0 | N14: =0+táj1!N14 -> 0 | O14: =SUM(E14:N14) -> 2850000
C15: 101211 Fogyatékossággal élők tartós bentlakásos ellátása
C16: - Református Egyház által fizetendő bérleti díj | D16: 131703 | E16: =0+táj1!E16 -> 0 | F16: =0+táj1!F16 -> 0 | G16: =0+táj1!G16 -> 0 | H16: =9519000+táj1!H16 -> 9519000 | I16: =0+táj1!I16 -> 0 | J16: =0+táj1!J16 -> 0 | K16: =0+táj1!K16 -> 0 | L16: =0+táj1!L16 -> 0 | M16: =0+táj1!M16 -> 0 | N16: =0+táj1!N16 -> 0 | O16: =SUM(E16:N16) -> 9519000
C17: 018030 Támogatási célú finanszírozási műveletek
C18: - Mindszentyneum működési támogatásának átadása | D18: 131513 | E18: =150000000+táj1!E18 -> 150000000 | F18: =0+táj1!F18 -> 0 | G18: =0+táj1!G18 -> 0 | H18: =0+táj1!H18 -> 0 | I18: =0+táj1!I18 -> 0 | J18: =0+táj1!J18 -> 0 | K18: =0+táj1!K18 -> 0 | L18: =0+táj1!L18 -> 0 | M18: =0+táj1!M18 -> 0 | N18: =0+táj1!N18 -> 0 | O18: =SUM(E18:N18) -> 150000000
C19: 081030 Sportlétes., edzőtáborok működtetése és fejlesztése
C20: - Zalaegerszegi Sport és Tanuszoda műk. támogatása a Honvédelmi Minisztériumtól | D20: 191801 | E20: =140000000+táj1!E20 -> 140000000 | F20: =0+táj1!F20 -> 0 | G20: =0+táj1!G20 -> 0 | H20: =0+táj1!H20 -> 0 | I20: =0+táj1!I20 -> 0 | J20: =0+táj1!J20 -> 0 | K20: =0+táj1!K20 -> 0 | L20: =0+táj1!L20 -> 0 | M20: =0+táj1!M20 -> 0 | N20: =0+táj1!N20 -> 0 | O20: =SUM(E20:N20) -> 140000000
C21: Humánigazgatási feladatok összesen: | E21: =SUM(E14:E20) -> 292850000 | F21: =SUM(F14:F20) -> 0 | G21: =SUM(G14:G20) -> 0 | H21: =SUM(H14:H20) -> 9519000 | I21: =SUM(I14:I20) -> 0 | J21: =SUM(J14:J20) -> 0 | K21: =SUM(K14:K20) -> 0 | L21: =SUM(L14:L20) -> 0 | ... O21: =SUM(O14:O20) -> 302369000
A22: 1 | B22: 14 | C22: Főépítészi feladatok
C23: 013350 Önk-i vagyonnal való gazdálkodáshoz kapcs.fa.
C24: - belterületbe vonással kapcsolatos bevétel | D24: 171967 | E24: =0+táj1!E24 -> 0 | F24: =0+táj1!F24 -> 0 | G24: =0+táj1!G24 -> 0 | H24: =5080000+táj1!H24 -> 5080000 | I24: =0+táj1!I24 -> 0 | J24: =0+táj1!J24 -> 0 | K24: =0+táj1!K24 -> 0 | L24: =0+táj1!L24 -> 0 | M24: =0+táj1!M24 -> 0 | N24: =0+táj1!N24 -> 0 | O24: =SUM(E24:N24) -> 5080000
C25: Főépítészi feladatok összesen: | E25: =SUM(E23:E24) -> 0 | F25: =SUM(F23:F24) -> 0 | G25: =SUM(G23:G24) -> 0 | H25: =SUM(H23:H24) -> 5080000 | I25: =SUM(I23:I24) -> 0 | J25: =SUM(J23:J24) -> 0 | K25: =SUM(K23:K24) -> 0 | L25: =SUM(L23:L24) -> 0 | ... O25: =SUM(O23:O24) -> 5080000
A26: 1 | B26: 15 | C26: Városüzemelési feladatok
C27: 081061 Szabadidős park, fürdő és strandszolgáltatás
C28: - Gébárti fürdő lét. üzemeltetése | D28: 151906 | E28: =0+táj1!E28 -> 0 | F28: =0+táj1!F28 -> 0 | G28: =0+táj1!G28 -> 0 | H28: =17780000+táj1!H28 -> 17780000 | I28: =0+táj1!I28 -> 0 | J28: =0+táj1!J28 -> 0 | K28: =0+táj1!K28 -> 0 | L28: =0+táj1!L28 -> 0 | M28: =0+táj1!M28 -> 0 | N28: =0+táj1!N28 -> 0 | O28: =SUM(E28:N28) -> 17780000
C29: - Aquapark üzemeltetés | D29: 151 907 | E29: =0+táj1!E29 -> 0 | F29: =0+táj1!F29 -> 0 | G29: =0+táj1!G29 -> 0 | H29: =266700000+táj1!H29 -> 266700000 | I29: =0+táj1!I29 -> 0 | J29: =0+táj1!J29 -> 0 | K29: =0+táj1!K29 -> 0 | L29: =0+táj1!L29 -> 0 | M29: =0+táj1!M29 -> 0 | N29: =0+táj1!N29 -> 0 | O29: =SUM(E29:N29) -> 266700000
C30: 066010 Zöldterület kezelés
C31: - faértékesítés bevétele | D31: 152908 | E31: =0+táj1!E31 -> 0 | F31: =0+táj1!F31 -> 0 | G31: =0+táj1!G31 -> 0 | H31: =1270000+táj1!H31 -> 1270000 | I31: =0+táj1!I31 -> 0 | J31: =0+táj1!J31 -> 0 | K31: =0+táj1!K31 -> 0 | L31: =0+táj1!L31 -> 0 | M31: =0+táj1!M31 -> 0 | N31: =0+táj1!N31 -> 0 | O31: =SUM(E31:N31) -> 1270000
C32: - haszonbérleti szerződések, kishaszonbérlet | D32: 151506 | E32: =0+táj1!E32 -> 0 | F32: =0+táj1!F32 -> 0 | G32: =0+táj1!G32 -> 0 | H32: =635000+táj1!H32 -> 635000 | I32: =0+táj1!I32 -> 0 | J32: =0+táj1!J32 -> 0 | K32: =0+táj1!K32 -> 0 | L32: =0+táj1!L32 -> 0 | M32: =0+táj1!M32 -> 0 | N32: =0+táj1!N32 -> 0 | O32: =SUM(E32:N32) -> 635000
C33: - környezetvédelmi alap feltöltése | D33: 151607 | E33: =0+táj1!E33 -> 0 | F33: =0+táj1!F33 -> 0 | G33: =0+táj1!G33 -> 0 | H33: =0+táj1!H33 -> 0 | I33: =0+táj1!I33 -> 0 | J33: =0+táj1!J33 -> 0 | K33: =0+táj1!K33 -> 0 | L33: =0+táj1!L33 -> 0 | M33: =35863798+táj1!M33 -> 35863798 | N33: =0+táj1!N33 -> 0 | O33: =SUM(E33:N33) -> 35863798
C34: 042180 Állategészségügy
C35: - állategészségügyi tevékenység | D35: 151902 | E35: =0+táj1!E35 -> 0 | F35: =0+táj1!F35 -> 0 | G35: =0+táj1!G35 -> 0 | H35: =3175000+táj1!H35 -> 3175000 | I35: =0+táj1!I35 -> 0 | J35: =0+táj1!J35 -> 0 | K35: =0+táj1!K35 -> 0 | L35: =0+táj1!L35 -> 0 | M35: =0+táj1!M35 -> 0 | N35: =0+táj1!N35 -> 0 | O35: =SUM(E35:N35) -> 3175000
C36: 066020 Város-, községgazdálkodási egyéb szolgáltatás
C37: - közművesítési hozzájárulás | D37: 151611 | E37: =0+táj1!E37 -> 0 | F37: =0+táj1!F37 -> 0 | G37: =0+táj1!G37 -> 0 | H37: =0+táj1!H37 -> 1337156 | I37: =0+táj1!I37 -> 0 | J37: =0+táj1!J37 -> 0 | K37: =0+táj1!K37 -> 0 | L37: =0+táj1!L37 -> 0 | ... N37: =0+táj1!N37 -> 0 | O37: =SUM(E37:N37) -> 1337156
C38: - köztisztaság szerződéses munkák | D38: 151603 | E38: =0+táj1!E38 -> 0 | F38: =0+táj1!F38 -> 0 | G38: =0+táj1!G38 -> 0 | H38: =44000000+táj1!H38 -> 44000000 | I38: =0+táj1!I38 -> 0 | J38: =0+táj1!J38 -> 0 | K38: =0+táj1!K38 -> 0 | L38: =0+táj1!L38 -> 0 | M38: =0+táj1!M38 -> 0 | N38: =0+táj1!N38 -> 0 | O38: =SUM(E38:N38) -> 44000000
C39: 045170 Parkoló, garázs üzemeltetése, fenntartása
C40: - parkolási közszolgáltatási tevékenység ellátásával kapcsolatos bevétel | D40: 151 910 | E40: =0+táj1!E40 -> 0 | F40: =0+táj1!F40 -> 0 | G40: =0+táj1!G40 -> 0 | H40: =529664000+táj1!H40 -> 529664000 | I40: =0+táj1!I40 -> 0 | J40: =0+táj1!J40 -> 0 | K40: =0+táj1!K40 -> 0 | L40: =0+táj1!L40 -> 0 | M40: =0+táj1!M40 -> 0 | N40: =0+táj1!N40 -> 0 | O40: =SUM(E40:N40) -> 529664000
...

Sheet 7
D1: Költségvetési kiadások | L1: Finanszírozási kiadások | N1: Kiadások összesen
D2: Személyi juttatások | E2: Munkaadókat terhelő járulékok és szociális hj.adó | F2: Dologi kiadások | G2: Ellátottak pénzbeli juttatásai | H2: Egyéb működési célú kiadások | I2: Beruházások | J2: Felújítások | K2: Egyéb felhalmozási célú kiadások | L2: Hitel-, kölcsöntör-lesztés áht-n kívülre | M2: Egyéb finanszírozási kiadás
A3: 1 | C3: Önkormányzat
A4: 1 | B4: 1 | C4: Szakosztályok
B5: 12 | C5: Szociális és igazgatási feladatok | D5: ='8'!G45 -> 0 | E5: ='8'!H45 -> 4200000 | F5: ='8'!I45 -> 61541452 | G5: ='8'!J45 -> 93295051 | H5: ='8'!K45 -> 12100000 | I5: ='8'!L45 -> 0 | J5: ='8'!M45 -> 0 | K5: ='8'!N45 -> 3000000 | ... M5: ='8'!P45 -> 0 | N5: =SUM(D5:M5) -> 174136503
B6: 13 | C6: Humánigazgatási feladatok | D6: ='8'!G185 -> 9776068 | E6: ='8'!H185 -> 3780145 | F6: ='8'!I185 -> 41252436 | G6: ='8'!J185 -> 11000000 | H6: ='8'!K185 -> 1526023125 | I6: ='8'!L185 -> 4524387 | J6: ='8'!M185 -> 0 | K6: ='8'!N185 -> 0 | ... M6: ='8'!P185 -> 0 | N6: =SUM(D6:M6) -> 1596356161
B7: 14 | C7: Főépítészi feladatok | D7: ='8'!G197 -> 1000000 | E7: ='8'!H197 -> 125000 | F7: ='8'!I197 -> 6287936 | G7: ='8'!J197 -> 0 | H7: ='8'!K197 -> 0 | I7: ='8'!L197 -> 20339964 | J7: ='8'!M197 -> 0 | K7: ='8'!N197 -> 8000000 | ... M7: ='8'!P197 -> 0 | N7: =SUM(D7:M7) -> 35752900
B8: 15 | C8: Városüzemelési feladatok | D8: ='8'!G325 -> 17089729 | E8: ='8'!H325 -> 2235506 | F8: ='8'!I325 -> 2864024879 | G8: ='8'!J325 -> 0 | H8: ='8'!K325 -> 1792852143 | I8: ='8'!L325 -> 78427755 | J8: ='8'!M325 -> 164728964 | K8: ='8'!N325 -> 0 | ... M8: ='8'!P325 -> 0 | N8: =SUM(D8:M8) -> 4919358976
B9: 16 | C9: Városépítészeti feladatok | D9: ='8'!G451 -> 117709540 | E9: ='8'!H451 -> 14876076 | F9: ='8'!I451 -> 2430605533 | G9: ='8'!J451 -> 0 | H9: ='8'!K451 -> 1996249 | I9: ='8'!L451 -> 8614380057 | J9: ='8'!M451 -> 4279216508 | K9: ='8'!N451 -> 41353732 | ... M9: ='8'!P451 -> 0 | N9: =SUM(D9:M9) -> 15500137695
B10: 17 | C10: Vagyonkezelési feladatok | D10: ='8'!G469 -> 0 | E10: ='8'!H469 -> 0 | F10: ='8'!I469 -> 137071203 | G10: ='8'!J469 -> 0 | H10: ='8'!K469 -> 0 | I10: ='8'!L469 -> 6036508 | J10: ='8'!M469 -> 7240000 | K10: ='8'!N469 -> 65000000 | ... M10: ='8'!P469 -> 0 | N10: =SUM(D10:M10) -> 215347711
B11: 18 | C11: Jogi és közig.feladatok | D11: ='8'!G495 -> 418461992 | E11: ='8'!H495 -> 62790699 | F11: ='8'!I495 -> 243017285 | G11: ='8'!J495 -> 0 | H11: ='8'!K495 -> 16500000 | I11: ='8'!L495 -> 17407794 | J11: ='8'!M495 -> 959802 | K11: ='8'!N495 -> 0 | ... M11: ='8'!P495 -> 0 | N11: =SUM(D11:M11) -> 759137572
B12: 19 | C12: Pénzügyi lebonyolítás | D12: ='8'!G524 -> 12253010 | E12: ='8'!H524 -> 2211167 | F12: ='8'!I524 -> 572918766 | G12: ='8'!J524 -> 0 | H12: ='8'!K524 -> 3387562513 | I12: ='8'!L524 -> 0 | J12: ='8'!M524 -> 0 | K12: ='8'!N524 -> 8825357 | ... M12: ='8'!P524 -> 5244127650 | N12: =SUM(D12:M12) -> 9845749731
B13: 22 | C13: Polgármesteri Kabinet kiadásai | D13: ='8'!G564 -> 73381754 | E13: ='8'!H564 -> 26386843 | F13: ='8'!I564 -> 236151046 | G13: ='8'!J564 -> 0 | H13: ='8'!K564 -> 411412674 | I13: ='8'!L564 -> 8697382 | J13: ='8'!M564 -> 0 | K13: ='8'!N564 -> 0 | ... M13: ='8'!P564 -> 0 | N13: =SUM(D13:M13) -> 756029699
B14: 30 | C14: Tartalékok | D14: ='8'!G578 -> 0 | E14: ='8'!H578 -> 0 | F14: ='8'!I578 -> 0 | G14: ='8'!J578 -> 0 | H14: ='8'!K578 -> 573479232 | I14: ='8'!L578 -> 901400 | J14: ='8'!M578 -> 10000000 | K14: ='8'!N578 -> 0 | ... M14: ='8'!P578 -> 0 | N14: =SUM(D14:M14) -> 584380632
C15: Önkormányzat összesen költségvetési szervek nélkül | D15: =SUM(D3:D14) -> 649672093 | E15: =SUM(E3:E14) -> 116605436 | F15: =SUM(F3:F14) -> 6592870536 | G15: =SUM(G3:G14) -> 104295051 | H15: =SUM(H3:H14) -> 7721925936 | I15: =SUM(I3:I14) -> 8750715247 | J15: =SUM(J3:J14) -> 4462145274 | K15: =SUM(K3:K14) -> 126179089 | ... M15: =SUM(M3:M14) -> 5244127650 | N15: =SUM(N5:N14) -> 34386387580
A16: 2 | C16: Költségvetési szervek | D16: ='8'!G580 -> 8437858865 | E16: ='8'!H580 -> 1233356328 | F16: ='8'!I580 -> 4256705912 | G16: ='8'!J580 -> 9452000 | H16: ='8'!K580 -> 135928265 | I16: ='8'!L580 -> 326481003 | J16: ='8'!M580 -> 60482095 | K16: ='8'!N580 -> 0 | ... M16: ='8'!P580 -> 0 | N16: =SUM(D16:M16) -> 14460264468
C17: Önkormányzat összesen: | D17: =SUM(D15:D16) -> 9087530958 | E17: =SUM(E15:E16) -> 1349961764 | F17: =SUM(F15:F16) -> 10849576448 | G17: =SUM(G15:G16) -> 113747051 | H17: =SUM(H15:H16) -> 7857854201 | I17: =SUM(I15:I16) -> 9077196250 | J17: =SUM(J15:J16) -> 4522627369 | K17: =SUM(K15:K16) -> 126179089 | ... N17: =SUM(N15:N16) -> 48846652048
N18: ='8'!P580 -> 0
I19: költségvetési | K19: =SUM(D17:K17) -> 42984673130 | N19: =SUM(N17:N18) -> 48846652048

Sheet 8
A1: Cím szám | B1: Alcím szám | C1: Sorszám | D1: Megnevezés | E1: feladat jellege | F1: Tervezési alapegység | G1: Költségvetési kiadások | O1: Finanszírozási kiadások | Q1: Kiadás összesen
G2: Személyi juttatások | H2: Munkaadókat terhelő járulékok és szociális hj.adó | I2: Dologi kiadások | J2: Ellátottak pénzbeli juttatásai | K2: Egyéb működési célú kiadások | L2: Beruházások | M2: Felújítások | N2: Egyéb felhalmozási célú kiadások | O2: Hitel-, kölcsöntör-lesztés áht-n kívülre | P2: Egyéb finanszírozási kiadás
A3: 1 | D3: Önkormányzat
A4: 1 | B4: 1 | D4: Szakosztályok
A5: 1 | B5: 12 | D5: Szociális és igazgatási feladatok
D6: 105010 Munkanélküli aktív korúak ellátásai
D7: - megélhetési támogatás | E7: 2 | F7: 121103 | G7: =0+táj2!G7 -> 0 | H7: =0+táj2!H7 -> 0 | I7: =0+táj2!I7 -> 0 | J7: =5000000+táj2!J7 -> 5000000 | K7: =0+táj2!K7 -> 0 | L7: =0+táj2!L7 -> 0 | M7: =0+táj2!M7 -> 0 | N7: =0+táj2!N7 -> 0 | O7: =0+táj2!O7 -> 0 | P7: =0+táj2!P7 -> 0 | Q7: =SUM(G7:P7) -> 5000000
D8: 106020 Lakásfenntartással, lakhatással összefüggő ellátások
D9: - lakásfenntartási segély | E9: 2 | F9: 121104 | G9: =0+táj2!G9 -> 0 | H9: =0+táj2!H9 -> 0 | I9: =0+táj2!I9 -> 0 | J9: =20000000+táj2!J9 -> 20000000 | K9: =0+táj2!K9 -> 0 | L9: =0+táj2!L9 -> 0 | M9: =0+táj2!M9 -> 0 | N9: =0+táj2!N9 -> 0 | O9: =0+táj2!O9 -> 0 | P9: =0+táj2!P9 -> 0 | Q9: =SUM(G9:P9) -> 20000000
D10: - önkormányzati bérlakásban élők lakásfenntartási segélye Lakásalapból | E10: 2 | F10: 121117 | G10: =0+táj2!G10 -> 0 | H10: =0+táj2!H10 -> 0 | I10: =0+táj2!I10 -> 0 | J10: =9000000+táj2!J10 -> 9000000 | K10: =0+táj2!K10 -> 0 | L10: =0+táj2!L10 -> 0 | M10: =0+táj2!M10 -> 0 | N10: =0+táj2!N10 -> 0 | O10: =0+táj2!O10 -> 0 | P10: =0+táj2!P10 -> 0 | Q10: =SUM(G10:P10) -> 9000000
D11: - gázártámogatás | E11: 2 | F11: 121202 | G11: =0+táj2!G11 -> 0 | H11: =0+táj2!H11 -> 0 | I11: =0+táj2!I11 -> 0 | J11: =3900000+táj2!J11 -> 3900000 | K11: =0+táj2!K11 -> 0 | L11: =0+táj2!L11 -> 0 | M11: =0+táj2!M11 -> 0 | N11: =0+táj2!N11 -> 0 | O11: =0+táj2!O11 -> 0 | P11: =0+táj2!P11 -> 0 | Q11: =SUM(G11:P11) -> 3900000
D12: - villamosenergia támogatás | E12: 2 | F12: 121205 | G12: =0+táj2!G12 -> 0 | H12: =0+táj2!H12 -> 0 | I12: =0+táj2!I12 -> 0 | J12: =3900000+táj2!J12 -> 3900000 | K12: =0+táj2!K12 -> 0 | L12: =0+táj2!L12 -> 0 | M12: =0+táj2!M12 -> 0 | N12: =0+táj2!N12 -> 0 | O12: =0+táj2!O12 -> 0 | P12: =0+táj2!P12 -> 0 | Q12: =SUM(G12:P12) -> 3900000
D13: 107060 Egyéb szociális pénzbeli ellátások, támogatások
D14: - gyermekétkeztetési támogatás | E14: 2 | F14: 121111 | G14: =0+táj2!G14 -> 0 | H14: =0+táj2!H14 -> 0 | I14: =0+táj2!I14 -> 0 | J14: =2000000+táj2!J14 -> 2000000 | K14: =0+táj2!K14 -> 0 | L14: =0+táj2!L14 -> 0 | M14: =0+táj2!M14 -> 0 | N14: =0+táj2!N14 -> 0 | O14: =0+táj2!O14 -> 0 | P14: =0+táj2!P14 -> 0 | Q14: =SUM(G14:P14) -> 2000000
D15: - átmeneti segély | E15: 2 | F15: 121127 | G15: =0+táj2!G15 -> 0 | H15: =0+táj2!H15 -> 0 | I15: =0+táj2!I15 -> 0 | J15: =4000000+táj2!J15 -> 4000000 | K15: =0+táj2!K15 -> 0 | L15: =0+táj2!L15 -> 0 | M15: =0+táj2!M15 -> 0 | N15: =0+táj2!N15 -> 0 | O15: =0+táj2!O15 -> 0 | P15: =0+táj2!P15 -> 0 | Q15: =SUM(G15:P15) -> 4000000
D16: - egyszeri nevelési juttatás | E16: 2 | F16: 121115 | G16: =0+táj2!G16 -> 0 | H16: =0+táj2!H16 -> 0 | I16: =0+táj2!I16 -> 0 | J16: =1650000+táj2!J16 -> 1650000 | K16: =0+táj2!K16 -> 0 | L16: =0+táj2!L16 -> 0 | M16: =0+táj2!M16 -> 0 | N16: =0+táj2!N16 -> 0 | O16: =0+táj2!O16 -> 0 | P16: =0+táj2!P16 -> 0 | Q16: =SUM(G16:P16) -> 1650000
D17: - szociális krízis alap | E17: 2 | F17: 121129 | G17: =0+táj2!G17 -> 0 | H17: =0+táj2!H17 -> 0 | I17: =0+táj2!I17 -> 0 | J17: =3600000+táj2!J17 -> 3600000 | K17: =0+táj2!K17 -> 0 | L17: =0+táj2!L17 -> 0 | M17: =0+táj2!M17 -> 0 | N17: =0+táj2!N17 -> 0 | O17: =0+táj2!O17 -> 0 | P17: =0+táj2!P17 -> 0 | Q17: =SUM(G17:P17) -> 3600000
D18: - tűzifa támogatás | E18: 2 | F18: 121106 | G18: =0+táj2!G18 -> 0 | H18: =0+táj2!H18 -> 0 | I18: =0+táj2!I18 -> 0 | J18: =4500000+táj2!J18 -> 4500000 | K18: =0+táj2!K18 -> 0 | L18: =0+táj2!L18 -> 0 | M18: =0+táj2!M18 -> 0 | N18: =0+táj2!N18 -> 0 | O18: =0+táj2!O18 -> 0 | P18: =0+táj2!P18 -> 0 | Q18: =SUM(G18:P18) -> 4500000
D19: 103010 Elhunyt személyek hátramaradottainak pénzbeli ellátása
D20: - temetési segély | E20: 2 | F20: 121131 | G20: =0+táj2!G20 -> 0 | H20: =0+táj2!H20 -> 0 | I20: =0+táj2!I20 -> 0 | J20: =2000000+táj2!J20 -> 2000000 | K20: =0+táj2!K20 -> 0 | L20: =0+táj2!L20 -> 0 | M20: =0+táj2!M20 -> 0 | N20: =0+táj2!N20 -> 0 | O20: =0+táj2!O20 -> 0 | P20: =0+táj2!P20 -> 0 | Q20: =SUM(G20:P20) -> 2000000
D21: 106020 Lakásfenntartással, lakhatással összefüggő ellátások
D22: - lakhatási krízis alap Lakásalapból | E22: 2 | F22: 121130 | G22: =0+táj2!G22 -> 0 | H22: =0+táj2!H22 -> 0 | I22: =0+táj2!I22 -> 0 | J22: =1000000+táj2!J22 -> 1000000 | K22: =0+táj2!K22 -> 0 | L22: =0+táj2!L22 -> 0 | M22: =0+táj2!M22 -> 0 | N22: =0+táj2!N22 -> 0 | O22: =0+táj2!O22 -> 0 | P22: =0+táj2!P22 -> 0 | Q22: =SUM(G22:P22) -> 1000000
D23: 107060 Egyéb szociális pénzbeli ellátások, támogatások
D24: - gyógyszertámogatás | E24: 1 | F24: 121204 | G24: =0+táj2!G24 -> 0 | H24: =0+táj2!H24 -> 0 | I24: =0+táj2!I24 -> 0 | J24: =15116000+táj2!J24 -> 15116000 | K24: =0+táj2!K24 -> 0 | L24: =0+táj2!L24 -> 0 | M24: =0+táj2!M24 -> 0 | N24: =0+táj2!N24 -> 0 | O24: =0+táj2!O24 -> 0 | P24: =0+táj2!P24 -> 0 | Q24: =SUM(G24:P24) -> 15116000
D25: - gyógyászati segédeszköz-támogatás | E25: 1 | F25: 121132 | G25: =0+táj2!G25 -> 0 | H25: =0+táj2!H25 -> 0 | I25: =0+táj2!I25 -> 0 | J25: =1500000+táj2!J25 -> 1500000 | K25: =0+táj2!K25 -> 0 | L25: =0+táj2!L25 -> 0 | M25: =0+táj2!M25 -> 0 | N25: =0+táj2!N25 -> 0 | O25: =0+táj2!O25 -> 0 | P25: =0+táj2!P25 -> 0 | Q25: =SUM(G25:P25) -> 1500000
D26: - köztemetés | E26: 1 | F26: 121203 | G26: =0+táj2!G26 -> 0 | H26: =0+táj2!H26 -> 0 | I26: =1200000+táj2!I26 -> 1200000 | J26: =4700000+táj2!J26 -> 4700000 | K26: =600000+táj2!K26 -> 600000 | L26: =0+táj2!L26 -> 0 | M26: =0+táj2!M26 -> 0 | N26: =0+táj2!N26 -> 0 | O26: =0+táj2!O26 -> 0 | P26: =0+táj2!P26 -> 0 | Q26: =SUM(G26:P26) -> 6500000
D27: 094260 Hallgatói és oktatói ösztöndíjak, egyéb juttatások
D28: - Bursa Hungarica ösztöndíj | E28: 2 | F28: 121504 | G28: =0+táj2!G28 -> 0 | H28: =0+táj2!H28 -> 0 | I28: =0+táj2!I28 -> 0 | J28: =0+táj2!J28 -> 0 | K28: =6500000+táj2!K28 -> 6500000 | L28: =0+táj2!L28 -> 0 | M28: =0+táj2!M28 -> 0 | N28: =0+táj2!N28 -> 0 | O28: =0+táj2!O28 -> 0 | P28: =0+táj2!P28 -> 0 | Q28: =SUM(G28:P28) -> 6500000
D29: 104042 Család- és gyermekjóléti szolgálat
D30: - Családsegítő Szolgálathoz krízissegélyezés | E30: 1 | F30: 121301 | G30: =0+táj2!G30 -> 0 | H30: =0+táj2!H30 -> 0 | I30: =0+táj2!I30 -> 0 | J30: =0+táj2!J30 -> 0 | K30: =0+táj2!K30 -> 0 | L30: =0+táj2!L30 -> 0 | M30: =0+táj2!M30 -> 0 | N30: =0+táj2!N30 -> 0 | ... P30: =0+táj2!P30 -> 0 | Q30: =SUM(G30:P30) -> 0
D31: 011130 Önkorm. és önkorm. hivatal. jogalk. és ált.ig.tev.
D32: - Egerszegkártya | E32: 2 | F32: 221902 | G32: =0+táj2!G32 -> 0 | H32: =0+táj2!H32 -> 0 | I32: =59497002+táj2!I32 -> 59497002 | J32: =0+táj2!J32 -> 0 | K32: =0+táj2!K32 -> 0 | L32: =0+táj2!L32 -> 0 | M32: =0+táj2!M32 -> 0 | N32: =0+táj2!N32 -> 0 | O32: =0+táj2!O32 -> 0 | P32: =0+táj2!P32 -> 0 | Q32: =SUM(G32:P32) -> 59497002
D33: - Nemzedékek kézfogása | E33: 2 | F33: 22190** | G33: =0+táj2!G33 -> 0 | H33: =4200000+táj2!H33 -> 4200000 | I33: =544450+táj2!I33 -> 544450 | J33: =11429051+táj2!J33 -> 11429051 | K33: =0+táj2!K33 -> 0 | L33: =0+táj2!L33 -> 0 | M33: =0+táj2!M33 -> 0 | N33: =0+táj2!N33 -> 0 | O33: =0+táj2!O33 -> 0 | P33: =0+táj2!P33 -> 0 | Q33: =SUM(G33:P33) -> 16173501
D34: - bírtokvédelmi költség megelőlegezése | E34: 1 | F34: 121118 | G34: =0+táj2!G34 -> 0 | H34: =0+táj2!H34 -> 0 | I34: =0+táj2!I34 -> 0 | J34: =0+táj2!J34 -> 0 | K34: =0+táj2!K34 -> 0 | L34: =0+táj2!L34 -> 0 | M34: =0+táj2!M34 -> 0 | N34: =0+táj2!N34 -> 0 | ... P34: =0+táj2!P34 -> 0 | Q34: =SUM(G34:P34) -> 0
D35: - talált tárgyak felértékeltetése | E35: 1 | F35: 121515 | G35: =0+táj2!G35 -> 0 | H35: =0+táj2!H35 -> 0 | I35: =200000+táj2!I35 -> 200000 | J35: =0+táj2!J35 -> 0 | K35: =0+táj2!K35 -> 0 | L35: =0+táj2!L35 -> 0 | M35: =0+táj2!M35 -> 0 | N35: =0+táj2!N35 -> 0 | O35: =0+táj2!O35 -> 0 | P35: =0+táj2!P35 -> 0 | Q35: =SUM(G35:P35) -> 200000
D36: 032020 Tűz- és katasztrófavéd. tevékenység
D37: - helyi védelmi igazgatás | E37: 1 | F37: 121601 | G37: =0+táj2!G37 -> 0 | H37: =0+táj2!H37 -> 0 | I37: =100000+táj2!I37 -> 100000 | J37: =0+táj2!J37 -> 0 | K37: =0+táj2!K37 -> 0 | L37: =0+táj2!L37 -> 0 | M37: =0+táj2!M37 -> 0 | N37: =0+táj2!N37 -> 0 | O37: =0+táj2!O37 -> 0 | P37: =0+táj2!P37 -> 0 | Q37: =SUM(G37:P37) -> 100000
D38: 109010 Szociális szolgáltatás igazgatása
D39: - "Lakhatásért" Közalapítvány támogatása | E39: 2 | F39: 121517 | G39: =0+táj2!G39 -> 0 | H39: =0+táj2!H39 -> 0 | I39: =0+táj2!I39 -> 0 | J39: =0+táj2!J39 -> 0 | K39: =5000000+táj2!K39 -> 5000000 | L39: =0+táj2!L39 -> 0 | M39: =0+táj2!M39 -> 0 | N39: =0+táj2!N39 -> 0 | O39: =0+táj2!O39 -> 0 | P39: =0+táj2!P39 -> 0 | Q39: =SUM(G39:P39) -> 5000000
D40: Szociális és igazgatási feladatok működési kiadása összesen: | G40: =SUM(G7:G39) -> 0 | H40: =SUM(H7:H39) -> 4200000 | I40: =SUM(I7:I39) -> 61541452 | J40: =SUM(J7:J39) -> 93295051 | K40: =SUM(K7:K39) -> 12100000 | L40: =SUM(L7:L39) -> 0 | M40: =SUM(M7:M39) -> 0 | N40: =SUM(N7:N39) -> 0 | ... Q40: =SUM(Q7:Q39) -> 171136503
...

Sheet 9
B1: Megnevezés | C1: Hitelező | D1: Lejárat éve | E1: Szerződés összege | F1: Hitelek állománya 2025. XII. 31-én | G1: 2026. évi adósságszolgálat | I1: 2027. évi adósságszolgálat | K1: 2028. évi adósságszolgálat | M1: Későbbi évek adósságszolgálata
G2: Tőketörlesz- tés | H2: Kamat és egyéb ktg. | I2: Tőketörlesztés | J2: Kamat és egyéb ktg. | K2: Tőketörlesztés | L2: Kamat és egyéb ktg.
A3: 1. | B3: Zalaegerszeg belváros közlekedési rendszerének komplett átalakítása | C3: OTP | D3: 2038. | E3: 211637997 | F3: 133253487 | G3: 10451268 | H3: 8031657.6 | I3: 10451268 | J3: 7382633.9 | K3: 10451268 | L3: 6733610.2 | M3: 133539481
A4: 2. | B4: Zalaegerszegi Járműipari Tesztpályához szükséges területvásárláshoz | C4: OTP | D4: 2036. | E4: 950000000 | F4: 570100000 | G4: 52400000 | H4: 42549785 | I4: 52400000 | J4: 38499265 | K4: 52400000 | L4: 34448745 | M4: 542671240
A5: 3. | B5: TOP program keretében megvalósuló projektek nem támogatott munkarészei, többletfeladatai | C5: OTP | D5: 2029. | E5: 100000000 | F5: 37417082 | G5: 10000000 | H5: 2501464.2 | I5: 10000000 | J5: 1758464.2 | K5: 10000000 | L5: 1015464.2 | M5: 7691087
A6: 4. | B6: Vizslaparki u. 48. szám alatti ingatlan pályázati forrásból történő felújítása | C6: OTP | D6: 2027. | E6: 240000000 | F6: 52500000 | G6: 30000000 | H6: 2998462.5 | I6: 22500000 | J6: 817762.5 | K6: 0 | L6: 0 | M6: =SUM(F6-G6-I6-K6) -> 0
A7: 5. | B7: TOP és egyéb uniós projektek keretében megvalósuló projektek nem támogatott munkarészei, többletfeladatai | C7: OTP | D7: 2031. | E7: 150000000 | F7: 82498979 | G7: 15000000 | H7: 2144784 | I7: 15000000 | J7: 1726284 | K7: 15000000 | L7: 1307784 | M7: 38937502
A8: 6. | B8: Folyószámla hitelkeret, éven belüli lejárattal | C8: OTP | D8: 2026. | E8: 500000000 | F8: 0 | G8: 500000000
A9: 7. | B9: Halasztott fizetés, részletfizetés fizetési kötelezettsége | C9: MÁV | D9: 2028. | E9: 500000000 | F9: 0 | I9: 249999996 | K9: 250000004
B10: Hitelek összesen: | E10: =SUM(E3:E9) -> 2651637997 | F10: =SUM(F3:F9) -> 875769548 | G10: =SUM(G3:G9) -> 617851268 | H10: =SUM(H3:H9) -> 58226153 | I10: =SUM(I3:I9) -> 360351264 | J10: =SUM(J3:J9) -> 50184410 | K10: =SUM(K3:K9) -> 337851272 | L10: =SUM(L3:L9) -> 43505603 | M10: =SUM(M3:M9) -> 722839310

Sheet 10
B5: 2026. évi kötelezettség | C5: 2027. évi kötelezettség | D5: 2028. évi kötelezettség | E5: 2029. évi kötelezettség | F5: Megjegyzés
A6: I. Hitelek törlesztése és kamatai | B6: 676077421 | C6: 160535678 | D6: 131356871 | E6: 122914450 | F6: részletesen a 11. mellékletben
A8: II. Támogatási és egyéb megállapodások
A9: ZTE Football Club Zrt. | B9: 95000000 | C9: 165000000 | D9: 165000000 | E9: 165000000 | F9: megállapodás szerint 2034-ig
A11: III. Készfizető kezességvállalások
A12: Észak-zalai Víz- és Csatornamű Zrt. (fejlesztési célú hitelfelvétel) | B12: 50186664 | C12: 50186664 | D12: 50186664 | E12: 50186664 | F12: ZMJVK 45/2019.(III.07.) kgy.határozat 15 éves futamidő
A13: IV. Garanciavállalás
A14: Zalavíz Zrt. (zártvégű pénzügyi lízing gépre, berendezésre) | B14: 8871868 | C14: 9883798 | D14: 11004180 | E14: 12266327 | F14: garanciavállalás 50.735 E Ft-ra, 2030.06.20.napjáig
A15: Zalavíz Zrt. (kezességvállalási megállapodás készfizető kezességre) | B15: 0 | C15: 0 | D15: 0 | E15: 0 | F15: hitelszerződés garanciakibocsátásra keret 300.000 E Ft-ra 2030.12.31-ig
A16: V. Halasztott fizetési, részletfizetési kötelezettség
A17: MÁV Személyszállítási Zrt. (veszteségfinanszírozás átütemezése) | C17: 249999996 | D17: 250000004 | F17: ZMJVÖNK 87/2026.(VI.18.) határozat
A18: Összes kötelezettség: | B18: =SUM(B6:B17) -> 830135953 | C18: =SUM(C6:C17) -> 635606136 | D18: =SUM(D6:D17) -> 607547719 | E18: =SUM(E6:E17) -> 350367441

Sheet táj1
A1: Cím szám | B1: Alcím szám | C1: Megnevezés | D1: Tervezési alapegység | E1: Költségvetési bevételek | L1: Finanszírozási bevételek | O1: Összesen:
E2: Működési célú támogatások áht-n belülről | F2: Felhalmozási célú támogatások áht-n belülről | G2: Közhatalmi bevételek | H2: Működési bevételek | I2: Felhalmozási bevételek | J2: Működési célú átvett pénzeszközök | K2: Felhalmozási célú átvett pénzeszközök | L2: Hitel-, kölcsönfelvétel áht-n kívülről | M2: Maradvány igénybevétele | N2: Egyéb finanszírozási bevétel
A3: 1 | C3: Önkormányzat
A4: 1 | B4: 1 | C4: Szakosztályok
A5: 1 | B5: 12 | C5: Szociális és igazgatási feladatok
C6: 011130 Önkorm. és önkorm. hivatal. jogalk. és ált.ig.tev.
C7: - Egerszeg kártya értékesítés | D7: 221 902 | O7: =SUM(E7:N7) -> 0
C8: - igazgatási bírság | D8: 121602 | O8: =SUM(E8:N8) -> 0
C9: 107060 Egyéb szociális pénzbeli ellátások, támogatások
C10: - köztemetés megtérítése | D10: 121203 | O10: =SUM(E10:N10) -> 0
C11: Szociális és igazgatási feladatok összesen: | E11: =SUM(E5:E10) -> 0 | F11: =SUM(F5:F10) -> 0 | G11: =SUM(G5:G10) -> 0 | H11: =SUM(H5:H10) -> 0 | I11: =SUM(I5:I10) -> 0 | J11: =SUM(J5:J10) -> 0 | K11: =SUM(K5:K10) -> 0 | L11: =SUM(L5:L10) -> 0 | ... O11: =SUM(O5:O10) -> 0
A12: 1 | B12: 13 | C12: Humánigazgatási feladatok
C13: 074052 Kábítószer megelőzés programja
C14: - Zalaegerszegi Kábítószerügyi Egyeztető Fórum | D14: 131120 | O14: =SUM(E14:N14) -> 0
C15: 101211 Fogyatékossággal élők tartós bentlakásos ellátása
C16: - Református Egyház által fizetendő bérleti díj | D16: 131703 | O16: =SUM(E16:N16) -> 0
C17: 018030 Támogatási célú finanszírozási műveletek
