Workbook
Name _GoBack: '2'!#REF!

Sheet 1
B1: 2025. évi eredeti előirányzat | C1: 2025. évi módosított előirányzat | D1: 2025. évi teljesítés | E1: Teljesítés %-a | G1: Megnevezés | H1: 2025. évi eredeti előirányzat | I1: 2025. évi módosított előirányzat | J1: 2025. évi teljesítés | K1: Teljesítés %-a
A2: I. Működési célú bevételek | G2: I. Működési célú kiadások
A3: 1.) Működési célú támogatások államháztartáson belülről | B3: 8103587 | C3: 9520045 | D3: ='6'!I245 -> 8525092 | E3: =SUM(D3/C3)*100 -> 89.548862 | G3: 1.) Költségvetési szervek kiadásai | H3: 12211496 | I3: 12925217 | J3: ='11'!H22+'11'!I22+'11'!J22+'11'!K22+'11'!L22 -> 12033637 | K3: =SUM(J3/I3)*100 -> 93.102011
A4: 2.) Közhatalmi bevételek | B4: 9347900 | C4: 9349292 | D4: 9771435 | E4: =SUM(D4/C4)*100 -> 104.51524 | G4: 2.) Önkormányzat szakosztályainak kiadásai | H4: 7350700 | I4: 8075310 | J4: ='8'!K656+'8'!L656+'8'!M656+'8'!N656-67691 -> 5057526 | K4: =SUM(J4/I4)*100 -> 62.629497
A5: 3.) Működési bevételek | B5: 4395669 | C5: 5844512 | D5: ='6'!L245-D18 -> 5550205 | E5: =SUM(D5/C5)*100 -> 94.964387 | G5: 3.Egyéb működési célú kiadások (költségvetési szervek és tartalék nélkül) | H5: 6030945 | I5: 7047558 | J5: ='8'!O656 -> 6996527 | K5: =SUM(J5/I5)*100 -> 99.275905
A6: 4.) Működési célú átvett pénzeszközök | C6: 101234 | D6: ='6'!N245 -> 107944 | E6: =SUM(D6/C6)*100 -> 106.62821 | G6: 4.) Céltartalékból működésre | H6: 436014 | I6: 470268 | K6: =SUM(J6/I6)*100 -> 0
A7: Költségvetési műk. bevételei összesen: | B7: =SUM(B3+B4+B5+B6) -> 21847156 | C7: =SUM(C3:C6) -> 24815083 | D7: =SUM(D3+D4+D5+D6) -> 23954676 | E7: =SUM(D7/C7)*100 -> 96.532726 | G7: 5.) Általános tartalék | H7: 10000 | I7: 7827 | K7: =SUM(J7/I7)*100 -> 0
A8: Finanszírozási bevételek | G8: Költségvetési műk. kiadásai összesen: | H8: =SUM(H2:H7) -> 26039155 | I8: =SUM(I3:I7) -> 28526180 | J8: =SUM(J2:J7) -> 24087690 | K8: =SUM(J8/I8)*100 -> 84.440644
A9: 5.) Előző év költségvetési maradványának igénybevétele | B9: 2592710 | C9: 2111808 | D9: 2111808 | E9: =SUM(D9/C9)*100 -> 100 | G9: 6.) Egyéb finanszírozási kiadás (államháztartáson belüli megelőlegezés visszafizetése) | H9: 200711 | I9: 577027 | J9: ='8'!T567 -> 577027 | K9: =SUM(J9/I9)*100 -> 100
A10: 6.) Forgatási célú értékpapír beváltás | B10: 1800000 | C10: 1800000 | E10: =SUM(D10/C10)*100 -> 0
A11: 7.) Államháztartáson belüli megelőlegezések | C11: 376316 | D11: ='6'!R203 -> 620443 | E11: =SUM(D11/C11)*100 -> 164.87287
A12: MŰKÖDÉSI CÉLÚ BEVÉTELEK ÖSSZ: | B12: =SUM(B7:B11) -> 26239866 | C12: =SUM(C7:C11) -> 29103207 | D12: =SUM(D7:D11) -> 26686927 | E12: =SUM(D12/C12)*100 -> 91.697547 | G12: MŰKÖDÉSI CÉLÚ KIADÁSOK ÖSSZ.: | H12: =SUM(H8:H9) -> 26239866 | I12: =SUM(I8:I11) -> 29103207 | J12: =SUM(J8:J11) -> 24664717 | K12: =SUM(J12/I12)*100 -> 84.749138
A13: II. Felhalmozási célú bevételek | G13: II. Felhalmozási célú kiadások
A14: 1.) Felhalmozási célú támogatások államháztartáson belülről | B14: 1665620 | C14: 6287013 | D14: ='6'!J245 -> 880160 | E14: =SUM(D14/C14)*100 -> 13.999653 | G14: 1.) Egyéb felhalmozási célú kiadások | H14: 575452 | I14: 198084 | J14: ='8'!R658 -> 141381 | K14: =SUM(J14/I14)*100 -> 71.374265
A15: 2.) Felhalmozási bevételek | B15: 214221 | C15: 379780 | D15: ='6'!M245 -> 318520 | E15: =SUM(D15/C15)*100 -> 83.869609 | G15: ebből: költségvetési szervek | I15: 0 | J15: ='8'!R657 -> 0
A16: 3.) Közhatalmi bevételek | B16: 30000 | C16: 30000 | D16: 30000 | E16: =SUM(D16/C16)*100 -> 100 | G16: 2.) Beruházás | H16: 7130360 | I16: 10874884 | J16: ='8'!P658 -> 3923577 | K16: =SUM(J16/I16)*100 -> 36.079254
A17: 4.) Felhalmozási célú átvett pénzeszközök | B17: 15224 | C17: 73706 | D17: ='6'!O245 -> 78605 | E17: =SUM(D17/C17)*100 -> 106.64668 | G17: ebből: költségvetési szervek | H17: 128132 | I17: 355992 | J17: ='8'!P657 -> 292821 | K17: =SUM(J17/I17)*100 -> 82.254938
A18: 5.) Fejlesztéshez működési jellegű bevétel (HD, áfa visszaigénylés) | B18: 757769 | C18: 1362409 | D18: 1185114 | E18: =SUM(D18/C18)*100 -> 86.986654 | G18: 3.) Felújítás | H18: 2940784 | I18: 5545953 | J18: ='8'!Q658 -> 2268540 | K18: =SUM(J18/I18)*100 -> 40.904422
A19: Költségvetési felhalm. bevételei összesen: | B19: =SUM(B14:B18) -> 2682834 | C19: =SUM(C14:C18) -> 8132908 | D19: =SUM(D14:D18) -> 2492399 | E19: =SUM(D19/C19)*100 -> 30.645853 | G19: ebből: költségvetési szervek | H19: 16955 | I19: 94310 | J19: ='8'!Q657 -> 88420 | K19: =SUM(J19/I19)*100 -> 93.754639
A20: Finanszírozási bevételek | G20: 4.) Céltartalék | H20: 420571 | I20: 758822 | K20: =SUM(J20/I20)*100 -> 0
A21: 6.) Hitel felvétel | G21: 5.)Fejlesztési hitel kamata | H21: 79109 | I21: 79109 | J21: 67691 | K21: =SUM(J21/I21)*100 -> 85.56675
A22: 7.) Előző év költségvetési maradványának igénybevétele | B22: 4491781 | C22: 5352283 | D22: 5352283 | E22: =SUM(D22/C22)*100 -> 100 | G22: Költségvetési felh.célú kiadásai összesen: | H22: =SUM(H14+H16+H18+H20+H21) -> 11146276 | I22: =SUM(I14+I16+I18+I20+I21) -> 17456852 | J22: =SUM(J14+J16+J18+J20+J21) -> 6401189 | K22: =SUM(J22/I22)*100 -> 36.668633
A23: 8.) Forgatási célú értékpapír beváltás projektekhez kapcsolódóan | B23: 4089513 | C23: 4089513 | D23: 2834000 | E23: =SUM(D23/C23)*100 -> 69.299205 | G23: Finanszírozási kiadások
G24: 6.) Hitel- és kölcsön törlesztések | H24: 117852 | I24: 117852 | J24: ='8'!S583 -> 117851 | K24: =SUM(J24/I24)*100 -> 99.999151
A25: FELHALMOZÁSI CÉLÚ BEVÉTELEK ÖSSZESEN: | B25: =SUM(B19:B23) -> 11264128 | C25: =SUM(C19:C23) -> 17574704 | D25: =SUM(D19:D23) -> 10678682 | E25: =SUM(D25/C25)*100 -> 60.761661 | G25: FELHALMOZÁSI CÉLÚ KIADÁSOK ÖSSZESEN: | H25: =SUM(H22:H24) -> 11264128 | I25: =SUM(I22:I24) -> 17574704 | J25: =SUM(J22:J24) -> 6519040 | K25: =SUM(J25/I25)*100 -> 37.093313
A26: ÖNKORMÁNYZAT ÖSSZESEN: | B26: =SUM(B12+B25) -> 37503994 | C26: =C12+C25 -> 46677911 | D26: =SUM(D12+D25) -> 37365609 | E26: =SUM(D26/C26)*100 -> 80.049874 | G26: ÖNKORMÁNYZAT ÖSSZESEN: | H26: =SUM(H12+H25) -> 37503994 | I26: =SUM(I12+I25) -> 46677911 | J26: =SUM(J12+J25) -> 31183757 | K26: =SUM(J26/I26)*100 -> 66.806239
A27: 7.) Forgatási célú értékpapír beváltás | B27: 5000000 | C27: 5000000 | D27: 3400000 | E27: =SUM(D27/C27)*100 -> 68 | G27: 7.) Forgatási célú értékpapír vásárlás hazai forrásból átmenetileg szabad pénzeszközökből | H27: 5000000 | I27: 5000000 | J27: ='8'!T584 -> 4000000 | K27: =SUM(J27/I27)*100 -> 80
A28: MINDÖSSZESEN: | B28: =SUM(B26:B27) -> 42503994 | C28: =SUM(C26:C27) -> 51677911 | D28: =SUM(D26:D27) -> 40765609 | E28: =SUM(D28/C28)*100 -> 78.884011 | G28: MINDÖSSZESEN: | H28: =SUM(H26:H27) -> 42503994 | I28: =SUM(I26:I27) -> 51677911 | J28: =SUM(J26:J27) -> 35183757 | K28: =SUM(J28/I28)*100 -> 68.082777

Sheet 2
A1: Rovat száma | B1: Megnevezés | C1: 2025. évi eredeti előirányzat | D1: 2025. évi módosított előirányzat | E1: 2025. évi teljesítés | F1: Teljesítés %-a
A2: B | B2: BEVÉTELEK
A3: B1 | B3: Működési célú támogatások államháztartáson belülről
A4: B11 | B4: Helyi önkormányzatok általános működésének és ágazati feladatainak állami támogatása | C4: 6519307 | D4: 7262877 | E4: 7262877 | F4: =SUM(E4/D4)*100 -> 100
A5: B12 | B5: Elvonások és befizetések bevételei | D5: 1454 | E5: 1454 | F5: =SUM(E5/D5)*100 -> 100
A6: B14 | B6: Működési célú visszatérítendő támogatások, kölcsönök visszatérülése államháztartáson belülről | C6: 35700 | D6: 26000 | E6: 26000 | F6: =SUM(E6/D6)*100 -> 100
A7: B15 | B7: Működési célú visszatérítendő támogatások, kölcsönök igénybevétele államháztartáson belülről | E7: 32699
A8: B16 | B8: Egyéb működési célú támogatások bevételei államháztartáson belülről | C8: 1548580 | D8: 2229714 | E8: 1202062 | F8: =SUM(E8/D8)*100 -> 53.91104
B9: Működési célú támogatások államháztartáson belülről összesen | C9: =SUM(C4:C8) -> 8103587 | D9: =SUM(D4:D8) -> 9520045 | E9: =SUM(E4:E8) -> 8525092 | F9: =SUM(E9/D9)*100 -> 89.548862
A10: B2 | B10: Felhalmozási célú támogatások államháztartáson belülről
A11: B21 | B11: Felhalmozási célú önkormányzati támogatások | D11: 451997 | E11: 451997 | F11: =SUM(E11/D11)*100 -> 100
A12: B24 | B12: Felhalmozási célú visszatérítendő támogatások, kölcsönök igénybevétele államháztartáson belülről | E12: 2550
A13: B25 | B13: Egyéb felhalmozási célú támogatások bevételei államháztartáson belülről | C13: 1665620 | D13: 5835016 | E13: 425613 | F13: =SUM(E13/D13)*100 -> 7.2941188
B14: Felhalmozási célú támogatások államháztartáson belülről összesen | C14: =SUM(C11:C13) -> 1665620 | D14: =SUM(D11:D13) -> 6287013 | E14: =SUM(E11:E13) -> 880160 | F14: =SUM(E14/D14)*100 -> 13.999653
A15: B3 | B15: Közhatalmi bevételek
A16: B311 | B16: Magánszemélyek jövedelemadói | E16: 61
A17: B34 | B17: Vagyoni típusú adók (építményadó, magánszemélyek kommunális adója) | C17: 1601000 | D17: 1601000 | E17: 1598159 | F17: =SUM(E17/D17)*100 -> 99.822548
A18: B35 | B18: Termékek és szolgáltatások adói
A19: B351 | B19: Értékesítési és forgalmi adók (iparűzési adó) | C19: 7630000 | D19: 7630000 | E19: 7959128 | F19: =SUM(E19/D19)*100 -> 104.3136
A20: B355 | B20: Egyéb áruhasználati és szolgáltatási adók ( idegenforgalmi adó) | C20: 40000 | D20: 40000 | E20: 38167 | F20: =SUM(E20/D20)*100 -> 95.4175
A21: B36 | B21: Egyéb közhatalmi bevételek (igazgatási szolgáltatási díjak, különféle bírságok, talajterhelési díj) | C21: 106900 | D21: 108292 | E21: 205920 | F21: =SUM(E21/D21)*100 -> 190.15255
B22: Közhatalmi bevételek összesen | C22: =SUM(C15:C21) -> 9377900 | D22: =SUM(D17:D21) -> 9379292 | E22: =SUM(E16:E21) -> 9801435 | F22: =SUM(E22/D22)*100 -> 104.5008
A23: B4 | B23: Működési bevételek | C23: 5153438 | D23: 7206921 | E23: 6735319 | F23: =SUM(E23/D23)*100 -> 93.456262
A24: B5 | B24: Felhalmozási bevételek
A25: B52 | B25: Ingatlanok értékesítése | C25: 214221 | D25: 311869 | E25: 220650 | F25: =SUM(E25/D25)*100 -> 70.75086
A26: B53 | B26: Egyéb tárgyi eszközök értékesítése | D26: 24911 | E26: 54542 | F26: =SUM(E26/D26)*100 -> 218.94745
A27: B54 | B27: Részesedések értékesítése | D27: 43000 | E27: 43328 | F27: =SUM(E27/D27)*100 -> 100.76279
B28: Felhalmozási bevételek összesen | C28: =SUM(C25:C27) -> 214221 | D28: =SUM(D25:D27) -> 379780 | E28: =SUM(E25:E27) -> 318520 | F28: =SUM(E28/D28)*100 -> 83.869609
A29: B6 | B29: Működési célú átvett pénzeszközök | D29: 101234 | E29: 107944 | F29: =SUM(E29/D29)*100 -> 106.62821
A30: B7 | B30: Felhalmozási célú átvett pénzeszközök
A31: B74 | B31: Felhalmozási célú visszatérítendő támogatások, kölcsönök visszatérülése államháztartáson kívülről | C31: 15224 | D31: 15224 | E31: 20922 | F31: =SUM(E31/D31)*100 -> 137.42775
A32: B75 | B32: Egyéb felhalmozási célú átvett pénzeszközök | D32: 58482 | E32: 57683 | F32: =SUM(E32/D32)*100 -> 98.633768
B33: Felhalmozási célú átvett pénzeszközök összesen | C33: =SUM(C31:C32) -> 15224 | D33: =SUM(D31:D32) -> 73706 | E33: =SUM(E31:E32) -> 78605 | F33: =SUM(E33/D33)*100 -> 106.64668
A34: B1-B7 | B34: Költségvetési bevételek | C34: =SUM(C9+C14+C22+C23+C28+C29+C33) -> 24529990 | D34: =D9+D14+D22+D23+D28+D29+D33 -> 32947991 | E34: =SUM(E9+E14+E22+E23+E28+E29+E33) -> 26447075 | F34: =SUM(E34/D34)*100 -> 80.269158
A35: B8 | B35: Finanszírozási bevételek
A36: B81 | B36: Belföldi finanszírozás bevételei
A37: B8121 | B37: Forgatási célú belföldi értékpapírok beváltása, értékesítése | C37: 10889513 | D37: 10889513 | E37: 6234000 | F37: =SUM(E37/D37)*100 -> 57.247739
A38: B813 | B38: Maradvány igénybevétele | C38: 7084491 | D38: 7464091 | E38: 7464091 | F38: =SUM(E38/D38)*100 -> 100
A39: B814 | B39: Államháztartáson belüli megelőlegezések | D39: 376316 | E39: 620443 | F39: =SUM(E39/D39)*100 -> 164.87287
A40: B817 | B40: Lekötött bankbetétek megszüntetése
B41: Finanszírozási bevételek összesen | C41: =SUM(C37:C40) -> 17974004 | D41: =SUM(D37:D40) -> 18729920 | E41: =SUM(E37:E40) -> 14318534 | F41: =SUM(E41/D41)*100 -> 76.447385
B42: BEVÉTELEK ÖSSZESEN: | C42: =SUM(C34+C41) -> 42503994 | D42: =D34+D41 -> 51677911 | E42: =SUM(E34+E41) -> 40765609 | F42: =SUM(E42/D42)*100 -> 78.884011

Sheet 3
B1: Mutató | D1: 2025. bevétel eredeti előirányzata | F1: Mutató | H1: 2025. bevétel módosított előirányzata | J1: Mutató | L1: 2025. bevétel összege | T1: EREDETI EI.
A2: Hozzájárulás jogcíme | B2: lakosságszám | C2: mutató | D2: Normatíva Ft/fő | E2: Állami támogatás E Ft-ban | F2: lakosságszám | G2: mutató | H2: Normatíva Ft/fő | I2: Állami támogatás E Ft-ban | J2: lakosságszám | K2: mutató | L2: Normatíva Ft/fő | M2: Állami támogatás E Ft-ban | P2: 2025. végleges forintban | T2: Forintban
A3: 2. melléklet szerinti jogcímek
A4: 1.1. Települési önkormányzatok működésének általános támogatása
A5: 1.1.1.1. önkormányzati hivatal működésének támogatása - elismert hivatali létszám alapján | B5: 54752 | C5: 126.66 | D5: 6633500 | E5: 840199 | F5: 54297 | G5: 125.82 | H5: 6994000 | I5: 879985 | J5: 54297 | K5: 125.82 | L5: 6994000 | M5: 879985 | N5: =I5-O5 -> -0.08 | O5: =P5/1000 -> 879985.08 | P5: 879985080 | Q5: 879985080 | R5: 879985080 | S5: 879985080 | T5: 840199110
A6: Település-üzemeltetéshez kapcsolódó feladataellátás támogatása | N6: =I6-O6 -> 0 | O6: =P6/1000 -> 0
A7: 1.1.1.2. zöldterület-gazdálkodás támogatása (hektár) | C7: 23950.2 | D7: 26000 | E7: 62275 | G7: 23950.2 | H7: 26000 | I7: 62275 | K7: 23950.2 | L7: 26000 | M7: 62275 | N7: =I7-O7 -> -0.2 | O7: =P7/1000 -> 62275.2 | P7: 62275200 | Q7: 62275200 | R7: 62275200 | S7: 62275200 | T7: 62275200
A8: 1.1.1.3. közvilágítás támogatása (km) | C8: 408.5 | D8: 425000 | E8: 173613 | G8: 408.5 | H8: 425000 | I8: 173613 | K8: 408.5 | L8: 425000 | M8: 173613 | N8: =I8-O8 -> 0.5 | O8: =P8/1000 -> 173612.5 | P8: 173612500 | Q8: 173612500 | R8: 173612500 | S8: 173612500 | T8: 173612500
A9: 1.1.1.4. köztemető támogatása (m²) | C9: 321768 | D9: 85 | E9: 27350 | G9: 321768 | H9: 85 | I9: 27350 | K9: 321768 | L9: 85 | M9: 27350 | N9: =I9-O9 -> -0.28 | O9: =P9/1000 -> 27350.28 | P9: 27350280 | Q9: 27350280 | R9: 27350280 | S9: 27350280 | T9: 27350280
A10: 1.1.1.5. közutak támogatása (km) | C10: 203.003 | D10: 485000 | E10: 98456 | G10: 203.003 | H10: 485000 | I10: 98456 | K10: 203.003 | L10: 485000 | M10: 98456 | N10: =I10-O10 -> -0.455 | O10: =P10/1000 -> 98456.455 | P10: 98456455 | Q10: 98456455 | R10: 98456455 | S10: 98456455 | T10: 98456455
A11: 1.1.1.6. egyéb önkormányzati feladatok támogatása | B11: 54297 | D11: 2800 | E11: 152032 | F11: 54297 | H11: 2800 | I11: 152032 | J11: 54297 | L11: 2800 | M11: 152032 | N11: =I11-O11 -> 0.4 | O11: =P11/1000 -> 152031.6 | P11: 152031600 | Q11: 152031600 | R11: 152031600 | S11: 152031600 | T11: 152031600
A12: 1.1.1.7. Lakott külterülettel kapcsolatos feladatok támogatása | B12: 4951 | D12: 2550 | E12: 12625 | F12: 4951 | H12: 2550 | I12: 12625 | J12: 4951 | L12: 2550 | M12: 12625 | N12: =I12-O12 -> -0.05 | O12: =P12/1000 -> 12625.05 | P12: 12625050 | Q12: 12625050 | R12: 12625050 | S12: 12625050 | T12: 12625050
A13: 1.1.2. Nem közművel összegyűjtött háztartási szennyvíz ártalmatlanítása | G13: 2000 | H13: 500 | I13: 2360 | K13: 2000 | L13: 500 | M13: 2360 | N13: =I13-O13 -> 0 | O13: =P13/1000 -> 2360 | P13: 2360000 | Q13: 1000000 | R13: 1000000
A14: 1.2. Óvodaműködtetési támogatás | N14: =I14-O14 -> 0 | O14: =P14/1000 -> 0
A15: 1.2.1.1. Óvodaműködtetési támogatás | C15: 1302.7 | D15: 172374 | E15: 224552 | G15: 1314.3 | H15: 172374 | I15: 226551 | K15: 1314.3 | L15: 172374 | M15: 226551 | N15: =I15-O15 -> -0.1482 | O15: =P15/1000 -> 226551.15 | P15: =G15*H15 -> 2.2655115e+08 | Q15: =G15*H15 -> 2.2655115e+08 | R15: 227533680 | S15: 224551610 | T15: 224551610
A16: 1.2.2.1. Az óvodában foglalkoztatott pedagógusok átlagbéralapú támogatása | C16: 119.9 | D16: 8372000 | E16: 1003803 | G16: 121.2 | H16: 8372000 | I16: 1014686 | K16: 121.2 | L16: 8372000 | M16: 1014686 | N16: =I16-O16 -> -0.4 | O16: =P16/1000 -> 1014686.4 | P16: =G16*H16 -> 1014686400 | Q16: =G16*H16 -> 1014686400 | R16: 1016360800 | S16: 1003802800 | T16: 1003802800
A17: -pedagógusok 2025. január 1-jei béremeléséhez | C17: 119.9 | D17: 1775000 | E17: 212822 | G17: 121.2 | H17: 1775000 | I17: 215130 | K17: 121.2 | L17: 1775000 | M17: 215130 | N17: =I17-O17 -> 0 | O17: =P17/1000 -> 215130 | P17: =G17*H17 -> 215130000 | Q17: =G17*H17 -> 215130000 | R17: 215485000 | S17: 212822500 | T17: 212822500
A18: - óvodapedagógusok béremelése az 1231/2025. (VI.30.)Korm. határozat és a 182/2025. (VI.30.) Korm. rendelet alapján | G18: 121.2 | H18: 90000 | I18: 10908 | K18: 121.2 | L18: 90000 | M18: 10908 | N18: =I18-O18 -> 0 | O18: =P18/1000 -> 10908 | P18: =G18*H18 -> 10908000 | Q18: =G18*H18 -> 10908000 | R18: 10926000
A19: 1.2.3. Kiegészítő támogatás az óvodapedagógusok minősítéséből adódó többletkiadásokhoz | N19: =I19-O19 -> 0
A20: 1.2.3.1.1.1.1. Pedagógus II. kategóriába sorolt pedagógusok kiegészítő támogatása | C20: 44 | D20: 717000 | E20: 31548 | G20: 44.7 | H20: 717000 | I20: 32050 | K20: 44.7 | L20: 717000 | M20: 32050 | N20: =I20-O20 -> 0.1 | O20: =P20/1000 -> 32049.9 | P20: =G20*H20 -> 32049900 | Q20: =G20*H20 -> 32049900 | R20: 30759300 | S20: 31548000 | T20: 31548000
A21: -pedagógusok 2025. január 1-jei béremeléséhez | C21: 44 | D21: 152000 | E21: 6688 | G21: 44.7 | H21: 152000 | I21: 6794 | K21: 44.7 | L21: 152000 | M21: 6794 | N21: =I21-O21 -> -0.4 | O21: =P21/1000 -> 6794.4 | P21: =G21*H21 -> 6794400 | Q21: =G21*H21 -> 6794400 | R21: 6520800 | S21: 6688000 | T21: 6688000
A22: 1.2.3.1.1.1.2. Mesterpedagógus, kutatótanár kategóriába sorolt pedagógusok kiegészítő támogatása | C22: 2 | D22: 2674000 | E22: 5348 | G22: 4 | H22: 2674000 | I22: 10696 | K22: 4 | L22: 2674000 | M22: 10696 | N22: =I22-O22 -> 0 | O22: =P22/1000 -> 10696 | P22: =G22*H22 -> 10696000 | Q22: =G22*H22 -> 10696000 | R22: 10696000 | S22: 5348000 | T22: 5348000
A23: -pedagógusok 2025. január 1-jei béremeléséhez | C23: 2 | D23: 567000 | E23: 1134 | G23: 4 | H23: 567000 | I23: 2268 | K23: 4 | L23: 567000 | M23: 2268 | N23: =I23-O23 -> 0 | O23: =P23/1000 -> 2268 | P23: =G23*H23 -> 2268000 | Q23: =G23*H23 -> 2268000 | R23: 2268000 | S23: 1134000 | T23: 1134000
A24: 1.2.3.1.1.2.1. Mesterfokozatú végzettségű pedagógus II.kategóriába sorolt pedagógusok kiegészítő támogatása | C24: 1 | D24: 864000 | E24: 864 | G24: 1 | H24: 864000 | I24: 864 | K24: 1 | L24: 864000 | M24: 864 | N24: =I24-O24 -> 0 | O24: =P24/1000 -> 864 | P24: =G24*H24 -> 864000 | Q24: =G24*H24 -> 864000 | R24: 864000 | S24: 864000 | T24: 864000
A25: -pedagógusok 2025. január 1-jei béremeléséhez | C25: 1 | D25: 183000 | E25: 183 | G25: 1 | H25: 183000 | I25: 183 | K25: 1 | L25: 183000 | M25: 183 | N25: =I25-O25 -> 0 | O25: =P25/1000 -> 183 | P25: =G25*H25 -> 183000 | Q25: =G25*H25 -> 183000 | R25: 183000 | S25: 183000 | T25: 183000
A26: 1.2.5.1.1. Az óvodában foglalkoztatott pedagógusok nevelőmunkáját közvetlenük segítők átlagbéralapú támogatása | C26: 82 | D26: 5268000 | E26: 431976 | G26: 81.7 | H26: 5268000 | I26: 430396 | K26: 81.7 | L26: 5268000 | M26: 430396 | N26: =I26-O26 -> 0.4 | O26: =P26/1000 -> 430395.6 | P26: =G26*H26 -> 430395600 | Q26: =G26*H26 -> 430395600 | R26: 431976000 | S26: 431976000 | T26: 431976000
A27: 1.3.2.Szociális és gyermekjóléti alapszolgáltatás feladatai
A28: 1.3.2.1. Család és gyermekjóléti szolgálat | C28: 8.3 | D28: 6643100 | E28: 55138 | G28: 9 | H28: 7140000 | I28: 64260 | K28: 9 | L28: 7140000 | M28: 64260 | N28: =I28-O28 -> 0 | O28: =P28/1000 -> 64260 | P28: =G28*H28 -> 64260000 | Q28: =G28*H28 -> 64260000 | R28: 64260000 | S28: 64260000 | T28: 55137730
A29: 1.3.2.2. Család- és gyermekjóléti központ ( járáshoz tartozó összes településre) | C29: 22.6 | D29: 6770000 | E29: 153002 | G29: 22.6 | H29: 6770000 | I29: 153002 | K29: 22.6 | L29: 6770000 | M29: 153002 | N29: =I29-O29 -> 0 | O29: =P29/1000 -> 153002 | P29: =G29*H29 -> 153002000 | Q29: =G29*H29 -> 153002000 | R29: 153002000 | S29: 153002000 | T29: 153002000
A30: 1.3.2.2. Család- és gyermekjóléti központ kiegészítés a kijelölt intézmény esetében | C30: 1 | D30: 15000000 | E30: 15000 | G30: 1 | H30: 15000000 | I30: 15000 | K30: 1 | L30: 15000000 | M30: 15000 | N30: =I30-O30 -> 0 | O30: =P30/1000 -> 15000 | P30: =G30*H30 -> 15000000 | Q30: =G30*H30 -> 15000000 | R30: 15000000 | S30: 15000000 | T30: 15000000
A31: 1.3.2.2.2. Óvodai és iskolai szociális segítő tevékenység támogatása | C31: 13726 | D31: 5255 | E31: 72130 | G31: 13726 | H31: 5255 | I31: 72130 | K31: 13726 | L31: 5255 | M31: 72130 | N31: =I31-O31 -> -0.13 | O31: =P31/1000 -> 72130.13 | P31: =G31*H31 -> 72130130 | Q31: =G31*H31 -> 72130130 | R31: 72130130 | S31: 72130130 | T31: 72130130
A32: 1.3.2.3.2. Szociális étkeztetés - társulás által történő feladatellátás | C32: 310 | D32: 97410 | E32: 30197 | G32: 310 | H32: 97410 | I32: 30197 | K32: 310 | L32: 97410 | M32: 30197 | N32: =I32-O32 -> -0.1 | O32: =P32/1000 -> 30197.1 | P32: =G32*H32 -> 30197100 | Q32: =G32*H32 -> 30197100 | R32: 30197100 | S32: 30197100 | T32: 30197100
A33: 1.3.2.4. Házi segítségnyújtás
A34: 1.3.2.4.1. Szociális segítés | C34: 2 | D34: 25000 | E34: 50 | G34: 2 | H34: 25000 | I34: 50 | K34: 2 | L34: 25000 | M34: 50 | N34: =I34-O34 -> 0 | O34: =P34/1000 -> 50 | P34: =G34*H34 -> 50000 | Q34: =G34*H34 -> 50000 | R34: 50000 | S34: 50000 | T34: 50000
A35: 1.3.2.4.3. Személyi gondozás - társulás által történő feladatellátás | C35: 50 | D35: 842600 | E35: 42130 | G35: 50 | H35: 842600 | I35: 42130 | K35: 50 | L35: 842600 | M35: 42130 | N35: =I35-O35 -> 0 | O35: =P35/1000 -> 42130 | P35: =G35*H35 -> 42130000 | Q35: =G35*H35 -> 42130000 | R35: 42130000 | S35: 42130000 | T35: 42130000
A36: 1.3.2.6. Időskorúak nappali intézményi ellátása társulás által történő feladatellátás | C36: 55 | D36: 558800 | E36: 30734 | G36: 55 | H36: 558800 | I36: 30734 | K36: 55 | L36: 558800 | M36: 30734 | N36: =I36-O36 -> 0 | O36: =P36/1000 -> 30734 | P36: =G36*H36 -> 30734000 | Q36: =G36*H36 -> 30734000 | R36: 30734000 | S36: 30734000 | T36: 30734000
A37: 1.3.2.8.2. Demens személyek nappali intézményi ellátása - társulás által történő feladatellátás | C37: 4 | D37: 1119800 | E37: 4479 | G37: 4 | H37: 1119800 | I37: 4479 | K37: 4 | L37: 1119800 | M37: 4479 | N37: =I37-O37 -> -0.2 | O37: =P37/1000 -> 4479.2 | P37: =G37*H37 -> 4479200 | Q37: =G37*H37 -> 4479200 | R37: 4479200 | S37: 4479200 | T37: 4479200
A38: 1.3.2.9.2. Pszichiátriai betegek nappali intézményi ellátása - társulás által történő feladatellátás | C38: 20 | D38: 605500 | E38: 12110 | G38: 20 | H38: 605500 | I38: 12110 | K38: 20 | L38: 605500 | M38: 12110 | N38: =I38-O38 -> 0 | O38: =P38/1000 -> 12110 | P38: =G38*H38 -> 12110000 | Q38: =G38*H38 -> 12110000 | R38: 12110000 | S38: 12110000 | T38: 12110000
A39: 1.3.2.10.2. Szenvedélybetegek nappali intézményi ellátása - társulás által történő feladatellátás | C39: 8 | D39: 579400 | E39: 4635 | G39: 8 | H39: 579400 | I39: 4635 | K39: 8 | L39: 579400 | M39: 4635 | N39: =I39-O39 -> -0.2 | O39: =P39/1000 -> 4635.2 | P39: =G39*H39 -> 4635200 | Q39: =G39*H39 -> 4635200 | R39: 4635200 | S39: 4635200 | T39: 4635200
A40: 1.3.3. Bölcsőde, mini böcsőde támogatása
A41: 1.3.3.1. Bölcsődei bértámogatás
A42: 1.3.3.1.1. Felsőfokú végzettségű kisgyermeknevelők, szaktanácsadók bértámogatása | C42: 23.7 | D42: 8522000 | E42: 201971 | G42: 25 | H42: 8522000 | I42: 213050 | K42: 25 | L42: 8522000 | M42: 213050 | N42: =I42-O42 -> 0 | O42: =P42/1000 -> 213050 | P42: =G42*H42 -> 213050000 | Q42: =G42*H42 -> 213050000 | R42: 208789000 | S42: 201971400 | T42: 201971400
A43: -pedagógusok 2025. január 1-jei béremeléséhez | C43: 23.7 | D43: 1775000 | E43: 42068 | G43: 25 | H43: 1775000 | I43: 44375 | K43: 25 | L43: 1775000 | M43: 44375 | N43: =I43-O43 -> 0 | O43: =P43/1000 -> 44375 | P43: =G43*H43 -> 44375000 | Q43: =G43*H43 -> 44375000 | R43: 43487500 | S43: 42067500 | T43: 42067500
A44: 1.3.3.1.2. Bölcsődei dajkák,középfokú végzettségű kisgyermeknevelők, szaktanácsadók bértámogatása | C44: 60.3 | D44: 7338000 | E44: 442481 | G44: 57.9 | H44: 7338000 | I44: 424870 | K44: 57.9 | L44: 7338000 | M44: 424870 | N44: =I44-O44 -> -0.2 | O44: =P44/1000 -> 424870.2 | P44: =G44*H44 -> 424870200 | Q44: =G44*H44 -> 424870200 | R44: 425604000 | S44: 442481400 | T44: 442481400
A45: 1.3.3.2. Bölcsődei üzemeltetési támogatás | E45: 119963 | I45: 94569 | M45: 94569 | N45: =I45-O45 -> 0.732 | O45: =P45/1000 -> 94568.268 | P45: 94568268 | Q45: 119962747 | R45: 119962747 | S45: 119962747 | T45: 119962747
A46: 1.3.4. A települési önk. által biztosított egyes szociális szakosított ellátások, valamint a gyermekek átmeneti gondozásával kapcsolatos feladataok támogatása
A47: 1.3.4.1 Bértámogatása | C47: 35.2 | D47: 7791200 | E47: 274250 | G47: 35.2 | H47: 7791200 | I47: 274250 | K47: 35.2 | L47: 7791200 | M47: 274250 | N47: =I47-O47 -> -0.24 | O47: =P47/1000 -> 274250.24 | P47: =G47*H47 -> 274250240 | Q47: =G47*H47 -> 274250240 | R47: 274250240 | S47: 274250240 | T47: 274250240
A48: 1.3.4.2. Intézmény üzemeltetési támogatás | E48: 28719 | I48: 28719 | M48: 28719 | N48: =I48-O48 -> -0.085 | O48: =P48/1000 -> 28719.085 | P48: 28719085 | Q48: 28718971 | R48: 28718971 | S48: 28718971 | T48: 28718971
A49: 1.4.1. Intézményi gyermekétkeztetés támogatása
A50: 1.4.1.1. Intézményi gyermekétkeztetés bértámogatás | C50: 98.4 | D50: 3924000 | E50: 386122 | G50: 95.18 | H50: 3924000 | I50: 373486 | K50: 95.18 | L50: 3924000 | M50: 373486 | N50: =I50-O50 -> -0.32 | O50: =P50/1000 -> 373486.32 | P50: =G50*H50 -> 373486320 | Q50: =G50*H50 -> 373486320 | R50: 384355800 | S50: 386121600 | T50: 386121600
A51: 1.4.1.2. Intézményi gyermekétkeztetés - üzemeltetési támogatás | E51: 380951 | I51: 516615 | M51: 516615 | N51: =I51-O51 -> 0.082 | O51: =P51/1000 -> 516614.92 | P51: 516614918 | Q51: 422544028 | R51: 422544028 | S51: 380950504 | T51: 380950504
A52: 1.4.2. Szünidei étkeztetés támogatása | C52: 576 | D52: 285 | E52: 164 | G52: 416 | H52: 285 | I52: 119 | K52: 416 | L52: 285 | M52: 119 | N52: =I52-O52 -> 0.44 | O52: =P52/1000 -> 118.56 | P52: =G52*H52 -> 118560 | Q52: =G52*H52 -> 118560 | R52: 158460 | S52: 164160 | T52: 164160
A53: 1.5. A települési önkormányzatok kulturális feladatainak támogatása
A54: 1.5.1. Vármegyeszékhely megyei jogú városok kulturális feladatainak támogatása | B54: 54297 | D54: 964 | E54: 52342 | F54: 54297 | H54: 964 | I54: 52342 | J54: 54297 | L54: 964 | M54: 52342 | N54: =I54-O54 -> -0.308 | O54: =P54/1000 -> 52342.308 | P54: 52342308 | Q54: 52342308 | R54: 52342308 | S54: 52342308 | T54: 52342308
A55: 1.5.5. Vármegyei hatókörű városi könyvtár kistelepülési könyvtári célú kiegészítő támogatása | E55: 176203 | I55: 176203 | M55: 176203 | N55: =I55-O55 -> 0.38 | O55: =P55/1000 -> 176202.62 | P55: 176202620 | Q55: 176202620 | R55: 176202620 | S55: 176202620 | T55: 176202620
A56: 3. melléklet: Helyi önkormányzatok kiegészítő támogatásai
A57: 2.1.5. Önkormányzatok rendkívüli támogatása | I57: 354098 | M57: 354098 | N57: =I57-O57 -> 0.318 | O57: =P57/1000 -> 354097.68 | P57: 354097682 | Q57: 354097682 | R57: 354097682
A58: 2.3.2. Szociális ágazati összevont pótlék és egészségügyi kiegészítő pótlék | I58: 211544 | M58: 211544 | N58: =I58-O58 -> -0.123 | O58: =P58/1000 -> 211544.12 | P58: 211544123 | Q58: 194390793 | R58: 143185570 | S58: 91727557
A59: 2.4.2. Vármegyei hatókörű városi múzeumok feladatainak támogatása (Zalaegerszegi Múzeumok Igazgatósága) | E59: 110200 | I59: 110200 | M59: 110200 | N59: =I59-O59 -> 0 | O59: =P59/1000 -> 110200 | P59: 110200000 | Q59: 110200000 | R59: 110200000 | S59: 110200000 | T59: 110200000
A60: bértámogatás 682/2021. (XII.16.) Korm.rendelet | E60: 40649 | I60: 40649 | M60: 40649 | N60: =I60-O60 -> -0.414 | O60: =P60/1000 -> 40649.414 | P60: 40649414 | Q60: 40649414 | R60: 40649414 | S60: 40649414 | T60: 40649414
A61: 2.4.3. Vármegyei hatáskörű városi könyvtárak feladatainak támogatása (Deák Ferenc Megyei és Városi Könyvtár) | E61: 135000 | I61: 135000 | M61: 135000 | N61: =I61-O61 -> 0 | O61: =P61/1000 -> 135000 | P61: 135000000 | Q61: 135000000 | R61: 135000000 | S61: 135000000 | T61: 135000000
A62: bértámogatás 682/2021. (XII.16.) Korm.rendelet | E62: 35500 | I62: 35500 | M62: 35500 | N62: =I62-O62 -> 0 | O62: =P62/1000 -> 35500 | P62: 35500000 | Q62: 35500000 | R62: 35500000 | S62: 35500000 | T62: 35500000
A63: 2.4.7. Települési önkormányzatok kulturális feladatainak bérjellegű támogatása | E63: 237651 | I63: 239208 | M63: 239208 | N63: =I63-O63 -> 0.383 | O63: =P63/1000 -> 239207.62 | P63: 239207617 | Q63: 239207617 | R63: 239207617 | S63: 239207617 | T63: 237651143
A64: 2.4.8. A települési önkormányzatok könyvtári célú érdekeltségnövelő támogatása | I64: 131 | M64: 131 | N64: =I64-O64 -> 0 | O64: =P64/1000 -> 131 | P64: 131000 | Q64: 131000
A65: 2.4.9. Zalaegerszegi Mindszentyneum működtetési támogatása | E65: 150000 | I65: 150000 | M65: 150000 | N65: =I65-O65 -> 0 | O65: =P65/1000 -> 150000 | P65: 150000000 | Q65: 150000000 | R65: 150000000 | S65: 150000000 | T65: 150000000
A66: 3.1 Vis maior támogatás | I66: 41997 | M66: 41997 | N66: =I66-O66 -> 0.196 | O66: =P66/1000 -> 41996.804 | P66: 41996804 | Q66: 26899750 | R66: 26899750 | S66: 1476720
A67: IX. Helyi önkormányzatok támogatásai fejezet 14. Zalaegerszeg Megyei Jogú Város fejlesztési feladatainak támogatása | I67: 410000 | M67: 410000 | N67: =I67-O67 -> 0 | O67: =P67/1000 -> 410000 | P67: 410000000 | Q67: 410000000 | R67: 410000000 | S67: 410000000
A68: Állami hozzájárulás összesen: | E68: =SUM(E5:E65) -> 6519307 | I68: =SUM(I5:I67) -> 7714874 | M68: =SUM(M5:M67) -> 7714874 | N68: =SUM(N5:N67) -> -0.4022 | O68: =SUM(O5:O67) -> 7714874.4 | P68: =SUM(P5:P67) -> 7.7148744e+09 | Q68: =SUM(Q5:Q67) -> 7.6125875e+09 | R68: =SUM(R5:R67) -> 7570792082 | S68: =SUM(S5:S67) -> 7072976463 | T68: =SUM(T5:T67) -> 6519307472

Sheet 4
A3: Rovat száma | B3: Megnevezés | C3: 2025. évi eredeti előirányzat | D3: 2025. évi módosított előirányzat | E3: 2025. évi teljesítés | F3: Teljesítés %-a
B4: Költségvetési kiadások
A5: K1 | B5: Személyi juttatások | C5: ='9'!D160 -> 7656349 | D5: ='9'!E160 -> 8116811 | E5: ='7'!H17 -> 7650417 | F5: =E5/D5*100 -> 94.253975
A6: K2 | B6: Munkaadókat terhelő járulékok és szociális hj. adó | C6: ='9'!D161 -> 1117509 | D6: ='9'!E161 -> 1155717 | E6: ='7'!I17 -> 1008664 | F6: =E6/D6*100 -> 87.276037
A7: K3 | B7: Dologi kiadások | C7: ='9'!D162 -> 10698899 | D7: ='9'!E162 -> 11659074 | E7: ='7'!J17 -> 8395427 | F7: =E7/D7*100 -> 72.007665
A8: K4 | B8: Ellátottak pénzbeli juttatásai | C8: ='9'!D163 -> 132608 | D8: ='9'!E163 -> 120235 | E8: ='7'!K17 -> 76787 | F8: =E8/D8*100 -> 63.864099
A9: K5 | B9: Egyéb működési célú kiadások | C9: ='9'!D164 -> 6512899 | D9: ='9'!E164 -> 7553452 | E9: ='7'!L17 -> 7024086 | F9: =E9/D9*100 -> 92.991734
B10: Működési kiadások összesen: | C10: =SUM(C5:C9) -> 26118264 | D10: =SUM(D5:D9) -> 28605289 | E10: =SUM(E5:E9) -> 24155381 | F10: =E10/D10*100 -> 84.443758
A11: K6 | B11: Beruházások | C11: ='9'!D165 -> 7540931 | D11: ='9'!E165 -> 11629553 | E11: ='7'!M17 -> 3923577 | F11: =E11/D11*100 -> 33.737986
A12: K7 | B12: Felújítások | C12: ='9'!D166 -> 2950784 | D12: ='9'!E166 -> 5550106 | E12: ='7'!N17 -> 2268540 | F12: =E12/D12*100 -> 40.873814
A13: K8 | B13: Egyéb felhalmozási célú kiadások | C13: ='9'!D167 -> 575452 | D13: ='9'!E167 -> 198084 | E13: ='7'!O17 -> 141381 | F13: =E13/D13*100 -> 71.374265
B14: Felhalmozási kiadások összesen: | C14: =SUM(C11:C13) -> 11067167 | D14: =SUM(D11:D13) -> 17377743 | E14: =SUM(E11:E13) -> 6333498 | F14: =E14/D14*100 -> 36.446033
A15: K1-K8 | B15: Költségvetési kiadások összesen: | C15: =C10+C14 -> 37185431 | D15: =D10+D14 -> 45983032 | E15: =SUM(E14+E10) -> 30488879 | F15: =E15/D15*100 -> 66.304629
A16: K9 | B16: Finanszírozási kiadások | C16: ='9'!D168+'9'!D169 -> 5318563 | D16: ='9'!E168+'9'!E169 -> 5694879 | E16: ='7'!P17+'7'!Q17 -> 4694878 | F16: =E16/D16*100 -> 82.440347
B17: Önkormányzat kiadásai összesen | C17: =SUM(C15:C16) -> 42503994 | D17: =SUM(D15:D16) -> 51677911 | E17: =SUM(E15:E16) -> 35183757 | F17: =E17/D17*100 -> 68.082777

Sheet 5
A1: Cím szám | B1: Alcím szám | C1: Megnevezés | D1: Előirányzat | F1: Teljesítés | H1: Költségvetési bevételek | O1: Finanszírozási bevételek
D2: Eredeti | E2: Módosított | F2: Összege | G2: %-a | H2: Működési célú támogatások áht-n belülről | I2: Felhalmozási célú támogatások áht-n belülről | J2: Közhatalmi bevételek | K2: Működési bevételek | L2: Felhalmozási bevételek | M2: Működési célú átvett pénzeszközök | N2: Felhalmozási célú átvett pénzeszközök | O2: Hitel-, kölcsönfelvétel áht-n kívülről | P2: Maradvány igénybevétele | Q2: Egyéb finanszírozási bevétel
C3: Önkormányzat
B4: 12 | C4: Szociális és igazgatási feladatok | D4: ='6'!E13 -> 24381 | E4: ='6'!F13 -> 24381 | F4: =SUM(H4:Q4) -> 38465 | G4: =F4/E4*100 -> 157.76629 | H4: ='6'!I13 -> 816 | I4: ='6'!J13 -> 0 | J4: ='6'!K13 -> 3802 | K4: ='6'!L13 -> 30514 | L4: ='6'!M13 -> 0 | M4: ='6'!N13 -> 1966 | N4: ='6'!O13 -> 1367 | O4: ='6'!P13 -> 0 | ... Q4: ='6'!R13 -> 0
B5: 13 | C5: Humánigazgatási feladatok | D5: ='6'!E48 -> 375825 | E5: ='6'!F48 -> 424142 | F5: =SUM(H5:Q5) -> 426335 | G5: =F5/E5*100 -> 100.51704 | H5: ='6'!I48 -> 370931 | I5: ='6'!J48 -> 6000 | J5: ='6'!K48 -> 0 | K5: ='6'!L48 -> 9118 | L5: ='6'!M48 -> 0 | M5: ='6'!N48 -> 27062 | N5: ='6'!O48 -> 13224 | O5: ='6'!P48 -> 0 | ... Q5: ='6'!R48 -> 0
B6: 14 | C6: Főépítészi feladatok | D6: ='6'!E53 -> 9131 | E6: ='6'!F53 -> 9131 | F6: =SUM(H6:Q6) -> 5906 | G6: =F6/E6*100 -> 64.680758 | H6: ='6'!I53 -> 0 | I6: ='6'!J53 -> 0 | J6: ='6'!K53 -> 0 | K6: ='6'!L53 -> 1855 | L6: ='6'!M53 -> 0 | M6: ='6'!N53 -> 0 | N6: ='6'!O53 -> 0 | O6: ='6'!P53 -> 0 | ... Q6: ='6'!R53 -> 0
B7: 15 | C7: Városüzemelési felad. | D7: ='6'!E93 -> 841716 | E7: ='6'!F93 -> 953985 | F7: =SUM(H7:Q7) -> 981444 | G7: =F7/E7*100 -> 102.87835 | H7: ='6'!I93 -> 31 | I7: ='6'!J93 -> 0 | J7: ='6'!K93 -> 3163 | K7: ='6'!L93 -> 924249 | L7: ='6'!M93 -> 4000 | M7: ='6'!N93 -> 0 | N7: ='6'!O93 -> 12888 | O7: ='6'!P93 -> 0 | ... Q7: ='6'!R93 -> 0
B8: 16 | C8: Városépítészeti feladatok | D8: ='6'!E140 -> 11670857 | E8: ='6'!F140 -> 17537356 | F8: =SUM(H8:Q8) -> 9034862 | G8: =F8/E8*100 -> 51.517811 | H8: ='6'!I140 -> 31001 | I8: ='6'!J140 -> 816253 | J8: ='6'!K140 -> 0 | K8: ='6'!L140 -> 1183625 | L8: ='6'!M140 -> 0 | M8: ='6'!N140 -> 11693 | N8: ='6'!O140 -> 43807 | O8: ='6'!P140 -> 0 | ... Q8: ='6'!R140 -> 2814000
B9: 17 | C9: Vagyonkez. feladatok | D9: ='6'!E179 -> 1081242 | E9: ='6'!F179 -> 2148309 | F9: =SUM(H9:Q9) -> 2154500 | G9: =F9/E9*100 -> 100.28818 | H9: ='6'!I179 -> 0 | I9: ='6'!J179 -> 0 | J9: ='6'!K179 -> 0 | K9: ='6'!L179 -> 1814858 | L9: ='6'!M179 -> 309701 | M9: ='6'!N179 -> 0 | N9: ='6'!O179 -> 2121 | O9: ='6'!P179 -> 0 | ... Q9: ='6'!R179 -> 20000
B10: 18 | C10: Jogi és közig. feladatok | D10: ='6'!E188 -> 139760 | E10: ='6'!F188 -> 144509 | F10: =SUM(H10:Q10) -> 166332 | G10: =F10/E10*100 -> 115.10148 | H10: ='6'!I188 -> 0 | I10: ='6'!J188 -> 0 | J10: ='6'!K188 -> 117525 | K10: ='6'!L188 -> 48807 | L10: ='6'!M188 -> 0 | M10: ='6'!N188 -> 0 | N10: ='6'!O188 -> 0 | O10: ='6'!P188 -> 0 | ... Q10: ='6'!R188 -> 0
B11: 19 | C11: Pénzügyi lebonyolítás | D11: ='6'!E227 -> 25106264 | E11: ='6'!F227 -> 26239577 | F11: =SUM(H11:Q11) -> 23713837 | G11: =F11/E11*100 -> 90.374311 | H11: ='6'!I227 -> 7141668 | I11: ='6'!J227 -> 41997 | J11: ='6'!K227 -> 9672795 | K11: ='6'!L227 -> 497982 | L11: ='6'!M227 -> 0 | M11: ='6'!N227 -> 44090 | N11: ='6'!O227 -> 4210 | O11: ='6'!P227 -> 0 | ... Q11: ='6'!R227 -> 4020443
B12: 22 | C12: Polgármesteri Kabinet | D12: ='6'!E242 -> 0 | E12: ='6'!F242 -> 23035 | F12: =SUM(H12:Q12) -> 23695 | G12: =F12/E12*100 -> 102.86521 | H12: ='6'!I242 -> 2667 | I12: ='6'!J242 -> 0 | J12: ='6'!K242 -> 0 | K12: ='6'!L242 -> 230 | L12: ='6'!M242 -> 328 | M12: ='6'!N242 -> 20470 | N12: ='6'!O242 -> 0 | O12: ='6'!P242 -> 0 | ... Q12: ='6'!R242 -> 0
C13: Önkormányzat összesen költségvetési szervek nélkül | D13: =SUM(D4:D12) -> 39249176 | E13: =SUM(E4:E12) -> 47504425 | F13: =SUM(F4:F12) -> 36545376 | G13: =F13/E13*100 -> 76.930467 | H13: =SUM(H4:H12) -> 7547114 | I13: =SUM(I4:I12) -> 864250 | J13: =SUM(J4:J12) -> 9797285 | K13: =SUM(K4:K12) -> 4511238 | L13: =SUM(L4:L12) -> 314029 | M13: =SUM(M4:M12) -> 105281 | N13: =SUM(N4:N12) -> 77617 | O13: =SUM(O4:O12) -> 0 | ... Q13: =SUM(Q4:Q12) -> 6854443
A14: 2 | C14: Költségvetési szervek | D14: ='6'!E244 -> 3254818 | E14: ='6'!F244 -> 4173486 | F14: =SUM(H14:Q14) -> 4220233 | G14: =F14/E14*100 -> 101.12009 | H14: ='6'!I244 -> 977978 | I14: ='6'!J244 -> 15910 | J14: ='6'!K244 -> 4150 | K14: ='6'!L244 -> 2224081 | L14: ='6'!M244 -> 4491 | M14: ='6'!N244 -> 2663 | N14: ='6'!O244 -> 988 | O14: ='6'!P244 -> 0 | ... Q14: ='6'!R244 -> 0
C15: Önkormányzat összesen: | D15: =SUM(D13:D14) -> 42503994 | E15: =SUM(E13:E14) -> 51677911 | F15: =SUM(F13:F14) -> 40765609 | G15: =F15/E15*100 -> 78.884011 | H15: =SUM(H13:H14) -> 8525092 | I15: =SUM(I13:I14) -> 880160 | J15: =SUM(J13:J14) -> 9801435 | K15: =SUM(K13:K14) -> 6735319 | L15: =SUM(L13:L14) -> 318520 | M15: =SUM(M13:M14) -> 107944 | N15: =SUM(N13:N14) -> 78605 | O15: =SUM(O13:O14) -> 0 | ... Q15: =SUM(Q13:Q14) -> 6854443
N16: =SUM(H15:N15) -> 26447075 | Q16: =SUM(O15:Q15) -> 14318534
N17: =SUM('7'!H17:O17) -> 30488879 | Q17: =SUM('7'!P17:Q17) -> 4694878
N18: =N16-N17 -> -4041804 | Q18: =Q16-Q17 -> 9623656

Sheet 6
A1: Cím szám | B1: Alcím szám | C1: Megnevezés | D1: Tervezési alapegység | E1: Előirányzat | G1: Teljesítés | I1: Költségvetési bevételek | P1: Finanszírozási bevételek
E2: Eredeti | F2: Módosított | G2: Összege | H2: %-a | I2: Működési célú támogatások áht-n belülről | J2: Felhalmozási célú támogatások áht-n belülről | K2: Közhatalmi bevételek | L2: Működési bevételek | M2: Felhalmozási bevételek | N2: Működési célú átvett pénzeszközök | O2: Felhalmozási célú átvett pénzeszközök | P2: Hitel-, kölcsönfelvétel áht-n kívülről | Q2: Maradvány igénybevétele | R2: Egyéb finanszírozási bevétel
A3: 1 | C3: Önkormányzat
A4: 1 | B4: 1 | C4: Szakosztályok
A5: 1 | B5: 12 | C5: Szociális és igazgatási feladatok
C6: 109010 Szociális szolgáltatás igazgatása
C7: - köztemetés | D7: 121203 | G7: =SUM(I7:R7) -> 2794 | I7: 816 | L7: 12 | N7: 1966
C8: 061030 Lakáshoz jutást segítő támogatások
C9: Családok otthonteremtési kedvezménye (Lakásalap) | D9: 121405 | G9: =SUM(I9:R9) -> 1367 | O9: 1367
C10: 011130 Önkorm. és önkorm. hivatal. jogalk. és ált.ig.tev.
C11: - Egerszeg kártya értékesítés | D11: 221 902 | E11: 24381 | F11: 24381 | G11: =SUM(I11:R11) -> 30502 | H11: =G11/F11*100 -> 125.10562 | L11: 30502
C12: - igazgatási bírság | D12: 121602 | G12: =SUM(I12:R12) -> 3802 | K12: 3802
C13: Szociális és igazgatási feladatok összesen: | E13: =SUM(E3:E12) -> 24381 | F13: =SUM(F3:F12) -> 24381 | G13: =SUM(G3:G12) -> 38465 | H13: =G13/F13*100 -> 157.76629 | I13: =SUM(I3:I12) -> 816 | J13: =SUM(J3:J12) -> 0 | K13: =SUM(K3:K12) -> 3802 | L13: =SUM(L3:L12) -> 30514 | M13: =SUM(M3:M12) -> 0 | N13: =SUM(N3:N12) -> 1966 | O13: =SUM(O3:O12) -> 1367 | P13: =SUM(P3:P12) -> 0 | ... R13: =SUM(R3:R12) -> 0
A14: 1 | B14: 13 | C14: Humánigazgatási feladatok
C15: Oktatási feladatok
C16: 098010 Oktatás igazgatása
C17: - Zalaegerszegi Szakképzési Centrum részére támogatás szakképzési ösztöndíj céljára | D17: 131112 | G17: =SUM(I17:R17) -> 32 | I17: 32
C18: Kulturális és ifjúsági feladatok
C19: 082091 Közművelődés - közösségi és társ. részvétel fejleszt.
C20: - Magyar Kultúra Napja | D20: 131346 | G20: =SUM(I20:R20) -> 88 | I20: 88
C21: Egerszegi Advent megvalósítása | D21: 131329 | F21: 7361 | G21: =SUM(I21:R21) -> 7261 | H21: =G21/F21*100 -> 98.641489 | N21: 7261
C22: - Szelestey hagyaték felvásárlásához támogatás | D22: 132941 | F22: 6000 | G22: =SUM(I22:R22) -> 6000 | H22: =G22/F22*100 -> 100 | J22: 6000
C23: Egészséges Zalaegerszeg Program indítása | D23: 131721 | F23: 3435 | G23: =SUM(I23:R23) -> 3435 | H23: =G23/F23*100 -> 100 | N23: 3435
C24: Magyarország ifjúsági fővárosa | D24: 131365 | F24: 3000 | G24: =SUM(I24:R24) -> 3000 | H24: =G24/F24*100 -> 100 | I24: 3000
C25: - Zalaegerszegi Rendezvényszervező Kft. működési támogatásának visszafizetése | D25: 131313 | F25: 9586 | G25: =SUM(I25:R25) -> 9586 | H25: =G25/F25*100 -> 100 | N25: 9586
C26: 084031 Civil szervezetek műk. támogatása
C27: - önálló kulturális egyesületek, együttesek | D27: 131403 | G27: =SUM(I27:R27) -> 100 | N27: 100
C28: 018030 Támogatási célú finanszírozási műveletek
C29: - Hevesi Sándor Színház társműködtetöi támogatás | D29: 131508 | E29: 288500 | F29: 72125 | G29: =SUM(I29:R29) -> 72125 | H29: =G29/F29*100 -> 100 | I29: 72125
C30: - Griff Bábszínház társműködtetöi támogatás | D30: 131509 | E30: 65000 | F30: 16250 | G30: =SUM(I30:R30) -> 16250 | H30: =G30/F30*100 -> 100 | I30: 16250
C31: - Mindszentyneum működési támogatás | D31: 131513 | F31: 150000 | G31: =SUM(I31:R31) -> 150000 | H31: =G31/F31*100 -> 100 | I31: 150000
C32: Egészségügyi és humánigazgatási feladatok
C33: 101211 Fogyatékossággal élők tartós bentlakásos ellátása
C34: - Református Egyház által fizetendő bérleti díj | D34: 131703 | E34: 9101 | F34: 9101 | G34: =SUM(I34:R34) -> 9118 | H34: =G34/F34*100 -> 100.18679 | L34: 9118
C35: 102023 Időskorúak tartós bentlakásos ellátása
C36: - Idősek Otthona férőhely megváltás | D36: 121319 | F36: 8760 | G36: =SUM(I36:R36) -> 6570 | H36: =G36/F36*100 -> 75 | N36: 6570
C37: 109010 Szociális szolgáltatás igazgatása
C38: - Városi Idősügyi Tanács feladatai | D38: 131706 | G38: =SUM(I38:R38) -> 10 | N38: 10
C39: 104031 Gyermekek bölcsődében, minibölcsődében történő ellátása
C40: - Bölcsődei ellátás biztosítása (Söjtör Önkorm.) | D40: 131717 | F40: 5300 | G40: =SUM(I40:R40) -> 9436 | H40: =G40/F40*100 -> 178.03774 | I40: 9436
C41: Sport feladatok
C42: 081041 Versenysport- és utánpótlás-nevelési tevékenység
C43: - Andráshidai TE részére TAO támogatás megelőlegezés visszafizetése | D43: 132949 | E43: 13224 | F43: 13224 | G43: =SUM(I43:R43) -> 13224 | H43: =G43/F43*100 -> 100 | O43: 13224
C44: 081045 Szabadidősport-tevékenység és támogatása
C45: - szabadidősport klubok támogatása | D45: 131811 | G45: =SUM(I45:R45) -> 100 | N45: 100
C46: 081030 Sportlétes., edzőtáborok működtetése és fejlesztése
C47: - Zalaegerszegi Sport és Tanuszoda műk. támogatása a Honvédelmi Minisztériumtól | D47: 191801 | F47: 120000 | G47: =SUM(I47:R47) -> 120000 | H47: =G47/F47*100 -> 100 | I47: 120000
C48: Humánigazgatási feladatok összesen: | E48: =SUM(E14:E47) -> 375825 | F48: =SUM(F14:F47) -> 424142 | G48: =SUM(G14:G47) -> 426335 | H48: =G48/F48*100 -> 100.51704 | I48: =SUM(I14:I47) -> 370931 | J48: =SUM(J14:J47) -> 6000 | K48: =SUM(K14:K47) -> 0 | L48: =SUM(L14:L47) -> 9118 | M48: =SUM(M14:M47) -> 0 | N48: =SUM(N14:N47) -> 27062 | O48: =SUM(O14:O47) -> 13224 | P48: =SUM(P14:P47) -> 0 | ... R48: =SUM(R14:R47) -> 0
A49: 1 | B49: 14 | C49: Főépítészi feladatok
C50: 013350 Önkormányzati vagyonnal való gazdálkodáshoz kapcsolódó feladatok
C51: - belterületbe vonással kapcsolatos bevétel | D51: 171967 | E51: 5080 | F51: 5080 | G51: =SUM(I51:R51) -> 1855 | H51: =G51/F51*100 -> 36.515748 | L51: 1855
C52: - Helyi építészeti értékek védelme alap | D52: 164903 | E52: 4051 | F52: 4051 | G52: =SUM(I52:R52) -> 4051 | H52: =G52/F52*100 -> 100 | Q52: 4051
C53: Főépítészi feladatok összesen: | E53: =SUM(E49:E52) -> 9131 | F53: =SUM(F49:F52) -> 9131 | G53: =SUM(G49:G52) -> 5906 | H53: =G53/F53*100 -> 64.680758 | I53: =SUM(I49:I52) -> 0 | J53: =SUM(J49:J52) -> 0 | K53: =SUM(K49:K52) -> 0 | L53: =SUM(L49:L52) -> 1855 | M53: =SUM(M49:M52) -> 0 | N53: =SUM(N49:N52) -> 0 | O53: =SUM(O49:O52) -> 0 | P53: =SUM(P49:P52) -> 0 | ... R53: =SUM(R49:R52) -> 0
A54: 1 | B54: 15 | C54: Városüzemelési feladatok
C55: 081061 Szabadidős park, fürdő és strandszolgáltatás
C56: - Gébárti fürdő lét. üzemeltetése | D56: 151906 | E56: 17780 | F56: 13824 | G56: =SUM(I56:R56) -> 13824 | H56: =G56/F56*100 -> 100 | L56: 13824
C57: - Aquapark üzemeltetés | D57: 151907 | E57: 266700 | F57: 254159 | G57: =SUM(I57:R57) -> 254967 | H57: =G57/F57*100 -> 100.31791 | L57: 254967
C58: - Gébárti kemping, fedett fürdő földhasználat | D58: 151909 | F58: 15874 | G58: =SUM(I58:R58) -> 15936 | H58: =G58/F58*100 -> 100.39058 | L58: 15936
C59: - Aquacity és egyéb gébárti létesítmények felújítása | D59: 162903 | G59: =SUM(I59:R59) -> 11930 | L59: 11930
C60: 063020 Víztermelés, -kezelés, -ellátás
C61: - települési vízellátás | D61: 151301 | G61: =SUM(I61:R61) -> 608 | L61: 608
C62: - Önkormányzati Társulás Zalaegerszeg és térsége ivóvízminőségének javítására műk. támogatás | D62: 151323 | G62: =SUM(I62:R62) -> 31 | I62: 31
C63: 066010 Zöldterület kezelés
C64: - faértékesítés bevétele | D64: 152908 | E64: 1270 | F64: 1270 | G64: =SUM(I64:R64) -> 229 | H64: =G64/F64*100 -> 18.031496 | L64: 229
C65: - haszonbérleti szerződések, kishaszonbérlet | D65: 151506 | E65: 635 | F65: 682 | G65: =SUM(I65:R65) -> 3316 | H65: =G65/F65*100 -> 486.21701 | L65: 3316
C66: - környezetvéd.alap feltöltése | D66: 151607 | E66: 37113 | F66: 37113 | G66: =SUM(I66:R66) -> 37468 | H66: =G66/F66*100 -> 100.95654 | K66: 355 | Q66: 37113
C67: 042180 Állategészségügy
C68: - állategészségügyi tevékenység | D68: 151902 | E68: 3175 | F68: 3175 | G68: =SUM(I68:R68) -> 5783 | H68: =G68/F68*100 -> 182.14173 | K68: 2793 | L68: 2990
C69: - Ebrendészeti telep felújításához támogatás a Közös ügyünk az állatvédelem Alapítványtól | D69: 154908 | F69: 10916 | G69: =SUM(I69:R69) -> 10916 | H69: =G69/F69*100 -> 100 | O69: 10916
C70: 066020 Város-, községgazdálkodási egyéb szolgáltatás
C71: - Zalai Közszolgáltató Nonprofit Kft. bérleti díj | D71: 151701 | E71: 4318 | F71: 4318 | G71: =SUM(I71:R71) -> 2452 | H71: =G71/F71*100 -> 56.785549 | L71: 2452
C72: - köztisztaság szerződéses munkák | D72: 151603 | E72: 44000 | F72: 67975 | G72: =SUM(I72:R72) -> 67976 | H72: =G72/F72*100 -> 100.00147 | L72: 67976
C73: - közművesítési hozzájárulás | D73: 151611 | F73: 15951 | G73: =SUM(I73:R73) -> 15926 | H73: =G73/F73*100 -> 99.84327 | L73: 15926
C74: 045120 Út, autópálya építése
C75: - parkolómegváltás bevétele | D75: 152442 | F75: 5080 | G75: =SUM(I75:R75) -> 5080 | H75: =G75/F75*100 -> 100 | L75: 1080 | M75: 4000
C76: - Batsányi J.u. Jókai M.u. és Pintér M.u.közti, déli oldali járdaszakaszának felújítása | D76: 154401 | F76: 1971 | G76: =SUM(I76:R76) -> 1972 | H76: =G76/F76*100 -> 100.05074 | O76: 1972
C77: 045170 Parkoló, garázs üzemeltetése, fenntartása
C78: - parkolási közszolgáltatási tevékenység ellátásával kapcsolatos bevétel | D78: 151910 | E78: 466725 | F78: 486972 | G78: =SUM(I78:R78) -> 494458 | H78: =G78/F78*100 -> 101.53725 | L78: 494458
C79: 064010 Közvilágítás
C80: - közvilágítás villamosenergia vásárlás | D80: 151201 | F80: 31200 | G80: =SUM(I80:R80) -> 31210 | H80: =G80/F80*100 -> 100.03205 | L80: 31210
C81: - egyéb villamosenergia vásárlás | D81: 151209 | G81: =SUM(I81:R81) -> 788 | L81: 788
C82: 045160 Közutak, hidak, alagutak üzemeltetése, fenntartása
C83: - helyi utak, hidak fenntartása | D83: 151401 | F83: 3505 | G83: =SUM(I83:R83) -> 5935 | H83: =G83/F83*100 -> 169.32953 | L83: 5935
C84: - forgalomtechnikai és közlekedési feladatok | D84: 151402 | G84: =SUM(I84:R84) -> 390 | L84: 390
C85: - utastájékoztatási rendszer üzemeltetése | D85: 151407 | G85: =SUM(I85:R85) -> 47 | L85: 47
C86: 066020 Város-, községgazdálkodási egyéb szolgáltatás
C87: - egyéb város és községgazd. | D87: 151601 | G87: =SUM(I87:R87) -> 37 | K87: 15 | L87: 22
C88: - nyilvános illemhely üzemeltetése | D88: 151631 | G88: =SUM(I88:R88) -> 42 | L88: 42
C89: - kéményseprési díj | D89: 151633 | G89: =SUM(I89:R89) -> 82 | L89: 82
C90: - közműnyilvántartásból származó bevétel | D90: 151634 | G90: =SUM(I90:R90) -> 17 | L90: 17
C91: 051040 Nem veszélyes hulladék kezelése, ártalmatlanítása
C92: - Buslakpusztai bezárt hulladéklerakó szennyezés lokalizációja létesítmény üzemeltetés | D92: 152915 | G92: =SUM(I92:R92) -> 24 | L92: 24
C93: Városüzemelési feladatok összesen: | E93: =SUM(E54:E92) -> 841716 | F93: =SUM(F54:F92) -> 953985 | G93: =SUM(G54:G92) -> 981444 | H93: =G93/F93*100 -> 102.87835 | I93: =SUM(I54:I92) -> 31 | J93: =SUM(J54:J92) -> 0 | K93: =SUM(K54:K92) -> 3163 | L93: =SUM(L54:L92) -> 924249 | M93: =SUM(M54:M92) -> 4000 | N93: =SUM(N54:N92) -> 0 | O93: =SUM(O54:O92) -> 12888 | P93: =SUM(P54:P92) -> 0 | ... R93: =SUM(R54:R92) -> 0
A94: 1 | B94: 16. | C94: Városépítészeti feladatok
C95: 052020 Szennyvíz gyűjtése, tisztítása, elhelyezése
C96: - ZALAVÍZ Zrt. nem víziközmű után fizetendő bérleti díj | D96: 161909 | E96: 111439 | F96: 109840 | G96: =SUM(I96:R96) -> 90013 | H96: =G96/F96*100 -> 81.949199 | L96: 39706 | Q96: 50307
C97: - szennyvíz vagyon használati díja és Áfa visszaig. | D97: 164106 | E97: 691692 | F97: 679254 | G97: =SUM(I97:R97) -> 557307 | H97: =G97/F97*100 -> 82.046922 | L97: 532511 | Q97: 24796
C98: - ivóvíz vagyon használati díja és Áfa visszaig.+ KIEFO | D98: 164204 | E98: 194838 | F98: 208993 | G98: =SUM(I98:R98) -> 191555 | H98: =G98/F98*100 -> 91.65618 | L98: 176174 | Q98: 15381
C99: - Zalaegerszeg nyugati vízbázisról ellátott települések ívóvízminőségének javítása KEHOP projekt | D99: 164206 | E99: 2951 | F99: 2951 | G99: =SUM(I99:R99) -> 135 | H99: =G99/F99*100 -> 4.5747204 | Q99: 135
C100: - VÁRA-ÉMI 2020-001 Szennyvíz Gépészet Projekt | D100: 164109 | E100: 19173 | F100: 19173 | G100: =SUM(I100:R100) -> 0 | H100: =G100/F100*100 -> 0
...

Sheet 7
A1: Cím szám | B1: Alcím szám | C1: Megnevezés | D1: Előirányzat | F1: Teljesítés | H1: Költségvetési kiadások | P1: Finanszírozási kiadások
D2: Eredeti | E2: Módosított | F2: Összege | G2: %-a | H2: Személyi juttatások | I2: Munkaadókat terhelő járulékok és szociális hj.adó | J2: Dologi kiadások | K2: Ellátottak pénzbeli juttatásai | L2: Egyéb működési célú kiadások | M2: Beruházások | N2: Felújítások | O2: Egyéb felhalmo-zási célú kiadások | P2: Hitel-, kölcsöntör-lesztés áht-n kívülre | Q2: Egyéb finanszírozási kiadás
A3: 1 | C3: Önkormányzat
A4: 1 | B4: 1 | C4: Szakosztályok
B5: 12 | C5: Szociális és igazgatási feladatok | D5: ='8'!G48 -> 229592 | E5: ='8'!H48 -> 184109 | F5: =SUM(H5:Q5) -> 116193 | G5: =F5/E5*100 -> 63.110983 | H5: ='8'!K42 -> 0 | I5: ='8'!L42 -> 2524 | J5: ='8'!M42 -> 50752 | K5: ='8'!N42 -> 57674 | L5: ='8'!O42 -> 5243 | M5: ='8'!P42 -> 0 | N5: ='8'!Q42 -> 0 | O5: ='8'!R42 -> 0 | ... Q5: ='8'!T42 -> 0
B6: 13 | C6: Humánigazgatási feladatok | D6: ='8'!G212 -> 1957638 | E6: ='8'!H212 -> 2162209 | F6: =SUM(H6:Q6) -> 2052204 | G6: =F6/E6*100 -> 94.912379 | H6: ='8'!K212 -> 9846 | I6: ='8'!L212 -> 2279 | J6: ='8'!M212 -> 64462 | K6: ='8'!N212 -> 10550 | L6: ='8'!O212 -> 1805886 | M6: ='8'!P212 -> 14971 | N6: ='8'!Q212 -> 122119 | O6: ='8'!R212 -> 22091 | ... Q6: ='8'!T212 -> 0
B7: 14 | C7: Főépítészi feladatok | D7: ='8'!G224 -> 48793 | E7: ='8'!H224 -> 38993 | F7: =SUM(H7:Q7) -> 21174 | G7: =F7/E7*100 -> 54.302054 | H7: ='8'!K224 -> 0 | I7: ='8'!L224 -> 0 | J7: ='8'!M224 -> 3338 | K7: ='8'!N224 -> 0 | L7: ='8'!O224 -> 0 | M7: ='8'!P224 -> 7785 | N7: ='8'!Q224 -> 0 | O7: ='8'!R224 -> 10051 | ... Q7: ='8'!T224 -> 0
B8: 15 | C8: Városüzemelési feladatok | D8: ='8'!G383 -> 3974143 | E8: ='8'!H383 -> 4577651 | F8: =SUM(H8:Q8) -> 3968637 | G8: =F8/E8*100 -> 86.695928 | H8: ='8'!K383 -> 16488 | I8: ='8'!L383 -> 2275 | J8: ='8'!M383 -> 2317852 | K8: ='8'!N383 -> 0 | L8: ='8'!O383 -> 1225085 | M8: ='8'!P383 -> 235977 | N8: ='8'!Q383 -> 170524 | O8: ='8'!R383 -> 436 | ... Q8: ='8'!T383 -> 0
B9: 16 | C9: Városépítészeti feladatok | D9: ='8'!G515 -> 12578048 | E9: ='8'!H515 -> 18775553 | F9: =SUM(H9:Q9) -> 6641386 | G9: =F9/E9*100 -> 35.372519 | H9: ='8'!K515 -> 98 | I9: ='8'!L515 -> 34 | J9: ='8'!M515 -> 1078315 | K9: ='8'!N515 -> 0 | L9: ='8'!O515 -> 357871 | M9: ='8'!P515 -> 3289187 | N9: ='8'!Q515 -> 1883478 | O9: ='8'!R515 -> 32403 | ... Q9: ='8'!T515 -> 0
B10: 17 | C10: Vagyonkezelési feladatok | D10: ='8'!G533 -> 182507 | E10: ='8'!H533 -> 261913 | F10: =SUM(H10:Q10) -> 219458 | G10: =F10/E10*100 -> 83.790419 | H10: ='8'!K533 -> 0 | I10: ='8'!L533 -> 0 | J10: ='8'!M533 -> 95473 | K10: ='8'!N533 -> 0 | L10: ='8'!O533 -> 0 | M10: ='8'!P533 -> 68676 | N10: ='8'!Q533 -> 2309 | O10: ='8'!R533 -> 53000 | ... Q10: ='8'!T533 -> 0
B11: 18 | C11: Jogi és közig.feladatok | D11: ='8'!G561 -> 684446 | E11: ='8'!H561 -> 696111 | F11: =SUM(H11:Q11) -> 606309 | G11: =F11/E11*100 -> 87.099471 | H11: ='8'!K561 -> 386358 | I11: ='8'!L561 -> 41488 | J11: ='8'!M561 -> 155963 | K11: ='8'!N561 -> 0 | L11: ='8'!O561 -> 15268 | M11: ='8'!P561 -> 5542 | N11: ='8'!Q561 -> 1690 | O11: ='8'!R561 -> 0 | ... Q11: ='8'!T561 -> 0
B12: 19 | C12: Pénzügyi lebonyolítás | D12: ='8'!G594 -> 8879771 | E12: ='8'!H594 -> 9578085 | F12: =SUM(H12:Q12) -> 8470860 | G12: =F12/E12*100 -> 88.440017 | H12: ='8'!K594 -> 0 | I12: ='8'!L594 -> 0 | J12: ='8'!M594 -> 598047 | K12: ='8'!N594 -> 0 | L12: ='8'!O594 -> 3175935 | M12: ='8'!P594 -> 0 | N12: ='8'!Q594 -> 0 | O12: ='8'!R594 -> 2000 | ... Q12: ='8'!T594 -> 4577027
B13: 21 | C13: Polgármesteri Kabinet kiadásai | D13: ='8'!G639 -> 745888 | E13: ='8'!H639 -> 790851 | F13: =SUM(H13:Q13) -> 672658 | G13: =F13/E13*100 -> 85.05496 | H13: ='8'!K639 -> 61993 | I13: ='8'!L639 -> 18640 | J13: ='8'!M639 -> 150768 | K13: ='8'!N639 -> 0 | L13: ='8'!O639 -> 411239 | M13: ='8'!P639 -> 8618 | N13: ='8'!Q639 -> 0 | O13: ='8'!R639 -> 21400 | ... Q13: ='8'!T639 -> 0
B14: 30 | C14: Tartalékok | D14: ='8'!G655 -> 866585 | E14: ='8'!H655 -> 1236917 | F14: =SUM(H14:Q14) -> 0 | G14: =F14/E14*100 -> 0 | H14: ='8'!K655 -> 0 | I14: ='8'!L655 -> 0 | J14: ='8'!M655 -> 0 | K14: ='8'!N655 -> 0 | L14: ='8'!O655 -> 0 | M14: ='8'!P655 -> 0 | N14: ='8'!Q655 -> 0 | O14: ='8'!R655 -> 0 | ... Q14: ='8'!T655 -> 0
C15: Önkormányzat összesen költségvetési szervek nélkül | D15: =SUM(D5:D14) -> 30147411 | E15: =SUM(E5:E14) -> 38302392 | F15: =SUM(F5:F14) -> 22768879 | G15: =F15/E15*100 -> 59.445058 | H15: =SUM(H3:H14) -> 474783 | I15: =SUM(I3:I14) -> 67240 | J15: =SUM(J5:J14) -> 4514970 | K15: =SUM(K5:K14) -> 68224 | L15: =SUM(L5:L14) -> 6996527 | M15: =SUM(M5:M14) -> 3630756 | N15: =SUM(N5:N14) -> 2180120 | O15: =SUM(O5:O14) -> 141381 | P15: =SUM(P5:P14) -> 117851 | Q15: =SUM(Q5:Q14) -> 4577027
A16: 2 | C16: Költségvetési szervek | D16: ='8'!G657 -> 12356583 | E16: ='8'!H657 -> 13375519 | F16: =SUM(H16:Q16) -> 12414878 | G16: =F16/E16*100 -> 92.817916 | H16: ='8'!K657 -> 7175634 | I16: ='8'!L657 -> 941424 | J16: ='8'!M657 -> 3880457 | K16: ='8'!N657 -> 8563 | L16: ='8'!O657 -> 27559 | M16: ='8'!P657 -> 292821 | N16: ='8'!Q657 -> 88420 | O16: ='8'!R657 -> 0 | ... Q16: ='8'!T657 -> 0
C17: Önkormányzat összesen: | D17: =SUM(D15:D16) -> 42503994 | E17: =SUM(E15:E16) -> 51677911 | F17: =SUM(F15:F16) -> 35183757 | G17: =F17/E17*100 -> 68.082777 | H17: =SUM(H15:H16) -> 7650417 | I17: =SUM(I15:I16) -> 1008664 | J17: =SUM(J15:J16) -> 8395427 | K17: =SUM(K15:K16) -> 76787 | L17: =SUM(L15:L16) -> 7024086 | M17: =SUM(M15:M16) -> 3923577 | N17: =SUM(N15:N16) -> 2268540 | O17: =SUM(O15:O16) -> 141381 | ... Q17: =SUM(Q15:Q16) -> 4577027
O18: =SUM(H17:O17) -> 30488879

Sheet 8
A1: Cím szám | B1: Alcím szám | C1: Sorszám | D1: Megnevezés | E1: feladat jellege | F1: Tervezési alapegység | G1: Előirányzat | I1: Teljesítés | K1: Költségvetési kiadások | S1: Finanszírozási kiadások
G2: Eredeti | H2: Módosított | I2: Összege | J2: %-a | K2: Személyi juttatások | L2: Munkaadókat terhelő járulékok és szociális hj.adó | M2: Dologi kiadások | N2: Ellátottak pénzbeli juttatásai | O2: Egyéb működési célú kiadások | P2: Beruházások | Q2: Felújítások | R2: Egyéb felhalmozási célú kiadások | S2: Hitel-, kölcsöntör-lesztés áht-n kívülre | T2: Egyéb finanszírozási kiadás
A3: 1 | D3: Önkormányzat
A4: 1 | B4: 1 | D4: Szakosztályok
A5: 1 | B5: 12 | D5: Szociális és igazgatási feladatok
D6: 105010 Munkanélküli aktív korúak ellátásai
D7: - megélhetési támogatás | E7: 2 | F7: 121103 | G7: 5000 | H7: 5000 | I7: =SUM(K7:T7) -> 2015 | J7: =I7/H7*100 -> 40.3 | N7: 2015
D8: 106020 Lakásfenntartással, lakhatással összefüggő ellátások
D9: - lakásfenntartási segély | E9: 2 | F9: 121104 | G9: 20000 | H9: 20000 | I9: =SUM(K9:T9) -> 12871 | J9: =I9/H9*100 -> 64.355 | N9: 12871
D10: - önkormányzati bérlakásban élők lakásfenntartási segélye Lakásalapból | E10: 2 | F10: 121117 | G10: 18738 | H10: 9000 | I10: =SUM(K10:T10) -> 5534 | J10: =I10/H10*100 -> 61.488889 | N10: 5534
D11: - gázártámogatás | E11: 2 | F11: 121202 | G11: 5700 | H11: 2950 | I11: =SUM(K11:T11) -> 165 | J11: =I11/H11*100 -> 5.5932203 | N11: 165
D12: - villamosenergia támogatás | E12: 2 | F12: 121205 | G12: 5700 | H12: 3200 | I12: =SUM(K12:T12) -> 43 | J12: =I12/H12*100 -> 1.34375 | N12: 43
D13: 107060 Egyéb szociális pénzbeli ellátások, támogatások
D14: - gyermekétkeztetési támogatás | E14: 2 | F14: 121111 | G14: 2000 | H14: 2000 | I14: =SUM(K14:T14) -> 1517 | J14: =I14/H14*100 -> 75.85 | N14: 1517
D15: - átmeneti segély | E15: 2 | F15: 121127 | G15: 4000 | H15: 6000 | I15: =SUM(K15:T15) -> 5475 | J15: =I15/H15*100 -> 91.25 | N15: 5475
D16: - egyszeri nevelési juttatás | E16: 2 | F16: 121115 | G16: 700 | H16: 2700 | I16: =SUM(K16:T16) -> 2314 | J16: =I16/H16*100 -> 85.703704 | N16: 2314
D17: - szociális krízis alap | E17: 2 | F17: 121129 | G17: 3600 | H17: 3600 | I17: =SUM(K17:T17) -> 2299 | J17: =I17/H17*100 -> 63.861111 | N17: 2299
D18: - tüzifa támogatás | E18: 2 | F18: 121106 | G18: 3000 | H18: 5000 | I18: =SUM(K18:T18) -> 4189 | J18: =I18/H18*100 -> 83.78 | N18: 4189
D19: 103010 Elhunyt személyek hátramaradottainak pénzbeli ellátása
D20: - temetési segély | E20: 2 | F20: 121131 | G20: 2000 | H20: 2000 | I20: =SUM(K20:T20) -> 1624 | J20: =I20/H20*100 -> 81.2 | N20: 1624
D21: 106020 Lakásfenntartással, lakhatással összefüggő ellátások
D22: - lakhatási krízis alap Lakásalapból | E22: 2 | F22: 121130 | G22: 3000 | H22: 1000 | I22: =SUM(K22:T22) -> 0 | J22: =I22/H22*100 -> 0
D23: 107060 Egyéb szociális pénzbeli ellátások, támogatások
D24: - gyógyszertámogatás | E24: 1 | F24: 121204 | G24: 14000 | H24: 12000 | I24: =SUM(K24:T24) -> 6157 | J24: =I24/H24*100 -> 51.308333 | N24: 6157
D25: - gyógyászati segédeszköz támogatás | E25: 1 | F25: 121132 | G25: 750 | H25: 1500 | I25: =SUM(K25:T25) -> 957 | J25: =I25/H25*100 -> 63.8 | N25: 957
D26: - köztemetés | E26: 1 | F26: 121203 | G26: 6500 | H26: 6500 | I26: =SUM(K26:T26) -> 5358 | J26: =I26/H26*100 -> 82.430769 | M26: 1098 | N26: 4067 | O26: 193
D27: 094260 Hallgatói és oktatói ösztöndíjak, egyéb juttatások
D28: - Bursa Hungarica ösztöndíj | E28: 2 | F28: 121504 | G28: 4000 | H28: 4000 | I28: =SUM(K28:T28) -> 2050 | J28: =I28/H28*100 -> 51.25 | O28: 2050
D29: 061030 Lakáshoz jutást segítő támogatások
D30: - lakásgazdálkodási feladatokra | E30: 1 | F30: 121403 | G30: 50 | H30: 50 | I30: =SUM(K30:T30) -> 0 | J30: =I30/H30*100 -> 0
D31: 104042 Család- és gyermekjóléti szolgálat
D32: - Családsegítő Szolgálathoz krízissegélyezés | E32: 1 | F32: 121301 | G32: 2500 | H32: 0 | I32: =SUM(K32:T32) -> 0
D33: 011130 Önkorm. és önkorm. hivatal. jogalk. és ált.ig.tev.
D34: - Egerszegkártya | E34: 2 | F34: 221902 | G34: 74335 | H34: 67889 | I34: =SUM(K34:T34) -> 49425 | J34: =I34/H34*100 -> 72.802663 | M34: 49425
D35: - Nemzedékek kézfogása | E35: 2 | F35: 22190** | G35: 22320 | H35: 22820 | I35: =SUM(K35:T35) -> 11167 | J35: =I35/H35*100 -> 48.935145 | L35: 2524 | M35: 196 | N35: 8447
D36: - bírtokvédelmi költség megelőlegezés | E36: 1 | F36: 121118 | G36: 200 | H36: 200 | I36: =SUM(K36:T36) -> 0 | J36: =I36/H36*100 -> 0
D37: - talált tárgyak felértékeltetése | E37: 1 | F37: 121515 | G37: 200 | H37: 200 | I37: =SUM(K37:T37) -> 0 | J37: =I37/H37*100 -> 0
D38: 032020 Tűz- és katasztrófavéd. tevékenység
D39: - helyi védelmi igazgatás | E39: 1 | F39: 121601 | G39: 500 | H39: 500 | I39: =SUM(K39:T39) -> 33 | J39: =I39/H39*100 -> 6.6 | M39: 33
D40: 109010 Szociális szolgáltatás igazgatása
D41: - "Lakhatásért" Közalapítvány támogatása | E41: 2 | F41: 121517 | G41: 3000 | H41: 3000 | I41: =SUM(K41:T41) -> 3000 | J41: =I41/H41*100 -> 100 | O41: 3000
D42: Szociális és igazgatási fa.működési kiadás összesen: | G42: =SUM(G3:G41) -> 201793 | H42: =SUM(H3:H41) -> 181109 | I42: =SUM(I3:I41) -> 116193 | J42: =I42/H42*100 -> 64.156392 | K42: =SUM(K3:K41) -> 0 | L42: =SUM(L3:L41) -> 2524 | M42: =SUM(M3:M41) -> 50752 | N42: =SUM(N3:N41) -> 57674 | O42: =SUM(O3:O41) -> 5243 | P42: =SUM(P3:P41) -> 0 | Q42: =SUM(Q3:Q41) -> 0 | R42: =SUM(R3:R41) -> 0 | ... T42: =SUM(T3:T41) -> 0
D43: Beruházási és felújítási kiadások: | I43: =SUM(K43:T43) -> 0
C44: 1./1 | D44: Önkormányzat által nyújtott lakástámogatás első lakáshoz jutók részére (Lakásalapból) | F44: 121401 | G44: 21200 | H44: 2000 | I44: =SUM(K44:T44) -> 0 | J44: =I44/H44*100 -> 0
D45: 2024. évről áthúzódó feladat
C46: 1.a/1 | D46: Családok otthonteremtési kedvezménye (Lakásalap) | F46: 121405 | G46: 2780 | H46: 1000 | I46: =SUM(K46:T46) -> 0 | J46: =I46/H46*100 -> 0
C47: 1.a/2 | D47: Kamatmentes kölcsön az ideiglenesen nehéz helyzetbe került zeg-i polgárok számára (Lakásalapból) | F47: 121402 | G47: 3819 | H47: 0 | I47: =SUM(K47:T47) -> 0
D48: Szociális és igazgatási fa. kiadásai összesen: | G48: =SUM(G42:G47) -> 229592 | H48: =SUM(H42:H47) -> 184109 | I48: =SUM(I42:I47) -> 116193 | J48: =I48/H48*100 -> 63.110983 | K48: =SUM(K42:K47) -> 0 | L48: =SUM(L42:L47) -> 2524 | M48: =SUM(M42:M47) -> 50752 | N48: =SUM(N42:N47) -> 57674 | O48: =SUM(O42:O47) -> 5243 | P48: =SUM(P42:P47) -> 0 | Q48: =SUM(Q42:Q47) -> 0 | R48: =SUM(R42:R47) -> 0 | ... T48: =SUM(T42:T47) -> 0
A49: 1 | B49: 13 | D49: Humánigazgatási feladatok
D50: Oktatási feladatok
D51: 098010 Oktatás igazgatása
D52: - Zalaegerszegi Szakképzési Centrum részére támogatás szakképzési ösztöndíj céljára | E52: 2 | F52: 131112 | G52: 17000 | H52: 17000 | I52: =SUM(K52:T52) -> 17000 | J52: =I52/H52*100 -> 100 | O52: 17000
D53: - intézmények és civil szervezetek támogatása, rendezvényeik finanszírozása | E53: 2 | F53: 131123 | G53: 3000 | H53: 3000 | I53: =SUM(K53:T53) -> 2845 | J53: =I53/H53*100 -> 94.833333 | O53: 2845
D54: - pedagógusnapi rendezvény szervezése | E54: 2 | F54: 131212 | G54: 1100 | H54: 1472 | I54: =SUM(K54:T54) -> 1256 | J54: =I54/H54*100 -> 85.326087 | K54: 695 | L54: 287 | M54: 274
D55: - díszokleveles pedagógusok ünnepsége és jutalmazása | E55: 2 | F55: 131122 | G55: 2000 | H55: 943 | I55: =SUM(K55:T55) -> 930 | J55: =I55/H55*100 -> 98.621421 | K55: 809 | L55: 114 | M55: 7
D56: - Zeg.Felsőfokú Oktatásáért Közalapítvány támogatása | E56: 2 | F56: 131107 | G56: 45000 | H56: 45000 | I56: =SUM(K56:T56) -> 45000 | J56: =I56/H56*100 -> 100 | O56: 45000
D57: - nyári táboroztatás | E57: 2 | F57: 131128 | G57: 11000 | H57: 0 | I57: =SUM(K57:T57) -> 0
D58: - Nemzeti Orvosbiológiai Alapítvány tudósképző akadémia programjának támogatása | E58: 2 | F58: 131129 | G58: 2500 | H58: 2500 | I58: =SUM(K58:T58) -> 2500 | J58: =I58/H58*100 -> 100 | O58: 2500
D59: Kulturális és ifjúsági feladatok
D60: 084070 A fiatalok társ. integrációját segítő struktúra, szakmai szolgált. fejlesztése, működtetése
D61: - ifjúsági rendezvények | E61: 2 | F61: 131201 | G61: 2000 | H61: 1830 | I61: =SUM(K61:T61) -> 1830 | J61: =I61/H61*100 -> 100 | K61: 1346 | L61: 449 | M61: 35
D62: - Zalaegerszegi Városi Diákönkormányzat | E62: 2 | F62: 131202 | G62: 2200 | H62: 3700 | I62: =SUM(K62:T62) -> 3508 | J62: =I62/H62*100 -> 94.810811 | K62: 1186 | L62: 370 | M62: 901 | O62: 51 | R62: 1000
D63: - Zalaegerszegi Városi Diáknapok | E63: 2 | F63: 131205 | G63: 3650 | H63: 2123 | I63: =SUM(K63:T63) -> 2123 | J63: =I63/H63*100 -> 100 | K63: 31 | L63: 10 | M63: 602 | O63: 1480
D64: - Zalaegerszegi Egyetemisták Egyesülete | E64: 2 | F64: 131206 | G64: 250 | H64: 250 | I64: =SUM(K64:T64) -> 250 | J64: =I64/H64*100 -> 100 | O64: 250
D65: - Zalaegerszegi Ifjúsági Kerekasztal | E65: 2 | F65: 131209 | G65: 1195 | H65: 1222 | I65: =SUM(K65:T65) -> 1013 | J65: =I65/H65*100 -> 82.89689 | K65: 437 | L65: 187 | M65: 389
D66: - "Fiatalok az Egészséges Jövőért" Alapítvány országos vetélkedője | E66: 2 | F66: 131214 | G66: 500 | H66: 500 | I66: =SUM(K66:T66) -> 500 | J66: =I66/H66*100 -> 100 | O66: 500
D67: 094260 Hallgatói és oktatói ösztöndíjak, egyéb juttatások
D68: - felsőoktatási ösztöndíj és támogatás | E68: 2 | F68: 131101 | G68: 17000 | H68: 17000 | I68: =SUM(K68:T68) -> 17000 | J68: =I68/H68*100 -> 100 | N68: 10500 | O68: 6500
D69: 074052 Kábítószer megelőzés programja
D70: - Zalaegerszegi Kábítószerügyi Egyeztető Fórum | E70: 2 | F70: 131120 | G70: 500 | H70: 445 | I70: =SUM(K70:T70) -> 445 | J70: =I70/H70*100 -> 100 | M70: 445
D71: 082091 Közművelődés - közösségi és társ. részvétel fejleszt.
D72: - Magyar Kultúra Napja | E72: 2 | F72: 131346 | G72: 7310 | H72: 7535 | I72: =SUM(K72:T72) -> 6999 | J72: =I72/H72*100 -> 92.88653 | K72: 566 | L72: 18 | M72: 35 | O72: 6380
D73: - Gébárti Népművészeti Fesztivál | E73: 2 | F73: 131339 | G73: 1500 | H73: 1500 | I73: =SUM(K73:T73) -> 1500 | J73: =I73/H73*100 -> 100 | O73: 1500
D74: - Egerszeg búcsú | E74: 2 | F74: 131306 | G74: 1000 | H74: 1000 | I74: =SUM(K74:T74) -> 1000 | J74: =I74/H74*100 -> 100 | O74: 1000
D75: - Filmzenei koncert | E75: 2 | F75: 131341 | G75: 14000 | H75: 14000 | I75: =SUM(K75:T75) -> 14000 | J75: =I75/H75*100 -> 100 | O75: 14000
D76: - Zegasztár támogatása | E76: 2 | F76: 131326 | G76: 2500 | H76: 2850 | I76: =SUM(K76:T76) -> 2850 | J76: =I76/H76*100 -> 100 | O76: 2850
D77: - Formula Student East | E77: 2 | F77: 221910 | G77: 5000 | H77: 0 | I77: =SUM(K77:T77) -> 0
D78: - Városi Hangverseny- és Kiállítóteremben rendezvények | E78: 2 | F78: 131332 | G78: 1500 | H78: 1500 | I78: =SUM(K78:T78) -> 1500 | J78: =I78/H78*100 -> 100 | O78: 1500
D79: - Zalaegerszegi Múzeumok Igazgatósága a '80-as évek kiállítás | E79: 2 | F79: 131333 | G79: 3800 | H79: 3800 | I79: =SUM(K79:T79) -> 3800 | J79: =I79/H79*100 -> 100 | O79: 3800
D80: - Városi karácsonyi hangverseny | E80: 2 | F80: 131361 | G80: 500 | H80: 500 | I80: =SUM(K80:T80) -> 500 | J80: =I80/H80*100 -> 100 | O80: 500
D81: - Street Food weekend | E81: 2 | F81: 131409 | G81: 4500 | H81: 4500 | I81: =SUM(K81:T81) -> 4500 | J81: =I81/H81*100 -> 100 | O81: 4500
D82: - Majális | E82: 2 | F82: 131352 | G82: 10000 | H82: 0 | I82: =SUM(K82:T82) -> 0
D83: - Sörfesztivál támogatása | E83: 2 | F83: 131353 | G83: 100 | H83: 100 | I83: =SUM(K83:T83) -> 0 | J83: =I83/H83*100 -> 0
D84: - Egerszegi Adventtel kapcsolatos kiadások | E84: 2 | F84: 131329 | G84: 100 | H84: 17047 | I84: =SUM(K84:T84) -> 17047 | J84: =I84/H84*100 -> 100 | M84: 17047
D85: - Kvártélyház Kft. támogatása | E85: 2 | F85: 131321 | G85: 120000 | H85: 163000 | I85: =SUM(K85:T85) -> 163000 | J85: =I85/H85*100 -> 100 | O85: 163000
D86: - Zalaegerszegi Rendezvényszervező Kft. működési támogatása | E86: 2 | F86: 131313 | G86: 30000 | H86: 30000 | I86: =SUM(K86:T86) -> 30000 | J86: =I86/H86*100 -> 100 | O86: 30000
D87: - Keresztury Emlékbizottság | E87: 2 | F87: 131501 | G87: 200 | H87: 120 | I87: =SUM(K87:T87) -> 0 | J87: =I87/H87*100 -> 0
D88: - Éves sajtófotó kiállítás | E88: 2 | F88: 131310 | G88: 300 | H88: 300 | I88: =SUM(K88:T88) -> 300 | J88: =I88/H88*100 -> 100 | O88: 300
D89: - Városi farsang | E89: 2 | F89: 131410 | G89: 500 | H89: 500 | I89: =SUM(K89:T89) -> 362 | J89: =I89/H89*100 -> 72.4 | O89: 362
D90: - Kárpát-medencei ifjúsági tábor | E90: 2 | F90: 221944 | G90: 500 | H90: 0 | I90: =SUM(K90:T90) -> 0
D91: - 140 éves jubileum | E91: 2 | F91: 131362 | G91: 1000 | H91: 0 | I91: =SUM(K91:T91) -> 0
D92: - Gébárti Művésztelep | E92: 2 | F92: 131307 | G92: 1200 | H92: 1200 | I92: =SUM(K92:T92) -> 1200 | J92: =I92/H92*100 -> 100 | O92: 1200
D93: - II. Nemzetközi Tánc és Világzenei Fesztivál | E93: 2 | F93: 131357 | G93: 500 | H93: 500 | I93: =SUM(K93:T93) -> 500 | J93: =I93/H93*100 -> 100 | O93: 500
D94: - Zala Open támogatása | E94: 2 | F94: 131323 | G94: 1500 | H94: 1500 | I94: =SUM(K94:T94) -> 1500 | J94: =I94/H94*100 -> 100 | O94: 1500
D95: - Verbunk verseny | E95: 2 | F95: 131319 | G95: 4000 | H95: 4000 | I95: =SUM(K95:T95) -> 4000 | J95: =I95/H95*100 -> 100 | O95: 4000
D96: - Zalaegerszegi Szimfonikus Zenekar támogatása | E96: 2 | F96: 131348 | G96: 6000 | H96: 6000 | I96: =SUM(K96:T96) -> 6000 | J96: =I96/H96*100 -> 100 | O96: 6000
D97: - Városi Gyermeknap | E97: 2 | F97: 131213 | G97: 3500 | H97: 3500 | I97: =SUM(K97:T97) -> 3500 | J97: =I97/H97*100 -> 100 | O97: 3500
D98: - Prósza Fesztivál | E98: 2 | F98: 131363 | G98: 3500 | H98: 3500 | I98: =SUM(K98:T98) -> 3500 | J98: =I98/H98*100 -> 100 | O98: 3500
D99: - '47-es Honvéd Zászlóalj Hagyományőrző Egyesület támogatása | E99: 2 | F99: 131345 | G99: 500 | H99: 500 | I99: =SUM(K99:T99) -> 500 | J99: =I99/H99*100 -> 100 | O99: 500
D100: - Harangláb Népzenei Együttes 40 éves jubileuma | E100: 2 | F100: 131364 | H100: 0 | I100: =SUM(K100:T100) -> 0
...

Sheet 9
A1: Címszám | B1: Címszám | C1: Megnevezés | D1: 2025. évi kiadások | G1: Teljesítés %-a
D2: Eredeti ei. | E2: Módosított ei. | F2: Teljesítés
B3: 1 | C3: ZMJV Önkormányzata összesen, ebből: | D3: =SUM(D4:D13) -> 30147411 | E3: =SUM(E4:E13) -> 38302392 | F3: =SUM(F4:F13) -> 22768879 | G3: =SUM(F3/E3)*100 -> 59.445058
C4: - Személyi juttatások | D4: 496032 | E4: 576577 | F4: ='8'!K656 -> 474783 | G4: =SUM(F4/E4)*100 -> 82.345116
C5: - Munkaadókat terhelő járulékok és szoc. hj. adó | D5: 84934 | E5: 99772 | F5: ='8'!L656 -> 67240 | G5: =SUM(F5/E5)*100 -> 67.393658
C6: - Dologi kiadások | D6: 6720835 | E6: 7368750 | F6: ='8'!M656 -> 4514970 | G6: =SUM(F6/E6)*100 -> 61.271858
C7: - Ellátottak pénzbeli juttatásai | D7: 128008 | E7: 109320 | F7: ='8'!N656 -> 68224 | G7: =SUM(F7/E7)*100 -> 62.407611
C8: - Egyéb működési célú kiadások | D8: 6476959 | E8: 7525653 | F8: ='8'!O656 -> 6996527 | G8: =SUM(F8/E8)*100 -> 92.969035
C9: - Beruházások | D9: 7412799 | E9: 11273561 | F9: ='8'!P656 -> 3630756 | G9: =SUM(F9/E9)*100 -> 32.205937
C10: - Felújítások | D10: 2933829 | E10: 5455796 | F10: ='8'!Q656 -> 2180120 | G10: =SUM(F10/E10)*100 -> 39.959705
C11: - Egyéb felhalmozási célú kiadások | D11: 575452 | E11: 198084 | F11: ='8'!R656 -> 141381 | G11: =SUM(F11/E11)*100 -> 71.374265
C12: - Hitel-, kölcsöntörlesztés áht-n kívülre | D12: 117852 | E12: 117852 | F12: ='8'!S656 -> 117851 | G12: =SUM(F12/E12)*100 -> 99.999151
C13: - Egyéb finanszírozási kiadás | D13: 5200711 | E13: 5577027 | F13: ='8'!T656 -> 4577027 | G13: =SUM(F13/E13)*100 -> 82.0693
A14: 2 | B14: 2 | C14: Polgármesteri Hivatal összesen, ebből: | D14: =SUM(D15:D21) -> 2396463 | E14: =SUM(E15:E21) -> 2436491 | F14: =SUM(F15:F21) -> 2375301 | G14: =SUM(F14/E14)*100 -> 97.488601
C15: - Személyi juttatások | D15: 1825954 | E15: 1844413 | F15: ='11'!H4 -> 1817728 | G15: =SUM(F15/E15)*100 -> 98.553198
C16: - Munkaadókat terhelő járulékok és szoc. hj. adó | D16: 267730 | E16: 270062 | F16: ='11'!I4 -> 258596 | G16: =SUM(F16/E16)*100 -> 95.754308
C17: - Dologi kiadások | D17: 260395 | E17: 273330 | F17: ='11'!J4 -> 255040 | G17: =SUM(F17/E17)*100 -> 93.308455
C18: - Ellátottak pénzbeli juttatásai | F18: ='11'!K4 -> 0
C19: - Egyéb működési célú kiadások | F19: ='11'!L4 -> 0
C20: - Beruházások | D20: 35506 | E20: 48686 | F20: ='11'!M4 -> 43937 | G20: =SUM(F20/E20)*100 -> 90.245656
C21: - Felújítások | D21: 6878 | F21: ='11'!N4 -> 0
B22: 3 | C22: Zalaegerszegi Gazdasági Ellátó Szervezet összesen, ebből: | D22: =SUM(D23:D29) -> 2163205 | E22: =SUM(E23:E29) -> 2253476 | F22: =SUM(F23:F29) -> 2032710 | G22: =SUM(F22/E22)*100 -> 90.203313
C23: - Személyi juttatások | D23: 358940 | E23: 390656 | F23: ='11'!H5 -> 342454 | G23: =SUM(F23/E23)*100 -> 87.661267
C24: - Munkaadókat terhelő járulékok és szoc. hj. adó | D24: 54158 | E24: 58281 | F24: ='11'!I5 -> 45177 | G24: =SUM(F24/E24)*100 -> 77.515828
C25: - Dologi kiadások | D25: 1735369 | E25: 1751821 | F25: ='11'!J5 -> 1603590 | G25: =SUM(F25/E25)*100 -> 91.538462
C26: - Ellátottak pénzbeli juttatásai | F26: ='11'!K5 -> 0
C27: - Egyéb működési célú kiadások | F27: ='11'!L5 -> 0
C28: - Beruházások | D28: 7459 | E28: 21239 | F28: ='11'!M5 -> 12872 | G28: =SUM(F28/E28)*100 -> 60.60549
C29: - Felújítások | D29: 7279 | E29: 31479 | F29: ='11'!N5 -> 28617 | G29: =SUM(F29/E29)*100 -> 90.908225
B30: 4 | C30: Zalaegerszegi Egyesített Bölcsődék összesen, ebből: | D30: =SUM(D31:D37) -> 1209248 | E30: =SUM(E31:E37) -> 1345592 | F30: =SUM(F31:F37) -> 1238486 | G30: =SUM(F30/E30)*100 -> 92.040232
C31: - Személyi juttatások | D31: 850931 | E31: 908491 | F31: ='11'!H6 -> 846186 | G31: =SUM(F31/E31)*100 -> 93.141924
C32: - Munkaadókat terhelő járulékok és szoc. hj. adó | D32: 127208 | E32: 134267 | F32: ='11'!I6 -> 115731 | G32: =SUM(F32/E32)*100 -> 86.194672
C33: - Dologi kiadások | D33: 228109 | E33: 233648 | F33: ='11'!J6 -> 216240 | G33: =SUM(F33/E33)*100 -> 92.549476
C34: - Ellátottak pénzbeli juttatásai | F34: ='11'!K6 -> 0
C35: - Egyéb működési célú kiadások | E35: 1454 | F35: ='11'!L6 -> 1454 | G35: =SUM(F35/E35)*100 -> 100
C36: - Beruházások | D36: 3000 | E36: 33694 | F36: ='11'!M6 -> 26232 | G36: =SUM(F36/E36)*100 -> 77.853624
C37: - Felújítások | E37: 34038 | F37: ='11'!N6 -> 32643 | G37: =SUM(F37/E37)*100 -> 95.901639
B38: 6 | C38: Zalaegerszegi Család- és Gyermekjóléti Központ összesen, ebből: | D38: =SUM(D39:D45) -> 382822 | E38: =SUM(E39:E45) -> 533334 | F38: =SUM(F39:F45) -> 400782 | G38: =SUM(F38/E38)*100 -> 75.146531
C39: - Személyi juttatások | D39: 290445 | E39: 390975 | F39: ='11'!H7 -> 310681 | G39: =SUM(F39/E39)*100 -> 79.463137
C40: - Munkaadókat terhelő járulékok és szoc. hj. adó | D40: 46993 | E40: 59603 | F40: ='11'!I7 -> 39237 | G40: =SUM(F40/E40)*100 -> 65.830579
C41: - Dologi kiadások | D41: 39044 | E41: 59101 | F41: ='11'!J7 -> 30275 | G41: =SUM(F41/E41)*100 -> 51.225868
C42: - Ellátottak pénzbeli juttatásai | D42: 4600 | E42: 10915 | F42: ='11'!K7 -> 8563 | G42: =SUM(F42/E42)*100 -> 78.451672
C43: - Egyéb működési célú kiadások | D43: 240 | E43: 240 | F43: ='11'!L7 -> 0 | G43: =SUM(F43/E43)*100 -> 0
C44: - Beruházások | D44: 1500 | E44: 12500 | F44: ='11'!M7 -> 12026 | G44: =SUM(F44/E44)*100 -> 96.208
C45: - Felújítások | F45: ='11'!N7 -> 0
B46: 7 | C46: Zalaegerszegi Belvárosi I. számú Óvoda összesen, ebből: | D46: =SUM(D47:D53) -> 727176 | E46: =SUM(E47:E53) -> 742325 | F46: =SUM(F47:F53) -> 704114 | G46: =SUM(F46/E46)*100 -> 94.852524
C47: - Személyi juttatások | D47: 538981 | E47: 538826 | F47: ='11'!H8 -> 528458 | G47: =SUM(F47/E47)*100 -> 98.075817
C48: - Munkaadókat terhelő járulékok és szoc. hj. adó | D48: 80451 | E48: 80430 | F48: ='11'!I8 -> 63925 | G48: =SUM(F48/E48)*100 -> 79.47905
C49: - Dologi kiadások | D49: 102344 | E49: 101593 | F49: ='11'!J8 -> 90803 | G49: =SUM(F49/E49)*100 -> 89.37919
C50: - Ellátottak pénzbeli juttatásai | F50: ='11'!K8 -> 0
C51: - Egyéb működési célú kiadások | F51: ='11'!L8 -> 0
C52: - Beruházások | D52: 4500 | E52: 7782 | F52: ='11'!M8 -> 7363 | G52: =SUM(F52/E52)*100 -> 94.61578
C53: - Felújítások | D53: 900 | E53: 13694 | F53: ='11'!N8 -> 13565 | G53: =SUM(F53/E53)*100 -> 99.057982
B54: 8 | C54: Zalaegerszegi Belvárosi II. számú Óvoda összesen, ebből: | D54: =SUM(D55:D61) -> 553787 | E54: =SUM(E55:E61) -> 581173 | F54: =SUM(F55:F61) -> 547459 | G54: =SUM(F54/E54)*100 -> 94.198973
C55: - Személyi juttatások | D55: 350027 | E55: 370188 | F55: ='11'!H9 -> 359601 | G55: =SUM(F55/E55)*100 -> 97.140102
C56: - Munkaadókat terhelő járulékok és szoc. hj. adó | D56: 53080 | E56: 54378 | F56: ='11'!I9 -> 50314 | G56: =SUM(F56/E56)*100 -> 92.526389
C57: - Dologi kiadások | D57: 146680 | E57: 145271 | F57: ='11'!J9 -> 127175 | G57: =SUM(F57/E57)*100 -> 87.543281
C58: - Ellátottak pénzbeli juttatásai | F58: ='11'!K9 -> 0
C59: - Egyéb működési célú kiadások | F59: ='11'!L9 -> 0
C60: - Beruházások | D60: 4000 | E60: 7982 | F60: ='11'!M9 -> 7043 | G60: =SUM(F60/E60)*100 -> 88.236031
C61: - Felújítások | E61: 3354 | F61: ='11'!N9 -> 3326 | G61: =SUM(F61/E61)*100 -> 99.165176
B62: 9 | C62: Zalaegerszegi Kertvárosi Óvoda összesen, ebből: | D62: =SUM(D63:D69) -> 645706 | E62: =SUM(E63:E69) -> 652080 | F62: =SUM(F63:F69) -> 624355 | G62: =SUM(F62/E62)*100 -> 95.748221
C63: - Személyi juttatások | D63: 407339 | E63: 412664 | F63: ='11'!H10 -> 406310 | G63: =SUM(F63/E63)*100 -> 98.460249
C64: - Munkaadókat terhelő járulékok és szoc. hj. adó | D64: 61621 | E64: 62313 | F64: ='11'!I10 -> 56716 | G64: =SUM(F64/E64)*100 -> 91.017926
C65: - Dologi kiadások | D65: 172746 | E65: 170015 | F65: ='11'!J10 -> 156891 | G65: =SUM(F65/E65)*100 -> 92.280681
C66: - Ellátottak pénzbeli juttatásai | F66: ='11'!K10 -> 0
C67: - Egyéb működési célú kiadások | F67: ='11'!L10 -> 0
C68: - Beruházások | D68: 4000 | E68: 6488 | F68: ='11'!M10 -> 4438 | G68: =SUM(F68/E68)*100 -> 68.403206
C69: - Felújítások | E69: 600 | F69: ='11'!N10 -> 0
B70: 10 | C70: Zalaegerszegi Landorhegyi Óvoda összesen, ebből: | D70: =SUM(D71:D77) -> 556909 | E70: =SUM(E71:E77) -> 583913 | F70: =SUM(F71:F77) -> 560088 | G70: =SUM(F70/E70)*100 -> 95.919769
C71: - Személyi juttatások | D71: 390315 | E71: 405845 | F71: ='11'!H11 -> 400353 | G71: =SUM(F71/E71)*100 -> 98.646774
C72: - Munkaadókat terhelő járulékok és szoc. hj. adó | D72: 59187 | E72: 60398 | F72: ='11'!I11 -> 56661 | G72: =SUM(F72/E72)*100 -> 93.812709
C73: - Dologi kiadások | D73: 103172 | E73: 104956 | F73: ='11'!J11 -> 92256 | G73: =SUM(F73/E73)*100 -> 87.899691
C74: - Ellátottak pénzbeli juttatásai | F74: ='11'!K11 -> 0
C75: - Egyéb működési célú kiadások | F75: ='11'!L11 -> 0
C76: - Beruházások | D76: 4235 | E76: 11977 | F76: ='11'!M11 -> 10082 | G76: =SUM(F76/E76)*100 -> 84.178008
C77: - Felújítások | E77: 737 | F77: ='11'!N11 -> 736 | G77: =SUM(F77/E77)*100 -> 99.864315
B78: 11 | C78: Közgyűjteményi és Közművelődési GESZ összesen, ebből: | D78: =SUM(D79:D85) -> 102618 | E78: =SUM(E79:E85) -> 108321 | F78: =SUM(F79:F85) -> 103376 | G78: =SUM(F78/E78)*100 -> 95.434865
C79: - Személyi juttatások | D79: 86246 | E79: 90043 | F79: ='11'!H12 -> 87127 | G79: =SUM(F79/E79)*100 -> 96.761547
C80: - Munkaadókat terhelő járulékok és szoc. hj. adó | D80: 11322 | E80: 12231 | F80: ='11'!I12 -> 12074 | G80: =SUM(F80/E80)*100 -> 98.716376
C81: - Dologi kiadások | D81: 3850 | E81: 4597 | F81: ='11'!J12 -> 3276 | G81: =SUM(F81/E81)*100 -> 71.263868
C82: - Ellátottak pénzbeli juttatásai | F82: ='11'!K12 -> 0
C83: - Egyéb működési célú kiadások | F83: ='11'!L12 -> 0
C84: - Beruházások | D84: 1200 | E84: 1450 | F84: ='11'!M12 -> 899 | G84: =SUM(F84/E84)*100 -> 62
C85: - Felújítások | F85: ='11'!N12 -> 0
B86: 12 | C86: Keresztury Dezső VMK összesen, ebből: | D86: =SUM(D87:D93) -> 579040 | E86: =SUM(E87:E93) -> 670103 | F86: =SUM(F87:F93) -> 640985 | G86: =SUM(F86/E86)*100 -> 95.654698
C87: - Személyi juttatások | D87: 315705 | E87: 324802 | F87: ='11'!H13 -> 316086 | G87: =SUM(F87/E87)*100 -> 97.316519
C88: - Munkaadókat terhelő járulékok és szoc. hj. adó | D88: 41165 | E88: 45180 | F88: ='11'!I13 -> 44014 | G88: =SUM(F88/E88)*100 -> 97.419212
C89: - Dologi kiadások | D89: 220170 | E89: 285458 | F89: ='11'!J13 -> 267914 | G89: =SUM(F89/E89)*100 -> 93.854087
C90: - Ellátottak pénzbeli juttatásai | F90: ='11'!K13 -> 0
C91: - Egyéb működési célú kiadások | F91: ='11'!L13 -> 0
C92: - Beruházások | D92: 2000 | E92: 4963 | F92: ='11'!M13 -> 4143 | G92: =SUM(F92/E92)*100 -> 83.477735
C93: - Felújítások | E93: 9700 | F93: ='11'!N13 -> 8828 | G93: =SUM(F93/E93)*100 -> 91.010309
B94: 13 | C94: Zalaegerszegi Turisztikai Hivatal és Információs Iroda összesen, ebből: | D94: =SUM(D95:D101) -> 31295 | E94: =SUM(E95:E101) -> 39058 | F94: =SUM(F95:F101) -> 36912 | G94: =SUM(F94/E94)*100 -> 94.505607
C95: - Személyi juttatások | D95: 24405 | E95: 27077 | F95: ='11'!H14 -> 26089 | G95: =SUM(F95/E95)*100 -> 96.351147
C96: - Munkaadókat terhelő járulékok és szoc. hj. adó | D96: 3180 | E96: 3637 | F96: ='11'!I14 -> 3522 | G96: =SUM(F96/E96)*100 -> 96.838053
C97: - Dologi kiadások | D97: 3610 | E97: 7790 | F97: ='11'!J14 -> 6878 | G97: =SUM(F97/E97)*100 -> 88.292683
C98: - Ellátottak pénzbeli juttatásai | F98: ='11'!K14 -> 0
C99: - Egyéb működési célú kiadások | F99: ='11'!L14 -> 0
C100: - Beruházások | D100: 100 | E100: 554 | F100: ='11'!M14 -> 423 | G100: =SUM(F100/E100)*100 -> 76.353791
...

Sheet 10
A1: Címszám | B1: sorszám | C1: Költségvetési szerv megnevezése | D1: Előirányzat | F1: Teljesítés | H1: Költségvetési bevételek | O1: Finanszírozási bevételek
D2: Eredeti | E2: Módosított | F2: Összege | G2: %-a | H2: Működési célú támogatások áht-n belülről | I2: Felhalmozási célú támogatások áht-n belülről | J2: Közhatalmi bevételek | K2: Működési bevételek | L2: Felhalmozási bevételek | M2: Működési célú átvett pénzeszközök | N2: Felhalmozási célú átvett pénzeszközök | O2: Maradvány igénybevétele | P2: Központi, irányító szervi támogatás | Q2: Egyéb finanszírozási bevétel
A3: 2 | C3: Költségvetési szervek
B4: 1 | C4: Polgármesteri Hivatal | D4: 2396463 | E4: 2436491 | F4: =SUM(H4:Q4) -> 2433899 | G4: =F4/E4*100 -> 99.893618 | H4: 6186 | J4: 4150 | K4: 30809 | L4: 2413 | O4: 86407 | P4: 2303934
B5: 2 | C5: Zalaegerszegi Gazdasági Ellátó Szervezet | D5: 2163205 | E5: 2253476 | F5: =SUM(H5:Q5) -> 2279898 | G5: =F5/E5*100 -> 101.1725 | H5: 228790 | K5: 880414 | L5: 740 | M5: 600 | O5: 212430 | P5: 956924
B6: 3 | C6: Zalaegerszegi Egyesített Bölcsődék | D6: 1209248 | E6: 1345592 | F6: =SUM(H6:Q6) -> 1371335 | G6: =F6/E6*100 -> 101.91314 | I6: 800 | K6: 113510 | L6: 1300 | O6: 148808 | P6: 1106917
B7: 4 | C7: Zalaegerszegi Család-és Gyermekjóléti Központ | D7: 382822 | E7: 533334 | F7: =SUM(H7:Q7) -> 537714 | G7: =F7/E7*100 -> 100.82125 | K7: 4378 | L7: 2 | O7: 118514 | P7: 414820
B8: 5 | C8: Zalaegerszegi Belvárosi I. számú Óvoda | D8: 727176 | E8: 742325 | F8: =SUM(H8:Q8) -> 742936 | G8: =F8/E8*100 -> 100.08231 | H8: 426 | I8: 144 | K8: 19308 | O8: 45951 | P8: 677107
B9: 6 | C9: Zalaegerszegi Belvárosi II. számú Óvoda | D9: 553787 | E9: 581173 | F9: =SUM(H9:Q9) -> 578371 | G9: =F9/E9*100 -> 99.517872 | H9: 370 | I9: 130 | K9: 43901 | L9: 4 | O9: 42903 | P9: 491063
B10: 7 | C10: Zalaegerszegi Kertvárosi Óvoda | D10: 645706 | E10: 652080 | F10: =SUM(H10:Q10) -> 649730 | G10: =F10/E10*100 -> 99.639615 | H10: 170 | K10: 27720 | L10: 1 | N10: 988 | O10: 31073 | P10: 589778
B11: 8 | C11: Zalaegerszegi Landorhegyi Óvoda | D11: 556909 | E11: 583913 | F11: =SUM(H11:Q11) -> 582265 | G11: =F11/E11*100 -> 99.717766 | H11: 170 | K11: 29085 | L11: 3 | O11: 24443 | P11: 528564
B12: 9 | C12: Közgyűjteményi és Közművelődési GESZ | D12: 102618 | E12: 108321 | F12: =SUM(H12:Q12) -> 108320 | G12: =F12/E12*100 -> 99.999077 | H12: 400 | K12: 36 | O12: 2273 | P12: 105611
B13: 10 | C13: Keresztury Dezső VMK | D13: 579040 | E13: 670103 | F13: =SUM(H13:Q13) -> 667724 | G13: =F13/E13*100 -> 99.64498 | H13: 45606 | I13: 742 | K13: 199621 | M13: 1200 | O13: 11450 | P13: 409105
B14: 11 | C14: Zalaegerszegi Turisztikai Hivatal és Információs Iroda | D14: 31295 | E14: 39058 | F14: =SUM(H14:Q14) -> 39058 | G14: =F14/E14*100 -> 100 | H14: 3500 | I14: 260 | K14: 3286 | O14: 1589 | P14: 30423
B15: 12 | C15: Deák Ferenc Megyei és Városi Könyvtár | D15: 539587 | E15: 575859 | F15: =SUM(H15:Q15) -> 565882 | G15: =F15/E15*100 -> 98.267458 | H15: 18343 | I15: 234 | K15: 21628 | M15: 593 | O15: 15380 | P15: 509704
B16: 13 | C16: Zalaegerszegi Múzeumok Igazgatósága | D16: 631507 | E16: 777474 | F16: =SUM(H16:Q16) -> 773172 | G16: =F16/E16*100 -> 99.44667 | H16: 217357 | I16: 3150 | K16: 135322 | M16: 270 | O16: 64507 | P16: 352566
B17: 14 | C17: Hevesi Sándor Színház | D17: 1118724 | E17: 1272052 | F17: =SUM(H17:Q17) -> 1294771 | G17: =F17/E17*100 -> 101.78601 | H17: 363325 | I17: 10450 | K17: 385616 | L17: 28 | O17: 87548 | P17: 447804
B18: 15 | C18: Griff Bábszínház | D18: 206530 | E18: 233459 | F18: =SUM(H18:Q18) -> 233377 | G18: =F18/E18*100 -> 99.964876 | H18: 90550 | K18: 41583 | O18: 23879 | P18: 77365
B19: 16 | C19: Városi Sportlétesítmény Gondnokság Intézménye | D19: 268284 | E19: 300222 | F19: =SUM(H19:Q19) -> 300133 | G19: =F19/E19*100 -> 99.970355 | K19: 117885 | O19: 37964 | P19: 144284
B20: 17 | C20: Vásárcsarnok | D20: 160746 | E20: 161126 | F20: =SUM(H20:Q20) -> 153612 | G20: =F20/E20*100 -> 95.336569 | H20: 535 | K20: 125348 | O20: 21144 | P20: 6585
B21: 18 | C21: Göcseji Tudásközpont - Zalaegerszegi Helyi Termék Piac | D21: 82936 | E21: 109461 | F21: =SUM(H21:Q21) -> 110069 | G21: =F21/E21*100 -> 100.55545 | H21: 2250 | K21: 44631 | O21: 13709 | P21: 49479
C22: Költségvetési szervek mindösszesen: | D22: =SUM(D4:D21) -> 12356583 | E22: =SUM(E4:E21) -> 13375519 | F22: =SUM(F4:F21) -> 13422266 | G22: =F22/E22*100 -> 100.3495 | H22: =SUM(H4:H21) -> 977978 | I22: =SUM(I4:I21) -> 15910 | J22: =SUM(J4:J21) -> 4150 | K22: =SUM(K4:K21) -> 2224081 | L22: =SUM(L4:L21) -> 4491 | M22: =SUM(M4:M21) -> 2663 | N22: =SUM(N4:N21) -> 988 | O22: =SUM(O4:O21) -> 989972 | ... Q22: =SUM(Q4:Q21) -> 0

Sheet 11
A1: Címszám | B1: Sorszám | C1: Költségvetési szerv megnevezése | D1: Előirányzat | F1: Teljesítés | H1: Költségvetési kiadások | P1: Finanszírozási kiadások
D2: Eredeti | E2: Módosított | F2: összege | G2: %-a | H2: Személyi juttatások | I2: Munkaadókat terhelő járulékok és szociális hozzájárulási adó | J2: Dologi kiadások | K2: Ellátottak pénzbeli juttatásai | L2: Egyéb működési célú kiadások | M2: Beruházások | N2: Felújítások | O2: Egyéb felhalmozási célú kiadások
A3: 2 | C3: Költségvetési szervek
B4: 1 | C4: Polgármesteri Hivatal | D4: 2396463 | E4: 2436491 | F4: =SUM(H4:P4) -> 2375301 | G4: =F4/E4*100 -> 97.488601 | H4: 1817728 | I4: 258596 | J4: 255040 | M4: 43937
B5: 2 | C5: Zalaegerszegi Gazdasági Ellátó Szervezet | D5: 2163205 | E5: 2253476 | F5: =SUM(H5:P5) -> 2032710 | G5: =F5/E5*100 -> 90.203313 | H5: 342454 | I5: 45177 | J5: 1603590 | M5: 12872 | N5: 28617
B6: 3 | C6: Zalaegerszegi Egyesített Bölcsődék | D6: 1209248 | E6: 1345592 | F6: =SUM(H6:P6) -> 1238486 | G6: =F6/E6*100 -> 92.040232 | H6: 846186 | I6: 115731 | J6: 216240 | L6: 1454 | M6: 26232 | N6: 32643
B7: 4 | C7: Zalaegerszegi Család- és Gyermekjóléti Központ | D7: 382822 | E7: 533334 | F7: =SUM(H7:P7) -> 400782 | G7: =F7/E7*100 -> 75.146531 | H7: 310681 | I7: 39237 | J7: 30275 | K7: 8563 | M7: 12026
B8: 5 | C8: Zalaegerszegi Belvárosi I. számú Óvoda | D8: 727176 | E8: 742325 | F8: =SUM(H8:P8) -> 704114 | G8: =F8/E8*100 -> 94.852524 | H8: 528458 | I8: 63925 | J8: 90803 | M8: 7363 | N8: 13565
B9: 6 | C9: Zalaegerszegi Belvárosi II. számú Óvoda | D9: 553787 | E9: 581173 | F9: =SUM(H9:P9) -> 547459 | G9: =F9/E9*100 -> 94.198973 | H9: 359601 | I9: 50314 | J9: 127175 | M9: 7043 | N9: 3326
B10: 7 | C10: Zalaegerszegi Kertvárosi Óvoda | D10: 645706 | E10: 652080 | F10: =SUM(H10:P10) -> 624355 | G10: =F10/E10*100 -> 95.748221 | H10: 406310 | I10: 56716 | J10: 156891 | M10: 4438
B11: 8 | C11: Zalaegerszegi Landorhegyi Óvoda | D11: 556909 | E11: 583913 | F11: =SUM(H11:P11) -> 560088 | G11: =F11/E11*100 -> 95.919769 | H11: 400353 | I11: 56661 | J11: 92256 | M11: 10082 | N11: 736
B12: 9 | C12: Közgyűjteményi és Közművelődési GESZ | D12: 102618 | E12: 108321 | F12: =SUM(H12:P12) -> 103376 | G12: =F12/E12*100 -> 95.434865 | H12: 87127 | I12: 12074 | J12: 3276 | M12: 899
B13: 10 | C13: Keresztury Dezső VMK | D13: 579040 | E13: 670103 | F13: =SUM(H13:P13) -> 640985 | G13: =F13/E13*100 -> 95.654698 | H13: 316086 | I13: 44014 | J13: 267914 | M13: 4143 | N13: 8828
B14: 11 | C14: Zalaegerszegi Turisztikai Hivatal és Információs Iroda | D14: 31295 | E14: 39058 | F14: =SUM(H14:P14) -> 36912 | G14: =F14/E14*100 -> 94.505607 | H14: 26089 | I14: 3522 | J14: 6878 | M14: 423
B15: 12 | C15: Deák Ferenc Megyei és Városi Könyvtár | D15: 539587 | E15: 575859 | F15: =SUM(H15:P15) -> 540460 | G15: =F15/E15*100 -> 93.852836 | H15: 275720 | I15: 38284 | J15: 122134 | L15: 11000 | M15: 93322
B16: 13 | C16: Zalaegerszegi Múzeumok Igazgatósága | D16: 631507 | E16: 777474 | F16: =SUM(H16:P16) -> 665834 | G16: =F16/E16*100 -> 85.640677 | H16: 339578 | I16: 45102 | J16: 251157 | L16: 15105 | M16: 14892
B17: 14 | C17: Hevesi Sándor Színház | D17: 1118724 | E17: 1272052 | F17: =SUM(H17:P17) -> 1211157 | G17: =F17/E17*100 -> 95.212853 | H17: 759752 | I17: 68800 | J17: 350638 | M17: 31967
B18: 15 | C18: Griff Bábszínház | D18: 206530 | E18: 233459 | F18: =SUM(H18:P18) -> 217405 | G18: =F18/E18*100 -> 93.123418 | H18: 127043 | I18: 11713 | J18: 77278 | M18: 1371
B19: 16 | C19: Városi Sportlétesítmények Gondnoksága | D19: 268284 | E19: 300222 | F19: =SUM(H19:P19) -> 278573 | G19: =F19/E19*100 -> 92.789003 | H19: 123593 | I19: 16473 | J19: 119445 | M19: 19062
B20: 17 | C20: Vásárcsarnok | D20: 160746 | E20: 161126 | F20: =SUM(H20:P20) -> 142644 | G20: =F20/E20*100 -> 88.529474 | H20: 70536 | I20: 10939 | J20: 60177 | M20: 992
B21: 18 | C21: Göcseji Tudásközpont - Zalaegerszegi Helyi Termék Piac | D21: 82936 | E21: 109461 | F21: =SUM(H21:P21) -> 94237 | G21: =F21/E21*100 -> 86.09185 | H21: 38339 | I21: 4146 | J21: 49290 | M21: 1757 | N21: 705
C22: Költségvetési szervek mindösszesen: | D22: =SUM(D4:D21) -> 12356583 | E22: =SUM(E4:E21) -> 13375519 | F22: =SUM(F4:F21) -> 12414878 | G22: =F22/E22*100 -> 92.817916 | H22: =SUM(H4:H21) -> 7175634 | I22: =SUM(I4:I21) -> 941424 | J22: =SUM(J4:J21) -> 3880457 | K22: =SUM(K4:K21) -> 8563 | L22: =SUM(L4:L21) -> 27559 | M22: =SUM(M4:M21) -> 292821 | N22: =SUM(N4:N21) -> 88420 | O22: =SUM(O4:O21) -> 0 | P22: =SUM(P4:P21) -> 0

Sheet 12
A1: Megnevezés | C1: Polgármesteri Hivatal | D1: Zalaegerszegi Gazdasági Ellátó Szervezet | E1: Zalaegerszegi Egyesített Bölcsődék | F1: Zalaegerszegi Család- és Gyermekjóléti Központ | G1: Zalaegerszegi Belvárosi I. sz. Óvoda | H1: Zalaegerszegi Belvárosi II.sz.Óvoda | I1: Zalaegerszegi Kertvárosi Óvoda | J1: Zalaegerszegi Landorhegyi Óvoda | K1: Közgyűjteményi és Közművelődési GESZ | L1: Keresztury Dezső Városi Művelődési Központ | M1: Tourinform Iroda | N1: Deák Ferenc Megyei és Városi Könyvtár | O1: Zalaegerszegi Múzeumok Igazgatósága | P1: Hevesi Sándor Színház | Q1: Griff Bábszínház | R1: Városi Sportlétesítmények Gondnoksága | S1: Vásárcsarnok | T1: Göcseji Tudásközpont | U1: Költségvetési szervek összesen: | V1: ZMJV Önkormányzata | W1: Önkormányzat összesen:
A2: 01 | B2: Alaptevékenység költségvetési bevételei | C2: =SUM('10'!H4:N4) -> 43558 | D2: =SUM('10'!H5:N5) -> 1110544 | E2: =SUM('10'!H6:N6) -> 115610 | F2: =SUM('10'!H7:N7) -> 4380 | G2: =SUM('10'!H8:N8) -> 19878 | H2: =SUM('10'!H9:N9) -> 44405 | I2: =SUM('10'!H10:N10) -> 28879 | J2: =SUM('10'!H11:N11) -> 29258 | K2: =SUM('10'!H12:N12) -> 436 | L2: =SUM('10'!H13:N13) -> 247169 | M2: =SUM('10'!H14:N14) -> 7046 | N2: =SUM('10'!H15:N15) -> 40798 | O2: =SUM('10'!H16:N16) -> 356099 | P2: =SUM('10'!H17:N17) -> 759419 | Q2: =SUM('10'!H18:N18) -> 132133 | R2: =SUM('10'!H19:N19) -> 117885 | S2: =SUM('10'!H20:N20) -> 125883 | T2: =SUM('10'!H21:N21) -> 46881 | U2: =SUM(C2:T2) -> 3230261 | V2: =SUM('5'!H13:N13) -> 23216814 | W2: =SUM(U2:V2) -> 26447075
A3: 02 | B3: Alaptevékenység költségvetési kiadásai | C3: =SUM('11'!H4:O4) -> 2375301 | D3: =SUM('11'!H5:O5) -> 2032710 | E3: =SUM('11'!H6:O6) -> 1238486 | F3: =SUM('11'!H7:O7) -> 400782 | G3: =SUM('11'!H8:O8) -> 704114 | H3: =SUM('11'!H9:O9) -> 547459 | I3: =SUM('11'!H10:O10) -> 624355 | J3: =SUM('11'!H11:O11) -> 560088 | K3: =SUM('11'!H12:O12) -> 103376 | L3: =SUM('11'!H13:O13) -> 640985 | M3: =SUM('11'!H14:O14) -> 36912 | N3: =SUM('11'!H15:O15) -> 540460 | O3: =SUM('11'!H16:O16) -> 665834 | P3: =SUM('11'!H17:O17) -> 1211157 | Q3: =SUM('11'!H18:O18) -> 217405 | R3: =SUM('11'!H19:O19) -> 278573 | S3: =SUM('11'!H20:O20) -> 142644 | T3: =SUM('11'!H21:O21) -> 94237 | U3: =SUM(C3:T3) -> 12414878 | V3: =SUM('7'!H15:O15) -> 18074001 | W3: =SUM(U3:V3) -> 30488879
A4: I. | B4: Alaptevékenység költségvetési egyenlege(=01-02) | C4: =C2-C3 -> -2331743 | D4: =D2-D3 -> -922166 | E4: =E2-E3 -> -1122876 | F4: =F2-F3 -> -396402 | G4: =G2-G3 -> -684236 | H4: =H2-H3 -> -503054 | I4: =I2-I3 -> -595476 | J4: =J2-J3 -> -530830 | ... T4: =T2-T3 -> -47356 | U4: =SUM(C4:T4) -> -9184617 | V4: =V2-V3 -> 5142813 | W4: =SUM(U4:V4) -> -4041804
A5: 03 | B5: Alaptevékenység finanszírozási bevételei | C5: =SUM('10'!O4:Q4) -> 2390341 | D5: =SUM('10'!O5:Q5) -> 1169354 | E5: =SUM('10'!O6:Q6) -> 1255725 | F5: =SUM('10'!O7:Q7) -> 533334 | G5: =SUM('10'!O8:Q8) -> 723058 | H5: =SUM('10'!O9:Q9) -> 533966 | I5: =SUM('10'!O10:Q10) -> 620851 | J5: =SUM('10'!O11:Q11) -> 553007 | K5: =SUM('10'!O12:Q12) -> 107884 | L5: =SUM('10'!O13:Q13) -> 420555 | M5: =SUM('10'!O14:Q14) -> 32012 | N5: =SUM('10'!O15:Q15) -> 525084 | O5: =SUM('10'!O16:Q16) -> 417073 | P5: =SUM('10'!O17:Q17) -> 535352 | Q5: =SUM('10'!O18:Q18) -> 101244 | R5: =SUM('10'!O19:Q19) -> 182248 | S5: =SUM('10'!O20:Q20) -> 27729 | T5: =SUM('10'!O21:Q21) -> 63188 | U5: =SUM(C5:T5) -> 10192005 | V5: =SUM('5'!O13:Q13) -> 13328562 | W5: =SUM(U5:V5) -> 23520567
A6: 04 | B6: Alaptevékenység finanszírozási kiadásai | C6: =SUM('11'!P4) -> 0 | D6: =SUM('11'!P5) -> 0 | E6: =SUM('11'!P6) -> 0 | F6: =SUM('11'!P7) -> 0 | G6: =SUM('11'!P8) -> 0 | H6: =SUM('11'!P9) -> 0 | I6: =SUM('11'!P10) -> 0 | J6: =SUM('11'!P11) -> 0 | K6: =SUM('11'!P12) -> 0 | L6: =SUM('11'!P13) -> 0 | M6: =SUM('11'!P14) -> 0 | N6: =SUM('11'!P15) -> 0 | O6: =SUM('11'!P16) -> 0 | P6: =SUM('11'!P17) -> 0 | Q6: =SUM('11'!P18) -> 0 | R6: =SUM('11'!P19) -> 0 | S6: =SUM('11'!P20) -> 0 | T6: =SUM('11'!P21) -> 0 | U6: =SUM(C6:T6) -> 0 | V6: =SUM('7'!P15:Q15)+'10'!P22 -> 13896911 | W6: =SUM(U6:V6) -> 13896911
A7: II. | B7: Alaptevékenység finanszírozási egyenlege (=03-04) | C7: =C5-C6 -> 2390341 | D7: =D5-D6 -> 1169354 | E7: =E5-E6 -> 1255725 | F7: =F5-F6 -> 533334 | G7: =G5-G6 -> 723058 | H7: =H5-H6 -> 533966 | I7: =I5-I6 -> 620851 | J7: =J5-J6 -> 553007 | ... T7: =T5-T6 -> 63188 | U7: =SUM(C7:T7) -> 10192005 | V7: =V5-V6 -> -568349 | W7: =SUM(U7:V7) -> 9623656
A8: A) | B8: Alaptevékenyság maradványa (= ±I.±II.) | C8: =SUM(C4+C7) -> 58598 | D8: =SUM(D4+D7) -> 247188 | E8: =SUM(E4+E7) -> 132849 | F8: =SUM(F4+F7) -> 136932 | G8: =SUM(G4+G7) -> 38822 | H8: =SUM(H4+H7) -> 30912 | I8: =SUM(I4+I7) -> 25375 | J8: =SUM(J4+J7) -> 22177 | ... T8: =SUM(T4+T7) -> 15832 | U8: =SUM(C8:T8) -> 1007388 | V8: =SUM(V4+V7) -> 4574464 | W8: =SUM(U8:V8) -> 5581852
A9: 05 | B9: Vállalkozási tevékenység költségvetési bevételei | U9: =SUM(C9:T9) -> 0 | W9: =SUM(U9:V9) -> 0
A10: 06 | B10: Vállalkozási tevékenység költségvetési kiadásai | U10: =SUM(C10:T10) -> 0 | W10: =SUM(U10:V10) -> 0
A11: III. | B11: Vállakozási tevékenység költségvetési egyenlege (=05-06) | C11: =C9-C10 -> 0 | D11: =D9-D10 -> 0 | E11: =E9-E10 -> 0 | F11: =F9-F10 -> 0 | G11: =G9-G10 -> 0 | H11: =H9-H10 -> 0 | I11: =I9-I10 -> 0 | J11: =J9-J10 -> 0 | ... T11: =T9-T10 -> 0 | U11: =SUM(C11:T11) -> 0 | V11: =V9-V10 -> 0 | W11: =SUM(U11:V11) -> 0
A12: 07 | B12: Vállakozási tevékenység finanszírozási bevételei | U12: =SUM(C12:T12) -> 0 | W12: =SUM(U12:V12) -> 0
A13: 08 | B13: Vállakozási tevékenység finanszírozási kiadásai | U13: =SUM(C13:T13) -> 0 | W13: =SUM(U13:V13) -> 0
A14: IV. | B14: Vállakozási tevékenység finanszírozási egyenlege (=07-08) | C14: =C12-C13 -> 0 | D14: =D12-D13 -> 0 | E14: =E12-E13 -> 0 | F14: =F12-F13 -> 0 | G14: =G12-G13 -> 0 | H14: =H12-H13 -> 0 | I14: =I12-I13 -> 0 | J14: =J12-J13 -> 0 | ... S14: =S12-S13 -> 0 | U14: =SUM(C14:T14) -> 0 | V14: =V12-V13 -> 0 | W14: =SUM(U14:V14) -> 0
A15: B) | B15: Vállalkozási tevékenység maradványa (=±III.±IV.) | C15: =SUM(C11+C14) -> 0 | D15: =SUM(D11+D14) -> 0 | E15: =SUM(E11+E14) -> 0 | F15: =SUM(F11+F14) -> 0 | G15: =SUM(G11+G14) -> 0 | H15: =SUM(H11+H14) -> 0 | I15: =SUM(I11+I14) -> 0 | J15: =SUM(J11+J14) -> 0 | ... S15: =SUM(S11+S14) -> 0 | U15: =SUM(C15:T15) -> 0 | V15: =SUM(V11+V14) -> 0 | W15: =SUM(U15:V15) -> 0
A16: C) | B16: Összes maradvány (=A+B) | C16: =SUM(C8+C15) -> 58598 | D16: =SUM(D8+D15) -> 247188 | E16: =SUM(E8+E15) -> 132849 | F16: =SUM(F8+F15) -> 136932 | G16: =SUM(G8+G15) -> 38822 | H16: =SUM(H8+H15) -> 30912 | I16: =SUM(I8+I15) -> 25375 | J16: =SUM(J8+J15) -> 22177 | ... T16: =SUM(T8+T15) -> 15832 | U16: =SUM(C16:T16) -> 1007388 | V16: =SUM(V8+V15) -> 4574464 | W16: =SUM(U16:V16) -> 5581852
A17: D) | B17: Alaptevékenység kötelezettségvállalással terhelt maradványa | C17: 12394 | D17: 1455 | E17: 6709 | F17: 1430 | G17: 351 | H17: 30 | I17: 2439 | J17: 169 | L17: 1432 | N17: 679 | O17: 1676 | P17: 16772 | Q17: 165 | T17: 101 | U17: =SUM(C17:T17) -> 45802 | W17: =SUM(U17:V17) -> 45802
A18: E) | B18: Alaptevékenység szabad maradványa | C18: =C16-C17 -> 46204 | D18: =D16-D17 -> 245733 | E18: =E16-E17 -> 126140 | F18: =F16-F17 -> 135502 | G18: =G16-G17 -> 38471 | H18: =H16-H17 -> 30882 | I18: =I16-I17 -> 22936 | J18: =J16-J17 -> 22008 | ... T18: =T16-T17 -> 15731 | U18: =SUM(C18:T18) -> 961586 | V18: =V16-V17 -> 4574464 | W18: =SUM(U18:V18) -> 5536050
A19: F) | B19: Vállalkozási tevékenységet terhelő befizetési kötelezettség | U19: =SUM(C19:T19) -> 0 | W19: =SUM(U19:V19) -> 0
A20: G) | B20: Vállalkozási tevékenység felhasználható maradványa | U20: =SUM(C20:T20) -> 0 | W20: =SUM(U20:V20) -> 0

Sheet 13
A1: Megnevezés | B1: Maradvány | C1: Maradvány forrása | E1: Kötelezettséggel terhelt maradvány összesen: | F1: Kötelezettségvállalással terhelt maradvány | H1: Szabad maradvány összesen | I1: Szabad maradvány
C2: Bevételi többlet | D2: Kiadási meg- takarítás | F2: működési célú | G2: felhalmozási célú | I2: egyéb maradvány | J2: célra, feladatra kapott, illetve kötött felhasználású összegek | K2: eredeti költségvetésben bevont összeg áthúzódó és új feladatokhoz | L2: TOP, MVP és egyéb pályázatokhoz kapcsolódó elkülönített számlán lévő maradványokból kötelezettséggel nem terhelt | M2: önkormányzati tartalékba helyezendő maradvány
A4: Alaptevékenység maradványa:
A5: Polgármesteri Hivatal | B5: =SUM(C5:D5) -> 58598 | C5: =SUM('10'!F4-'10'!E4) -> -2592 | D5: =SUM('11'!E4-'11'!F4) -> 61190 | E5: =SUM(F5:G5) -> 12394 | F5: =SUM('14'!B5:F5) -> 10262 | G5: ='14'!G5+'14'!H5+'14'!I5 -> 2132 | H5: =SUM(I5:M5) -> 46204 | I5: =SUM('14'!K5:R5) -> 3849 | J5: ='14'!S5 -> 0 | K5: ='14'!T5 -> 42355
A6: Zalaegerszegi Gazdasági Ellátó Szervezet | B6: =SUM(C6:D6) -> 247188 | C6: =SUM('10'!F5-'10'!E5) -> 26422 | D6: =SUM('11'!E5-'11'!F5) -> 220766 | E6: =SUM(F6:G6) -> 1455 | F6: =SUM('14'!B6:F6) -> 533 | G6: ='14'!G6+'14'!H6+'14'!I6 -> 922 | H6: =SUM(I6:M6) -> 245733 | I6: =SUM('14'!K6:R6)-M6 -> 75017 | J6: ='14'!S6 -> 0 | K6: ='14'!T6 -> 154896 | M6: 15820
A7: Zalaegerszegi Egyesített Bölcsődék | B7: =SUM(C7:D7) -> 132849 | C7: =SUM('10'!F6-'10'!E6) -> 25743 | D7: =SUM('11'!E6-'11'!F6) -> 107106 | E7: =SUM(F7:G7) -> 6709 | F7: =SUM('14'!B7:F7) -> 2950 | G7: ='14'!G7+'14'!H7+'14'!I7 -> 3759 | H7: =SUM(I7:M7) -> 126140 | I7: =SUM('14'!K7:R7)-M7 -> 62793 | J7: ='14'!S7 -> 0 | K7: ='14'!T7 -> 54872 | M7: 8475
A8: Zalaegerszegi Család- és Gyermekjóléti Központ | B8: =SUM(C8:D8) -> 136932 | C8: =SUM('10'!F7-'10'!E7) -> 4380 | D8: =SUM('11'!E7-'11'!F7) -> 132552 | E8: =SUM(F8:G8) -> 1430 | F8: =SUM('14'!B8:F8) -> 1337 | G8: ='14'!G8+'14'!H8+'14'!I8 -> 93 | H8: =SUM(I8:M8) -> 135502 | I8: =SUM('14'!K8:R8)-M8 -> 54349 | J8: ='14'!S8 -> 0 | K8: ='14'!T8 -> 52903 | M8: 28250
A9: Zalaegerszegi Belvárosi I. sz. Óvoda | B9: =SUM(C9:D9) -> 38822 | C9: =SUM('10'!F8-'10'!E8) -> 611 | D9: =SUM('11'!E8-'11'!F8) -> 38211 | E9: =SUM(F9:G9) -> 351 | F9: =SUM('14'!B9:F9) -> 351 | G9: ='14'!G9+'14'!H9+'14'!I9 -> 0 | H9: =SUM(I9:M9) -> 38471 | I9: =SUM('14'!K9:R9)-'14'!O9-M9 -> 5273 | J9: ='14'!S9 -> 0 | K9: ='14'!T9 -> 33198
A10: Zalaegerszegi Belvárosi II.sz.Óvoda | B10: =SUM(C10:D10) -> 30912 | C10: =SUM('10'!F9-'10'!E9) -> -2802 | D10: =SUM('11'!E9-'11'!F9) -> 33714 | E10: =SUM(F10:G10) -> 30 | F10: =SUM('14'!B10:F10) -> 30 | G10: ='14'!G10+'14'!H10+'14'!I10 -> 0 | H10: =SUM(I10:M10) -> 30882 | I10: =SUM('14'!K10:R10)-'14'!O10-M10 -> 5567 | J10: ='14'!S10 -> 411 | K10: ='14'!T10 -> 24904
A11: Zalaegerszegi Kertvárosi Óvoda | B11: =SUM(C11:D11) -> 25375 | C11: =SUM('10'!F10-'10'!E10) -> -2350 | D11: =SUM('11'!E10-'11'!F10) -> 27725 | E11: =SUM(F11:G11) -> 2439 | F11: =SUM('14'!B11:F11) -> 39 | G11: ='14'!G11+'14'!H11+'14'!I11 -> 2400 | H11: =SUM(I11:M11) -> 22936 | I11: =SUM('14'!K11:R11)-'14'!O11-M11 -> 4618 | J11: ='14'!S11 -> 0 | K11: ='14'!T11 -> 18318
A12: Zalaegerszegi Landorhegyi Óvoda | B12: =SUM(C12:D12) -> 22177 | C12: =SUM('10'!F11-'10'!E11) -> -1648 | D12: =SUM('11'!E11-'11'!F11) -> 23825 | E12: =SUM(F12:G12) -> 169 | F12: =SUM('14'!B12:F12) -> 87 | G12: ='14'!G12+'14'!H12+'14'!I12 -> 82 | H12: =SUM(I12:M12) -> 22008 | I12: =SUM('14'!K12:R12)-'14'!O12-M12 -> 5145 | J12: ='14'!S12 -> 579 | K12: ='14'!T12 -> 16284
A13: Közgyűjteményi és Közművelődési GESZ | B13: =SUM(C13:D13) -> 4944 | C13: =SUM('10'!F12-'10'!E12) -> -1 | D13: =SUM('11'!E12-'11'!F12) -> 4945 | E13: =SUM(F13:G13) -> 0 | F13: =SUM('14'!B13:F13) -> 0 | G13: ='14'!G13+'14'!H13+'14'!I13 -> 0 | H13: =SUM(I13:M13) -> 4944 | I13: =SUM('14'!K13:R13) -> 2444 | J13: ='14'!S13 -> 200 | K13: ='14'!T13 -> 2300
A14: Keresztury Dezső VMK | B14: =SUM(C14:D14) -> 26739 | C14: =SUM('10'!F13-'10'!E13) -> -2379 | D14: =SUM('11'!E13-'11'!F13) -> 29118 | E14: =SUM(F14:G14) -> 1432 | F14: =SUM('14'!B14:F14) -> 1389 | G14: ='14'!G14+'14'!H14+'14'!I14 -> 43 | H14: =SUM(I14:M14) -> 25307 | I14: =SUM('14'!K14:R14) -> 2307 | J14: ='14'!S14 -> 10450 | K14: ='14'!T14 -> 12550
A15: Zalaegerszegi Turisztikai Hivatal és Információs Iroda | B15: =SUM(C15:D15) -> 2146 | C15: =SUM('10'!F14-'10'!E14) -> 0 | D15: =SUM('11'!E14-'11'!F14) -> 2146 | E15: =SUM(F15:G15) -> 0 | F15: =SUM('14'!B15:F15) -> 0 | G15: ='14'!G15+'14'!H15+'14'!I15 -> 0 | H15: =SUM(I15:M15) -> 2146 | I15: =SUM('14'!K15:R15) -> 1146 | J15: ='14'!S15 -> 0 | K15: ='14'!T15 -> 1000
A16: Deák F. Megyei és Városi Könyvtár | B16: =SUM(C16:D16) -> 25422 | C16: =SUM('10'!F15-'10'!E15) -> -9977 | D16: =SUM('11'!E15-'11'!F15) -> 35399 | E16: =SUM(F16:G16) -> 679 | F16: =SUM('14'!B16:F16) -> 679 | G16: ='14'!G16+'14'!H16+'14'!I16 -> 0 | H16: =SUM(I16:M16) -> 24743 | I16: =SUM('14'!K16:R16)-M16 -> 9183 | J16: ='14'!S16 -> 0 | K16: ='14'!T16 -> 13000 | M16: 2560
A17: Zalaegerszegi Múzeumok Igazgatósága | B17: =SUM(C17:D17) -> 107338 | C17: =SUM('10'!F16-'10'!E16) -> -4302 | D17: =SUM('11'!E16-'11'!F16) -> 111640 | E17: =SUM(F17:G17) -> 1676 | F17: =SUM('14'!B17:F17) -> 1676 | G17: ='14'!G17+'14'!H17+'14'!I17 -> 0 | H17: =SUM(I17:M17) -> 105662 | I17: =SUM('14'!K17:R17)-M17 -> 62218 | J17: ='14'!S17 -> 38324 | K17: ='14'!T17 -> 0 | M17: 5120
A18: Hevesi Sándor Színház | B18: =SUM(C18:D18) -> 83614 | C18: =SUM('10'!F17-'10'!E17) -> 22719 | D18: =SUM('11'!E17-'11'!F17) -> 60895 | E18: =SUM(F18:G18) -> 16772 | F18: =SUM('14'!B18:F18) -> 6560 | G18: ='14'!G18+'14'!H18+'14'!I18 -> 10212 | H18: =SUM(I18:M18) -> 66842 | I18: =SUM('14'!K18:R18) -> -386 | J18: ='14'!S18 -> 24905 | K18: ='14'!T18 -> 42323
A19: Griff Bábszínház | B19: =SUM(C19:D19) -> 15972 | C19: =SUM('10'!F18-'10'!E18) -> -82 | D19: =SUM('11'!E18-'11'!F18) -> 16054 | E19: =SUM(F19:G19) -> 165 | F19: =SUM('14'!B19:F19) -> 165 | G19: ='14'!G19+'14'!H19+'14'!I19 -> 0 | H19: =SUM(I19:M19) -> 15807 | I19: =SUM('14'!K19:R19) -> 1972 | J19: ='14'!S19 -> 7519 | K19: ='14'!T19 -> 6316
A20: Városi Sportlétesítmények Gondnoksága | B20: =SUM(C20:D20) -> 21560 | C20: =SUM('10'!F19-'10'!E19) -> -89 | D20: =SUM('11'!E19-'11'!F19) -> 21649 | E20: =SUM(F20:G20) -> 0 | F20: =SUM('14'!B20:F20) -> 0 | G20: ='14'!G20+'14'!H20+'14'!I20 -> 0 | H20: =SUM(I20:M20) -> 21560 | I20: =SUM('14'!K20:R20) -> 2560 | J20: ='14'!S20 -> 3226 | K20: ='14'!T20 -> 15774
A21: Vásárcsarnok | B21: =SUM(C21:D21) -> 10968 | C21: =SUM('10'!F20-'10'!E20) -> -7514 | D21: =SUM('11'!E20-'11'!F20) -> 18482 | E21: =SUM(F21:G21) -> 0 | F21: =SUM('14'!B21:F21) -> 0 | G21: ='14'!G21+'14'!H21+'14'!I21 -> 0 | H21: =SUM(I21:M21) -> 10968 | I21: =SUM('14'!K21:R21) -> 0 | J21: ='14'!S21 -> 0 | K21: ='14'!T21 -> 10968
A22: Göcseji Tudásközpont | B22: =SUM(C22:D22) -> 15832 | C22: ='10'!F21-'10'!E21 -> 608 | D22: ='11'!E21-'11'!F21 -> 15224 | E22: =SUM(F22:G22) -> 101 | F22: =SUM('14'!B22:F22) -> 101 | G22: ='14'!G22+'14'!H22+'14'!I22 -> 0 | H22: =SUM(I22:M22) -> 15731 | I22: =SUM('14'!K22:R22) -> 959 | J22: ='14'!S22 -> 0 | K22: ='14'!T22 -> 14772
A23: Alaptevékenység maradványa költségvetési szervek összesen: | B23: =SUM(B5:B22) -> 1007388 | C23: =SUM(C5:C22) -> 46747 | D23: =SUM(D5:D22) -> 960641 | E23: =SUM(E5:E22) -> 45802 | F23: =SUM(F5:F22) -> 26159 | G23: =SUM(G5:G22) -> 19643 | H23: =SUM(H5:H22) -> 961586 | I23: =SUM(I5:I22) -> 299014 | ... M23: =SUM(M5:M22) -> 60225
A24: ZMJV Önkormányzata | B24: =SUM(C24:D24) -> 4574464 | C24: =SUM('5'!F13-'5'!E13) -> -10959049 | D24: =SUM('7'!E15-'7'!F15) -> 15533513 | E24: =SUM(F24+G24) -> 0 | F24: =SUM('14'!B24:F24) -> 0 | G24: =SUM('14'!G24:I24) -> 0 | H24: =SUM(I24:M24) -> 4574464 | J24: ='14'!S24-L24 -> 212375 | K24: ='14'!T24 -> 1327749 | L24: 2999978 | M24: 34362
A25: Alaptevékenység maradványa önkormányzat összesen: | B25: =SUM(B23:B24) -> 5581852 | C25: =SUM(C23:C24) -> -10912302 | D25: =SUM(D23:D24) -> 16494154 | E25: =SUM(E23:E24) -> 45802 | F25: =SUM(F23:F24) -> 26159 | G25: =SUM(G23:G24) -> 19643 | H25: =SUM(H23:H24) -> 5536050 | I25: =SUM(I23:I24) -> 299014 | ... M25: =SUM(M23:M24) -> 94587

Sheet 14
A1: Megnevezés | B1: Maradvány visszatervezése | V1: Mindösszesen
B2: Kötelezettséggel terhelt maradvány | K2: Szabad maradvány
B3: Személyi juttatások | C3: Munkaadókat terhelő járulékok és szociális hozzájárulási adó | D3: Dologi kiadások | E3: Ellátottak pénzbeli juttatásai | F3: Egyéb működési célú kiadások | G3: Beruházások | H3: Felújítások | I3: Egyéb felhalmozási célú kiadások | J3: Összesen | K3: Személyi juttatások | L3: Munkaadókat terhelő járulékok és szociális hozzájárulási adó | M3: Dologi kiadások | N3: Ellátottak pénzbeli juttatásai | O3: Egyéb működési célú kiadások, tartalékok | P3: Beruházások | Q3: Felújítások | R3: Egyéb felhalmozási célú kiadások | S3: Célra, feladatra kapott összegek | T3: Eredeti költségvetésbe, hiány finanszírozására bevont maradvány | U3: Összesen
A4: Alaptevékenység maradványa:
A5: Polgármesteri Hivatal | D5: 10262 | G5: 2132 | J5: =SUM(B5:I5) -> 12394 | M5: 3849 | T5: 42355 | U5: =SUM(K5:T5) -> 46204 | V5: =SUM(U5,J5) -> 58598
A6: Zalaegerszegi Gazdasági Ellátó Szervezet | D6: 533 | G6: 922 | J6: =SUM(B6:I6) -> 1455 | K6: 14000 | L6: 1820 | M6: 10000 | O6: 15820 | P6: 24197 | Q6: 25000 | T6: 154896 | U6: =SUM(K6:T6) -> 245733 | V6: =SUM(U6,J6) -> 247188
A7: Zalaegerszegi Egyesített Bölcsődék | D7: 2950 | G7: 3759 | J7: =SUM(B7:I7) -> 6709 | K7: 7500 | L7: 975 | M7: 10000 | O7: 8475 | P7: 25000 | Q7: 19318 | T7: 54872 | U7: =SUM(K7:T7) -> 126140 | V7: =SUM(U7,J7) -> 132849
A8: Zalaegerszegi Család- és Gyermekjóléti Központ | D8: 1337 | G8: 93 | J8: =SUM(B8:I8) -> 1430 | K8: 25000 | L8: 3250 | M8: 7747 | N8: 2352 | O8: 28250 | P8: 16000 | T8: 52903 | U8: =SUM(K8:T8) -> 135502 | V8: =SUM(U8,J8) -> 136932
A9: Zalaegerszegi Belvárosi I. sz. Óvoda | D9: 351 | J9: =SUM(B9:I9) -> 351 | K9: 3000 | L9: 390 | M9: 189 | Q9: 1694 | T9: 33198 | U9: =SUM(K9:T9) -> 38471 | V9: =SUM(U9,J9) -> 38822
A10: Zalaegerszegi Belvárosi II.sz.Óvoda | D10: 30 | J10: =SUM(B10:I10) -> 30 | K10: 3885 | L10: 505 | M10: 189 | Q10: 988 | S10: 411 | T10: 24904 | U10: =SUM(K10:T10) -> 30882 | V10: =SUM(U10,J10) -> 30912
A11: Zalaegerszegi Kertvárosi Óvoda | D11: 39 | G11: 1800 | H11: 600 | J11: =SUM(B11:I11) -> 2439 | K11: 3000 | L11: 390 | M11: 188 | Q11: 1040 | T11: 18318 | U11: =SUM(K11:T11) -> 22936 | V11: =SUM(U11,J11) -> 25375
A12: Zalaegerszegi Landorhegyi Óvoda | D12: 87 | G12: 82 | J12: =SUM(B12:I12) -> 169 | K12: 3000 | L12: 390 | M12: 189 | P12: 1566 | S12: 579 | T12: 16284 | U12: =SUM(K12:T12) -> 22008 | V12: =SUM(U12,J12) -> 22177
A13: Közgyűjteményi és Közművelődési GESZ | J13: =SUM(B13:I13) -> 0 | K13: 1900 | L13: 445 | M13: 99 | S13: 200 | T13: 2300 | U13: =SUM(K13:T13) -> 4944 | V13: =SUM(U13,J13) -> 4944
A14: Keresztury Dezső VMK | D14: 1389 | G14: 43 | J14: =SUM(B14:I14) -> 1432 | M14: 307 | Q14: 2000 | S14: 10450 | T14: 12550 | U14: =SUM(K14:T14) -> 25307 | V14: =SUM(U14,J14) -> 26739
A15: Zalaegerszegi Turisztikai Hivatal és Információs Iroda | J15: =SUM(B15:I15) -> 0 | K15: 896 | L15: 250 | T15: 1000 | U15: =SUM(K15:T15) -> 2146 | V15: =SUM(U15,J15) -> 2146
A16: Deák F. Megyei és Városi Könyvtár | D16: 679 | J16: =SUM(B16:I16) -> 679 | K16: 2000 | L16: 560 | M16: 6623 | O16: 2560 | T16: 13000 | U16: =SUM(K16:T16) -> 24743 | V16: =SUM(U16,J16) -> 25422
A17: Zalaegerszegi Múzeumok Igazgatósága | D17: 1676 | J17: =SUM(B17:I17) -> 1676 | K17: 4000 | L17: 1120 | M17: 9898 | O17: 29820 | P17: 19500 | Q17: 3000 | S17: 38324 | U17: =SUM(K17:T17) -> 105662 | V17: =SUM(U17,J17) -> 107338
A18: Hevesi Sándor Színház | D18: 6560 | G18: 10212 | J18: =SUM(B18:I18) -> 16772 | M18: -386 | S18: 24905 | T18: 42323 | U18: =SUM(K18:T18) -> 66842 | V18: =SUM(U18,J18) -> 83614
A19: Griff Bábszínház | D19: 165 | J19: =SUM(B19:I19) -> 165 | M19: 1972 | S19: 7519 | T19: 6316 | U19: =SUM(K19:T19) -> 15807 | V19: =SUM(U19,J19) -> 15972
A20: Városi Sportlétesítmények Gondnoksága | J20: =SUM(B20:I20) -> 0 | M20: 2560 | S20: 3226 | T20: 15774 | U20: =SUM(K20:T20) -> 21560 | V20: =SUM(U20,J20) -> 21560
A21: Vásárcsarnok | J21: =SUM(B21:I21) -> 0 | T21: 10968 | U21: =SUM(K21:T21) -> 10968 | V21: =SUM(U21,J21) -> 10968
A22: Göcseji Tudásközpont | D22: 101 | J22: =SUM(B22:I22) -> 101 | O22: 959 | T22: 14772 | U22: =SUM(K22:T22) -> 15731 | V22: =SUM(U22,J22) -> 15832
A23: Alaptevékenység maradványa költségvetési szervek összesen: | B23: =SUM(B5:B22) -> 0 | C23: =SUM(C5:C22) -> 0 | D23: =SUM(D5:D22) -> 26159 | E23: =SUM(E5:E22) -> 0 | F23: =SUM(F5:F22) -> 0 | G23: =SUM(G5:G22) -> 19043 | H23: =SUM(H5:H22) -> 600 | I23: =SUM(I5:I22) -> 0 | J23: =SUM(B23:I23) -> 45802 | K23: =SUM(K5:K22) -> 68181 | L23: =SUM(L5:L22) -> 10095 | M23: =SUM(M5:M22) -> 53424 | N23: =SUM(N5:N22) -> 2352 | O23: =SUM(O5:O22) -> 85884 | P23: =SUM(P5:P22) -> 86263 | Q23: =SUM(Q5:Q22) -> 53040 | R23: =SUM(R5:R22) -> 0 | ... V23: =SUM(V5:V22) -> 1007388
A24: ZMJV Önkormányzata | J24: =SUM(B24:I24) -> 0 | O24: 34362 | S24: 3212353 | T24: 1327749 | U24: =SUM(K24:T24) -> 4574464 | V24: =SUM(U24,J24) -> 4574464
A25: Alaptevékenység maradványa önkormányzat összesen: | B25: =SUM(B23:B24) -> 0 | C25: =SUM(C23:C24) -> 0 | D25: =SUM(D23:D24) -> 26159 | E25: =SUM(E23:E24) -> 0 | F25: =SUM(F23:F24) -> 0 | G25: =SUM(G23:G24) -> 19043 | H25: =SUM(H23:H24) -> 600 | I25: =SUM(I23:I24) -> 0 | J25: =SUM(B25:I25) -> 45802 | K25: =SUM(K23:K24) -> 68181 | L25: =SUM(L23:L24) -> 10095 | M25: =SUM(M23:M24) -> 53424 | N25: =SUM(N23:N24) -> 2352 | O25: =SUM(O23:O24) -> 120246 | P25: =SUM(P23:P24) -> 86263 | Q25: =SUM(Q23:Q24) -> 53040 | R25: =SUM(R23:R24) -> 0 | ... V25: =SUM(V23:V24) -> 5581852

Sheet 15
A1: Megnevezés | B1: A/I | C1: A/II/1 | D1: A/II/2 | E1: A/II/4 | F1: A/II | G1: A/III | H1: A/IV | I1: A | J1: B/I | K1: B/II | L1: B | M1: C/I | N1: C/II | O1: C/III | P1: C/IV | Q1: C | R1: D | S1: E | T1: F | U1: ESZKÖZÖK ÖSSZESEN
B2: Immateriális javak | C2: Ingatlanok és a kapcsolódó vagyoni értékű jogok | D2: Gépek, berendezések, felszerelések, járművek | E2: Beruházások, felújítások | F2: Tárgyi eszközök | G2: Befektetett pénzügyi eszközök | H2: Koncesszióba, vagyonkezelésbe adott eszközök | I2: NEMZETI VAGYONBA TARTOZÓ BEFEKTETETT ESZKÖZÖK | J2: Készletek | K2: Értékpapírok | L2: NEMZETI VAGYONBA TARTOZÓ FORGÓESZKÖZÖK | M2: Lekötött bankbetétek | N2: Pénztárak, csekkek, betétkönyvek | O2: Forintszámlák | P2: Devizaszámlák | Q2: PÉNZESZKÖZÖK | R2: KÖVETELÉSEK | S2: EGYÉB SAJÁTOS ELSZÁMOLÁSOK | T2: AKTÍV IDŐBELI ELHATÁROLÁSOK
A3: Polgármesteri Hivatal | B3: 131 | C3: 294606 | D3: 49019 | F3: =SUM(C3:E3) -> 343625 | I3: =SUM(B3+F3+G3+H3) -> 343756 | L3: =SUM(J3:K3) -> 0 | N3: 249 | O3: 53606 | Q3: =SUM(M3:P3) -> 53855 | R3: 9287 | S3: 786 | T3: 4502 | U3: =SUM(I3+L3+Q3+R3+S3+T3) -> 412186
A4: Zalaegerszegi Gazdasági Ellátó Szervezet | C4: 826520 | D4: 7170 | F4: =SUM(C4:E4) -> 833690 | I4: =SUM(B4+F4+G4+H4) -> 833690 | L4: =SUM(J4:K4) -> 0 | N4: 177 | O4: 249599 | Q4: =SUM(M4:P4) -> 249776 | R4: 2790 | S4: 86836 | T4: 1631 | U4: =SUM(I4+L4+Q4+R4+S4+T4) -> 1174723
A5: Zalaegerszegi Egyesített Bölcsődék | C5: 1114088 | D5: 37269 | F5: =SUM(C5:E5) -> 1151357 | I5: =SUM(B5+F5+G5+H5) -> 1151357 | J5: 529 | L5: =SUM(J5:K5) -> 529 | N5: 11 | O5: 133074 | Q5: =SUM(M5:P5) -> 133085 | R5: 19201 | S5: 1289 | T5: 325 | U5: =SUM(I5+L5+Q5+R5+S5+T5) -> 1305786
A6: Zalaegerszegi Család- és Gyermekjóléti Központ | C6: 830 | D6: 6688 | F6: =SUM(C6:E6) -> 7518 | I6: =SUM(B6+F6+G6+H6) -> 7518 | L6: =SUM(J6:K6) -> 0 | N6: 341 | O6: 136499 | Q6: =SUM(M6:P6) -> 136840 | R6: 91 | T6: 1302 | U6: =SUM(I6+L6+Q6+R6+S6+T6) -> 145751
A7: Zalaegerszegi Belvárosi I. számú Óvoda | C7: 393648 | D7: 7313 | F7: =SUM(C7:E7) -> 400961 | I7: =SUM(B7+F7+G7+H7) -> 400961 | L7: =SUM(J7:K7) -> 0 | N7: 178 | O7: 38007 | Q7: =SUM(M7:P7) -> 38185 | R7: 1290 | S7: 3230 | T7: 331 | U7: =SUM(I7+L7+Q7+R7+S7+T7) -> 443997
A8: Zalaegerszegi Belvárosi II. számú Óvoda | C8: 329904 | D8: 6963 | F8: =SUM(C8:E8) -> 336867 | I8: =SUM(B8+F8+G8+H8) -> 336867 | L8: =SUM(J8:K8) -> 0 | N8: 33 | O8: 30020 | Q8: =SUM(M8:P8) -> 30053 | R8: 6634 | S8: 6376 | T8: 735 | U8: =SUM(I8+L8+Q8+R8+S8+T8) -> 380665
A9: Zalaegerszegi Kertvárosi Óvoda | C9: 455428 | D9: 5338 | F9: =SUM(C9:E9) -> 460766 | I9: =SUM(B9+F9+G9+H9) -> 460766 | L9: =SUM(J9:K9) -> 0 | N9: 193 | O9: 24586 | Q9: =SUM(M9:P9) -> 24779 | R9: 1143 | S9: 6990 | T9: 143 | U9: =SUM(I9+L9+Q9+R9+S9+T9) -> 493821
A10: Zalaegerszegi Landorhegyi Óvoda | C10: 388339 | D10: 7933 | F10: =SUM(C10:E10) -> 396272 | I10: =SUM(B10+F10+G10+H10) -> 396272 | L10: =SUM(J10:K10) -> 0 | N10: 139 | O10: 21206 | Q10: =SUM(M10:P10) -> 21345 | R10: 5790 | S10: 3570 | T10: 135 | U10: =SUM(I10+L10+Q10+R10+S10+T10) -> 427112
A11: Közgyűjteményi és Közművelődési GESZ | E11: 12 | F11: =SUM(C11:E11) -> 12 | I11: =SUM(B11+F11+G11+H11) -> 12 | L11: =SUM(J11:K11) -> 0 | N11: 21 | O11: 4824 | Q11: =SUM(M11:P11) -> 4845 | R11: 99 | U11: =SUM(I11+L11+Q11+R11+S11+T11) -> 4956
A12: Keresztury Dezső VMK | B12: 89 | C12: 2211831 | D12: 314589 | E12: 34 | F12: =SUM(C12:E12) -> 2526454 | I12: =SUM(B12+F12+G12+H12) -> 2526543 | J12: 94 | L12: =SUM(J12:K12) -> 94 | N12: 711 | O12: 45257 | Q12: =SUM(M12:P12) -> 45968 | R12: 3055 | S12: 2649 | U12: =SUM(I12+L12+Q12+R12+S12+T12) -> 2578309
A13: Zalaegerszegi Turisztikai Hivatal és Információs Iroda | D13: 1292 | F13: =SUM(C13:E13) -> 1292 | I13: =SUM(B13+F13+G13+H13) -> 1292 | J13: 600 | L13: =SUM(J13:K13) -> 600 | N13: 418 | O13: 1729 | Q13: =SUM(M13:P13) -> 2147 | T13: 148 | U13: =SUM(I13+L13+Q13+R13+S13+T13) -> 4187
A14: Deák Ferenc Megyei és Városi Könyvtár | B14: 440 | C14: 85012 | D14: 15317 | E14: 1296 | F14: =SUM(C14:E14) -> 101625 | I14: =SUM(B14+F14+G14+H14) -> 102065 | L14: =SUM(J14:K14) -> 0 | N14: 481 | O14: 24570 | Q14: =SUM(M14:P14) -> 25051 | R14: 8990 | S14: 572 | T14: 15328 | U14: =SUM(I14+L14+Q14+R14+S14+T14) -> 152006
A15: Zalaegerszegi Múzeumok Igazgatósága | B15: 5517 | C15: 7528249 | D15: 171558 | F15: =SUM(C15:E15) -> 7699807 | I15: =SUM(B15+F15+G15+H15) -> 7705324 | J15: 14901 | L15: =SUM(J15:K15) -> 14901 | N15: 396 | O15: 99532 | P15: 7771 | Q15: =SUM(M15:P15) -> 107699 | R15: 15158 | S15: 2900 | T15: 1036 | U15: =SUM(I15+L15+Q15+R15+S15+T15) -> 7847018
A16: Hevesi Sándor Színház | C16: 365235 | D16: 58401 | F16: =SUM(C16:E16) -> 423636 | I16: =SUM(B16+F16+G16+H16) -> 423636 | J16: 7802 | L16: =SUM(J16:K16) -> 7802 | N16: 3865 | O16: 81412 | Q16: =SUM(M16:P16) -> 85277 | R16: 4484 | S16: 7276 | T16: 5574 | U16: =SUM(I16+L16+Q16+R16+S16+T16) -> 534049
A17: Griff Bábszínház | C17: 54 | D17: 12336 | F17: =SUM(C17:E17) -> 12390 | I17: =SUM(B17+F17+G17+H17) -> 12390 | L17: =SUM(J17:K17) -> 0 | N17: 2114 | O17: 13702 | Q17: =SUM(M17:P17) -> 15816 | R17: 1200 | S17: 2332 | T17: 303 | U17: =SUM(I17+L17+Q17+R17+S17+T17) -> 32041
A18: Városi Sportlétesítmények Gondnoksága | B18: 10 | C18: 1391431 | D18: 16413 | F18: =SUM(C18:E18) -> 1407844 | I18: =SUM(B18+F18+G18+H18) -> 1407854 | J18: 71 | L18: =SUM(J18:K18) -> 71 | N18: 94 | O18: 22192 | Q18: =SUM(M18:P18) -> 22286 | R18: 8786 | S18: 217 | U18: =SUM(I18+L18+Q18+R18+S18+T18) -> 1439214
A19: Vásárcsarnok | C19: 379437 | D19: 803 | F19: =SUM(C19:E19) -> 380240 | I19: =SUM(B19+F19+G19+H19) -> 380240 | L19: =SUM(J19:K19) -> 0 | N19: 975 | O19: 14869 | Q19: =SUM(M19:P19) -> 15844 | S19: -4506 | U19: =SUM(I19+L19+Q19+R19+S19+T19) -> 391578
A20: Göcseji Tudásközpont | C20: 638459 | D20: 15516 | F20: =SUM(C20:E20) -> 653975 | I20: =SUM(B20+F20+G20+H20) -> 653975 | L20: =SUM(J20:K20) -> 0 | N20: 142 | O20: 17674 | Q20: =SUM(M20:P20) -> 17816 | R20: 382 | S20: 197 | T20: 235 | U20: =SUM(I20+L20+Q20+R20+S20+T20) -> 672605
A21: Költségvetési szervek összesen: | B21: =SUM(B3:B20) -> 6187 | C21: =SUM(C3:C20) -> 16403071 | D21: =SUM(D3:D20) -> 733918 | E21: =SUM(E3:E20) -> 1342 | F21: =SUM(F3:F20) -> 17138331 | G21: =SUM(G3:G20) -> 0 | H21: =SUM(H3:H20) -> 0 | I21: =SUM(I3:I20) -> 17144518 | ... U21: =SUM(U3:U20) -> 18440004
A22: ZMJV Önkormányzata | B22: 9806 | C22: 134381360 | D22: 3225495 | E22: 1806392 | F22: =SUM(C22:E22) -> 139413247 | G22: 1706198 | I22: =SUM(B22+F22+G22+H22) -> 141129251 | K22: 4364180 | L22: =SUM(J22:K22) -> 4364180 | N22: 355 | O22: 4363705 | P22: 901618 | Q22: =SUM(M22:P22) -> 5265678 | R22: 10177250 | S22: -281581 | T22: 133064 | U22: =SUM(I22+L22+Q22+R22+S22+T22) -> 160787842
A23: Önkormányzat össz: | B23: =SUM(B21:B22) -> 15993 | C23: =SUM(C21:C22) -> 150784431 | D23: =SUM(D21:D22) -> 3959413 | E23: =SUM(E21:E22) -> 1807734 | F23: =SUM(F21:F22) -> 156551578 | G23: =SUM(G21:G22) -> 1706198 | H23: =SUM(H21:H22) -> 0 | I23: =SUM(I21:I22) -> 158273769 | ... U23: =SUM(U21:U22) -> 179227846

Sheet 16
A1: Megnevezés | C1: összeg
A2: Nyitó pénzkészlet :
A3: pénztárak 2025. január 1-én | B3: 11339043 | C3: 11339
A4: forintszámlák 2025. január 1-én | B4: 7172719749 | C4: 7172720
A5: devizaszámlák 2025. január 1-én | B5: 948216467 | C5: 948216
A6: 1. Nyitó pénzkészlet 2025. január 1-én | B6: =SUM(B3:B5) -> 8132275259 | C6: =SUM(C3:C5) -> 8132275
A7: Bevételek:
A8: önkormányzat költségvetési bevételei: | B8: 26447075196 | C8: 26447075
A9: önkormányzat finanszírozási bevételei: | B9: 23520567250 | C9: 23520567
A10: Önkormányzat 2025. évi bevételei összesen: | B10: =SUM(B8:B9) -> 49967642446 | C10: =SUM(C8:C9) -> 49967642
A11: Előző év költségvetési maradványának igénybevétele | B11: -7464090724 | C11: -7464091
A12: Adott előleghez kapcsolódó előzetesen felszámított levonható általános forgalmi adó tárgyidőszaki forgalma | B12: 942705 | C12: 943
A13: Adott előleghez kapcsolódó előzetesen felszámított nem levonható általános forgalmi adó tárgyidőszaki forgalma | B13: -104729 | C13: -105
A14: Kapott előleghez kapcsolódó fizetendő általános forgalmi adó tárgyidőszaki forgalma | B14: -4708839 | C14: -4709
A15: Adott előlegek számla tárgyidőszaki forgalma | B15: -113246328 | C15: -113246
A16: Forgótőke elszámolása számla tárgyidőszaki forgalma | B16: -285000 | C16: -285
A17: Folyósított, megelőlegezett társadalombiztosítási és családtámogatási ellátások elszámolása számla tárgyidőszaki forgalma | B17: 4052576 | C17: 4052
A18: Letétre, megőrzésre, fedezetkezelésre átadott pénzeszközök, biztosítékok számla tárgyidőszaki forgalma | B18: 134326 | C18: 134
A19: Egyéb sajátos eszközoldali elszámolások tárgyidőszaki forgalma | B19: 898853 | C19: 899
A20: 2. Önkormányzat 2025. évi pénzforgalmi bevételei a sajátos eszközoldali elszámolásokkal együtt: | B20: =B10+B11-B12-B13-B14-B15-B16-B17-B18-B19 -> 42615868158 | C20: =C10+C11-C12-C13-C14-C15-C16-C17-C18-C19 -> 42615868
A21: Kiadások:
A22: önkormányzat költségvetési kiadásai: | B22: 30488878834 | C22: 30488879
A23: önkormányzat finanszírozási kiadásai: | B23: 13896911331 | C23: 13896911
A24: Önkormányzat 2025. évi kiadások összesen: | B24: =SUM(B22:B23) -> 44385790165 | C24: =SUM(C22:C23) -> 44385790
A25: Kapott előlegek tárgyidőszaki forgalma | B25: 140347659 | C25: 140348
A26: Más szervezetet megillető bevételek elszámolása számla tárgyidőszaki forgalma | B26: 166904 | C26: 167
A27: Letétre, megőrzésre, fedezetkezelésre átvett pénzeszközök, biztosítékok tárgyidőszaki forgalma | B27: -131762856 | C27: -131763
A28: 3. Önkormányzat 2025. évi kiadásai a sajátos forrásoldali elszámolásokkal együtt: | B28: =SUM(B24+B25+B26+B27) -> 44394541872 | C28: =SUM(C24+C25+C26+C27) -> 44394542
A29: Egyéb korrekciós tételek:
A30: Egyéb pénzeszközök és sajátos elszámolások mérlegfordulónapi értékelése során megállapított (nem realizált) árfolyamvesztesége tárgyidőszaki egyenlege | B30: 57256300 | C30: 57256
A31: Egyéb pénzeszközök és sajátos elszámolások mérlegfordulónapi értékelése során megállapított (nem realizált) árfolyamnyeresége tárgyidőszaki egyenlege
A32: 4. Egyéb korrekciós tételek összesen: | B32: =SUM(B30:B31) -> 57256300 | C32: =SUM(C30:C31) -> 57256
A33: 5. Pénzeszközök összesen 2025. december 31-én (1+2-3-4) | B33: =B6+B20-B28-B32 -> 6296345245 | C33: =C6+C20-C28-C32 -> 6296345
A34: Záró pénzkészlet mérleg szerint:
A35: pénztárak 2025. december 31-én | B35: 10893144 | C35: 10893
A36: forintszámlák 2025. december 31-én | B36: 5376062701 | C36: 5376063
A37: devizaszámlák 2025. december 31-én | B37: 909389400 | C37: 909389
A38: 6. Záró pénzkészlet 2025. december 31-én | B38: =SUM(B35:B37) -> 6296345245 | C38: =SUM(C35:C37) -> 6296345
B40: =B33-B38 -> 0 | C40: =C33-C38 -> 0

Sheet 17
A1: Megnevezés | B1: G/1 | C1: G/II | D1: G/III | E1: G/IV | F1: G/V | G1: G/VI | H1: G | I1: H | J1: I | K1: J | L1: FORRÁSOK ÖSSZESEN
B2: Nemzeti vagyon induláskori értéke | C2: Nemzeti vagyon változásai | D2: Egyéb eszközök induláskori értéke és változásai | E2: Felhalmozott eredmény | F2: Eszközök értékhelyesbítésének forrása | G2: Mérleg szerinti eredmény | H2: SAJÁT TŐKE | I2: KÖTELEZETTSÉGEK | J2: KINCSTÁRI SZÁMLAVEZETÉSSEL KAPCSOLATOS ELSZÁMOLÁSOK | K2: PASSZÍV IDŐBELI ELHATÁROLÁSOK
A3: Polgármesteri Hivatal | B3: 1030697 | C3: 12514 | D3: 151410 | E3: -919518 | G3: -42392 | H3: =SUM(B3:G3) -> 232711 | I3: 21784 | K3: 157691 | L3: =SUM(H3:K3) -> 412186
A4: Zalaegerszegi Gazdasági Ellátó Szervezet | B4: 5848414 | C4: -3168572 | D4: -300104 | E4: -1713891 | G4: 43959 | H4: =SUM(B4:G4) -> 709806 | I4: 138173 | K4: 326744 | L4: =SUM(H4:K4) -> 1174723
A5: Zalaegerszegi Egyesített Bölcsődék | B5: 814062 | C5: 119850 | D5: 87 | E5: -55719 | G5: 12064 | H5: =SUM(B5:G5) -> 890344 | I5: 7302 | K5: 408140 | L5: =SUM(H5:K5) -> 1305786
A6: Zalaegerszegi Család- és Gyermekjóléti Központ | C6: -161 | D6: 6184 | E6: 91238 | G6: 22866 | H6: =SUM(B6:G6) -> 120127 | I6: 296 | K6: 25328 | L6: =SUM(H6:K6) -> 145751
A7: Zalaegerszegi Belvárosi I. számú Óvoda | B7: 338747 | C7: 89529 | D7: 718 | E7: -90067 | G7: -10767 | H7: =SUM(B7:G7) -> 328160 | I7: 7125 | K7: 108712 | L7: =SUM(H7:K7) -> 443997
A8: Zalaegerszegi Belvárosi II. számú Óvoda | B8: 265813 | C8: 50745 | D8: 1202 | E8: -75157 | G8: -11503 | H8: =SUM(B8:G8) -> 231100 | I8: 10219 | K8: 139346 | L8: =SUM(H8:K8) -> 380665
A9: Zalaegerszegi Kertvárosi Óvoda | B9: 303656 | C9: 16625 | D9: 604 | E9: -85875 | G9: -20734 | H9: =SUM(B9:G9) -> 214276 | I9: 12666 | K9: 266879 | L9: =SUM(H9:K9) -> 493821
A10: Zalaegerszegi Landorhegyi Óvoda | B10: 331971 | C10: 40980 | D10: 430 | E10: -99301 | G10: -1633 | H10: =SUM(B10:G10) -> 272447 | I10: 6844 | K10: 147821 | L10: =SUM(H10:K10) -> 427112
A11: Közgyűjteményi és Közművelődési GESZ | E11: -4894 | G11: 1563 | H11: =SUM(B11:G11) -> -3331 | I11: 16 | K11: 8271 | L11: =SUM(H11:K11) -> 4956
A12: Keresztury Dezső VMK | B12: 1295260 | C12: 859159 | D12: 5315 | E12: -527343 | G12: -50717 | H12: =SUM(B12:G12) -> 1581674 | I12: 35048 | K12: 961587 | L12: =SUM(H12:K12) -> 2578309
A13: Zalaegerszegi Turisztikai Hivatal és Információs Iroda | B13: 4543 | C13: 1161 | D13: 1285 | E13: -6683 | G13: 912 | H13: =SUM(B13:G13) -> 1218 | I13: 46 | K13: 2923 | L13: =SUM(H13:K13) -> 4187
A14: Deák Ferenc Megyei és Városi Könyvtár | B14: 223724 | C14: 20522 | D14: 9312 | E14: -163001 | G14: 20737 | H14: =SUM(B14:G14) -> 111294 | I14: 14402 | K14: 26310 | L14: =SUM(H14:K14) -> 152006
A15: Zalaegerszegi Múzeumok Igazgatósága | B15: 620445 | C15: 225361 | D15: 39257 | E15: -316658 | G15: 3736 | H15: =SUM(B15:G15) -> 572141 | I15: 86388 | K15: 7188489 | L15: =SUM(H15:K15) -> 7847018
A16: Hevesi Sándor Színház | B16: 767802 | C16: 6289 | D16: 2026 | E16: -483145 | G16: -17985 | H16: =SUM(B16:G16) -> 274987 | I16: 36777 | K16: 222285 | L16: =SUM(H16:K16) -> 534049
A17: Griff Bábszínház | B17: 31672 | D17: 4861 | E17: -34508 | G17: -5184 | H17: =SUM(B17:G17) -> -3159 | I17: 3380 | K17: 31820 | L17: =SUM(H17:K17) -> 32041
A18: Városi Sportlétesítmények Gondnoksága | B18: 2065771 | C18: -389608 | D18: 22611 | E18: -585721 | G18: -29947 | H18: =SUM(B18:G18) -> 1083106 | I18: 8199 | K18: 347909 | L18: =SUM(H18:K18) -> 1439214
A19: Vásárcsarnok | B19: 507122 | C19: -24099 | D19: 24668 | E19: -227542 | G19: -15588 | H19: =SUM(B19:G19) -> 264561 | I19: 4875 | K19: 122142 | L19: =SUM(H19:K19) -> 391578
A20: Göcseji Tudásközpont | C20: 69096 | E20: 10139 | G20: 3050 | H20: =SUM(B20:G20) -> 82285 | I20: 3485 | K20: 586835 | L20: =SUM(H20:K20) -> 672605
A21: Költségvetési szervek összesen: | B21: =SUM(B3:B20) -> 14449699 | C21: =SUM(C3:C20) -> -2070609 | D21: =SUM(D3:D20) -> -30134 | E21: =SUM(E3:E20) -> -5287646 | F21: =SUM(F3:F20) -> 0 | G21: =SUM(G3:G20) -> -97563 | H21: =SUM(H3:H20) -> 6963747 | I21: =SUM(I3:I20) -> 397025 | ... L21: =SUM(L3:L20) -> 18440004
A22: ZMJV Önkormányzata | B22: 109313293 | C22: -2107673 | D22: 3597874 | E22: -7839194 | G22: -802280 | H22: =SUM(B22:G22) -> 102162020 | I22: 2626655 | K22: 55999167 | L22: =SUM(H22:K22) -> 160787842
A23: Önkormányzat összesen: | B23: =SUM(B21:B22) -> 123762992 | C23: =SUM(C21:C22) -> -4178282 | D23: =SUM(D21:D22) -> 3567740 | E23: =SUM(E21:E22) -> -13126840 | F23: =SUM(F21:F22) -> 0 | G23: =SUM(G21:G22) -> -899843 | H23: =SUM(H21:H22) -> 109125767 | I23: =SUM(I21:I22) -> 3023680 | ... L23: =SUM(L21:L22) -> 179227846

Sheet 18
A1: Megnevezés | B1: Immateriális javak | F1: Tárgyi eszközök | S1: Koncesszóba, vagyonkezelésbe adott eszközök
F2: Ingatlanok és kapcsolódó vagyoni értékű jogok | I2: Gépek, berendezések, felszerelések, járművek | L2: Beruházások és felújítások | O2: Tárgyi eszközök összesen
B3: Bruttó érték tárgyévi növ. | C3: Bruttó érték tárgy- évi csökk. | D3: Écs. vált. | E3: Immat javak nettó értékvált. össz. | F3: Bruttó érték növ. | G3: Bruttó érték csökk. | H3: Écs. vált. | I3: Br. ért. növ. | J3: Br. ért. csökk. | K3: Écs. vált. | L3: Br. ért. növ. | M3: Br. ért. csökk. | N3: Écs. vált. | O3: Bruttó érték növ. | P3: Bruttó érték csökk. | Q3: Écs.vált. | R3: Tárgyi eszköz nettó értékvált. összesen | S3: Bruttó érték növ. | T3: Bruttó érték csökk. | U3: Écs.vált. | V3: Koncesszóba, vagyonkezelésbe adott eszközök nettó értékvált. összesen
A4: Polgármesteri Hivatal | B4: 143 | C4: 15549 | D4: -15465 | E4: =SUM(B4-C4-D4) -> 59 | F4: 10204 | G4: 59113 | H4: -19940 | I4: 35665 | J4: 19682 | K4: 859 | L4: 40681 | M4: 41416 | O4: =SUM(F4+I4+L4) -> 86550 | P4: =SUM(G4+J4+M4) -> 120211 | Q4: =SUM(H4+K4+N4) -> -19081 | R4: =O4-P4-Q4 -> -14580 | V4: =SUM(S4-T4-U4) -> 0
A5: ZeGesz | B5: 2023 | C5: 30 | D5: 1993 | E5: =SUM(B5-C5-D5) -> 0 | F5: 28798 | G5: 1815 | H5: 21202 | I5: 56831 | J5: 15215 | K5: 40433 | L5: 32447 | M5: 32447 | O5: =SUM(F5+I5+L5) -> 118076 | P5: =SUM(G5+J5+M5) -> 49477 | Q5: =SUM(H5+K5+N5) -> 61635 | R5: =O5-P5-Q5 -> 6964 | V5: =SUM(S5-T5-U5) -> 0
A6: Zegi Egyesített Bölcsődék | C6: 20 | D6: -20 | E6: =SUM(B6-C6-D6) -> 0 | F6: 49903 | H6: 18849 | I6: 21281 | J6: 3058 | K6: 9061 | L6: 46568 | M6: 46568 | O6: =SUM(F6+I6+L6) -> 117752 | P6: =SUM(G6+J6+M6) -> 49626 | Q6: =SUM(H6+K6+N6) -> 27910 | R6: =O6-P6-Q6 -> 40216 | V6: =SUM(S6-T6-U6) -> 0
A7: Zegi Család- és Gyermekjóléti Központ | E7: =SUM(B7-C7-D7) -> 0 | H7: 18 | I7: 9479 | J7: 210 | K7: 4758 | L7: 9479 | M7: 9479 | O7: =SUM(F7+I7+L7) -> 18958 | P7: =SUM(G7+J7+M7) -> 9689 | Q7: =SUM(H7+K7+N7) -> 4776 | R7: =O7-P7-Q7 -> 4493 | V7: =SUM(S7-T7-U7) -> 0
A8: Zegi Belvárosi I. sz. Óvoda | E8: =SUM(B8-C8-D8) -> 0 | F8: 21332 | H8: 7963 | I8: 6228 | J8: 2466 | K8: 2924 | L8: 17095 | M8: 17095 | O8: =SUM(F8+I8+L8) -> 44655 | P8: =SUM(G8+J8+M8) -> 19561 | Q8: =SUM(H8+K8+N8) -> 10887 | R8: =O8-P8-Q8 -> 14207 | V8: =SUM(S8-T8-U8) -> 0
A9: Zegi Belvárosi II. sz. Óvoda | E9: =SUM(B9-C9-D9) -> 0 | F9: 2619 | H9: 6797 | I9: 5545 | J9: 1071 | K9: 2167 | L9: 8164 | M9: 8164 | O9: =SUM(F9+I9+L9) -> 16328 | P9: =SUM(G9+J9+M9) -> 9235 | Q9: =SUM(H9+K9+N9) -> 8964 | R9: =O9-P9-Q9 -> -1871 | V9: =SUM(S9-T9-U9) -> 0
A10: Zegi Kertvárosi Óvoda | E10: =SUM(B10-C10-D10) -> 0 | H10: 9647 | I10: 3553 | J10: 923 | K10: 3022 | L10: 3525 | M10: 3525 | O10: =SUM(F10+I10+L10) -> 7078 | P10: =SUM(G10+J10+M10) -> 4448 | Q10: =SUM(H10+K10+N10) -> 12669 | R10: =O10-P10-Q10 -> -10039 | V10: =SUM(S10-T10-U10) -> 0
A11: Zegi Landorhegyi Óvoda | E11: =SUM(B11-C11-D11) -> 0 | F11: 580 | G11: 787 | H11: 6078 | I11: 7991 | J11: 7786 | K11: -3462 | L11: 8571 | M11: 8571 | O11: =SUM(F11+I11+L11) -> 17142 | P11: =SUM(G11+J11+M11) -> 17144 | Q11: =SUM(H11+K11+N11) -> 2616 | R11: =O11-P11-Q11 -> -2618 | V11: =SUM(S11-T11-U11) -> 0
A12: Közgyűjteményi és Közművelődési GESZ | B12: 60 | D12: 60 | E12: =SUM(B12-C12-D12) -> 0 | I12: 636 | K12: 636 | L12: 708 | M12: 696 | O12: =SUM(F12+I12+L12) -> 1344 | P12: =SUM(G12+J12+M12) -> 696 | Q12: =SUM(H12+K12+N12) -> 636 | R12: =O12-P12-Q12 -> 12 | V12: =SUM(S12-T12-U12) -> 0
A13: Keresztury VMK | B13: 92 | C13: 118 | D13: -115 | E13: =SUM(B13-C13-D13) -> 89 | F13: 95247 | G13: 880 | H13: 43701 | I13: 3441 | J13: 10960 | K13: 6087 | L13: 10620 | M13: 10586 | O13: =SUM(F13+I13+L13) -> 109308 | P13: =SUM(G13+J13+M13) -> 22426 | Q13: =SUM(H13+K13+N13) -> 49788 | R13: =O13-P13-Q13 -> 37094 | V13: =SUM(S13-T13-U13) -> 0
A14: Tourinform Iroda | E14: =SUM(B14-C14-D14) -> 0 | I14: 333 | J14: 666 | K14: 311 | L14: 333 | M14: 333 | O14: =SUM(F14+I14+L14) -> 666 | P14: =SUM(G14+J14+M14) -> 999 | Q14: =SUM(H14+K14+N14) -> 311 | R14: =O14-P14-Q14 -> -644 | V14: =SUM(S14-T14-U14) -> 0
A15: Deák Ferenc Megyei és Városi Könyvtár | B15: 2212 | C15: 2212 | D15: 354 | E15: =SUM(B15-C15-D15) -> -354 | F15: 4613 | H15: 2042 | I15: 86937 | K15: 86404 | L15: 86937 | M15: 86937 | O15: =SUM(F15+I15+L15) -> 178487 | P15: =SUM(G15+J15+M15) -> 86937 | Q15: =SUM(H15+K15+N15) -> 88446 | R15: =O15-P15-Q15 -> 3104 | V15: =SUM(S15-T15-U15) -> 0
A16: Zalaegerszegi Múzeumok Igazgatósága | C16: 6584 | D16: 13922 | E16: =SUM(B16-C16-D16) -> -20506 | G16: 24367 | H16: 150596 | I16: 11912 | J16: 2442 | K16: 72643 | L16: 11912 | M16: 11912 | O16: =SUM(F16+I16+L16) -> 23824 | P16: =SUM(G16+J16+M16) -> 38721 | Q16: =SUM(H16+K16+N16) -> 223239 | R16: =O16-P16-Q16 -> -238136 | V16: =SUM(S16-T16-U16) -> 0
A17: Hevesi Sándor Színház | B17: 1211 | D17: 1211 | E17: =SUM(B17-C17-D17) -> 0 | F17: 6611 | G17: 19239 | H17: 10223 | I17: 26885 | J17: 990 | K17: 18916 | L17: 34613 | M17: 34708 | O17: =SUM(F17+I17+L17) -> 68109 | P17: =SUM(G17+J17+M17) -> 54937 | Q17: =SUM(H17+K17+N17) -> 29139 | R17: =O17-P17-Q17 -> -15967 | V17: =SUM(S17-T17-U17) -> 0
A18: Griff Bábszínház | E18: =SUM(B18-C18-D18) -> 0 | H18: 5 | I18: 1080 | K18: 6134 | L18: 1080 | M18: 1080 | O18: =SUM(F18+I18+L18) -> 2160 | P18: =SUM(G18+J18+M18) -> 1080 | Q18: =SUM(H18+K18+N18) -> 6139 | R18: =O18-P18-Q18 -> -5059 | V18: =SUM(S18-T18-U18) -> 0
A19: Városi Sportlétesítmények Gondnoksága | D19: 46 | E19: =SUM(B19-C19-D19) -> -46 | F19: 2997 | G19: 64353 | H19: 13914 | I19: 16062 | K19: 3176 | O19: =SUM(F19+I19+L19) -> 19059 | P19: =SUM(G19+J19+M19) -> 64353 | Q19: =SUM(H19+K19+N19) -> 17090 | R19: =O19-P19-Q19 -> -62384 | V19: =SUM(S19-T19-U19) -> 0
A20: Vásárcsarnok | C20: 263 | D20: -263 | E20: =SUM(B20-C20-D20) -> 0 | F20: 226827 | G20: 189594 | H20: 10375 | I20: 781 | J20: 7258 | K20: -6162 | O20: =SUM(F20+I20+L20) -> 227608 | P20: =SUM(G20+J20+M20) -> 196852 | Q20: =SUM(H20+K20+N20) -> 4213 | R20: =O20-P20-Q20 -> 26543 | V20: =SUM(S20-T20-U20) -> 0
A21: Göcseji Tudásközpont | E21: =SUM(B21-C21-D21) -> 0 | F21: 18114 | H21: 13019 | I21: 1692 | K21: 5242 | L21: 2247 | M21: 2247 | O21: =SUM(F21+I21+L21) -> 22053 | P21: =SUM(G21+J21+M21) -> 2247 | Q21: =SUM(H21+K21+N21) -> 18261 | R21: =O21-P21-Q21 -> 1545 | V21: =SUM(S21-T21-U21) -> 0
A22: Költségvetési szervek össz: | B22: =SUM(B4:B21) -> 5741 | C22: =SUM(C4:C21) -> 24776 | D22: =SUM(D4:D21) -> 1723 | E22: =SUM(E4:E21) -> -20758 | F22: =SUM(F4:F21) -> 467845 | G22: =SUM(G4:G21) -> 360148 | H22: =SUM(H4:H21) -> 294489 | I22: =SUM(I4:I21) -> 296332 | ... V22: =SUM(V4:V21) -> 0
A23: ZMJV Önkormányzat | B23: 6492 | C23: 2840 | D23: 11656 | E23: =SUM(B23-C23-D23) -> -8004 | F23: 6291707 | G23: 290177 | H23: 2073599 | I23: 965822 | J23: 309087 | K23: 354903 | L23: 5268920 | M23: 6129194 | O23: =SUM(F23+I23+L23) -> 12526449 | P23: =SUM(G23+J23+M23) -> 6728458 | Q23: =SUM(H23+K23+N23) -> 2428502 | R23: =O23-P23-Q23 -> 3369489 | V23: =SUM(S23-T23-U23) -> 0
A24: Mindösszesen: | B24: =SUM(B22:B23) -> 12233 | C24: =SUM(C22:C23) -> 27616 | D24: =SUM(D22:D23) -> 13379 | E24: =SUM(E22:E23) -> -28762 | F24: =SUM(F22:F23) -> 6759552 | G24: =SUM(G22:G23) -> 650325 | H24: =SUM(H22:H23) -> 2368088 | I24: =SUM(I22:I23) -> 1262154 | ... V24: =SUM(V22:V23) -> 0

Sheet 19
D1: I. | E1: II/1. | F1: II./2. | G1: II./3. | H1: II/4. | I1: II. | M1: III. | N1: IV. | O1: Nemzeti vagyonba tartozó befektetett eszközök összesen (2+7+8+9)
D2: Immateriális javak | E2: Ingatlanok és kapcsolódó vagyoni értékű jogok | F2: Gépek, berendezések, felszerelések, járművek | G2: Tenyész- állatok | H2: Beruházások, felújítások | I2: Tárgyi eszközök együtt ( 3+4+5+6 ) | J2: Tartós részesedés | K2: Tartósan adott kölcsönök | L2: Befektetett pénzügyi eszközök összesen ( 9+10 ) | M2: Befektetett pénzügyi eszközök | N2: Koncesszióba, vagyonkezelésbe adott eszközök
A3: 1 | D3: 2 | E3: 3 | F3: 4 | G3: 5 | H3: 6 | I3: 7 | J3: 9 | K3: 10 | L3: 11 | M3: 8 | N3: 9 | O3: 10
A4: 1. | B4: Kizárólagos önkormányzati tulajdonban lévő vagyon forgalomképtelen | C4: Költségvetési szervek 2024.XII.31 | I4: =SUM(E4:H4) -> 0 | O4: =SUM(D4+I4+M4+N4) -> 0
C5: 2025.XII.31. | I5: =SUM(E5:H5) -> 0 | O5: =SUM(D5+I5+M5+N5) -> 0
C6: Változás | D6: =+D5-D4 -> 0 | E6: =+E5-E4 -> 0 | F6: =+F5-F4 -> 0 | G6: =+G5-G4 -> 0 | H6: =+H5-H4 -> 0 | I6: =SUM(E6:H6) -> 0 | J6: =SUM(F6:I6) -> 0 | K6: =SUM(G6:J6) -> 0 | L6: =SUM(H6:K6) -> 0 | M6: =SUM(I6:L6) -> 0 | N6: =SUM(J6:M6) -> 0 | O6: =SUM(D6+I6+M6+N6) -> 0
C7: Önkormányzat 2024.XII.31 | D7: 0 | E7: 58781377 | F7: 173733 | I7: =SUM(E7:H7) -> 58955110 | O7: =SUM(D7+I7+M7+N7) -> 58955110
C8: 2025.XII.31. | E8: 62123068 | F8: 296350 | I8: =SUM(E8:H8) -> 62419418 | O8: =SUM(D8+I8+M8+N8) -> 62419418
C9: Változás | D9: =+D8-D7 -> 0 | E9: =+E8-E7 -> 3341691 | F9: =+F8-F7 -> 122617 | G9: =+G8-G7 -> 0 | H9: =+H8-H7 -> 0 | I9: =SUM(E9:H9) -> 3464308 | J9: =+J8-J7 -> 0 | K9: =+K8-K7 -> 0 | L9: =+L8-L7 -> 0 | N9: =+N8-N7 -> 0 | O9: =SUM(D9+I9+M9+N9) -> 3464308
C10: Együtt 2024.XII.31 | D10: =+D4+D7 -> 0 | E10: =+E4+E7 -> 58781377 | F10: =+F4+F7 -> 173733 | G10: =+G4+G7 -> 0 | H10: =+H4+H7 -> 0 | I10: =+I4+I7 -> 58955110 | J10: =+J4+J7 -> 0 | K10: =+K4+K7 -> 0 | ... N10: =+N4+N7 -> 0 | O10: =SUM(D10+I10+M10+N10) -> 58955110
C11: 2025.XII.31. | D11: =+D5+D8 -> 0 | E11: =+E5+E8 -> 62123068 | F11: =+F5+F8 -> 296350 | G11: =+G5+G8 -> 0 | H11: =+H5+H8 -> 0 | I11: =+I5+I8 -> 62419418 | J11: =+J5+J8 -> 0 | K11: =+K5+K8 -> 0 | L11: =+L5+L8 -> 0 | N11: =+N5+N8 -> 0 | O11: =SUM(D11+I11+M11+N11) -> 62419418
C12: Változás | D12: =+D11-D10 -> 0 | E12: =+E11-E10 -> 3341691 | F12: =+F11-F10 -> 122617 | G12: =+G11-G10 -> 0 | H12: =+H11-H10 -> 0 | I12: =+I11-I10 -> 3464308 | J12: =+J11-J10 -> 0 | K12: =+K11-K10 -> 0 | ... N12: =+N11-N10 -> 0 | O12: =SUM(D12+I12+M12+N12) -> 3464308
A13: 2. | B13: Nemzetgazdasági szempontból kiemelt jelentőségű vagyon forgalomképtelen | C13: Költségvetési szervek 2024.XII.31 | I13: =SUM(E13:H13) -> 0 | O13: =SUM(D13+I13+M13+N13) -> 0
C14: 2025.XII.31. | I14: =SUM(E14:H14) -> 0 | O14: =SUM(D14+I14+M14+N14) -> 0
C15: Változás | D15: =D14-D13 -> 0 | E15: =E14-E13 -> 0 | F15: =F14-F13 -> 0 | G15: =G14-G13 -> 0 | H15: =H14-H13 -> 0 | I15: =SUM(E15:H15) -> 0 | J15: =J14-J13 -> 0 | K15: =K14-K13 -> 0 | L15: =L14-L13 -> 0 | M15: =M14-M13 -> 0 | N15: =N14-N13 -> 0 | O15: =SUM(D15+I15+M15+N15) -> 0
C16: Önkormányzat 2024.XII.31 | E16: 6533 | F16: 111256 | I16: =SUM(E16:H16) -> 117789 | O16: =SUM(D16+I16+M16+N16) -> 117789
C17: 2025.XII.31. | E17: 1152 | F17: 0 | I17: =SUM(E17:H17) -> 1152 | M17: 3000 | O17: =SUM(D17+I17+M17+N17) -> 4152
C18: Változás | D18: =D17-D16 -> 0 | E18: =E17-E16 -> -5381 | F18: =F17-F16 -> -111256 | G18: =G17-G16 -> 0 | H18: =H17-H16 -> 0 | I18: =SUM(E18:H18) -> -116637 | J18: =J17-J16 -> 0 | K18: =K17-K16 -> 0 | L18: =L17-L16 -> 0 | M18: =M17-M16 -> 3000 | N18: =N17-N16 -> 0 | O18: =SUM(D18+I18+M18+N18) -> -113637
C19: Együtt 2024.XII.31 | D19: =SUM(D13+D16) -> 0 | E19: =SUM(E13+E16) -> 6533 | F19: =SUM(F13+F16) -> 111256 | G19: =SUM(G13+G16) -> 0 | H19: =SUM(H13+H16) -> 0 | I19: =SUM(I13+I16) -> 117789 | J19: =SUM(J13+J16) -> 0 | K19: =SUM(K13+K16) -> 0 | ... N19: =SUM(N13+N16) -> 0 | O19: =SUM(D19+I19+M19+N19) -> 117789
C20: 2025.XII.31. | D20: =SUM(D14+D17) -> 0 | E20: =SUM(E14+E17) -> 1152 | F20: =SUM(F14+F17) -> 0 | G20: =SUM(G14+G17) -> 0 | H20: =SUM(H14+H17) -> 0 | I20: =SUM(I14+I17) -> 1152 | J20: =SUM(J14+J17) -> 0 | K20: =SUM(K14+K17) -> 0 | ... N20: =SUM(N14+N17) -> 0 | O20: =SUM(D20+I20+M20+N20) -> 4152
C21: Változás | D21: =D20-D19 -> 0 | E21: =E20-E19 -> -5381 | F21: =F20-F19 -> -111256 | G21: =G20-G19 -> 0 | H21: =H20-H19 -> 0 | I21: =I20-I19 -> -116637 | J21: =J20-J19 -> 0 | K21: =K20-K19 -> 0 | ... N21: =N20-N19 -> 0 | O21: =SUM(D21+I21+M21+N21) -> -113637
C22: Költségvetési szervek 2024.XII.31 | D22: 26945 | E22: 16540939 | F22: 694652 | H22: 2031 | I22: =SUM(E22:H22) -> 17237622 | O22: =SUM(D22+I22+M22+N22) -> 17264567
A23: 3. | B23: Korlátozottan forgalomképes vagyon | C23: 2025.XII.31. | D23: 6187 | E23: 16358774 | F23: 663182 | H23: 1342 | I23: =SUM(E23:H23) -> 17023298 | O23: =SUM(D23+I23+M23+N23) -> 17029485
C24: Változás | D24: =+D23-D22 -> -20758 | E24: =+E23-E22 -> -182165 | F24: =+F23-F22 -> -31470 | G24: =+G23-G22 -> 0 | H24: =+H23-H22 -> -689 | I24: =SUM(E24:H24) -> -214324 | J24: =+J23-J22 -> 0 | K24: =+K23-K22 -> 0 | L24: =+L23-L22 -> 0 | N24: =+N23-N22 -> 0 | O24: =SUM(D24+I24+M24+N24) -> -235082
C25: Önkormányzat 2024.XII.31 | D25: 17810 | E25: 53848347 | F25: 2416215 | H25: 2666666 | I25: =SUM(E25:H25) -> 58931228 | M25: 1716467 | O25: =SUM(D25+I25+M25+N25) -> 60665505
C26: 2025.XII.31. | D26: 9806 | E26: 54560601 | F26: 2746355 | H26: 1806392 | I26: =SUM(E26:H26) -> 59113348 | M26: 1530918 | O26: =SUM(D26+I26+M26+N26) -> 60654072
C27: Változás | D27: =+D26-D25 -> -8004 | E27: =+E26-E25 -> 712254 | F27: =+F26-F25 -> 330140 | G27: =+G26-G25 -> 0 | H27: =+H26-H25 -> -860274 | I27: =+I26-I25 -> 182120 | J27: =+J26-J25 -> 0 | K27: =+K26-K25 -> 0 | ... N27: =+N26-N25 -> 0 | O27: =SUM(D27+I27+M27+N27) -> -11433
C28: Együtt 2024.XII.31 | D28: =+D22+D25 -> 44755 | E28: =+E22+E25 -> 70389286 | F28: =+F22+F25 -> 3110867 | G28: =+G22+G25 -> 0 | H28: =+H22+H25 -> 2668697 | I28: =+I22+I25 -> 76168850 | J28: =+J22+J25 -> 0 | K28: =+K22+K25 -> 0 | ... N28: =+N22+N25 -> 0 | O28: =SUM(D28+I28+M28+N28) -> 77930072
C29: 2025.XII.31. | D29: =+D23+D26 -> 15993 | E29: =+E23+E26 -> 70919375 | F29: =+F23+F26 -> 3409537 | G29: =+G23+G26 -> 0 | H29: =+H23+H26 -> 1807734 | I29: =+I23+I26 -> 76136646 | J29: =+J23+J26 -> 0 | K29: =+K23+K26 -> 0 | ... N29: =+N23+N26 -> 0 | O29: =SUM(D29+I29+M29+N29) -> 77683557
C30: Változás | D30: =+D29-D28 -> -28762 | E30: =+E29-E28 -> 530089 | F30: =+F29-F28 -> 298670 | G30: =+G29-G28 -> 0 | H30: =+H29-H28 -> -860963 | I30: =+I29-I28 -> -32204 | J30: =+J29-J28 -> 0 | K30: =+K29-K28 -> 0 | ... N30: =+N29-N28 -> 0 | O30: =SUM(D30+I30+M30+N30) -> -246515
C31: Költségvetési szervek 2024.XII.31 | D31: =SUM(D4+D13+D22) -> 26945 | E31: =SUM(E4+E13+E22) -> 16540939 | F31: =SUM(F4+F13+F22) -> 694652 | G31: =SUM(G4+G13+G22) -> 0 | H31: =SUM(H4+H13+H22) -> 2031 | I31: =SUM(I4+I13+I22) -> 17237622 | J31: =SUM(J4+J13+J22) -> 0 | K31: =SUM(K4+K13+K22) -> 0 | ... N31: =SUM(N4+N13+N22) -> 0 | O31: =SUM(D31+I31+M31+N31) -> 17264567
C32: 2025.XII.31. | D32: =SUM(D5+D14+D23) -> 6187 | E32: =SUM(E5+E14+E23) -> 16358774 | F32: =SUM(F5+F14+F23) -> 663182 | G32: =SUM(G5+G14+G23) -> 0 | H32: =SUM(H5+H14+H23) -> 1342 | I32: =SUM(I5+I14+I23) -> 17023298 | J32: =SUM(J5+J14+J23) -> 0 | K32: =SUM(K5+K14+K23) -> 0 | ... N32: =SUM(N5+N14+N23) -> 0 | O32: =SUM(D32+I32+M32+N32) -> 17029485
A33: 1.+2+3. | B33: Törzsvagyon | C33: Változás | D33: =SUM(D32-D31) -> -20758 | E33: =SUM(E32-E31) -> -182165 | F33: =SUM(F32-F31) -> -31470 | G33: =SUM(G32-G31) -> 0 | H33: =SUM(H32-H31) -> -689 | I33: =SUM(I32-I31) -> -214324 | J33: =SUM(J32-J31) -> 0 | K33: =SUM(K32-K31) -> 0 | ... N33: =SUM(N32-N31) -> 0 | O33: =SUM(D33+I33+M33+N33) -> -235082
C34: Önkormányzat 2024.XII.31 | D34: =SUM(D7+D16+D25) -> 17810 | E34: =SUM(E7+E16+E25) -> 112636257 | F34: =SUM(F7+F16+F25) -> 2701204 | G34: =SUM(G7+G16+G25) -> 0 | H34: =SUM(H7+H16+H25) -> 2666666 | I34: =SUM(I7+I16+I25) -> 118004127 | J34: =SUM(J7+J16+J25) -> 0 | K34: =SUM(K7+K16+K25) -> 0 | ... N34: =SUM(N7+N16+N25) -> 0 | O34: =SUM(D34+I34+M34+N34) -> 119738404
C35: 2025.XII.31. | D35: =SUM(D8+D17+D26) -> 9806 | E35: =SUM(E8+E17+E26) -> 116684821 | F35: =SUM(F8+F17+F26) -> 3042705 | G35: =SUM(G8+G17+G26) -> 0 | H35: =SUM(H8+H17+H26) -> 1806392 | I35: =SUM(I8+I17+I26) -> 121533918 | J35: =SUM(J8+J17+J26) -> 0 | K35: =SUM(K8+K17+K26) -> 0 | ... N35: =SUM(N8+N17+N26) -> 0 | O35: =SUM(D35+I35+M35+N35) -> 123077642
C36: Változás | D36: =SUM(D35-D34) -> -8004 | E36: =SUM(E35-E34) -> 4048564 | F36: =SUM(F35-F34) -> 341501 | G36: =SUM(G35-G34) -> 0 | H36: =SUM(H35-H34) -> -860274 | I36: =SUM(I35-I34) -> 3529791 | J36: =SUM(J35-J34) -> 0 | K36: =SUM(K35-K34) -> 0 | ... N36: =SUM(N35-N34) -> 0 | O36: =SUM(D36+I36+M36+N36) -> 3339238
C37: Együtt 2024.XII.31 | D37: =SUM(D10+D28) -> 44755 | E37: =SUM(E10+E28) -> 129170663 | F37: =SUM(F10+F28) -> 3284600 | G37: =SUM(G10+G28) -> 0 | H37: =SUM(H10+H28) -> 2668697 | I37: =SUM(I10+I28) -> 135123960 | J37: =SUM(J10+J28) -> 0 | K37: =SUM(K10+K28) -> 0 | ... N37: =SUM(N10+N28) -> 0 | O37: =SUM(D37+I37+M37+N37) -> 136885182
C38: 2025.XII.31. | D38: =SUM(D11+D29) -> 15993 | E38: =SUM(E11+E29) -> 133042443 | F38: =SUM(F11+F29) -> 3705887 | G38: =SUM(G11+G29) -> 0 | H38: =SUM(H11+H29) -> 1807734 | I38: =SUM(I11+I29) -> 138556064 | J38: =SUM(J11+J29) -> 0 | K38: =SUM(K11+K29) -> 0 | ... N38: =SUM(N11+N29) -> 0 | O38: =SUM(D38+I38+M38+N38) -> 140102975
C39: Változás | D39: =SUM(D38-D37) -> -28762 | E39: =SUM(E38-E37) -> 3871780 | F39: =SUM(F38-F37) -> 421287 | G39: =SUM(G38-G37) -> 0 | H39: =SUM(H38-H37) -> -860963 | I39: =SUM(I38-I37) -> 3432104 | J39: =SUM(J38-J37) -> 0 | K39: =SUM(K38-K37) -> 0 | ... N39: =SUM(N38-N37) -> 0 | O39: =SUM(D39+I39+M39+N39) -> 3217793
C40: Költségvetési szervek 2024.XII.31 | E40: 48924 | F40: 68811 | H40: 95 | I40: =SUM(E40:H40) -> 117830 | O40: =SUM(D40+I40+M40+N40) -> 117830
A41: 4. | B41: Üzleti vagyon forgalomképes | C41: 2025.XII.31. | E41: 44297 | F41: 70736 | I41: =SUM(E41:H41) -> 115033 | O41: =SUM(D41+I41+M41+N41) -> 115033
C42: Változás | D42: =SUM(D40:D41) -> 0 | E42: =+E41-E40 -> -4627 | F42: =+F41-F40 -> 1925 | G42: =+G41-G40 -> 0 | H42: =+H41-H40 -> -95 | I42: =SUM(E42:H42) -> -2797 | J42: =+J41-J40 -> 0 | K42: =+K41-K40 -> 0 | L42: =+L41-L40 -> 0 | N42: =+N41-N40 -> 0 | O42: =SUM(D42+I42+M42+N42) -> -2797
C43: Önkormányzat 2024.XII.31 | E43: 17817172 | F43: 222458 | I43: =SUM(E43:H43) -> 18039630 | O43: =SUM(D43+I43+M43+N43) -> 18039630
C44: 2025.XII.31. | E44: 17696539 | F44: 182790 | I44: =SUM(E44:H44) -> 17879329 | M44: 172280 | O44: =SUM(D44+I44+M44+N44) -> 18051609
C45: Változás | D45: =+D44-D43 -> 0 | E45: =+E44-E43 -> -120633 | F45: =+F44-F43 -> -39668 | G45: =+G44-G43 -> 0 | H45: =+H44-H43 -> 0 | I45: =SUM(E45:H45) -> -160301 | J45: =+J44-J43 -> 0 | K45: =+K44-K43 -> 0 | L45: =+L44-L43 -> 0 | M45: =+M44-M43 -> 172280 | N45: =+N44-N43 -> 0 | O45: =SUM(D45+I45+M45+N45) -> 11979
C46: Együtt 2024.XII.31 | D46: =+D40+D43 -> 0 | E46: =+E40+E43 -> 17866096 | F46: =+F40+F43 -> 291269 | G46: =+G40+G43 -> 0 | H46: =+H40+H43 -> 95 | I46: =+I40+I43 -> 18157460 | J46: =+J40+J43 -> 0 | K46: =+K40+K43 -> 0 | ... N46: =+N40+N43 -> 0 | O46: =SUM(D46+I46+M46+N46) -> 18157460
C47: 2025.XII.31. | D47: =+D41+D44 -> 0 | E47: =+E41+E44 -> 17740836 | F47: =+F41+F44 -> 253526 | G47: =+G41+G44 -> 0 | H47: =+H41+H44 -> 0 | I47: =+I41+I44 -> 17994362 | J47: =+J41+J44 -> 0 | K47: =+K41+K44 -> 0 | ... N47: =+N41+N44 -> 0 | O47: =SUM(D47+I47+M47+N47) -> 18166642
C48: Változás | D48: =+D47-D46 -> 0 | E48: =+E47-E46 -> -125260 | F48: =+F47-F46 -> -37743 | G48: =+G47-G46 -> 0 | H48: =+H47-H46 -> -95 | I48: =+I47-I46 -> -163098 | J48: =+J47-J46 -> 0 | K48: =+K47-K46 -> 0 | ... N48: =+N47-N46 -> 0 | O48: =SUM(D48+I48+M48+N48) -> 9182
C49: Költségvetési szervek 2024.XII.31 | D49: =+D31+D40 -> 26945 | E49: =+E31+E40 -> 16589863 | F49: =+F31+F40 -> 763463 | G49: =+G31+G40 -> 0 | H49: =+H31+H40 -> 2126 | I49: =+I31+I40 -> 17355452 | J49: =+J31+J40 -> 0 | K49: =+K31+K40 -> 0 | ... N49: =+N31+N40 -> 0 | O49: =SUM(D49+I49+M49+N49) -> 17382397
A50: 5. | B50: Önkormányzati vagyon összesen (1+2+3+4 ) | C50: 2025.XII.31. | D50: =+D32+D41 -> 6187 | E50: =+E32+E41 -> 16403071 | F50: =+F32+F41 -> 733918 | G50: =+G32+G41 -> 0 | H50: =+H32+H41 -> 1342 | I50: =+I32+I41 -> 17138331 | J50: =+J32+J41 -> 0 | K50: =+K32+K41 -> 0 | ... N50: =+N32+N41 -> 0 | O50: =SUM(D50+I50+M50+N50) -> 17144518
C51: Változás | D51: =+D50-D49 -> -20758 | E51: =+E50-E49 -> -186792 | F51: =+F50-F49 -> -29545 | G51: =+G50-G49 -> 0 | H51: =+H50-H49 -> -784 | I51: =+I50-I49 -> -217121 | J51: =+J50-J49 -> 0 | K51: =+K50-K49 -> 0 | ... N51: =+N50-N49 -> 0 | O51: =SUM(D51+I51+M51+N51) -> -237879
C52: Önkormányzat 2024.XII.31 | D52: =+D34+D43 -> 17810 | E52: =+E34+E43 -> 130453429 | F52: =+F34+F43 -> 2923662 | G52: =+G34+G43 -> 0 | H52: =+H34+H43 -> 2666666 | I52: =+I34+I43 -> 136043757 | J52: =+J34+J43 -> 0 | K52: =+K34+K43 -> 0 | ... N52: =+N34+N43 -> 0 | O52: =SUM(D52+I52+M52+N52) -> 137778034
C53: 2025.XII.31. | D53: =+D35+D44 -> 9806 | E53: =+E35+E44 -> 134381360 | F53: =+F35+F44 -> 3225495 | G53: =+G35+G44 -> 0 | H53: =+H35+H44 -> 1806392 | I53: =+I35+I44 -> 139413247 | J53: =+J35+J44 -> 0 | K53: =+K35+K44 -> 0 | ... N53: =+N35+N44 -> 0 | O53: =SUM(D53+I53+M53+N53) -> 141129251
C54: Változás | D54: =+D53-D52 -> -8004 | E54: =+E53-E52 -> 3927931 | F54: =+F53-F52 -> 301833 | G54: =+G53-G52 -> 0 | H54: =+H53-H52 -> -860274 | I54: =+I53-I52 -> 3369490 | J54: =+J53-J52 -> 0 | K54: =+K53-K52 -> 0 | ... N54: =+N53-N52 -> 0 | O54: =SUM(D54+I54+M54+N54) -> 3351217
C55: Együtt 2024.XII.31 | D55: =+D49+D52 -> 44755 | E55: =+E49+E52 -> 147043292 | F55: =+F49+F52 -> 3687125 | G55: =+G49+G52 -> 0 | H55: =+H49+H52 -> 2668792 | I55: =+I49+I52 -> 153399209 | J55: =+J49+J52 -> 0 | K55: =+K49+K52 -> 0 | ... N55: =+N49+N52 -> 0 | O55: =SUM(D55+I55+M55+N55) -> 155160431
C56: 2025.XII.31. | D56: =+D50+D53 -> 15993 | E56: =+E50+E53 -> 150784431 | F56: =+F50+F53 -> 3959413 | G56: =+G50+G53 -> 0 | H56: =+H50+H53 -> 1807734 | I56: =+I50+I53 -> 156551578 | J56: =+J50+J53 -> 0 | K56: =+K50+K53 -> 0 | ... N56: =+N50+N53 -> 0 | O56: =SUM(D56+I56+M56+N56) -> 158273769
C57: Változás | D57: =+D56-D55 -> -28762 | E57: =+E56-E55 -> 3741139 | F57: =+F56-F55 -> 272288 | G57: =+G56-G55 -> 0 | H57: =+H56-H55 -> -861058 | I57: =+I56-I55 -> 3152369 | J57: =+J56-J55 -> 0 | K57: =+K56-K55 -> 0 | ... N57: =+N56-N55 -> 0 | O57: =SUM(D57+I57+M57+N57) -> 3113338

Sheet 20
A1: Intézmény megnevezése | B1: Immateriális javak | C1: Tárgyi eszközök | H1: Koncesszióba, vagyonkezelésbe adott eszközök | I1: Összesen:
C2: Ingatlanok és kapcsolódó vagyoni értékű jogok | D2: Gépek, berendezések, felszerelések, járművek | E2: Tenyészállatok | F2: Beruházások és felújítások | G2: Tárgyi eszközök összesen:
A4: Polgármesteri Hivatal | B4: 259730 | C4: 11 | D4: 157840 | G4: =SUM(C4:F4) -> 157851 | I4: =SUM(B4+G4+H4) -> 417581
A5: Zalaegerszegi GESZ | B5: 2990 | C5: 1448 | D5: 289396 | G5: =SUM(C5:F5) -> 290844 | I5: =SUM(B5+G5+H5) -> 293834
A6: Zalaegerszegi Egyesített Bölcsődék | B6: 290 | D6: 71711 | G6: =SUM(C6:F6) -> 71711 | I6: =SUM(B6+G6+H6) -> 72001
A7: Zegi Család- és Gyermekjóléti Központ | B7: 218 | D7: 50594 | G7: =SUM(C7:F7) -> 50594 | I7: =SUM(B7+G7+H7) -> 50812
A8: Zalaegerszegi Belvárosi I. számú Óvoda | C8: 550 | D8: 30645 | G8: =SUM(C8:F8) -> 31195 | I8: =SUM(B8+G8+H8) -> 31195
A9: Zalaegerszegi Belvárosi II. számú Óvoda | C9: 801 | D9: 42087 | G9: =SUM(C9:F9) -> 42888 | I9: =SUM(B9+G9+H9) -> 42888
A10: Zalaegerszegi Kertvárosi Óvoda | B10: 149 | C10: 591 | D10: 46874 | G10: =SUM(C10:F10) -> 47465 | I10: =SUM(B10+G10+H10) -> 47614
A11: Zalaegerszegi Landorhegyi Óvoda | C11: 2265 | D11: 30763 | G11: =SUM(C11:F11) -> 33028 | I11: =SUM(B11+G11+H11) -> 33028
A12: Közgyűjteményi és Közművelődési GESZ | B12: 60 | D12: 2123 | G12: =SUM(C12:F12) -> 2123 | I12: =SUM(B12+G12+H12) -> 2183
A13: Keresztury VMK | B13: 265 | C13: 3516 | D13: 169788 | G13: =SUM(C13:F13) -> 173304 | I13: =SUM(B13+G13+H13) -> 173569
A14: Tourinform Iroda | D14: 5364 | G14: =SUM(C14:F14) -> 5364 | I14: =SUM(B14+G14+H14) -> 5364
A15: Deák Ferenc Megyei és Városi Könyvtár | B15: 14502 | D15: 481329 | G15: =SUM(C15:F15) -> 481329 | I15: =SUM(B15+G15+H15) -> 495831
A16: Zalaegerszegi Múzeumok Igazgatósága | B16: 188656 | C16: 1215 | D16: 244774 | G16: =SUM(C16:F16) -> 245989 | I16: =SUM(B16+G16+H16) -> 434645
A17: Hevesi Sándor Színház | B17: 1350 | C17: 35241 | D17: 73777 | G17: =SUM(C17:F17) -> 109018 | I17: =SUM(B17+G17+H17) -> 110368
A18: Griff Bábszínház | D18: 22719 | G18: =SUM(C18:F18) -> 22719 | I18: =SUM(B18+G18+H18) -> 22719
A19: Városi Sportlétesítmények Gondnoksága | B19: 188 | C19: 18361 | D19: 50238 | G19: =SUM(C19:F19) -> 68599 | I19: =SUM(B19+G19+H19) -> 68787
A20: Vásárcsarnok | B20: 156 | C20: 24610 | D20: 24694 | G20: =SUM(C20:F20) -> 49304 | I20: =SUM(B20+G20+H20) -> 49460
A21: Göcseji Tudásközpont | B21: 60 | D21: 36631 | G21: =SUM(C21:F21) -> 36631 | I21: =SUM(B21+G21+H21) -> 36691
A22: Költségvetési szervek összesen: | B22: =SUM(B4:B21) -> 468614 | C22: =SUM(C4:C21) -> 88609 | D22: =SUM(D4:D21) -> 1831347 | E22: =SUM(E4:E21) -> 0 | F22: =SUM(F4:F21) -> 0 | G22: =SUM(G4:G21) -> 1919956 | H22: =SUM(H4:H21) -> 0 | I22: =SUM(I4:I21) -> 2388570
A23: ZMJV Önkormányzata | B23: 370269 | C23: 581451 | D23: 661023 | G23: =SUM(C23:F23) -> 1242474 | I23: =SUM(B23+G23+H23) -> 1612743
A24: Önkormányzat összesen: | B24: =SUM(B22:B23) -> 838883 | C24: =SUM(C22:C23) -> 670060 | D24: =SUM(D22:D23) -> 2492370 | E24: =SUM(E22:E23) -> 0 | F24: =SUM(F22:F23) -> 0 | G24: =SUM(G22:G23) -> 3162430 | H24: =SUM(H22:H23) -> 0 | I24: =SUM(I22:I23) -> 4001313

Sheet 21
A1: Intézmény megnevezése | B1: Befektetett eszközök év végi értéke | E1: Tárgyévi értékcsökkenési leírás | F1: Tárgyévi eszköznövekedés | G1: Eszközök használhatósági foka (nettó/bruttó) (%) | H1: Tárgyévi eszköznövekedés/ tárgyévi értékcsökkenési leírás (%)
B2: Bruttó érték | C2: Elszámolt értékcsökkenés | D2: Nettó érték
A3: Polgármesteri Hivatal | B3: 997138 | C3: =B3-D3 -> 653382 | D3: ='15'!I3 -> 343756 | E3: ='28'!G3 -> 28011 | F3: 45165 | G3: =D3/B3*100 -> 34.474265 | H3: =F3/E3*100 -> 161.24023
A4: Zalaegerszegi GESZ | B4: 1477688 | C4: =B4-D4 -> 643998 | D4: ='15'!I4 -> 833690 | E4: ='28'!G4 -> 30717 | F4: 38565 | G4: =D4/B4*100 -> 56.41854 | H4: =F4/E4*100 -> 125.54937
A5: Zalaegerszegi Egyesített Bölcsődék | B5: 1460756 | C5: =B5-D5 -> 309399 | D5: ='15'!I5 -> 1151357 | E5: ='28'!G5 -> 30968 | F5: 71184 | G5: =D5/B5*100 -> 78.819255 | H5: =F5/E5*100 -> 229.86308
A6: Zegi Család- és Gyermekjóléti Központ | B6: 61040 | C6: =B6-D6 -> 53522 | D6: ='15'!I6 -> 7518 | E6: ='28'!G6 -> 4987 | F6: 9479 | G6: =D6/B6*100 -> 12.316514 | H6: =F6/E6*100 -> 190.07419
A7: Zalaegerszegi Belvárosi I. számú Óvoda | B7: 538178 | C7: =B7-D7 -> 137217 | D7: ='15'!I7 -> 400961 | E7: ='28'!G7 -> 13353 | F7: 27327 | G7: =D7/B7*100 -> 74.503417 | H7: =F7/E7*100 -> 204.65064
A8: Zalaegerszegi Belvárosi II. számú Óvoda | B8: 473115 | C8: =B8-D8 -> 136248 | D8: ='15'!I8 -> 336867 | E8: ='28'!G8 -> 10035 | F8: 8164 | G8: =D8/B8*100 -> 71.201928 | H8: =F8/E8*100 -> 81.355257
A9: Zalaegerszegi Kertvárosi Óvoda | B9: 628750 | C9: =B9-D9 -> 167984 | D9: ='15'!I9 -> 460766 | E9: ='28'!G9 -> 13592 | F9: 3553 | G9: =D9/B9*100 -> 73.282863 | H9: =F9/E9*100 -> 26.140377
A10: Zalaegerszegi Landorhegyi Óvoda | B10: 526113 | C10: =B10-D10 -> 129841 | D10: ='15'!I10 -> 396272 | E10: ='28'!G10 -> 10900 | F10: 8571 | G10: =D10/B10*100 -> 75.320701 | H10: =F10/E10*100 -> 78.633028
A11: Közgyűjteményi és Közművelődési GESZ | B11: 2195 | C11: =B11-D11 -> 2183 | D11: ='15'!I11 -> 12 | E11: ='28'!G11 -> 696 | F11: 636 | G11: =D11/B11*100 -> 0.54669704 | H11: =F11/E11*100 -> 91.37931
A12: Keresztury VMK | B12: 3300770 | C12: =B12-D12 -> 774227 | D12: ='15'!I12 -> 2526543 | E12: ='28'!G12 -> 54998 | F12: 81223 | G12: =D12/B12*100 -> 76.544049 | H12: =F12/E12*100 -> 147.68355
A13: Tourinform Iroda | B13: 12938 | C13: =B13-D13 -> 11646 | D13: ='15'!I13 -> 1292 | E13: ='28'!G13 -> 977 | F13: 333 | G13: =D13/B13*100 -> 9.9860875 | H13: =F13/E13*100 -> 34.08393
A14: Deák Ferenc Megyei és Városi Könyvtár | B14: 650404 | C14: =B14-D14 -> 548339 | D14: ='15'!I14 -> 102065 | E14: ='28'!G14 -> 88801 | F14: 98375 | G14: =D14/B14*100 -> 15.692554 | H14: =F14/E14*100 -> 110.78141
... A20: Göcseji Tudásközpont | B20: 756849 | C20: =B20-D20 -> 102874 | D20: ='15'!I20 -> 653975 | E20: ='28'!G20 -> 17786 | F20: 8404 | G20: =D20/B20*100 -> 86.407593 | H20: =F20/E20*100 -> 47.250647
A21: Költségvetési szervek össz: | B21: =SUM(B3:B20) -> 23423080 | C21: =SUM(C3:C20) -> 6278562 | D21: =SUM(D3:D20) -> 17144518 | E21: =SUM(E3:E20) -> 637958 | F21: =SUM(F3:F20) -> 493897 | G21: =D21/B21*100 -> 73.194977 | H21: =F21/E21*100 -> 77.418419
A22: ZMJV Önkormányzata | B22: 169932078 | C22: =B22-D22 -> 30509025 | D22: ='15'!I22-'15'!G22 -> 139423053 | E22: ='28'!G22 -> 2721875 | F22: 5857735 | G22: =D22/B22*100 -> 82.046341 | H22: =F22/E22*100 -> 215.20955
A23: Önkormányzat összesen: | B23: =SUM(B21:B22) -> 193355158 | C23: =SUM(C21:C22) -> 36787587 | D23: =SUM(D21:D22) -> 156567571 | E23: =SUM(E21:E22) -> 3359833 | F23: =SUM(F21:F22) -> 6351632 | G23: =D23/B23*100 -> 80.974086 | H23: =F23/E23*100 -> 189.04606

Sheet 22
A1: Költségvetési szerv megnevezése | B1: Képzőművészeti alkotások | D1: Régészeti leletek | F1: Kép- és hangarchívum | H1: Gyűjtemények | J1: Kulturális javak | L1: "0"-ra leírt, de használatban lévő eszközök, kisértékű immateriális javak, tárgyi eszközök | N1: A 01-02. számlacsoportban nyilvántartott eszközök | P1: Összesen:
B2: menny (db) | C2: érték (eFt) | D2: menny (db) | E2: érték (eFt) | F2: menny (db) | G2: érték (eFt) | H2: menny (db) | I2: érték (eFt) | J2: menny (db) | K2: érték (eFt) | L2: menny (db) | M2: érték (eFt) | N2: menny (db) | O2: érték (eFt) | P2: érték (eFt)
A3: Polgármesteri Hivatal | L3: 4380 | M3: 417581 | P3: =SUM(C3+E3+G3+I3+K3+M3+O3) -> 417581
A4: Zalaegerszegi GESZ | L4: 7024 | M4: 293834 | N4: 70811 | O4: 11427549 | P4: =SUM(C4+E4+G4+I4+K4+M4+O4) -> 11721383
A5: Zalaegerszegi Egyesített Bölcsődék | L5: 3667 | M5: 72001 | P5: =SUM(C5+E5+G5+I5+K5+M5+O5) -> 72001
A6: Zegi Család- és Gyermekjóléti Központ | L6: 1098 | M6: 50812 | P6: =SUM(C6+E6+G6+I6+K6+M6+O6) -> 50812
A7: Zalaegerszegi Belvárosi I. számú Óvoda | L7: 3854 | M7: 31195 | P7: =SUM(C7+E7+G7+I7+K7+M7+O7) -> 31195
A8: Zalaegerszegi Belvárosi II. számú Óvoda | L8: 3018 | M8: 42888 | P8: =SUM(C8+E8+G8+I8+K8+M8+O8) -> 42888
A9: Zalaegerszegi Kertvárosi Óvoda | L9: 6884 | M9: 47614 | P9: =SUM(C9+E9+G9+I9+K9+M9+O9) -> 47614
A10: Zalaegerszegi Landorhegyi Óvoda | L10: 292 | M10: 33028 | P10: =SUM(C10+E10+G10+I10+K10+M10+O10) -> 33028
A11: Közgyűjteményi és Közművelődési GESZ | L11: 46 | M11: 2183 | P11: =SUM(C11+E11+G11+I11+K11+M11+O11) -> 2183
A12: Keresztury VMK | L12: 2193 | M12: 173569 | P12: =SUM(C12+E12+G12+I12+K12+M12+O12) -> 173569
A13: Tourinform Iroda | L13: 77 | M13: 5364 | P13: =SUM(C13+E13+G13+I13+K13+M13+O13) -> 5364
A14: Deák Ferenc Megyei és Városi Könyvtár | L14: 3416 | M14: 495831 | P14: =SUM(C14+E14+G14+I14+K14+M14+O14) -> 495831
A15: Zalaegerszegi Múzeumok Igazgatósága | B15: 2521 | D15: 323108 | F15: 4414 | H15: 41339 | L15: 401 | M15: 434645 | P15: =SUM(C15+E15+G15+I15+K15+M15+O15) -> 434645
A16: Hevesi Sándor Színház | B16: 1 | C16: 1580 | L16: 1979 | M16: 110368 | P16: =SUM(C16+E16+G16+I16+K16+M16+O16) -> 111948
A17: Griff Bábszínház | L17: 150 | M17: 22719 | P17: =SUM(C17+E17+G17+I17+K17+M17+O17) -> 22719
A18: Városi Sportlétesítmény Gondnoksága | L18: 638 | M18: 68787 | P18: =SUM(C18+E18+G18+I18+K18+M18+O18) -> 68787
A19: Vásárcsarnok | L19: 201 | M19: 49460 | P19: =SUM(C19+E19+G19+I19+K19+M19+O19) -> 49460
A20: Göcseji Tudásközpont | L20: 488 | M20: 36691 | P20: =SUM(C20+E20+G20+I20+K20+M20+O20) -> 36691
A21: Költségvetési szervek össz: | B21: =SUM(B3:B20) -> 2522 | C21: =SUM(C3:C20) -> 1580 | D21: =SUM(D3:D20) -> 323108 | E21: =SUM(E3:E20) -> 0 | F21: =SUM(F3:F20) -> 4414 | G21: =SUM(G3:G20) -> 0 | H21: =SUM(H3:H20) -> 41339 | I21: =SUM(I3:I20) -> 0 | ... P21: =SUM(P3:P20) -> 13817699
A22: ZMJV Önkormányzata | L22: 19436 | M22: 1612743 | P22: =SUM(C22+E22+G22+I22+K22+M22+O22) -> 1612743
A23: Önkormányzat összesen: | B23: =SUM(B21:B22) -> 2522 | C23: =SUM(C21:C22) -> 1580 | D23: =SUM(D21:D22) -> 323108 | E23: =SUM(E21:E22) -> 0 | F23: =SUM(F21:F22) -> 4414 | G23: =SUM(G21:G22) -> 0 | H23: =SUM(H21:H22) -> 41339 | I23: =SUM(I21:I22) -> 0 | ... P23: =SUM(P21:P22) -> 15430442

Sheet 23
A1: Sorszám | B1: Megnevezés | C1: Tulajdoni részesedés aránya 2025. 12.31-én | D1: Székhely | E1: Állomány 2024. december 31-én | G1: Állomány 2025. december 31-én
E2: Névérték | F2: Nyilvántartás szerinti érték | G2: Névérték | H2: Nyilvántartás szerinti érték
A4: I. Törzsvagyon körébe tartozó részesedések
B5: 100 %-os részesedéssel
A6: 1. | B6: Városgazdálkodási Kft. | C6: 100,00 % | D6: Zalaegerszeg | E6: 94470000 | F6: 94470000 | G6: 94470000 | H6: 94470000
A7: 2. | B7: ZALA-Müllex Hulladékgazdálkodási és Környezetvédelmi Kft. | C7: 100,00 % | D7: Zalaegerszeg | E7: 201000000 | F7: 201000000 | G7: 201000000 | H7: 201000000
A8: 3. | B8: Kontakt Humán Szolgáltató Nonprofit Kft. | C8: 100,00 % | D8: Zalaegerszeg | E8: 3000000 | F8: 3000000 | G8: 3000000 | H8: 3000000
A9: 4. | B9: Lakáskezelő, Építőipari és Szolgáltató Kft. | C9: 100,00 % | D9: Zalaegerszeg | E9: 210000000 | F9: 210000000 | G9: 210000000 | H9: 210000000
A10: 5. | B10: Zalaegerszegi Városfejlesztő Zrt. | C10: 100,00 % | D10: Zalaegerszeg | E10: 473500000 | F10: 430049518 | G10: 473500000 | H10: 430049518
A11: 6. | B11: Zalai Közszolgáltató Nonprofit Kft. | D11: Zalaegerszeg | E11: 3100000 | F11: 43000000 | G11: 0 | H11: 0
B12: 75 %-on felüli részesedéssel
A13: 7. | B13: Zalavíz Zrt. (önkormányzat) | C13: 79,316 % | D13: Zalaegerszeg | E13: 396900000 | F13: 595398245 | G13: 396900000 | H13: 595398245
A14: Törzsvagyon körébe tartozó részesedések összesen: | E14: =SUM(E6:E13) -> 1381970000 | F14: =SUM(F6:F13) -> 1576917763 | G14: =SUM(G6:G13) -> 1378870000 | H14: =SUM(H6:H13) -> 1533917763
A15: II. Törzsvagyon körébe nem tartozó részesedések
B16: 100 %-os részesedéssel
A17: 8. | B17: Zalaegerszegi Médiacentrum Kft. | C17: 100,00 % | D17: Zalaegerszeg | E17: 3500000 | F17: 3500000 | G17: 3500000 | H17: 3500000
A18: 9. | B18: Zalaegerszegi Létesítményfenntartó Kft. | C18: 100,00 % | D18: Zalaegerszeg | E18: 15420000 | F18: 72012000 | G18: 15420000 | H18: 72012000 | I18: *
A19: 10. | B19: Kvártélyház Szabadtéri Színház Kft. | C19: 100,00 % | D19: Zalaegerszeg | E19: 3000000 | F19: 3000000 | G19: 3000000 | H19: 3000000
A20: 11. | B20: Zalaegerszegi Élménypark Kft. | C20: 100,00 % | D20: Zalaegerszeg | E20: 3000000 | F20: 50000000 | G20: 3000000 | H20: 50000000 | I20: *
A21: 12. | B21: Zalaegerszegi Rendezvényszervező Kft. | C21: 100,00 % | D21: Zalaegerszeg | E21: 3000000 | F21: 3000000 | G21: 3000000 | H21: 3000000
A22: 13. | B22: ZALA-LAP Könyv- és Lapkiadó Kft. | C22: 100,00 % | D22: Zalaegerszeg | E22: 0 | F22: 0 | G22: 10000000 | H22: 10000000
B23: 75 %-on felüli részesedéssel
A24: 14. | B24: ZTE Kosárlabda Klub Sportszolgáltató Kft. | C24: 94,00 % | D24: Zalaegerszeg | E24: 2820000 | F24: 7546230 | G24: 2820000 | H24: 30605460
B25: 25 %-on aluli részesedéssel
A26: 15. | B26: ZTE Football Club Zrt. | C26: 0,01 % | D26: Zalaegerszeg | E26: 1650 | F26: 1650 | G26: 1650 | H26: 1650
A27: 16. | B27: Zalaegerszegi Duális Képzőközpont Kft. | C27: 4,91 % | D27: Zalaegerszeg | E27: 489000 | F27: 489000 | G27: 161100 | H27: 161100
A28: Törzsvagyon körébe nem tartozó részesedések összesen: | E28: =SUM(E17:E27) -> 31230650 | F28: =SUM(F17:F27) -> 139548880 | G28: =SUM(G17:G27) -> 40902750 | H28: =SUM(H17:H27) -> 172280210
B29: Részesedések összesen: | E29: =SUM(E14+E28) -> 1413200650 | F29: =SUM(F14+F28) -> 1716466643 | G29: =SUM(G14+G28) -> 1419772750 | H29: =SUM(H14+H28) -> 1706197973
A30: a *-gal jelölt összegek tartalmazzák a törzstőkét és a tőketartalékba helyezett összeget is

Sheet 24
A1: Cím szám | B1: Sorszám | C1: Megnevezés | D1: 2025. évi eredeti létszám | E1: 2025. évi módosított előírányzat (törvény módosítás miatt) | F1: 2025. évi módosított előírányzat | G1: 2025. évi tényleges létszám ( átlagos stat. állományi) | H1: Teljesítés %-a | I1: Üres álláshelyek száma 2025. december 31-én
A2: 1 | C2: Önkormányzat | D2: 6 | E2: 11 | F2: 11 | G2: 21 | H2: =G2/F2*100 -> 190.90909 | I2: 0
A3: 2 | B3: 1 | C3: Polgármesteri Hivatal | D3: 191 | E3: 196 | F3: 196 | G3: 191 | H3: =G3/F3*100 -> 97.44898 | I3: 0
B4: 2 | C4: Zalaegerszegi GESZ | D4: 52 | E4: 52 | F4: 52 | G4: 40 | H4: =G4/F4*100 -> 76.923077 | I4: 9
B5: 3 | C5: Zalaegerszegi Egyesített Bölcsődék | D5: 127.5 | E5: 132.6 | F5: 132.6 | G5: 134 | H5: =G5/F5*100 -> 101.05581 | I5: 5
B6: 4 | C6: Zalaegerszegi Család- és Gyermekjóléti Központ | D6: 63.5 | E6: 66.3 | F6: 66.3 | G6: 48 | H6: =G6/F6*100 -> 72.39819 | I6: 10
B7: 5 | C7: Zalaegerszegi Belvárosi I. sz.Óvoda | D7: 71 | E7: 71 | F7: 71 | G7: 71 | H7: =G7/F7*100 -> 100 | I7: 0
B8: 6 | C8: Zalaegerszegi Belvárosi II. sz.Óvoda | D8: 51 | E8: 56.3 | F8: 57.3 | G8: 59 | H8: =G8/F8*100 -> 102.96684 | I8: 1
B9: 7 | C9: Zalaegerszegi Kertvárosi Óvoda | D9: 59 | E9: 59 | F9: 59 | G9: 59 | H9: =G9/F9*100 -> 100 | I9: 0
B10: 8 | C10: Zalaegerszegi Landorhegyi Óvoda | D10: 57 | E10: 60 | F10: 60 | G10: 62 | H10: =G10/F10*100 -> 103.33333 | I10: 0
B11: 9 | C11: Közgyűjteményi és Közművelődési GESZ | D11: 14 | E11: 14 | F11: 14 | G11: 13 | H11: =G11/F11*100 -> 92.857143 | I11: 0
B12: 10 | C12: Keresztury Dezső Városi Művelődési Központ | D12: 60.5 | E12: 60.5 | F12: 60.5 | G12: 58 | H12: =G12/F12*100 -> 95.867769 | I12: 3
B13: 11 | C13: Zalaegerszegi Turisztikai Hivatal és Információs Iroda | D13: 4 | E13: 4 | F13: 4 | G13: 4 | H13: =G13/F13*100 -> 100 | I13: 0
B14: 12 | C14: Deák Ferenc Megyei és Városi Könyvtár | D14: 54 | E14: 54 | F14: 54 | G14: 54 | H14: =G14/F14*100 -> 100 | I14: 0
B15: 13 | C15: Zalaegerszegi Múzeumok Igazgatósága | D15: 75 | E15: 79 | F15: 79 | G15: 58 | H15: =G15/F15*100 -> 73.417722 | I15: 17
... B20: 18 | C20: Göcseji Tudásközpont - Zalaegerszegi Helyi Termékpiac | D20: 6 | E20: 6 | F20: 6 | G20: 6 | H20: =G20/F20*100 -> 100 | I20: 0
C21: Költségvetési szervek összesen: | D21: =SUM(D3:D20) -> 1066.5 | E21: =SUM(E3:E20) -> 1106.2 | F21: =SUM(F3:F20) -> 1107.2 | G21: =SUM(G3:G20) -> 1012 | H21: =G21/F21*100 -> 91.401734 | I21: =SUM(I3:I20) -> 64
C22: Mindösszesen: | D22: =D21+D2 -> 1072.5 | E22: =E21+E2 -> 1117.2 | F22: =F21+F2 -> 1118.2 | G22: =G21+G2 -> 1033 | H22: =G22/F22*100 -> 92.380612 | I22: =I21+I2 -> 64

Sheet 25
A1: Közvetett támogatás jogcíme | B1: 2025. évben nyújtott támogatás, kedvezmény összege
A2: 1. Ellátottak térítési díjának illetve kártérítésének méltányossági alapon történő elengedése | B2: ----
A3: 2. Lakásépítéshez, lakásfelújításhoz nyújtott kölcsön elengedése | B3: ----
A4: 3. Helyi adónál biztosított kedvezmény, mentesség * | B4: 62816
A5: 4. Helyiségek, eszközök hasznosításából származó bevételből nyújtott kedvezmény | B5: 97577
A6: 5. Egyéb nyújtott kedvezmény vagy kölcsön elengedése | B6: ----
A7: Összesen: | B7: =SUM(B2:B6) -> 160393
A10: *3. Helyi adónál biztosított kedvezmény, mentesség:
A11: Adónem/jogcím | B11: Kedvezmény önkormányzati rendelet alapján | C11: Méltányosság címén elengedett tartozás | D11: Összesen
A12: Helyi iparűzési adó (2 millió alatti mentesség) | B12: 23847 | D12: =SUM(B12:C12) -> 23847
A13: Építményadó | B13: 32927 | C13: 693 | D13: =SUM(B13:C13) -> 33620
A14: Talajterhelési díj | C14: 1929 | D14: =SUM(B14:C14) -> 1929
A15: Bírság | C15: 3026 | D15: =SUM(B15:C15) -> 3026
A16: Pótlék | C16: 371 | D16: =SUM(B16:C16) -> 371
A17: Magánszemélyek kommunális adója | C17: 23 | D17: =SUM(B17:C17) -> 23
A18: Összesen: | B18: =SUM(B12:B17) -> 56774 | C18: =SUM(C12:C17) -> 6042 | D18: =SUM(D12:D17) -> 62816

Sheet 26
A1: A hitel- és kölcsönállomány, lízingkötelezettség alakulása lejárat és hitelezők szerint
A2: Megnevezés | C2: Hitelező | D2: Lejárat éve | E2: Eredeti hitel-keret/lízing | F2: Módosított hitel összeg/lízing | G2: Hitelállomány, lízigkötelezettség | L2: 2026. évi tőke törlesztés | M2: 2027. évi tőke törlesztés | N2: Későbbi évek tőke terhe
G3: 2024. XII. 31-én | H3: 2025. XII. 31-én | I3: Változás 2025. évben | J3: 2025. évi tőke törlesztés | K3: 2025. évi hitel felvétel
A4: Zeg. belváros közlekedési rendszer komplett átalakítása | C4: OTP | D4: 2038. | E4: 300000 | F4: 211638 | G4: 143705 | H4: 133254 | I4: =SUM(H4-G4) -> -10451 | J4: 10451 | L4: 10451 | M4: 10451 | N4: =SUM(H4-L4-M4) -> 112352
A5: Zalaegerszegi Járműipari Tesztpályához szükséges területvásárláshoz | C5: OTP | D5: 2036. | E5: 950000 | F5: 950000 | G5: 622500 | H5: 570100 | I5: =SUM(H5-G5) -> -52400 | J5: 52400 | L5: 52400 | M5: 52400 | N5: =SUM(H5-L5-M5) -> 465300
A6: TOP program keretében megvalósuló projektek nem támogatott munkarészei, többletfeladatai | C6: OTP | D6: 2029. | E6: 100000 | F6: 100000 | G6: 47417 | H6: 37417 | I6: =SUM(H6-G6) -> -10000 | J6: 10000 | L6: 10000 | M6: 10000 | N6: =SUM(H6-L6-M6) -> 17417
A7: Vizslaparki u. 48. szám alatti ingatlan pályázati forrásból történő felújítása | C7: OTP | D7: 2027. | E7: 240000 | F7: 240000 | G7: 82500 | H7: 52500 | I7: =SUM(H7-G7) -> -30000 | J7: 30000 | L7: 30000 | M7: 22500 | N7: =SUM(H7-L7-M7) -> 0
A8: TOP és egyéb uniós projektek keretében megvalósuló projektek nem támogatott munkarészei, többletfeladatai | C8: OTP | D8: 2031. | E8: 150000 | F8: 150000 | G8: 97499 | H8: 82499 | I8: =SUM(H8-G8) -> -15000 | J8: 15000 | L8: 15000 | M8: 15000 | N8: =SUM(H8-L8-M8) -> 52499
A9: Hitelek, kölcsönök összesen: | E9: =SUM(E4:E8) -> 1740000 | F9: =SUM(F4:F8) -> 1651638 | G9: =SUM(G4:G8) -> 993621 | H9: =SUM(H4:H8) -> 875770 | I9: =SUM(I4:I8) -> -117851 | J9: =SUM(J4:J8) -> 117851 | K9: =SUM(K4:K8) -> 0 | L9: =SUM(L4:L8) -> 117851 | ... N9: =SUM(N4:N8) -> 647568
B11: Az önkormányzat által vállalt, a mérlegben nem szereplő kötelezettségek
A12: Megnevezés | C12: Kgy. határozat | E12: Tőke- tartozás 2025. XII.31. | F12: Szerződéses kamat mértéke | G12: Adós visszafizetési kötelezettsége
G13: 2026. | H13: 2027. | I13: 2028. | J13: Továbbbi évek
A15: Észak-zalai Víz- és Csatornamű Zrt. (fejlesztési célú hitelfelvétel) hitelfelvételhez készfizető kezesség | C15: 45/2019. | E15: 499658 | F15: 3 havi Bubor+0,94% | G15: 50187 | H15: 50187 | I15: 50187 | J15: =E15-G15-H15-I15 -> 349097
A16: Észak-zalai Víz- és Csatornamű Zrt. (zártvégű pénzügyi lízing) lízingszerződéshez garanciavállalás | C16: 106/2024 | E16: 42026 | F16: 0.1085 | G16: 8872 | H16: 9884 | I16: 11004 | J16: =E16-G16-H16-I16 -> 12266
A17: Észak-zalai Víz- és Csatornamű Zrt. (bankgarancia) bányászati tevékenységhez (termálvízes kút fúrása) kapcsolódó 300.000 E Ft. bankgaranciához szükséges kezességvállalás | C17: 77/2025. (IV.17.)
A18: Összesen: | E18: =SUM(E15:E17) -> 541684 | G18: =SUM(G15:G17) -> 59059 | H18: =SUM(H15:H17) -> 60071 | I18: =SUM(I15:I17) -> 61191 | J18: =SUM(J15:J17) -> 361363

Sheet 27 
A1: Sorszám | B1: Az európai uniós forrásokkal támogatott fejlesztés, program megnevezése | C1: Tervezési alapegység | D1: Tervezett adatok | I1: Tényadatok | W1: Elkülönített számla korrigált egyenlege 2025. dec. 31-én
D2: elnyert európai uniós támogatás | E2: hazai támogatás | F2: saját forrás | G2: a projekt uniós támogatással el nem ismert költségei | H2: projekt összesen: | I2: Bevételek | T2: Kiadás összesen
I3: saját forrás | L3: hazai támogatás | O3: európai uniós támogatás | R3: ÁFA vissza- térülés/ támogatás megelőlegezése előző években | S3: ÁFA vissza- térülés/ támogatás megelőlegezése 2025. évben | T3: előző évek | U3: 2025. évben | V3: Projekt kiadásai összesen
I4: előző évek | J4: 2025. évben | K4: Összesen | L4: előző évek | M4: 2025. évben | N4: Összesen | O4: előző évek | P4: 2025. évben | Q4: Összesen
A5: 1 | B5: TOP-6.4.1-15-ZL1-2016-00001 Gyalogos és kerékpárosbarát belváros közlekedési feltételeinek megteremtése Zalaegerszegen hivatásforgalmi kerékpárutak fejlesztésével és a Kosztolányi Dezső út kétirányúsításával | C5: 163607 | D5: 2580951 | G5: 11166 | H5: =SUM(D5:G5) -> 2592117 | I5: 6792 | K5: =SUM(I5:J5) -> 6792 | N5: =SUM(L5:M5) -> 0 | O5: 2580952 | Q5: =SUM(O5:P5) -> 2580952 | R5: 36 | T5: 2587480 | U5: 300 | V5: =SUM(T5:U5) -> 2587780 | W5: =K5+Q5+N5+R5+S5-V5 -> 0
A6: 2 | B6: TOP-6.1.1-16 Zalaegerszegi Logisztikai Központ létrehozása | C6: 163625 | D6: 503372 | G6: 40537 | H6: =SUM(D6:G6) -> 543909 | I6: 136044 | K6: =SUM(I6:J6) -> 136044 | N6: =SUM(L6:M6) -> 0 | O6: 503372 | Q6: =SUM(O6:P6) -> 503372 | R6: 42580 | T6: 650483 | V6: =SUM(T6:U6) -> 650483 | W6: =K6+Q6+N6+R6+S6-V6 -> 31513
A7: 3 | B7: TOP-6.1.2-16-ZL1-2017-00001 Inkubátorház bővítés Zalaegerszegen-III.ütem | C7: 163626 | D7: 317000 | G7: 2901 | H7: =SUM(D7:G7) -> 319901 | I7: 3000 | K7: =SUM(I7:J7) -> 3000 | N7: =SUM(L7:M7) -> 0 | O7: 317000 | Q7: =SUM(O7:P7) -> 317000 | R7: 86374 | T7: 406371 | V7: =SUM(T7:U7) -> 406371 | W7: =K7+Q7+N7+R7+S7-V7 -> 3
A8: 4 | B8: Zalaegerszeg nyugati vízbázisról ellátott települések ívóvízminőségének javítása KEHOP projekt | C8: 164206 | D8: 2454 | E8: 362 | G8: 135 | H8: =SUM(D8:G8) -> 2951 | I8: 135 | K8: =SUM(I8:J8) -> 135 | N8: =SUM(L8:M8) -> 0 | Q8: =SUM(O8:P8) -> 0 | V8: 0 | W8: =K8+Q8+N8+R8+S8-V8 -> 135
A9: 5 | B9: KEHOP 2.1.11-21-2021-00002 Ivóvízhálózatok és szennyvízhálózatok hatékonyságnövelő fejlesztése | C9: 164207 | D9: 1150119 | F9: 554869 | G9: 492693 | H9: =SUM(D9:G9) -> 2197681 | I9: 497193 | J9: 2882 | K9: =SUM(I9:J9) -> 500075 | N9: =SUM(L9:M9) -> 0 | O9: 1118684 | Q9: =SUM(O9:P9) -> 1118684 | R9: 426726 | T9: 2020068 | U9: 25417 | V9: =SUM(T9:U9) -> 2045485 | W9: =K9+Q9+N9+R9+S9-V9 -> 0
A10: 6 | B10: TOP Plusz --1.3-1-21 FVS TVP projekt * és Fenntartható városfejlesztési stratégiák támogatása* | C10: 163658 | D10: 80000 | H10: =SUM(D10:G10) -> 80000 | I10: 353 | J10: 0 | K10: =SUM(I10:J10) -> 353 | N10: =SUM(L10:M10) -> 0 | O10: 25480 | Q10: =SUM(O10:P10) -> 25480 | T10: 25429 | V10: =SUM(T10:U10) -> 25429 | W10: =K10+Q10+N10+R10+S10-V10 -> 404
A11: 7 | B11: TOP Plusz-1.2.1-21-ZA2-2022-00006 Zeg-Teskánd kerékpárút projekt | C11: 163662 | D11: 937481 | H11: =SUM(D11:G11) -> 937481 | K11: 0 | N11: =SUM(L11:M11) -> 0 | O11: 937481 | Q11: =SUM(O11:P11) -> 937481 | R11: 24 | T11: 138318 | U11: 785519 | V11: =SUM(T11:U11) -> 923837 | W11: =K11+Q11+N11+R11+S11-V11 -> 13668
A12: 8 | B12: RRF-1.1.2-21-2022-00019 Andráshidai mini bölcsőde | C12: 132937 | D12: 190025 | E12: 49975 | H12: =SUM(D12:G12) -> 240000 | I12: 23200 | K12: 23200 | L12: 49975 | N12: =SUM(L12:M12) -> 49975 | O12: 121820 | P12: 66170 | Q12: =SUM(O12:P12) -> 187990 | T12: 239388 | V12: =SUM(T12:U12) -> 239388 | W12: =K12+Q12+N12+R12+S12-V12 -> 21777
A13: 9 | B13: EIT Urban Mobility projekt | C13: 163663 | D13: 8214 | H13: =SUM(D13:G13) -> 8214 | K13: =SUM(I13:J13) -> 0 | N13: =SUM(L13:M13) -> 0 | O13: 8214 | Q13: =SUM(O13:P13) -> 8214 | T13: 4407 | V13: =SUM(T13:U13) -> 4407 | W13: =K13+Q13+N13+R13+S13-V13 -> 3807
A14: 10 | B14: TOP_PLUSZ-3.4.1-23-ZL1-2024-00004 Zala Vármegyei Pedagógiai Szakszolgálat fejlesztése | C14: 163666 | D14: 496622 | H14: =SUM(D14:G14) -> 496622 | K14: =SUM(I14:J14) -> 0 | N14: =SUM(L14:M14) -> 0 | P14: 26876 | Q14: =SUM(O14:P14) -> 26876 | U14: 1016 | V14: =SUM(T14:U14) -> 1016 | W14: =K14+Q14+N14+R14+S14-V14 -> 25860
A15: 11 | B15: TOP_PLUSZ-1.3.2-23-ZL1-2024-00001Páterdombi közösségi tér kialakítása | C15: 163671 | D15: 100000 | H15: =SUM(D15:G15) -> 100000 | K15: =SUM(I15:J15) -> 0 | N15: =SUM(L15:M15) -> 0 | Q15: =SUM(O15:P15) -> 0 | S15: 1600 | U15: 1600 | V15: =SUM(T15:U15) -> 1600 | W15: =K15+Q15+N15+R15+S15-V15 -> 0
A16: 12 | B16: TOP_PLUSZ-3.4..1-23-ZL1-2025-00005 Tipegő bölcsőde felújítása | C16: 163672 | D16: 204000 | H16: =SUM(D16:G16) -> 204000 | K16: =SUM(I16:J16) -> 0 | N16: =SUM(L16:M16) -> 0 | Q16: =SUM(O16:P16) -> 0 | V16: =SUM(T16:U16) -> 0 | W16: =K16+Q16+N16+R16+S16-V16 -> 0
A17: 13 | B17: TOP_PLUSZ-1.3.2-23-ZL1-2025-00003 Gyermek játszóház kialakítása Zalaegerszegen | C17: 163665 | D17: 956000 | F17: 256345 | H17: =SUM(D17:G17) -> 1212345 | K17: =SUM(I17:J17) -> 0 | N17: =SUM(L17:M17) -> 0 | Q17: =SUM(O17:P17) -> 0 | V17: =SUM(T17:U17) -> 0 | W17: =K17+Q17+N17+R17+S17-V17 -> 0
A18: 14 | B18: TOP_PLUSZ-3.4.1-23-ZL1-2025-00006 Űrhajós utcai óvoda felújítása | C18: 163685 | D18: 186000 | H18: =SUM(D18:G18) -> 186000 | K18: =SUM(I18:J18) -> 0 | N18: =SUM(L18:M18) -> 0 | Q18: =SUM(O18:P18) -> 0 | V18: =SUM(T18:U18) -> 0 | W18: =K18+Q18+N18+R18+S18-V18 -> 0
A19: 15 | B19: TOP_PLUSZ-3.4.1-23-ZL1-2025-00007 Napsugár óvoda felújítása | C19: 163684 | D19: 360000 | H19: =SUM(D19:G19) -> 360000 | K19: =SUM(I19:J19) -> 0 | N19: =SUM(L19:M19) -> 0 | Q19: =SUM(O19:P19) -> 0 | V19: =SUM(T19:U19) -> 0 | W19: =K19+Q19+N19+R19+S19-V19 -> 0
A20: 16 | B20: TOP_PLUSZ-3.4.1-23-ZL1-2025-00008 Ady iskola infrastruktúra fejlesztése | C20: 163686 | D20: 371206 | H20: =SUM(D20:G20) -> 371206 | K20: =SUM(I20:J20) -> 0 | N20: =SUM(L20:M20) -> 0 | Q20: =SUM(O20:P20) -> 0 | V20: =SUM(T20:U20) -> 0 | W20: =K20+Q20+N20+R20+S20-V20 -> 0
A21: 17 | B21: TOP_PLUSZ-6.2.1-23-ZL1-2025-000007 Ebergényi bekötőút burkolatfelújítása | C21: 163673 | D21: 180000 | H21: =SUM(D21:G21) -> 180000 | K21: =SUM(I21:J21) -> 0 | N21: =SUM(L21:M21) -> 0 | Q21: =SUM(O21:P21) -> 0 | V21: =SUM(T21:U21) -> 0 | W21: =K21+Q21+N21+R21+S21-V21 -> 0
A22: 18 | B22: TOP_PLUSZ-1.3.2-23-ZL1-2024-00002 Kaszaházai közösségi tér kialakítása | C22: 163687 | D22: 200000 | H22: =SUM(D22:G22) -> 200000 | K22: =SUM(I22:J22) -> 0 | N22: =SUM(L22:M22) -> 0 | Q22: =SUM(O22:P22) -> 0 | V22: =SUM(T22:U22) -> 0 | W22: =K22+Q22+N22+R22+S22-V22 -> 0
A23: 19 | B23: TOP_PLUSZ-3.2.1-23-ZL1-2024-00001 Helyi kulturális közösségfejlesztési folyamat kezdeményezése és megvalósítása Zalaegerszegen | C23: 163678 | D23: 80817 | H23: =SUM(D23:G23) -> 80817 | K23: =SUM(I23:J23) -> 0 | N23: =SUM(L23:M23) -> 0 | Q23: =SUM(O23:P23) -> 0 | V23: =SUM(T23:U23) -> 0 | W23: =K23+Q23+N23+R23+S23-V23 -> 0
A24: 20 | B24: TOP_PLUSZ-6.2.1-23-ZL1-2025-00004 Zalaegerszeg Logisztikai Park közműfejlesztése (+Natura2000) | C24: 163688 | D24: 510864 | H24: =SUM(D24:G24) -> 510864 | K24: =SUM(I24:J24) -> 0 | N24: =SUM(L24:M24) -> 0 | Q24: =SUM(O24:P24) -> 0 | V24: =SUM(T24:U24) -> 0 | W24: =K24+Q24+N24+R24+S24-V24 -> 0
A25: 21 | B25: TOP_PLUSZ-6.2.1-23-ZL1-2025-00005 Északi Ipari Park infrastrukturális fejlesztése | C25: 163689 | D25: 974000 | H25: =SUM(D25:G25) -> 974000 | K25: =SUM(I25:J25) -> 0 | N25: =SUM(L25:M25) -> 0 | Q25: =SUM(O25:P25) -> 0 | V25: =SUM(T25:U25) -> 0 | W25: =K25+Q25+N25+R25+S25-V25 -> 0
A26: 22 | B26: DIMOP_PLUSZ-2.1.1-24-2025-00010 Zalaegerszeg MJV energia menedzsment rendszerének bevezetése | C26: 163675 | D26: 224624 | H26: =SUM(D26:G26) -> 224624 | K26: =SUM(I26:J26) -> 0 | N26: =SUM(L26:M26) -> 0 | Q26: =SUM(O26:P26) -> 0 | V26: =SUM(T26:U26) -> 0 | W26: =K26+Q26+N26+R26+S26-V26 -> 0
A27: 23 | B27: TOP_PLUSZ-6.2.1-23-ZL1-2025-00003 Parkerdei kerékpárút | C27: 163679 | D27: 100000 | H27: =SUM(D27:G27) -> 100000 | K27: =SUM(I27:J27) -> 0 | N27: =SUM(L27:M27) -> 0 | Q27: =SUM(O27:P27) -> 0 | V27: =SUM(T27:U27) -> 0 | W27: =K27+Q27+N27+R27+S27-V27 -> 0
A28: 24 | B28: TOP_PLUSZ-3.4.1-23-ZL1-2023-00001 Bazitai Óvoda újjáépítése | C28: 163680 | D28: 390999 | F28: 4835 | H28: =SUM(D28:G28) -> 395834 | K28: =SUM(I28:J28) -> 0 | N28: =SUM(L28:M28) -> 0 | P28: 35737 | Q28: =SUM(O28:P28) -> 35737 | U28: 18339 | V28: =SUM(T28:U28) -> 18339 | W28: =K28+Q28+N28+R28+S28-V28 -> 17398
A29: 25 | B29: TOP_PLUSZ-3.4.1-23-ZL1-2023-00002 Ságodi Óvoda felújítása | C29: 163681 | D29: 290941 | F29: 559 | H29: =SUM(D29:G29) -> 291500 | K29: =SUM(I29:J29) -> 0 | N29: =SUM(L29:M29) -> 0 | P29: 30273 | Q29: =SUM(O29:P29) -> 30273 | U29: 15904 | V29: =SUM(T29:U29) -> 15904 | W29: =K29+Q29+N29+R29+S29-V29 -> 14369
A30: 26 | B30: TOP_PLUSZ-3.4.1-23-ZL1-2024-00003 Orvosi rendelők felújítása (Kölcsey u.11., Mátyás király u. 16., Gasparich u. 21.) | C30: 163682 | D30: 250000 | H30: =SUM(D30:G30) -> 250000 | K30: =SUM(I30:J30) -> 0 | N30: =SUM(L30:M30) -> 0 | Q30: =SUM(O30:P30) -> 0 | U30: 0 | V30: =SUM(T30:U30) -> 0 | W30: =K30+Q30+N30+R30+S30-V30 -> 0
B31: Önkormányzati projektek összesen: | D31: =SUM(D2:D30) -> 11645689 | E31: =SUM(E2:E30) -> 50337 | F31: =SUM(F2:F30) -> 816608 | G31: =SUM(G2:G30) -> 547432 | H31: =SUM(H2:H30) -> 13060066 | I31: =SUM(I2:I30) -> 666717 | J31: =SUM(J2:J30) -> 2882 | K31: =SUM(K2:K30) -> 669599 | ... W31: =SUM(W2:W30) -> 128934
B32: Költségvetési szervek:
B33: Zalaegerszegi Múzeumok Igazgatósága:
A34: 27 | B34: Interreg Ausztria-Magyarország Együttműködési Program InnoGuide4CHT ATHU-0100028 | D34: 42299 | E34: 24674 | F34: 3525 | H34: =SUM(D34:G34) -> 70498 | K34: =SUM(I34:J34) -> 0 | M34: 24674 | N34: =SUM(L34:M34) -> 24674 | P34: 18341 | Q34: =SUM(O34:P34) -> 18341 | U34: 389 | V34: =SUM(T34:U34) -> 389 | W34: =K34+Q34+N34+R34+S34-V34 -> 42626
B35: Költségvetési szervek projektjei összesen: | D35: =SUM(D34:D34) -> 42299 | E35: =SUM(E34:E34) -> 24674 | F35: =SUM(F34:F34) -> 3525 | G35: =SUM(G34:G34) -> 0 | H35: =SUM(H34:H34) -> 70498 | I35: =SUM(I34:I34) -> 0 | J35: =SUM(J34:J34) -> 0 | K35: =SUM(K34:K34) -> 0 | ... W35: =SUM(W34:W34) -> 42626
B36: Projektek mindösszesen: | D36: =SUM(D31+D35) -> 11687988 | E36: =SUM(E31+E35) -> 75011 | F36: =SUM(F31+F35) -> 820133 | G36: =SUM(G31+G35) -> 547432 | H36: =SUM(H31+H35) -> 13130564 | I36: =SUM(I31+I35) -> 666717 | J36: =SUM(J31+J35) -> 2882 | K36: =SUM(K31+K35) -> 669599 | ... W36: =SUM(W31+W35) -> 171560

Sheet 28
A1: Megnevezés | B1: I | C1: II | D1: III | E1: IV | F1: V | G1: VI | H1: VII | I1: A | J1: VIII | K1: IX | L1: B | M1: C
B2: Tevékenység nettó eredményszemléletű bevétele | C2: Aktivált saját teljesítmények értéke | D2: Egyéb eredményszemléletű bevételek | E2: Anyagjellegű ráfordítások | F2: Személyi jellegű ráfordítások | G2: Értékcsökkenési leírás | H2: Egyéb ráfordítások | I2: TEVÉKENYSÉGEK EREDMÉNYE | J2: Pénzügyi műveletek eredményszemléletű bevételei | K2: Pénzügyi műveletek ráfordításai | L2: PÉNZÜGYI MŰVELETEK EREDMÉNYE | M2: MÉRLEG SZERINTI EREDMÉNY
A3: Polgármesteri Hivatal | B3: 26454 | D3: 2315063 | E3: 206778 | F3: 2097607 | G3: 28011 | H3: 51959 | I3: =SUM(B3+C3+D3-E3-F3-G3-H3) -> -42838 | J3: 446 | L3: =SUM(J3-K3) -> 446 | M3: =SUM(L3,I3) -> -42392
A4: Zalaegerszegi GESZ | B4: 558181 | D4: 1194778 | E4: 1281396 | F4: 389829 | G4: 30717 | H4: 18823 | I4: =SUM(B4+C4+D4-E4-F4-G4-H4) -> 32194 | J4: 11765 | L4: =SUM(J4-K4) -> 11765 | M4: =SUM(L4,I4) -> 43959
A5: Egyesített Bölcsődék | B5: 76910 | D5: 1141756 | E5: 175513 | F5: 965171 | G5: 30968 | H5: 39116 | I5: =SUM(B5+C5+D5-E5-F5-G5-H5) -> 7898 | J5: 4166 | L5: =SUM(J5-K5) -> 4166 | M5: =SUM(L5,I5) -> 12064
A6: Zeg-i Család- és Gyermekjóléti Központ | D6: 415480 | E6: 25081 | F6: 350176 | G6: 4987 | H6: 16090 | I6: =SUM(B6+C6+D6-E6-F6-G6-H6) -> 19146 | J6: 3720 | L6: =SUM(J6-K6) -> 3720 | M6: =SUM(L6,I6) -> 22866
A7: Zalaegerszegi Belvárosi I. sz.Óvoda | B7: 10304 | D7: 679739 | E7: 72286 | F7: 600203 | G7: 13353 | H7: 15734 | I7: =SUM(B7+C7+D7-E7-F7-G7-H7) -> -11533 | J7: 766 | L7: =SUM(J7-K7) -> 766 | M7: =SUM(L7,I7) -> -10767
A8: Zalaegerszegi Belvárosi II.sz.Óvoda | B8: 13201 | D8: 517165 | E8: 99576 | F8: 415289 | G8: 10035 | H8: 17644 | I8: =SUM(B8+C8+D8-E8-F8-G8-H8) -> -12178 | J8: 675 | L8: =SUM(J8-K8) -> 675 | M8: =SUM(L8,I8) -> -11503
A9: Zalaegerszegi Kertvárosi Óvoda | B9: 11852 | D9: 596788 | E9: 125791 | F9: 468455 | G9: 13592 | H9: 21976 | I9: =SUM(B9+C9+D9-E9-F9-G9-H9) -> -21174 | J9: 440 | L9: =SUM(J9-K9) -> 440 | M9: =SUM(L9,I9) -> -20734
A10: Zalaegerszegi Landorhegyi Óvoda | B10: 8412 | D10: 548274 | E10: 71465 | F10: 461999 | G10: 10900 | H10: 14354 | I10: =SUM(B10+C10+D10-E10-F10-G10-H10) -> -2032 | J10: 399 | L10: =SUM(J10-K10) -> 399 | M10: =SUM(L10,I10) -> -1633
A11: Közgyűjteményi és Közművelődési GESZ | D11: 106014 | E11: 2673 | F11: 100305 | G11: 696 | H11: 810 | I11: =SUM(B11+C11+D11-E11-F11-G11-H11) -> 1530 | J11: 33 | L11: =SUM(J11-K11) -> 33 | M11: =SUM(L11,I11) -> 1563
A12: Keresztury Dezső VMK | B12: 110448 | D12: 508814 | E12: 224744 | F12: 363903 | G12: 54998 | H12: 26998 | I12: =SUM(B12+C12+D12-E12-F12-G12-H12) -> -51381 | J12: 664 | L12: =SUM(J12-K12) -> 664 | M12: =SUM(L12,I12) -> -50717
A13: Tourinform Iroda | B13: 3216 | D13: 34793 | E13: 5957 | F13: 29315 | G13: 977 | H13: 915 | I13: =SUM(B13+C13+D13-E13-F13-G13-H13) -> 845 | J13: 67 | L13: =SUM(J13-K13) -> 67 | M13: =SUM(L13,I13) -> 912
A14: Deák Ferenc Megyei és Városi Könyvtár | B14: 5075 | D14: 526733 | E14: 92437 | F14: 315985 | G14: 88801 | H14: 15827 | I14: =SUM(B14+C14+D14-E14-F14-G14-H14) -> 18758 | J14: 1979 | L14: =SUM(J14-K14) -> 1979 | M14: =SUM(L14,I14) -> 20737
A15: Zalaegerszegi Múzeumok Igazgatósága | B15: 84830 | C15: 498 | D15: 800232 | E15: 210664 | F15: 388442 | G15: 254514 | H15: 32447 | I15: =SUM(B15+C15+D15-E15-F15-G15-H15) -> -507 | J15: 4256 | K15: 13 | L15: =SUM(J15-K15) -> 4243 | M15: =SUM(L15,I15) -> 3736
A16: Hevesi Sándor Színház | B16: 293343 | D16: 823170 | E16: 265187 | F16: 832633 | G16: 31340 | H16: 8327 | I16: =SUM(B16+C16+D16-E16-F16-G16-H16) -> -20974 | J16: 2989 | L16: =SUM(J16-K16) -> 2989 | M16: =SUM(L16,I16) -> -17985
A17: Griff Bábszínház | B17: 28052 | D17: 168002 | E17: 56990 | F17: 137215 | G17: 6139 | H17: 1590 | I17: =SUM(B17+C17+D17-E17-F17-G17-H17) -> -5880 | J17: 724 | K17: 28 | L17: =SUM(J17-K17) -> 696 | M17: =SUM(L17,I17) -> -5184
A18: Városi Sportlét. Gond. | B18: 97433 | D18: 153820 | E18: 93978 | F18: 142963 | G18: 29287 | H18: 16266 | I18: =SUM(B18+C18+D18-E18-F18-G18-H18) -> -31241 | J18: 1310 | K18: 16 | L18: =SUM(J18-K18) -> 1294 | M18: =SUM(L18,I18) -> -29947
A19: Vásárcsarnok | B19: 97860 | D19: 9455 | E19: 35100 | F19: 81793 | G19: 10857 | H19: -4213 | I19: =SUM(B19+C19+D19-E19-F19-G19-H19) -> -16222 | J19: 634 | L19: =SUM(J19-K19) -> 634 | M19: =SUM(L19,I19) -> -15588
A20: Göcseji Tudásközpont | B20: 34822 | D20: 69150 | E20: 39239 | F20: 42860 | G20: 17786 | H20: 1558 | I20: =SUM(B20+C20+D20-E20-F20-G20-H20) -> 2529 | J20: 522 | K20: 1 | L20: =SUM(J20-K20) -> 521 | M20: =SUM(L20,I20) -> 3050
A21: Költségvetési szervek összesen: | B21: =SUM(B3:B20) -> 1460393 | C21: =SUM(C3:C20) -> 498 | D21: =SUM(D3:D20) -> 10609226 | E21: =SUM(E3:E20) -> 3084855 | F21: =SUM(F3:F20) -> 8184143 | G21: =SUM(G3:G20) -> 637958 | H21: =SUM(H3:H20) -> 296221 | I21: =SUM(I3:I20) -> -133060 | ... M21: =SUM(M3:M20) -> -97563
A22: ZMJV Önkormányzata | B22: 11589026 | D22: 10272532 | E22: 2464273 | F22: 535995 | G22: 2721875 | H22: 18297455 | I22: =SUM(B22+C22+D22-E22-F22-G22-H22) -> -2158040 | J22: 1488919 | K22: 133159 | L22: =SUM(J22-K22) -> 1355760 | M22: =SUM(L22,I22) -> -802280
A23: Önkormányzat össz: | B23: =SUM(B21:B22) -> 13049419 | C23: =SUM(C21:C22) -> 498 | D23: =SUM(D21:D22) -> 20881758 | E23: =SUM(E21:E22) -> 5549128 | F23: =SUM(F21:F22) -> 8720138 | G23: =SUM(G21:G22) -> 3359833 | H23: =SUM(H21:H22) -> 18593676 | I23: =SUM(B23+C23+D23-E23-F23-G23-H23) -> -2291100 | J23: =SUM(J21:J22) -> 1524474 | K23: =SUM(K21:K22) -> 133217 | L23: =SUM(L21:L22) -> 1391257 | M23: =SUM(L23,I23) -> -899843

Sheet 29
A1: Támogatott intézmény/szervezet neve | B1: Szociális, Lakás és Egészségügyi Bizottság | C1: Humánigazgatási Bizottság | D1: Gazdasági Bizottság | E1: Műszaki Bizottság | F1: Ügyrendi, Jogi és Vagyonnyilatkozatot Ellenőrző Bizottság | G1: Polgármester | H1: Alpolgármesterek | I1: Közgyűlés | J1: Összesen
A2: Költségvetési szervek
A3: Deák Ferenc Megyei és Városi Könyvtár | I3: 1611000
A4: Deák Ferenc Megyei és Városi Könyvtár | I4: 1500000
A5: Deák Ferenc Megyei és Városi Könyvtár | I5: 1500000
A6: Deák Ferenc Megyei és Városi Könyvtár | G6: 300000 | I6: 300000
A7: Deák Ferenc Megyei és Városi Könyvtár | G7: 300 | H7: =SUM(H3:H6) -> 0 | I7: 4911 | J7: =SUM(B7:I7) -> 5211
A8: Egyesített Bölcsődék
A9: Egyesített Bölcsődék
A10: Egyesített Bölcsődék | B10: =SUM(B8:B9) -> 0 | C10: =SUM(C8:C9) -> 0 | D10: =SUM(D8:D9) -> 0 | E10: =SUM(E8:E9) -> 0 | F10: =SUM(F8:F9) -> 0 | G10: =SUM(G8:G9) -> 0 | H10: =SUM(H8:H9) -> 0 | I10: =SUM(I8:I9) -> 0 | J10: =SUM(B10:I10) -> 0
A11: Griff Bábszínház | J11: =SUM(B11:I11) -> 0
A12: Göcseji Tudásközpont-Zalaegerszegi Helyi Termék Piac | G12: 1500 | J12: =SUM(B12:I12) -> 1500
A13: Hevesi Sándor Színház | J13: =SUM(B13:I13) -> 0
A14: Keresztury VMK | I14: 2380000
A15: Keresztury VMK | I15: 70000
A16: Keresztury VMK | I16: 3000000
A17: Keresztury VMK | I17: 450000
A18: Keresztury VMK | G18: 100000 | I18: 550000
A19: Keresztury VMK | G19: 100000 | I19: 320000
A20: Keresztury VMK | G20: 150000 | I20: 1000000
A21: Keresztury VMK | C21: 200000 | G21: 200000 | I21: 3500000
A22: Keresztury VMK | C22: 600000 | I22: 1000000
A23: Keresztury VMK | C23: 600000 | I23: 300000
A24: Keresztury VMK | D24: 100000 | G24: 150000 | I24: 500000
A25: Keresztury VMK | C25: 100000 | I25: 950000
A26: Keresztury VMK | C26: 100000 | I26: 100000
A27: Keresztury VMK | I27: 1500000
A28: Keresztury VMK | I28: 300000
A29: Keresztury VMK | I29: 500000
A30: Keresztury VMK | I30: 400000
A31: Keresztury VMK | I31: 167225
A32: Keresztury VMK | I32: 330000
A33: Keresztury VMK | G33: 100000 | I33: 320000
A34: Keresztury VMK | I34: 3500000
A35: Keresztury VMK | C35: 100000 | I35: 240000
A36: Keresztury VMK | C36: 500000 | I36: 1100000
A37: Keresztury VMK | I37: 4000000
A38: Keresztury VMK | I38: 450000
A39: Keresztury VMK | I39: -1519585
A40: Keresztury VMK | G40: 500000 | I40: 400000
A41: Keresztury VMK | I41: 1200000
A42: Keresztury VMK | I42: 3500000
A43: Keresztury VMK | I43: 728000
A44: Keresztury VMK | I44: -884910
A45: Keresztury VMK | I45: -167225
A46: Keresztury VMK | I46: -8905
A47: Keresztury VMK | G47: 142000 | I47: 3000000
A48: Keresztury VMK | G48: 100000
A49: Keresztury VMK | G49: 150000 | I49: 1400000
A50: Keresztury VMK | C50: 2200 | D50: 100 | G50: 1692 | H50: =SUM(H14:H42) -> 0 | I50: 34575 | J50: =SUM(B50:I50) -> 38567
A51: Közgyűjteményi és Közművelődési Gazdasági Ellátó Szervezet - KKGESZ | C51: 100 | G51: 200 | I51: 100 | J51: =SUM(B51:I51) -> 400
A52: ZMJV Vásárcsarnok | C52: 50 | E52: 50 | J52: =SUM(B52:I52) -> 100
A53: Zalaegerszegi Belvárosi I. sz. Óvoda | G53: 200000 | I53: 200000
A54: Zalaegerszegi Belvárosi I. sz. Óvoda | G54: 200 | H54: =SUM(H53) -> 0 | I54: 200 | J54: =SUM(B54:I54) -> 400
A55: Zalaegerszegi Belvárosi II. sz. Óvoda | I55: 200000
A56: Zalaegerszegi Belvárosi II. Óvoda | H56: =SUM(H55) -> 0 | I56: 200 | J56: =SUM(B56:I56) -> 200
A57: Zalaegerszegi Kertvárosi Óvoda
A58: Zalaegerszegi Kertvárosi Óvoda | B58: =SUM(B57) -> 0 | C58: =SUM(C57) -> 0 | D58: =SUM(D57) -> 0 | E58: =SUM(E57) -> 0 | F58: =SUM(F57) -> 0 | G58: =SUM(G57) -> 0 | H58: =SUM(H57) -> 0 | I58: =SUM(I57) -> 0 | J58: =SUM(B58:I58) -> 0
A59: Zalaegerszegi Landorhegyi Óvoda
A60: Zalaegerszegi Landorhegyi Óvoda
A61: Zalaegerszegi Landorhegyi Óvoda
A62: Zalaegerszegi Landorhegyi Óvoda | B62: =SUM(B59:B61) -> 0 | C62: =SUM(C59:C61) -> 0 | D62: =SUM(D59:D61) -> 0 | E62: =SUM(E59:E61) -> 0 | F62: =SUM(F59:F61) -> 0 | G62: =SUM(G59:G61) -> 0 | H62: =SUM(H59:H61) -> 0 | I62: =SUM(I59:I61) -> 0 | J62: =SUM(B62:I62) -> 0
A63: Zalaegerszegi Családsegítő Szolgálat és Gyermekjóléti Központ
A64: Zalaegerszegi Családsegítő Szolgálat és Gyermekjóléti Központ
A65: Zalaegerszegi Családsegítő Szolgálat és Gyermekjóléti Központ összesen | B65: =SUM(B63:B64) -> 0 | C65: =SUM(C63:C64) -> 0 | D65: =SUM(D63:D64) -> 0 | E65: =SUM(E63:E64) -> 0 | F65: =SUM(F63:F64) -> 0 | G65: =SUM(G63:G64) -> 0 | H65: =SUM(H63:H64) -> 0 | I65: =SUM(I63:I64) -> 0 | J65: =SUM(B65:I65) -> 0
A66: Zalaegerszegi Gondozási Központ | B66: 100 | D66: 100 | G66: 300 | I66: 100 | J66: =SUM(B66:I66) -> 600
A67: Zalaegerszegi Múzeumok Igazgatósága | G67: 100 | I67: 3800 | J67: =SUM(B67:I67) -> 3900
A68: Zalaegerszegi Szakképzési Centrum | I68: 8500
A69: Zalaegerszegi Szakképzési Centrum | I69: 8500
A70: Zalaegerszegi Szakképzési Centrum | H70: =SUM(H68:H69) -> 0 | I70: =SUM(I68:I69) -> 17000 | J70: =SUM(B70:I70) -> 17000
A71: Zalaegerszegi Tankerületi Központ | G71: 100000
A72: Zalaegerszegi Tankerületi Központ | G72: 100000
A73: Zalaegerszegi Tankerületi Központ | G73: 21600
A74: Zalaegerszegi Tankerületi Központ | G74: 100000
A75: Zalaegerszegi Tankerületi Központ | G75: 300000
A76: Zalaegerszegi Tankerületi Központ | I76: 392700
A77: Zalaegerszegi Tankerületi Központ | G77: 621 | H77: =SUM(H71:H76) -> 0 | I77: 393 | J77: =SUM(B77:I77) -> 1014
A78: Zalaegerszegi Turisztikai Hivatal és Információs Iroda | I78: 2000000
A79: Zalaegerszegi Turisztikai Hivatal és Információs Iroda | I79: 1500000
A80: Zalaegerszegi Turisztikai Hivatal és Információs Iroda | H80: =SUM(H78:H79) -> 0 | I80: 3500 | J80: =SUM(B80:I80) -> 3500
A81: Zegesz
A82: Zegesz
A83: Zegesz
A84: Zegesz
A85: Zegesz
A86: Zegesz | B86: =SUM(B81:B85) -> 0 | C86: =SUM(C81:C85) -> 0 | D86: =SUM(D81:D85) -> 0 | E86: =SUM(E81:E85) -> 0 | F86: =SUM(F81:F85) -> 0 | G86: =SUM(G81:G85) -> 0 | H86: =SUM(H81:H85) -> 0 | I86: =SUM(I81:I85) -> 0 | J86: =SUM(B86:I86) -> 0
A87: Költségvetési szervek összesen: | B87: =SUM(B7,B12,B50,B51,B52,B54,B56,B66,B67,B70,B77,B80) -> 100 | C87: =SUM(C7,C12,C50,C51,C52,C54,C56,C66,C67,C70,C77,C80) -> 2350 | D87: =SUM(D7,D12,D50,D51,D52,D54,D56,D66,D67,D70,D77,D80) -> 200 | E87: =SUM(E7,E12,E50,E51,E52,E54,E56,E66,E67,E70,E77,E80) -> 50 | F87: =SUM(F7,F12,F50,F51,F52,F54,F56,F66,F67,F70,F77,F80) -> 0 | G87: =SUM(G7,G12,G50,G51,G52,G54,G56,G66,G67,G70,G77,G80) -> 4913 | H87: =SUM(H7,H12,H50,H51,H52,H54,H56,H66,H67,H70,H77,H80) -> 0 | I87: =SUM(I7,I12,I50,I51,I52,I54,I56,I66,I67,I70,I77,I80) -> 64779 | J87: =SUM(B87:I87) -> 72392
A88: Önkormányzat
A89: Budapest Főváros VIII. kerület | I89: 193 | J89: =SUM(B89:I89) -> 193
A90: Dunaújváros Megyei Jogú Város Önkormányzata | J90: =SUM(I90:I90) -> 0
A91: Szombathelyi Megyei Jogú Város Önkormányzata | J91: =SUM(B91:I91) -> 0
A92: ZMJV Horváth Nemzetiségi Önkormányzata | I92: 750000
A93: ZMJV Horváth Nemzetiségi Önkormányzata | I93: 375000
A94: ZMJV Horváth Nemzetiségi Önkormányzata | I94: 375000
A95: ZMJV Horváth Nemzetiségi Önkormányzata | H95: =SUM(H92:H94) -> 0 | I95: 1500 | J95: =SUM(B95:I95) -> 1500
A96: ZMJV Roma Nemzetiségi Önkormányzata | I96: 1000000
A97: ZMJV Roma Nemzetiségi Önkormányzata | I97: 1000000
A98: ZMJV Roma Nemzetiségi Önkormányzata | I98: 2000000
A99: ZMJV Roma Nemzetiségi Önkormányzata | H99: =SUM(H96:H98) -> 0 | I99: 4000 | J99: =SUM(B99:I99) -> 4000
A100: Társulások, egyéb szervek
...
