Workbook
Name _GoBack: '2'!#REF!

Sheet 1
B1: 2025. évi eredeti előirányzat | C1: 2025. évi módosított előirányzat | D1: 2025. évi teljesítés | E1: Teljesítés %-a | G1: Megnevezés | H1: 2025. évi eredeti előirányzat | I1: 2025. évi módosított előirányzat | J1: 2025. évi teljesítés | K1: Teljesítés %-a
A2: I. Működési célú bevételek | G2: I. Működési célú kiadások
A3: 1.) Működési célú támogatások államháztartáson belülről | B3: 8103587 | C3: 9520045 | D3: ='6'!I245 -> 8525092 | E3: =SUM(D3/C3)*100 -> 89.548862 | G3: 1.) Költségvetési szervek kiadásai | H3: 12211496 | I3: 12925217 | J3: ='11'!H22+'11'!I22+'11'!J22+'11'!K22+'11'!L22 -> 12033637 | K3: =SUM(J3/I3)*100 -> 93.102011
A4: 2.) Közhatalmi bevételek | B4: 9347900 | C4: 9349292 | D4: 9771435 | E4: =SUM(D4/C4)*100 -> 104.51524 | G4: 2.) Önkormányzat szakosztályainak kiadásai | H4: 7350700 | I4: 8075310 | J4: ='8'!K656+'8'!L656+'8'!M656+'8'!N656-67691 -> 5057526 | K4: =SUM(J4/I4)*100 -> 62.629497
A5: 3.) Működési bevételek | B5: 4395669 | C5: 5844512 | D5: ='6'!L245-D18 -> 5550205 | E5: =SUM(D5/C5)*100 -> 94.964387 | G5: 3.Egyéb működési célú kiadások (költségvetési szervek és tartalék nélkül) | H5: 6030945 | I5: 7047558 | J5: ='8'!O656 -> 6996527 | K5: =SUM(J5/I5)*100 -> 99.275905
A6: 4.) Működési célú átvett pénzeszközök | C6: 101234 | D6: ='6'!N245 -> 107944 | E6: =SUM(D6/C6)*100 -> 106.62821 | G6: 4.) Céltartalékból működésre | H6: 436014 | I6: 470268 | K6: =SUM(J6/I6)*100 -> 0
A7: Költségvetési műk. bevételei összesen: | B7: =SUM(B3+B4+B5+B6) -> 21847156 | C7: =SUM(C3:C6) -> 24815083 | D7: =SUM(D3+D4+D5+D6) -> 23954676 | E7: =SUM(D7/C7)*100 -> 96.532726 | G7: 5.) Általános tartalék | H7: 10000 | I7: 7827 | K7: =SUM(J7/I7)*100 -> 0
A8: Finanszírozási bevételek | G8: Költségvetési műk. kiadásai összesen: | H8: =SUM(H2:H7) -> 26039155 | I8: =SUM(I3:I7) -> 28526180 | J8: =SUM(J2:J7) -> 24087690 | K8: =SUM(J8/I8)*100 -> 84.440644
A9: 5.) Előző év költségvetési maradványának igénybevétele | B9: 2592710 | C9: 2111808 | D9: 2111808 | E9: =SUM(D9/C9)*100 -> 100 | G9: 6.) Egyéb finanszírozási kiadás (államháztartáson belüli megelőlegezés visszafizetése) | H9: 200711 | I9: 577027 | J9: ='8'!T567 -> 577027 | K9: =SUM(J9/I9)*100 -> 100
A10: 6.) Forgatási célú értékpapír beváltás | B10: 1800000 | C10: 1800000 | E10: =SUM(D10/C10)*100 -> 0
A11: 7.) Államháztartáson belüli megelőlegezések | C11: 376316 | D11: ='6'!R203 -> 620443 | E11: =SUM(D11/C11)*100 -> 164.87287
A12: MŰKÖDÉSI CÉLÚ BEVÉTELEK ÖSSZ: | B12: =SUM(B7:B11) -> 26239866 | C12: =SUM(C7:C11) -> 29103207 | D12: =SUM(D7:D11) -> 26686927 | E12: =SUM(D12/C12)*100 -> 91.697547 | G12: MŰKÖDÉSI CÉLÚ KIADÁSOK ÖSSZ.: | H12: =SUM(H8:H9) -> 26239866 | I12: =SUM(I8:I11) -> 29103207 | J12: =SUM(J8:J11) -> 24664717 | K12: =SUM(J12/I12)*100 -> 84.749138
A13: II. Felhalmozási célú bevételek | G13: II. Felhalmozási célú kiadások
A14: 1.) Felhalmozási célú támogatások államháztartáson belülről | B14: 1665620 | C14: 6287013 | D14: ='6'!J245 -> 880160 | E14: =SUM(D14/C14)*100 -> 13.999653 | G14: 1.) Egyéb felhalmozási célú kiadások | H14: 575452 | I14: 198084 | J14: ='8'!R658 -> 141381 | K14: =SUM(J14/I14)*100 -> 71.374265
A15: 2.) Felhalmozási bevételek | B15: 214221 | C15: 379780 | D15: ='6'!M245 -> 318520 | E15: =SUM(D15/C15)*100 -> 83.869609 | G15: ebből: költségvetési szervek | I15: 0 | J15: ='8'!R657 -> 0
A16: 3.) Közhatalmi bevételek | B16: 30000 | C16: 30000 | D16: 30000 | E16: =SUM(D16/C16)*100 -> 100 | G16: 2.) Beruházás | H16: 7130360 | I16: 10874884 | J16: ='8'!P658 -> 3923577 | K16: =SUM(J16/I16)*100 -> 36.079254
A17: 4.) Felhalmozási célú átvett pénzeszközök | B17: 15224 | C17: 73706 | D17: ='6'!O245 -> 78605 | E17: =SUM(D17/C17)*100 -> 106.64668 | G17: ebből: költségvetési szervek | H17: 128132 | I17: 355992 | J17: ='8'!P657 -> 292821 | K17: =SUM(J17/I17)*100 -> 82.254938
A18: 5.) Fejlesztéshez működési jellegű bevétel (HD, áfa visszaigénylés) | B18: 757769 | C18: 1362409 | D18: 1185114 | E18: =SUM(D18/C18)*100 -> 86.986654 | G18: 3.) Felújítás | H18: 2940784 | I18: 5545953 | J18: ='8'!Q658 -> 2268540 | K18: =SUM(J18/I18)*100 -> 40.904422
A19: Költségvetési felhalm. bevételei összesen: | B19: =SUM(B14:B18) -> 2682834 | C19: =SUM(C14:C18) -> 8132908 | D19: =SUM(D14:D18) -> 2492399 | E19: =SUM(D19/C19)*100 -> 30.645853 | G19: ebből: költségvetési szervek | H19: 16955 | I19: 94310 | J19: ='8'!Q657 -> 88420 | K19: =SUM(J19/I19)*100 -> 93.754639
A20: Finanszírozási bevételek | G20: 4.) Céltartalék | H20: 420571 | I20: 758822 | K20: =SUM(J20/I20)*100 -> 0
A21: 6.) Hitel felvétel | G21: 5.)Fejlesztési hitel kamata | H21: 79109 | I21: 79109 | J21: 67691 | K21: =SUM(J21/I21)*100 -> 85.56675
A22: 7.) Előző év költségvetési maradványának igénybevétele | B22: 4491781 | C22: 5352283 | D22: 5352283 | E22: =SUM(D22/C22)*100 -> 100 | G22: Költségvetési felh.célú kiadásai összesen: | H22: =SUM(H14+H16+H18+H20+H21) -> 11146276 | I22: =SUM(I14+I16+I18+I20+I21) -> 17456852 | J22: =SUM(J14+J16+J18+J20+J21) -> 6401189 | K22: =SUM(J22/I22)*100 -> 36.668633
A23: 8.) Forgatási célú értékpapír beváltás projektekhez kapcsolódóan | B23: 4089513 | C23: 4089513 | D23: 2834000 | E23: =SUM(D23/C23)*100 -> 69.299205 | G23: Finanszírozási kiadások
G24: 6.) Hitel- és kölcsön törlesztések | H24: 117852 | I24: 117852 | J24: ='8'!S583 -> 117851 | K24: =SUM(J24/I24)*100 -> 99.999151
A25: FELHALMOZÁSI CÉLÚ BEVÉTELEK ÖSSZESEN: | B25: =SUM(B19:B23) -> 11264128 | C25: =SUM(C19:C23) -> 17574704 | D25: =SUM(D19:D23) -> 10678682 | E25: =SUM(D25/C25)*100 -> 60.761661 | G25: FELHALMOZÁSI CÉLÚ KIADÁSOK ÖSSZESEN: | H25: =SUM(H22:H24) -> 11264128 | I25: =SUM(I22:I24) -> 17574704 | J25: =SUM(J22:J24) -> 6519040 | K25: =SUM(J25/I25)*100 -> 37.093313
A26: ÖNKORMÁNYZAT ÖSSZESEN: | B26: =SUM(B12+B25) -> 37503994 | C26: =C12+C25 -> 46677911 | D26: =SUM(D12+D25) -> 37365609 | E26: =SUM(D26/C26)*100 -> 80.049874 | G26: ÖNKORMÁNYZAT ÖSSZESEN: | H26: =SUM(H12+H25) -> 37503994 | I26: =SUM(I12+I25) -> 46677911 | J26: =SUM(J12+J25) -> 31183757 | K26: =SUM(J26/I26)*100 -> 66.806239
A27: 7.) Forgatási célú értékpapír beváltás | B27: 5000000 | C27: 5000000 | D27: 3400000 | E27: =SUM(D27/C27)*100 -> 68 | G27: 7.) Forgatási célú értékpapír vásárlás hazai forrásból átmenetileg szabad pénzeszközökből | H27: 5000000 | I27: 5000000 | J27: ='8'!T584 -> 4000000 | K27: =SUM(J27/I27)*100 -> 80
A28: MINDÖSSZESEN: | B28: =SUM(B26:B27) -> 42503994 | C28: =SUM(C26:C27) -> 51677911 | D28: =SUM(D26:D27) -> 40765609 | E28: =SUM(D28/C28)*100 -> 78.884011 | G28: MINDÖSSZESEN: | H28: =SUM(H26:H27) -> 42503994 | I28: =SUM(I26:I27) -> 51677911 | J28: =SUM(J26:J27) -> 35183757 | K28: =SUM(J28/I28)*100 -> 68.082777

Sheet 2
A1: Rovat száma | B1: Megnevezés | C1: 2025. évi eredeti előirányzat | D1: 2025. évi módosított előirányzat | E1: 2025. évi teljesítés | F1: Teljesítés %-a
A2: B | B2: BEVÉTELEK
A3: B1 | B3: Működési célú támogatások államháztartáson belülről
A4: B11 | B4: Helyi önkormányzatok általános működésének és ágazati feladatainak állami támogatása | C4: 6519307 | D4: 7262877 | E4: 7262877 | F4: =SUM(E4/D4)*100 -> 100
A5: B12 | B5: Elvonások és befizetések bevételei | D5: 1454 | E5: 1454 | F5: =SUM(E5/D5)*100 -> 100
A6: B14 | B6: Működési célú visszatérítendő támogatások, kölcsönök visszatérülése államháztartáson belülről | C6: 35700 | D6: 26000 | E6: 26000 | F6: =SUM(E6/D6)*100 -> 100
A7: B15 | B7: Működési célú visszatérítendő támogatások, kölcsönök igénybevétele államháztartáson belülről | E7: 32699
A8: B16 | B8: Egyéb működési célú támogatások bevételei államháztartáson belülről | C8: 1548580 | D8: 2229714 | E8: 1202062 | F8: =SUM(E8/D8)*100 -> 53.91104
B9: Működési célú támogatások államháztartáson belülről összesen | C9: =SUM(C4:C8) -> 8103587 | D9: =SUM(D4:D8) -> 9520045 | E9: =SUM(E4:E8) -> 8525092 | F9: =SUM(E9/D9)*100 -> 89.548862
A10: B2 | B10: Felhalmozási célú támogatások államháztartáson belülről
A11: B21 | B11: Felhalmozási célú önkormányzati támogatások | D11: 451997 | E11: 451997 | F11: =SUM(E11/D11)*100 -> 100
A12: B24 | B12: Felhalmozási célú visszatérítendő támogatások, kölcsönök igénybevétele államháztartáson belülről | E12: 2550
A13: B25 | B13: Egyéb felhalmozási célú támogatások bevételei államháztartáson belülről | C13: 1665620 | D13: 5835016 | E13: 425613 | F13: =SUM(E13/D13)*100 -> 7.2941188
B14: Felhalmozási célú támogatások államháztartáson belülről összesen | C14: =SUM(C11:C13) -> 1665620 | D14: =SUM(D11:D13) -> 6287013 | E14: =SUM(E11:E13) -> 880160 | F14: =SUM(E14/D14)*100 -> 13.999653
A15: B3 | B15: Közhatalmi bevételek
A16: B311 | B16: Magánszemélyek jövedelemadói | E16: 61
A17: B34 | B17: Vagyoni típusú adók (építményadó, magánszemélyek kommunális adója) | C17: 1601000 | D17: 1601000 | E17: 1598159 | F17: =SUM(E17/D17)*100 -> 99.822548
A18: B35 | B18: Termékek és szolgáltatások adói
A19: B351 | B19: Értékesítési és forgalmi adók (iparűzési adó) | C19: 7630000 | D19: 7630000 | E19: 7959128 | F19: =SUM(E19/D19)*100 -> 104.3136
A20: B355 | B20: Egyéb áruhasználati és szolgáltatási adók ( idegenforgalmi adó) | C20: 40000 | D20: 40000 | E20: 38167 | F20: =SUM(E20/D20)*100 -> 95.4175
A21: B36 | B21: Egyéb közhatalmi bevételek (igazgatási szolgáltatási díjak, különféle bírságok, talajterhelési díj) | C21: 106900 | D21: 108292 | E21: 205920 | F21: =SUM(E21/D21)*100 -> 190.15255
B22: Közhatalmi bevételek összesen | C22: =SUM(C15:C21) -> 9377900 | D22: =SUM(D17:D21) -> 9379292 | E22: =SUM(E16:E21) -> 9801435 | F22: =SUM(E22/D22)*100 -> 104.5008
A23: B4 | B23: Működési bevételek | C23: 5153438 | D23: 7206921 | E23: 6735319 | F23: =SUM(E23/D23)*100 -> 93.456262
A24: B5 | B24: Felhalmozási bevételek
A25: B52 | B25: Ingatlanok értékesítése | C25: 214221 | D25: 311869 | E25: 220650 | F25: =SUM(E25/D25)*100 -> 70.75086
A26: B53 | B26: Egyéb tárgyi eszközök értékesítése | D26: 24911 | E26: 54542 | F26: =SUM(E26/D26)*100 -> 218.94745
A27: B54 | B27: Részesedések értékesítése | D27: 43000 | E27: 43328 | F27: =SUM(E27/D27)*100 -> 100.76279
B28: Felhalmozási bevételek összesen | C28: =SUM(C25:C27) -> 214221 | D28: =SUM(D25:D27) -> 379780 | E28: =SUM(E25:E27) -> 318520 | F28: =SUM(E28/D28)*100 -> 83.869609
A29: B6 | B29: Működési célú átvett pénzeszközök | D29: 101234 | E29: 107944 | F29: =SUM(E29/D29)*100 -> 106.62821
A30: B7 | B30: Felhalmozási célú átvett pénzeszközök
A31: B74 | B31: Felhalmozási célú visszatérítendő támogatások, kölcsönök visszatérülése államháztartáson kívülről | C31: 15224 | D31: 15224 | E31: 20922 | F31: =SUM(E31/D31)*100 -> 137.42775
A32: B75 | B32: Egyéb felhalmozási célú átvett pénzeszközök | D32: 58482 | E32: 57683 | F32: =SUM(E32/D32)*100 -> 98.633768
B33: Felhalmozási célú átvett pénzeszközök összesen | C33: =SUM(C31:C32) -> 15224 | D33: =SUM(D31:D32) -> 73706 | E33: =SUM(E31:E32) -> 78605 | F33: =SUM(E33/D33)*100 -> 106.64668
A34: B1-B7 | B34: Költségvetési bevételek | C34: =SUM(C9+C14+C22+C23+C28+C29+C33) -> 24529990 | D34: =D9+D14+D22+D23+D28+D29+D33 -> 32947991 | E34: =SUM(E9+E14+E22+E23+E28+E29+E33) -> 26447075 | F34: =SUM(E34/D34)*100 -> 80.269158
A35: B8 | B35: Finanszírozási bevételek
A36: B81 | B36: Belföldi finanszírozás bevételei
A37: B8121 | B37: Forgatási célú belföldi értékpapírok beváltása, értékesítése | C37: 10889513 | D37: 10889513 | E37: 6234000 | F37: =SUM(E37/D37)*100 -> 57.247739
A38: B813 | B38: Maradvány igénybevétele | C38: 7084491 | D38: 7464091 | E38: 7464091 | F38: =SUM(E38/D38)*100 -> 100
A39: B814 | B39: Államháztartáson belüli megelőlegezések | D39: 376316 | E39: 620443 | F39: =SUM(E39/D39)*100 -> 164.87287
A40: B817 | B40: Lekötött bankbetétek megszüntetése
...

Sheet 3
B1: Mutató | D1: 2025. bevétel eredeti előirányzata | F1: Mutató | H1: 2025. bevétel módosított előirányzata | J1: Mutató | L1: 2025. bevétel összege | T1: EREDETI EI.
A2: Hozzájárulás jogcíme | B2: lakosságszám | C2: mutató | D2: Normatíva Ft/fő | E2: Állami támogatás E Ft-ban | F2: lakosságszám | G2: mutató | H2: Normatíva Ft/fő | I2: Állami támogatás E Ft-ban | J2: lakosságszám | K2: mutató | L2: Normatíva Ft/fő | M2: Állami támogatás E Ft-ban | P2: 2025. végleges forintban | T2: Forintban
A3: 2. melléklet szerinti jogcímek
A4: 1.1. Települési önkormányzatok működésének általános támogatása
A5: 1.1.1.1. önkormányzati hivatal működésének támogatása - elismert hivatali létszám alapján | B5: 54752 | C5: 126.66 | D5: 6633500 | E5: 840199 | F5: 54297 | G5: 125.82 | H5: 6994000 | I5: 879985 | J5: 54297 | K5: 125.82 | L5: 6994000 | M5: 879985 | N5: =I5-O5 -> -0.08 | O5: =P5/1000 -> 879985.08 | P5: 879985080 | Q5: 879985080 | R5: 879985080 | S5: 879985080 | T5: 840199110
A6: Település-üzemeltetéshez kapcsolódó feladataellátás támogatása | N6: =I6-O6 -> 0 | O6: =P6/1000 -> 0
A7: 1.1.1.2. zöldterület-gazdálkodás támogatása (hektár) | C7: 23950.2 | D7: 26000 | E7: 62275 | G7: 23950.2 | H7: 26000 | I7: 62275 | K7: 23950.2 | L7: 26000 | M7: 62275 | N7: =I7-O7 -> -0.2 | O7: =P7/1000 -> 62275.2 | P7: 62275200 | Q7: 62275200 | R7: 62275200 | S7: 62275200 | T7: 62275200
A8: 1.1.1.3. közvilágítás támogatása (km) | C8: 408.5 | D8: 425000 | E8: 173613 | G8: 408.5 | H8: 425000 | I8: 173613 | K8: 408.5 | L8: 425000 | M8: 173613 | N8: =I8-O8 -> 0.5 | O8: =P8/1000 -> 173612.5 | P8: 173612500 | Q8: 173612500 | R8: 173612500 | S8: 173612500 | T8: 173612500
A9: 1.1.1.4. köztemető támogatása (m²) | C9: 321768 | D9: 85 | E9: 27350 | G9: 321768 | H9: 85 | I9: 27350 | K9: 321768 | L9: 85 | M9: 27350 | N9: =I9-O9 -> -0.28 | O9: =P9/1000 -> 27350.28 | P9: 27350280 | Q9: 27350280 | R9: 27350280 | S9: 27350280 | T9: 27350280
A10: 1.1.1.5. közutak támogatása (km) | C10: 203.003 | D10: 485000 | E10: 98456 | G10: 203.003 | H10: 485000 | I10: 98456 | K10: 203.003 | L10: 485000 | M10: 98456 | N10: =I10-O10 -> -0.455 | O10: =P10/1000 -> 98456.455 | P10: 98456455 | Q10: 98456455 | R10: 98456455 | S10: 98456455 | T10: 98456455
A11: 1.1.1.6. egyéb önkormányzati feladatok támogatása | B11: 54297 | D11: 2800 | E11: 152032 | F11: 54297 | H11: 2800 | I11: 152032 | J11: 54297 | L11: 2800 | M11: 152032 | N11: =I11-O11 -> 0.4 | O11: =P11/1000 -> 152031.6 | P11: 152031600 | Q11: 152031600 | R11: 152031600 | S11: 152031600 | T11: 152031600
A12: 1.1.1.7. Lakott külterülettel kapcsolatos feladatok támogatása | B12: 4951 | D12: 2550 | E12: 12625 | F12: 4951 | H12: 2550 | I12: 12625 | J12: 4951 | L12: 2550 | M12: 12625 | N12: =I12-O12 -> -0.05 | O12: =P12/1000 -> 12625.05 | P12: 12625050 | Q12: 12625050 | R12: 12625050 | S12: 12625050 | T12: 12625050
A13: 1.1.2. Nem közművel összegyűjtött háztartási szennyvíz ártalmatlanítása | G13: 2000 | H13: 500 | I13: 2360 | K13: 2000 | L13: 500 | M13: 2360 | N13: =I13-O13 -> 0 | O13: =P13/1000 -> 2360 | P13: 2360000 | Q13: 1000000 | R13: 1000000
A14: 1.2. Óvodaműködtetési támogatás | N14: =I14-O14 -> 0 | O14: =P14/1000 -> 0
A15: 1.2.1.1. Óvodaműködtetési támogatás | C15: 1302.7 | D15: 172374 | E15: 224552 | G15: 1314.3 | H15: 172374 | I15: 226551 | K15: 1314.3 | L15: 172374 | M15: 226551 | N15: =I15-O15 -> -0.1482 | O15: =P15/1000 -> 226551.15 | P15: =G15*H15 -> 2.2655115e+08 | Q15: =G15*H15 -> 2.2655115e+08 | R15: 227533680 | S15: 224551610 | T15: 224551610
A16: 1.2.2.1. Az óvodában foglalkoztatott pedagógusok átlagbéralapú támogatása | C16: 119.9 | D16: 8372000 | E16: 1003803 | G16: 121.2 | H16: 8372000 | I16: 1014686 | K16: 121.2 | L16: 8372000 | M16: 1014686 | N16: =I16-O16 -> -0.4 | O16: =P16/1000 -> 1014686.4 | P16: =G16*H16 -> 1014686400 | Q16: =G16*H16 -> 1014686400 | R16: 1016360800 | S16: 1003802800 | T16: 1003802800
A17: -pedagógusok 2025. január 1-jei béremeléséhez | C17: 119.9 | D17: 1775000 | E17: 212822 | G17: 121.2 | H17: 1775000 | I17: 215130 | K17: 121.2 | L17: 1775000 | M17: 215130 | N17: =I17-O17 -> 0 | O17: =P17/1000 -> 215130 | P17: =G17*H17 -> 215130000 | Q17: =G17*H17 -> 215130000 | R17: 215485000 | S17: 212822500 | T17: 212822500
A18: - óvodapedagógusok béremelése az 1231/2025. (VI.30.)Korm. határozat és a 182/2025. (VI.30.) Korm. rendelet alapján | G18: 121.2 | H18: 90000 | I18: 10908 | K18: 121.2 | L18: 90000 | M18: 10908 | N18: =I18-O18 -> 0 | O18: =P18/1000 -> 10908 | P18: =G18*H18 -> 10908000 | Q18: =G18*H18 -> 10908000 | R18: 10926000
A19: 1.2.3. Kiegészítő támogatás az óvodapedagógusok minősítéséből adódó többletkiadásokhoz | N19: =I19-O19 -> 0
A20: 1.2.3.1.1.1.1. Pedagógus II. kategóriába sorolt pedagógusok kiegészítő támogatása | C20: 44 | D20: 717000 | E20: 31548 | G20: 44.7 | H20: 717000 | I20: 32050 | K20: 44.7 | L20: 717000 | M20: 32050 | N20: =I20-O20 -> 0.1 | O20: =P20/1000 -> 32049.9 | P20: =G20*H20 -> 32049900 | Q20: =G20*H20 -> 32049900 | R20: 30759300 | S20: 31548000 | T20: 31548000
A21: -pedagógusok 2025. január 1-jei béremeléséhez | C21: 44 | D21: 152000 | E21: 6688 | G21: 44.7 | H21: 152000 | I21: 6794 | K21: 44.7 | L21: 152000 | M21: 6794 | N21: =I21-O21 -> -0.4 | O21: =P21/1000 -> 6794.4 | P21: =G21*H21 -> 6794400 | Q21: =G21*H21 -> 6794400 | R21: 6520800 | S21: 6688000 | T21: 6688000
A22: 1.2.3.1.1.1.2. Mesterpedagógus, kutatótanár kategóriába sorolt pedagógusok kiegészítő támogatása | C22: 2 | D22: 2674000 | E22: 5348 | G22: 4 | H22: 2674000 | I22: 10696 | K22: 4 | L22: 2674000 | M22: 10696 | N22: =I22-O22 -> 0 | O22: =P22/1000 -> 10696 | P22: =G22*H22 -> 10696000 | Q22: =G22*H22 -> 10696000 | R22: 10696000 | S22: 5348000 | T22: 5348000
A23: -pedagógusok 2025. január 1-jei béremeléséhez | C23: 2 | D23: 567000 | E23: 1134 | G23: 4 | H23: 567000 | I23: 2268 | K23: 4 | L23: 567000 | M23: 2268 | N23: =I23-O23 -> 0 | O23: =P23/1000 -> 2268 | P23: =G23*H23 -> 2268000 | Q23: =G23*H23 -> 2268000 | R23: 2268000 | S23: 1134000 | T23: 1134000
A24: 1.2.3.1.1.2.1. Mesterfokozatú végzettségű pedagógus II.kategóriába sorolt pedagógusok kiegészítő támogatása | C24: 1 | D24: 864000 | E24: 864 | G24: 1 | H24: 864000 | I24: 864 | K24: 1 | L24: 864000 | M24: 864 | N24: =I24-O24 -> 0 | O24: =P24/1000 -> 864 | P24: =G24*H24 -> 864000 | Q24: =G24*H24 -> 864000 | R24: 864000 | S24: 864000 | T24: 864000
A25: -pedagógusok 2025. január 1-jei béremeléséhez | C25: 1 | D25: 183000 | E25: 183 | G25: 1 | H25: 183000 | I25: 183 | K25: 1 | L25: 183000 | M25: 183 | N25: =I25-O25 -> 0 | O25: =P25/1000 -> 183 | P25: =G25*H25 -> 183000 | Q25: =G25*H25 -> 183000 | R25: 183000 | S25: 183000 | T25: 183000
A26: 1.2.5.1.1. Az óvodában foglalkoztatott pedagógusok nevelőmunkáját közvetlenük segítők átlagbéralapú támogatása | C26: 82 | D26: 5268000 | E26: 431976 | G26: 81.7 | H26: 5268000 | I26: 430396 | K26: 81.7 | L26: 5268000 | M26: 430396 | N26: =I26-O26 -> 0.4 | O26: =P26/1000 -> 430395.6 | P26: =G26*H26 -> 430395600 | Q26: =G26*H26 -> 430395600 | R26: 431976000 | S26: 431976000 | T26: 431976000
A27: 1.3.2.Szociális és gyermekjóléti alapszolgáltatás feladatai
A28: 1.3.2.1. Család és gyermekjóléti szolgálat | C28: 8.3 | D28: 6643100 | E28: 55138 | G28: 9 | H28: 7140000 | I28: 64260 | K28: 9 | L28: 7140000 | M28: 64260 | N28: =I28-O28 -> 0 | O28: =P28/1000 -> 64260 | P28: =G28*H28 -> 64260000 | Q28: =G28*H28 -> 64260000 | R28: 64260000 | S28: 64260000 | T28: 55137730
A29: 1.3.2.2. Család- és gyermekjóléti központ ( járáshoz tartozó összes településre) | C29: 22.6 | D29: 6770000 | E29: 153002 | G29: 22.6 | H29: 6770000 | I29: 153002 | K29: 22.6 | L29: 6770000 | M29: 153002 | N29: =I29-O29 -> 0 | O29: =P29/1000 -> 153002 | P29: =G29*H29 -> 153002000 | Q29: =G29*H29 -> 153002000 | R29: 153002000 | S29: 153002000 | T29: 153002000
A30: 1.3.2.2. Család- és gyermekjóléti központ kiegészítés a kijelölt intézmény esetében | C30: 1 | D30: 15000000 | E30: 15000 | G30: 1 | H30: 15000000 | I30: 15000 | K30: 1 | L30: 15000000 | M30: 15000 | N30: =I30-O30 -> 0 | O30: =P30/1000 -> 15000 | P30: =G30*H30 -> 15000000 | Q30: =G30*H30 -> 15000000 | R30: 15000000 | S30: 15000000 | T30: 15000000
A31: 1.3.2.2.2. Óvodai és iskolai szociális segítő tevékenység támogatása | C31: 13726 | D31: 5255 | E31: 72130 | G31: 13726 | H31: 5255 | I31: 72130 | K31: 13726 | L31: 5255 | M31: 72130 | N31: =I31-O31 -> -0.13 | O31: =P31/1000 -> 72130.13 | P31: =G31*H31 -> 72130130 | Q31: =G31*H31 -> 72130130 | R31: 72130130 | S31: 72130130 | T31: 72130130
A32: 1.3.2.3.2. Szociális étkeztetés - társulás által történő feladatellátás | C32: 310 | D32: 97410 | E32: 30197 | G32: 310 | H32: 97410 | I32: 30197 | K32: 310 | L32: 97410 | M32: 30197 | N32: =I32-O32 -> -0.1 | O32: =P32/1000 -> 30197.1 | P32: =G32*H32 -> 30197100 | Q32: =G32*H32 -> 30197100 | R32: 30197100 | S32: 30197100 | T32: 30197100
A33: 1.3.2.4. Házi segítségnyújtás
A34: 1.3.2.4.1. Szociális segítés | C34: 2 | D34: 25000 | E34: 50 | G34: 2 | H34: 25000 | I34: 50 | K34: 2 | L34: 25000 | M34: 50 | N34: =I34-O34 -> 0 | O34: =P34/1000 -> 50 | P34: =G34*H34 -> 50000 | Q34: =G34*H34 -> 50000 | R34: 50000 | S34: 50000 | T34: 50000
A35: 1.3.2.4.3. Személyi gondozás - társulás által történő feladatellátás | C35: 50 | D35: 842600 | E35: 42130 | G35: 50 | H35: 842600 | I35: 42130 | K35: 50 | L35: 842600 | M35: 42130 | N35: =I35-O35 -> 0 | O35: =P35/1000 -> 42130 | P35: =G35*H35 -> 42130000 | Q35: =G35*H35 -> 42130000 | R35: 42130000 | S35: 42130000 | T35: 42130000
A36: 1.3.2.6. Időskorúak nappali intézményi ellátása társulás által történő feladatellátás | C36: 55 | D36: 558800 | E36: 30734 | G36: 55 | H36: 558800 | I36: 30734 | K36: 55 | L36: 558800 | M36: 30734 | N36: =I36-O36 -> 0 | O36: =P36/1000 -> 30734 | P36: =G36*H36 -> 30734000 | Q36: =G36*H36 -> 30734000 | R36: 30734000 | S36: 30734000 | T36: 30734000
A37: 1.3.2.8.2. Demens személyek nappali intézményi ellátása - társulás által történő feladatellátás | C37: 4 | D37: 1119800 | E37: 4479 | G37: 4 | H37: 1119800 | I37: 4479 | K37: 4 | L37: 1119800 | M37: 4479 | N37: =I37-O37 -> -0.2 | O37: =P37/1000 -> 4479.2 | P37: =G37*H37 -> 4479200 | Q37: =G37*H37 -> 4479200 | R37: 4479200 | S37: 4479200 | T37: 4479200
A38: 1.3.2.9.2. Pszichiátriai betegek nappali intézményi ellátása - társulás által történő feladatellátás | C38: 20 | D38: 605500 | E38: 12110 | G38: 20 | H38: 605500 | I38: 12110 | K38: 20 | L38: 605500 | M38: 12110 | N38: =I38-O38 -> 0 | O38: =P38/1000 -> 12110 | P38: =G38*H38 -> 12110000 | Q38: =G38*H38 -> 12110000 | R38: 12110000 | S38: 12110000 | T38: 12110000
A39: 1.3.2.10.2. Szenvedélybetegek nappali intézményi ellátása - társulás által történő feladatellátás | C39: 8 | D39: 579400 | E39: 4635 | G39: 8 | H39: 579400 | I39: 4635 | K39: 8 | L39: 579400 | M39: 4635 | N39: =I39-O39 -> -0.2 | O39: =P39/1000 -> 4635.2 | P39: =G39*H39 -> 4635200 | Q39: =G39*H39 -> 4635200 | R39: 4635200 | S39: 4635200 | T39: 4635200
A40: 1.3.3. Bölcsőde, mini böcsőde támogatása
...

Sheet 4
A3: Rovat száma | B3: Megnevezés | C3: 2025. évi eredeti előirányzat | D3: 2025. évi módosított előirányzat | E3: 2025. évi teljesítés | F3: Teljesítés %-a
B4: Költségvetési kiadások
A5: K1 | B5: Személyi juttatások | C5: ='9'!D160 -> 7656349 | D5: ='9'!E160 -> 8116811 | E5: ='7'!H17 -> 7650417 | F5: =E5/D5*100 -> 94.253975
A6: K2 | B6: Munkaadókat terhelő járulékok és szociális hj. adó | C6: ='9'!D161 -> 1117509 | D6: ='9'!E161 -> 1155717 | E6: ='7'!I17 -> 1008664 | F6: =E6/D6*100 -> 87.276037
A7: K3 | B7: Dologi kiadások | C7: ='9'!D162 -> 10698899 | D7: ='9'!E162 -> 11659074 | E7: ='7'!J17 -> 8395427 | F7: =E7/D7*100 -> 72.007665
A8: K4 | B8: Ellátottak pénzbeli juttatásai | C8: ='9'!D163 -> 132608 | D8: ='9'!E163 -> 120235 | E8: ='7'!K17 -> 76787 | F8: =E8/D8*100 -> 63.864099
A9: K5 | B9: Egyéb működési célú kiadások | C9: ='9'!D164 -> 6512899 | D9: ='9'!E164 -> 7553452 | E9: ='7'!L17 -> 7024086 | F9: =E9/D9*100 -> 92.991734
B10: Működési kiadások összesen: | C10: =SUM(C5:C9) -> 26118264 | D10: =SUM(D5:D9) -> 28605289 | E10: =SUM(E5:E9) -> 24155381 | F10: =E10/D10*100 -> 84.443758
A11: K6 | B11: Beruházások | C11: ='9'!D165 -> 7540931 | D11: ='9'!E165 -> 11629553 | E11: ='7'!M17 -> 3923577 | F11: =E11/D11*100 -> 33.737986
A12: K7 | B12: Felújítások | C12: ='9'!D166 -> 2950784 | D12: ='9'!E166 -> 5550106 | E12: ='7'!N17 -> 2268540 | F12: =E12/D12*100 -> 40.873814
A13: K8 | B13: Egyéb felhalmozási célú kiadások | C13: ='9'!D167 -> 575452 | D13: ='9'!E167 -> 198084 | E13: ='7'!O17 -> 141381 | F13: =E13/D13*100 -> 71.374265
B14: Felhalmozási kiadások összesen: | C14: =SUM(C11:C13) -> 11067167 | D14: =SUM(D11:D13) -> 17377743 | E14: =SUM(E11:E13) -> 6333498 | F14: =E14/D14*100 -> 36.446033
A15: K1-K8 | B15: Költségvetési kiadások összesen: | C15: =C10+C14 -> 37185431 | D15: =D10+D14 -> 45983032 | E15: =SUM(E14+E10) -> 30488879 | F15: =E15/D15*100 -> 66.304629
A16: K9 | B16: Finanszírozási kiadások | C16: ='9'!D168+'9'!D169 -> 5318563 | D16: ='9'!E168+'9'!E169 -> 5694879 | E16: ='7'!P17+'7'!Q17 -> 4694878 | F16: =E16/D16*100 -> 82.440347
B17: Önkormányzat kiadásai összesen | C17: =SUM(C15:C16) -> 42503994 | D17: =SUM(D15:D16) -> 51677911 | E17: =SUM(E15:E16) -> 35183757 | F17: =E17/D17*100 -> 68.082777

Sheet 5
A1: Cím szám | B1: Alcím szám | C1: Megnevezés | D1: Előirányzat | F1: Teljesítés | H1: Költségvetési bevételek | O1: Finanszírozási bevételek
D2: Eredeti | E2: Módosított | F2: Összege | G2: %-a | H2: Működési célú támogatások áht-n belülről | I2: Felhalmozási célú támogatások áht-n belülről | J2: Közhatalmi bevételek | K2: Működési bevételek | L2: Felhalmozási bevételek | M2: Működési célú átvett pénzeszközök | N2: Felhalmozási célú átvett pénzeszközök | O2: Hitel-, kölcsönfelvétel áht-n kívülről | P2: Maradvány igénybevétele | Q2: Egyéb finanszírozási bevétel
C3: Önkormányzat
B4: 12 | C4: Szociális és igazgatási feladatok | D4: ='6'!E13 -> 24381 | E4: ='6'!F13 -> 24381 | F4: =SUM(H4:Q4) -> 38465 | G4: =F4/E4*100 -> 157.76629 | H4: ='6'!I13 -> 816 | I4: ='6'!J13 -> 0 | J4: ='6'!K13 -> 3802 | K4: ='6'!L13 -> 30514 | L4: ='6'!M13 -> 0 | M4: ='6'!N13 -> 1966 | N4: ='6'!O13 -> 1367 | O4: ='6'!P13 -> 0 | ... Q4: ='6'!R13 -> 0
B5: 13 | C5: Humánigazgatási feladatok | D5: ='6'!E48 -> 375825 | E5: ='6'!F48 -> 424142 | F5: =SUM(H5:Q5) -> 426335 | G5: =F5/E5*100 -> 100.51704 | H5: ='6'!I48 -> 370931 | I5: ='6'!J48 -> 6000 | J5: ='6'!K48 -> 0 | K5: ='6'!L48 -> 9118 | L5: ='6'!M48 -> 0 | M5: ='6'!N48 -> 27062 | N5: ='6'!O48 -> 13224 | O5: ='6'!P48 -> 0 | ... Q5: ='6'!R48 -> 0
B6: 14 | C6: Főépítészi feladatok | D6: ='6'!E53 -> 9131 | E6: ='6'!F53 -> 9131 | F6: =SUM(H6:Q6) -> 5906 | G6: =F6/E6*100 -> 64.680758 | H6: ='6'!I53 -> 0 | I6: ='6'!J53 -> 0 | J6: ='6'!K53 -> 0 | K6: ='6'!L53 -> 1855 | L6: ='6'!M53 -> 0 | M6: ='6'!N53 -> 0 | N6: ='6'!O53 -> 0 | O6: ='6'!P53 -> 0 | ... Q6: ='6'!R53 -> 0
B7: 15 | C7: Városüzemelési felad. | D7: ='6'!E93 -> 841716 | E7: ='6'!F93 -> 953985 | F7: =SUM(H7:Q7) -> 981444 | G7: =F7/E7*100 -> 102.87835 | H7: ='6'!I93 -> 31 | I7: ='6'!J93 -> 0 | J7: ='6'!K93 -> 3163 | K7: ='6'!L93 -> 924249 | L7: ='6'!M93 -> 4000 | M7: ='6'!N93 -> 0 | N7: ='6'!O93 -> 12888 | O7: ='6'!P93 -> 0 | ... Q7: ='6'!R93 -> 0
B8: 16 | C8: Városépítészeti feladatok | D8: ='6'!E140 -> 11670857 | E8: ='6'!F140 -> 17537356 | F8: =SUM(H8:Q8) -> 9034862 | G8: =F8/E8*100 -> 51.517811 | H8: ='6'!I140 -> 31001 | I8: ='6'!J140 -> 816253 | J8: ='6'!K140 -> 0 | K8: ='6'!L140 -> 1183625 | L8: ='6'!M140 -> 0 | M8: ='6'!N140 -> 11693 | N8: ='6'!O140 -> 43807 | O8: ='6'!P140 -> 0 | ... Q8: ='6'!R140 -> 2814000
B9: 17 | C9: Vagyonkez. feladatok | D9: ='6'!E179 -> 1081242 | E9: ='6'!F179 -> 2148309 | F9: =SUM(H9:Q9) -> 2154500 | G9: =F9/E9*100 -> 100.28818 | H9: ='6'!I179 -> 0 | I9: ='6'!J179 -> 0 | J9: ='6'!K179 -> 0 | K9: ='6'!L179 -> 1814858 | L9: ='6'!M179 -> 309701 | M9: ='6'!N179 -> 0 | N9: ='6'!O179 -> 2121 | O9: ='6'!P179 -> 0 | ... Q9: ='6'!R179 -> 20000
B10: 18 | C10: Jogi és közig. feladatok | D10: ='6'!E188 -> 139760 | E10: ='6'!F188 -> 144509 | F10: =SUM(H10:Q10) -> 166332 | G10: =F10/E10*100 -> 115.10148 | H10: ='6'!I188 -> 0 | I10: ='6'!J188 -> 0 | J10: ='6'!K188 -> 117525 | K10: ='6'!L188 -> 48807 | L10: ='6'!M188 -> 0 | M10: ='6'!N188 -> 0 | N10: ='6'!O188 -> 0 | O10: ='6'!P188 -> 0 | ... Q10: ='6'!R188 -> 0
B11: 19 | C11: Pénzügyi lebonyolítás | D11: ='6'!E227 -> 25106264 | E11: ='6'!F227 -> 26239577 | F11: =SUM(H11:Q11) -> 23713837 | G11: =F11/E11*100 -> 90.374311 | H11: ='6'!I227 -> 7141668 | I11: ='6'!J227 -> 41997 | J11: ='6'!K227 -> 9672795 | K11: ='6'!L227 -> 497982 | L11: ='6'!M227 -> 0 | M11: ='6'!N227 -> 44090 | N11: ='6'!O227 -> 4210 | O11: ='6'!P227 -> 0 | ... Q11: ='6'!R227 -> 4020443
B12: 22 | C12: Polgármesteri Kabinet | D12: ='6'!E242 -> 0 | E12: ='6'!F242 -> 23035 | F12: =SUM(H12:Q12) -> 23695 | G12: =F12/E12*100 -> 102.86521 | H12: ='6'!I242 -> 2667 | I12: ='6'!J242 -> 0 | J12: ='6'!K242 -> 0 | K12: ='6'!L242 -> 230 | L12: ='6'!M242 -> 328 | M12: ='6'!N242 -> 20470 | N12: ='6'!O242 -> 0 | O12: ='6'!P242 -> 0 | ... Q12: ='6'!R242 -> 0
C13: Önkormányzat összesen költségvetési szervek nélkül | D13: =SUM(D4:D12) -> 39249176 | E13: =SUM(E4:E12) -> 47504425 | F13: =SUM(F4:F12) -> 36545376 | G13: =F13/E13*100 -> 76.930467 | H13: =SUM(H4:H12) -> 7547114 | I13: =SUM(I4:I12) -> 864250 | J13: =SUM(J4:J12) -> 9797285 | K13: =SUM(K4:K12) -> 4511238 | L13: =SUM(L4:L12) -> 314029 | M13: =SUM(M4:M12) -> 105281 | N13: =SUM(N4:N12) -> 77617 | O13: =SUM(O4:O12) -> 0 | ... Q13: =SUM(Q4:Q12) -> 6854443
A14: 2 | C14: Költségvetési szervek | D14: ='6'!E244 -> 3254818 | E14: ='6'!F244 -> 4173486 | F14: =SUM(H14:Q14) -> 4220233 | G14: =F14/E14*100 -> 101.12009 | H14: ='6'!I244 -> 977978 | I14: ='6'!J244 -> 15910 | J14: ='6'!K244 -> 4150 | K14: ='6'!L244 -> 2224081 | L14: ='6'!M244 -> 4491 | M14: ='6'!N244 -> 2663 | N14: ='6'!O244 -> 988 | O14: ='6'!P244 -> 0 | ... Q14: ='6'!R244 -> 0
C15: Önkormányzat összesen: | D15: =SUM(D13:D14) -> 42503994 | E15: =SUM(E13:E14) -> 51677911 | F15: =SUM(F13:F14) -> 40765609 | G15: =F15/E15*100 -> 78.884011 | H15: =SUM(H13:H14) -> 8525092 | I15: =SUM(I13:I14) -> 880160 | J15: =SUM(J13:J14) -> 9801435 | K15: =SUM(K13:K14) -> 6735319 | L15: =SUM(L13:L14) -> 318520 | M15: =SUM(M13:M14) -> 107944 | N15: =SUM(N13:N14) -> 78605 | O15: =SUM(O13:O14) -> 0 | ... Q15: =SUM(Q13:Q14) -> 6854443
N16: =SUM(H15:N15) -> 26447075 | Q16: =SUM(O15:Q15) -> 14318534
N17: =SUM('7'!H17:O17) -> 30488879 | Q17: =SUM('7'!P17:Q17) -> 4694878
N18: =N16-N17 -> -4041804 | Q18: =Q16-Q17 -> 9623656

Sheet 6
A1: Cím szám | B1: Alcím szám | C1: Megnevezés | D1: Tervezési alapegység | E1: Előirányzat | G1: Teljesítés | I1: Költségvetési bevételek | P1: Finanszírozási bevételek
E2: Eredeti | F2: Módosított | G2: Összege | H2: %-a | I2: Működési célú támogatások áht-n belülről | J2: Felhalmozási célú támogatások áht-n belülről | K2: Közhatalmi bevételek | L2: Működési bevételek | M2: Felhalmozási bevételek | N2: Működési célú átvett pénzeszközök | O2: Felhalmozási célú átvett pénzeszközök | P2: Hitel-, kölcsönfelvétel áht-n kívülről | Q2: Maradvány igénybevétele | R2: Egyéb finanszírozási bevétel
A3: 1 | C3: Önkormányzat
A4: 1 | B4: 1 | C4: Szakosztályok
A5: 1 | B5: 12 | C5: Szociális és igazgatási feladatok
C6: 109010 Szociális szolgáltatás igazgatása
C7: - köztemetés | D7: 121203 | G7: =SUM(I7:R7) -> 2794 | I7: 816 | L7: 12 | N7: 1966
C8: 061030 Lakáshoz jutást segítő támogatások
C9: Családok otthonteremtési kedvezménye (Lakásalap) | D9: 121405 | G9: =SUM(I9:R9) -> 1367 | O9: 1367
C10: 011130 Önkorm. és önkorm. hivatal. jogalk. és ált.ig.tev.
C11: - Egerszeg kártya értékesítés | D11: 221 902 | E11: 24381 | F11: 24381 | G11: =SUM(I11:R11) -> 30502 | H11: =G11/F11*100 -> 125.10562 | L11: 30502
C12: - igazgatási bírság | D12: 121602 | G12: =SUM(I12:R12) -> 3802 | K12: 3802
C13: Szociális és igazgatási feladatok összesen: | E13: =SUM(E3:E12) -> 24381 | F13: =SUM(F3:F12) -> 24381 | G13: =SUM(G3:G12) -> 38465 | H13: =G13/F13*100 -> 157.76629 | I13: =SUM(I3:I12) -> 816 | J13: =SUM(J3:J12) -> 0 | K13: =SUM(K3:K12) -> 3802 | L13: =SUM(L3:L12) -> 30514 | M13: =SUM(M3:M12) -> 0 | N13: =SUM(N3:N12) -> 1966 | O13: =SUM(O3:O12) -> 1367 | P13: =SUM(P3:P12) -> 0 | ... R13: =SUM(R3:R12) -> 0
A14: 1 | B14: 13 | C14: Humánigazgatási feladatok
C15: Oktatási feladatok
C16: 098010 Oktatás igazgatása
C17: - Zalaegerszegi Szakképzési Centrum részére támogatás szakképzési ösztöndíj céljára | D17: 131112 | G17: =SUM(I17:R17) -> 32 | I17: 32
C18: Kulturális és ifjúsági feladatok
C19: 082091 Közművelődés - közösségi és társ. részvétel fejleszt.
C20: - Magyar Kultúra Napja | D20: 131346 | G20: =SUM(I20:R20) -> 88 | I20: 88
C21: Egerszegi Advent megvalósítása | D21: 131329 | F21: 7361 | G21: =SUM(I21:R21) -> 7261 | H21: =G21/F21*100 -> 98.641489 | N21: 7261
C22: - Szelestey hagyaték felvásárlásához támogatás | D22: 132941 | F22: 6000 | G22: =SUM(I22:R22) -> 6000 | H22: =G22/F22*100 -> 100 | J22: 6000
C23: Egészséges Zalaegerszeg Program indítása | D23: 131721 | F23: 3435 | G23: =SUM(I23:R23) -> 3435 | H23: =G23/F23*100 -> 100 | N23: 3435
C24: Magyarország ifjúsági fővárosa | D24: 131365 | F24: 3000 | G24: =SUM(I24:R24) -> 3000 | H24: =G24/F24*100 -> 100 | I24: 3000
C25: - Zalaegerszegi Rendezvényszervező Kft. működési támogatásának visszafizetése | D25: 131313 | F25: 9586 | G25: =SUM(I25:R25) -> 9586 | H25: =G25/F25*100 -> 100 | N25: 9586
C26: 084031 Civil szervezetek műk. támogatása
C27: - önálló kulturális egyesületek, együttesek | D27: 131403 | G27: =SUM(I27:R27) -> 100 | N27: 100
C28: 018030 Támogatási célú finanszírozási műveletek
C29: - Hevesi Sándor Színház társműködtetöi támogatás | D29: 131508 | E29: 288500 | F29: 72125 | G29: =SUM(I29:R29) -> 72125 | H29: =G29/F29*100 -> 100 | I29: 72125
C30: - Griff Bábszínház társműködtetöi támogatás | D30: 131509 | E30: 65000 | F30: 16250 | G30: =SUM(I30:R30) -> 16250 | H30: =G30/F30*100 -> 100 | I30: 16250
C31: - Mindszentyneum működési támogatás | D31: 131513 | F31: 150000 | G31: =SUM(I31:R31) -> 150000 | H31: =G31/F31*100 -> 100 | I31: 150000
C32: Egészségügyi és humánigazgatási feladatok
C33: 101211 Fogyatékossággal élők tartós bentlakásos ellátása
C34: - Református Egyház által fizetendő bérleti díj | D34: 131703 | E34: 9101 | F34: 9101 | G34: =SUM(I34:R34) -> 9118 | H34: =G34/F34*100 -> 100.18679 | L34: 9118
C35: 102023 Időskorúak tartós bentlakásos ellátása
C36: - Idősek Otthona férőhely megváltás | D36: 121319 | F36: 8760 | G36: =SUM(I36:R36) -> 6570 | H36: =G36/F36*100 -> 75 | N36: 6570
C37: 109010 Szociális szolgáltatás igazgatása
C38: - Városi Idősügyi Tanács feladatai | D38: 131706 | G38: =SUM(I38:R38) -> 10 | N38: 10
C39: 104031 Gyermekek bölcsődében, minibölcsődében történő ellátása
C40: - Bölcsődei ellátás biztosítása (Söjtör Önkorm.) | D40: 131717 | F40: 5300 | G40: =SUM(I40:R40) -> 9436 | H40: =G40/F40*100 -> 178.03774 | I40: 9436
...

Sheet 7
A1: Cím szám | B1: Alcím szám | C1: Megnevezés | D1: Előirányzat | F1: Teljesítés | H1: Költségvetési kiadások | P1: Finanszírozási kiadások
D2: Eredeti | E2: Módosított | F2: Összege | G2: %-a | H2: Személyi juttatások | I2: Munkaadókat terhelő járulékok és szociális hj.adó | J2: Dologi kiadások | K2: Ellátottak pénzbeli juttatásai | L2: Egyéb működési célú kiadások | M2: Beruházások | N2: Felújítások | O2: Egyéb felhalmo-zási célú kiadások | P2: Hitel-, kölcsöntör-lesztés áht-n kívülre | Q2: Egyéb finanszírozási kiadás
A3: 1 | C3: Önkormányzat
A4: 1 | B4: 1 | C4: Szakosztályok
B5: 12 | C5: Szociális és igazgatási feladatok | D5: ='8'!G48 -> 229592 | E5: ='8'!H48 -> 184109 | F5: =SUM(H5:Q5) -> 116193 | G5: =F5/E5*100 -> 63.110983 | H5: ='8'!K42 -> 0 | I5: ='8'!L42 -> 2524 | J5: ='8'!M42 -> 50752 | K5: ='8'!N42 -> 57674 | L5: ='8'!O42 -> 5243 | M5: ='8'!P42 -> 0 | N5: ='8'!Q42 -> 0 | O5: ='8'!R42 -> 0 | ... Q5: ='8'!T42 -> 0
B6: 13 | C6: Humánigazgatási feladatok | D6: ='8'!G212 -> 1957638 | E6: ='8'!H212 -> 2162209 | F6: =SUM(H6:Q6) -> 2052204 | G6: =F6/E6*100 -> 94.912379 | H6: ='8'!K212 -> 9846 | I6: ='8'!L212 -> 2279 | J6: ='8'!M212 -> 64462 | K6: ='8'!N212 -> 10550 | L6: ='8'!O212 -> 1805886 | M6: ='8'!P212 -> 14971 | N6: ='8'!Q212 -> 122119 | O6: ='8'!R212 -> 22091 | ... Q6: ='8'!T212 -> 0
B7: 14 | C7: Főépítészi feladatok | D7: ='8'!G224 -> 48793 | E7: ='8'!H224 -> 38993 | F7: =SUM(H7:Q7) -> 21174 | G7: =F7/E7*100 -> 54.302054 | H7: ='8'!K224 -> 0 | I7: ='8'!L224 -> 0 | J7: ='8'!M224 -> 3338 | K7: ='8'!N224 -> 0 | L7: ='8'!O224 -> 0 | M7: ='8'!P224 -> 7785 | N7: ='8'!Q224 -> 0 | O7: ='8'!R224 -> 10051 | ... Q7: ='8'!T224 -> 0
B8: 15 | C8: Városüzemelési feladatok | D8: ='8'!G383 -> 3974143 | E8: ='8'!H383 -> 4577651 | F8: =SUM(H8:Q8) -> 3968637 | G8: =F8/E8*100 -> 86.695928 | H8: ='8'!K383 -> 16488 | I8: ='8'!L383 -> 2275 | J8: ='8'!M383 -> 2317852 | K8: ='8'!N383 -> 0 | L8: ='8'!O383 -> 1225085 | M8: ='8'!P383 -> 235977 | N8: ='8'!Q383 -> 170524 | O8: ='8'!R383 -> 436 | ... Q8: ='8'!T383 -> 0
B9: 16 | C9: Városépítészeti feladatok | D9: ='8'!G515 -> 12578048 | E9: ='8'!H515 -> 18775553 | F9: =SUM(H9:Q9) -> 6641386 | G9: =F9/E9*100 -> 35.372519 | H9: ='8'!K515 -> 98 | I9: ='8'!L515 -> 34 | J9: ='8'!M515 -> 1078315 | K9: ='8'!N515 -> 0 | L9: ='8'!O515 -> 357871 | M9: ='8'!P515 -> 3289187 | N9: ='8'!Q515 -> 1883478 | O9: ='8'!R515 -> 32403 | ... Q9: ='8'!T515 -> 0
B10: 17 | C10: Vagyonkezelési feladatok | D10: ='8'!G533 -> 182507 | E10: ='8'!H533 -> 261913 | F10: =SUM(H10:Q10) -> 219458 | G10: =F10/E10*100 -> 83.790419 | H10: ='8'!K533 -> 0 | I10: ='8'!L533 -> 0 | J10: ='8'!M533 -> 95473 | K10: ='8'!N533 -> 0 | L10: ='8'!O533 -> 0 | M10: ='8'!P533 -> 68676 | N10: ='8'!Q533 -> 2309 | O10: ='8'!R533 -> 53000 | ... Q10: ='8'!T533 -> 0
B11: 18 | C11: Jogi és közig.feladatok | D11: ='8'!G561 -> 684446 | E11: ='8'!H561 -> 696111 | F11: =SUM(H11:Q11) -> 606309 | G11: =F11/E11*100 -> 87.099471 | H11: ='8'!K561 -> 386358 | I11: ='8'!L561 -> 41488 | J11: ='8'!M561 -> 155963 | K11: ='8'!N561 -> 0 | L11: ='8'!O561 -> 15268 | M11: ='8'!P561 -> 5542 | N11: ='8'!Q561 -> 1690 | O11: ='8'!R561 -> 0 | ... Q11: ='8'!T561 -> 0
B12: 19 | C12: Pénzügyi lebonyolítás | D12: ='8'!G594 -> 8879771 | E12: ='8'!H594 -> 9578085 | F12: =SUM(H12:Q12) -> 8470860 | G12: =F12/E12*100 -> 88.440017 | H12: ='8'!K594 -> 0 | I12: ='8'!L594 -> 0 | J12: ='8'!M594 -> 598047 | K12: ='8'!N594 -> 0 | L12: ='8'!O594 -> 3175935 | M12: ='8'!P594 -> 0 | N12: ='8'!Q594 -> 0 | O12: ='8'!R594 -> 2000 | ... Q12: ='8'!T594 -> 4577027
B13: 21 | C13: Polgármesteri Kabinet kiadásai | D13: ='8'!G639 -> 745888 | E13: ='8'!H639 -> 790851 | F13: =SUM(H13:Q13) -> 672658 | G13: =F13/E13*100 -> 85.05496 | H13: ='8'!K639 -> 61993 | I13: ='8'!L639 -> 18640 | J13: ='8'!M639 -> 150768 | K13: ='8'!N639 -> 0 | L13: ='8'!O639 -> 411239 | M13: ='8'!P639 -> 8618 | N13: ='8'!Q639 -> 0 | O13: ='8'!R639 -> 21400 | ... Q13: ='8'!T639 -> 0
B14: 30 | C14: Tartalékok | D14: ='8'!G655 -> 866585 | E14: ='8'!H655 -> 1236917 | F14: =SUM(H14:Q14) -> 0 | G14: =F14/E14*100 -> 0 | H14: ='8'!K655 -> 0 | I14: ='8'!L655 -> 0 | J14: ='8'!M655 -> 0 | K14: ='8'!N655 -> 0 | L14: ='8'!O655 -> 0 | M14: ='8'!P655 -> 0 | N14: ='8'!Q655 -> 0 | O14: ='8'!R655 -> 0 | ... Q14: ='8'!T655 -> 0
C15: Önkormányzat összesen költségvetési szervek nélkül | D15: =SUM(D5:D14) -> 30147411 | E15: =SUM(E5:E14) -> 38302392 | F15: =SUM(F5:F14) -> 22768879 | G15: =F15/E15*100 -> 59.445058 | H15: =SUM(H3:H14) -> 474783 | I15: =SUM(I3:I14) -> 67240 | J15: =SUM(J5:J14) -> 4514970 | K15: =SUM(K5:K14) -> 68224 | L15: =SUM(L5:L14) -> 6996527 | M15: =SUM(M5:M14) -> 3630756 | N15: =SUM(N5:N14) -> 2180120 | O15: =SUM(O5:O14) -> 141381 | P15: =SUM(P5:P14) -> 117851 | Q15: =SUM(Q5:Q14) -> 4577027
A16: 2 | C16: Költségvetési szervek | D16: ='8'!G657 -> 12356583 | E16: ='8'!H657 -> 13375519 | F16: =SUM(H16:Q16) -> 12414878 | G16: =F16/E16*100 -> 92.817916 | H16: ='8'!K657 -> 7175634 | I16: ='8'!L657 -> 941424 | J16: ='8'!M657 -> 3880457 | K16: ='8'!N657 -> 8563 | L16: ='8'!O657 -> 27559 | M16: ='8'!P657 -> 292821 | N16: ='8'!Q657 -> 88420 | O16: ='8'!R657 -> 0 | ... Q16: ='8'!T657 -> 0
C17: Önkormányzat összesen: | D17: =SUM(D15:D16) -> 42503994 | E17: =SUM(E15:E16) -> 51677911 | F17: =SUM(F15:F16) -> 35183757 | G17: =F17/E17*100 -> 68.082777 | H17: =SUM(H15:H16) -> 7650417 | I17: =SUM(I15:I16) -> 1008664 | J17: =SUM(J15:J16) -> 8395427 | K17: =SUM(K15:K16) -> 76787 | L17: =SUM(L15:L16) -> 7024086 | M17: =SUM(M15:M16) -> 3923577 | N17: =SUM(N15:N16) -> 2268540 | O17: =SUM(O15:O16) -> 141381 | ... Q17: =SUM(Q15:Q16) -> 4577027
O18: =SUM(H17:O17) -> 30488879

Sheet 8
A1: Cím szám | B1: Alcím szám | C1: Sorszám | D1: Megnevezés | E1: feladat jellege | F1: Tervezési alapegység | G1: Előirányzat | I1: Teljesítés | K1: Költségvetési kiadások | S1: Finanszírozási kiadások
G2: Eredeti | H2: Módosított | I2: Összege | J2: %-a | K2: Személyi juttatások | L2: Munkaadókat terhelő járulékok és szociális hj.adó | M2: Dologi kiadások | N2: Ellátottak pénzbeli juttatásai | O2: Egyéb működési célú kiadások | P2: Beruházások | Q2: Felújítások | R2: Egyéb felhalmozási célú kiadások | S2: Hitel-, kölcsöntör-lesztés áht-n kívülre | T2: Egyéb finanszírozási kiadás
A3: 1 | D3: Önkormányzat
A4: 1 | B4: 1 | D4: Szakosztályok
A5: 1 | B5: 12 | D5: Szociális és igazgatási feladatok
D6: 105010 Munkanélküli aktív korúak ellátásai
D7: - megélhetési támogatás | E7: 2 | F7: 121103 | G7: 5000 | H7: 5000 | I7: =SUM(K7:T7) -> 2015 | J7: =I7/H7*100 -> 40.3 | N7: 2015
D8: 106020 Lakásfenntartással, lakhatással összefüggő ellátások
D9: - lakásfenntartási segély | E9: 2 | F9: 121104 | G9: 20000 | H9: 20000 | I9: =SUM(K9:T9) -> 12871 | J9: =I9/H9*100 -> 64.355 | N9: 12871
D10: - önkormányzati bérlakásban élők lakásfenntartási segélye Lakásalapból | E10: 2 | F10: 121117 | G10: 18738 | H10: 9000 | I10: =SUM(K10:T10) -> 5534 | J10: =I10/H10*100 -> 61.488889 | N10: 5534
D11: - gázártámogatás | E11: 2 | F11: 121202 | G11: 5700 | H11: 2950 | I11: =SUM(K11:T11) -> 165 | J11: =I11/H11*100 -> 5.5932203 | N11: 165
D12: - villamosenergia támogatás | E12: 2 | F12: 121205 | G12: 5700 | H12: 3200 | I12: =SUM(K12:T12) -> 43 | J12: =I12/H12*100 -> 1.34375 | N12: 43
D13: 107060 Egyéb szociális pénzbeli ellátások, támogatások
D14: - gyermekétkeztetési támogatás | E14: 2 | F14: 121111 | G14: 2000 | H14: 2000 | I14: =SUM(K14:T14) -> 1517 | J14: =I14/H14*100 -> 75.85 | N14: 1517
D15: - átmeneti segély | E15: 2 | F15: 121127 | G15: 4000 | H15: 6000 | I15: =SUM(K15:T15) -> 5475 | J15: =I15/H15*100 -> 91.25 | N15: 5475
D16: - egyszeri nevelési juttatás | E16: 2 | F16: 121115 | G16: 700 | H16: 2700 | I16: =SUM(K16:T16) -> 2314 | J16: =I16/H16*100 -> 85.703704 | N16: 2314
D17: - szociális krízis alap | E17: 2 | F17: 121129 | G17: 3600 | H17: 3600 | I17: =SUM(K17:T17) -> 2299 | J17: =I17/H17*100 -> 63.861111 | N17: 2299
D18: - tüzifa támogatás | E18: 2 | F18: 121106 | G18: 3000 | H18: 5000 | I18: =SUM(K18:T18) -> 4189 | J18: =I18/H18*100 -> 83.78 | N18: 4189
D19: 103010 Elhunyt személyek hátramaradottainak pénzbeli ellátása
D20: - temetési segély | E20: 2 | F20: 121131 | G20: 2000 | H20: 2000 | I20: =SUM(K20:T20) -> 1624 | J20: =I20/H20*100 -> 81.2 | N20: 1624
D21: 106020 Lakásfenntartással, lakhatással összefüggő ellátások
D22: - lakhatási krízis alap Lakásalapból | E22: 2 | F22: 121130 | G22: 3000 | H22: 1000 | I22: =SUM(K22:T22) -> 0 | J22: =I22/H22*100 -> 0
D23: 107060 Egyéb szociális pénzbeli ellátások, támogatások
D24: - gyógyszertámogatás | E24: 1 | F24: 121204 | G24: 14000 | H24: 12000 | I24: =SUM(K24:T24) -> 6157 | J24: =I24/H24*100 -> 51.308333 | N24: 6157
D25: - gyógyászati segédeszköz támogatás | E25: 1 | F25: 121132 | G25: 750 | H25: 1500 | I25: =SUM(K25:T25) -> 957 | J25: =I25/H25*100 -> 63.8 | N25: 957
D26: - köztemetés | E26: 1 | F26: 121203 | G26: 6500 | H26: 6500 | I26: =SUM(K26:T26) -> 5358 | J26: =I26/H26*100 -> 82.430769 | M26: 1098 | N26: 4067 | O26: 193
D27: 094260 Hallgatói és oktatói ösztöndíjak, egyéb juttatások
D28: - Bursa Hungarica ösztöndíj | E28: 2 | F28: 121504 | G28: 4000 | H28: 4000 | I28: =SUM(K28:T28) -> 2050 | J28: =I28/H28*100 -> 51.25 | O28: 2050
D29: 061030 Lakáshoz jutást segítő támogatások
D30: - lakásgazdálkodási feladatokra | E30: 1 | F30: 121403 | G30: 50 | H30: 50 | I30: =SUM(K30:T30) -> 0 | J30: =I30/H30*100 -> 0
D31: 104042 Család- és gyermekjóléti szolgálat
D32: - Családsegítő Szolgálathoz krízissegélyezés | E32: 1 | F32: 121301 | G32: 2500 | H32: 0 | I32: =SUM(K32:T32) -> 0
D33: 011130 Önkorm. és önkorm. hivatal. jogalk. és ált.ig.tev.
D34: - Egerszegkártya | E34: 2 | F34: 221902 | G34: 74335 | H34: 67889 | I34: =SUM(K34:T34) -> 49425 | J34: =I34/H34*100 -> 72.802663 | M34: 49425
D35: - Nemzedékek kézfogása | E35: 2 | F35: 22190** | G35: 22320 | H35: 22820 | I35: =SUM(K35:T35) -> 11167 | J35: =I35/H35*100 -> 48.935145 | L35: 2524 | M35: 196 | N35: 8447
D36: - bírtokvédelmi költség megelőlegezés | E36: 1 | F36: 121118 | G36: 200 | H36: 200 | I36: =SUM(K36:T36) -> 0 | J36: =I36/H36*100 -> 0
D37: - talált tárgyak felértékeltetése | E37: 1 | F37: 121515 | G37: 200 | H37: 200 | I37: =SUM(K37:T37) -> 0 | J37: =I37/H37*100 -> 0
D38: 032020 Tűz- és katasztrófavéd. tevékenység
D39: - helyi védelmi igazgatás | E39: 1 | F39: 121601 | G39: 500 | H39: 500 | I39: =SUM(K39:T39) -> 33 | J39: =I39/H39*100 -> 6.6 | M39: 33
D40: 109010 Szociális szolgáltatás igazgatása
...

Sheet 9
A1: Címszám | B1: Címszám | C1: Megnevezés | D1: 2025. évi kiadások | G1: Teljesítés %-a
D2: Eredeti ei. | E2: Módosított ei. | F2: Teljesítés
B3: 1 | C3: ZMJV Önkormányzata összesen, ebből: | D3: =SUM(D4:D13) -> 30147411 | E3: =SUM(E4:E13) -> 38302392 | F3: =SUM(F4:F13) -> 22768879 | G3: =SUM(F3/E3)*100 -> 59.445058
C4: - Személyi juttatások | D4: 496032 | E4: 576577 | F4: ='8'!K656 -> 474783 | G4: =SUM(F4/E4)*100 -> 82.345116
C5: - Munkaadókat terhelő járulékok és szoc. hj. adó | D5: 84934 | E5: 99772 | F5: ='8'!L656 -> 67240 | G5: =SUM(F5/E5)*100 -> 67.393658
C6: - Dologi kiadások | D6: 6720835 | E6: 7368750 | F6: ='8'!M656 -> 4514970 | G6: =SUM(F6/E6)*100 -> 61.271858
C7: - Ellátottak pénzbeli juttatásai | D7: 128008 | E7: 109320 | F7: ='8'!N656 -> 68224 | G7: =SUM(F7/E7)*100 -> 62.407611
C8: - Egyéb működési célú kiadások | D8: 6476959 | E8: 7525653 | F8: ='8'!O656 -> 6996527 | G8: =SUM(F8/E8)*100 -> 92.969035
C9: - Beruházások | D9: 7412799 | E9: 11273561 | F9: ='8'!P656 -> 3630756 | G9: =SUM(F9/E9)*100 -> 32.205937
C10: - Felújítások | D10: 2933829 | E10: 5455796 | F10: ='8'!Q656 -> 2180120 | G10: =SUM(F10/E10)*100 -> 39.959705
C11: - Egyéb felhalmozási célú kiadások | D11: 575452 | E11: 198084 | F11: ='8'!R656 -> 141381 | G11: =SUM(F11/E11)*100 -> 71.374265
C12: - Hitel-, kölcsöntörlesztés áht-n kívülre | D12: 117852 | E12: 117852 | F12: ='8'!S656 -> 117851 | G12: =SUM(F12/E12)*100 -> 99.999151
C13: - Egyéb finanszírozási kiadás | D13: 5200711 | E13: 5577027 | F13: ='8'!T656 -> 4577027 | G13: =SUM(F13/E13)*100 -> 82.0693
A14: 2 | B14: 2 | C14: Polgármesteri Hivatal összesen, ebből: | D14: =SUM(D15:D21) -> 2396463 | E14: =SUM(E15:E21) -> 2436491 | F14: =SUM(F15:F21) -> 2375301 | G14: =SUM(F14/E14)*100 -> 97.488601
C15: - Személyi juttatások | D15: 1825954 | E15: 1844413 | F15: ='11'!H4 -> 1817728 | G15: =SUM(F15/E15)*100 -> 98.553198
C16: - Munkaadókat terhelő járulékok és szoc. hj. adó | D16: 267730 | E16: 270062 | F16: ='11'!I4 -> 258596 | G16: =SUM(F16/E16)*100 -> 95.754308
C17: - Dologi kiadások | D17: 260395 | E17: 273330 | F17: ='11'!J4 -> 255040 | G17: =SUM(F17/E17)*100 -> 93.308455
C18: - Ellátottak pénzbeli juttatásai | F18: ='11'!K4 -> 0
C19: - Egyéb működési célú kiadások | F19: ='11'!L4 -> 0
C20: - Beruházások | D20: 35506 | E20: 48686 | F20: ='11'!M4 -> 43937 | G20: =SUM(F20/E20)*100 -> 90.245656
C21: - Felújítások | D21: 6878 | F21: ='11'!N4 -> 0
B22: 3 | C22: Zalaegerszegi Gazdasági Ellátó Szervezet összesen, ebből: | D22: =SUM(D23:D29) -> 2163205 | E22: =SUM(E23:E29) -> 2253476 | F22: =SUM(F23:F29) -> 2032710 | G22: =SUM(F22/E22)*100 -> 90.203313
C23: - Személyi juttatások | D23: 358940 | E23: 390656 | F23: ='11'!H5 -> 342454 | G23: =SUM(F23/E23)*100 -> 87.661267
C24: - Munkaadókat terhelő járulékok és szoc. hj. adó | D24: 54158 | E24: 58281 | F24: ='11'!I5 -> 45177 | G24: =SUM(F24/E24)*100 -> 77.515828
C25: - Dologi kiadások | D25: 1735369 | E25: 1751821 | F25: ='11'!J5 -> 1603590 | G25: =SUM(F25/E25)*100 -> 91.538462
C26: - Ellátottak pénzbeli juttatásai | F26: ='11'!K5 -> 0
C27: - Egyéb működési célú kiadások | F27: ='11'!L5 -> 0
C28: - Beruházások | D28: 7459 | E28: 21239 | F28: ='11'!M5 -> 12872 | G28: =SUM(F28/E28)*100 -> 60.60549
C29: - Felújítások | D29: 7279 | E29: 31479 | F29: ='11'!N5 -> 28617 | G29: =SUM(F29/E29)*100 -> 90.908225
B30: 4 | C30: Zalaegerszegi Egyesített Bölcsődék összesen, ebből: | D30: =SUM(D31:D37) -> 1209248 | E30: =SUM(E31:E37) -> 1345592 | F30: =SUM(F31:F37) -> 1238486 | G30: =SUM(F30/E30)*100 -> 92.040232
C31: - Személyi juttatások | D31: 850931 | E31: 908491 | F31: ='11'!H6 -> 846186 | G31: =SUM(F31/E31)*100 -> 93.141924
C32: - Munkaadókat terhelő járulékok és szoc. hj. adó | D32: 127208 | E32: 134267 | F32: ='11'!I6 -> 115731 | G32: =SUM(F32/E32)*100 -> 86.194672
C33: - Dologi kiadások | D33: 228109 | E33: 233648 | F33: ='11'!J6 -> 216240 | G33: =SUM(F33/E33)*100 -> 92.549476
C34: - Ellátottak pénzbeli juttatásai | F34: ='11'!K6 -> 0
C35: - Egyéb működési célú kiadások | E35: 1454 | F35: ='11'!L6 -> 1454 | G35: =SUM(F35/E35)*100 -> 100
C36: - Beruházások | D36: 3000 | E36: 33694 | F36: ='11'!M6 -> 26232 | G36: =SUM(F36/E36)*100 -> 77.853624
C37: - Felújítások | E37: 34038 | F37: ='11'!N6 -> 32643 | G37: =SUM(F37/E37)*100 -> 95.901639
B38: 6 | C38: Zalaegerszegi Család- és Gyermekjóléti Központ összesen, ebből: | D38: =SUM(D39:D45) -> 382822 | E38: =SUM(E39:E45) -> 533334 | F38: =SUM(F39:F45) -> 400782 | G38: =SUM(F38/E38)*100 -> 75.146531
C39: - Személyi juttatások | D39: 290445 | E39: 390975 | F39: ='11'!H7 -> 310681 | G39: =SUM(F39/E39)*100 -> 79.463137
C40: - Munkaadókat terhelő járulékok és szoc. hj. adó | D40: 46993 | E40: 59603 | F40: ='11'!I7 -> 39237 | G40: =SUM(F40/E40)*100 -> 65.830579
...

Sheet 10
A1: Címszám | B1: sorszám | C1: Költségvetési szerv megnevezése | D1: Előirányzat | F1: Teljesítés | H1: Költségvetési bevételek | O1: Finanszírozási bevételek
D2: Eredeti | E2: Módosított | F2: Összege | G2: %-a | H2: Működési célú támogatások áht-n belülről | I2: Felhalmozási célú támogatások áht-n belülről | J2: Közhatalmi bevételek | K2: Működési bevételek | L2: Felhalmozási bevételek | M2: Működési célú átvett pénzeszközök | N2: Felhalmozási célú átvett pénzeszközök | O2: Maradvány igénybevétele | P2: Központi, irányító szervi támogatás | Q2: Egyéb finanszírozási bevétel
A3: 2 | C3: Költségvetési szervek
B4: 1 | C4: Polgármesteri Hivatal | D4: 2396463 | E4: 2436491 | F4: =SUM(H4:Q4) -> 2433899 | G4: =F4/E4*100 -> 99.893618 | H4: 6186 | J4: 4150 | K4: 30809 | L4: 2413 | O4: 86407 | P4: 2303934
B5: 2 | C5: Zalaegerszegi Gazdasági Ellátó Szervezet | D5: 2163205 | E5: 2253476 | F5: =SUM(H5:Q5) -> 2279898 | G5: =F5/E5*100 -> 101.1725 | H5: 228790 | K5: 880414 | L5: 740 | M5: 600 | O5: 212430 | P5: 956924
B6: 3 | C6: Zalaegerszegi Egyesített Bölcsődék | D6: 1209248 | E6: 1345592 | F6: =SUM(H6:Q6) -> 1371335 | G6: =F6/E6*100 -> 101.91314 | I6: 800 | K6: 113510 | L6: 1300 | O6: 148808 | P6: 1106917
B7: 4 | C7: Zalaegerszegi Család-és Gyermekjóléti Központ | D7: 382822 | E7: 533334 | F7: =SUM(H7:Q7) -> 537714 | G7: =F7/E7*100 -> 100.82125 | K7: 4378 | L7: 2 | O7: 118514 | P7: 414820
B8: 5 | C8: Zalaegerszegi Belvárosi I. számú Óvoda | D8: 727176 | E8: 742325 | F8: =SUM(H8:Q8) -> 742936 | G8: =F8/E8*100 -> 100.08231 | H8: 426 | I8: 144 | K8: 19308 | O8: 45951 | P8: 677107
B9: 6 | C9: Zalaegerszegi Belvárosi II. számú Óvoda | D9: 553787 | E9: 581173 | F9: =SUM(H9:Q9) -> 578371 | G9: =F9/E9*100 -> 99.517872 | H9: 370 | I9: 130 | K9: 43901 | L9: 4 | O9: 42903 | P9: 491063
B10: 7 | C10: Zalaegerszegi Kertvárosi Óvoda | D10: 645706 | E10: 652080 | F10: =SUM(H10:Q10) -> 649730 | G10: =F10/E10*100 -> 99.639615 | H10: 170 | K10: 27720 | L10: 1 | N10: 988 | O10: 31073 | P10: 589778
B11: 8 | C11: Zalaegerszegi Landorhegyi Óvoda | D11: 556909 | E11: 583913 | F11: =SUM(H11:Q11) -> 582265 | G11: =F11/E11*100 -> 99.717766 | H11: 170 | K11: 29085 | L11: 3 | O11: 24443 | P11: 528564
B12: 9 | C12: Közgyűjteményi és Közművelődési GESZ | D12: 102618 | E12: 108321 | F12: =SUM(H12:Q12) -> 108320 | G12: =F12/E12*100 -> 99.999077 | H12: 400 | K12: 36 | O12: 2273 | P12: 105611
B13: 10 | C13: Keresztury Dezső VMK | D13: 579040 | E13: 670103 | F13: =SUM(H13:Q13) -> 667724 | G13: =F13/E13*100 -> 99.64498 | H13: 45606 | I13: 742 | K13: 199621 | M13: 1200 | O13: 11450 | P13: 409105
B14: 11 | C14: Zalaegerszegi Turisztikai Hivatal és Információs Iroda | D14: 31295 | E14: 39058 | F14: =SUM(H14:Q14) -> 39058 | G14: =F14/E14*100 -> 100 | H14: 3500 | I14: 260 | K14: 3286 | O14: 1589 | P14: 30423
B15: 12 | C15: Deák Ferenc Megyei és Városi Könyvtár | D15: 539587 | E15: 575859 | F15: =SUM(H15:Q15) -> 565882 | G15: =F15/E15*100 -> 98.267458 | H15: 18343 | I15: 234 | K15: 21628 | M15: 593 | O15: 15380 | P15: 509704
B16: 13 | C16: Zalaegerszegi Múzeumok Igazgatósága | D16: 631507 | E16: 777474 | F16: =SUM(H16:Q16) -> 773172 | G16: =F16/E16*100 -> 99.44667 | H16: 217357 | I16: 3150 | K16: 135322 | M16: 270 | O16: 64507 | P16: 352566
B17: 14 | C17: Hevesi Sándor Színház | D17: 1118724 | E17: 1272052 | F17: =SUM(H17:Q17) -> 1294771 | G17: =F17/E17*100 -> 101.78601 | H17: 363325 | I17: 10450 | K17: 385616 | L17: 28 | O17: 87548 | P17: 447804
B18: 15 | C18: Griff Bábszínház | D18: 206530 | E18: 233459 | F18: =SUM(H18:Q18) -> 233377 | G18: =F18/E18*100 -> 99.964876 | H18: 90550 | K18: 41583 | O18: 23879 | P18: 77365
B19: 16 | C19: Városi Sportlétesítmény Gondnokság Intézménye | D19: 268284 | E19: 300222 | F19: =SUM(H19:Q19) -> 300133 | G19: =F19/E19*100 -> 99.970355 | K19: 117885 | O19: 37964 | P19: 144284
B20: 17 | C20: Vásárcsarnok | D20: 160746 | E20: 161126 | F20: =SUM(H20:Q20) -> 153612 | G20: =F20/E20*100 -> 95.336569 | H20: 535 | K20: 125348 | O20: 21144 | P20: 6585
B21: 18 | C21: Göcseji Tudásközpont - Zalaegerszegi Helyi Termék Piac | D21: 82936 | E21: 109461 | F21: =SUM(H21:Q21) -> 110069 | G21: =F21/E21*100 -> 100.55545 | H21: 2250 | K21: 44631 | O21: 13709 | P21: 49479
C22: Költségvetési szervek mindösszesen: | D22: =SUM(D4:D21) -> 12356583 | E22: =SUM(E4:E21) -> 13375519 | F22: =SUM(F4:F21) -> 13422266 | G22: =F22/E22*100 -> 100.3495 | H22: =SUM(H4:H21) -> 977978 | I22: =SUM(I4:I21) -> 15910 | J22: =SUM(J4:J21) -> 4150 | K22: =SUM(K4:K21) -> 2224081 | L22: =SUM(L4:L21) -> 4491 | M22: =SUM(M4:M21) -> 2663 | N22: =SUM(N4:N21) -> 988 | O22: =SUM(O4:O21) -> 989972 | ... Q22: =SUM(Q4:Q21) -> 0

Sheet 11
A1: Címszám | B1: Sorszám | C1: Költségvetési szerv megnevezése | D1: Előirányzat | F1: Teljesítés | H1: Költségvetési kiadások | P1: Finanszírozási kiadások
D2: Eredeti | E2: Módosított | F2: összege | G2: %-a | H2: Személyi juttatások | I2: Munkaadókat terhelő járulékok és szociális hozzájárulási adó | J2: Dologi kiadások | K2: Ellátottak pénzbeli juttatásai | L2: Egyéb működési célú kiadások | M2: Beruházások | N2: Felújítások | O2: Egyéb felhalmozási célú kiadások
A3: 2 | C3: Költségvetési szervek
B4: 1 | C4: Polgármesteri Hivatal | D4: 2396463 | E4: 2436491 | F4: =SUM(H4:P4) -> 2375301 | G4: =F4/E4*100 -> 97.488601 | H4: 1817728 | I4: 258596 | J4: 255040 | M4: 43937
B5: 2 | C5: Zalaegerszegi Gazdasági Ellátó Szervezet | D5: 2163205 | E5: 2253476 | F5: =SUM(H5:P5) -> 2032710 | G5: =F5/E5*100 -> 90.203313 | H5: 342454 | I5: 45177 | J5: 1603590 | M5: 12872 | N5: 28617
B6: 3 | C6: Zalaegerszegi Egyesített Bölcsődék | D6: 1209248 | E6: 1345592 | F6: =SUM(H6:P6) -> 1238486 | G6: =F6/E6*100 -> 92.040232 | H6: 846186 | I6: 115731 | J6: 216240 | L6: 1454 | M6: 26232 | N6: 32643
B7: 4 | C7: Zalaegerszegi Család- és Gyermekjóléti Központ | D7: 382822 | E7: 533334 | F7: =SUM(H7:P7) -> 400782 | G7: =F7/E7*100 -> 75.146531 | H7: 310681 | I7: 39237 | J7: 30275 | K7: 8563 | M7: 12026
B8: 5 | C8: Zalaegerszegi Belvárosi I. számú Óvoda | D8: 727176 | E8: 742325 | F8: =SUM(H8:P8) -> 704114 | G8: =F8/E8*100 -> 94.852524 | H8: 528458 | I8: 63925 | J8: 90803 | M8: 7363 | N8: 13565
B9: 6 | C9: Zalaegerszegi Belvárosi II. számú Óvoda | D9: 553787 | E9: 581173 | F9: =SUM(H9:P9) -> 547459 | G9: =F9/E9*100 -> 94.198973 | H9: 359601 | I9: 50314 | J9: 127175 | M9: 7043 | N9: 3326
B10: 7 | C10: Zalaegerszegi Kertvárosi Óvoda | D10: 645706 | E10: 652080 | F10: =SUM(H10:P10) -> 624355 | G10: =F10/E10*100 -> 95.748221 | H10: 406310 | I10: 56716 | J10: 156891 | M10: 4438
B11: 8 | C11: Zalaegerszegi Landorhegyi Óvoda | D11: 556909 | E11: 583913 | F11: =SUM(H11:P11) -> 560088 | G11: =F11/E11*100 -> 95.919769 | H11: 400353 | I11: 56661 | J11: 92256 | M11: 10082 | N11: 736
B12: 9 | C12: Közgyűjteményi és Közművelődési GESZ | D12: 102618 | E12: 108321 | F12: =SUM(H12:P12) -> 103376 | G12: =F12/E12*100 -> 95.434865 | H12: 87127 | I12: 12074 | J12: 3276 | M12: 899
B13: 10 | C13: Keresztury Dezső VMK | D13: 579040 | E13: 670103 | F13: =SUM(H13:P13) -> 640985 | G13: =F13/E13*100 -> 95.654698 | H13: 316086 | I13: 44014 | J13: 267914 | M13: 4143 | N13: 8828
B14: 11 | C14: Zalaegerszegi Turisztikai Hivatal és Információs Iroda | D14: 31295 | E14: 39058 | F14: =SUM(H14:P14) -> 36912 | G14: =F14/E14*100 -> 94.505607 | H14: 26089 | I14: 3522 | J14: 6878 | M14: 423
B15: 12 | C15: Deák Ferenc Megyei és Városi Könyvtár | D15: 539587 | E15: 575859 | F15: =SUM(H15:P15) -> 540460 | G15: =F15/E15*100 -> 93.852836 | H15: 275720 | I15: 38284 | J15: 122134 | L15: 11000 | M15: 93322
B16: 13 | C16: Zalaegerszegi Múzeumok Igazgatósága | D16: 631507 | E16: 777474 | F16: =SUM(H16:P16) -> 665834 | G16: =F16/E16*100 -> 85.640677 | H16: 339578 | I16: 45102 | J16: 251157 | L16: 15105 | M16: 14892
B17: 14 | C17: Hevesi Sándor Színház | D17: 1118724 | E17: 1272052 | F17: =SUM(H17:P17) -> 1211157 | G17: =F17/E17*100 -> 95.212853 | H17: 759752 | I17: 68800 | J17: 350638 | M17: 31967
B18: 15 | C18: Griff Bábszínház | D18: 206530 | E18: 233459 | F18: =SUM(H18:P18) -> 217405 | G18: =F18/E18*100 -> 93.123418 | H18: 127043 | I18: 11713 | J18: 77278 | M18: 1371
B19: 16 | C19: Városi Sportlétesítmények Gondnoksága | D19: 268284 | E19: 300222 | F19: =SUM(H19:P19) -> 278573 | G19: =F19/E19*100 -> 92.789003 | H19: 123593 | I19: 16473 | J19: 119445 | M19: 19062
B20: 17 | C20: Vásárcsarnok | D20: 160746 | E20: 161126 | F20: =SUM(H20:P20) -> 142644 | G20: =F20/E20*100 -> 88.529474 | H20: 70536 | I20: 10939 | J20: 60177 | M20: 992
B21: 18 | C21: Göcseji Tudásközpont - Zalaegerszegi Helyi Termék Piac | D21: 82936 | E21: 109461 | F21: =SUM(H21:P21) -> 94237 | G21: =F21/E21*100 -> 86.09185 | H21: 38339 | I21: 4146 | J21: 49290 | M21: 1757 | N21: 705
C22: Költségvetési szervek mindösszesen: | D22: =SUM(D4:D21) -> 12356583 | E22: =SUM(E4:E21) -> 13375519 | F22: =SUM(F4:F21) -> 12414878 | G22: =F22/E22*100 -> 92.817916 | H22: =SUM(H4:H21) -> 7175634 | I22: =SUM(I4:I21) -> 941424 | J22: =SUM(J4:J21) -> 3880457 | K22: =SUM(K4:K21) -> 8563 | L22: =SUM(L4:L21) -> 27559 | M22: =SUM(M4:M21) -> 292821 | N22: =SUM(N4:N21) -> 88420 | O22: =SUM(O4:O21) -> 0 | P22: =SUM(P4:P21) -> 0

Sheet 12
A1: Megnevezés | C1: Polgármesteri Hivatal | D1: Zalaegerszegi Gazdasági Ellátó Szervezet | E1: Zalaegerszegi Egyesített Bölcsődék | F1: Zalaegerszegi Család- és Gyermekjóléti Központ | G1: Zalaegerszegi Belvárosi I. sz. Óvoda | H1: Zalaegerszegi Belvárosi II.sz.Óvoda | I1: Zalaegerszegi Kertvárosi Óvoda | J1: Zalaegerszegi Landorhegyi Óvoda | K1: Közgyűjteményi és Közművelődési GESZ | L1: Keresztury Dezső Városi Művelődési Központ | M1: Tourinform Iroda | N1: Deák Ferenc Megyei és Városi Könyvtár | O1: Zalaegerszegi Múzeumok Igazgatósága | P1: Hevesi Sándor Színház | Q1: Griff Bábszínház | R1: Városi Sportlétesítmények Gondnoksága | S1: Vásárcsarnok | T1: Göcseji Tudásközpont | U1: Költségvetési szervek összesen: | V1: ZMJV Önkormányzata | W1: Önkormányzat összesen:
