Workbook

Sheet Alibánfa
A2: Gördülő fejlesztési terv a 2021 - 2035 időszakra
A3: BERUHÁZÁSOK ÖSSZEFOGLALÓ TÁBLÁZATA
A4: A tervet benyújtó szervezet megnevezése: | K4: ALIBÁNFA | R4: ellátásért felelős / ellátásért felelősök képviselője / víziközmű-szolgáltató *
A5: Víziközmű-szolgáltató megnevezése: | K5: ÉSZAK ZALAI VÍZ- ÉS CSATORNAMŰ ZÁRTKÖRŰEN MŰKÖDŐ RÉSZVÉNYTÁRSASÁG
A6: Víziközmű-szolgáltatási ágazat megnevezése: | K6: SZENNYVÍZ ÁGAZAT
A7: Véleményeltérést megfogalmazó érintett fél megnevezése:
A8: Víziközmű-rendszer kódja: ** | K8: 21-32054-1-048-01-10 | R8: Zalaegerszeg-SZV
A9: V. Szennyvízelvezetés
A10: Fontossági sorrend | B10: Beruházás megnevezése | E10: Műszaki állapot felmérés, szükségességi indoklás | H10: Vízjogi létesítési/elvi engedély száma | I10: Az érintett ellátásért felelős(ök) megnevezése | J10: Tervezett nettó költség | K10: Forrás 2021 évre | L10: Megvalósítás időtartama | N10: Tervezett időtáv | O10: A beruházás ütemezése a tervezési időszak évei szerint
E11: Jelenlegi műszaki állapot | F11: Feladat szükségessége | G11: Megvalósítást követő várható műszaki állapot | J11: (eFt) | L11: Kezdés | M11: Befejezés | N11: (rövid / közép / hosszú) | O11: 1 | P11: 2 | Q11: 3 | R11: 4 | S11: 5 | T11: 6 | U11: 7 | V11: 8 | W11: 9 | X11: 10 | Y11: 11 | Z11: 12 | AA11: 13 | AB11: 14 | AC11: 15
B12: szakág | C12: Helyszín | D12: beruházás megnevezése
B14: SZENNYVÍZCSATORNA (GRAVITÁCIÓS)
B15: Épület, építmény
B17: SZENNYVÍZVEZETÉKEK (KÉNYSZERÁRAMOLTATÁSÚ)
B19: SZENNYVÍZÁTEMELŐK
B20: Épület, építmény
B21: Gép, berendezés
B22: Irányítástechnika, energiaellátás
B24: Összesen: | J24: =SUM(J14:J23) -> 0 | K24: 0 | O24: =SUM(O13:O23) -> 0 | P24: =SUM(P13:P23) -> 0 | Q24: =SUM(Q13:Q23) -> 0 | R24: =SUM(R13:R23) -> 0 | S24: =SUM(S13:S23) -> 0 | T24: =SUM(T13:T23) -> 0 | U24: =SUM(U13:U23) -> 0 | V24: =SUM(V13:V23) -> 0 | ... AC24: =SUM(AC13:AC23) -> 0
K25: Beruházásra forrás nem áll rendelkezésre.
B26: Tervezett feladatok nettó költsége a teljes ütem tekintetében (eFt) | C26: Rendelkezésre álló források számszerűsített értéke a teljes ütem tekintetében (eFt) | D26: Rendelkezésre álló források megnevezése
A27: I. ütem | B27: =O24 -> 0 | C27: 0 | D27: Fejlesztési díj (2021)
A28: II. ütem | B28: =SUM(P24:S24) -> 0 | C28: =C27*4 -> 0 | D28: Fejlesztési díj (2022-2025)
A29: III. ütem | B29: =SUM(T24:AC24) -> 0 | C29: =C27*10 -> 0 | D29: Fejlesztési díj (2026-2035)
B32: Jelenleg beruházási igény nem ismert, nincs rendelkezésre álló forrás beruházásra.

Sheet Alsónemesapáti
A2: Gördülő fejlesztési terv a 2021 - 2035 időszakra
A3: BERUHÁZÁSOK ÖSSZEFOGLALÓ TÁBLÁZATA
A4: A tervet benyújtó szervezet megnevezése: | K4: ALSÓNEMESAPÁTI | R4: ellátásért felelős / ellátásért felelősök képviselője / víziközmű-szolgáltató *
A5: Víziközmű-szolgáltató megnevezése: | K5: ÉSZAK ZALAI VÍZ- ÉS CSATORNAMŰ ZÁRTKÖRŰEN MŰKÖDŐ RÉSZVÉNYTÁRSASÁG
A6: Víziközmű-szolgáltatási ágazat megnevezése: | K6: SZENNYVÍZ ÁGAZAT
A7: Véleményeltérést megfogalmazó érintett fél megnevezése:
A8: Víziközmű-rendszer kódja: ** | K8: 21-32054-1-048-01-10 | R8: Zalaegerszeg-SZV
A9: V. Szennyvízelvezetés
A10: Fontossági sorrend | B10: Beruházás megnevezése | E10: Műszaki állapot felmérés, szükségességi indoklás | H10: Vízjogi létesítési/elvi engedély száma | I10: Az érintett ellátásért felelős(ök) megnevezése | J10: Tervezett nettó költség | K10: Forrás 2021 évre | L10: Megvalósítás időtartama | N10: Tervezett időtáv | O10: A beruházás ütemezése a tervezési időszak évei szerint
E11: Jelenlegi műszaki állapot | F11: Feladat szükségessége | G11: Megvalósítást követő várható műszaki állapot | J11: (eFt) | L11: Kezdés | M11: Befejezés | N11: (rövid / közép / hosszú) | O11: 1 | P11: 2 | Q11: 3 | R11: 4 | S11: 5 | T11: 6 | U11: 7 | V11: 8 | W11: 9 | X11: 10 | Y11: 11 | Z11: 12 | AA11: 13 | AB11: 14 | AC11: 15
B12: szakág | C12: Helyszín | D12: beruházás megnevezése
B14: SZENNYVÍZCSATORNA (GRAVITÁCIÓS)
B15: Épület, építmény
B17: SZENNYVÍZVEZETÉKEK (KÉNYSZERÁRAMOLTATÁSÚ)
B19: SZENNYVÍZÁTEMELŐK
B20: Épület, építmény
B21: Gép, berendezés
B22: Irányítástechnika, energiaellátás
B24: Összesen: | J24: =SUM(J14:J23) -> 0 | K24: 0 | O24: =SUM(O13:O23) -> 0 | P24: =SUM(P13:P23) -> 0 | Q24: =SUM(Q13:Q23) -> 0 | R24: =SUM(R13:R23) -> 0 | S24: =SUM(S13:S23) -> 0 | T24: =SUM(T13:T23) -> 0 | U24: =SUM(U13:U23) -> 0 | V24: =SUM(V13:V23) -> 0 | ... AC24: =SUM(AC13:AC23) -> 0
K25: Beruházásra forrás nem áll rendelkezésre.
B26: Tervezett feladatok nettó költsége a teljes ütem tekintetében (eFt) | C26: Rendelkezésre álló források számszerűsített értéke a teljes ütem tekintetében (eFt) | D26: Rendelkezésre álló források megnevezése
A27: I. ütem | B27: =O24 -> 0 | C27: 0 | D27: Fejlesztési díj (2021)
A28: II. ütem | B28: =SUM(P24:S24) -> 0 | C28: =C27*4 -> 0 | D28: Fejlesztési díj (2022-2025)
A29: III. ütem | B29: =SUM(T24:AC24) -> 0 | C29: =C27*10 -> 0 | D29: Fejlesztési díj (2026-2035)
B32: Jelenleg beruházási igény nem ismert, nincs rendelkezésre álló forrás beruházásra.

Sheet Babosdöbréte
A2: Gördülő fejlesztési terv a 2021 - 2035 időszakra
A3: BERUHÁZÁSOK ÖSSZEFOGLALÓ TÁBLÁZATA
A4: A tervet benyújtó szervezet megnevezése: | K4: BABOSDÖBRÉTE | R4: ellátásért felelős / ellátásért felelősök képviselője / víziközmű-szolgáltató *
A5: Víziközmű-szolgáltató megnevezése: | K5: ÉSZAK ZALAI VÍZ- ÉS CSATORNAMŰ ZÁRTKÖRŰEN MŰKÖDŐ RÉSZVÉNYTÁRSASÁG
A6: Víziközmű-szolgáltatási ágazat megnevezése: | K6: SZENNYVÍZ ÁGAZAT
A7: Véleményeltérést megfogalmazó érintett fél megnevezése:
A8: Víziközmű-rendszer kódja: ** | K8: 21-32054-1-048-01-10 | R8: Zalaegerszeg-SZV
A9: V. Szennyvízelvezetés
A10: Fontossági sorrend | B10: Beruházás megnevezése | E10: Műszaki állapot felmérés, szükségességi indoklás | H10: Vízjogi létesítési/elvi engedély száma | I10: Az érintett ellátásért felelős(ök) megnevezése | J10: Tervezett nettó költség | K10: Forrás 2021 évre | L10: Megvalósítás időtartama | N10: Tervezett időtáv | O10: A beruházás ütemezése a tervezési időszak évei szerint
E11: Jelenlegi műszaki állapot | F11: Feladat szükségessége | G11: Megvalósítást követő várható műszaki állapot | J11: (eFt) | L11: Kezdés | M11: Befejezés | N11: (rövid / közép / hosszú) | O11: 1 | P11: 2 | Q11: 3 | R11: 4 | S11: 5 | T11: 6 | U11: 7 | V11: 8 | W11: 9 | X11: 10 | Y11: 11 | Z11: 12 | AA11: 13 | AB11: 14 | AC11: 15
B12: szakág | C12: Helyszín | D12: beruházás megnevezése
B14: SZENNYVÍZCSATORNA (GRAVITÁCIÓS)
B15: Épület, építmény
B17: SZENNYVÍZVEZETÉKEK (KÉNYSZERÁRAMOLTATÁSÚ)
B19: SZENNYVÍZÁTEMELŐK
B20: Épület, építmény
B21: Gép, berendezés
B22: Irányítástechnika, energiaellátás
B24: Összesen: | J24: =SUM(J14:J23) -> 0 | K24: 0 | O24: =SUM(O13:O23) -> 0 | P24: =SUM(P13:P23) -> 0 | Q24: =SUM(Q13:Q23) -> 0 | R24: =SUM(R13:R23) -> 0 | S24: =SUM(S13:S23) -> 0 | T24: =SUM(T13:T23) -> 0 | U24: =SUM(U13:U23) -> 0 | V24: =SUM(V13:V23) -> 0 | ... AC24: =SUM(AC13:AC23) -> 0
K25: Beruházásra forrás nem áll rendelkezésre.
B26: Tervezett feladatok nettó költsége a teljes ütem tekintetében (eFt) | C26: Rendelkezésre álló források számszerűsített értéke a teljes ütem tekintetében (eFt) | D26: Rendelkezésre álló források megnevezése
A27: I. ütem | B27: =O24 -> 0 | C27: 0 | D27: Fejlesztési díj (2021)
A28: II. ütem | B28: =SUM(P24:S24) -> 0 | C28: =C27*4 -> 0 | D28: Fejlesztési díj (2022-2025)
A29: III. ütem | B29: =SUM(T24:AC24) -> 0 | C29: =C27*10 -> 0 | D29: Fejlesztési díj (2026-2035)
B32: Jelenleg beruházási igény nem ismert, nincs rendelkezésre álló forrás beruházásra.

Sheet Bagod
A2: Gördülő fejlesztési terv a 2021 - 2035 időszakra
A3: BERUHÁZÁSOK ÖSSZEFOGLALÓ TÁBLÁZATA
A4: A tervet benyújtó szervezet megnevezése: | K4: BAGOD | R4: ellátásért felelős / ellátásért felelősök képviselője / víziközmű-szolgáltató *
A5: Víziközmű-szolgáltató megnevezése: | K5: ÉSZAK ZALAI VÍZ- ÉS CSATORNAMŰ ZÁRTKÖRŰEN MŰKÖDŐ RÉSZVÉNYTÁRSASÁG
A6: Víziközmű-szolgáltatási ágazat megnevezése: | K6: SZENNYVÍZ ÁGAZAT
A7: Véleményeltérést megfogalmazó érintett fél megnevezése:
A8: Víziközmű-rendszer kódja: ** | K8: 21-32054-1-048-01-10 | R8: Zalaegerszeg-SZV
A9: V. Szennyvízelvezetés
A10: Fontossági sorrend | B10: Beruházás megnevezése | E10: Műszaki állapot felmérés, szükségességi indoklás | H10: Vízjogi létesítési/elvi engedély száma | I10: Az érintett ellátásért felelős(ök) megnevezése | J10: Tervezett nettó költség | K10: Forrás 2021 évre | L10: Megvalósítás időtartama | N10: Tervezett időtáv | O10: A beruházás ütemezése a tervezési időszak évei szerint
E11: Jelenlegi műszaki állapot | F11: Feladat szükségessége | G11: Megvalósítást követő várható műszaki állapot | J11: (eFt) | L11: Kezdés | M11: Befejezés | N11: (rövid / közép / hosszú) | O11: 1 | P11: 2 | Q11: 3 | R11: 4 | S11: 5 | T11: 6 | U11: 7 | V11: 8 | W11: 9 | X11: 10 | Y11: 11 | Z11: 12 | AA11: 13 | AB11: 14 | AC11: 15
B12: szakág | C12: Helyszín | D12: beruházás megnevezése
B14: SZENNYVÍZCSATORNA (GRAVITÁCIÓS)
B15: Épület, építmény
B17: SZENNYVÍZVEZETÉKEK (KÉNYSZERÁRAMOLTATÁSÚ)
B19: SZENNYVÍZÁTEMELŐK
B20: Épület, építmény
B21: Gép, berendezés
B22: Irányítástechnika, energiaellátás
B24: Összesen: | J24: =SUM(J14:J23) -> 0 | K24: 0 | O24: =SUM(O13:O23) -> 0 | P24: =SUM(P13:P23) -> 0 | Q24: =SUM(Q13:Q23) -> 0 | R24: =SUM(R13:R23) -> 0 | S24: =SUM(S13:S23) -> 0 | T24: =SUM(T13:T23) -> 0 | U24: =SUM(U13:U23) -> 0 | V24: =SUM(V13:V23) -> 0 | ... AC24: =SUM(AC13:AC23) -> 0
K25: Beruházásra forrás nem áll rendelkezésre.
B26: Tervezett feladatok nettó költsége a teljes ütem tekintetében (eFt) | C26: Rendelkezésre álló források számszerűsített értéke a teljes ütem tekintetében (eFt) | D26: Rendelkezésre álló források megnevezése
A27: I. ütem | B27: =O24 -> 0 | C27: 0 | D27: Fejlesztési díj (2021)
A28: II. ütem | B28: =SUM(P24:S24) -> 0 | C28: =C27*4 -> 0 | D28: Fejlesztési díj (2022-2025)
A29: III. ütem | B29: =SUM(T24:AC24) -> 0 | C29: =C27*10 -> 0 | D29: Fejlesztési díj (2026-2035)
B32: Jelenleg beruházási igény nem ismert, nincs rendelkezésre álló forrás beruházásra.

Sheet Bak
A2: Gördülő fejlesztési terv a 2021 - 2035 időszakra
A3: BERUHÁZÁSOK ÖSSZEFOGLALÓ TÁBLÁZATA
A4: A tervet benyújtó szervezet megnevezése: | K4: BAK | R4: ellátásért felelős / ellátásért felelősök képviselője / víziközmű-szolgáltató *
A5: Víziközmű-szolgáltató megnevezése: | K5: ÉSZAK ZALAI VÍZ- ÉS CSATORNAMŰ ZÁRTKÖRŰEN MŰKÖDŐ RÉSZVÉNYTÁRSASÁG
A6: Víziközmű-szolgáltatási ágazat megnevezése: | K6: SZENNYVÍZ ÁGAZAT
A7: Véleményeltérést megfogalmazó érintett fél megnevezése:
A8: Víziközmű-rendszer kódja: ** | K8: 21-32054-1-048-01-10 | R8: Zalaegerszeg-SZV
A9: V. Szennyvízelvezetés
A10: Fontossági sorrend | B10: Beruházás megnevezése | E10: Műszaki állapot felmérés, szükségességi indoklás | H10: Vízjogi létesítési/elvi engedély száma | I10: Az érintett ellátásért felelős(ök) megnevezése | J10: Tervezett nettó költség | K10: Forrás 2021 évre | L10: Megvalósítás időtartama | N10: Tervezett időtáv | O10: A beruházás ütemezése a tervezési időszak évei szerint
E11: Jelenlegi műszaki állapot | F11: Feladat szükségessége | G11: Megvalósítást követő várható műszaki állapot | J11: (eFt) | L11: Kezdés | M11: Befejezés | N11: (rövid / közép / hosszú) | O11: 1 | P11: 2 | Q11: 3 | R11: 4 | S11: 5 | T11: 6 | U11: 7 | V11: 8 | W11: 9 | X11: 10 | Y11: 11 | Z11: 12 | AA11: 13 | AB11: 14 | AC11: 15
B12: szakág | C12: Helyszín | D12: beruházás megnevezése
B14: SZENNYVÍZCSATORNA (GRAVITÁCIÓS)
B15: Épület, építmény
B17: SZENNYVÍZVEZETÉKEK (KÉNYSZERÁRAMOLTATÁSÚ)
B19: SZENNYVÍZÁTEMELŐK
B20: Épület, építmény
B21: Gép, berendezés
B22: Irányítástechnika, energiaellátás
B24: Összesen: | J24: =SUM(J14:J23) -> 0 | K24: 0 | O24: =SUM(O13:O23) -> 0 | P24: =SUM(P13:P23) -> 0 | Q24: =SUM(Q13:Q23) -> 0 | R24: =SUM(R13:R23) -> 0 | S24: =SUM(S13:S23) -> 0 | T24: =SUM(T13:T23) -> 0 | U24: =SUM(U13:U23) -> 0 | V24: =SUM(V13:V23) -> 0 | ... AC24: =SUM(AC13:AC23) -> 0
K25: Beruházásra forrás nem áll rendelkezésre.
B26: Tervezett feladatok nettó költsége a teljes ütem tekintetében (eFt) | C26: Rendelkezésre álló források számszerűsített értéke a teljes ütem tekintetében (eFt) | D26: Rendelkezésre álló források megnevezése
A27: I. ütem | B27: =O24 -> 0 | C27: 0 | D27: Fejlesztési díj (2021)
A28: II. ütem | B28: =SUM(P24:S24) -> 0 | C28: =C27*4 -> 0 | D28: Fejlesztési díj (2022-2025)
A29: III. ütem | B29: =SUM(T24:AC24) -> 0 | C29: =C27*10 -> 0 | D29: Fejlesztési díj (2026-2035)
B32: Jelenleg beruházási igény nem ismert, nincs rendelkezésre álló forrás beruházásra.

Sheet Bocfölde
A2: Gördülő fejlesztési terv a 2021 - 2035 időszakra
A3: BERUHÁZÁSOK ÖSSZEFOGLALÓ TÁBLÁZATA
A4: A tervet benyújtó szervezet megnevezése: | K4: BOCFÖLDE | R4: ellátásért felelős / ellátásért felelősök képviselője / víziközmű-szolgáltató *
A5: Víziközmű-szolgáltató megnevezése: | K5: ÉSZAK ZALAI VÍZ- ÉS CSATORNAMŰ ZÁRTKÖRŰEN MŰKÖDŐ RÉSZVÉNYTÁRSASÁG
A6: Víziközmű-szolgáltatási ágazat megnevezése: | K6: SZENNYVÍZ ÁGAZAT
A7: Véleményeltérést megfogalmazó érintett fél megnevezése:
A8: Víziközmű-rendszer kódja: ** | K8: 21-32054-1-048-01-10 | R8: Zalaegerszeg-SZV
A9: V. Szennyvízelvezetés
A10: Fontossági sorrend | B10: Beruházás megnevezése | E10: Műszaki állapot felmérés, szükségességi indoklás | H10: Vízjogi létesítési/elvi engedély száma | I10: Az érintett ellátásért felelős(ök) megnevezése | J10: Tervezett nettó költség | K10: Forrás 2021 évre | L10: Megvalósítás időtartama | N10: Tervezett időtáv | O10: A beruházás ütemezése a tervezési időszak évei szerint
E11: Jelenlegi műszaki állapot | F11: Feladat szükségessége | G11: Megvalósítást követő várható műszaki állapot | J11: (eFt) | L11: Kezdés | M11: Befejezés | N11: (rövid / közép / hosszú) | O11: 1 | P11: 2 | Q11: 3 | R11: 4 | S11: 5 | T11: 6 | U11: 7 | V11: 8 | W11: 9 | X11: 10 | Y11: 11 | Z11: 12 | AA11: 13 | AB11: 14 | AC11: 15
B12: szakág | C12: Helyszín | D12: beruházás megnevezése
B14: SZENNYVÍZCSATORNA (GRAVITÁCIÓS)
B15: Épület, építmény
B17: SZENNYVÍZVEZETÉKEK (KÉNYSZERÁRAMOLTATÁSÚ)
B19: SZENNYVÍZÁTEMELŐK
B20: Épület, építmény
B21: Gép, berendezés
B22: Irányítástechnika, energiaellátás
B24: Összesen: | J24: =SUM(J14:J23) -> 0 | K24: 0 | O24: =SUM(O13:O23) -> 0 | P24: =SUM(P13:P23) -> 0 | Q24: =SUM(Q13:Q23) -> 0 | R24: =SUM(R13:R23) -> 0 | S24: =SUM(S13:S23) -> 0 | T24: =SUM(T13:T23) -> 0 | U24: =SUM(U13:U23) -> 0 | V24: =SUM(V13:V23) -> 0 | ... AC24: =SUM(AC13:AC23) -> 0
K25: Beruházásra forrás nem áll rendelkezésre.
B26: Tervezett feladatok nettó költsége a teljes ütem tekintetében (eFt) | C26: Rendelkezésre álló források számszerűsített értéke a teljes ütem tekintetében (eFt) | D26: Rendelkezésre álló források megnevezése
A27: I. ütem | B27: =O24 -> 0 | C27: 0 | D27: Fejlesztési díj (2021)
A28: II. ütem | B28: =SUM(P24:S24) -> 0 | C28: =C27*4 -> 0 | D28: Fejlesztési díj (2022-2025)
A29: III. ütem | B29: =SUM(T24:AC24) -> 0 | C29: =C27*10 -> 0 | D29: Fejlesztési díj (2026-2035)
B32: Jelenleg beruházási igény nem ismert, nincs rendelkezésre álló forrás beruházásra.

Sheet Boncodfölde
A2: Gördülő fejlesztési terv a 2021 - 2035 időszakra
A3: BERUHÁZÁSOK ÖSSZEFOGLALÓ TÁBLÁZATA
A4: A tervet benyújtó szervezet megnevezése: | K4: BONCODFÖLDE | R4: ellátásért felelős / ellátásért felelősök képviselője / víziközmű-szolgáltató *
A5: Víziközmű-szolgáltató megnevezése: | K5: ÉSZAK ZALAI VÍZ- ÉS CSATORNAMŰ ZÁRTKÖRŰEN MŰKÖDŐ RÉSZVÉNYTÁRSASÁG
A6: Víziközmű-szolgáltatási ágazat megnevezése: | K6: SZENNYVÍZ ÁGAZAT
A7: Véleményeltérést megfogalmazó érintett fél megnevezése:
A8: Víziközmű-rendszer kódja: ** | K8: 21-32054-1-048-01-10 | R8: Zalaegerszeg-SZV
A9: V. Szennyvízelvezetés
A10: Fontossági sorrend | B10: Beruházás megnevezése | E10: Műszaki állapot felmérés, szükségességi indoklás | H10: Vízjogi létesítési/elvi engedély száma | I10: Az érintett ellátásért felelős(ök) megnevezése | J10: Tervezett nettó költség | K10: Forrás 2021 évre | L10: Megvalósítás időtartama | N10: Tervezett időtáv | O10: A beruházás ütemezése a tervezési időszak évei szerint
E11: Jelenlegi műszaki állapot | F11: Feladat szükségessége | G11: Megvalósítást követő várható műszaki állapot | J11: (eFt) | L11: Kezdés | M11: Befejezés | N11: (rövid / közép / hosszú) | O11: 1 | P11: 2 | Q11: 3 | R11: 4 | S11: 5 | T11: 6 | U11: 7 | V11: 8 | W11: 9 | X11: 10 | Y11: 11 | Z11: 12 | AA11: 13 | AB11: 14 | AC11: 15
B12: szakág | C12: Helyszín | D12: beruházás megnevezése
B14: SZENNYVÍZCSATORNA (GRAVITÁCIÓS)
B15: Épület, építmény
B17: SZENNYVÍZVEZETÉKEK (KÉNYSZERÁRAMOLTATÁSÚ)
B19: SZENNYVÍZÁTEMELŐK
B20: Épület, építmény
B21: Gép, berendezés
B22: Irányítástechnika, energiaellátás
B24: Összesen: | J24: =SUM(J14:J23) -> 0 | K24: 0 | O24: =SUM(O13:O23) -> 0 | P24: =SUM(P13:P23) -> 0 | Q24: =SUM(Q13:Q23) -> 0 | R24: =SUM(R13:R23) -> 0 | S24: =SUM(S13:S23) -> 0 | T24: =SUM(T13:T23) -> 0 | U24: =SUM(U13:U23) -> 0 | V24: =SUM(V13:V23) -> 0 | ... AC24: =SUM(AC13:AC23) -> 0
K25: Beruházásra forrás nem áll rendelkezésre.
B26: Tervezett feladatok nettó költsége a teljes ütem tekintetében (eFt) | C26: Rendelkezésre álló források számszerűsített értéke a teljes ütem tekintetében (eFt) | D26: Rendelkezésre álló források megnevezése
A27: I. ütem | B27: =O24 -> 0 | C27: 0 | D27: Fejlesztési díj (2021)
A28: II. ütem | B28: =SUM(P24:S24) -> 0 | C28: =C27*4 -> 0 | D28: Fejlesztési díj (2022-2025)
A29: III. ütem | B29: =SUM(T24:AC24) -> 0 | C29: =C27*10 -> 0 | D29: Fejlesztési díj (2026-2035)
B32: Jelenleg beruházási igény nem ismert, nincs rendelkezésre álló forrás beruházásra.

Sheet Böde
A2: Gördülő fejlesztési terv a 2021 - 2035 időszakra
A3: BERUHÁZÁSOK ÖSSZEFOGLALÓ TÁBLÁZATA
A4: A tervet benyújtó szervezet megnevezése: | K4: BÖDE | R4: ellátásért felelős / ellátásért felelősök képviselője / víziközmű-szolgáltató *
A5: Víziközmű-szolgáltató megnevezése: | K5: ÉSZAK ZALAI VÍZ- ÉS CSATORNAMŰ ZÁRTKÖRŰEN MŰKÖDŐ RÉSZVÉNYTÁRSASÁG
A6: Víziközmű-szolgáltatási ágazat megnevezése: | K6: SZENNYVÍZ ÁGAZAT
A7: Véleményeltérést megfogalmazó érintett fél megnevezése:
A8: Víziközmű-rendszer kódja: ** | K8: 21-32054-1-048-01-10 | R8: Zalaegerszeg-SZV
A9: V. Szennyvízelvezetés
A10: Fontossági sorrend | B10: Beruházás megnevezése | E10: Műszaki állapot felmérés, szükségességi indoklás | H10: Vízjogi létesítési/elvi engedély száma | I10: Az érintett ellátásért felelős(ök) megnevezése | J10: Tervezett nettó költség | K10: Forrás 2021 évre | L10: Megvalósítás időtartama | N10: Tervezett időtáv | O10: A beruházás ütemezése a tervezési időszak évei szerint
E11: Jelenlegi műszaki állapot | F11: Feladat szükségessége | G11: Megvalósítást követő várható műszaki állapot | J11: (eFt) | L11: Kezdés | M11: Befejezés | N11: (rövid / közép / hosszú) | O11: 1 | P11: 2 | Q11: 3 | R11: 4 | S11: 5 | T11: 6 | U11: 7 | V11: 8 | W11: 9 | X11: 10 | Y11: 11 | Z11: 12 | AA11: 13 | AB11: 14 | AC11: 15
B12: szakág | C12: Helyszín | D12: beruházás megnevezése
B14: SZENNYVÍZCSATORNA (GRAVITÁCIÓS)
B15: Épület, építmény
B17: SZENNYVÍZVEZETÉKEK (KÉNYSZERÁRAMOLTATÁSÚ)
B19: SZENNYVÍZÁTEMELŐK
B20: Épület, építmény
B21: Gép, berendezés
B22: Irányítástechnika, energiaellátás
B24: Összesen: | J24: =SUM(J14:J23) -> 0 | K24: 0 | O24: =SUM(O13:O23) -> 0 | P24: =SUM(P13:P23) -> 0 | Q24: =SUM(Q13:Q23) -> 0 | R24: =SUM(R13:R23) -> 0 | S24: =SUM(S13:S23) -> 0 | T24: =SUM(T13:T23) -> 0 | U24: =SUM(U13:U23) -> 0 | V24: =SUM(V13:V23) -> 0 | ... AC24: =SUM(AC13:AC23) -> 0
K25: Beruházásra forrás nem áll rendelkezésre.
B26: Tervezett feladatok nettó költsége a teljes ütem tekintetében (eFt) | C26: Rendelkezésre álló források számszerűsített értéke a teljes ütem tekintetében (eFt) | D26: Rendelkezésre álló források megnevezése
A27: I. ütem | B27: =O24 -> 0 | C27: 0 | D27: Fejlesztési díj (2021)
A28: II. ütem | B28: =SUM(P24:S24) -> 0 | C28: =C27*4 -> 0 | D28: Fejlesztési díj (2022-2025)
A29: III. ütem | B29: =SUM(T24:AC24) -> 0 | C29: =C27*10 -> 0 | D29: Fejlesztési díj (2026-2035)
B31: Jelenleg beruházási igény nem ismert, nincs rendelkezésre álló forrás beruházásra.

Sheet Búcsúszentlászló
A2: Gördülő fejlesztési terv a 2021 - 2035 időszakra
A3: BERUHÁZÁSOK ÖSSZEFOGLALÓ TÁBLÁZATA
A4: A tervet benyújtó szervezet megnevezése: | K4: BUCSUSZENTLÁSZLÓ | R4: ellátásért felelős / ellátásért felelősök képviselője / víziközmű-szolgáltató *
A5: Víziközmű-szolgáltató megnevezése: | K5: ÉSZAK ZALAI VÍZ- ÉS CSATORNAMŰ ZÁRTKÖRŰEN MŰKÖDŐ RÉSZVÉNYTÁRSASÁG
A6: Víziközmű-szolgáltatási ágazat megnevezése: | K6: SZENNYVÍZ ÁGAZAT
A7: Véleményeltérést megfogalmazó érintett fél megnevezése:
A8: Víziközmű-rendszer kódja: ** | K8: 21-32054-1-048-01-10 | R8: Zalaegerszeg-SZV
A9: V. Szennyvízelvezetés
A10: Fontossági sorrend | B10: Beruházás megnevezése | E10: Műszaki állapot felmérés, szükségességi indoklás | H10: Vízjogi létesítési/elvi engedély száma | I10: Az érintett ellátásért felelős(ök) megnevezése | J10: Tervezett nettó költség | K10: Forrás 2021 évre | L10: Megvalósítás időtartama | N10: Tervezett időtáv | O10: A beruházás ütemezése a tervezési időszak évei szerint
E11: Jelenlegi műszaki állapot | F11: Feladat szükségessége | G11: Megvalósítást követő várható műszaki állapot | J11: (eFt) | L11: Kezdés | M11: Befejezés | N11: (rövid / közép / hosszú) | O11: 1 | P11: 2 | Q11: 3 | R11: 4 | S11: 5 | T11: 6 | U11: 7 | V11: 8 | W11: 9 | X11: 10 | Y11: 11 | Z11: 12 | AA11: 13 | AB11: 14 | AC11: 15
B12: szakág | C12: Helyszín | D12: beruházás megnevezése
B14: SZENNYVÍZCSATORNA (GRAVITÁCIÓS)
B15: Épület, építmény
B17: SZENNYVÍZVEZETÉKEK (KÉNYSZERÁRAMOLTATÁSÚ)
B19: SZENNYVÍZÁTEMELŐK
B20: Épület, építmény
B21: Gép, berendezés
B22: Irányítástechnika, energiaellátás
B24: Összesen: | J24: =SUM(J14:J23) -> 0 | K24: 0 | O24: =SUM(O13:O23) -> 0 | P24: =SUM(P13:P23) -> 0 | Q24: =SUM(Q13:Q23) -> 0 | R24: =SUM(R13:R23) -> 0 | S24: =SUM(S13:S23) -> 0 | T24: =SUM(T13:T23) -> 0 | U24: =SUM(U13:U23) -> 0 | V24: =SUM(V13:V23) -> 0 | ... AC24: =SUM(AC13:AC23) -> 0
K25: Beruházásra forrás nem áll rendelkezésre.
B26: Tervezett feladatok nettó költsége a teljes ütem tekintetében (eFt) | C26: Rendelkezésre álló források számszerűsített értéke a teljes ütem tekintetében (eFt) | D26: Rendelkezésre álló források megnevezése
A27: I. ütem | B27: =O24 -> 0 | C27: 0 | D27: Fejlesztési díj (2021)
A28: II. ütem | B28: =SUM(P24:S24) -> 0 | C28: =C27*4 -> 0 | D28: Fejlesztési díj (2022-2025)
A29: III. ütem | B29: =SUM(T24:AC24) -> 0 | C29: =C27*10 -> 0 | D29: Fejlesztési díj (2026-2035)
B32: Jelenleg beruházási igény nem ismert, nincs rendelkezésre álló forrás beruházásra.

Sheet Csatár
A2: Gördülő fejlesztési terv a 2021 - 2035 időszakra
A3: BERUHÁZÁSOK ÖSSZEFOGLALÓ TÁBLÁZATA
A4: A tervet benyújtó szervezet megnevezése: | K4: CSATRÁ | R4: ellátásért felelős / ellátásért felelősök képviselője / víziközmű-szolgáltató *
A5: Víziközmű-szolgáltató megnevezése: | K5: ÉSZAK ZALAI VÍZ- ÉS CSATORNAMŰ ZÁRTKÖRŰEN MŰKÖDŐ RÉSZVÉNYTÁRSASÁG
A6: Víziközmű-szolgáltatási ágazat megnevezése: | K6: SZENNYVÍZ ÁGAZAT
A7: Véleményeltérést megfogalmazó érintett fél megnevezése:
A8: Víziközmű-rendszer kódja: ** | K8: 21-32054-1-048-01-10 | R8: Zalaegerszeg-SZV
A9: V. Szennyvízelvezetés
A10: Fontossági sorrend | B10: Beruházás megnevezése | E10: Műszaki állapot felmérés, szükségességi indoklás | H10: Vízjogi létesítési/elvi engedély száma | I10: Az érintett ellátásért felelős(ök) megnevezése | J10: Tervezett nettó költség | K10: Forrás 2021 évre | L10: Megvalósítás időtartama | N10: Tervezett időtáv | O10: A beruházás ütemezése a tervezési időszak évei szerint
E11: Jelenlegi műszaki állapot | F11: Feladat szükségessége | G11: Megvalósítást követő várható műszaki állapot | J11: (eFt) | L11: Kezdés | M11: Befejezés | N11: (rövid / közép / hosszú) | O11: 1 | P11: 2 | Q11: 3 | R11: 4 | S11: 5 | T11: 6 | U11: 7 | V11: 8 | W11: 9 | X11: 10 | Y11: 11 | Z11: 12 | AA11: 13 | AB11: 14 | AC11: 15
B12: szakág | C12: Helyszín | D12: beruházás megnevezése
B14: SZENNYVÍZCSATORNA (GRAVITÁCIÓS)
B15: Épület, építmény
B17: SZENNYVÍZVEZETÉKEK (KÉNYSZERÁRAMOLTATÁSÚ)
B19: SZENNYVÍZÁTEMELŐK
B20: Épület, építmény
B21: Gép, berendezés
B22: Irányítástechnika, energiaellátás
B24: Összesen: | J24: =SUM(J14:J23) -> 0 | K24: 0 | O24: =SUM(O13:O23) -> 0 | P24: =SUM(P13:P23) -> 0 | Q24: =SUM(Q13:Q23) -> 0 | R24: =SUM(R13:R23) -> 0 | S24: =SUM(S13:S23) -> 0 | T24: =SUM(T13:T23) -> 0 | U24: =SUM(U13:U23) -> 0 | V24: =SUM(V13:V23) -> 0 | ... AC24: =SUM(AC13:AC23) -> 0
K25: Beruházásra forrás nem áll rendelkezésre.
B26: Tervezett feladatok nettó költsége a teljes ütem tekintetében (eFt) | C26: Rendelkezésre álló források számszerűsített értéke a teljes ütem tekintetében (eFt) | D26: Rendelkezésre álló források megnevezése
A27: I. ütem | B27: =O24 -> 0 | C27: 0 | D27: Fejlesztési díj (2021)
A28: II. ütem | B28: =SUM(P24:S24) -> 0 | C28: =C27*4 -> 0 | D28: Fejlesztési díj (2022-2025)
A29: III. ütem | B29: =SUM(T24:AC24) -> 0 | C29: =C27*10 -> 0 | D29: Fejlesztési díj (2026-2035)
B31: Jelenleg beruházási igény nem ismert, nincs rendelkezésre álló forrás beruházásra.

Sheet Csonkahegyhát
A2: Gördülő fejlesztési terv a 2021 - 2035 időszakra
A3: BERUHÁZÁSOK ÖSSZEFOGLALÓ TÁBLÁZATA
A4: A tervet benyújtó szervezet megnevezése: | K4: CSONKAHEGYHÁT | R4: ellátásért felelős / ellátásért felelősök képviselője / víziközmű-szolgáltató *
A5: Víziközmű-szolgáltató megnevezése: | K5: ÉSZAK ZALAI VÍZ- ÉS CSATORNAMŰ ZÁRTKÖRŰEN MŰKÖDŐ RÉSZVÉNYTÁRSASÁG
A6: Víziközmű-szolgáltatási ágazat megnevezése: | K6: SZENNYVÍZ ÁGAZAT
A7: Véleményeltérést megfogalmazó érintett fél megnevezése:
A8: Víziközmű-rendszer kódja: ** | K8: 21-32054-1-048-01-10 | R8: Zalaegerszeg-SZV
A9: V. Szennyvízelvezetés
A10: Fontossági sorrend | B10: Beruházás megnevezése | E10: Műszaki állapot felmérés, szükségességi indoklás | H10: Vízjogi létesítési/elvi engedély száma | I10: Az érintett ellátásért felelős(ök) megnevezése | J10: Tervezett nettó költség | K10: Forrás 2021 évre | L10: Megvalósítás időtartama | N10: Tervezett időtáv | O10: A beruházás ütemezése a tervezési időszak évei szerint
E11: Jelenlegi műszaki állapot | F11: Feladat szükségessége | G11: Megvalósítást követő várható műszaki állapot | J11: (eFt) | L11: Kezdés | M11: Befejezés | N11: (rövid / közép / hosszú) | O11: 1 | P11: 2 | Q11: 3 | R11: 4 | S11: 5 | T11: 6 | U11: 7 | V11: 8 | W11: 9 | X11: 10 | Y11: 11 | Z11: 12 | AA11: 13 | AB11: 14 | AC11: 15
B12: szakág | C12: Helyszín | D12: beruházás megnevezése
B14: SZENNYVÍZCSATORNA (GRAVITÁCIÓS)
B15: Épület, építmény
B17: SZENNYVÍZVEZETÉKEK (KÉNYSZERÁRAMOLTATÁSÚ)
B19: SZENNYVÍZÁTEMELŐK
B20: Épület, építmény
B21: Gép, berendezés
B22: Irányítástechnika, energiaellátás
B24: Összesen: | J24: =SUM(J14:J23) -> 0 | K24: 0 | O24: =SUM(O13:O23) -> 0 | P24: =SUM(P13:P23) -> 0 | Q24: =SUM(Q13:Q23) -> 0 | R24: =SUM(R13:R23) -> 0 | S24: =SUM(S13:S23) -> 0 | T24: =SUM(T13:T23) -> 0 | U24: =SUM(U13:U23) -> 0 | V24: =SUM(V13:V23) -> 0 | ... AC24: =SUM(AC13:AC23) -> 0
K25: Beruházásra forrás nem áll rendelkezésre.
B26: Tervezett feladatok nettó költsége a teljes ütem tekintetében (eFt) | C26: Rendelkezésre álló források számszerűsített értéke a teljes ütem tekintetében (eFt) | D26: Rendelkezésre álló források megnevezése
A27: I. ütem | B27: =O24 -> 0 | C27: 0 | D27: Fejlesztési díj (2021)
A28: II. ütem | B28: =SUM(P24:S24) -> 0 | C28: =C27*4 -> 0 | D28: Fejlesztési díj (2022-2025)
A29: III. ütem | B29: =SUM(T24:AC24) -> 0 | C29: =C27*10 -> 0 | D29: Fejlesztési díj (2026-2035)
B32: Jelenleg beruházási igény nem ismert, nincs rendelkezésre álló forrás beruházásra.

Sheet Dobronhegy
A2: Gördülő fejlesztési terv a 2021 - 2035 időszakra
A3: BERUHÁZÁSOK ÖSSZEFOGLALÓ TÁBLÁZATA
A4: A tervet benyújtó szervezet megnevezése: | K4: DOBRONHEGY | R4: ellátásért felelős / ellátásért felelősök képviselője / víziközmű-szolgáltató *
A5: Víziközmű-szolgáltató megnevezése: | K5: ÉSZAK ZALAI VÍZ- ÉS CSATORNAMŰ ZÁRTKÖRŰEN MŰKÖDŐ RÉSZVÉNYTÁRSASÁG
A6: Víziközmű-szolgáltatási ágazat megnevezése: | K6: SZENNYVÍZ ÁGAZAT
A7: Véleményeltérést megfogalmazó érintett fél megnevezése:
A8: Víziközmű-rendszer kódja: ** | K8: 21-32054-1-048-01-10 | R8: Zalaegerszeg-SZV
A9: V. Szennyvízelvezetés
A10: Fontossági sorrend | B10: Beruházás megnevezése | E10: Műszaki állapot felmérés, szükségességi indoklás | H10: Vízjogi létesítési/elvi engedély száma | I10: Az érintett ellátásért felelős(ök) megnevezése | J10: Tervezett nettó költség | K10: Forrás 2021 évre | L10: Megvalósítás időtartama | N10: Tervezett időtáv | O10: A beruházás ütemezése a tervezési időszak évei szerint
E11: Jelenlegi műszaki állapot | F11: Feladat szükségessége | G11: Megvalósítást követő várható műszaki állapot | J11: (eFt) | L11: Kezdés | M11: Befejezés | N11: (rövid / közép / hosszú) | O11: 1 | P11: 2 | Q11: 3 | R11: 4 | S11: 5 | T11: 6 | U11: 7 | V11: 8 | W11: 9 | X11: 10 | Y11: 11 | Z11: 12 | AA11: 13 | AB11: 14 | AC11: 15
B12: szakág | C12: Helyszín | D12: beruházás megnevezése
B14: SZENNYVÍZCSATORNA (GRAVITÁCIÓS)
B15: Épület, építmény
B17: SZENNYVÍZVEZETÉKEK (KÉNYSZERÁRAMOLTATÁSÚ)
B19: SZENNYVÍZÁTEMELŐK
B20: Épület, építmény
B21: Gép, berendezés
B22: Irányítástechnika, energiaellátás
B24: Összesen: | J24: =SUM(J14:J23) -> 0 | K24: 0 | O24: =SUM(O13:O23) -> 0 | P24: =SUM(P13:P23) -> 0 | Q24: =SUM(Q13:Q23) -> 0 | R24: =SUM(R13:R23) -> 0 | S24: =SUM(S13:S23) -> 0 | T24: =SUM(T13:T23) -> 0 | U24: =SUM(U13:U23) -> 0 | V24: =SUM(V13:V23) -> 0 | ... AC24: =SUM(AC13:AC23) -> 0
K25: Beruházásra forrás nem áll rendelkezésre.
B26: Tervezett feladatok nettó költsége a teljes ütem tekintetében (eFt) | C26: Rendelkezésre álló források számszerűsített értéke a teljes ütem tekintetében (eFt) | D26: Rendelkezésre álló források megnevezése
A27: I. ütem | B27: =O24 -> 0 | C27: 0 | D27: Fejlesztési díj (2021)
A28: II. ütem | B28: =SUM(P24:S24) -> 0 | C28: =C27*4 -> 0 | D28: Fejlesztési díj (2022-2025)
A29: III. ütem | B29: =SUM(T24:AC24) -> 0 | C29: =C27*10 -> 0 | D29: Fejlesztési díj (2026-2035)
B31: Jelenleg beruházási igény nem ismert, nincs rendelkezésre álló forrás beruházásra.

Sheet Egervár
A2: Gördülő fejlesztési terv a 2021 - 2035 időszakra
A3: BERUHÁZÁSOK ÖSSZEFOGLALÓ TÁBLÁZATA
A4: A tervet benyújtó szervezet megnevezése: | K4: EGERVÁR | R4: ellátásért felelős / ellátásért felelősök képviselője / víziközmű-szolgáltató *
A5: Víziközmű-szolgáltató megnevezése: | K5: ÉSZAK ZALAI VÍZ- ÉS CSATORNAMŰ ZÁRTKÖRŰEN MŰKÖDŐ RÉSZVÉNYTÁRSASÁG
A6: Víziközmű-szolgáltatási ágazat megnevezése: | K6: SZENNYVÍZ ÁGAZAT
A7: Véleményeltérést megfogalmazó érintett fél megnevezése:
A8: Víziközmű-rendszer kódja: ** | K8: 21-32054-1-048-01-10 | R8: Zalaegerszeg-SZV
A9: V. Szennyvízelvezetés
A10: Fontossági sorrend | B10: Beruházás megnevezése | E10: Műszaki állapot felmérés, szükségességi indoklás | H10: Vízjogi létesítési/elvi engedély száma | I10: Az érintett ellátásért felelős(ök) megnevezése | J10: Tervezett nettó költség | K10: Forrás 2021 évre | L10: Megvalósítás időtartama | N10: Tervezett időtáv | O10: A beruházás ütemezése a tervezési időszak évei szerint
E11: Jelenlegi műszaki állapot | F11: Feladat szükségessége | G11: Megvalósítást követő várható műszaki állapot | J11: (eFt) | L11: Kezdés | M11: Befejezés | N11: (rövid / közép / hosszú) | O11: 1 | P11: 2 | Q11: 3 | R11: 4 | S11: 5 | T11: 6 | U11: 7 | V11: 8 | W11: 9 | X11: 10 | Y11: 11 | Z11: 12 | AA11: 13 | AB11: 14 | AC11: 15
B12: szakág | C12: Helyszín | D12: beruházás megnevezése
B14: SZENNYVÍZCSATORNA (GRAVITÁCIÓS)
B15: Épület, építmény
B17: SZENNYVÍZVEZETÉKEK (KÉNYSZERÁRAMOLTATÁSÚ)
B19: SZENNYVÍZÁTEMELŐK
B20: Épület, építmény
B21: Gép, berendezés
B22: Irányítástechnika, energiaellátás
B24: Összesen: | J24: =SUM(J14:J23) -> 0 | K24: 0 | O24: =SUM(O13:O23) -> 0 | P24: =SUM(P13:P23) -> 0 | Q24: =SUM(Q13:Q23) -> 0 | R24: =SUM(R13:R23) -> 0 | S24: =SUM(S13:S23) -> 0 | T24: =SUM(T13:T23) -> 0 | U24: =SUM(U13:U23) -> 0 | V24: =SUM(V13:V23) -> 0 | ... AC24: =SUM(AC13:AC23) -> 0
K25: Beruházásra forrás nem áll rendelkezésre.
B26: Tervezett feladatok nettó költsége a teljes ütem tekintetében (eFt) | C26: Rendelkezésre álló források számszerűsített értéke a teljes ütem tekintetében (eFt) | D26: Rendelkezésre álló források megnevezése
A27: I. ütem | B27: =O24 -> 0 | C27: 0 | D27: Fejlesztési díj (2021)
A28: II. ütem | B28: =SUM(P24:S24) -> 0 | C28: =C27*4 -> 0 | D28: Fejlesztési díj (2022-2025)
A29: III. ütem | B29: =SUM(T24:AC24) -> 0 | C29: =C27*10 -> 0 | D29: Fejlesztési díj (2026-2035)
B31: Jelenleg beruházási igény nem ismert, nincs rendelkezésre álló forrás beruházásra.

Sheet Gősfa
A2: Gördülő fejlesztési terv a 2021 - 2035 időszakra
A3: BERUHÁZÁSOK ÖSSZEFOGLALÓ TÁBLÁZATA
A4: A tervet benyújtó szervezet megnevezése: | K4: GŐSFA | R4: ellátásért felelős / ellátásért felelősök képviselője / víziközmű-szolgáltató *
A5: Víziközmű-szolgáltató megnevezése: | K5: ÉSZAK ZALAI VÍZ- ÉS CSATORNAMŰ ZÁRTKÖRŰEN MŰKÖDŐ RÉSZVÉNYTÁRSASÁG
A6: Víziközmű-szolgáltatási ágazat megnevezése: | K6: SZENNYVÍZ ÁGAZAT
A7: Véleményeltérést megfogalmazó érintett fél megnevezése:
A8: Víziközmű-rendszer kódja: ** | K8: 21-32054-1-048-01-10 | R8: Zalaegerszeg-SZV
A9: V. Szennyvízelvezetés
A10: Fontossági sorrend | B10: Beruházás megnevezése | E10: Műszaki állapot felmérés, szükségességi indoklás | H10: Vízjogi létesítési/elvi engedély száma | I10: Az érintett ellátásért felelős(ök) megnevezése | J10: Tervezett nettó költség | K10: Forrás 2021 évre | L10: Megvalósítás időtartama | N10: Tervezett időtáv | O10: A beruházás ütemezése a tervezési időszak évei szerint
E11: Jelenlegi műszaki állapot | F11: Feladat szükségessége | G11: Megvalósítást követő várható műszaki állapot | J11: (eFt) | L11: Kezdés | M11: Befejezés | N11: (rövid / közép / hosszú) | O11: 1 | P11: 2 | Q11: 3 | R11: 4 | S11: 5 | T11: 6 | U11: 7 | V11: 8 | W11: 9 | X11: 10 | Y11: 11 | Z11: 12 | AA11: 13 | AB11: 14 | AC11: 15
B12: szakág | C12: Helyszín | D12: beruházás megnevezése
B14: SZENNYVÍZCSATORNA (GRAVITÁCIÓS)
B15: Épület, építmény
B17: SZENNYVÍZVEZETÉKEK (KÉNYSZERÁRAMOLTATÁSÚ)
B19: SZENNYVÍZÁTEMELŐK
B20: Épület, építmény
B21: Gép, berendezés
B22: Irányítástechnika, energiaellátás
B24: Összesen: | J24: =SUM(J14:J23) -> 0 | K24: 0 | O24: =SUM(O13:O23) -> 0 | P24: =SUM(P13:P23) -> 0 | Q24: =SUM(Q13:Q23) -> 0 | R24: =SUM(R13:R23) -> 0 | S24: =SUM(S13:S23) -> 0 | T24: =SUM(T13:T23) -> 0 | U24: =SUM(U13:U23) -> 0 | V24: =SUM(V13:V23) -> 0 | ... AC24: =SUM(AC13:AC23) -> 0
K25: Beruházásra forrás nem áll rendelkezésre.
B26: Tervezett feladatok nettó költsége a teljes ütem tekintetében (eFt) | C26: Rendelkezésre álló források számszerűsített értéke a teljes ütem tekintetében (eFt) | D26: Rendelkezésre álló források megnevezése
A27: I. ütem | B27: =O24 -> 0 | C27: 0 | D27: Fejlesztési díj (2021)
A28: II. ütem | B28: =SUM(P24:S24) -> 0 | C28: =C27*4 -> 0 | D28: Fejlesztési díj (2022-2025)
A29: III. ütem | B29: =SUM(T24:AC24) -> 0 | C29: =C27*10 -> 0 | D29: Fejlesztési díj (2026-2035)
B31: Jelenleg beruházási igény nem ismert, nincs rendelkezésre álló forrás beruházásra.

Sheet Hagyárosbörönd
A2: Gördülő fejlesztési terv a 2021 - 2035 időszakra
A3: BERUHÁZÁSOK ÖSSZEFOGLALÓ TÁBLÁZATA
A4: A tervet benyújtó szervezet megnevezése: | K4: HAGYÁROSBÖRÖND | R4: ellátásért felelős / ellátásért felelősök képviselője / víziközmű-szolgáltató *
A5: Víziközmű-szolgáltató megnevezése: | K5: ÉSZAK ZALAI VÍZ- ÉS CSATORNAMŰ ZÁRTKÖRŰEN MŰKÖDŐ RÉSZVÉNYTÁRSASÁG
A6: Víziközmű-szolgáltatási ágazat megnevezése: | K6: SZENNYVÍZ ÁGAZAT
A7: Véleményeltérést megfogalmazó érintett fél megnevezése:
A8: Víziközmű-rendszer kódja: ** | K8: 21-32054-1-048-01-10 | R8: Zalaegerszeg-SZV
A9: V. Szennyvízelvezetés
A10: Fontossági sorrend | B10: Beruházás megnevezése | E10: Műszaki állapot felmérés, szükségességi indoklás | H10: Vízjogi létesítési/elvi engedély száma | I10: Az érintett ellátásért felelős(ök) megnevezése | J10: Tervezett nettó költség | K10: Forrás 2021 évre | L10: Megvalósítás időtartama | N10: Tervezett időtáv | O10: A beruházás ütemezése a tervezési időszak évei szerint
E11: Jelenlegi műszaki állapot | F11: Feladat szükségessége | G11: Megvalósítást követő várható műszaki állapot | J11: (eFt) | L11: Kezdés | M11: Befejezés | N11: (rövid / közép / hosszú) | O11: 1 | P11: 2 | Q11: 3 | R11: 4 | S11: 5 | T11: 6 | U11: 7 | V11: 8 | W11: 9 | X11: 10 | Y11: 11 | Z11: 12 | AA11: 13 | AB11: 14 | AC11: 15
B12: szakág | C12: Helyszín | D12: beruházás megnevezése
B14: SZENNYVÍZCSATORNA (GRAVITÁCIÓS)
B15: Épület, építmény
B17: SZENNYVÍZVEZETÉKEK (KÉNYSZERÁRAMOLTATÁSÚ)
B19: SZENNYVÍZÁTEMELŐK
B20: Épület, építmény
B21: Gép, berendezés
B22: Irányítástechnika, energiaellátás
B24: Összesen: | J24: =SUM(J14:J23) -> 0 | K24: 0 | O24: =SUM(O13:O23) -> 0 | P24: =SUM(P13:P23) -> 0 | Q24: =SUM(Q13:Q23) -> 0 | R24: =SUM(R13:R23) -> 0 | S24: =SUM(S13:S23) -> 0 | T24: =SUM(T13:T23) -> 0 | U24: =SUM(U13:U23) -> 0 | V24: =SUM(V13:V23) -> 0 | ... AC24: =SUM(AC13:AC23) -> 0
K25: Beruházásra forrás nem áll rendelkezésre.
B26: Tervezett feladatok nettó költsége a teljes ütem tekintetében (eFt) | C26: Rendelkezésre álló források számszerűsített értéke a teljes ütem tekintetében (eFt) | D26: Rendelkezésre álló források megnevezése
A27: I. ütem | B27: =O24 -> 0 | C27: 0 | D27: Fejlesztési díj (2021)
A28: II. ütem | B28: =SUM(P24:S24) -> 0 | C28: =C27*4 -> 0 | D28: Fejlesztési díj (2022-2025)
A29: III. ütem | B29: =SUM(T24:AC24) -> 0 | C29: =C27*10 -> 0 | D29: Fejlesztési díj (2026-2035)
B31: Jelenleg beruházási igény nem ismert, nincs rendelkezésre álló forrás beruházásra.

Sheet Hottó
A2: Gördülő fejlesztési terv a 2021 - 2035 időszakra
A3: BERUHÁZÁSOK ÖSSZEFOGLALÓ TÁBLÁZATA
A4: A tervet benyújtó szervezet megnevezése: | K4: HOTTÓ | R4: ellátásért felelős / ellátásért felelősök képviselője / víziközmű-szolgáltató *
A5: Víziközmű-szolgáltató megnevezése: | K5: ÉSZAK ZALAI VÍZ- ÉS CSATORNAMŰ ZÁRTKÖRŰEN MŰKÖDŐ RÉSZVÉNYTÁRSASÁG
A6: Víziközmű-szolgáltatási ágazat megnevezése: | K6: SZENNYVÍZ ÁGAZAT
A7: Véleményeltérést megfogalmazó érintett fél megnevezése:
A8: Víziközmű-rendszer kódja: ** | K8: 21-32054-1-048-01-10 | R8: Zalaegerszeg-SZV
A9: V. Szennyvízelvezetés
A10: Fontossági sorrend | B10: Beruházás megnevezése | E10: Műszaki állapot felmérés, szükségességi indoklás | H10: Vízjogi létesítési/elvi engedély száma | I10: Az érintett ellátásért felelős(ök) megnevezése | J10: Tervezett nettó költség | K10: Forrás 2021 évre | L10: Megvalósítás időtartama | N10: Tervezett időtáv | O10: A beruházás ütemezése a tervezési időszak évei szerint
E11: Jelenlegi műszaki állapot | F11: Feladat szükségessége | G11: Megvalósítást követő várható műszaki állapot | J11: (eFt) | L11: Kezdés | M11: Befejezés | N11: (rövid / közép / hosszú) | O11: 1 | P11: 2 | Q11: 3 | R11: 4 | S11: 5 | T11: 6 | U11: 7 | V11: 8 | W11: 9 | X11: 10 | Y11: 11 | Z11: 12 | AA11: 13 | AB11: 14 | AC11: 15
B12: szakág | C12: Helyszín | D12: beruházás megnevezése
B14: SZENNYVÍZCSATORNA (GRAVITÁCIÓS)
B15: Épület, építmény
B17: SZENNYVÍZVEZETÉKEK (KÉNYSZERÁRAMOLTATÁSÚ)
B19: SZENNYVÍZÁTEMELŐK
B20: Épület, építmény
B21: Gép, berendezés
B22: Irányítástechnika, energiaellátás
B24: Összesen: | J24: =SUM(J14:J23) -> 0 | K24: 0 | O24: =SUM(O13:O23) -> 0 | P24: =SUM(P13:P23) -> 0 | Q24: =SUM(Q13:Q23) -> 0 | R24: =SUM(R13:R23) -> 0 | S24: =SUM(S13:S23) -> 0 | T24: =SUM(T13:T23) -> 0 | U24: =SUM(U13:U23) -> 0 | V24: =SUM(V13:V23) -> 0 | ... AC24: =SUM(AC13:AC23) -> 0
K25: Beruházásra forrás nem áll rendelkezésre.
B26: Tervezett feladatok nettó költsége a teljes ütem tekintetében (eFt) | C26: Rendelkezésre álló források számszerűsített értéke a teljes ütem tekintetében (eFt) | D26: Rendelkezésre álló források megnevezése
A27: I. ütem | B27: =O24 -> 0 | C27: 0 | D27: Fejlesztési díj (2021)
A28: II. ütem | B28: =SUM(P24:S24) -> 0 | C28: =C27*4 -> 0 | D28: Fejlesztési díj (2022-2025)
A29: III. ütem | B29: =SUM(T24:AC24) -> 0 | C29: =C27*10 -> 0 | D29: Fejlesztési díj (2026-2035)
B31: Jelenleg beruházási igény nem ismert, nincs rendelkezésre álló forrás beruházásra.

Sheet Kávás
A2: Gördülő fejlesztési terv a 2021 - 2035 időszakra
A3: BERUHÁZÁSOK ÖSSZEFOGLALÓ TÁBLÁZATA
A4: A tervet benyújtó szervezet megnevezése: | K4: KÁVÁS | R4: ellátásért felelős / ellátásért felelősök képviselője / víziközmű-szolgáltató *
A5: Víziközmű-szolgáltató megnevezése: | K5: ÉSZAK ZALAI VÍZ- ÉS CSATORNAMŰ ZÁRTKÖRŰEN MŰKÖDŐ RÉSZVÉNYTÁRSASÁG
A6: Víziközmű-szolgáltatási ágazat megnevezése: | K6: SZENNYVÍZ ÁGAZAT
A7: Véleményeltérést megfogalmazó érintett fél megnevezése:
A8: Víziközmű-rendszer kódja: ** | K8: 21-32054-1-048-01-10 | R8: Zalaegerszeg-SZV
A9: V. Szennyvízelvezetés
A10: Fontossági sorrend | B10: Beruházás megnevezése | E10: Műszaki állapot felmérés, szükségességi indoklás | H10: Vízjogi létesítési/elvi engedély száma | I10: Az érintett ellátásért felelős(ök) megnevezése | J10: Tervezett nettó költség | K10: Forrás 2021 évre | L10: Megvalósítás időtartama | N10: Tervezett időtáv | O10: A beruházás ütemezése a tervezési időszak évei szerint
E11: Jelenlegi műszaki állapot | F11: Feladat szükségessége | G11: Megvalósítást követő várható műszaki állapot | J11: (eFt) | L11: Kezdés | M11: Befejezés | N11: (rövid / közép / hosszú) | O11: 1 | P11: 2 | Q11: 3 | R11: 4 | S11: 5 | T11: 6 | U11: 7 | V11: 8 | W11: 9 | X11: 10 | Y11: 11 | Z11: 12 | AA11: 13 | AB11: 14 | AC11: 15
B12: szakág | C12: Helyszín | D12: beruházás megnevezése
B14: SZENNYVÍZCSATORNA (GRAVITÁCIÓS)
B15: Épület, építmény
B17: SZENNYVÍZVEZETÉKEK (KÉNYSZERÁRAMOLTATÁSÚ)
B19: SZENNYVÍZÁTEMELŐK
B20: Épület, építmény
B21: Gép, berendezés
B22: Irányítástechnika, energiaellátás
B24: Összesen: | J24: =SUM(J14:J23) -> 0 | K24: 0 | O24: =SUM(O13:O23) -> 0 | P24: =SUM(P13:P23) -> 0 | Q24: =SUM(Q13:Q23) -> 0 | R24: =SUM(R13:R23) -> 0 | S24: =SUM(S13:S23) -> 0 | T24: =SUM(T13:T23) -> 0 | U24: =SUM(U13:U23) -> 0 | V24: =SUM(V13:V23) -> 0 | ... AC24: =SUM(AC13:AC23) -> 0
K25: Beruházásra forrás nem áll rendelkezésre.
B26: Tervezett feladatok nettó költsége a teljes ütem tekintetében (eFt) | C26: Rendelkezésre álló források számszerűsített értéke a teljes ütem tekintetében (eFt) | D26: Rendelkezésre álló források megnevezése
A27: I. ütem | B27: =O24 -> 0 | C27: 0 | D27: Fejlesztési díj (2021)
A28: II. ütem | B28: =SUM(P24:S24) -> 0 | C28: =C27*4 -> 0 | D28: Fejlesztési díj (2022-2025)
A29: III. ütem | B29: =SUM(T24:AC24) -> 0 | C29: =C27*10 -> 0 | D29: Fejlesztési díj (2026-2035)
B31: Jelenleg beruházási igény nem ismert, nincs rendelkezésre álló forrás beruházásra.

Sheet Kemendollár
A2: Gördülő fejlesztési terv a 2021 - 2035 időszakra
A3: BERUHÁZÁSOK ÖSSZEFOGLALÓ TÁBLÁZATA
A4: A tervet benyújtó szervezet megnevezése: | K4: KEMENDOLLÁR | R4: ellátásért felelős / ellátásért felelősök képviselője / víziközmű-szolgáltató *
A5: Víziközmű-szolgáltató megnevezése: | K5: ÉSZAK ZALAI VÍZ- ÉS CSATORNAMŰ ZÁRTKÖRŰEN MŰKÖDŐ RÉSZVÉNYTÁRSASÁG
A6: Víziközmű-szolgáltatási ágazat megnevezése: | K6: SZENNYVÍZ ÁGAZAT
A7: Véleményeltérést megfogalmazó érintett fél megnevezése:
A8: Víziközmű-rendszer kódja: ** | K8: 21-32054-1-048-01-10 | R8: Zalaegerszeg-SZV
A9: V. Szennyvízelvezetés
A10: Fontossági sorrend | B10: Beruházás megnevezése | E10: Műszaki állapot felmérés, szükségességi indoklás | H10: Vízjogi létesítési/elvi engedély száma | I10: Az érintett ellátásért felelős(ök) megnevezése | J10: Tervezett nettó költség | K10: Forrás 2021 évre | L10: Megvalósítás időtartama | N10: Tervezett időtáv | O10: A beruházás ütemezése a tervezési időszak évei szerint
E11: Jelenlegi műszaki állapot | F11: Feladat szükségessége | G11: Megvalósítást követő várható műszaki állapot | J11: (eFt) | L11: Kezdés | M11: Befejezés | N11: (rövid / közép / hosszú) | O11: 1 | P11: 2 | Q11: 3 | R11: 4 | S11: 5 | T11: 6 | U11: 7 | V11: 8 | W11: 9 | X11: 10 | Y11: 11 | Z11: 12 | AA11: 13 | AB11: 14 | AC11: 15
B12: szakág | C12: Helyszín | D12: beruházás megnevezése
B14: SZENNYVÍZCSATORNA (GRAVITÁCIÓS)
B15: Épület, építmény
B17: SZENNYVÍZVEZETÉKEK (KÉNYSZERÁRAMOLTATÁSÚ)
B19: SZENNYVÍZÁTEMELŐK
B20: Épület, építmény
B21: Gép, berendezés
B22: Irányítástechnika, energiaellátás
B24: Összesen: | J24: =SUM(J14:J23) -> 0 | K24: 0 | O24: =SUM(O13:O23) -> 0 | P24: =SUM(P13:P23) -> 0 | Q24: =SUM(Q13:Q23) -> 0 | R24: =SUM(R13:R23) -> 0 | S24: =SUM(S13:S23) -> 0 | T24: =SUM(T13:T23) -> 0 | U24: =SUM(U13:U23) -> 0 | V24: =SUM(V13:V23) -> 0 | ... AC24: =SUM(AC13:AC23) -> 0
K25: Beruházásra forrás nem áll rendelkezésre.
B26: Tervezett feladatok nettó költsége a teljes ütem tekintetében (eFt) | C26: Rendelkezésre álló források számszerűsített értéke a teljes ütem tekintetében (eFt) | D26: Rendelkezésre álló források megnevezése
A27: I. ütem | B27: =O24 -> 0 | C27: 0 | D27: Fejlesztési díj (2021)
A28: II. ütem | B28: =SUM(P24:S24) -> 0 | C28: =C27*4 -> 0 | D28: Fejlesztési díj (2022-2025)
A29: III. ütem | B29: =SUM(T24:AC24) -> 0 | C29: =C27*10 -> 0 | D29: Fejlesztési díj (2026-2035)
B31: Jelenleg beruházási igény nem ismert, nincs rendelkezésre álló forrás beruházásra.

Sheet Keménfa
A2: Gördülő fejlesztési terv a 2021 - 2035 időszakra
A3: BERUHÁZÁSOK ÖSSZEFOGLALÓ TÁBLÁZATA
A4: A tervet benyújtó szervezet megnevezése: | K4: KEMÉNFA | R4: ellátásért felelős / ellátásért felelősök képviselője / víziközmű-szolgáltató *
A5: Víziközmű-szolgáltató megnevezése: | K5: ÉSZAK ZALAI VÍZ- ÉS CSATORNAMŰ ZÁRTKÖRŰEN MŰKÖDŐ RÉSZVÉNYTÁRSASÁG
A6: Víziközmű-szolgáltatási ágazat megnevezése: | K6: SZENNYVÍZ ÁGAZAT
A7: Véleményeltérést megfogalmazó érintett fél megnevezése:
A8: Víziközmű-rendszer kódja: ** | K8: 21-32054-1-048-01-10 | R8: Zalaegerszeg-SZV
A9: V. Szennyvízelvezetés
A10: Fontossági sorrend | B10: Beruházás megnevezése | E10: Műszaki állapot felmérés, szükségességi indoklás | H10: Vízjogi létesítési/elvi engedély száma | I10: Az érintett ellátásért felelős(ök) megnevezése | J10: Tervezett nettó költség | K10: Forrás 2021 évre | L10: Megvalósítás időtartama | N10: Tervezett időtáv | O10: A beruházás ütemezése a tervezési időszak évei szerint
E11: Jelenlegi műszaki állapot | F11: Feladat szükségessége | G11: Megvalósítást követő várható műszaki állapot | J11: (eFt) | L11: Kezdés | M11: Befejezés | N11: (rövid / közép / hosszú) | O11: 1 | P11: 2 | Q11: 3 | R11: 4 | S11: 5 | T11: 6 | U11: 7 | V11: 8 | W11: 9 | X11: 10 | Y11: 11 | Z11: 12 | AA11: 13 | AB11: 14 | AC11: 15
B12: szakág | C12: Helyszín | D12: beruházás megnevezése
B14: SZENNYVÍZCSATORNA (GRAVITÁCIÓS)
B15: Épület, építmény
B17: SZENNYVÍZVEZETÉKEK (KÉNYSZERÁRAMOLTATÁSÚ)
B19: SZENNYVÍZÁTEMELŐK
B20: Épület, építmény
B21: Gép, berendezés
B22: Irányítástechnika, energiaellátás
B24: Összesen: | J24: =SUM(J14:J23) -> 0 | K24: 0 | O24: =SUM(O13:O23) -> 0 | P24: =SUM(P13:P23) -> 0 | Q24: =SUM(Q13:Q23) -> 0 | R24: =SUM(R13:R23) -> 0 | S24: =SUM(S13:S23) -> 0 | T24: =SUM(T13:T23) -> 0 | U24: =SUM(U13:U23) -> 0 | V24: =SUM(V13:V23) -> 0 | ... AC24: =SUM(AC13:AC23) -> 0
K25: Beruházásra forrás nem áll rendelkezésre.
B26: Tervezett feladatok nettó költsége a teljes ütem tekintetében (eFt) | C26: Rendelkezésre álló források számszerűsített értéke a teljes ütem tekintetében (eFt) | D26: Rendelkezésre álló források megnevezése
A27: I. ütem | B27: =O24 -> 0 | C27: 0 | D27: Fejlesztési díj (2021)
A28: II. ütem | B28: =SUM(P24:S24) -> 0 | C28: =C27*4 -> 0 | D28: Fejlesztési díj (2022-2025)
A29: III. ütem | B29: =SUM(T24:AC24) -> 0 | C29: =C27*10 -> 0 | D29: Fejlesztési díj (2026-2035)
B31: Jelenleg beruházási igény nem ismert, nincs rendelkezésre álló forrás beruházásra.

Sheet Kisbucsa
A2: Gördülő fejlesztési terv a 2021 - 2035 időszakra
A3: BERUHÁZÁSOK ÖSSZEFOGLALÓ TÁBLÁZATA
A4: A tervet benyújtó szervezet megnevezése: | K4: KISBUCSA | R4: ellátásért felelős / ellátásért felelősök képviselője / víziközmű-szolgáltató *
A5: Víziközmű-szolgáltató megnevezése: | K5: ÉSZAK ZALAI VÍZ- ÉS CSATORNAMŰ ZÁRTKÖRŰEN MŰKÖDŐ RÉSZVÉNYTÁRSASÁG
A6: Víziközmű-szolgáltatási ágazat megnevezése: | K6: SZENNYVÍZ ÁGAZAT
A7: Véleményeltérést megfogalmazó érintett fél megnevezése:
A8: Víziközmű-rendszer kódja: ** | K8: 21-32054-1-048-01-10 | R8: Zalaegerszeg-SZV
A9: V. Szennyvízelvezetés
A10: Fontossági sorrend | B10: Beruházás megnevezése | E10: Műszaki állapot felmérés, szükségességi indoklás | H10: Vízjogi létesítési/elvi engedély száma | I10: Az érintett ellátásért felelős(ök) megnevezése | J10: Tervezett nettó költség | K10: Forrás 2021 évre | L10: Megvalósítás időtartama | N10: Tervezett időtáv | O10: A beruházás ütemezése a tervezési időszak évei szerint
E11: Jelenlegi műszaki állapot | F11: Feladat szükségessége | G11: Megvalósítást követő várható műszaki állapot | J11: (eFt) | L11: Kezdés | M11: Befejezés | N11: (rövid / közép / hosszú) | O11: 1 | P11: 2 | Q11: 3 | R11: 4 | S11: 5 | T11: 6 | U11: 7 | V11: 8 | W11: 9 | X11: 10 | Y11: 11 | Z11: 12 | AA11: 13 | AB11: 14 | AC11: 15
B12: szakág | C12: Helyszín | D12: beruházás megnevezése
B14: SZENNYVÍZCSATORNA (GRAVITÁCIÓS)
B15: Épület, építmény
B17: SZENNYVÍZVEZETÉKEK (KÉNYSZERÁRAMOLTATÁSÚ)
B19: SZENNYVÍZÁTEMELŐK
B20: Épület, építmény
B21: Gép, berendezés
B22: Irányítástechnika, energiaellátás
B24: Összesen: | J24: =SUM(J14:J23) -> 0 | K24: 0 | O24: =SUM(O13:O23) -> 0 | P24: =SUM(P13:P23) -> 0 | Q24: =SUM(Q13:Q23) -> 0 | R24: =SUM(R13:R23) -> 0 | S24: =SUM(S13:S23) -> 0 | T24: =SUM(T13:T23) -> 0 | U24: =SUM(U13:U23) -> 0 | V24: =SUM(V13:V23) -> 0 | ... AC24: =SUM(AC13:AC23) -> 0
K25: Beruházásra forrás nem áll rendelkezésre.
B26: Tervezett feladatok nettó költsége a teljes ütem tekintetében (eFt) | C26: Rendelkezésre álló források számszerűsített értéke a teljes ütem tekintetében (eFt) | D26: Rendelkezésre álló források megnevezése
A27: I. ütem | B27: =O24 -> 0 | C27: 0 | D27: Fejlesztési díj (2021)
A28: II. ütem | B28: =SUM(P24:S24) -> 0 | C28: =C27*4 -> 0 | D28: Fejlesztési díj (2022-2025)
A29: III. ütem | B29: =SUM(T24:AC24) -> 0 | C29: =C27*10 -> 0 | D29: Fejlesztési díj (2026-2035)
B31: Jelenleg beruházási igény nem ismert, nincs rendelkezésre álló forrás beruházásra.

Sheet Kiskutas
A2: Gördülő fejlesztési terv a 2021 - 2035 időszakra
A3: BERUHÁZÁSOK ÖSSZEFOGLALÓ TÁBLÁZATA
A4: A tervet benyújtó szervezet megnevezése: | K4: KISKUTAS | R4: ellátásért felelős / ellátásért felelősök képviselője / víziközmű-szolgáltató *
A5: Víziközmű-szolgáltató megnevezése: | K5: ÉSZAK ZALAI VÍZ- ÉS CSATORNAMŰ ZÁRTKÖRŰEN MŰKÖDŐ RÉSZVÉNYTÁRSASÁG
A6: Víziközmű-szolgáltatási ágazat megnevezése: | K6: SZENNYVÍZ ÁGAZAT
A7: Véleményeltérést megfogalmazó érintett fél megnevezése:
A8: Víziközmű-rendszer kódja: ** | K8: 21-32054-1-048-01-10 | R8: Zalaegerszeg-SZV
A9: V. Szennyvízelvezetés
A10: Fontossági sorrend | B10: Beruházás megnevezése | E10: Műszaki állapot felmérés, szükségességi indoklás | H10: Vízjogi létesítési/elvi engedély száma | I10: Az érintett ellátásért felelős(ök) megnevezése | J10: Tervezett nettó költség | K10: Forrás 2021 évre | L10: Megvalósítás időtartama | N10: Tervezett időtáv | O10: A beruházás ütemezése a tervezési időszak évei szerint
E11: Jelenlegi műszaki állapot | F11: Feladat szükségessége | G11: Megvalósítást követő várható műszaki állapot | J11: (eFt) | L11: Kezdés | M11: Befejezés | N11: (rövid / közép / hosszú) | O11: 1 | P11: 2 | Q11: 3 | R11: 4 | S11: 5 | T11: 6 | U11: 7 | V11: 8 | W11: 9 | X11: 10 | Y11: 11 | Z11: 12 | AA11: 13 | AB11: 14 | AC11: 15
B12: szakág | C12: Helyszín | D12: beruházás megnevezése
B14: SZENNYVÍZCSATORNA (GRAVITÁCIÓS)
B15: Épület, építmény
B17: SZENNYVÍZVEZETÉKEK (KÉNYSZERÁRAMOLTATÁSÚ)
B19: SZENNYVÍZÁTEMELŐK
B20: Épület, építmény
B21: Gép, berendezés
B22: Irányítástechnika, energiaellátás
B24: Összesen: | J24: =SUM(J14:J23) -> 0 | K24: 0 | O24: =SUM(O13:O23) -> 0 | P24: =SUM(P13:P23) -> 0 | Q24: =SUM(Q13:Q23) -> 0 | R24: =SUM(R13:R23) -> 0 | S24: =SUM(S13:S23) -> 0 | T24: =SUM(T13:T23) -> 0 | U24: =SUM(U13:U23) -> 0 | V24: =SUM(V13:V23) -> 0 | ... AC24: =SUM(AC13:AC23) -> 0
K25: Beruházásra forrás nem áll rendelkezésre.
B26: Tervezett feladatok nettó költsége a teljes ütem tekintetében (eFt) | C26: Rendelkezésre álló források számszerűsített értéke a teljes ütem tekintetében (eFt) | D26: Rendelkezésre álló források megnevezése
A27: I. ütem | B27: =O24 -> 0 | C27: 0 | D27: Fejlesztési díj (2021)
A28: II. ütem | B28: =SUM(P24:S24) -> 0 | C28: =C27*4 -> 0 | D28: Fejlesztési díj (2022-2025)
A29: III. ütem | B29: =SUM(T24:AC24) -> 0 | C29: =C27*10 -> 0 | D29: Fejlesztési díj (2026-2035)
B31: Jelenleg beruházási igény nem ismert, nincs rendelkezésre álló forrás beruházásra.

Sheet Kispáli
A2: Gördülő fejlesztési terv a 2021 - 2035 időszakra
A3: BERUHÁZÁSOK ÖSSZEFOGLALÓ TÁBLÁZATA
A4: A tervet benyújtó szervezet megnevezése: | K4: KISPÁLI | R4: ellátásért felelős / ellátásért felelősök képviselője / víziközmű-szolgáltató *
A5: Víziközmű-szolgáltató megnevezése: | K5: ÉSZAK ZALAI VÍZ- ÉS CSATORNAMŰ ZÁRTKÖRŰEN MŰKÖDŐ RÉSZVÉNYTÁRSASÁG
A6: Víziközmű-szolgáltatási ágazat megnevezése: | K6: SZENNYVÍZ ÁGAZAT
A7: Véleményeltérést megfogalmazó érintett fél megnevezése:
A8: Víziközmű-rendszer kódja: ** | K8: 21-32054-1-048-01-10 | R8: Zalaegerszeg-SZV
A9: V. Szennyvízelvezetés
A10: Fontossági sorrend | B10: Beruházás megnevezése | E10: Műszaki állapot felmérés, szükségességi indoklás | H10: Vízjogi létesítési/elvi engedély száma | I10: Az érintett ellátásért felelős(ök) megnevezése | J10: Tervezett nettó költség | K10: Forrás 2021 évre | L10: Megvalósítás időtartama | N10: Tervezett időtáv | O10: A beruházás ütemezése a tervezési időszak évei szerint
E11: Jelenlegi műszaki állapot | F11: Feladat szükségessége | G11: Megvalósítást követő várható műszaki állapot | J11: (eFt) | L11: Kezdés | M11: Befejezés | N11: (rövid / közép / hosszú) | O11: 1 | P11: 2 | Q11: 3 | R11: 4 | S11: 5 | T11: 6 | U11: 7 | V11: 8 | W11: 9 | X11: 10 | Y11: 11 | Z11: 12 | AA11: 13 | AB11: 14 | AC11: 15
B12: szakág | C12: Helyszín | D12: beruházás megnevezése
B14: SZENNYVÍZCSATORNA (GRAVITÁCIÓS)
B15: Épület, építmény
B17: SZENNYVÍZVEZETÉKEK (KÉNYSZERÁRAMOLTATÁSÚ)
B19: SZENNYVÍZÁTEMELŐK
B20: Épület, építmény
B21: Gép, berendezés
B22: Irányítástechnika, energiaellátás
B24: Összesen: | J24: =SUM(J14:J23) -> 0 | K24: 0 | O24: =SUM(O13:O23) -> 0 | P24: =SUM(P13:P23) -> 0 | Q24: =SUM(Q13:Q23) -> 0 | R24: =SUM(R13:R23) -> 0 | S24: =SUM(S13:S23) -> 0 | T24: =SUM(T13:T23) -> 0 | U24: =SUM(U13:U23) -> 0 | V24: =SUM(V13:V23) -> 0 | ... AC24: =SUM(AC13:AC23) -> 0
K25: Beruházásra forrás nem áll rendelkezésre.
B26: Tervezett feladatok nettó költsége a teljes ütem tekintetében (eFt) | C26: Rendelkezésre álló források számszerűsített értéke a teljes ütem tekintetében (eFt) | D26: Rendelkezésre álló források megnevezése
A27: I. ütem | B27: =O24 -> 0 | C27: 0 | D27: Fejlesztési díj (2021)
A28: II. ütem | B28: =SUM(P24:S24) -> 0 | C28: =C27*4 -> 0 | D28: Fejlesztési díj (2022-2025)
A29: III. ütem | B29: =SUM(T24:AC24) -> 0 | C29: =C27*10 -> 0 | D29: Fejlesztési díj (2026-2035)
B31: Jelenleg beruházási igény nem ismert, nincs rendelkezésre álló forrás beruházásra.

Sheet Lakhegy
A2: Gördülő fejlesztési terv a 2021 - 2035 időszakra
A3: BERUHÁZÁSOK ÖSSZEFOGLALÓ TÁBLÁZATA
A4: A tervet benyújtó szervezet megnevezése: | K4: LAKHEGY | R4: ellátásért felelős / ellátásért felelősök képviselője / víziközmű-szolgáltató *
A5: Víziközmű-szolgáltató megnevezése: | K5: ÉSZAK ZALAI VÍZ- ÉS CSATORNAMŰ ZÁRTKÖRŰEN MŰKÖDŐ RÉSZVÉNYTÁRSASÁG
A6: Víziközmű-szolgáltatási ágazat megnevezése: | K6: SZENNYVÍZ ÁGAZAT
A7: Véleményeltérést megfogalmazó érintett fél megnevezése:
A8: Víziközmű-rendszer kódja: ** | K8: 21-32054-1-048-01-10 | R8: Zalaegerszeg-SZV
A9: V. Szennyvízelvezetés
A10: Fontossági sorrend | B10: Beruházás megnevezése | E10: Műszaki állapot felmérés, szükségességi indoklás | H10: Vízjogi létesítési/elvi engedély száma | I10: Az érintett ellátásért felelős(ök) megnevezése | J10: Tervezett nettó költség | K10: Forrás 2021 évre | L10: Megvalósítás időtartama | N10: Tervezett időtáv | O10: A beruházás ütemezése a tervezési időszak évei szerint
E11: Jelenlegi műszaki állapot | F11: Feladat szükségessége | G11: Megvalósítást követő várható műszaki állapot | J11: (eFt) | L11: Kezdés | M11: Befejezés | N11: (rövid / közép / hosszú) | O11: 1 | P11: 2 | Q11: 3 | R11: 4 | S11: 5 | T11: 6 | U11: 7 | V11: 8 | W11: 9 | X11: 10 | Y11: 11 | Z11: 12 | AA11: 13 | AB11: 14 | AC11: 15
B12: szakág | C12: Helyszín | D12: beruházás megnevezése
B14: SZENNYVÍZCSATORNA (GRAVITÁCIÓS)
B15: Épület, építmény
B17: SZENNYVÍZVEZETÉKEK (KÉNYSZERÁRAMOLTATÁSÚ)
B19: SZENNYVÍZÁTEMELŐK
B20: Épület, építmény
B21: Gép, berendezés
B22: Irányítástechnika, energiaellátás
B24: Összesen: | J24: =SUM(J14:J23) -> 0 | K24: 0 | O24: =SUM(O13:O23) -> 0 | P24: =SUM(P13:P23) -> 0 | Q24: =SUM(Q13:Q23) -> 0 | R24: =SUM(R13:R23) -> 0 | S24: =SUM(S13:S23) -> 0 | T24: =SUM(T13:T23) -> 0 | U24: =SUM(U13:U23) -> 0 | V24: =SUM(V13:V23) -> 0 | ... AC24: =SUM(AC13:AC23) -> 0
K25: Beruházásra forrás nem áll rendelkezésre.
B26: Tervezett feladatok nettó költsége a teljes ütem tekintetében (eFt) | C26: Rendelkezésre álló források számszerűsített értéke a teljes ütem tekintetében (eFt) | D26: Rendelkezésre álló források megnevezése
A27: I. ütem | B27: =O24 -> 0 | C27: 0 | D27: Fejlesztési díj (2021)
A28: II. ütem | B28: =SUM(P24:S24) -> 0 | C28: =C27*4 -> 0 | D28: Fejlesztési díj (2022-2025)
A29: III. ütem | B29: =SUM(T24:AC24) -> 0 | C29: =C27*10 -> 0 | D29: Fejlesztési díj (2026-2035)
B31: Jelenleg beruházási igény nem ismert, nincs rendelkezésre álló forrás beruházásra.

Sheet Nagykutas
A2: Gördülő fejlesztési terv a 2021 - 2035 időszakra
A3: BERUHÁZÁSOK ÖSSZEFOGLALÓ TÁBLÁZATA
A4: A tervet benyújtó szervezet megnevezése: | K4: NAGYKUTAS | R4: ellátásért felelős / ellátásért felelősök képviselője / víziközmű-szolgáltató *
A5: Víziközmű-szolgáltató megnevezése: | K5: ÉSZAK ZALAI VÍZ- ÉS CSATORNAMŰ ZÁRTKÖRŰEN MŰKÖDŐ RÉSZVÉNYTÁRSASÁG
A6: Víziközmű-szolgáltatási ágazat megnevezése: | K6: SZENNYVÍZ ÁGAZAT
A7: Véleményeltérést megfogalmazó érintett fél megnevezése:
A8: Víziközmű-rendszer kódja: ** | K8: 21-32054-1-048-01-10 | R8: Zalaegerszeg-SZV
A9: V. Szennyvízelvezetés
A10: Fontossági sorrend | B10: Beruházás megnevezése | E10: Műszaki állapot felmérés, szükségességi indoklás | H10: Vízjogi létesítési/elvi engedély száma | I10: Az érintett ellátásért felelős(ök) megnevezése | J10: Tervezett nettó költség | K10: Forrás 2021 évre | L10: Megvalósítás időtartama | N10: Tervezett időtáv | O10: A beruházás ütemezése a tervezési időszak évei szerint
E11: Jelenlegi műszaki állapot | F11: Feladat szükségessége | G11: Megvalósítást követő várható műszaki állapot | J11: (eFt) | L11: Kezdés | M11: Befejezés | N11: (rövid / közép / hosszú) | O11: 1 | P11: 2 | Q11: 3 | R11: 4 | S11: 5 | T11: 6 | U11: 7 | V11: 8 | W11: 9 | X11: 10 | Y11: 11 | Z11: 12 | AA11: 13 | AB11: 14 | AC11: 15
B12: szakág | C12: Helyszín | D12: beruházás megnevezése
B14: SZENNYVÍZCSATORNA (GRAVITÁCIÓS)
B15: Épület, építmény
B17: SZENNYVÍZVEZETÉKEK (KÉNYSZERÁRAMOLTATÁSÚ)
B19: SZENNYVÍZÁTEMELŐK
B20: Épület, építmény
B21: Gép, berendezés
B22: Irányítástechnika, energiaellátás
B24: Összesen: | J24: =SUM(J14:J23) -> 0 | K24: 0 | O24: =SUM(O13:O23) -> 0 | P24: =SUM(P13:P23) -> 0 | Q24: =SUM(Q13:Q23) -> 0 | R24: =SUM(R13:R23) -> 0 | S24: =SUM(S13:S23) -> 0 | T24: =SUM(T13:T23) -> 0 | U24: =SUM(U13:U23) -> 0 | V24: =SUM(V13:V23) -> 0 | ... AC24: =SUM(AC13:AC23) -> 0
K25: Beruházásra forrás nem áll rendelkezésre.
B26: Tervezett feladatok nettó költsége a teljes ütem tekintetében (eFt) | C26: Rendelkezésre álló források számszerűsített értéke a teljes ütem tekintetében (eFt) | D26: Rendelkezésre álló források megnevezése
A27: I. ütem | B27: =O24 -> 0 | C27: 0 | D27: Fejlesztési díj (2021)
A28: II. ütem | B28: =SUM(P24:S24) -> 0 | C28: =C27*4 -> 0 | D28: Fejlesztési díj (2022-2025)
A29: III. ütem | B29: =SUM(T24:AC24) -> 0 | C29: =C27*10 -> 0 | D29: Fejlesztési díj (2026-2035)
B31: Jelenleg beruházási igény nem ismert, nincs rendelkezésre álló forrás beruházásra.

Sheet Nagypáli
A2: Gördülő fejlesztési terv a 2021 - 2035 időszakra
A3: BERUHÁZÁSOK ÖSSZEFOGLALÓ TÁBLÁZATA
A4: A tervet benyújtó szervezet megnevezése: | K4: NAGYPÁLI | R4: ellátásért felelős / ellátásért felelősök képviselője / víziközmű-szolgáltató *
A5: Víziközmű-szolgáltató megnevezése: | K5: ÉSZAK ZALAI VÍZ- ÉS CSATORNAMŰ ZÁRTKÖRŰEN MŰKÖDŐ RÉSZVÉNYTÁRSASÁG
A6: Víziközmű-szolgáltatási ágazat megnevezése: | K6: SZENNYVÍZ ÁGAZAT
A7: Véleményeltérést megfogalmazó érintett fél megnevezése:
A8: Víziközmű-rendszer kódja: ** | K8: 21-32054-1-048-01-10 | R8: Zalaegerszeg-SZV
A9: V. Szennyvízelvezetés
A10: Fontossági sorrend | B10: Beruházás megnevezése | E10: Műszaki állapot felmérés, szükségességi indoklás | H10: Vízjogi létesítési/elvi engedély száma | I10: Az érintett ellátásért felelős(ök) megnevezése | J10: Tervezett nettó költség | K10: Forrás 2021 évre | L10: Megvalósítás időtartama | N10: Tervezett időtáv | O10: A beruházás ütemezése a tervezési időszak évei szerint
E11: Jelenlegi műszaki állapot | F11: Feladat szükségessége | G11: Megvalósítást követő várható műszaki állapot | J11: (eFt) | L11: Kezdés | M11: Befejezés | N11: (rövid / közép / hosszú) | O11: 1 | P11: 2 | Q11: 3 | R11: 4 | S11: 5 | T11: 6 | U11: 7 | V11: 8 | W11: 9 | X11: 10 | Y11: 11 | Z11: 12 | AA11: 13 | AB11: 14 | AC11: 15
B12: szakág | C12: Helyszín | D12: beruházás megnevezése
B14: SZENNYVÍZCSATORNA (GRAVITÁCIÓS)
B15: Épület, építmény
B17: SZENNYVÍZVEZETÉKEK (KÉNYSZERÁRAMOLTATÁSÚ)
B19: SZENNYVÍZÁTEMELŐK
B20: Épület, építmény
B21: Gép, berendezés
B22: Irányítástechnika, energiaellátás
B24: Összesen: | J24: =SUM(J14:J23) -> 0 | K24: 0 | O24: =SUM(O13:O23) -> 0 | P24: =SUM(P13:P23) -> 0 | Q24: =SUM(Q13:Q23) -> 0 | R24: =SUM(R13:R23) -> 0 | S24: =SUM(S13:S23) -> 0 | T24: =SUM(T13:T23) -> 0 | U24: =SUM(U13:U23) -> 0 | V24: =SUM(V13:V23) -> 0 | ... AC24: =SUM(AC13:AC23) -> 0
K25: Beruházásra forrás nem áll rendelkezésre.
B26: Tervezett feladatok nettó költsége a teljes ütem tekintetében (eFt) | C26: Rendelkezésre álló források számszerűsített értéke a teljes ütem tekintetében (eFt) | D26: Rendelkezésre álló források megnevezése
A27: I. ütem | B27: =O24 -> 0 | C27: 0 | D27: Fejlesztési díj (2021)
A28: II. ütem | B28: =SUM(P24:S25) -> 0 | C28: =C27*4 -> 0 | D28: Fejlesztési díj (2022-2025)
A29: III. ütem | B29: =SUM(T24:AC24) -> 0 | C29: =C27*10 -> 0 | D29: Fejlesztési díj (2026-2035)
B31: Jelenleg beruházási igény nem ismert, nincs rendelkezésre álló forrás beruházásra.

Sheet Nemesapáti
A2: Gördülő fejlesztési terv a 2021 - 2035 időszakra
A3: BERUHÁZÁSOK ÖSSZEFOGLALÓ TÁBLÁZATA
A4: A tervet benyújtó szervezet megnevezése: | K4: NEMESAPÁTI | R4: ellátásért felelős / ellátásért felelősök képviselője / víziközmű-szolgáltató *
A5: Víziközmű-szolgáltató megnevezése: | K5: ÉSZAK ZALAI VÍZ- ÉS CSATORNAMŰ ZÁRTKÖRŰEN MŰKÖDŐ RÉSZVÉNYTÁRSASÁG
A6: Víziközmű-szolgáltatási ágazat megnevezése: | K6: SZENNYVÍZ ÁGAZAT
A7: Véleményeltérést megfogalmazó érintett fél megnevezése:
A8: Víziközmű-rendszer kódja: ** | K8: 21-32054-1-048-01-10 | R8: Zalaegerszeg-SZV
A9: V. Szennyvízelvezetés
A10: Fontossági sorrend | B10: Beruházás megnevezése | E10: Műszaki állapot felmérés, szükségességi indoklás | H10: Vízjogi létesítési/elvi engedély száma | I10: Az érintett ellátásért felelős(ök) megnevezése | J10: Tervezett nettó költség | K10: Forrás 2021 évre | L10: Megvalósítás időtartama | N10: Tervezett időtáv | O10: A beruházás ütemezése a tervezési időszak évei szerint
E11: Jelenlegi műszaki állapot | F11: Feladat szükségessége | G11: Megvalósítást követő várható műszaki állapot | J11: (eFt) | L11: Kezdés | M11: Befejezés | N11: (rövid / közép / hosszú) | O11: 1 | P11: 2 | Q11: 3 | R11: 4 | S11: 5 | T11: 6 | U11: 7 | V11: 8 | W11: 9 | X11: 10 | Y11: 11 | Z11: 12 | AA11: 13 | AB11: 14 | AC11: 15
B12: szakág | C12: Helyszín | D12: beruházás megnevezése
B14: SZENNYVÍZCSATORNA (GRAVITÁCIÓS)
B15: Épület, építmény
B17: SZENNYVÍZVEZETÉKEK (KÉNYSZERÁRAMOLTATÁSÚ)
B19: SZENNYVÍZÁTEMELŐK
B20: Épület, építmény
B21: Gép, berendezés
B22: Irányítástechnika, energiaellátás
B24: Összesen: | J24: =SUM(J14:J23) -> 0 | K24: 0 | O24: =SUM(O13:O23) -> 0 | P24: =SUM(P13:P23) -> 0 | Q24: =SUM(Q13:Q23) -> 0 | R24: =SUM(R13:R23) -> 0 | S24: =SUM(S13:S23) -> 0 | T24: =SUM(T13:T23) -> 0 | U24: =SUM(U13:U23) -> 0 | V24: =SUM(V13:V23) -> 0 | ... AC24: =SUM(AC13:AC23) -> 0
K25: Beruházásra forrás nem áll rendelkezésre.
B26: Tervezett feladatok nettó költsége a teljes ütem tekintetében (eFt) | C26: Rendelkezésre álló források számszerűsített értéke a teljes ütem tekintetében (eFt) | D26: Rendelkezésre álló források megnevezése
A27: I. ütem | B27: =O24 -> 0 | C27: 0 | D27: Fejlesztési díj (2021)
A28: II. ütem | B28: =SUM(P24:S24) -> 0 | C28: =C27*4 -> 0 | D28: Fejlesztési díj (2022-2025)
A29: III. ütem | B29: =SUM(T24:AC24) -> 0 | C29: =C27*10 -> 0 | D29: Fejlesztési díj (2026-2035)
B31: Jelenleg beruházási igény nem ismert, nincs rendelkezésre álló forrás beruházásra.

Sheet Nemeshetés
A2: Gördülő fejlesztési terv a 2021 - 2035 időszakra
A3: BERUHÁZÁSOK ÖSSZEFOGLALÓ TÁBLÁZATA
A4: A tervet benyújtó szervezet megnevezése: | K4: NEMESHETÉS | R4: ellátásért felelős / ellátásért felelősök képviselője / víziközmű-szolgáltató *
A5: Víziközmű-szolgáltató megnevezése: | K5: ÉSZAK ZALAI VÍZ- ÉS CSATORNAMŰ ZÁRTKÖRŰEN MŰKÖDŐ RÉSZVÉNYTÁRSASÁG
A6: Víziközmű-szolgáltatási ágazat megnevezése: | K6: SZENNYVÍZ ÁGAZAT
A7: Véleményeltérést megfogalmazó érintett fél megnevezése:
A8: Víziközmű-rendszer kódja: ** | K8: 21-32054-1-048-01-10 | R8: Zalaegerszeg-SZV
A9: V. Szennyvízelvezetés
A10: Fontossági sorrend | B10: Beruházás megnevezése | E10: Műszaki állapot felmérés, szükségességi indoklás | H10: Vízjogi létesítési/elvi engedély száma | I10: Az érintett ellátásért felelős(ök) megnevezése | J10: Tervezett nettó költség | K10: Forrás 2021 évre | L10: Megvalósítás időtartama | N10: Tervezett időtáv | O10: A beruházás ütemezése a tervezési időszak évei szerint
E11: Jelenlegi műszaki állapot | F11: Feladat szükségessége | G11: Megvalósítást követő várható műszaki állapot | J11: (eFt) | L11: Kezdés | M11: Befejezés | N11: (rövid / közép / hosszú) | O11: 1 | P11: 2 | Q11: 3 | R11: 4 | S11: 5 | T11: 6 | U11: 7 | V11: 8 | W11: 9 | X11: 10 | Y11: 11 | Z11: 12 | AA11: 13 | AB11: 14 | AC11: 15
B12: szakág | C12: Helyszín | D12: beruházás megnevezése
B14: SZENNYVÍZCSATORNA (GRAVITÁCIÓS)
B15: Épület, építmény
B17: SZENNYVÍZVEZETÉKEK (KÉNYSZERÁRAMOLTATÁSÚ)
B19: SZENNYVÍZÁTEMELŐK
B20: Épület, építmény
B21: Gép, berendezés
B22: Irányítástechnika, energiaellátás
B24: Összesen: | J24: =SUM(J14:J23) -> 0 | K24: 0 | O24: =SUM(O13:O23) -> 0 | P24: =SUM(P13:P23) -> 0 | Q24: =SUM(Q13:Q23) -> 0 | R24: =SUM(R13:R23) -> 0 | S24: =SUM(S13:S23) -> 0 | T24: =SUM(T13:T23) -> 0 | U24: =SUM(U13:U23) -> 0 | V24: =SUM(V13:V23) -> 0 | ... AC24: =SUM(AC13:AC23) -> 0
K25: Beruházásra forrás nem áll rendelkezésre.
B26: Tervezett feladatok nettó költsége a teljes ütem tekintetében (eFt) | C26: Rendelkezésre álló források számszerűsített értéke a teljes ütem tekintetében (eFt) | D26: Rendelkezésre álló források megnevezése
A27: I. ütem | B27: =O24 -> 0 | C27: 0 | D27: Fejlesztési díj (2021)
A28: II. ütem | B28: =SUM(P24:S24) -> 0 | C28: =C27*4 -> 0 | D28: Fejlesztési díj (2022-2025)
A29: III. ütem | B29: =SUM(T24:AC24) -> 0 | C29: =C27*10 -> 0 | D29: Fejlesztési díj (2026-2035)
B31: Jelenleg beruházási igény nem ismert, nincs rendelkezésre álló forrás beruházásra.

Sheet Nemesándorháza
A2: Gördülő fejlesztési terv a 2021 - 2035 időszakra
A3: BERUHÁZÁSOK ÖSSZEFOGLALÓ TÁBLÁZATA
A4: A tervet benyújtó szervezet megnevezése: | K4: NEMESSÁNDORHÁZA | R4: ellátásért felelős / ellátásért felelősök képviselője / víziközmű-szolgáltató *
A5: Víziközmű-szolgáltató megnevezése: | K5: ÉSZAK ZALAI VÍZ- ÉS CSATORNAMŰ ZÁRTKÖRŰEN MŰKÖDŐ RÉSZVÉNYTÁRSASÁG
A6: Víziközmű-szolgáltatási ágazat megnevezése: | K6: SZENNYVÍZ ÁGAZAT
A7: Véleményeltérést megfogalmazó érintett fél megnevezése:
A8: Víziközmű-rendszer kódja: ** | K8: 21-32054-1-048-01-10 | R8: Zalaegerszeg-SZV
A9: V. Szennyvízelvezetés
A10: Fontossági sorrend | B10: Beruházás megnevezése | E10: Műszaki állapot felmérés, szükségességi indoklás | H10: Vízjogi létesítési/elvi engedély száma | I10: Az érintett ellátásért felelős(ök) megnevezése | J10: Tervezett nettó költség | K10: Forrás 2021 évre | L10: Megvalósítás időtartama | N10: Tervezett időtáv | O10: A beruházás ütemezése a tervezési időszak évei szerint
E11: Jelenlegi műszaki állapot | F11: Feladat szükségessége | G11: Megvalósítást követő várható műszaki állapot | J11: (eFt) | L11: Kezdés | M11: Befejezés | N11: (rövid / közép / hosszú) | O11: 1 | P11: 2 | Q11: 3 | R11: 4 | S11: 5 | T11: 6 | U11: 7 | V11: 8 | W11: 9 | X11: 10 | Y11: 11 | Z11: 12 | AA11: 13 | AB11: 14 | AC11: 15
B12: szakág | C12: Helyszín | D12: beruházás megnevezése
B14: SZENNYVÍZCSATORNA (GRAVITÁCIÓS)
B15: Épület, építmény
B17: SZENNYVÍZVEZETÉKEK (KÉNYSZERÁRAMOLTATÁSÚ)
B19: SZENNYVÍZÁTEMELŐK
B20: Épület, építmény
B21: Gép, berendezés
B22: Irányítástechnika, energiaellátás
B24: Összesen: | J24: =SUM(J14:J23) -> 0 | K24: 0 | O24: =SUM(O13:O23) -> 0 | P24: =SUM(P13:P23) -> 0 | Q24: =SUM(Q13:Q23) -> 0 | R24: =SUM(R13:R23) -> 0 | S24: =SUM(S13:S23) -> 0 | T24: =SUM(T13:T23) -> 0 | U24: =SUM(U13:U23) -> 0 | V24: =SUM(V13:V23) -> 0 | ... AC24: =SUM(AC13:AC23) -> 0
K25: Beruházásra forrás nem áll rendelkezésre.
B26: Tervezett feladatok nettó költsége a teljes ütem tekintetében (eFt) | C26: Rendelkezésre álló források számszerűsített értéke a teljes ütem tekintetében (eFt) | D26: Rendelkezésre álló források megnevezése
A27: I. ütem | B27: =O24 -> 0 | C27: 0 | D27: Fejlesztési díj (2021)
A28: II. ütem | B28: =SUM(P24:S24) -> 0 | C28: =C27*4 -> 0 | D28: Fejlesztési díj (2022-2025)
A29: III. ütem | B29: =SUM(T24:AC24) -> 0 | C29: =C27*10 -> 0 | D29: Fejlesztési díj (2026-2035)
B31: Jelenleg beruházási igény nem ismert, nincs rendelkezésre álló forrás beruházásra.

Sheet Nemesszentandrás
A2: Gördülő fejlesztési terv a 2021 - 2035 időszakra
A3: BERUHÁZÁSOK ÖSSZEFOGLALÓ TÁBLÁZATA
A4: A tervet benyújtó szervezet megnevezése: | K4: NEMESSZENTANDRÁS | R4: ellátásért felelős / ellátásért felelősök képviselője / víziközmű-szolgáltató *
A5: Víziközmű-szolgáltató megnevezése: | K5: ÉSZAK ZALAI VÍZ- ÉS CSATORNAMŰ ZÁRTKÖRŰEN MŰKÖDŐ RÉSZVÉNYTÁRSASÁG
A6: Víziközmű-szolgáltatási ágazat megnevezése: | K6: SZENNYVÍZ ÁGAZAT
A7: Véleményeltérést megfogalmazó érintett fél megnevezése:
A8: Víziközmű-rendszer kódja: ** | K8: 21-32054-1-048-01-10 | R8: Zalaegerszeg-SZV
A9: V. Szennyvízelvezetés
A10: Fontossági sorrend | B10: Beruházás megnevezése | E10: Műszaki állapot felmérés, szükségességi indoklás | H10: Vízjogi létesítési/elvi engedély száma | I10: Az érintett ellátásért felelős(ök) megnevezése | J10: Tervezett nettó költség | K10: Forrás 2021 évre | L10: Megvalósítás időtartama | N10: Tervezett időtáv | O10: A beruházás ütemezése a tervezési időszak évei szerint
E11: Jelenlegi műszaki állapot | F11: Feladat szükségessége | G11: Megvalósítást követő várható műszaki állapot | J11: (eFt) | L11: Kezdés | M11: Befejezés | N11: (rövid / közép / hosszú) | O11: 1 | P11: 2 | Q11: 3 | R11: 4 | S11: 5 | T11: 6 | U11: 7 | V11: 8 | W11: 9 | X11: 10 | Y11: 11 | Z11: 12 | AA11: 13 | AB11: 14 | AC11: 15
B12: szakág | C12: Helyszín | D12: beruházás megnevezése
B14: SZENNYVÍZCSATORNA (GRAVITÁCIÓS)
B15: Épület, építmény
B17: SZENNYVÍZVEZETÉKEK (KÉNYSZERÁRAMOLTATÁSÚ)
B19: SZENNYVÍZÁTEMELŐK
B20: Épület, építmény
B21: Gép, berendezés
B22: Irányítástechnika, energiaellátás
B24: Összesen: | J24: =SUM(J14:J23) -> 0 | K24: 0 | O24: =SUM(O13:O23) -> 0 | P24: =SUM(P13:P23) -> 0 | Q24: =SUM(Q13:Q23) -> 0 | R24: =SUM(R13:R23) -> 0 | S24: =SUM(S13:S23) -> 0 | T24: =SUM(T13:T23) -> 0 | U24: =SUM(U13:U23) -> 0 | V24: =SUM(V13:V23) -> 0 | ... AC24: =SUM(AC13:AC23) -> 0
K25: Beruházásra forrás nem áll rendelkezésre.
B26: Tervezett feladatok nettó költsége a teljes ütem tekintetében (eFt) | C26: Rendelkezésre álló források számszerűsített értéke a teljes ütem tekintetében (eFt) | D26: Rendelkezésre álló források megnevezése
A27: I. ütem | B27: =O24 -> 0 | C27: 0 | D27: Fejlesztési díj (2021)
A28: II. ütem | B28: =SUM(P24:S24) -> 0 | C28: =C27*4 -> 0 | D28: Fejlesztési díj (2022-2025)
A29: III. ütem | B29: =SUM(T24:AC24) -> 0 | C29: =C27*10 -> 0 | D29: Fejlesztési díj (2026-2035)
B31: Jelenleg beruházási igény nem ismert, nincs rendelkezésre álló forrás beruházásra.

Sheet Németfalu
A2: Gördülő fejlesztési terv a 2021 - 2035 időszakra
A3: BERUHÁZÁSOK ÖSSZEFOGLALÓ TÁBLÁZATA
A4: A tervet benyújtó szervezet megnevezése: | K4: NÉMETFALU | R4: ellátásért felelős / ellátásért felelősök képviselője / víziközmű-szolgáltató *
A5: Víziközmű-szolgáltató megnevezése: | K5: ÉSZAK ZALAI VÍZ- ÉS CSATORNAMŰ ZÁRTKÖRŰEN MŰKÖDŐ RÉSZVÉNYTÁRSASÁG
A6: Víziközmű-szolgáltatási ágazat megnevezése: | K6: SZENNYVÍZ ÁGAZAT
A7: Véleményeltérést megfogalmazó érintett fél megnevezése:
A8: Víziközmű-rendszer kódja: ** | K8: 21-32054-1-048-01-10 | R8: Zalaegerszeg-SZV
A9: V. Szennyvízelvezetés
A10: Fontossági sorrend | B10: Beruházás megnevezése | E10: Műszaki állapot felmérés, szükségességi indoklás | H10: Vízjogi létesítési/elvi engedély száma | I10: Az érintett ellátásért felelős(ök) megnevezése | J10: Tervezett nettó költség | K10: Forrás 2021 évre | L10: Megvalósítás időtartama | N10: Tervezett időtáv | O10: A beruházás ütemezése a tervezési időszak évei szerint
E11: Jelenlegi műszaki állapot | F11: Feladat szükségessége | G11: Megvalósítást követő várható műszaki állapot | J11: (eFt) | L11: Kezdés | M11: Befejezés | N11: (rövid / közép / hosszú) | O11: 1 | P11: 2 | Q11: 3 | R11: 4 | S11: 5 | T11: 6 | U11: 7 | V11: 8 | W11: 9 | X11: 10 | Y11: 11 | Z11: 12 | AA11: 13 | AB11: 14 | AC11: 15
B12: szakág | C12: Helyszín | D12: beruházás megnevezése
B14: SZENNYVÍZCSATORNA (GRAVITÁCIÓS)
B15: Épület, építmény
B17: SZENNYVÍZVEZETÉKEK (KÉNYSZERÁRAMOLTATÁSÚ)
B19: SZENNYVÍZÁTEMELŐK
B20: Épület, építmény
B21: Gép, berendezés
B22: Irányítástechnika, energiaellátás
B24: Összesen: | J24: =SUM(J14:J23) -> 0 | K24: 0 | O24: =SUM(O13:O23) -> 0 | P24: =SUM(P13:P23) -> 0 | Q24: =SUM(Q13:Q23) -> 0 | R24: =SUM(R13:R23) -> 0 | S24: =SUM(S13:S23) -> 0 | T24: =SUM(T13:T23) -> 0 | U24: =SUM(U13:U23) -> 0 | V24: =SUM(V13:V23) -> 0 | ... AC24: =SUM(AC13:AC23) -> 0
K25: Beruházásra forrás nem áll rendelkezésre.
B26: Tervezett feladatok nettó költsége a teljes ütem tekintetében (eFt) | C26: Rendelkezésre álló források számszerűsített értéke a teljes ütem tekintetében (eFt) | D26: Rendelkezésre álló források megnevezése
A27: I. ütem | B27: =O24 -> 0 | C27: 0 | D27: Fejlesztési díj (2021)
A28: II. ütem | B28: =SUM(P24:S24) -> 0 | C28: =C27*4 -> 0 | D28: Fejlesztési díj (2022-2025)
A29: III. ütem | B29: =SUM(T24:AC24) -> 0 | C29: =C27*10 -> 0 | D29: Fejlesztési díj (2026-2035)
B31: Jelenleg beruházási igény nem ismert, nincs rendelkezésre álló forrás beruházásra.

Sheet Ozmánbük
A2: Gördülő fejlesztési terv a 2021 - 2035 időszakra
A3: BERUHÁZÁSOK ÖSSZEFOGLALÓ TÁBLÁZATA
A4: A tervet benyújtó szervezet megnevezése: | K4: OZMÁNBÜK | R4: ellátásért felelős / ellátásért felelősök képviselője / víziközmű-szolgáltató *
A5: Víziközmű-szolgáltató megnevezése: | K5: ÉSZAK ZALAI VÍZ- ÉS CSATORNAMŰ ZÁRTKÖRŰEN MŰKÖDŐ RÉSZVÉNYTÁRSASÁG
A6: Víziközmű-szolgáltatási ágazat megnevezése: | K6: SZENNYVÍZ ÁGAZAT
A7: Véleményeltérést megfogalmazó érintett fél megnevezése:
A8: Víziközmű-rendszer kódja: ** | K8: 21-32054-1-048-01-10 | R8: Zalaegerszeg-SZV
A9: V. Szennyvízelvezetés
A10: Fontossági sorrend | B10: Beruházás megnevezése | E10: Műszaki állapot felmérés, szükségességi indoklás | H10: Vízjogi létesítési/elvi engedély száma | I10: Az érintett ellátásért felelős(ök) megnevezése | J10: Tervezett nettó költség | K10: Forrás 2021 évre | L10: Megvalósítás időtartama | N10: Tervezett időtáv | O10: A beruházás ütemezése a tervezési időszak évei szerint
E11: Jelenlegi műszaki állapot | F11: Feladat szükségessége | G11: Megvalósítást követő várható műszaki állapot | J11: (eFt) | L11: Kezdés | M11: Befejezés | N11: (rövid / közép / hosszú) | O11: 1 | P11: 2 | Q11: 3 | R11: 4 | S11: 5 | T11: 6 | U11: 7 | V11: 8 | W11: 9 | X11: 10 | Y11: 11 | Z11: 12 | AA11: 13 | AB11: 14 | AC11: 15
B12: szakág | C12: Helyszín | D12: beruházás megnevezése
B14: SZENNYVÍZCSATORNA (GRAVITÁCIÓS)
B15: Épület, építmény
B17: SZENNYVÍZVEZETÉKEK (KÉNYSZERÁRAMOLTATÁSÚ)
B19: SZENNYVÍZÁTEMELŐK
B20: Épület, építmény
B21: Gép, berendezés
B22: Irányítástechnika, energiaellátás
B24: Összesen: | J24: =SUM(J14:J23) -> 0 | K24: 0 | O24: =SUM(O13:O23) -> 0 | P24: =SUM(P13:P23) -> 0 | Q24: =SUM(Q13:Q23) -> 0 | R24: =SUM(R13:R23) -> 0 | S24: =SUM(S13:S23) -> 0 | T24: =SUM(T13:T23) -> 0 | U24: =SUM(U13:U23) -> 0 | V24: =SUM(V13:V23) -> 0 | ... AC24: =SUM(AC13:AC23) -> 0
K25: Beruházásra forrás nem áll rendelkezésre.
B26: Tervezett feladatok nettó költsége a teljes ütem tekintetében (eFt) | C26: Rendelkezésre álló források számszerűsített értéke a teljes ütem tekintetében (eFt) | D26: Rendelkezésre álló források megnevezése
A27: I. ütem | B27: =O24 -> 0 | C27: 0 | D27: Fejlesztési díj (2021)
A28: II. ütem | B28: =SUM(P24:S24) -> 0 | C28: =C27*4 -> 0 | D28: Fejlesztési díj (2022-2025)
A29: III. ütem | B29: =SUM(T24:AC24) -> 0 | C29: =C27*10 -> 0 | D29: Fejlesztési díj (2026-2035)
B31: Jelenleg beruházási igény nem ismert, nincs rendelkezésre álló forrás beruházásra.

Sheet Pethőhenye
A2: Gördülő fejlesztési terv a 2021 - 2035 időszakra
A3: BERUHÁZÁSOK ÖSSZEFOGLALÓ TÁBLÁZATA
A4: A tervet benyújtó szervezet megnevezése: | K4: PETHŐHENYE | R4: ellátásért felelős / ellátásért felelősök képviselője / víziközmű-szolgáltató *
A5: Víziközmű-szolgáltató megnevezése: | K5: ÉSZAK ZALAI VÍZ- ÉS CSATORNAMŰ ZÁRTKÖRŰEN MŰKÖDŐ RÉSZVÉNYTÁRSASÁG
A6: Víziközmű-szolgáltatási ágazat megnevezése: | K6: SZENNYVÍZ ÁGAZAT
A7: Véleményeltérést megfogalmazó érintett fél megnevezése:
A8: Víziközmű-rendszer kódja: ** | K8: 21-32054-1-048-01-10 | R8: Zalaegerszeg-SZV
A9: V. Szennyvízelvezetés
A10: Fontossági sorrend | B10: Beruházás megnevezése | E10: Műszaki állapot felmérés, szükségességi indoklás | H10: Vízjogi létesítési/elvi engedély száma | I10: Az érintett ellátásért felelős(ök) megnevezése | J10: Tervezett nettó költség | K10: Forrás 2021 évre | L10: Megvalósítás időtartama | N10: Tervezett időtáv | O10: A beruházás ütemezése a tervezési időszak évei szerint
E11: Jelenlegi műszaki állapot | F11: Feladat szükségessége | G11: Megvalósítást követő várható műszaki állapot | J11: (eFt) | L11: Kezdés | M11: Befejezés | N11: (rövid / közép / hosszú) | O11: 1 | P11: 2 | Q11: 3 | R11: 4 | S11: 5 | T11: 6 | U11: 7 | V11: 8 | W11: 9 | X11: 10 | Y11: 11 | Z11: 12 | AA11: 13 | AB11: 14 | AC11: 15
B12: szakág | C12: Helyszín | D12: beruházás megnevezése
B14: SZENNYVÍZCSATORNA (GRAVITÁCIÓS)
B15: Épület, építmény
B17: SZENNYVÍZVEZETÉKEK (KÉNYSZERÁRAMOLTATÁSÚ)
B19: SZENNYVÍZÁTEMELŐK
B20: Épület, építmény
B21: Gép, berendezés
B22: Irányítástechnika, energiaellátás
B24: Összesen: | J24: =SUM(J14:J23) -> 0 | K24: 0 | O24: =SUM(O13:O23) -> 0 | P24: =SUM(P13:P23) -> 0 | Q24: =SUM(Q13:Q23) -> 0 | R24: =SUM(R13:R23) -> 0 | S24: =SUM(S13:S23) -> 0 | T24: =SUM(T13:T23) -> 0 | U24: =SUM(U13:U23) -> 0 | V24: =SUM(V13:V23) -> 0 | ... AC24: =SUM(AC13:AC23) -> 0
K25: Beruházásra forrás nem áll rendelkezésre.
B26: Tervezett feladatok nettó költsége a teljes ütem tekintetében (eFt) | C26: Rendelkezésre álló források számszerűsített értéke a teljes ütem tekintetében (eFt) | D26: Rendelkezésre álló források megnevezése
A27: I. ütem | B27: =O24 -> 0 | C27: 0 | D27: Fejlesztési díj (2021)
A28: II. ütem | B28: =SUM(P24:S24) -> 0 | C28: =C27*4 -> 0 | D28: Fejlesztési díj (2022-2025)
A29: III. ütem | B29: =SUM(T24:AC24) -> 0 | C29: =C27*10 -> 0 | D29: Fejlesztési díj (2026-2035)
B31: Jelenleg beruházási igény nem ismert, nincs rendelkezésre álló forrás beruházásra.

Sheet Pókaszepetk
A2: Gördülő fejlesztési terv a 2021 - 2035 időszakra
A3: BERUHÁZÁSOK ÖSSZEFOGLALÓ TÁBLÁZATA
A4: A tervet benyújtó szervezet megnevezése: | K4: PÓKASZEPETK | R4: ellátásért felelős / ellátásért felelősök képviselője / víziközmű-szolgáltató *
A5: Víziközmű-szolgáltató megnevezése: | K5: ÉSZAK ZALAI VÍZ- ÉS CSATORNAMŰ ZÁRTKÖRŰEN MŰKÖDŐ RÉSZVÉNYTÁRSASÁG
A6: Víziközmű-szolgáltatási ágazat megnevezése: | K6: SZENNYVÍZ ÁGAZAT
A7: Véleményeltérést megfogalmazó érintett fél megnevezése:
A8: Víziközmű-rendszer kódja: ** | K8: 21-32054-1-048-01-10 | R8: Zalaegerszeg-SZV
A9: V. Szennyvízelvezetés
A10: Fontossági sorrend | B10: Beruházás megnevezése | E10: Műszaki állapot felmérés, szükségességi indoklás | H10: Vízjogi létesítési/elvi engedély száma | I10: Az érintett ellátásért felelős(ök) megnevezése | J10: Tervezett nettó költség | K10: Forrás 2021 évre | L10: Megvalósítás időtartama | N10: Tervezett időtáv | O10: A beruházás ütemezése a tervezési időszak évei szerint
E11: Jelenlegi műszaki állapot | F11: Feladat szükségessége | G11: Megvalósítást követő várható műszaki állapot | J11: (eFt) | L11: Kezdés | M11: Befejezés | N11: (rövid / közép / hosszú) | O11: 1 | P11: 2 | Q11: 3 | R11: 4 | S11: 5 | T11: 6 | U11: 7 | V11: 8 | W11: 9 | X11: 10 | Y11: 11 | Z11: 12 | AA11: 13 | AB11: 14 | AC11: 15
B12: szakág | C12: Helyszín | D12: beruházás megnevezése
B14: SZENNYVÍZCSATORNA (GRAVITÁCIÓS)
B15: Épület, építmény
B17: SZENNYVÍZVEZETÉKEK (KÉNYSZERÁRAMOLTATÁSÚ)
B19: SZENNYVÍZÁTEMELŐK
B20: Épület, építmény
B21: Gép, berendezés
B22: Irányítástechnika, energiaellátás
B24: Összesen: | J24: =SUM(J14:J23) -> 0 | K24: 0 | O24: =SUM(O13:O23) -> 0 | P24: =SUM(P13:P23) -> 0 | Q24: =SUM(Q13:Q23) -> 0 | R24: =SUM(R13:R23) -> 0 | S24: =SUM(S13:S23) -> 0 | T24: =SUM(T13:T23) -> 0 | U24: =SUM(U13:U23) -> 0 | V24: =SUM(V13:V23) -> 0 | ... AC24: =SUM(AC13:AC23) -> 0
K25: Beruházásra forrás nem áll rendelkezésre.
B26: Tervezett feladatok nettó költsége a teljes ütem tekintetében (eFt) | C26: Rendelkezésre álló források számszerűsített értéke a teljes ütem tekintetében (eFt) | D26: Rendelkezésre álló források megnevezése
A27: I. ütem | B27: =O24 -> 0 | C27: 0 | D27: Fejlesztési díj (2021)
A28: II. ütem | B28: =SUM(P24:S24) -> 0 | C28: =C27*4 -> 0 | D28: Fejlesztési díj (2022-2025)
A29: III. ütem | B29: =SUM(T24:AC24) -> 0 | C29: =C27*10 -> 0 | D29: Fejlesztési díj (2026-2035)
B31: Jelenleg beruházási igény nem ismert, nincs rendelkezésre álló forrás beruházásra.

Sheet Pusztaszenlászló
A2: Gördülő fejlesztési terv a 2021 - 2035 időszakra
A3: BERUHÁZÁSOK ÖSSZEFOGLALÓ TÁBLÁZATA
A4: A tervet benyújtó szervezet megnevezése: | K4: PUSZTASZENTLÁSZLÓ | R4: ellátásért felelős / ellátásért felelősök képviselője / víziközmű-szolgáltató *
A5: Víziközmű-szolgáltató megnevezése: | K5: ÉSZAK ZALAI VÍZ- ÉS CSATORNAMŰ ZÁRTKÖRŰEN MŰKÖDŐ RÉSZVÉNYTÁRSASÁG
A6: Víziközmű-szolgáltatási ágazat megnevezése: | K6: SZENNYVÍZ ÁGAZAT
A7: Véleményeltérést megfogalmazó érintett fél megnevezése:
A8: Víziközmű-rendszer kódja: ** | K8: 21-32054-1-048-01-10 | R8: Zalaegerszeg-SZV
A9: V. Szennyvízelvezetés
A10: Fontossági sorrend | B10: Beruházás megnevezése | E10: Műszaki állapot felmérés, szükségességi indoklás | H10: Vízjogi létesítési/elvi engedély száma | I10: Az érintett ellátásért felelős(ök) megnevezése | J10: Tervezett nettó költség | K10: Forrás 2021 évre | L10: Megvalósítás időtartama | N10: Tervezett időtáv | O10: A beruházás ütemezése a tervezési időszak évei szerint
E11: Jelenlegi műszaki állapot | F11: Feladat szükségessége | G11: Megvalósítást követő várható műszaki állapot | J11: (eFt) | L11: Kezdés | M11: Befejezés | N11: (rövid / közép / hosszú) | O11: 1 | P11: 2 | Q11: 3 | R11: 4 | S11: 5 | T11: 6 | U11: 7 | V11: 8 | W11: 9 | X11: 10 | Y11: 11 | Z11: 12 | AA11: 13 | AB11: 14 | AC11: 15
B12: szakág | C12: Helyszín | D12: beruházás megnevezése
B14: SZENNYVÍZCSATORNA (GRAVITÁCIÓS)
B15: Épület, építmény
B17: SZENNYVÍZVEZETÉKEK (KÉNYSZERÁRAMOLTATÁSÚ)
B19: SZENNYVÍZÁTEMELŐK
B20: Épület, építmény
B21: Gép, berendezés
B22: Irányítástechnika, energiaellátás
B24: Összesen: | J24: =SUM(J14:J23) -> 0 | K24: 0 | O24: =SUM(O13:O23) -> 0 | P24: =SUM(P13:P23) -> 0 | Q24: =SUM(Q13:Q23) -> 0 | R24: =SUM(R13:R23) -> 0 | S24: =SUM(S13:S23) -> 0 | T24: =SUM(T13:T23) -> 0 | U24: =SUM(U13:U23) -> 0 | V24: =SUM(V13:V23) -> 0 | ... AC24: =SUM(AC13:AC23) -> 0
K25: Beruházásra forrás nem áll rendelkezésre.
B26: Tervezett feladatok nettó költsége a teljes ütem tekintetében (eFt) | C26: Rendelkezésre álló források számszerűsített értéke a teljes ütem tekintetében (eFt) | D26: Rendelkezésre álló források megnevezése
A27: I. ütem | B27: =O24 -> 0 | C27: 0 | D27: Fejlesztési díj (2021)
A28: II. ütem | B28: =SUM(P24:S24) -> 0 | C28: =C27*4 -> 0 | D28: Fejlesztési díj (2022-2025)
A29: III. ütem | B29: =SUM(T24:AC24) -> 0 | C29: =C27*10 -> 0 | D29: Fejlesztési díj (2026-2035)
B31: Jelenleg beruházási igény nem ismert, nincs rendelkezésre álló forrás beruházásra.

Sheet Salomvár
A2: Gördülő fejlesztési terv a 2021 - 2035 időszakra
A3: BERUHÁZÁSOK ÖSSZEFOGLALÓ TÁBLÁZATA
A4: A tervet benyújtó szervezet megnevezése: | K4: SALOMVÁR | R4: ellátásért felelős / ellátásért felelősök képviselője / víziközmű-szolgáltató *
A5: Víziközmű-szolgáltató megnevezése: | K5: ÉSZAK ZALAI VÍZ- ÉS CSATORNAMŰ ZÁRTKÖRŰEN MŰKÖDŐ RÉSZVÉNYTÁRSASÁG
A6: Víziközmű-szolgáltatási ágazat megnevezése: | K6: SZENNYVÍZ ÁGAZAT
A7: Véleményeltérést megfogalmazó érintett fél megnevezése:
A8: Víziközmű-rendszer kódja: ** | K8: 21-32054-1-048-01-10 | R8: Zalaegerszeg-SZV
A9: V. Szennyvízelvezetés
A10: Fontossági sorrend | B10: Beruházás megnevezése | E10: Műszaki állapot felmérés, szükségességi indoklás | H10: Vízjogi létesítési/elvi engedély száma | I10: Az érintett ellátásért felelős(ök) megnevezése | J10: Tervezett nettó költség | K10: Forrás 2021 évre | L10: Megvalósítás időtartama | N10: Tervezett időtáv | O10: A beruházás ütemezése a tervezési időszak évei szerint
E11: Jelenlegi műszaki állapot | F11: Feladat szükségessége | G11: Megvalósítást követő várható műszaki állapot | J11: (eFt) | L11: Kezdés | M11: Befejezés | N11: (rövid / közép / hosszú) | O11: 1 | P11: 2 | Q11: 3 | R11: 4 | S11: 5 | T11: 6 | U11: 7 | V11: 8 | W11: 9 | X11: 10 | Y11: 11 | Z11: 12 | AA11: 13 | AB11: 14 | AC11: 15
B12: szakág | C12: Helyszín | D12: beruházás megnevezése
B14: SZENNYVÍZCSATORNA (GRAVITÁCIÓS)
B15: Épület, építmény
B17: SZENNYVÍZVEZETÉKEK (KÉNYSZERÁRAMOLTATÁSÚ)
B19: SZENNYVÍZÁTEMELŐK
B20: Épület, építmény
B21: Gép, berendezés
B22: Irányítástechnika, energiaellátás
B24: Összesen: | J24: =SUM(J14:J23) -> 0 | K24: 0 | O24: =SUM(O13:O23) -> 0 | P24: =SUM(P13:P23) -> 0 | Q24: =SUM(Q13:Q23) -> 0 | R24: =SUM(R13:R23) -> 0 | S24: =SUM(S13:S23) -> 0 | T24: =SUM(T13:T23) -> 0 | U24: =SUM(U13:U23) -> 0 | V24: =SUM(V13:V23) -> 0 | ... AC24: =SUM(AC13:AC23) -> 0
K25: Beruházásra forrás nem áll rendelkezésre.
B26: Tervezett feladatok nettó költsége a teljes ütem tekintetében (eFt) | C26: Rendelkezésre álló források számszerűsített értéke a teljes ütem tekintetében (eFt) | D26: Rendelkezésre álló források megnevezése
A27: I. ütem | B27: =O24 -> 0 | C27: 0 | D27: Fejlesztési díj (2021)
A28: II. ütem | B28: =SUM(P24:S24) -> 0 | C28: =C27*4 -> 0 | D28: Fejlesztési díj (2022-2025)
A29: III. ütem | B29: =SUM(T24:AC24) -> 0 | C29: =C27*10 -> 0 | D29: Fejlesztési díj (2026-2035)
B31: Jelenleg beruházási igény nem ismert, nincs rendelkezésre álló forrás beruházásra.

Sheet Sárhida
A2: Gördülő fejlesztési terv a 2021 - 2035 időszakra
A3: BERUHÁZÁSOK ÖSSZEFOGLALÓ TÁBLÁZATA
A4: A tervet benyújtó szervezet megnevezése: | K4: SÁRHIDA | R4: ellátásért felelős / ellátásért felelősök képviselője / víziközmű-szolgáltató *
A5: Víziközmű-szolgáltató megnevezése: | K5: ÉSZAK ZALAI VÍZ- ÉS CSATORNAMŰ ZÁRTKÖRŰEN MŰKÖDŐ RÉSZVÉNYTÁRSASÁG
A6: Víziközmű-szolgáltatási ágazat megnevezése: | K6: SZENNYVÍZ ÁGAZAT
A7: Véleményeltérést megfogalmazó érintett fél megnevezése:
A8: Víziközmű-rendszer kódja: ** | K8: 21-32054-1-048-01-10 | R8: Zalaegerszeg-SZV
A9: V. Szennyvízelvezetés
A10: Fontossági sorrend | B10: Beruházás megnevezése | E10: Műszaki állapot felmérés, szükségességi indoklás | H10: Vízjogi létesítési/elvi engedély száma | I10: Az érintett ellátásért felelős(ök) megnevezése | J10: Tervezett nettó költség | K10: Forrás 2021 évre | L10: Megvalósítás időtartama | N10: Tervezett időtáv | O10: A beruházás ütemezése a tervezési időszak évei szerint
E11: Jelenlegi műszaki állapot | F11: Feladat szükségessége | G11: Megvalósítást követő várható műszaki állapot | J11: (eFt) | L11: Kezdés | M11: Befejezés | N11: (rövid / közép / hosszú) | O11: 1 | P11: 2 | Q11: 3 | R11: 4 | S11: 5 | T11: 6 | U11: 7 | V11: 8 | W11: 9 | X11: 10 | Y11: 11 | Z11: 12 | AA11: 13 | AB11: 14 | AC11: 15
B12: szakág | C12: Helyszín | D12: beruházás megnevezése
B14: SZENNYVÍZCSATORNA (GRAVITÁCIÓS)
B15: Épület, építmény
B17: SZENNYVÍZVEZETÉKEK (KÉNYSZERÁRAMOLTATÁSÚ)
B19: SZENNYVÍZÁTEMELŐK
B20: Épület, építmény
B21: Gép, berendezés
B22: Irányítástechnika, energiaellátás
B24: Összesen: | J24: =SUM(J14:J23) -> 0 | K24: 0 | O24: =SUM(O13:O23) -> 0 | P24: =SUM(P13:P23) -> 0 | Q24: =SUM(Q13:Q23) -> 0 | R24: =SUM(R13:R23) -> 0 | S24: =SUM(S13:S23) -> 0 | T24: =SUM(T13:T23) -> 0 | U24: =SUM(U13:U23) -> 0 | V24: =SUM(V13:V23) -> 0 | ... AC24: =SUM(AC13:AC23) -> 0
K25: Beruházásra forrás nem áll rendelkezésre.
B26: Tervezett feladatok nettó költsége a teljes ütem tekintetében (eFt) | C26: Rendelkezésre álló források számszerűsített értéke a teljes ütem tekintetében (eFt) | D26: Rendelkezésre álló források megnevezése
A27: I. ütem | B27: =O24 -> 0 | C27: 0 | D27: Fejlesztési díj (2021)
A28: II. ütem | B28: =SUM(P24:S24) -> 0 | C28: =C27*4 -> 0 | D28: Fejlesztési díj (2022-2025)
A29: III. ütem | B29: =SUM(T24:AC24) -> 0 | C29: =C27*10 -> 0 | D29: Fejlesztési díj (2026-2035)
B31: Jelenleg beruházási igény nem ismert, nincs rendelkezésre álló forrás beruházásra.

Sheet Söjtör
A2: Gördülő fejlesztési terv a 2021 - 2035 időszakra
A3: BERUHÁZÁSOK ÖSSZEFOGLALÓ TÁBLÁZATA
A4: A tervet benyújtó szervezet megnevezése: | K4: SÖJTÖR | R4: ellátásért felelős / ellátásért felelősök képviselője / víziközmű-szolgáltató *
A5: Víziközmű-szolgáltató megnevezése: | K5: ÉSZAK ZALAI VÍZ- ÉS CSATORNAMŰ ZÁRTKÖRŰEN MŰKÖDŐ RÉSZVÉNYTÁRSASÁG
A6: Víziközmű-szolgáltatási ágazat megnevezése: | K6: SZENNYVÍZ ÁGAZAT
A7: Véleményeltérést megfogalmazó érintett fél megnevezése:
A8: Víziközmű-rendszer kódja: ** | K8: 21-32054-1-048-01-10 | R8: Zalaegerszeg-SZV
A9: V. Szennyvízelvezetés
A10: Fontossági sorrend | B10: Beruházás megnevezése | E10: Műszaki állapot felmérés, szükségességi indoklás | H10: Vízjogi létesítési/elvi engedély száma | I10: Az érintett ellátásért felelős(ök) megnevezése | J10: Tervezett nettó költség | K10: Forrás 2021 évre | L10: Megvalósítás időtartama | N10: Tervezett időtáv | O10: A beruházás ütemezése a tervezési időszak évei szerint
E11: Jelenlegi műszaki állapot | F11: Feladat szükségessége | G11: Megvalósítást követő várható műszaki állapot | J11: (eFt) | L11: Kezdés | M11: Befejezés | N11: (rövid / közép / hosszú) | O11: 1 | P11: 2 | Q11: 3 | R11: 4 | S11: 5 | T11: 6 | U11: 7 | V11: 8 | W11: 9 | X11: 10 | Y11: 11 | Z11: 12 | AA11: 13 | AB11: 14 | AC11: 15
B12: szakág | C12: Helyszín | D12: beruházás megnevezése
B14: SZENNYVÍZCSATORNA (GRAVITÁCIÓS)
B15: Épület, építmény
B17: SZENNYVÍZVEZETÉKEK (KÉNYSZERÁRAMOLTATÁSÚ)
B19: SZENNYVÍZÁTEMELŐK
B20: Épület, építmény
B21: Gép, berendezés
B22: Irányítástechnika, energiaellátás
B24: Összesen: | J24: =SUM(J14:J23) -> 0 | K24: 0 | O24: =SUM(O13:O23) -> 0 | P24: =SUM(P13:P23) -> 0 | Q24: =SUM(Q13:Q23) -> 0 | R24: =SUM(R13:R23) -> 0 | S24: =SUM(S13:S23) -> 0 | T24: =SUM(T13:T23) -> 0 | U24: =SUM(U13:U23) -> 0 | V24: =SUM(V13:V23) -> 0 | ... AC24: =SUM(AC13:AC23) -> 0
K25: Beruházásra forrás nem áll rendelkezésre.
B26: Tervezett feladatok nettó költsége a teljes ütem tekintetében (eFt) | C26: Rendelkezésre álló források számszerűsített értéke a teljes ütem tekintetében (eFt) | D26: Rendelkezésre álló források megnevezése
A27: I. ütem | B27: =O24 -> 0 | C27: 0 | D27: Fejlesztési díj (2021)
A28: II. ütem | B28: =SUM(P24:S24) -> 0 | C28: =C27*4 -> 0 | D28: Fejlesztési díj (2022-2025)
A29: III. ütem | B29: =SUM(T24:AC24) -> 0 | C29: =C27*10 -> 0 | D29: Fejlesztési díj (2026-2035)
B31: Jelenleg beruházási igény nem ismert, nincs rendelkezésre álló forrás beruházásra.

Sheet Teskánd
A2: Gördülő fejlesztési terv a 2021 - 2035 időszakra
A3: BERUHÁZÁSOK ÖSSZEFOGLALÓ TÁBLÁZATA
A4: A tervet benyújtó szervezet megnevezése: | K4: TESKÁND | R4: ellátásért felelős / ellátásért felelősök képviselője / víziközmű-szolgáltató *
A5: Víziközmű-szolgáltató megnevezése: | K5: ÉSZAK ZALAI VÍZ- ÉS CSATORNAMŰ ZÁRTKÖRŰEN MŰKÖDŐ RÉSZVÉNYTÁRSASÁG
A6: Víziközmű-szolgáltatási ágazat megnevezése: | K6: SZENNYVÍZ ÁGAZAT
A7: Véleményeltérést megfogalmazó érintett fél megnevezése:
A8: Víziközmű-rendszer kódja: ** | K8: 21-32054-1-048-01-10 | R8: Zalaegerszeg-SZV
A9: V. Szennyvízelvezetés
A10: Fontossági sorrend | B10: Beruházás megnevezése | E10: Műszaki állapot felmérés, szükségességi indoklás | H10: Vízjogi létesítési/elvi engedély száma | I10: Az érintett ellátásért felelős(ök) megnevezése | J10: Tervezett nettó költség | K10: Forrás 2021 évre | L10: Megvalósítás időtartama | N10: Tervezett időtáv | O10: A beruházás ütemezése a tervezési időszak évei szerint
E11: Jelenlegi műszaki állapot | F11: Feladat szükségessége | G11: Megvalósítást követő várható műszaki állapot | J11: (eFt) | L11: Kezdés | M11: Befejezés | N11: (rövid / közép / hosszú) | O11: 1 | P11: 2 | Q11: 3 | R11: 4 | S11: 5 | T11: 6 | U11: 7 | V11: 8 | W11: 9 | X11: 10 | Y11: 11 | Z11: 12 | AA11: 13 | AB11: 14 | AC11: 15
B12: szakág | C12: Helyszín | D12: beruházás megnevezése
B14: SZENNYVÍZCSATORNA (GRAVITÁCIÓS)
B15: Épület, építmény
B17: SZENNYVÍZVEZETÉKEK (KÉNYSZERÁRAMOLTATÁSÚ)
B19: SZENNYVÍZÁTEMELŐK
B20: Épület, építmény
B21: Gép, berendezés
B22: Irányítástechnika, energiaellátás
B24: Összesen: | J24: =SUM(J14:J23) -> 0 | K24: 0 | O24: =SUM(O13:O23) -> 0 | P24: =SUM(P13:P23) -> 0 | Q24: =SUM(Q13:Q23) -> 0 | R24: =SUM(R13:R23) -> 0 | S24: =SUM(S13:S23) -> 0 | T24: =SUM(T13:T23) -> 0 | U24: =SUM(U13:U23) -> 0 | V24: =SUM(V13:V23) -> 0 | ... AC24: =SUM(AC13:AC23) -> 0
K25: Beruházásra forrás nem áll rendelkezésre.
B26: Tervezett feladatok nettó költsége a teljes ütem tekintetében (eFt) | C26: Rendelkezésre álló források számszerűsített értéke a teljes ütem tekintetében (eFt) | D26: Rendelkezésre álló források megnevezése
A27: I. ütem | B27: =O24 -> 0 | C27: 0 | D27: Fejlesztési díj (2021)
A28: II. ütem | B28: =SUM(P24:S24) -> 0 | C28: =C27*4 -> 0 | D28: Fejlesztési díj (2022-2025)
A29: III. ütem | B29: =SUM(T24:AC24) -> 0 | C29: =C27*10 -> 0 | D29: Fejlesztési díj (2026-2035)
B31: Jelenleg beruházási igény nem ismert, nincs rendelkezésre álló forrás beruházásra.

Sheet Vasboldogasszony
A2: Gördülő fejlesztési terv a 2021 - 2035 időszakra
A3: BERUHÁZÁSOK ÖSSZEFOGLALÓ TÁBLÁZATA
A4: A tervet benyújtó szervezet megnevezése: | K4: VASBOLDOGASSZONY | R4: ellátásért felelős / ellátásért felelősök képviselője / víziközmű-szolgáltató *
A5: Víziközmű-szolgáltató megnevezése: | K5: ÉSZAK ZALAI VÍZ- ÉS CSATORNAMŰ ZÁRTKÖRŰEN MŰKÖDŐ RÉSZVÉNYTÁRSASÁG
A6: Víziközmű-szolgáltatási ágazat megnevezése: | K6: SZENNYVÍZ ÁGAZAT
A7: Véleményeltérést megfogalmazó érintett fél megnevezése:
A8: Víziközmű-rendszer kódja: ** | K8: 21-32054-1-048-01-10 | R8: Zalaegerszeg-SZV
A9: V. Szennyvízelvezetés
A10: Fontossági sorrend | B10: Beruházás megnevezése | E10: Műszaki állapot felmérés, szükségességi indoklás | H10: Vízjogi létesítési/elvi engedély száma | I10: Az érintett ellátásért felelős(ök) megnevezése | J10: Tervezett nettó költség | K10: Forrás 2021 évre | L10: Megvalósítás időtartama | N10: Tervezett időtáv | O10: A beruházás ütemezése a tervezési időszak évei szerint
E11: Jelenlegi műszaki állapot | F11: Feladat szükségessége | G11: Megvalósítást követő várható műszaki állapot | J11: (eFt) | L11: Kezdés | M11: Befejezés | N11: (rövid / közép / hosszú) | O11: 1 | P11: 2 | Q11: 3 | R11: 4 | S11: 5 | T11: 6 | U11: 7 | V11: 8 | W11: 9 | X11: 10 | Y11: 11 | Z11: 12 | AA11: 13 | AB11: 14 | AC11: 15
B12: szakág | C12: Helyszín | D12: beruházás megnevezése
B14: SZENNYVÍZCSATORNA (GRAVITÁCIÓS)
B15: Épület, építmény
B17: SZENNYVÍZVEZETÉKEK (KÉNYSZERÁRAMOLTATÁSÚ)
B19: SZENNYVÍZÁTEMELŐK
B20: Épület, építmény
B21: Gép, berendezés
B22: Irányítástechnika, energiaellátás
B24: Összesen: | J24: =SUM(J14:J23) -> 0 | K24: 0 | O24: =SUM(O13:O23) -> 0 | P24: =SUM(P13:P23) -> 0 | Q24: =SUM(Q13:Q23) -> 0 | R24: =SUM(R13:R23) -> 0 | S24: =SUM(S13:S23) -> 0 | T24: =SUM(T13:T23) -> 0 | U24: =SUM(U13:U23) -> 0 | V24: =SUM(V13:V23) -> 0 | ... AC24: =SUM(AC13:AC23) -> 0
K25: Beruházásra forrás nem áll rendelkezésre.
B26: Tervezett feladatok nettó költsége a teljes ütem tekintetében (eFt) | C26: Rendelkezésre álló források számszerűsített értéke a teljes ütem tekintetében (eFt) | D26: Rendelkezésre álló források megnevezése
A27: I. ütem | B27: =O24 -> 0 | C27: 0 | D27: Fejlesztési díj (2021)
A28: II. ütem | B28: =SUM(P24:S24) -> 0 | C28: =C27*4 -> 0 | D28: Fejlesztési díj (2022-2025)
A29: III. ütem | B29: =SUM(T24:AC24) -> 0 | C29: =C27*10 -> 0 | D29: Fejlesztési díj (2026-2035)
B31: Jelenleg beruházási igény nem ismert, nincs rendelkezésre álló forrás beruházásra.

Sheet Vaspör
A2: Gördülő fejlesztési terv a 2021 - 2035 időszakra
A3: BERUHÁZÁSOK ÖSSZEFOGLALÓ TÁBLÁZATA
A4: A tervet benyújtó szervezet megnevezése: | K4: VASPÖR | R4: ellátásért felelős / ellátásért felelősök képviselője / víziközmű-szolgáltató *
A5: Víziközmű-szolgáltató megnevezése: | K5: ÉSZAK ZALAI VÍZ- ÉS CSATORNAMŰ ZÁRTKÖRŰEN MŰKÖDŐ RÉSZVÉNYTÁRSASÁG
A6: Víziközmű-szolgáltatási ágazat megnevezése: | K6: SZENNYVÍZ ÁGAZAT
A7: Véleményeltérést megfogalmazó érintett fél megnevezése:
A8: Víziközmű-rendszer kódja: ** | K8: 21-32054-1-048-01-10 | R8: Zalaegerszeg-SZV
A9: V. Szennyvízelvezetés
A10: Fontossági sorrend | B10: Beruházás megnevezése | E10: Műszaki állapot felmérés, szükségességi indoklás | H10: Vízjogi létesítési/elvi engedély száma | I10: Az érintett ellátásért felelős(ök) megnevezése | J10: Tervezett nettó költség | K10: Forrás 2021 évre | L10: Megvalósítás időtartama | N10: Tervezett időtáv | O10: A beruházás ütemezése a tervezési időszak évei szerint
E11: Jelenlegi műszaki állapot | F11: Feladat szükségessége | G11: Megvalósítást követő várható műszaki állapot | J11: (eFt) | L11: Kezdés | M11: Befejezés | N11: (rövid / közép / hosszú) | O11: 1 | P11: 2 | Q11: 3 | R11: 4 | S11: 5 | T11: 6 | U11: 7 | V11: 8 | W11: 9 | X11: 10 | Y11: 11 | Z11: 12 | AA11: 13 | AB11: 14 | AC11: 15
B12: szakág | C12: Helyszín | D12: beruházás megnevezése
B14: SZENNYVÍZCSATORNA (GRAVITÁCIÓS)
B15: Épület, építmény
B17: SZENNYVÍZVEZETÉKEK (KÉNYSZERÁRAMOLTATÁSÚ)
B19: SZENNYVÍZÁTEMELŐK
B20: Épület, építmény
B21: Gép, berendezés
B22: Irányítástechnika, energiaellátás
B24: Összesen: | J24: =SUM(J14:J23) -> 0 | K24: 0 | O24: =SUM(O13:O23) -> 0 | P24: =SUM(P13:P23) -> 0 | Q24: =SUM(Q13:Q23) -> 0 | R24: =SUM(R13:R23) -> 0 | S24: =SUM(S13:S23) -> 0 | T24: =SUM(T13:T23) -> 0 | U24: =SUM(U13:U23) -> 0 | V24: =SUM(V13:V23) -> 0 | ... AC24: =SUM(AC13:AC23) -> 0
K25: Beruházásra forrás nem áll rendelkezésre.
B26: Tervezett feladatok nettó költsége a teljes ütem tekintetében (eFt) | C26: Rendelkezésre álló források számszerűsített értéke a teljes ütem tekintetében (eFt) | D26: Rendelkezésre álló források megnevezése
A27: I. ütem | B27: =O24 -> 0 | C27: 0 | D27: Fejlesztési díj (2021)
A28: II. ütem | B28: =SUM(P24:S24) -> 0 | C28: =C27*4 -> 0 | D28: Fejlesztési díj (2022-2025)
A29: III. ütem | B29: =SUM(T24:AC24) -> 0 | C29: =C27*10 -> 0 | D29: Fejlesztési díj (2026-2035)
B31: Jelenleg beruházási igény nem ismert, nincs rendelkezésre álló forrás beruházásra.

Sheet Vöckönd
A2: Gördülő fejlesztési terv a 2021 - 2035 időszakra
A3: BERUHÁZÁSOK ÖSSZEFOGLALÓ TÁBLÁZATA
A4: A tervet benyújtó szervezet megnevezése: | K4: VÖCKÖND | R4: ellátásért felelős / ellátásért felelősök képviselője / víziközmű-szolgáltató *
A5: Víziközmű-szolgáltató megnevezése: | K5: ÉSZAK ZALAI VÍZ- ÉS CSATORNAMŰ ZÁRTKÖRŰEN MŰKÖDŐ RÉSZVÉNYTÁRSASÁG
A6: Víziközmű-szolgáltatási ágazat megnevezése: | K6: SZENNYVÍZ ÁGAZAT
A7: Véleményeltérést megfogalmazó érintett fél megnevezése:
A8: Víziközmű-rendszer kódja: ** | K8: 21-32054-1-048-01-10 | R8: Zalaegerszeg-SZV
A9: V. Szennyvízelvezetés
A10: Fontossági sorrend | B10: Beruházás megnevezése | E10: Műszaki állapot felmérés, szükségességi indoklás | H10: Vízjogi létesítési/elvi engedély száma | I10: Az érintett ellátásért felelős(ök) megnevezése | J10: Tervezett nettó költség | K10: Forrás 2021 évre | L10: Megvalósítás időtartama | N10: Tervezett időtáv | O10: A beruházás ütemezése a tervezési időszak évei szerint
E11: Jelenlegi műszaki állapot | F11: Feladat szükségessége | G11: Megvalósítást követő várható műszaki állapot | J11: (eFt) | L11: Kezdés | M11: Befejezés | N11: (rövid / közép / hosszú) | O11: 1 | P11: 2 | Q11: 3 | R11: 4 | S11: 5 | T11: 6 | U11: 7 | V11: 8 | W11: 9 | X11: 10 | Y11: 11 | Z11: 12 | AA11: 13 | AB11: 14 | AC11: 15
B13: szakág | C13: Helyszín | D13: beruházás megnevezése
B14: SZENNYVÍZCSATORNA (GRAVITÁCIÓS)
B15: Épület, építmény
B17: SZENNYVÍZVEZETÉKEK (KÉNYSZERÁRAMOLTATÁSÚ)
B19: SZENNYVÍZÁTEMELŐK
B20: Épület, építmény
B21: Gép, berendezés
B22: Irányítástechnika, energiaellátás
B24: Összesen: | J24: =SUM(J14:J23) -> 0 | K24: 0 | O24: =SUM(O13:O23) -> 0 | P24: =SUM(P13:P23) -> 0 | Q24: =SUM(Q13:Q23) -> 0 | R24: =SUM(R13:R23) -> 0 | S24: =SUM(S13:S23) -> 0 | T24: =SUM(T13:T23) -> 0 | U24: =SUM(U13:U23) -> 0 | V24: =SUM(V13:V23) -> 0 | ... AC24: =SUM(AC13:AC23) -> 0
K25: Beruházásra forrás nem áll rendelkezésre.
B26: Tervezett feladatok nettó költsége a teljes ütem tekintetében (eFt) | C26: Rendelkezésre álló források számszerűsített értéke a teljes ütem tekintetében (eFt) | D26: Rendelkezésre álló források megnevezése
A27: I. ütem | B27: =O24 -> 0 | C27: 0 | D27: Fejlesztési díj (2021)
A28: II. ütem | B28: =SUM(P24:S24) -> 0 | C28: =C27*4 -> 0 | D28: Fejlesztési díj (2022-2025)
A29: III. ütem | B29: =SUM(T24:AC24) -> 0 | C29: =C27*10 -> 0 | D29: Fejlesztési díj (2026-2035)
B31: Jelenleg beruházási igény nem ismert, nincs rendelkezésre álló forrás beruházásra.

Sheet Zalaboldogfa
A2: Gördülő fejlesztési terv a 2021 - 2035 időszakra
A3: BERUHÁZÁSOK ÖSSZEFOGLALÓ TÁBLÁZATA
A4: A tervet benyújtó szervezet megnevezése: | K4: ZALABOLDOGFA | R4: ellátásért felelős / ellátásért felelősök képviselője / víziközmű-szolgáltató *
A5: Víziközmű-szolgáltató megnevezése: | K5: ÉSZAK ZALAI VÍZ- ÉS CSATORNAMŰ ZÁRTKÖRŰEN MŰKÖDŐ RÉSZVÉNYTÁRSASÁG
A6: Víziközmű-szolgáltatási ágazat megnevezése: | K6: SZENNYVÍZ ÁGAZAT
A7: Véleményeltérést megfogalmazó érintett fél megnevezése:
A8: Víziközmű-rendszer kódja: ** | K8: 21-32054-1-048-01-10 | R8: Zalaegerszeg-SZV
A9: V. Szennyvízelvezetés
A10: Fontossági sorrend | B10: Beruházás megnevezése | E10: Műszaki állapot felmérés, szükségességi indoklás | H10: Vízjogi létesítési/elvi engedély száma | I10: Az érintett ellátásért felelős(ök) megnevezése | J10: Tervezett nettó költség | K10: Forrás 2021 évre | L10: Megvalósítás időtartama | N10: Tervezett időtáv | O10: A beruházás ütemezése a tervezési időszak évei szerint
E11: Jelenlegi műszaki állapot | F11: Feladat szükségessége | G11: Megvalósítást követő várható műszaki állapot | J11: (eFt) | L11: Kezdés | M11: Befejezés | N11: (rövid / közép / hosszú) | O11: 1 | P11: 2 | Q11: 3 | R11: 4 | S11: 5 | T11: 6 | U11: 7 | V11: 8 | W11: 9 | X11: 10 | Y11: 11 | Z11: 12 | AA11: 13 | AB11: 14 | AC11: 15
B12: szakág | C12: Helyszín | D12: beruházás megnevezése
B14: SZENNYVÍZCSATORNA (GRAVITÁCIÓS)
B15: Épület, építmény
B17: SZENNYVÍZVEZETÉKEK (KÉNYSZERÁRAMOLTATÁSÚ)
B19: SZENNYVÍZÁTEMELŐK
B20: Épület, építmény
B21: Gép, berendezés
B22: Irányítástechnika, energiaellátás
B24: Összesen: | J24: =SUM(J14:J23) -> 0 | K24: 0 | O24: =SUM(O13:O23) -> 0 | P24: =SUM(P13:P23) -> 0 | Q24: =SUM(Q13:Q23) -> 0 | R24: =SUM(R13:R23) -> 0 | S24: =SUM(S13:S23) -> 0 | T24: =SUM(T13:T23) -> 0 | U24: =SUM(U13:U23) -> 0 | V24: =SUM(V13:V23) -> 0 | ... AC24: =SUM(AC13:AC23) -> 0
K25: Beruházásra forrás nem áll rendelkezésre.
B26: Tervezett feladatok nettó költsége a teljes ütem tekintetében (eFt) | C26: Rendelkezésre álló források számszerűsített értéke a teljes ütem tekintetében (eFt) | D26: Rendelkezésre álló források megnevezése
A27: I. ütem | B27: =O24 -> 0 | C27: 0 | D27: Fejlesztési díj (2021)
A28: II. ütem | B28: =SUM(P24:S24) -> 0 | C28: =C27*4 -> 0 | D28: Fejlesztési díj (2022-2025)
A29: III. ütem | B29: =SUM(T24:AC24) -> 0 | C29: =C27*10 -> 0 | D29: Fejlesztési díj (2026-2035)
B31: Jelenleg beruházási igény nem ismert, nincs rendelkezésre álló forrás beruházásra.

Sheet Zalacséb
A2: Gördülő fejlesztési terv a 2021 - 2035 időszakra
A3: BERUHÁZÁSOK ÖSSZEFOGLALÓ TÁBLÁZATA
A4: A tervet benyújtó szervezet megnevezése: | K4: ZALACSÉB | R4: ellátásért felelős / ellátásért felelősök képviselője / víziközmű-szolgáltató *
A5: Víziközmű-szolgáltató megnevezése: | K5: ÉSZAK ZALAI VÍZ- ÉS CSATORNAMŰ ZÁRTKÖRŰEN MŰKÖDŐ RÉSZVÉNYTÁRSASÁG
A6: Víziközmű-szolgáltatási ágazat megnevezése: | K6: SZENNYVÍZ ÁGAZAT
A7: Véleményeltérést megfogalmazó érintett fél megnevezése:
A8: Víziközmű-rendszer kódja: ** | K8: 21-32054-1-048-01-10 | R8: Zalaegerszeg-SZV
A9: V. Szennyvízelvezetés
A10: Fontossági sorrend | B10: Beruházás megnevezése | E10: Műszaki állapot felmérés, szükségességi indoklás | H10: Vízjogi létesítési/elvi engedély száma | I10: Az érintett ellátásért felelős(ök) megnevezése | J10: Tervezett nettó költség | K10: Forrás 2021 évre | L10: Megvalósítás időtartama | N10: Tervezett időtáv | O10: A beruházás ütemezése a tervezési időszak évei szerint
E11: Jelenlegi műszaki állapot | F11: Feladat szükségessége | G11: Megvalósítást követő várható műszaki állapot | J11: (eFt) | L11: Kezdés | M11: Befejezés | N11: (rövid / közép / hosszú) | O11: 1 | P11: 2 | Q11: 3 | R11: 4 | S11: 5 | T11: 6 | U11: 7 | V11: 8 | W11: 9 | X11: 10 | Y11: 11 | Z11: 12 | AA11: 13 | AB11: 14 | AC11: 15
B12: szakág | C12: Helyszín | D12: beruházás megnevezése
B14: SZENNYVÍZCSATORNA (GRAVITÁCIÓS)
B15: Épület, építmény
B17: SZENNYVÍZVEZETÉKEK (KÉNYSZERÁRAMOLTATÁSÚ)
B19: SZENNYVÍZÁTEMELŐK
B20: Épület, építmény
B21: Gép, berendezés
B22: Irányítástechnika, energiaellátás
B24: Összesen: | J24: =SUM(J14:J23) -> 0 | K24: 0 | O24: =SUM(O13:O23) -> 0 | P24: =SUM(P13:P23) -> 0 | Q24: =SUM(Q13:Q23) -> 0 | R24: =SUM(R13:R23) -> 0 | S24: =SUM(S13:S23) -> 0 | T24: =SUM(T13:T23) -> 0 | U24: =SUM(U13:U23) -> 0 | V24: =SUM(V13:V23) -> 0 | ... AC24: =SUM(AC13:AC23) -> 0
K25: Beruházásra forrás nem áll rendelkezésre.
B26: Tervezett feladatok nettó költsége a teljes ütem tekintetében (eFt) | C26: Rendelkezésre álló források számszerűsített értéke a teljes ütem tekintetében (eFt) | D26: Rendelkezésre álló források megnevezése
A27: I. ütem | B27: =O24 -> 0 | C27: 0 | D27: Fejlesztési díj (2021)
A28: II. ütem | B28: =SUM(P24:S24) -> 0 | C28: =C27*4 -> 0 | D28: Fejlesztési díj (2022-2025)
A29: III. ütem | B29: =SUM(T24:AC24) -> 0 | C29: =C27*10 -> 0 | D29: Fejlesztési díj (2026-2035)
B31: Jelenleg beruházási igény nem ismert, nincs rendelkezésre álló forrás beruházásra.

Sheet Zalaegerszeg
A2: Gördülő fejlesztési terv a 2021 - 2035 időszakra
A3: BERUHÁZÁSOK ÖSSZEFOGLALÓ TÁBLÁZATA
A4: A tervet benyújtó szervezet megnevezése: | K4: ZALAEGERSZEG | R4: ellátásért felelős / ellátásért felelősök képviselője / víziközmű-szolgáltató *
A5: Víziközmű-szolgáltató megnevezése: | K5: ÉSZAK ZALAI VÍZ- ÉS CSATORNAMŰ ZÁRTKÖRŰEN MŰKÖDŐ RÉSZVÉNYTÁRSASÁG
A6: Víziközmű-szolgáltatási ágazat megnevezése: | K6: SZENNYVÍZ ÁGAZAT
A7: Véleményeltérést megfogalmazó érintett fél megnevezése:
A8: Víziközmű-rendszer kódja: ** | K8: 21-32054-1-048-01-10 | R8: Zalaegerszeg-SZV
A9: V. Szennyvízelvezetés
A10: Fontossági sorrend | B10: Beruházás megnevezése | E10: Műszaki állapot felmérés, szükségességi indoklás | H10: Vízjogi létesítési/elvi engedély száma | I10: Az érintett ellátásért felelős(ök) megnevezése | J10: Tervezett nettó költség | K10: Forrás 2021 évre | L10: Megvalósítás időtartama | N10: Tervezett időtáv | O10: A beruházás ütemezése a tervezési időszak évei szerint
E11: Jelenlegi műszaki állapot | F11: Feladat szükségessége | G11: Megvalósítást követő várható műszaki állapot | J11: (eFt) | L11: Kezdés | M11: Befejezés | N11: (rövid / közép / hosszú) | O11: 1 | P11: 2 | Q11: 3 | R11: 4 | S11: 5 | T11: 6 | U11: 7 | V11: 8 | W11: 9 | X11: 10 | Y11: 11 | Z11: 12 | AA11: 13 | AB11: 14 | AC11: 15
B12: szakág | C12: Helyszín | D12: beruházás megnevezése
B14: SZENNYVÍZCSATORNA (GRAVITÁCIÓS)
B15: Épület, építmény
A16: 1 | C16: Zalaegerszeg Azáleás u. | D16: szennyvízelvezetés kiépítése | E16: Az üzemelő viziközmű technológiailag elavult, üzemeltetése, és javítása már nem gazdaságos. Jelenleg a piacon magasabb műszaki tartalmak érhetőek el | F16: A viziközmű rendszer hatékonyságának növelése, az üzemeltetési költségek szinten tartása miatt szükséges | G16: A beavatkozás után egy hatékonyan működő viziközmű elemet kapunk, mely a kor elvárásainak megfelel. A rendszer üzembiztos, hatékony, és korszerű lesz | H16: - | I16: Zalaegerszeg | J16: =SUM(O16:AC16) -> 30000 | L16: 44927 | M16: 44561 | N16: közép | Q16: 30000
B17: SZENNYVÍZVEZETÉKEK (KÉNYSZERÁRAMOLTATÁSÚ)
B19: SZENNYVÍZÁTEMELŐK
B20: Épület, építmény
B21: Gép, berendezés
B22: Irányítástechnika, energiaellátás
A24: VI. Szennyvíztisztítás
A25: sorszám | B25: szakág | C25: Helyszín | D25: beruházás megnevezése
B26: SZENNYVÍZTISZTÍTÓ-TELEP
B27: Épület, építmény
A28: 2 | C28: Zalaegerszeg szennyvíztisztító telep biológiai medence | D28: 1. biológia műtárgy újjáépítése | E28: A műtárgy állaga előrehaladott elhasználódást mutat. | F28: A viziközmű műtárgy/berendezés nem tudja betölteni funkcióját, technológiai paraméterek nem teljesülnek. Határérték túllépés várható | G28: A viziközmű elem állapota megközelíti az új elem berendezés állapotát. Az üzembiztonság jelentősen növekszik, balesetveszélyes állapot megszűnik. Teljesíthető határértékek. | H28: - | I28: Zalaegerszeg | J28: =SUM(O28:AC28) -> 4000000 | L28: 45658 | M28: 46022 | N28: közép | S28: 4000000
B29: Gép, berendezés
B30: Irányítástechnika, energiaellátás
B31: EGYEDI SZENNYVÍZKEZELŐ LÉTESÍTMÉNY
B32: Épület, építmény
B34: Gép, berendezés
B36: Irányítástechnika, energiaellátás
B38: TERMÉSZETKÖZELI SZENNYVÍZTISZTÍTÓK
B39: Épület, építmény
B41: Gép, berendezés
B43: Irányítástechnika, energiaellátás
B45: EGYEDI ZÁRT SZENNYVÍZTÁROLÓ
B46: Épület, építmény
... B50: Irányítástechnika, energiaellátás
B53: Összesen: | J53: =SUM(J14:J52) -> 4030000 | K53: =C56 -> 20770 | O53: =SUM(O13:O52) -> 0 | P53: =SUM(P13:P52) -> 0 | Q53: =SUM(Q13:Q52) -> 30000 | R53: =SUM(R13:R52) -> 0 | S53: =SUM(S13:S52) -> 4000000 | T53: =SUM(T13:T52) -> 0 | U53: =SUM(U13:U52) -> 0 | V53: =SUM(V13:V52) -> 0 | ... AC53: =SUM(AC13:AC52) -> 0
K54: Beruházásra fejlesztési forrás biztosított
B55: Tervezett feladatok nettó költsége a teljes ütem tekintetében (eFt) | C55: Rendelkezésre álló források számszerűsített értéke a teljes ütem tekintetében (eFt) | D55: Rendelkezésre álló források megnevezése
A56: I. ütem | B56: =O53 -> 0 | C56: 20770 | D56: Fejlesztési díj (2021)
A57: II. ütem | B57: =SUM(P53:S53) -> 4030000 | C57: =C56*4 -> 83080 | D57: Fejlesztési díj (2022-2025)
A58: III. ütem | B58: =SUM(T53:AC53) -> 0 | C58: =C56*10 -> 207700 | D58: Fejlesztési díj (2026-2035)

Sheet Zalaistvánd
A2: Gördülő fejlesztési terv a 2021 - 2035 időszakra
A3: BERUHÁZÁSOK ÖSSZEFOGLALÓ TÁBLÁZATA
A4: A tervet benyújtó szervezet megnevezése: | K4: ZALAISTVÁND | R4: ellátásért felelős / ellátásért felelősök képviselője / víziközmű-szolgáltató *
A5: Víziközmű-szolgáltató megnevezése: | K5: ÉSZAK ZALAI VÍZ- ÉS CSATORNAMŰ ZÁRTKÖRŰEN MŰKÖDŐ RÉSZVÉNYTÁRSASÁG
A6: Víziközmű-szolgáltatási ágazat megnevezése: | K6: SZENNYVÍZ ÁGAZAT
A7: Véleményeltérést megfogalmazó érintett fél megnevezése:
A8: Víziközmű-rendszer kódja: ** | K8: 21-32054-1-048-01-10 | R8: Zalaegerszeg-SZV
A9: V. Szennyvízelvezetés
A10: Fontossági sorrend | B10: Beruházás megnevezése | E10: Műszaki állapot felmérés, szükségességi indoklás | H10: Vízjogi létesítési/elvi engedély száma | I10: Az érintett ellátásért felelős(ök) megnevezése | J10: Tervezett nettó költség | K10: Forrás 2021 évre | L10: Megvalósítás időtartama | N10: Tervezett időtáv | O10: A beruházás ütemezése a tervezési időszak évei szerint
E11: Jelenlegi műszaki állapot | F11: Feladat szükségessége | G11: Megvalósítást követő várható műszaki állapot | J11: (eFt) | L11: Kezdés | M11: Befejezés | N11: (rövid / közép / hosszú) | O11: 1 | P11: 2 | Q11: 3 | R11: 4 | S11: 5 | T11: 6 | U11: 7 | V11: 8 | W11: 9 | X11: 10 | Y11: 11 | Z11: 12 | AA11: 13 | AB11: 14 | AC11: 15
B12: szakág | C12: Helyszín | D12: beruházás megnevezése
B14: SZENNYVÍZCSATORNA (GRAVITÁCIÓS)
B15: Épület, építmény
B17: SZENNYVÍZVEZETÉKEK (KÉNYSZERÁRAMOLTATÁSÚ)
B19: SZENNYVÍZÁTEMELŐK
B20: Épület, építmény
B21: Gép, berendezés
B22: Irányítástechnika, energiaellátás
B24: Összesen: | J24: =SUM(J14:J23) -> 0 | K24: 0 | O24: =SUM(O13:O23) -> 0 | P24: =SUM(P13:P23) -> 0 | Q24: =SUM(Q13:Q23) -> 0 | R24: =SUM(R13:R23) -> 0 | S24: =SUM(S13:S23) -> 0 | T24: =SUM(T13:T23) -> 0 | U24: =SUM(U13:U23) -> 0 | V24: =SUM(V13:V23) -> 0 | ... AC24: =SUM(AC13:AC23) -> 0
K25: Beruházásra forrás nem áll rendelkezésre.
B26: Tervezett feladatok nettó költsége a teljes ütem tekintetében (eFt) | C26: Rendelkezésre álló források számszerűsített értéke a teljes ütem tekintetében (eFt) | D26: Rendelkezésre álló források megnevezése
A27: I. ütem | B27: =O24 -> 0 | C27: 0 | D27: Fejlesztési díj (2021)
A28: II. ütem | B28: =SUM(P24:S24) -> 0 | C28: =C27*4 -> 0 | D28: Fejlesztési díj (2022-2025)
A29: III. ütem | B29: =SUM(T24:AC24) -> 0 | C29: =C27*10 -> 0 | D29: Fejlesztési díj (2026-2035)
B31: Jelenleg beruházási igény nem ismert, nincs rendelkezésre álló forrás beruházásra.

Sheet Zalaszentgyörgy
A2: Gördülő fejlesztési terv a 2021 - 2035 időszakra
A3: BERUHÁZÁSOK ÖSSZEFOGLALÓ TÁBLÁZATA
A4: A tervet benyújtó szervezet megnevezése: | K4: ZALASZENTGYÖRGY | R4: ellátásért felelős / ellátásért felelősök képviselője / víziközmű-szolgáltató *
A5: Víziközmű-szolgáltató megnevezése: | K5: ÉSZAK ZALAI VÍZ- ÉS CSATORNAMŰ ZÁRTKÖRŰEN MŰKÖDŐ RÉSZVÉNYTÁRSASÁG
A6: Víziközmű-szolgáltatási ágazat megnevezése: | K6: SZENNYVÍZ ÁGAZAT
A7: Véleményeltérést megfogalmazó érintett fél megnevezése:
A8: Víziközmű-rendszer kódja: ** | K8: 21-32054-1-048-01-10 | R8: Zalaegerszeg-SZV
A9: V. Szennyvízelvezetés
A10: Fontossági sorrend | B10: Beruházás megnevezése | E10: Műszaki állapot felmérés, szükségességi indoklás | H10: Vízjogi létesítési/elvi engedély száma | I10: Az érintett ellátásért felelős(ök) megnevezése | J10: Tervezett nettó költség | K10: Forrás 2021 évre | L10: Megvalósítás időtartama | N10: Tervezett időtáv | O10: A beruházás ütemezése a tervezési időszak évei szerint
E11: Jelenlegi műszaki állapot | F11: Feladat szükségessége | G11: Megvalósítást követő várható műszaki állapot | J11: (eFt) | L11: Kezdés | M11: Befejezés | N11: (rövid / közép / hosszú) | O11: 1 | P11: 2 | Q11: 3 | R11: 4 | S11: 5 | T11: 6 | U11: 7 | V11: 8 | W11: 9 | X11: 10 | Y11: 11 | Z11: 12 | AA11: 13 | AB11: 14 | AC11: 15
B12: szakág | C12: Helyszín | D12: beruházás megnevezése
B14: SZENNYVÍZCSATORNA (GRAVITÁCIÓS)
B15: Épület, építmény
B17: SZENNYVÍZVEZETÉKEK (KÉNYSZERÁRAMOLTATÁSÚ)
B19: SZENNYVÍZÁTEMELŐK
B20: Épület, építmény
B21: Gép, berendezés
B22: Irányítástechnika, energiaellátás
B24: Összesen: | J24: =SUM(J14:J23) -> 0 | K24: 0 | O24: =SUM(O13:O23) -> 0 | P24: =SUM(P13:P23) -> 0 | Q24: =SUM(Q13:Q23) -> 0 | R24: =SUM(R13:R23) -> 0 | S24: =SUM(S13:S23) -> 0 | T24: =SUM(T13:T23) -> 0 | U24: =SUM(U13:U23) -> 0 | V24: =SUM(V13:V23) -> 0 | ... AC24: =SUM(AC13:AC23) -> 0
K25: Beruházásra forrás nem áll rendelkezésre.
B26: Tervezett feladatok nettó költsége a teljes ütem tekintetében (eFt) | C26: Rendelkezésre álló források számszerűsített értéke a teljes ütem tekintetében (eFt) | D26: Rendelkezésre álló források megnevezése
A27: I. ütem | B27: =O24 -> 0 | C27: 0 | D27: Fejlesztési díj (2021)
A28: II. ütem | B28: =SUM(P24:S24) -> 0 | C28: =C27*4 -> 0 | D28: Fejlesztési díj (2022-2025)
A29: III. ütem | B29: =SUM(T24:AC24) -> 0 | C29: =C27*10 -> 0 | D29: Fejlesztési díj (2026-2035)
B31: Jelenleg beruházási igény nem ismert, nincs rendelkezésre álló forrás beruházásra.

Sheet Zalaszentiván
A2: Gördülő fejlesztési terv a 2021 - 2035 időszakra
A3: BERUHÁZÁSOK ÖSSZEFOGLALÓ TÁBLÁZATA
A4: A tervet benyújtó szervezet megnevezése: | K4: ZALASZENTIVÁN | R4: ellátásért felelős / ellátásért felelősök képviselője / víziközmű-szolgáltató *
A5: Víziközmű-szolgáltató megnevezése: | K5: ÉSZAK ZALAI VÍZ- ÉS CSATORNAMŰ ZÁRTKÖRŰEN MŰKÖDŐ RÉSZVÉNYTÁRSASÁG
A6: Víziközmű-szolgáltatási ágazat megnevezése: | K6: SZENNYVÍZ ÁGAZAT
A7: Véleményeltérést megfogalmazó érintett fél megnevezése:
A8: Víziközmű-rendszer kódja: ** | K8: 21-32054-1-048-01-10 | R8: Zalaegerszeg-SZV
A9: V. Szennyvízelvezetés
A10: Fontossági sorrend | B10: Beruházás megnevezése | E10: Műszaki állapot felmérés, szükségességi indoklás | H10: Vízjogi létesítési/elvi engedély száma | I10: Az érintett ellátásért felelős(ök) megnevezése | J10: Tervezett nettó költség | K10: Forrás 2021 évre | L10: Megvalósítás időtartama | N10: Tervezett időtáv | O10: A beruházás ütemezése a tervezési időszak évei szerint
E11: Jelenlegi műszaki állapot | F11: Feladat szükségessége | G11: Megvalósítást követő várható műszaki állapot | J11: (eFt) | L11: Kezdés | M11: Befejezés | N11: (rövid / közép / hosszú) | O11: 1 | P11: 2 | Q11: 3 | R11: 4 | S11: 5 | T11: 6 | U11: 7 | V11: 8 | W11: 9 | X11: 10 | Y11: 11 | Z11: 12 | AA11: 13 | AB11: 14 | AC11: 15
B12: szakág | C12: Helyszín | D12: beruházás megnevezése
B14: SZENNYVÍZCSATORNA (GRAVITÁCIÓS)
B15: Épület, építmény
B17: SZENNYVÍZVEZETÉKEK (KÉNYSZERÁRAMOLTATÁSÚ)
B19: SZENNYVÍZÁTEMELŐK
B20: Épület, építmény
B21: Gép, berendezés
B22: Irányítástechnika, energiaellátás
B24: Összesen: | J24: =SUM(J14:J23) -> 0 | K24: 0 | O24: =SUM(O13:O23) -> 0 | P24: =SUM(P13:P23) -> 0 | Q24: =SUM(Q13:Q23) -> 0 | R24: =SUM(R13:R23) -> 0 | S24: =SUM(S13:S23) -> 0 | T24: =SUM(T13:T23) -> 0 | U24: =SUM(U13:U23) -> 0 | V24: =SUM(V13:V23) -> 0 | ... AC24: =SUM(AC13:AC23) -> 0
K25: Beruházásra forrás nem áll rendelkezésre.
B26: Tervezett feladatok nettó költsége a teljes ütem tekintetében (eFt) | C26: Rendelkezésre álló források számszerűsített értéke a teljes ütem tekintetében (eFt) | D26: Rendelkezésre álló források megnevezése
A27: I. ütem | B27: =O24 -> 0 | C27: 0 | D27: Fejlesztési díj (2021)
A28: II. ütem | B28: =SUM(P24:S24) -> 0 | C28: =C27*4 -> 0 | D28: Fejlesztési díj (2022-2025)
A29: III. ütem | B29: =SUM(T24:AC24) -> 0 | C29: =C27*10 -> 0 | D29: Fejlesztési díj (2026-2035)
B31: Jelenleg beruházási igény nem ismert, nincs rendelkezésre álló forrás beruházásra.

Sheet Zalaszentlőrinc
A2: Gördülő fejlesztési terv a 2021 - 2035 időszakra
A3: BERUHÁZÁSOK ÖSSZEFOGLALÓ TÁBLÁZATA
A4: A tervet benyújtó szervezet megnevezése: | K4: ZALASZENTLŐRINC | R4: ellátásért felelős / ellátásért felelősök képviselője / víziközmű-szolgáltató *
A5: Víziközmű-szolgáltató megnevezése: | K5: ÉSZAK ZALAI VÍZ- ÉS CSATORNAMŰ ZÁRTKÖRŰEN MŰKÖDŐ RÉSZVÉNYTÁRSASÁG
A6: Víziközmű-szolgáltatási ágazat megnevezése: | K6: SZENNYVÍZ ÁGAZAT
A7: Véleményeltérést megfogalmazó érintett fél megnevezése:
A8: Víziközmű-rendszer kódja: ** | K8: 21-32054-1-048-01-10 | R8: Zalaegerszeg-SZV
A9: V. Szennyvízelvezetés
A10: Fontossági sorrend | B10: Beruházás megnevezése | E10: Műszaki állapot felmérés, szükségességi indoklás | H10: Vízjogi létesítési/elvi engedély száma | I10: Az érintett ellátásért felelős(ök) megnevezése | J10: Tervezett nettó költség | K10: Forrás 2021 évre | L10: Megvalósítás időtartama | N10: Tervezett időtáv | O10: A beruházás ütemezése a tervezési időszak évei szerint
E11: Jelenlegi műszaki állapot | F11: Feladat szükségessége | G11: Megvalósítást követő várható műszaki állapot | J11: (eFt) | L11: Kezdés | M11: Befejezés | N11: (rövid / közép / hosszú) | O11: 1 | P11: 2 | Q11: 3 | R11: 4 | S11: 5 | T11: 6 | U11: 7 | V11: 8 | W11: 9 | X11: 10 | Y11: 11 | Z11: 12 | AA11: 13 | AB11: 14 | AC11: 15
B12: szakág | C12: Helyszín | D12: beruházás megnevezése
B14: SZENNYVÍZCSATORNA (GRAVITÁCIÓS)
B15: Épület, építmény
B17: SZENNYVÍZVEZETÉKEK (KÉNYSZERÁRAMOLTATÁSÚ)
B19: SZENNYVÍZÁTEMELŐK
B20: Épület, építmény
B21: Gép, berendezés
B22: Irányítástechnika, energiaellátás
B24: Összesen: | J24: =SUM(J14:J23) -> 0 | K24: 0 | O24: =SUM(O13:O23) -> 0 | P24: =SUM(P13:P23) -> 0 | Q24: =SUM(Q13:Q23) -> 0 | R24: =SUM(R13:R23) -> 0 | S24: =SUM(S13:S23) -> 0 | T24: =SUM(T13:T23) -> 0 | U24: =SUM(U13:U23) -> 0 | V24: =SUM(V13:V23) -> 0 | ... AC24: =SUM(AC13:AC23) -> 0
K25: Beruházásra forrás nem áll rendelkezésre.
B26: Tervezett feladatok nettó költsége a teljes ütem tekintetében (eFt) | C26: Rendelkezésre álló források számszerűsített értéke a teljes ütem tekintetében (eFt) | D26: Rendelkezésre álló források megnevezése
A27: I. ütem | B27: =O24 -> 0 | C27: 0 | D27: Fejlesztési díj (2021)
A28: II. ütem | B28: =SUM(P24:S24) -> 0 | C28: =C27*4 -> 0 | D28: Fejlesztési díj (2022-2025)
A29: III. ütem | B29: =SUM(T24:AC24) -> 0 | C29: =C27*10 -> 0 | D29: Fejlesztési díj (2026-2035)
B31: Jelenleg beruházási igény nem ismert, nincs rendelkezésre álló forrás beruházásra.

Sheet VKR összesítő
A2: Gördülő fejlesztési terv a 2021 - 2035 időszakra
A3: BERUHÁZÁSOK ÖSSZEFOGLALÓ TÁBLÁZATA
A4: A tervet benyújtó szervezet megnevezése: | K4: ZALAEGERSZEG | R4: ellátásért felelős / ellátásért felelősök képviselője / víziközmű-szolgáltató *
A5: Víziközmű-szolgáltató megnevezése: | K5: ÉSZAK ZALAI VÍZ- ÉS CSATORNAMŰ ZÁRTKÖRŰEN MŰKÖDŐ RÉSZVÉNYTÁRSASÁG
A6: Víziközmű-szolgáltatási ágazat megnevezése: | K6: SZENNYVÍZ ÁGAZAT
A7: Véleményeltérést megfogalmazó érintett fél megnevezése:
A8: Víziközmű-rendszer kódja: ** | K8: 21-32054-1-048-01-10 | R8: Zalaegerszeg-SZV
A9: V. Szennyvízelvezetés
A10: Fontossági sorrend | B10: Beruházás megnevezése | E10: Műszaki állapot felmérés, szükségességi indoklás | H10: Vízjogi létesítési/elvi engedély száma | I10: Az érintett ellátásért felelős(ök) megnevezése | J10: Tervezett nettó költség | K10: Forrás 2021 évre | L10: Megvalósítás időtartama | N10: Tervezett időtáv | O10: A beruházás ütemezése a tervezési időszak évei szerint
E11: Jelenlegi műszaki állapot | F11: Feladat szükségessége | G11: Megvalósítást követő várható műszaki állapot | J11: (eFt) | L11: Kezdés | M11: Befejezés | N11: (rövid / közép / hosszú) | O11: 1 | P11: 2 | Q11: 3 | R11: 4 | S11: 5 | T11: 6 | U11: 7 | V11: 8 | W11: 9 | X11: 10 | Y11: 11 | Z11: 12 | AA11: 13 | AB11: 14 | AC11: 15
B12: szakág | C12: Helyszín | D12: beruházás megnevezése
B14: SZENNYVÍZCSATORNA (GRAVITÁCIÓS)
B15: Épület, építmény
A16: =Zalaegerszeg!A16 -> 1 | C16: =Zalaegerszeg!C16 -> Zalaegerszeg Azáleás u. | D16: =Zalaegerszeg!D16 -> szennyvízelvezetés kiépítése | E16: =Zalaegerszeg!E16 -> Az üzemelő viziközmű technológiailag elavult, üzemeltetése, és javítása már nem gazdaságos. Jelenleg a piacon magasabb műszaki tartalmak érhetőek el | F16: =Zalaegerszeg!F16 -> A viziközmű rendszer hatékonyságának növelése, az üzemeltetési költségek szinten tartása miatt szükséges | G16: =Zalaegerszeg!G16 -> A beavatkozás után egy hatékonyan működő viziközmű elemet kapunk, mely a kor elvárásainak megfelel. A rendszer üzembiztos, hatékony, és korszerű lesz | H16: =Zalaegerszeg!H16 -> - | I16: =Zalaegerszeg!I16 -> Zalaegerszeg | J16: =Zalaegerszeg!J16 -> 30000 | L16: =Zalaegerszeg!L16 -> 44927 | M16: =Zalaegerszeg!M16 -> 44561 | N16: =Zalaegerszeg!N16 -> közép | Q16: =Zalaegerszeg!Q16 -> 30000
B17: SZENNYVÍZVEZETÉKEK (KÉNYSZERÁRAMOLTATÁSÚ)
B19: SZENNYVÍZÁTEMELŐK
B20: Épület, építmény
B22: Gép, berendezés
B24: Irányítástechnika, energiaellátás
B25: összesen: | J25: =SUM(J14:J24) -> 30000
A26: VI. Szennyvíztisztítás
A27: sorszám | B27: szakág | C27: Helyszín | D27: beruházás megnevezése
B28: SZENNYVÍZTISZTÍTÓ-TELEP
B29: Épület, építmény
A30: =Zalaegerszeg!A28 -> 2 | C30: =Zalaegerszeg!C28 -> Zalaegerszeg szennyvíztisztító telep biológiai medence | D30: =Zalaegerszeg!D28 -> 1. biológia műtárgy újjáépítése | E30: =Zalaegerszeg!E28 -> A műtárgy állaga előrehaladott elhasználódást mutat. | F30: =Zalaegerszeg!F28 -> A viziközmű műtárgy/berendezés nem tudja betölteni funkcióját, technológiai paraméterek nem teljesülnek. Határérték túllépés várható | G30: =Zalaegerszeg!G28 -> A viziközmű elem állapota megközelíti az új elem berendezés állapotát. Az üzembiztonság jelentősen növekszik, balesetveszélyes állapot megszűnik. Teljesíthető határértékek. | H30: =Zalaegerszeg!H28 -> - | I30: =Zalaegerszeg!I28 -> Zalaegerszeg | J30: =Zalaegerszeg!J28 -> 4000000 | L30: =Zalaegerszeg!L28 -> 45658 | M30: =Zalaegerszeg!M28 -> 46022 | N30: =Zalaegerszeg!N28 -> közép | S30: =Zalaegerszeg!S28 -> 4000000
B31: Gép, berendezés
B32: Irányítástechnika, energiaellátás
B33: EGYEDI SZENNYVÍZKEZELŐ LÉTESÍTMÉNY
B34: Épület, építmény
B36: Gép, berendezés
B38: Irányítástechnika, energiaellátás
B40: TERMÉSZETKÖZELI SZENNYVÍZTISZTÍTÓK
B41: Épület, építmény
B43: Gép, berendezés
B45: Irányítástechnika, energiaellátás
B47: EGYEDI ZÁRT SZENNYVÍZTÁROLÓ
B48: Épület, építmény
... B52: Irányítástechnika, energiaellátás
B55: Összesen: | J55: =SUM(J28:J54) -> 4000000 | K55: =Zalaegerszeg!K53 -> 20770 | O55: =SUM(O13:O54) -> 0 | P55: =SUM(P13:P54) -> 0 | Q55: =SUM(Q13:Q54) -> 30000 | R55: =SUM(R13:R54) -> 0 | S55: =SUM(S13:S54) -> 4000000 | T55: =SUM(T13:T54) -> 0 | U55: =SUM(U13:U54) -> 0 | V55: =SUM(V13:V54) -> 0 | ... AC55: =SUM(AC13:AC54) -> 0
K56: Beruházásra fejlesztési forrás biztosított
B57: Tervezett feladatok nettó költsége a teljes ütem tekintetében (eFt) | C57: Rendelkezésre álló források számszerűsített értéke a teljes ütem tekintetében (eFt) | D57: Rendelkezésre álló források megnevezése
A58: I. ütem | B58: =Alibánfa!B27+Alsónemesapáti!B27+Babosdöbréte!B27+Bagod!B27+Bak!B27+Bocfölde!B27+Boncodfölde!B27+Böde!B27+Búcsúszentlászló!B27+Csatár!B27+Csonkahegyhát!B27+Dobronhegy!B27+Egervár!B27+Gősfa!B27+Hagyárosbörönd!B27+Hottó!B27+Kávás!B27+Kemendollár!B27+Keménfa!B27+Kisbucsa!B27+Kiskutas!B27+Kispáli!B27+Lakhegy!B27+Nagykutas!B27+Nagypáli!B27+Nemesapáti!B27+Nemeshetés!B27+Nemesándorháza!B27+Nemesszentandrás!B27+Németfalu!B27+Ozmánbük!B27+Pethőhenye!B27+Pókaszepetk!B27+Pusztaszenlászló!B27+Salomvár!B27+Sárhida!B27+Söjtör!B27+Teskánd!B27+Vasboldogasszony!B27+Vaspör!B27+Vöckönd!B27+Zalaboldogfa!B27+Zalacséb!B27+Zalaegerszeg!B56+Zalaistvánd!B27+Zalaszentgyörgy!B27+Zalaszentiván!B27+Zalaszentlőrinc!B27 -> 0 | C58: 20770 | D58: Fejlesztési díj (2021)
A59: II. ütem | B59: =Alibánfa!B28+Alsónemesapáti!B28+Babosdöbréte!B28+Bagod!B28+Bak!B28+Bocfölde!B28+Boncodfölde!B28+Böde!B28+Búcsúszentlászló!B28+Csatár!B28+Csonkahegyhát!B28+Dobronhegy!B28+Egervár!B28+Gősfa!B28+Hagyárosbörönd!B28+Hottó!B28+Kávás!B28+Kemendollár!B28+Keménfa!B28+Kisbucsa!B28+Kiskutas!B28+Kispáli!B28+Lakhegy!B28+Nagykutas!B28+Nagypáli!B28+Nemesapáti!B28+Nemeshetés!B28+Nemesándorháza!B28+Nemesszentandrás!B28+Németfalu!B28+Ozmánbük!B28+Pethőhenye!B28+Pókaszepetk!B28+Pusztaszenlászló!B28+Salomvár!B28+Sárhida!B28+Söjtör!B28+Teskánd!B28+Vasboldogasszony!B28+Vaspör!B28+Vöckönd!B28+Zalaboldogfa!B28+Zalacséb!B28+Zalaegerszeg!B57+Zalaistvánd!B28+Zalaszentgyörgy!B28+Zalaszentiván!B28+Zalaszentlőrinc!B28 -> 4030000 | C59: =Alibánfa!C28+Alsónemesapáti!C28+Babosdöbréte!C28+Bagod!C28+Bak!C28+Bocfölde!C28+Boncodfölde!C28+Böde!C28+Búcsúszentlászló!C28+Csatár!C28+Csonkahegyhát!C28+Dobronhegy!C28+Egervár!C28+Gősfa!C28+Hagyárosbörönd!C28+Hottó!C28+Kávás!C28+Kemendollár!C28+Keménfa!C28+Kisbucsa!C28+Kiskutas!C28+Kispáli!C28+Lakhegy!C28+Nagykutas!C28+Nagypáli!C28+Nemesapáti!C28+Nemeshetés!C28+Nemesándorháza!C28+Nemesszentandrás!C28+Németfalu!C28+Ozmánbük!C28+Pethőhenye!C28+Pókaszepetk!C28+Pusztaszenlászló!C28+Salomvár!C28+Sárhida!C28+Söjtör!C28+Teskánd!C28+Vasboldogasszony!C28+Vaspör!C28+Vöckönd!C28+Zalaboldogfa!C28+Zalacséb!C28+Zalaegerszeg!C57+Zalaistvánd!C28+Zalaszentgyörgy!C28+Zalaszentiván!C28+Zalaszentlőrinc!C28 -> 83080 | D59: Fejlesztési díj (2022-2025)
A60: III. ütem | B60: =Alibánfa!B29+Alsónemesapáti!B29+Babosdöbréte!B29+Bagod!B29+Bak!B29+Bocfölde!B29+Boncodfölde!B29+Böde!B29+Búcsúszentlászló!B29+Csatár!B29+Csonkahegyhát!B29+Dobronhegy!B29+Egervár!B29+Gősfa!B29+Hagyárosbörönd!B29+Hottó!B29+Kávás!B29+Kemendollár!B29+Keménfa!B29+Kisbucsa!B29+Kiskutas!B29+Kispáli!B29+Lakhegy!B29+Nagykutas!B29+Nagypáli!B29+Nemesapáti!B29+Nemeshetés!B29+Nemesándorháza!B29+Nemesszentandrás!B29+Németfalu!B29+Ozmánbük!B29+Pethőhenye!B29+Pókaszepetk!B29+Pusztaszenlászló!B29+Salomvár!B29+Sárhida!B29+Söjtör!B29+Teskánd!B29+Vasboldogasszony!B29+Vaspör!B29+Vöckönd!B29+Zalaboldogfa!B29+Zalacséb!B29+Zalaegerszeg!B58+Zalaistvánd!B29+Zalaszentgyörgy!B29+Zalaszentiván!B29+Zalaszentlőrinc!B29 -> 0 | C60: =Alibánfa!C29+Alsónemesapáti!C29+Babosdöbréte!C29+Bagod!C29+Bak!C29+Bocfölde!C29+Boncodfölde!C29+Böde!C29+Búcsúszentlászló!C29+Csatár!C29+Csonkahegyhát!C29+Dobronhegy!C29+Egervár!C29+Gősfa!C29+Hagyárosbörönd!C29+Hottó!C29+Kávás!C29+Kemendollár!C29+Keménfa!C29+Kisbucsa!C29+Kiskutas!C29+Kispáli!C29+Lakhegy!C29+Nagykutas!C29+Nagypáli!C29+Nemesapáti!C29+Nemeshetés!C29+Nemesándorháza!C29+Nemesszentandrás!C29+Németfalu!C29+Ozmánbük!C29+Pethőhenye!C29+Pókaszepetk!C29+Pusztaszenlászló!C29+Salomvár!C29+Sárhida!C29+Söjtör!C29+Teskánd!C29+Vasboldogasszony!C29+Vaspör!C29+Vöckönd!C29+Zalaboldogfa!C29+Zalacséb!C29+Zalaegerszeg!C58+Zalaistvánd!C29+Zalaszentgyörgy!C29+Zalaszentiván!C29+Zalaszentlőrinc!C29 -> 207700 | D60: Fejlesztési díj (2026-2035)
