Workbook

Sheet Előlap
A2: Az adatszolgáltatás
A3: MEKH azonosítószáma: | B3: VK_GFT-JH_F-SZV
A4: címe: | B4: GFT-Jóváhagyás_Felújítás-Szennyvíz
A5: gyakorisága: | B5: Éves
A6: beszámolási időszak: | B6: 2026-01-01
A7: Tárgyidőszak kezdete | B7: =LEFT(B6,4)+1 -> 2027
A8: Tárgyidőszak vége | B8: =LEFT(B6,4)+10 -> 2036
A9: teljesítésének határideje: | B9: 2026-10-01
A12: Az adatszolgáltató
A13: neve: | B13: ZALAVÍZ Zrt.
A14: címe: | B14: 8900 Zalaegerszeg, Balatoni út 8. (2735/17 hrsz.)
A15: MEKH nyilvántartási kódja: | B15: 11354286

Sheet Összesítő
N1: H/1 -- Forrás megnevezése (I. ütem) | AA1: H/2 -- Forrás megnevezése (II. ütem)
A2: Sorszám | B2: Víziközmű-rendszer megnevezése | C2: Víziközmű-rendszer hivatali kódja | D2: ISA | E2: Az érintett ellátásért felelős(ök) megnevezése | F2: Ellátási terület | G2: Ellenőrzés | I2: Tervezett nettó költség [eFt] | J2: A beruházás tervezett nettó költsége a tervezési időszak ütemezése szerint [eFt] - I. ütem | K2: A beruházás tervezett nettó költsége a tervezési időszak ütemezése szerint [eFt] - II. ütem | L2: Az EM rendelet 2. melléklet terhére elszámolni tervezett költség | N2: Használati díj [eFt] | O2: ÉCS [eFt] | P2: Közműfejlesztési hozzájárulás [eFt] | Q2: Egyéb saját forrás [eFt] | R2: Díj [eFt] | S2: VFEA - EM rendelet 1. melléklet | T2: Egyéb állami támogatás [eFt] | U2: Önkormányzati támogatás [eFt] | V2: EU-s támogatás [eFt] | W2: Egyéb támogatás [eFt] | X2: Banki hitel, kötvénykibocsátás [eFt] | Y2: Összesítés [eFt] | AA2: Használati díj [eFt] | AB2: ÉCS [eFt] | AC2: Közműfejlesztési hozzájárulás [eFt] | AD2: Egyéb saját forrás [eFt] | AE2: Díj [eFt] | AF2: VFEA - EM rendelet 1. melléklet | AG2: Egyéb állami támogatás [eFt] | AH2: Önkormányzati támogatás [eFt] | AI2: EU-s támogatás [eFt] | AJ2: Egyéb támogatás [eFt] | AK2: Banki hitel, kötvénykibocsátás [eFt] | AL2: Összesítés [eFt] | AS2: Hány feladat van a rendszeren | AT2: Helyes kitöltések száma | AU2: VAN rövidtávú terv? | AV2: VAN hosszútávú terv?
B3: Víziközmű-rendszer megnevezése | C3: Víziközmű-rendszer hivatali kódja | D3: ISA | E3: Az érintett ellátásért felelős(ök) megnevezése | F3: Ellátási terület | I3: =SUM(I$4:I$13019) -> 14538061 | J3: =SUM(J$4:J$13019) -> 303232 | K3: =SUM(K$4:K$13019) -> 14234829 | L3: =SUM(L$4:L$13019) -> 0 | N3: =SUM(N$4:N$3019) -> 303232 | O3: =SUM(O$4:O$3019) -> 0 | P3: =SUM(P$4:P$3019) -> 0 | Q3: =SUM(Q$4:Q$3019) -> 0 | R3: =SUM(R$4:R$3019) -> 0 | S3: =SUM(S$4:S$3019) -> 0 | T3: =SUM(T$4:T$3019) -> 0 | U3: =SUM(U$4:U$3019) -> 0 | ... Y3: =SUM(Y$4:Y$3019) -> 303232 | AA3: =SUM(AA$4:AA$3019) -> 594714 | AB3: =SUM(AB$4:AB$3019) -> 0 | AC3: =SUM(AC$4:AC$3019) -> 0 | AD3: =SUM(AD$4:AD$3019) -> 0 | AE3: =SUM(AE$4:AE$3019) -> 0 | AF3: =SUM(AF$4:AF$3019) -> 0 | AG3: =SUM(AG$4:AG$3019) -> 0 | AH3: =SUM(AH$4:AH$3019) -> 0 | ... AL3: =SUM(AL$4:AL$3019) -> 594714 | AR3: RÖGZÍTVE? | AS3: =SUM(AS$4:AS$3019) -> 928 | AT3: =SUM(AT$4:AT$3019) -> 928 | AU3: új | AV3: új
A4: 1671 | B4: Gutorfölde-SZV | C4: 21-02097-1-001-00-13 | D4: 3168 | E4: Gutorfölde Község Önkormányzata | F4: Gutorfölde | G4: =IF(ISNA($AR4),"Nincs rögzítve!",IF(AU4=0,"Hiányzik a rövidtávú terv!",IF(AV4=0,"Hiányzik a hosszútávú terv!",IF(AS4=AT4,"Kitöltés rendben!",IF(AS4<>AT4,"Kitöltési hiba!","Kitöltési hiba!"))))) -> Nincs rögzítve! | I4: =J4+K4 -> 0 | J4: =SUMIF(F_SZV_1A!$F:$F,$C4,F_SZV_1A!$N:$N) -> 0 | K4: =SUMIF(F_SZV_1A!$F:$F,$C4,F_SZV_1A!$O:$O) -> 0 | L4: =SUMIF(F_SZV_1A!$F:$F,$C4,F_SZV_1A!$P:$P) -> 0 | N4: =SUMIF(F_SZV_1A!$F:$F,$C4,F_SZV_1A!R:R) -> 0 | O4: =SUMIF(F_SZV_1A!$F:$F,$C4,F_SZV_1A!S:S) -> 0 | P4: =SUMIF(F_SZV_1A!$F:$F,$C4,F_SZV_1A!T:T) -> 0 | Q4: =SUMIF(F_SZV_1A!$F:$F,$C4,F_SZV_1A!U:U) -> 0 | R4: =SUMIF(F_SZV_1A!$F:$F,$C4,F_SZV_1A!V:V) -> 0 | S4: =SUMIF(F_SZV_1A!$F:$F,$C4,F_SZV_1A!W:W) -> 0 | T4: =SUMIF(F_SZV_1A!$F:$F,$C4,F_SZV_1A!X:X) -> 0 | U4: =SUMIF(F_SZV_1A!$F:$F,$C4,F_SZV_1A!Y:Y) -> 0 | V4: =SUMIF(F_SZV_1A!$F:$F,$C4,F_SZV_1A!Z:Z) -> 0 | W4: =SUMIF(F_SZV_1A!$F:$F,$C4,F_SZV_1A!AA:AA) -> 0 | X4: =SUMIF(F_SZV_1A!$F:$F,$C4,F_SZV_1A!AB:AB) -> 0 | Y4: =SUM(N4:X4) -> 0 | AA4: =SUMIF(F_SZV_1A!$F:$F,$C4,F_SZV_1A!AF:AF) -> 0 | AB4: =SUMIF(F_SZV_1A!$F:$F,$C4,F_SZV_1A!AG:AG) -> 0 | AC4: =SUMIF(F_SZV_1A!$F:$F,$C4,F_SZV_1A!AH:AH) -> 0 | AD4: =SUMIF(F_SZV_1A!$F:$F,$C4,F_SZV_1A!AI:AI) -> 0 | AE4: =SUMIF(F_SZV_1A!$F:$F,$C4,F_SZV_1A!AJ:AJ) -> 0 | AF4: =SUMIF(F_SZV_1A!$F:$F,$C4,F_SZV_1A!AK:AK) -> 0 | AG4: =SUMIF(F_SZV_1A!$F:$F,$C4,F_SZV_1A!AL:AL) -> 0 | AH4: =SUMIF(F_SZV_1A!$F:$F,$C4,F_SZV_1A!AM:AM) -> 0 | AI4: =SUMIF(F_SZV_1A!$F:$F,$C4,F_SZV_1A!AN:AN) -> 0 | AJ4: =SUMIF(F_SZV_1A!$F:$F,$C4,F_SZV_1A!AO:AO) -> 0 | AK4: =SUMIF(F_SZV_1A!$F:$F,$C4,F_SZV_1A!AP:AP) -> 0 | AL4: =SUM(AA4:AK4) -> 0 | AR4: =INDEX(F_SZV_1A!$G:$G,MATCH($C4,F_SZV_1A!$F:$F,0)) -> #N/A | AS4: =COUNTIF(F_SZV_1A!$AY$3:$AY$2427,$D4) -> 0 | AT4: =SUMIF(F_SZV_1A!$AY$3:$AY$2427,$D4,F_SZV_1A!$CF$3:$CF$2427) -> 0 | AU4: =SUMIF(F_SZV_1A!$AY:$AY,$D4,F_SZV_1A!$CG:$CG) -> 0 | AV4: =SUMIF(F_SZV_1A!$AY:$AY,$D4,F_SZV_1A!$CG:$CG) -> 0
A5: 1672 | B5: Nova-SZV | C5: 21-03355-1-001-00-04 | D5: 3169 | E5: Nova Község Önkormányzata | F5: Nova | G5: =IF(ISNA($AR5),"Nincs rögzítve!",IF(AU5=0,"Hiányzik a rövidtávú terv!",IF(AV5=0,"Hiányzik a hosszútávú terv!",IF(AS5=AT5,"Kitöltés rendben!",IF(AS5<>AT5,"Kitöltési hiba!","Kitöltési hiba!"))))) -> Nincs rögzítve! | I5: =J5+K5 -> 0 | J5: =SUMIF(F_SZV_1A!$F:$F,$C5,F_SZV_1A!$N:$N) -> 0 | K5: =SUMIF(F_SZV_1A!$F:$F,$C5,F_SZV_1A!$O:$O) -> 0 | L5: =SUMIF(F_SZV_1A!$F:$F,$C5,F_SZV_1A!$P:$P) -> 0 | N5: =SUMIF(F_SZV_1A!$F:$F,$C5,F_SZV_1A!R:R) -> 0 | O5: =SUMIF(F_SZV_1A!$F:$F,$C5,F_SZV_1A!S:S) -> 0 | P5: =SUMIF(F_SZV_1A!$F:$F,$C5,F_SZV_1A!T:T) -> 0 | Q5: =SUMIF(F_SZV_1A!$F:$F,$C5,F_SZV_1A!U:U) -> 0 | R5: =SUMIF(F_SZV_1A!$F:$F,$C5,F_SZV_1A!V:V) -> 0 | S5: =SUMIF(F_SZV_1A!$F:$F,$C5,F_SZV_1A!W:W) -> 0 | T5: =SUMIF(F_SZV_1A!$F:$F,$C5,F_SZV_1A!X:X) -> 0 | U5: =SUMIF(F_SZV_1A!$F:$F,$C5,F_SZV_1A!Y:Y) -> 0 | V5: =SUMIF(F_SZV_1A!$F:$F,$C5,F_SZV_1A!Z:Z) -> 0 | W5: =SUMIF(F_SZV_1A!$F:$F,$C5,F_SZV_1A!AA:AA) -> 0 | X5: =SUMIF(F_SZV_1A!$F:$F,$C5,F_SZV_1A!AB:AB) -> 0 | Y5: =SUM(N5:X5) -> 0 | AA5: =SUMIF(F_SZV_1A!$F:$F,$C5,F_SZV_1A!AF:AF) -> 0 | AB5: =SUMIF(F_SZV_1A!$F:$F,$C5,F_SZV_1A!AG:AG) -> 0 | AC5: =SUMIF(F_SZV_1A!$F:$F,$C5,F_SZV_1A!AH:AH) -> 0 | AD5: =SUMIF(F_SZV_1A!$F:$F,$C5,F_SZV_1A!AI:AI) -> 0 | AE5: =SUMIF(F_SZV_1A!$F:$F,$C5,F_SZV_1A!AJ:AJ) -> 0 | AF5: =SUMIF(F_SZV_1A!$F:$F,$C5,F_SZV_1A!AK:AK) -> 0 | AG5: =SUMIF(F_SZV_1A!$F:$F,$C5,F_SZV_1A!AL:AL) -> 0 | AH5: =SUMIF(F_SZV_1A!$F:$F,$C5,F_SZV_1A!AM:AM) -> 0 | AI5: =SUMIF(F_SZV_1A!$F:$F,$C5,F_SZV_1A!AN:AN) -> 0 | AJ5: =SUMIF(F_SZV_1A!$F:$F,$C5,F_SZV_1A!AO:AO) -> 0 | AK5: =SUMIF(F_SZV_1A!$F:$F,$C5,F_SZV_1A!AP:AP) -> 0 | AL5: =SUM(AA5:AK5) -> 0 | AR5: =INDEX(F_SZV_1A!$G:$G,MATCH($C5,F_SZV_1A!$F:$F,0)) -> #N/A | AS5: =COUNTIF(F_SZV_1A!$AY$3:$AY$2427,$D5) -> 0 | AT5: =SUMIF(F_SZV_1A!$AY$3:$AY$2427,$D5,F_SZV_1A!$CF$3:$CF$2427) -> 0 | AU5: =SUMIF(F_SZV_1A!$AY:$AY,$D5,F_SZV_1A!$CG:$CG) -> 0 | AV5: =SUMIF(F_SZV_1A!$AY:$AY,$D5,F_SZV_1A!$CG:$CG) -> 0
A6: 1673 | B6: Zalacsány-SZV | C6: 21-04002-1-001-00-06 | D6: 3170 | E6: Zalacsány Község Önkormányzata | F6: Zalacsány | G6: =IF(ISNA($AR6),"Nincs rögzítve!",IF(AU6=0,"Hiányzik a rövidtávú terv!",IF(AV6=0,"Hiányzik a hosszútávú terv!",IF(AS6=AT6,"Kitöltés rendben!",IF(AS6<>AT6,"Kitöltési hiba!","Kitöltési hiba!"))))) -> Nincs rögzítve! | I6: =J6+K6 -> 0 | J6: =SUMIF(F_SZV_1A!$F:$F,$C6,F_SZV_1A!$N:$N) -> 0 | K6: =SUMIF(F_SZV_1A!$F:$F,$C6,F_SZV_1A!$O:$O) -> 0 | L6: =SUMIF(F_SZV_1A!$F:$F,$C6,F_SZV_1A!$P:$P) -> 0 | N6: =SUMIF(F_SZV_1A!$F:$F,$C6,F_SZV_1A!R:R) -> 0 | O6: =SUMIF(F_SZV_1A!$F:$F,$C6,F_SZV_1A!S:S) -> 0 | P6: =SUMIF(F_SZV_1A!$F:$F,$C6,F_SZV_1A!T:T) -> 0 | Q6: =SUMIF(F_SZV_1A!$F:$F,$C6,F_SZV_1A!U:U) -> 0 | R6: =SUMIF(F_SZV_1A!$F:$F,$C6,F_SZV_1A!V:V) -> 0 | S6: =SUMIF(F_SZV_1A!$F:$F,$C6,F_SZV_1A!W:W) -> 0 | T6: =SUMIF(F_SZV_1A!$F:$F,$C6,F_SZV_1A!X:X) -> 0 | U6: =SUMIF(F_SZV_1A!$F:$F,$C6,F_SZV_1A!Y:Y) -> 0 | V6: =SUMIF(F_SZV_1A!$F:$F,$C6,F_SZV_1A!Z:Z) -> 0 | W6: =SUMIF(F_SZV_1A!$F:$F,$C6,F_SZV_1A!AA:AA) -> 0 | X6: =SUMIF(F_SZV_1A!$F:$F,$C6,F_SZV_1A!AB:AB) -> 0 | Y6: =SUM(N6:X6) -> 0 | AA6: =SUMIF(F_SZV_1A!$F:$F,$C6,F_SZV_1A!AF:AF) -> 0 | AB6: =SUMIF(F_SZV_1A!$F:$F,$C6,F_SZV_1A!AG:AG) -> 0 | AC6: =SUMIF(F_SZV_1A!$F:$F,$C6,F_SZV_1A!AH:AH) -> 0 | AD6: =SUMIF(F_SZV_1A!$F:$F,$C6,F_SZV_1A!AI:AI) -> 0 | AE6: =SUMIF(F_SZV_1A!$F:$F,$C6,F_SZV_1A!AJ:AJ) -> 0 | AF6: =SUMIF(F_SZV_1A!$F:$F,$C6,F_SZV_1A!AK:AK) -> 0 | AG6: =SUMIF(F_SZV_1A!$F:$F,$C6,F_SZV_1A!AL:AL) -> 0 | AH6: =SUMIF(F_SZV_1A!$F:$F,$C6,F_SZV_1A!AM:AM) -> 0 | AI6: =SUMIF(F_SZV_1A!$F:$F,$C6,F_SZV_1A!AN:AN) -> 0 | AJ6: =SUMIF(F_SZV_1A!$F:$F,$C6,F_SZV_1A!AO:AO) -> 0 | AK6: =SUMIF(F_SZV_1A!$F:$F,$C6,F_SZV_1A!AP:AP) -> 0 | AL6: =SUM(AA6:AK6) -> 0 | AR6: =INDEX(F_SZV_1A!$G:$G,MATCH($C6,F_SZV_1A!$F:$F,0)) -> #N/A | AS6: =COUNTIF(F_SZV_1A!$AY$3:$AY$2427,$D6) -> 0 | AT6: =SUMIF(F_SZV_1A!$AY$3:$AY$2427,$D6,F_SZV_1A!$CF$3:$CF$2427) -> 0 | AU6: =SUMIF(F_SZV_1A!$AY:$AY,$D6,F_SZV_1A!$CG:$CG) -> 0 | AV6: =SUMIF(F_SZV_1A!$AY:$AY,$D6,F_SZV_1A!$CG:$CG) -> 0
A7: 1674 | B7: Kányavár-SZV | C7: 21-04473-1-001-00-11 | D7: 4270 | E7: Kányavár Község Önkormányzata | F7: Kányavár | G7: =IF(ISNA($AR7),"Nincs rögzítve!",IF(AU7=0,"Hiányzik a rövidtávú terv!",IF(AV7=0,"Hiányzik a hosszútávú terv!",IF(AS7=AT7,"Kitöltés rendben!",IF(AS7<>AT7,"Kitöltési hiba!","Kitöltési hiba!"))))) -> Nincs rögzítve! | I7: =J7+K7 -> 0 | J7: =SUMIF(F_SZV_1A!$F:$F,$C7,F_SZV_1A!$N:$N) -> 0 | K7: =SUMIF(F_SZV_1A!$F:$F,$C7,F_SZV_1A!$O:$O) -> 0 | L7: =SUMIF(F_SZV_1A!$F:$F,$C7,F_SZV_1A!$P:$P) -> 0 | N7: =SUMIF(F_SZV_1A!$F:$F,$C7,F_SZV_1A!R:R) -> 0 | O7: =SUMIF(F_SZV_1A!$F:$F,$C7,F_SZV_1A!S:S) -> 0 | P7: =SUMIF(F_SZV_1A!$F:$F,$C7,F_SZV_1A!T:T) -> 0 | Q7: =SUMIF(F_SZV_1A!$F:$F,$C7,F_SZV_1A!U:U) -> 0 | R7: =SUMIF(F_SZV_1A!$F:$F,$C7,F_SZV_1A!V:V) -> 0 | S7: =SUMIF(F_SZV_1A!$F:$F,$C7,F_SZV_1A!W:W) -> 0 | T7: =SUMIF(F_SZV_1A!$F:$F,$C7,F_SZV_1A!X:X) -> 0 | U7: =SUMIF(F_SZV_1A!$F:$F,$C7,F_SZV_1A!Y:Y) -> 0 | V7: =SUMIF(F_SZV_1A!$F:$F,$C7,F_SZV_1A!Z:Z) -> 0 | W7: =SUMIF(F_SZV_1A!$F:$F,$C7,F_SZV_1A!AA:AA) -> 0 | X7: =SUMIF(F_SZV_1A!$F:$F,$C7,F_SZV_1A!AB:AB) -> 0 | Y7: =SUM(N7:X7) -> 0 | AA7: =SUMIF(F_SZV_1A!$F:$F,$C7,F_SZV_1A!AF:AF) -> 0 | AB7: =SUMIF(F_SZV_1A!$F:$F,$C7,F_SZV_1A!AG:AG) -> 0 | AC7: =SUMIF(F_SZV_1A!$F:$F,$C7,F_SZV_1A!AH:AH) -> 0 | AD7: =SUMIF(F_SZV_1A!$F:$F,$C7,F_SZV_1A!AI:AI) -> 0 | AE7: =SUMIF(F_SZV_1A!$F:$F,$C7,F_SZV_1A!AJ:AJ) -> 0 | AF7: =SUMIF(F_SZV_1A!$F:$F,$C7,F_SZV_1A!AK:AK) -> 0 | AG7: =SUMIF(F_SZV_1A!$F:$F,$C7,F_SZV_1A!AL:AL) -> 0 | AH7: =SUMIF(F_SZV_1A!$F:$F,$C7,F_SZV_1A!AM:AM) -> 0 | AI7: =SUMIF(F_SZV_1A!$F:$F,$C7,F_SZV_1A!AN:AN) -> 0 | AJ7: =SUMIF(F_SZV_1A!$F:$F,$C7,F_SZV_1A!AO:AO) -> 0 | AK7: =SUMIF(F_SZV_1A!$F:$F,$C7,F_SZV_1A!AP:AP) -> 0 | AL7: =SUM(AA7:AK7) -> 0 | AR7: =INDEX(F_SZV_1A!$G:$G,MATCH($C7,F_SZV_1A!$F:$F,0)) -> #N/A | AS7: =COUNTIF(F_SZV_1A!$AY$3:$AY$2427,$D7) -> 0 | AT7: =SUMIF(F_SZV_1A!$AY$3:$AY$2427,$D7,F_SZV_1A!$CF$3:$CF$2427) -> 0 | AU7: =SUMIF(F_SZV_1A!$AY:$AY,$D7,F_SZV_1A!$CG:$CG) -> 0 | AV7: =SUMIF(F_SZV_1A!$AY:$AY,$D7,F_SZV_1A!$CG:$CG) -> 0
A8: 1675 | B8: Tófej-SZV | C8: 21-05342-1-003-00-01 | D8: 3171 | E8: Baktüttös Község Önkormányzata, Pusztaederics Község Önkormányzata, Tófej Község Önkormányzata | F8: Baktüttös, Pusztaederics, Tófej | G8: =IF(ISNA($AR8),"Nincs rögzítve!",IF(AU8=0,"Hiányzik a rövidtávú terv!",IF(AV8=0,"Hiányzik a hosszútávú terv!",IF(AS8=AT8,"Kitöltés rendben!",IF(AS8<>AT8,"Kitöltési hiba!","Kitöltési hiba!"))))) -> Nincs rögzítve! | I8: =J8+K8 -> 0 | J8: =SUMIF(F_SZV_1A!$F:$F,$C8,F_SZV_1A!$N:$N) -> 0 | K8: =SUMIF(F_SZV_1A!$F:$F,$C8,F_SZV_1A!$O:$O) -> 0 | L8: =SUMIF(F_SZV_1A!$F:$F,$C8,F_SZV_1A!$P:$P) -> 0 | N8: =SUMIF(F_SZV_1A!$F:$F,$C8,F_SZV_1A!R:R) -> 0 | O8: =SUMIF(F_SZV_1A!$F:$F,$C8,F_SZV_1A!S:S) -> 0 | P8: =SUMIF(F_SZV_1A!$F:$F,$C8,F_SZV_1A!T:T) -> 0 | Q8: =SUMIF(F_SZV_1A!$F:$F,$C8,F_SZV_1A!U:U) -> 0 | R8: =SUMIF(F_SZV_1A!$F:$F,$C8,F_SZV_1A!V:V) -> 0 | S8: =SUMIF(F_SZV_1A!$F:$F,$C8,F_SZV_1A!W:W) -> 0 | T8: =SUMIF(F_SZV_1A!$F:$F,$C8,F_SZV_1A!X:X) -> 0 | U8: =SUMIF(F_SZV_1A!$F:$F,$C8,F_SZV_1A!Y:Y) -> 0 | V8: =SUMIF(F_SZV_1A!$F:$F,$C8,F_SZV_1A!Z:Z) -> 0 | W8: =SUMIF(F_SZV_1A!$F:$F,$C8,F_SZV_1A!AA:AA) -> 0 | X8: =SUMIF(F_SZV_1A!$F:$F,$C8,F_SZV_1A!AB:AB) -> 0 | Y8: =SUM(N8:X8) -> 0 | AA8: =SUMIF(F_SZV_1A!$F:$F,$C8,F_SZV_1A!AF:AF) -> 0 | AB8: =SUMIF(F_SZV_1A!$F:$F,$C8,F_SZV_1A!AG:AG) -> 0 | AC8: =SUMIF(F_SZV_1A!$F:$F,$C8,F_SZV_1A!AH:AH) -> 0 | AD8: =SUMIF(F_SZV_1A!$F:$F,$C8,F_SZV_1A!AI:AI) -> 0 | AE8: =SUMIF(F_SZV_1A!$F:$F,$C8,F_SZV_1A!AJ:AJ) -> 0 | AF8: =SUMIF(F_SZV_1A!$F:$F,$C8,F_SZV_1A!AK:AK) -> 0 | AG8: =SUMIF(F_SZV_1A!$F:$F,$C8,F_SZV_1A!AL:AL) -> 0 | AH8: =SUMIF(F_SZV_1A!$F:$F,$C8,F_SZV_1A!AM:AM) -> 0 | AI8: =SUMIF(F_SZV_1A!$F:$F,$C8,F_SZV_1A!AN:AN) -> 0 | AJ8: =SUMIF(F_SZV_1A!$F:$F,$C8,F_SZV_1A!AO:AO) -> 0 | AK8: =SUMIF(F_SZV_1A!$F:$F,$C8,F_SZV_1A!AP:AP) -> 0 | AL8: =SUM(AA8:AK8) -> 0 | AR8: =INDEX(F_SZV_1A!$G:$G,MATCH($C8,F_SZV_1A!$F:$F,0)) -> #N/A | AS8: =COUNTIF(F_SZV_1A!$AY$3:$AY$2427,$D8) -> 0 | AT8: =SUMIF(F_SZV_1A!$AY$3:$AY$2427,$D8,F_SZV_1A!$CF$3:$CF$2427) -> 0 | AU8: =SUMIF(F_SZV_1A!$AY:$AY,$D8,F_SZV_1A!$CG:$CG) -> 0 | AV8: =SUMIF(F_SZV_1A!$AY:$AY,$D8,F_SZV_1A!$CG:$CG) -> 0
A9: 1676 | B9: Gellénháza-SZV | C9: 21-08068-1-003-00-14 | D9: 3172 | E9: Gellénháza Község Önkormányzata, Nagylengyel Község Önkormányzata, Ormándlak Község Önkormányzata | F9: Gellénháza, Nagylengyel, Ormándlak | G9: =IF(ISNA($AR9),"Nincs rögzítve!",IF(AU9=0,"Hiányzik a rövidtávú terv!",IF(AV9=0,"Hiányzik a hosszútávú terv!",IF(AS9=AT9,"Kitöltés rendben!",IF(AS9<>AT9,"Kitöltési hiba!","Kitöltési hiba!"))))) -> Nincs rögzítve! | I9: =J9+K9 -> 0 | J9: =SUMIF(F_SZV_1A!$F:$F,$C9,F_SZV_1A!$N:$N) -> 0 | K9: =SUMIF(F_SZV_1A!$F:$F,$C9,F_SZV_1A!$O:$O) -> 0 | L9: =SUMIF(F_SZV_1A!$F:$F,$C9,F_SZV_1A!$P:$P) -> 0 | N9: =SUMIF(F_SZV_1A!$F:$F,$C9,F_SZV_1A!R:R) -> 0 | O9: =SUMIF(F_SZV_1A!$F:$F,$C9,F_SZV_1A!S:S) -> 0 | P9: =SUMIF(F_SZV_1A!$F:$F,$C9,F_SZV_1A!T:T) -> 0 | Q9: =SUMIF(F_SZV_1A!$F:$F,$C9,F_SZV_1A!U:U) -> 0 | R9: =SUMIF(F_SZV_1A!$F:$F,$C9,F_SZV_1A!V:V) -> 0 | S9: =SUMIF(F_SZV_1A!$F:$F,$C9,F_SZV_1A!W:W) -> 0 | T9: =SUMIF(F_SZV_1A!$F:$F,$C9,F_SZV_1A!X:X) -> 0 | U9: =SUMIF(F_SZV_1A!$F:$F,$C9,F_SZV_1A!Y:Y) -> 0 | V9: =SUMIF(F_SZV_1A!$F:$F,$C9,F_SZV_1A!Z:Z) -> 0 | W9: =SUMIF(F_SZV_1A!$F:$F,$C9,F_SZV_1A!AA:AA) -> 0 | X9: =SUMIF(F_SZV_1A!$F:$F,$C9,F_SZV_1A!AB:AB) -> 0 | Y9: =SUM(N9:X9) -> 0 | AA9: =SUMIF(F_SZV_1A!$F:$F,$C9,F_SZV_1A!AF:AF) -> 0 | AB9: =SUMIF(F_SZV_1A!$F:$F,$C9,F_SZV_1A!AG:AG) -> 0 | AC9: =SUMIF(F_SZV_1A!$F:$F,$C9,F_SZV_1A!AH:AH) -> 0 | AD9: =SUMIF(F_SZV_1A!$F:$F,$C9,F_SZV_1A!AI:AI) -> 0 | AE9: =SUMIF(F_SZV_1A!$F:$F,$C9,F_SZV_1A!AJ:AJ) -> 0 | AF9: =SUMIF(F_SZV_1A!$F:$F,$C9,F_SZV_1A!AK:AK) -> 0 | AG9: =SUMIF(F_SZV_1A!$F:$F,$C9,F_SZV_1A!AL:AL) -> 0 | AH9: =SUMIF(F_SZV_1A!$F:$F,$C9,F_SZV_1A!AM:AM) -> 0 | AI9: =SUMIF(F_SZV_1A!$F:$F,$C9,F_SZV_1A!AN:AN) -> 0 | AJ9: =SUMIF(F_SZV_1A!$F:$F,$C9,F_SZV_1A!AO:AO) -> 0 | AK9: =SUMIF(F_SZV_1A!$F:$F,$C9,F_SZV_1A!AP:AP) -> 0 | AL9: =SUM(AA9:AK9) -> 0 | AR9: =INDEX(F_SZV_1A!$G:$G,MATCH($C9,F_SZV_1A!$F:$F,0)) -> #N/A | AS9: =COUNTIF(F_SZV_1A!$AY$3:$AY$2427,$D9) -> 0 | AT9: =SUMIF(F_SZV_1A!$AY$3:$AY$2427,$D9,F_SZV_1A!$CF$3:$CF$2427) -> 0 | AU9: =SUMIF(F_SZV_1A!$AY:$AY,$D9,F_SZV_1A!$CG:$CG) -> 0 | AV9: =SUMIF(F_SZV_1A!$AY:$AY,$D9,F_SZV_1A!$CG:$CG) -> 0
A10: 1677 | B10: Lenti-SZV | C10: 21-12575-1-011-01-13 | D10: 3173 | E10: Lenti Város Önkormányzata, Iklódbördőce Község Önkormányzata, Kerkabarabás Község Önkormányzata, Zalabaksa Község Önkormányzata, Csesztreg Község Önkormányzata, Rédics Község Önkormányzata, Resznek Község Önkormányzata, Külsősárd Község Önkormányzata, Belsősárd Község Önkormányzata, Szilvágy Község Önkormányzata, Pórszombat Község Önkormányzata | F10: Lenti - kivéve Máhomfa, Iklódbördőce, Kerkabarabás, Zalabaksa, Csesztreg, Rédics, Resznek, Külsősárd, Belsősárd, Szilvágy, Pórszombat | G10: =IF(ISNA($AR10),"Nincs rögzítve!",IF(AU10=0,"Hiányzik a rövidtávú terv!",IF(AV10=0,"Hiányzik a hosszútávú terv!",IF(AS10=AT10,"Kitöltés rendben!",IF(AS10<>AT10,"Kitöltési hiba!","Kitöltési hiba!"))))) -> Nincs rögzítve! | I10: =J10+K10 -> 0 | J10: =SUMIF(F_SZV_1A!$F:$F,$C10,F_SZV_1A!$N:$N) -> 0 | K10: =SUMIF(F_SZV_1A!$F:$F,$C10,F_SZV_1A!$O:$O) -> 0 | L10: =SUMIF(F_SZV_1A!$F:$F,$C10,F_SZV_1A!$P:$P) -> 0 | N10: =SUMIF(F_SZV_1A!$F:$F,$C10,F_SZV_1A!R:R) -> 0 | O10: =SUMIF(F_SZV_1A!$F:$F,$C10,F_SZV_1A!S:S) -> 0 | P10: =SUMIF(F_SZV_1A!$F:$F,$C10,F_SZV_1A!T:T) -> 0 | Q10: =SUMIF(F_SZV_1A!$F:$F,$C10,F_SZV_1A!U:U) -> 0 | R10: =SUMIF(F_SZV_1A!$F:$F,$C10,F_SZV_1A!V:V) -> 0 | S10: =SUMIF(F_SZV_1A!$F:$F,$C10,F_SZV_1A!W:W) -> 0 | T10: =SUMIF(F_SZV_1A!$F:$F,$C10,F_SZV_1A!X:X) -> 0 | U10: =SUMIF(F_SZV_1A!$F:$F,$C10,F_SZV_1A!Y:Y) -> 0 | V10: =SUMIF(F_SZV_1A!$F:$F,$C10,F_SZV_1A!Z:Z) -> 0 | W10: =SUMIF(F_SZV_1A!$F:$F,$C10,F_SZV_1A!AA:AA) -> 0 | X10: =SUMIF(F_SZV_1A!$F:$F,$C10,F_SZV_1A!AB:AB) -> 0 | Y10: =SUM(N10:X10) -> 0 | AA10: =SUMIF(F_SZV_1A!$F:$F,$C10,F_SZV_1A!AF:AF) -> 0 | AB10: =SUMIF(F_SZV_1A!$F:$F,$C10,F_SZV_1A!AG:AG) -> 0 | AC10: =SUMIF(F_SZV_1A!$F:$F,$C10,F_SZV_1A!AH:AH) -> 0 | AD10: =SUMIF(F_SZV_1A!$F:$F,$C10,F_SZV_1A!AI:AI) -> 0 | AE10: =SUMIF(F_SZV_1A!$F:$F,$C10,F_SZV_1A!AJ:AJ) -> 0 | AF10: =SUMIF(F_SZV_1A!$F:$F,$C10,F_SZV_1A!AK:AK) -> 0 | AG10: =SUMIF(F_SZV_1A!$F:$F,$C10,F_SZV_1A!AL:AL) -> 0 | AH10: =SUMIF(F_SZV_1A!$F:$F,$C10,F_SZV_1A!AM:AM) -> 0 | AI10: =SUMIF(F_SZV_1A!$F:$F,$C10,F_SZV_1A!AN:AN) -> 0 | AJ10: =SUMIF(F_SZV_1A!$F:$F,$C10,F_SZV_1A!AO:AO) -> 0 | AK10: =SUMIF(F_SZV_1A!$F:$F,$C10,F_SZV_1A!AP:AP) -> 0 | AL10: =SUM(AA10:AK10) -> 0 | AR10: =INDEX(F_SZV_1A!$G:$G,MATCH($C10,F_SZV_1A!$F:$F,0)) -> #N/A | AS10: =COUNTIF(F_SZV_1A!$AY$3:$AY$2427,$D10) -> 0 | AT10: =SUMIF(F_SZV_1A!$AY$3:$AY$2427,$D10,F_SZV_1A!$CF$3:$CF$2427) -> 0 | AU10: =SUMIF(F_SZV_1A!$AY:$AY,$D10,F_SZV_1A!$CG:$CG) -> 0 | AV10: =SUMIF(F_SZV_1A!$AY:$AY,$D10,F_SZV_1A!$CG:$CG) -> 0
A11: 1678 | B11: KOZMADOMBJA-SZV (KOZ-SZV) | C11: 21-13082-1-003-00-13 | D11: 3175 | E11: Kálócfa Község Önkormányzata, Kozmadombja Község Önkormányzata, Zalalövő Város Önkormányzata | F11: Kálócfa, Kozmadombja, Zalalövő - Irsapuszta és Szűcsmajor | G11: =IF(ISNA($AR11),"Nincs rögzítve!",IF(AU11=0,"Hiányzik a rövidtávú terv!",IF(AV11=0,"Hiányzik a hosszútávú terv!",IF(AS11=AT11,"Kitöltés rendben!",IF(AS11<>AT11,"Kitöltési hiba!","Kitöltési hiba!"))))) -> Nincs rögzítve! | I11: =J11+K11 -> 0 | J11: =SUMIF(F_SZV_1A!$F:$F,$C11,F_SZV_1A!$N:$N) -> 0 | K11: =SUMIF(F_SZV_1A!$F:$F,$C11,F_SZV_1A!$O:$O) -> 0 | L11: =SUMIF(F_SZV_1A!$F:$F,$C11,F_SZV_1A!$P:$P) -> 0 | N11: =SUMIF(F_SZV_1A!$F:$F,$C11,F_SZV_1A!R:R) -> 0 | O11: =SUMIF(F_SZV_1A!$F:$F,$C11,F_SZV_1A!S:S) -> 0 | P11: =SUMIF(F_SZV_1A!$F:$F,$C11,F_SZV_1A!T:T) -> 0 | Q11: =SUMIF(F_SZV_1A!$F:$F,$C11,F_SZV_1A!U:U) -> 0 | R11: =SUMIF(F_SZV_1A!$F:$F,$C11,F_SZV_1A!V:V) -> 0 | S11: =SUMIF(F_SZV_1A!$F:$F,$C11,F_SZV_1A!W:W) -> 0 | T11: =SUMIF(F_SZV_1A!$F:$F,$C11,F_SZV_1A!X:X) -> 0 | U11: =SUMIF(F_SZV_1A!$F:$F,$C11,F_SZV_1A!Y:Y) -> 0 | V11: =SUMIF(F_SZV_1A!$F:$F,$C11,F_SZV_1A!Z:Z) -> 0 | W11: =SUMIF(F_SZV_1A!$F:$F,$C11,F_SZV_1A!AA:AA) -> 0 | X11: =SUMIF(F_SZV_1A!$F:$F,$C11,F_SZV_1A!AB:AB) -> 0 | Y11: =SUM(N11:X11) -> 0 | AA11: =SUMIF(F_SZV_1A!$F:$F,$C11,F_SZV_1A!AF:AF) -> 0 | AB11: =SUMIF(F_SZV_1A!$F:$F,$C11,F_SZV_1A!AG:AG) -> 0 | AC11: =SUMIF(F_SZV_1A!$F:$F,$C11,F_SZV_1A!AH:AH) -> 0 | AD11: =SUMIF(F_SZV_1A!$F:$F,$C11,F_SZV_1A!AI:AI) -> 0 | AE11: =SUMIF(F_SZV_1A!$F:$F,$C11,F_SZV_1A!AJ:AJ) -> 0 | AF11: =SUMIF(F_SZV_1A!$F:$F,$C11,F_SZV_1A!AK:AK) -> 0 | AG11: =SUMIF(F_SZV_1A!$F:$F,$C11,F_SZV_1A!AL:AL) -> 0 | AH11: =SUMIF(F_SZV_1A!$F:$F,$C11,F_SZV_1A!AM:AM) -> 0 | AI11: =SUMIF(F_SZV_1A!$F:$F,$C11,F_SZV_1A!AN:AN) -> 0 | AJ11: =SUMIF(F_SZV_1A!$F:$F,$C11,F_SZV_1A!AO:AO) -> 0 | AK11: =SUMIF(F_SZV_1A!$F:$F,$C11,F_SZV_1A!AP:AP) -> 0 | AL11: =SUM(AA11:AK11) -> 0 | AR11: =INDEX(F_SZV_1A!$G:$G,MATCH($C11,F_SZV_1A!$F:$F,0)) -> #N/A | AS11: =COUNTIF(F_SZV_1A!$AY$3:$AY$2427,$D11) -> 0 | AT11: =SUMIF(F_SZV_1A!$AY$3:$AY$2427,$D11,F_SZV_1A!$CF$3:$CF$2427) -> 0 | AU11: =SUMIF(F_SZV_1A!$AY:$AY,$D11,F_SZV_1A!$CG:$CG) -> 0 | AV11: =SUMIF(F_SZV_1A!$AY:$AY,$D11,F_SZV_1A!$CG:$CG) -> 0
A12: 1679 | B12: Zalaszentmárton-SZV | C12: 21-13091-1-001-00-10 | D12: 3176 | E12: Zalaszentmárton Község Önkormányzata | F12: Zalaszentmárton | G12: =IF(ISNA($AR12),"Nincs rögzítve!",IF(AU12=0,"Hiányzik a rövidtávú terv!",IF(AV12=0,"Hiányzik a hosszútávú terv!",IF(AS12=AT12,"Kitöltés rendben!",IF(AS12<>AT12,"Kitöltési hiba!","Kitöltési hiba!"))))) -> Nincs rögzítve! | I12: =J12+K12 -> 0 | J12: =SUMIF(F_SZV_1A!$F:$F,$C12,F_SZV_1A!$N:$N) -> 0 | K12: =SUMIF(F_SZV_1A!$F:$F,$C12,F_SZV_1A!$O:$O) -> 0 | L12: =SUMIF(F_SZV_1A!$F:$F,$C12,F_SZV_1A!$P:$P) -> 0 | N12: =SUMIF(F_SZV_1A!$F:$F,$C12,F_SZV_1A!R:R) -> 0 | O12: =SUMIF(F_SZV_1A!$F:$F,$C12,F_SZV_1A!S:S) -> 0 | P12: =SUMIF(F_SZV_1A!$F:$F,$C12,F_SZV_1A!T:T) -> 0 | Q12: =SUMIF(F_SZV_1A!$F:$F,$C12,F_SZV_1A!U:U) -> 0 | R12: =SUMIF(F_SZV_1A!$F:$F,$C12,F_SZV_1A!V:V) -> 0 | S12: =SUMIF(F_SZV_1A!$F:$F,$C12,F_SZV_1A!W:W) -> 0 | T12: =SUMIF(F_SZV_1A!$F:$F,$C12,F_SZV_1A!X:X) -> 0 | U12: =SUMIF(F_SZV_1A!$F:$F,$C12,F_SZV_1A!Y:Y) -> 0 | V12: =SUMIF(F_SZV_1A!$F:$F,$C12,F_SZV_1A!Z:Z) -> 0 | W12: =SUMIF(F_SZV_1A!$F:$F,$C12,F_SZV_1A!AA:AA) -> 0 | X12: =SUMIF(F_SZV_1A!$F:$F,$C12,F_SZV_1A!AB:AB) -> 0 | Y12: =SUM(N12:X12) -> 0 | AA12: =SUMIF(F_SZV_1A!$F:$F,$C12,F_SZV_1A!AF:AF) -> 0 | AB12: =SUMIF(F_SZV_1A!$F:$F,$C12,F_SZV_1A!AG:AG) -> 0 | AC12: =SUMIF(F_SZV_1A!$F:$F,$C12,F_SZV_1A!AH:AH) -> 0 | AD12: =SUMIF(F_SZV_1A!$F:$F,$C12,F_SZV_1A!AI:AI) -> 0 | AE12: =SUMIF(F_SZV_1A!$F:$F,$C12,F_SZV_1A!AJ:AJ) -> 0 | AF12: =SUMIF(F_SZV_1A!$F:$F,$C12,F_SZV_1A!AK:AK) -> 0 | AG12: =SUMIF(F_SZV_1A!$F:$F,$C12,F_SZV_1A!AL:AL) -> 0 | AH12: =SUMIF(F_SZV_1A!$F:$F,$C12,F_SZV_1A!AM:AM) -> 0 | AI12: =SUMIF(F_SZV_1A!$F:$F,$C12,F_SZV_1A!AN:AN) -> 0 | AJ12: =SUMIF(F_SZV_1A!$F:$F,$C12,F_SZV_1A!AO:AO) -> 0 | AK12: =SUMIF(F_SZV_1A!$F:$F,$C12,F_SZV_1A!AP:AP) -> 0 | AL12: =SUM(AA12:AK12) -> 0 | AR12: =INDEX(F_SZV_1A!$G:$G,MATCH($C12,F_SZV_1A!$F:$F,0)) -> #N/A | AS12: =COUNTIF(F_SZV_1A!$AY$3:$AY$2427,$D12) -> 0 | AT12: =SUMIF(F_SZV_1A!$AY$3:$AY$2427,$D12,F_SZV_1A!$CF$3:$CF$2427) -> 0 | AU12: =SUMIF(F_SZV_1A!$AY:$AY,$D12,F_SZV_1A!$CG:$CG) -> 0 | AV12: =SUMIF(F_SZV_1A!$AY:$AY,$D12,F_SZV_1A!$CG:$CG) -> 0
A13: 1680 | B13: Esztergályhorváti-SZV | C13: 21-15769-1-001-00-13 | D13: 3177 | E13: Esztergályhorváti Község Önkormányzata | F13: Esztergályhorváti | G13: =IF(ISNA($AR13),"Nincs rögzítve!",IF(AU13=0,"Hiányzik a rövidtávú terv!",IF(AV13=0,"Hiányzik a hosszútávú terv!",IF(AS13=AT13,"Kitöltés rendben!",IF(AS13<>AT13,"Kitöltési hiba!","Kitöltési hiba!"))))) -> Nincs rögzítve! | I13: =J13+K13 -> 0 | J13: =SUMIF(F_SZV_1A!$F:$F,$C13,F_SZV_1A!$N:$N) -> 0 | K13: =SUMIF(F_SZV_1A!$F:$F,$C13,F_SZV_1A!$O:$O) -> 0 | L13: =SUMIF(F_SZV_1A!$F:$F,$C13,F_SZV_1A!$P:$P) -> 0 | N13: =SUMIF(F_SZV_1A!$F:$F,$C13,F_SZV_1A!R:R) -> 0 | O13: =SUMIF(F_SZV_1A!$F:$F,$C13,F_SZV_1A!S:S) -> 0 | P13: =SUMIF(F_SZV_1A!$F:$F,$C13,F_SZV_1A!T:T) -> 0 | Q13: =SUMIF(F_SZV_1A!$F:$F,$C13,F_SZV_1A!U:U) -> 0 | R13: =SUMIF(F_SZV_1A!$F:$F,$C13,F_SZV_1A!V:V) -> 0 | S13: =SUMIF(F_SZV_1A!$F:$F,$C13,F_SZV_1A!W:W) -> 0 | T13: =SUMIF(F_SZV_1A!$F:$F,$C13,F_SZV_1A!X:X) -> 0 | U13: =SUMIF(F_SZV_1A!$F:$F,$C13,F_SZV_1A!Y:Y) -> 0 | V13: =SUMIF(F_SZV_1A!$F:$F,$C13,F_SZV_1A!Z:Z) -> 0 | W13: =SUMIF(F_SZV_1A!$F:$F,$C13,F_SZV_1A!AA:AA) -> 0 | X13: =SUMIF(F_SZV_1A!$F:$F,$C13,F_SZV_1A!AB:AB) -> 0 | Y13: =SUM(N13:X13) -> 0 | AA13: =SUMIF(F_SZV_1A!$F:$F,$C13,F_SZV_1A!AF:AF) -> 0 | AB13: =SUMIF(F_SZV_1A!$F:$F,$C13,F_SZV_1A!AG:AG) -> 0 | AC13: =SUMIF(F_SZV_1A!$F:$F,$C13,F_SZV_1A!AH:AH) -> 0 | AD13: =SUMIF(F_SZV_1A!$F:$F,$C13,F_SZV_1A!AI:AI) -> 0 | AE13: =SUMIF(F_SZV_1A!$F:$F,$C13,F_SZV_1A!AJ:AJ) -> 0 | AF13: =SUMIF(F_SZV_1A!$F:$F,$C13,F_SZV_1A!AK:AK) -> 0 | AG13: =SUMIF(F_SZV_1A!$F:$F,$C13,F_SZV_1A!AL:AL) -> 0 | AH13: =SUMIF(F_SZV_1A!$F:$F,$C13,F_SZV_1A!AM:AM) -> 0 | AI13: =SUMIF(F_SZV_1A!$F:$F,$C13,F_SZV_1A!AN:AN) -> 0 | AJ13: =SUMIF(F_SZV_1A!$F:$F,$C13,F_SZV_1A!AO:AO) -> 0 | AK13: =SUMIF(F_SZV_1A!$F:$F,$C13,F_SZV_1A!AP:AP) -> 0 | AL13: =SUM(AA13:AK13) -> 0 | AR13: =INDEX(F_SZV_1A!$G:$G,MATCH($C13,F_SZV_1A!$F:$F,0)) -> #N/A | AS13: =COUNTIF(F_SZV_1A!$AY$3:$AY$2427,$D13) -> 0 | AT13: =SUMIF(F_SZV_1A!$AY$3:$AY$2427,$D13,F_SZV_1A!$CF$3:$CF$2427) -> 0 | AU13: =SUMIF(F_SZV_1A!$AY:$AY,$D13,F_SZV_1A!$CG:$CG) -> 0 | AV13: =SUMIF(F_SZV_1A!$AY:$AY,$D13,F_SZV_1A!$CG:$CG) -> 0
A14: 1681 | B14: Zalaapáti-SZV | C14: 21-17400-1-002-00-11 | D14: 3178 | E14: Bókaháza Község Önkormányzata, Zalaapáti Község Önkormányzata | F14: Bókaháza, Zalaapáti | G14: =IF(ISNA($AR14),"Nincs rögzítve!",IF(AU14=0,"Hiányzik a rövidtávú terv!",IF(AV14=0,"Hiányzik a hosszútávú terv!",IF(AS14=AT14,"Kitöltés rendben!",IF(AS14<>AT14,"Kitöltési hiba!","Kitöltési hiba!"))))) -> Nincs rögzítve! | I14: =J14+K14 -> 0 | J14: =SUMIF(F_SZV_1A!$F:$F,$C14,F_SZV_1A!$N:$N) -> 0 | K14: =SUMIF(F_SZV_1A!$F:$F,$C14,F_SZV_1A!$O:$O) -> 0 | L14: =SUMIF(F_SZV_1A!$F:$F,$C14,F_SZV_1A!$P:$P) -> 0 | N14: =SUMIF(F_SZV_1A!$F:$F,$C14,F_SZV_1A!R:R) -> 0 | O14: =SUMIF(F_SZV_1A!$F:$F,$C14,F_SZV_1A!S:S) -> 0 | P14: =SUMIF(F_SZV_1A!$F:$F,$C14,F_SZV_1A!T:T) -> 0 | Q14: =SUMIF(F_SZV_1A!$F:$F,$C14,F_SZV_1A!U:U) -> 0 | R14: =SUMIF(F_SZV_1A!$F:$F,$C14,F_SZV_1A!V:V) -> 0 | S14: =SUMIF(F_SZV_1A!$F:$F,$C14,F_SZV_1A!W:W) -> 0 | T14: =SUMIF(F_SZV_1A!$F:$F,$C14,F_SZV_1A!X:X) -> 0 | U14: =SUMIF(F_SZV_1A!$F:$F,$C14,F_SZV_1A!Y:Y) -> 0 | V14: =SUMIF(F_SZV_1A!$F:$F,$C14,F_SZV_1A!Z:Z) -> 0 | W14: =SUMIF(F_SZV_1A!$F:$F,$C14,F_SZV_1A!AA:AA) -> 0 | X14: =SUMIF(F_SZV_1A!$F:$F,$C14,F_SZV_1A!AB:AB) -> 0 | Y14: =SUM(N14:X14) -> 0 | AA14: =SUMIF(F_SZV_1A!$F:$F,$C14,F_SZV_1A!AF:AF) -> 0 | AB14: =SUMIF(F_SZV_1A!$F:$F,$C14,F_SZV_1A!AG:AG) -> 0 | AC14: =SUMIF(F_SZV_1A!$F:$F,$C14,F_SZV_1A!AH:AH) -> 0 | AD14: =SUMIF(F_SZV_1A!$F:$F,$C14,F_SZV_1A!AI:AI) -> 0 | AE14: =SUMIF(F_SZV_1A!$F:$F,$C14,F_SZV_1A!AJ:AJ) -> 0 | AF14: =SUMIF(F_SZV_1A!$F:$F,$C14,F_SZV_1A!AK:AK) -> 0 | AG14: =SUMIF(F_SZV_1A!$F:$F,$C14,F_SZV_1A!AL:AL) -> 0 | AH14: =SUMIF(F_SZV_1A!$F:$F,$C14,F_SZV_1A!AM:AM) -> 0 | AI14: =SUMIF(F_SZV_1A!$F:$F,$C14,F_SZV_1A!AN:AN) -> 0 | AJ14: =SUMIF(F_SZV_1A!$F:$F,$C14,F_SZV_1A!AO:AO) -> 0 | AK14: =SUMIF(F_SZV_1A!$F:$F,$C14,F_SZV_1A!AP:AP) -> 0 | AL14: =SUM(AA14:AK14) -> 0 | AR14: =INDEX(F_SZV_1A!$G:$G,MATCH($C14,F_SZV_1A!$F:$F,0)) -> #N/A | AS14: =COUNTIF(F_SZV_1A!$AY$3:$AY$2427,$D14) -> 0 | AT14: =SUMIF(F_SZV_1A!$AY$3:$AY$2427,$D14,F_SZV_1A!$CF$3:$CF$2427) -> 0 | AU14: =SUMIF(F_SZV_1A!$AY:$AY,$D14,F_SZV_1A!$CG:$CG) -> 0 | AV14: =SUMIF(F_SZV_1A!$AY:$AY,$D14,F_SZV_1A!$CG:$CG) -> 0
A15: 1682 | B15: Becsvölgye-SZV | C15: 21-18360-1-001-00-10 | D15: 3179 | E15: Becsvölgye Községi Önkormányzat | F15: Becsvölgye | G15: =IF(ISNA($AR15),"Nincs rögzítve!",IF(AU15=0,"Hiányzik a rövidtávú terv!",IF(AV15=0,"Hiányzik a hosszútávú terv!",IF(AS15=AT15,"Kitöltés rendben!",IF(AS15<>AT15,"Kitöltési hiba!","Kitöltési hiba!"))))) -> Nincs rögzítve! | I15: =J15+K15 -> 0 | J15: =SUMIF(F_SZV_1A!$F:$F,$C15,F_SZV_1A!$N:$N) -> 0 | K15: =SUMIF(F_SZV_1A!$F:$F,$C15,F_SZV_1A!$O:$O) -> 0 | L15: =SUMIF(F_SZV_1A!$F:$F,$C15,F_SZV_1A!$P:$P) -> 0 | N15: =SUMIF(F_SZV_1A!$F:$F,$C15,F_SZV_1A!R:R) -> 0 | O15: =SUMIF(F_SZV_1A!$F:$F,$C15,F_SZV_1A!S:S) -> 0 | P15: =SUMIF(F_SZV_1A!$F:$F,$C15,F_SZV_1A!T:T) -> 0 | Q15: =SUMIF(F_SZV_1A!$F:$F,$C15,F_SZV_1A!U:U) -> 0 | R15: =SUMIF(F_SZV_1A!$F:$F,$C15,F_SZV_1A!V:V) -> 0 | S15: =SUMIF(F_SZV_1A!$F:$F,$C15,F_SZV_1A!W:W) -> 0 | T15: =SUMIF(F_SZV_1A!$F:$F,$C15,F_SZV_1A!X:X) -> 0 | U15: =SUMIF(F_SZV_1A!$F:$F,$C15,F_SZV_1A!Y:Y) -> 0 | V15: =SUMIF(F_SZV_1A!$F:$F,$C15,F_SZV_1A!Z:Z) -> 0 | W15: =SUMIF(F_SZV_1A!$F:$F,$C15,F_SZV_1A!AA:AA) -> 0 | X15: =SUMIF(F_SZV_1A!$F:$F,$C15,F_SZV_1A!AB:AB) -> 0 | Y15: =SUM(N15:X15) -> 0 | AA15: =SUMIF(F_SZV_1A!$F:$F,$C15,F_SZV_1A!AF:AF) -> 0 | AB15: =SUMIF(F_SZV_1A!$F:$F,$C15,F_SZV_1A!AG:AG) -> 0 | AC15: =SUMIF(F_SZV_1A!$F:$F,$C15,F_SZV_1A!AH:AH) -> 0 | AD15: =SUMIF(F_SZV_1A!$F:$F,$C15,F_SZV_1A!AI:AI) -> 0 | AE15: =SUMIF(F_SZV_1A!$F:$F,$C15,F_SZV_1A!AJ:AJ) -> 0 | AF15: =SUMIF(F_SZV_1A!$F:$F,$C15,F_SZV_1A!AK:AK) -> 0 | AG15: =SUMIF(F_SZV_1A!$F:$F,$C15,F_SZV_1A!AL:AL) -> 0 | AH15: =SUMIF(F_SZV_1A!$F:$F,$C15,F_SZV_1A!AM:AM) -> 0 | AI15: =SUMIF(F_SZV_1A!$F:$F,$C15,F_SZV_1A!AN:AN) -> 0 | AJ15: =SUMIF(F_SZV_1A!$F:$F,$C15,F_SZV_1A!AO:AO) -> 0 | AK15: =SUMIF(F_SZV_1A!$F:$F,$C15,F_SZV_1A!AP:AP) -> 0 | AL15: =SUM(AA15:AK15) -> 0 | AR15: =INDEX(F_SZV_1A!$G:$G,MATCH($C15,F_SZV_1A!$F:$F,0)) -> #N/A | AS15: =COUNTIF(F_SZV_1A!$AY$3:$AY$2427,$D15) -> 0 | AT15: =SUMIF(F_SZV_1A!$AY$3:$AY$2427,$D15,F_SZV_1A!$CF$3:$CF$2427) -> 0 | AU15: =SUMIF(F_SZV_1A!$AY:$AY,$D15,F_SZV_1A!$CG:$CG) -> 0 | AV15: =SUMIF(F_SZV_1A!$AY:$AY,$D15,F_SZV_1A!$CG:$CG) -> 0
... A23: 1690 | B23: Lenti-Máhomfa- SZV | C23: 22-12575-2-001-00-11 | D23: 3188 | E23: Lenti Város Önkormányzata | F23: Lenti - Máhomfa | G23: =IF(ISNA($AR23),"Nincs rögzítve!",IF(AU23=0,"Hiányzik a rövidtávú terv!",IF(AV23=0,"Hiányzik a hosszútávú terv!",IF(AS23=AT23,"Kitöltés rendben!",IF(AS23<>AT23,"Kitöltési hiba!","Kitöltési hiba!"))))) -> Nincs rögzítve! | I23: =J23+K23 -> 0 | J23: =SUMIF(F_SZV_1A!$F:$F,$C23,F_SZV_1A!$N:$N) -> 0 | K23: =SUMIF(F_SZV_1A!$F:$F,$C23,F_SZV_1A!$O:$O) -> 0 | L23: =SUMIF(F_SZV_1A!$F:$F,$C23,F_SZV_1A!$P:$P) -> 0 | N23: =SUMIF(F_SZV_1A!$F:$F,$C23,F_SZV_1A!R:R) -> 0 | O23: =SUMIF(F_SZV_1A!$F:$F,$C23,F_SZV_1A!S:S) -> 0 | P23: =SUMIF(F_SZV_1A!$F:$F,$C23,F_SZV_1A!T:T) -> 0 | Q23: =SUMIF(F_SZV_1A!$F:$F,$C23,F_SZV_1A!U:U) -> 0 | R23: =SUMIF(F_SZV_1A!$F:$F,$C23,F_SZV_1A!V:V) -> 0 | S23: =SUMIF(F_SZV_1A!$F:$F,$C23,F_SZV_1A!W:W) -> 0 | T23: =SUMIF(F_SZV_1A!$F:$F,$C23,F_SZV_1A!X:X) -> 0 | U23: =SUMIF(F_SZV_1A!$F:$F,$C23,F_SZV_1A!Y:Y) -> 0 | V23: =SUMIF(F_SZV_1A!$F:$F,$C23,F_SZV_1A!Z:Z) -> 0 | W23: =SUMIF(F_SZV_1A!$F:$F,$C23,F_SZV_1A!AA:AA) -> 0 | X23: =SUMIF(F_SZV_1A!$F:$F,$C23,F_SZV_1A!AB:AB) -> 0 | Y23: =SUM(N23:X23) -> 0 | AA23: =SUMIF(F_SZV_1A!$F:$F,$C23,F_SZV_1A!AF:AF) -> 0 | AB23: =SUMIF(F_SZV_1A!$F:$F,$C23,F_SZV_1A!AG:AG) -> 0 | AC23: =SUMIF(F_SZV_1A!$F:$F,$C23,F_SZV_1A!AH:AH) -> 0 | AD23: =SUMIF(F_SZV_1A!$F:$F,$C23,F_SZV_1A!AI:AI) -> 0 | AE23: =SUMIF(F_SZV_1A!$F:$F,$C23,F_SZV_1A!AJ:AJ) -> 0 | AF23: =SUMIF(F_SZV_1A!$F:$F,$C23,F_SZV_1A!AK:AK) -> 0 | AG23: =SUMIF(F_SZV_1A!$F:$F,$C23,F_SZV_1A!AL:AL) -> 0 | AH23: =SUMIF(F_SZV_1A!$F:$F,$C23,F_SZV_1A!AM:AM) -> 0 | AI23: =SUMIF(F_SZV_1A!$F:$F,$C23,F_SZV_1A!AN:AN) -> 0 | AJ23: =SUMIF(F_SZV_1A!$F:$F,$C23,F_SZV_1A!AO:AO) -> 0 | AK23: =SUMIF(F_SZV_1A!$F:$F,$C23,F_SZV_1A!AP:AP) -> 0 | AL23: =SUM(AA23:AK23) -> 0 | AR23: =INDEX(F_SZV_1A!$G:$G,MATCH($C23,F_SZV_1A!$F:$F,0)) -> #N/A | AS23: =COUNTIF(F_SZV_1A!$AY$3:$AY$2427,$D23) -> 0 | AT23: =SUMIF(F_SZV_1A!$AY$3:$AY$2427,$D23,F_SZV_1A!$CF$3:$CF$2427) -> 0 | AU23: =SUMIF(F_SZV_1A!$AY:$AY,$D23,F_SZV_1A!$CG:$CG) -> 0 | AV23: =SUMIF(F_SZV_1A!$AY:$AY,$D23,F_SZV_1A!$CG:$CG) -> 0

Sheet F_SZV_1A
B1: A | C1: B | D1: C | E1: D | F1: E/1 | G1: E/2 | H1: fx | I1: VKEFFO | J1: F | K1: G | L1: I/1 | M1: I/2 | N1: J/1 | O1: J/2 | P1: VKEFFO | R1: H/1 -- Forrás megnevezése (I. ütem) | AD1: fx | AF1: H/2 -- Forrás megnevezése (II. ütem) | AS1: fx | AU1: VKEFFO | AV1: VKEFFO | AY1: fx | AZ1: fx | BA1: fx | BB1: fx | BC1: fx | BD1: fx | BE1: fx | BF1: fx | BG1: fx | BH1: fx | BI1: fx | BJ1: fx | BK1: fx | BL1: fx | BM1: fx | BN1: fx | BO1: fx | BP1: fx | BQ1: fx | BR1: fx | BS1: fx | BT1: fx | BU1: fx | BV1: fx | BW1: fx | BX1: fx | BY1: fx | BZ1: fx | CA1: fx | CB1: fx | CC1: fx | CD1: fx | CE1: fx | CF1: fx | CG1: fx | CH1: fx
A2: Ellenőrzés | B2: Fontossági sorrend | C2: A felújítási feladat kategóriája | D2: Felújítás megnevezése | E2: Vízjogi létesítési/ elvi engedély száma (amennyiben rendelkezésre áll) | F2: Víziközmű-rendszer hivatali kódja | G2: Víziközmű-rendszer megnevezése | H2: FELADAT-AZONOSITO | I2: Ellátási terület | J2: Az érintett ellátásért felelős(ök) megnevezése | K2: Tervezett nettó költség [eFt] | L2: Megvalósítás várható időtartama - KEZDÉS | M2: Megvalósítás várható időtartama - BEFEJEZÉS | N2: A Felújítás tervezett nettó költsége a tervezési időszak ütemezése szerint [eFt] - I. ütem | O2: A Felújítás tervezett nettó költsége a tervezési időszak ütemezése szerint [eFt] - II. ütem | P2: Az EM rendelet 2. melléklet terhére elszámolni tervezett költség | R2: Használati díj [eFt] | S2: ÉCS [eFt] | T2: Közműfejlesztési hozzájárulás [eFt] | U2: Egyéb saját forrás [eFt] | V2: Díj [eFt] | W2: VFEA - EM rendelet 1. melléklet | X2: Egyéb állami támogatás [eFt] | Y2: Önkormányzati támogatás [eFt] | Z2: EU-s támogatás [eFt] | AA2: Egyéb támogatás [eFt] | AB2: Banki hitel, kötvénykibocsátás [eFt] | AC2: Összesítés [eFt] | AD2: Forrás (I. ütem) - ELLENŐRZÉS | AF2: Használati díj [eFt] | AG2: ÉCS [eFt] | AH2: Közműfejlesztési hozzájárulás [eFt] | AI2: Egyéb saját forrás [eFt] | AJ2: Díj [eFt] | AK2: VFEA - EM rendelet 1. melléklet | AL2: Egyéb állami támogatás [eFt] | AM2: Önkormányzati támogatás [eFt] | AN2: EU-s támogatás [eFt] | AO2: Egyéb támogatás [eFt] | AP2: Banki hitel, kötvénykibocsátás [eFt] | AQ2: Összesítés [eFt] | AR2: Forráshiányos a feladat (II. ütem)? | AS2: Forrás (II. ütem) - ELLENŐRZÉS | AU2: INDOKLÁS | AV2: MEGJEGYZÉS | AW2: Feladat sorszáma | AY2: ISA | AZ2: Indoklás hossza | BA2: Minden kitöltve? (kivéve a forrás) 1-igen;0-nem | BB2: 2027-2027: R 2027-x: RH 2028-x: H | BC2: Van rövid távú feladat | BD2: Ütem költségek hibásak? --- 1-igen; 0-nem | BE2: 1.ütem FORRÁS --- forráshiányos? 1-igen;0-nem | BF2: 1.ütem FORRÁS --- Összesítés | BG2: 1.ütem FORRÁS kitöltve? 1-igen, 0-nem | BH2: 1.ütem FORRÁS jól kitöltve? 1-igen;0-nem | BI2: 2.ütem FORRÁS --- forráshiányos? 1-igen;0-nem | BJ2: 2.ütem FORRÁS kitöltve? 1-igen, 0-nem | BK2: 2.ütem FORRÁS jól kitöltve? 1-igen;0-nem | BL2: 2.FORRÁS ütem --- Összesítés | BM2: Van feladat 1.ütem? 1-igen;0-nem | BN2: Van feladat 2.ütem? 1-igen;0-nem | BO2: 1.ütem nullás a terv? 1-igen;0-nem | BP2: 2.ütem nullás a terv? 1-igen;0-nem | BQ2: Nullás és van indoklás rövidtáv 1-igen; 0-nem | BR2: Nincs hosszútávú terv (ktg) indoklás? | BS2: Nullás és van idnoklás rövidtáv 1-igen; 0-nem | BT2: Nullás és van indoklás hosszútáv 1-igen; 0-nem | BU2: Fontossági sorrend | BV2: A felújítási feladat kategóriája | BW2: Felújítás megnevezése | BX2: Vízjogi létesítési/ elvi engedély száma (amennyiben rendelkezésre áll) | BY2: Megvalósítás várható időtartama - KEZDÉS | BZ2: Megvalósítás várható időtartama - BEFEJEZÉS | CA2: A Felújítás tervezett nettó költsége a tervezési időszak ütemezése szerint [eFt] - I. ütem | CB2: A Felújítás tervezett nettó költsége a tervezési időszak ütemezése szerint [eFt] - II. ütem | CC2: VFEA - EM rendelet 2. melléklet (fenntartására fordítandó) | CD2: HIÁNYOS kitöltés?! | CE2: ÖSSZESÍTŐ szöveggel | CF2: Kitöltés rendben! >> 1; Egyébként >> 0 | CG2: Rövid és jó | CH2: Hosszú és jó
A3: =IF($G3="","Nincs VKR kiválasztva!",CE3) -> Kitöltés rendben! | B3: 1 | C3: 2811_RENDKÍVÜLI | D3: Rendkívüli helyzetből adódó azonnali feladatok | E3: nem áll rendelkezésre | F3: =VLOOKUP($G3,Összesítő!$B:$F,2,FALSE) -> 21-32054-1-048-01-10 | G3: Zalaegerszeg-SZV | H3: =AY3&"_"&AW3&"_FIV_"&LEFT(Előlap!$B$6,4) -> 3185_1_FIV_2026 | I3: =VLOOKUP($G3,Összesítő!$B:$F,5,FALSE) -> Alibánfa, Alsónemesapáti, Babosdöbréte, Bagod, Bak, Bocfölde, Boncodfölde, Böde, Búcsúszentlászló, Csatár, Csonkahegyhát, Dobronhegy, Egervár, Gősfa, Hagyárosbörönd, Hottó, Kávás, Kemendollár, Keménfa, Kisbucsa, Kiskutas, Kispáli, Lakhegy, Nagykutas, Nagypáli, Nemesapáti, Nemeshetés, Nemessándorháza, Nemesszentandrás, Németfalu, Ozmánbük, Pethőhenye, Pókaszepetk, Pusztaszentlászló, Salomvár, Sárhida, Söjtör, Teskánd, Vasboldogasszony, Vaspör, Vöckönd, Zalaboldogfa, Zalacséb, Zalaegerszeg, Zalaistvánd, Zalaszentgyörgy, Zalaszentiván, Zalaszentlőrinc | J3: =VLOOKUP($G3,Összesítő!$B:$F,4,FALSE) -> Alibánfa Község Önkormányzata, Alsónemesapáti Község Önkormányzata, Babosdöbréte Község Önkormányzata, Bagod Község Önkormányzata, Bak Község Önkormányzata, Bocfölde Község Önkormányzata, Boncodfölde Község Önkormányzata, Böde Község Önkormányzata, Búcsúszentlászló Község Önkormányzata, Csatár Község Önkormányzata, Csonkahegyhát Község Önkormányzata, Dobronhegy Község Önkormányzata, Egervár Község Önkormányzata, Gősfa Község Önkormányzata, Hagyárosbörönd Község Önkormányzata, Hottó Község Önkormányzata, Kávás Község Önkormányzata, Kemendollár Község Önkormányzata, Keménfa Község Önkormányzata, Kisbucsa Község Önkormányzata, Kiskutas Község Önkormányzata, Kispáli Község Önkormányzata, Lakhegy Község Önkormányzata, Nagykutas Község Önkormányzata, Nagypáli Község Önkormányzata, Nemesapáti Község Önkormányzata, Nemeshetés Község Önkormányzata, Nemessándorháza Község Önkormányzata, Nemesszentandrás Község Önkormányzata, Németfalu Község Önkormányzata, Ozmánbük Község Önkormányzata, Pethőhenye Község Önkormányzata, Pókaszepetk Község Önkormányzata, Pusztaszentlászló Község Önkormányzata, Salomvár Község Önkormányzata, Sárhida Község Önkormányzata, Söjtör Község Önkormányzata, Teskánd Község Önkormányzata, Vasboldogasszony Község Önkormányzata, Vaspör Község Önkormányzata, Vöckönd Község Önkormányzata, Zalaboldogfa Község Önkormányzata, Zalacséb Község Önkormányzata, Zalaegerszeg Megyei Jogú Város Önkormányzata, Zalaistvánd Község Önkormányzata, Zalaszentgyörgy Község Önkormányzata, Zalaszentiván Község Önkormányzata, Zalaszentlőrinc Község Önkormányzata | K3: =N3+O3 -> 65700 | L3: 2027 | M3: 2027 | N3: 65700 | O3: 0 | P3: 0 | R3: 65700 | S3: 0 | T3: 0 | U3: 0 | V3: 0 | W3: 0 | X3: 0 | Y3: 0 | Z3: 0 | AA3: 0 | AB3: 0 | AC3: =SUM(R3:AB3) -> 65700 | AD3: =IF($G3="","Nincs VKR kiválasztva!",IF(BA3=0,"Hiányos kitöltés!",BF3)) -> A forrás egyenlő a költséggel (I.ütem). | AF3: 0 | AG3: 0 | AH3: 0 | AI3: 0 | AJ3: 0 | AK3: 0 | AL3: 0 | AM3: 0 | AN3: 0 | AO3: 0 | AP3: 0 | AQ3: =SUM(AF3:AP3) -> 0 | AR3: nem | AS3: =IF($G3="","Nincs VKR kiválasztva!",IF($BA3=0,"Hiányos kitöltés!",IF($BN3=0,"Nem hosszútávú a feladat.",$BL3))) -> Nem hosszútávú a feladat. | AW3: =COUNTA($G$3:G3) -> 1 | AY3: =VLOOKUP($G3,Összesítő!$B:$F,3,FALSE) -> 3185 | AZ3: =LEN($AU3) -> 0 | BA3: =IF(OR($B3="",$C3="",$D3="",$E3="",$F3="",$L3="",$M3="",$N3="",$O3="",$P3=""),0,1) -> 1 | BB3: =IF($F3="",0,IF(AND($L3=2027,$M3=2027),"R",IF(AND($L3=2027,$M3>2027),"RH",IF(AND($L3>2027,$M3>2027),"H","x")))) -> R | BC3: =IF(OR(BB3="R",BB3="RH"),1,0) -> 1 | BD3: =IF(AND($BB3="R",$O3>0),1,IF(AND($BB3="H",$N3>0),1,0)) -> 0 | BE3: =IF($AC3<$N3,1,IF($AC3=$N3,0)) -> 0 | BF3: =IF($L3>2027,"Nem rövidtávú a feladat.",IF($BE3=1,"Az I. ütem nem lehet forráshiányos!",IF($AC3>$N3,"Többlet forrást jelölt meg az I. ütemnél! A forrás ne legyen több a költségnél.",IF($AC3=$N3,"A forrás egyenlő a költséggel (I.ütem).",0)))) -> A forrás egyenlő a költséggel (I.ütem). | BG3: =IF(AND($R3<>"",$S3<>"",$T3<>"",$U3<>"",$V3<>"",$W3<>"",$X3<>"",$Y3<>"",$Z3<>"",$AA3<>"",$AB3<>""),1,0) -> 1 | BH3: =IF(AND($BG3=1,$N3=$AC3),1,0) -> 1 | BI3: =IF($AQ3<$O3,1,0) -> 0 | BJ3: =IF(AND($AF3<>"",$AG3<>"",$AH3<>"",$AI3<>"",$AJ3<>"",$AK3<>"",$AL3<>"",$AM3<>"",$AN3<>"",$AO3<>"",$AP3<>""),1,0) -> 1 | BK3: =IF(AND($BJ3=1,$O3=$AQ3),1,IF(AND($BJ3=1,$O3>$AQ3,AR3="igen"),1,0)) -> 1 | BL3: =IF($M3<2028,"Nem hosszútávú a feladat.",IF(AND($BI3=1,$AR3="nem"),"Forráshiányos a feladat? Jelölje az AR-oszlopban!",IF(AND($BI3=0,$AR3="igen"),"Forráshiányosnak jelölte a feladat az AR-oszlopban, de a forrás költség adatok alapnján nem az!",IF(AND($BI3=1,$AR3="igen"),"Forráshiányos a feladat!",IF($AQ3>$O3,"Többlet forrást jelölt meg a II. ütemnél! A forrás ne legyen több a költségnél.",IF($AQ3=$O3,"A forrás egyenlő a költséggel (II.ütem).",0)))))) -> Nem hosszútávú a feladat. | BM3: =IF($M3<2028,1,0) -> 1 | BN3: =IF($M3>2027,1,0) -> 0 | BO3: =IF(AND($BM3=1,$N3=0),1,0) -> 0 | BP3: =IF(AND($BN3=1,$O3=0),1,0) -> 0 | BQ3: =IF(AND($BB3="R",$N3=0,$AZ3>29),1,IF(AND($BB3="RH",$N3=0,$AZ3>29),1,0)) -> 0 | BR3: =IF($BN3=0,"Nincs hosszútávú terv!",IF(AND($BB3="H",$O3=0,$AZ3=0),"Nullás a hosszútávú feladat és nincs hozzá indoklás!",IF(AND($BB3="RH",$O3=0,$AZ3=0),"Nullás a hosszútávú feladat és nincs hozzá indoklás!",IF(AND($BB3="R",$O3=0,$AZ3<300),"Nullás a hosszútávú feladat és rövid hozzá az indoklás!",IF(AND($BB3="RH",$O3=0,$AZ3<300),"Nullás a hosszútávú feladat és rövid hozzá az indoklás!",0))))) -> Nincs hosszútávú terv! | BS3: =IF(AND($BB3="R",$N3=0,$AZ3>29),1,IF(AND($BB3="RH",$N3=0,$AZ3>29),1,0)) -> 0 | BT3: =IF(AND($BB3="H",$O3=0,$AZ3>29),1,IF(AND($BB3="RH",$O3=0,$AZ3>29),1,0)) -> 0 | BU3: =IF($B3="",0,1) -> 1 | BV3: =IF($C3="",0,1) -> 1 | BW3: =IF($D3="",0,1) -> 1 | BX3: =IF($E3="",0,1) -> 1 | BY3: =IF($L3="",0,1) -> 1 | BZ3: =IF($M3="",0,1) -> 1 | CA3: =IF($N3="",0,1) -> 1 | CB3: =IF($O3="",0,1) -> 1 | CC3: =IF($P3="",0,1) -> 1 | CD3: =IF(AND($BA3=0,$BU3=0),"Hiányos kitöltés! (B-oszlop üres)",IF(AND($BA3=0,$BV3=0),"Hiányos kitöltés! (C-oszlop üres)",IF(AND($BA3=0,$BW3=0),"Hiányos kitöltés! (D-oszlop üres)",IF(AND($BA3=0,$BX3=0),"Hiányos kitöltés! (E-oszlop üres)",IF(AND($BA3=0,$BY3=0),"Hiányos kitöltés! (L-oszlop üres)",IF(AND($BA3=0,$BZ3=0),"Hiányos kitöltés! (M-oszlop üres)",IF(AND($BA3=0,$CA3=0),"Hiányos kitöltés! (N-oszlop üres)",IF(AND($BA3=0,$CB3=0),"Hiányos kitöltés! (O-oszlop üres)",IF(AND($BA3=0,$CC3=0),"Hiányos kitöltés! (P-oszlop üres)",IF(AND($BA3=0,$BG3=0),"Hiányos kitöltés! (I.ütem forrása hiányos!","?")))))))))) -> ? | CE3: =IF($BA3=0,$CD3,IF($BG3=0,"I. ütem forrása nincs kitöltve!",IF($BJ3=0,"II. ütem forrása nincs kitöltve!",IF($BD3=1,"Költségek üteme nem megfelelő (az időtartam és a költség üteme eltér)!",IF(AND(BH3=0,$BA3=1,$BJ3=1,$BD3=1),"Kötelező cellák kitöltve, de az I. ütem forrása hibás!",IF(AND(BJ3=0,$BA3=1,$BJ3=1,$BD3=1),"Kötelező cellák kitöltve, de a II. ütem forrása hibás!",IF(AND($BO3=1,$AZ3<30),"Nullás a rövidtávú feladat és rövid (hiányzik) a hozzá tartozó indoklás!",IF(AND($BP3=1,$AZ3<30),"Nullás a hosszútávú feladat és rövid (hiányzik) a hozzá tartozó indoklás!",IF(AND(BN3=1,C3="2011_RENDKÍVÜLI"),"II. ütemre nem tervezhet Rendkívüli feladatot!",IF(BH3=0,AD3,IF(BK3=0,AS3,IF(AND(BC3=1,$P3>$N3),"EM rendelet 2. melléklet terhére elszámolt költség nem lehet nagyobb az I. ütemre tervezett tényleges költségnél!",IF($AC3>$N3,"Többlet forrást jelölt meg az I. ütemnél! A forrás ne legyen több a költségnél.",IF($AQ3>$O3,"Többlet forrást jelölt meg a II. ütemnél! A forrás ne legyen több a költségnél.","Kitöltés rendben!")))))))))))))) -> Kitöltés rendben! | CF3: =IF(A3="Kitöltés rendben!",1,0) -> 1 | CG3: =IF(AND($BB3="R",$CF3=1),1,IF(AND($BB3="RH",$CF3=1),1,0)) -> 1 | CH3: =IF(AND($BB3="H",$CF3=1),1,IF(AND($BB3="RH",$CF3=1),1,0)) -> 0
A4: =IF($G4="","Nincs VKR kiválasztva!",CE4) -> Kitöltés rendben! | B4: 1 | C4: 2121_VEZETÉK_GERINC | D4: Alibánfa több helyszínen végzett szennyvízhálózat rekonstrukció | E4: nem áll rendelkezésre | F4: =VLOOKUP($G4,Összesítő!$B:$F,2,FALSE) -> 21-32054-1-048-01-10 | G4: Zalaegerszeg-SZV | H4: =AY4&"_"&AW4&"_FIV_"&LEFT(Előlap!$B$6,4) -> 3185_2_FIV_2026 | I4: =VLOOKUP($G4,Összesítő!$B:$F,5,FALSE) -> Alibánfa, Alsónemesapáti, Babosdöbréte, Bagod, Bak, Bocfölde, Boncodfölde, Böde, Búcsúszentlászló, Csatár, Csonkahegyhát, Dobronhegy, Egervár, Gősfa, Hagyárosbörönd, Hottó, Kávás, Kemendollár, Keménfa, Kisbucsa, Kiskutas, Kispáli, Lakhegy, Nagykutas, Nagypáli, Nemesapáti, Nemeshetés, Nemessándorháza, Nemesszentandrás, Németfalu, Ozmánbük, Pethőhenye, Pókaszepetk, Pusztaszentlászló, Salomvár, Sárhida, Söjtör, Teskánd, Vasboldogasszony, Vaspör, Vöckönd, Zalaboldogfa, Zalacséb, Zalaegerszeg, Zalaistvánd, Zalaszentgyörgy, Zalaszentiván, Zalaszentlőrinc | J4: =VLOOKUP($G4,Összesítő!$B:$F,4,FALSE) -> Alibánfa Község Önkormányzata, Alsónemesapáti Község Önkormányzata, Babosdöbréte Község Önkormányzata, Bagod Község Önkormányzata, Bak Község Önkormányzata, Bocfölde Község Önkormányzata, Boncodfölde Község Önkormányzata, Böde Község Önkormányzata, Búcsúszentlászló Község Önkormányzata, Csatár Község Önkormányzata, Csonkahegyhát Község Önkormányzata, Dobronhegy Község Önkormányzata, Egervár Község Önkormányzata, Gősfa Község Önkormányzata, Hagyárosbörönd Község Önkormányzata, Hottó Község Önkormányzata, Kávás Község Önkormányzata, Kemendollár Község Önkormányzata, Keménfa Község Önkormányzata, Kisbucsa Község Önkormányzata, Kiskutas Község Önkormányzata, Kispáli Község Önkormányzata, Lakhegy Község Önkormányzata, Nagykutas Község Önkormányzata, Nagypáli Község Önkormányzata, Nemesapáti Község Önkormányzata, Nemeshetés Község Önkormányzata, Nemessándorháza Község Önkormányzata, Nemesszentandrás Község Önkormányzata, Németfalu Község Önkormányzata, Ozmánbük Község Önkormányzata, Pethőhenye Község Önkormányzata, Pókaszepetk Község Önkormányzata, Pusztaszentlászló Község Önkormányzata, Salomvár Község Önkormányzata, Sárhida Község Önkormányzata, Söjtör Község Önkormányzata, Teskánd Község Önkormányzata, Vasboldogasszony Község Önkormányzata, Vaspör Község Önkormányzata, Vöckönd Község Önkormányzata, Zalaboldogfa Község Önkormányzata, Zalacséb Község Önkormányzata, Zalaegerszeg Megyei Jogú Város Önkormányzata, Zalaistvánd Község Önkormányzata, Zalaszentgyörgy Község Önkormányzata, Zalaszentiván Község Önkormányzata, Zalaszentlőrinc Község Önkormányzata | K4: =N4+O4 -> 2597 | L4: 2027 | M4: 2027 | N4: 2597 | O4: 0 | P4: 0 | R4: 2597 | S4: 0 | T4: 0 | U4: 0 | V4: 0 | W4: 0 | X4: 0 | Y4: 0 | Z4: 0 | AA4: 0 | AB4: 0 | AC4: =SUM(R4:AB4) -> 2597 | AD4: =IF($G4="","Nincs VKR kiválasztva!",IF(BA4=0,"Hiányos kitöltés!",BF4)) -> A forrás egyenlő a költséggel (I.ütem). | AF4: 0 | AG4: 0 | AH4: 0 | AI4: 0 | AJ4: 0 | AK4: 0 | AL4: 0 | AM4: 0 | AN4: 0 | AO4: 0 | AP4: 0 | AQ4: =SUM(AF4:AP4) -> 0 | AR4: nem | AS4: =IF($G4="","Nincs VKR kiválasztva!",IF($BA4=0,"Hiányos kitöltés!",IF($BN4=0,"Nem hosszútávú a feladat.",$BL4))) -> Nem hosszútávú a feladat. | AW4: =COUNTA($G$3:G4) -> 2 | AY4: =VLOOKUP($G4,Összesítő!$B:$F,3,FALSE) -> 3185 | AZ4: =LEN($AU4) -> 0 | BA4: =IF(OR($B4="",$C4="",$D4="",$E4="",$F4="",$L4="",$M4="",$N4="",$O4="",$P4=""),0,1) -> 1 | BB4: =IF($F4="",0,IF(AND($L4=2027,$M4=2027),"R",IF(AND($L4=2027,$M4>2027),"RH",IF(AND($L4>2027,$M4>2027),"H","x")))) -> R | BC4: =IF(OR(BB4="R",BB4="RH"),1,0) -> 1 | BD4: =IF(AND($BB4="R",$O4>0),1,IF(AND($BB4="H",$N4>0),1,0)) -> 0 | BE4: =IF($AC4<$N4,1,IF($AC4=$N4,0)) -> 0 | BF4: =IF($L4>2027,"Nem rövidtávú a feladat.",IF($BE4=1,"Az I. ütem nem lehet forráshiányos!",IF($AC4>$N4,"Többlet forrást jelölt meg az I. ütemnél! A forrás ne legyen több a költségnél.",IF($AC4=$N4,"A forrás egyenlő a költséggel (I.ütem).",0)))) -> A forrás egyenlő a költséggel (I.ütem). | BG4: =IF(AND($R4<>"",$S4<>"",$T4<>"",$U4<>"",$V4<>"",$W4<>"",$X4<>"",$Y4<>"",$Z4<>"",$AA4<>"",$AB4<>""),1,0) -> 1 | BH4: =IF(AND($BG4=1,$N4=$AC4),1,0) -> 1 | BI4: =IF($AQ4<$O4,1,0) -> 0 | BJ4: =IF(AND($AF4<>"",$AG4<>"",$AH4<>"",$AI4<>"",$AJ4<>"",$AK4<>"",$AL4<>"",$AM4<>"",$AN4<>"",$AO4<>"",$AP4<>""),1,0) -> 1 | BK4: =IF(AND($BJ4=1,$O4=$AQ4),1,IF(AND($BJ4=1,$O4>$AQ4,AR4="igen"),1,0)) -> 1 | BL4: =IF($M4<2028,"Nem hosszútávú a feladat.",IF(AND($BI4=1,$AR4="nem"),"Forráshiányos a feladat? Jelölje az AR-oszlopban!",IF(AND($BI4=0,$AR4="igen"),"Forráshiányosnak jelölte a feladat az AR-oszlopban, de a forrás költség adatok alapnján nem az!",IF(AND($BI4=1,$AR4="igen"),"Forráshiányos a feladat!",IF($AQ4>$O4,"Többlet forrást jelölt meg a II. ütemnél! A forrás ne legyen több a költségnél.",IF($AQ4=$O4,"A forrás egyenlő a költséggel (II.ütem).",0)))))) -> Nem hosszútávú a feladat. | BM4: =IF($M4<2028,1,0) -> 1 | BN4: =IF($M4>2027,1,0) -> 0 | BO4: =IF(AND($BM4=1,$N4=0),1,0) -> 0 | BP4: =IF(AND($BN4=1,$O4=0),1,0) -> 0 | BQ4: =IF(AND($BB4="R",$N4=0,$AZ4>29),1,IF(AND($BB4="RH",$N4=0,$AZ4>29),1,0)) -> 0 | BR4: =IF($BN4=0,"Nincs hosszútávú terv!",IF(AND($BB4="H",$O4=0,$AZ4=0),"Nullás a hosszútávú feladat és nincs hozzá indoklás!",IF(AND($BB4="RH",$O4=0,$AZ4=0),"Nullás a hosszútávú feladat és nincs hozzá indoklás!",IF(AND($BB4="R",$O4=0,$AZ4<300),"Nullás a hosszútávú feladat és rövid hozzá az indoklás!",IF(AND($BB4="RH",$O4=0,$AZ4<300),"Nullás a hosszútávú feladat és rövid hozzá az indoklás!",0))))) -> Nincs hosszútávú terv! | BS4: =IF(AND($BB4="R",$N4=0,$AZ4>29),1,IF(AND($BB4="RH",$N4=0,$AZ4>29),1,0)) -> 0 | BT4: =IF(AND($BB4="H",$O4=0,$AZ4>29),1,IF(AND($BB4="RH",$O4=0,$AZ4>29),1,0)) -> 0 | BU4: =IF($B4="",0,1) -> 1 | BV4: =IF($C4="",0,1) -> 1 | BW4: =IF($D4="",0,1) -> 1 | BX4: =IF($E4="",0,1) -> 1 | BY4: =IF($L4="",0,1) -> 1 | BZ4: =IF($M4="",0,1) -> 1 | CA4: =IF($N4="",0,1) -> 1 | CB4: =IF($O4="",0,1) -> 1 | CC4: =IF($P4="",0,1) -> 1 | CD4: =IF(AND($BA4=0,$BU4=0),"Hiányos kitöltés! (B-oszlop üres)",IF(AND($BA4=0,$BV4=0),"Hiányos kitöltés! (C-oszlop üres)",IF(AND($BA4=0,$BW4=0),"Hiányos kitöltés! (D-oszlop üres)",IF(AND($BA4=0,$BX4=0),"Hiányos kitöltés! (E-oszlop üres)",IF(AND($BA4=0,$BY4=0),"Hiányos kitöltés! (L-oszlop üres)",IF(AND($BA4=0,$BZ4=0),"Hiányos kitöltés! (M-oszlop üres)",IF(AND($BA4=0,$CA4=0),"Hiányos kitöltés! (N-oszlop üres)",IF(AND($BA4=0,$CB4=0),"Hiányos kitöltés! (O-oszlop üres)",IF(AND($BA4=0,$CC4=0),"Hiányos kitöltés! (P-oszlop üres)",IF(AND($BA4=0,$BG4=0),"Hiányos kitöltés! (I.ütem forrása hiányos!","?")))))))))) -> ? | CE4: =IF($BA4=0,$CD4,IF($BG4=0,"I. ütem forrása nincs kitöltve!",IF($BJ4=0,"II. ütem forrása nincs kitöltve!",IF($BD4=1,"Költségek üteme nem megfelelő (az időtartam és a költség üteme eltér)!",IF(AND(BH4=0,$BA4=1,$BJ4=1,$BD4=1),"Kötelező cellák kitöltve, de az I. ütem forrása hibás!",IF(AND(BJ4=0,$BA4=1,$BJ4=1,$BD4=1),"Kötelező cellák kitöltve, de a II. ütem forrása hibás!",IF(AND($BO4=1,$AZ4<30),"Nullás a rövidtávú feladat és rövid (hiányzik) a hozzá tartozó indoklás!",IF(AND($BP4=1,$AZ4<30),"Nullás a hosszútávú feladat és rövid (hiányzik) a hozzá tartozó indoklás!",IF(AND(BN4=1,C4="2011_RENDKÍVÜLI"),"II. ütemre nem tervezhet Rendkívüli feladatot!",IF(BH4=0,AD4,IF(BK4=0,AS4,IF(AND(BC4=1,$P4>$N4),"EM rendelet 2. melléklet terhére elszámolt költség nem lehet nagyobb az I. ütemre tervezett tényleges költségnél!",IF($AC4>$N4,"Többlet forrást jelölt meg az I. ütemnél! A forrás ne legyen több a költségnél.",IF($AQ4>$O4,"Többlet forrást jelölt meg a II. ütemnél! A forrás ne legyen több a költségnél.","Kitöltés rendben!")))))))))))))) -> Kitöltés rendben! | CF4: =IF(A4="Kitöltés rendben!",1,0) -> 1 | CG4: =IF(AND($BB4="R",$CF4=1),1,IF(AND($BB4="RH",$CF4=1),1,0)) -> 1 | CH4: =IF(AND($BB4="H",$CF4=1),1,IF(AND($BB4="RH",$CF4=1),1,0)) -> 0
A5: =IF($G5="","Nincs VKR kiválasztva!",CE5) -> Kitöltés rendben! | B5: 2 | C5: 2121_VEZETÉK_GERINC | D5: Alibánfa több helyszínen végzett szennyvízhálózat rekonstrukció | E5: nem áll rendelkezésre | F5: =VLOOKUP($G5,Összesítő!$B:$F,2,FALSE) -> 21-32054-1-048-01-10 | G5: Zalaegerszeg-SZV | H5: =AY5&"_"&AW5&"_FIV_"&LEFT(Előlap!$B$6,4) -> 3185_3_FIV_2026 | I5: =VLOOKUP($G5,Összesítő!$B:$F,5,FALSE) -> Alibánfa, Alsónemesapáti, Babosdöbréte, Bagod, Bak, Bocfölde, Boncodfölde, Böde, Búcsúszentlászló, Csatár, Csonkahegyhát, Dobronhegy, Egervár, Gősfa, Hagyárosbörönd, Hottó, Kávás, Kemendollár, Keménfa, Kisbucsa, Kiskutas, Kispáli, Lakhegy, Nagykutas, Nagypáli, Nemesapáti, Nemeshetés, Nemessándorháza, Nemesszentandrás, Németfalu, Ozmánbük, Pethőhenye, Pókaszepetk, Pusztaszentlászló, Salomvár, Sárhida, Söjtör, Teskánd, Vasboldogasszony, Vaspör, Vöckönd, Zalaboldogfa, Zalacséb, Zalaegerszeg, Zalaistvánd, Zalaszentgyörgy, Zalaszentiván, Zalaszentlőrinc | J5: =VLOOKUP($G5,Összesítő!$B:$F,4,FALSE) -> Alibánfa Község Önkormányzata, Alsónemesapáti Község Önkormányzata, Babosdöbréte Község Önkormányzata, Bagod Község Önkormányzata, Bak Község Önkormányzata, Bocfölde Község Önkormányzata, Boncodfölde Község Önkormányzata, Böde Község Önkormányzata, Búcsúszentlászló Község Önkormányzata, Csatár Község Önkormányzata, Csonkahegyhát Község Önkormányzata, Dobronhegy Község Önkormányzata, Egervár Község Önkormányzata, Gősfa Község Önkormányzata, Hagyárosbörönd Község Önkormányzata, Hottó Község Önkormányzata, Kávás Község Önkormányzata, Kemendollár Község Önkormányzata, Keménfa Község Önkormányzata, Kisbucsa Község Önkormányzata, Kiskutas Község Önkormányzata, Kispáli Község Önkormányzata, Lakhegy Község Önkormányzata, Nagykutas Község Önkormányzata, Nagypáli Község Önkormányzata, Nemesapáti Község Önkormányzata, Nemeshetés Község Önkormányzata, Nemessándorháza Község Önkormányzata, Nemesszentandrás Község Önkormányzata, Németfalu Község Önkormányzata, Ozmánbük Község Önkormányzata, Pethőhenye Község Önkormányzata, Pókaszepetk Község Önkormányzata, Pusztaszentlászló Község Önkormányzata, Salomvár Község Önkormányzata, Sárhida Község Önkormányzata, Söjtör Község Önkormányzata, Teskánd Község Önkormányzata, Vasboldogasszony Község Önkormányzata, Vaspör Község Önkormányzata, Vöckönd Község Önkormányzata, Zalaboldogfa Község Önkormányzata, Zalacséb Község Önkormányzata, Zalaegerszeg Megyei Jogú Város Önkormányzata, Zalaistvánd Község Önkormányzata, Zalaszentgyörgy Község Önkormányzata, Zalaszentiván Község Önkormányzata, Zalaszentlőrinc Község Önkormányzata | K5: =N5+O5 -> 13075 | L5: 2031 | M5: 2035 | N5: 0 | O5: 13075 | P5: 0 | R5: 0 | S5: 0 | T5: 0 | U5: 0 | V5: 0 | W5: 0 | X5: 0 | Y5: 0 | Z5: 0 | AA5: 0 | AB5: 0 | AC5: =SUM(R5:AB5) -> 0 | AD5: =IF($G5="","Nincs VKR kiválasztva!",IF(BA5=0,"Hiányos kitöltés!",BF5)) -> Nem rövidtávú a feladat. | AF5: 0 | AG5: 0 | AH5: 0 | AI5: 0 | AJ5: 0 | AK5: 0 | AL5: 0 | AM5: 0 | AN5: 0 | AO5: 0 | AP5: 0 | AQ5: =SUM(AF5:AP5) -> 0 | AR5: igen | AS5: =IF($G5="","Nincs VKR kiválasztva!",IF($BA5=0,"Hiányos kitöltés!",IF($BN5=0,"Nem hosszútávú a feladat.",$BL5))) -> Forráshiányos a feladat! | AW5: =COUNTA($G$3:G5) -> 3 | AY5: =VLOOKUP($G5,Összesítő!$B:$F,3,FALSE) -> 3185 | AZ5: =LEN($AU5) -> 0 | BA5: =IF(OR($B5="",$C5="",$D5="",$E5="",$F5="",$L5="",$M5="",$N5="",$O5="",$P5=""),0,1) -> 1 | BB5: =IF($F5="",0,IF(AND($L5=2027,$M5=2027),"R",IF(AND($L5=2027,$M5>2027),"RH",IF(AND($L5>2027,$M5>2027),"H","x")))) -> H | BC5: =IF(OR(BB5="R",BB5="RH"),1,0) -> 0 | BD5: =IF(AND($BB5="R",$O5>0),1,IF(AND($BB5="H",$N5>0),1,0)) -> 0 | BE5: =IF($AC5<$N5,1,IF($AC5=$N5,0)) -> 0 | BF5: =IF($L5>2027,"Nem rövidtávú a feladat.",IF($BE5=1,"Az I. ütem nem lehet forráshiányos!",IF($AC5>$N5,"Többlet forrást jelölt meg az I. ütemnél! A forrás ne legyen több a költségnél.",IF($AC5=$N5,"A forrás egyenlő a költséggel (I.ütem).",0)))) -> Nem rövidtávú a feladat. | BG5: =IF(AND($R5<>"",$S5<>"",$T5<>"",$U5<>"",$V5<>"",$W5<>"",$X5<>"",$Y5<>"",$Z5<>"",$AA5<>"",$AB5<>""),1,0) -> 1 | BH5: =IF(AND($BG5=1,$N5=$AC5),1,0) -> 1 | BI5: =IF($AQ5<$O5,1,0) -> 1 | BJ5: =IF(AND($AF5<>"",$AG5<>"",$AH5<>"",$AI5<>"",$AJ5<>"",$AK5<>"",$AL5<>"",$AM5<>"",$AN5<>"",$AO5<>"",$AP5<>""),1,0) -> 1 | BK5: =IF(AND($BJ5=1,$O5=$AQ5),1,IF(AND($BJ5=1,$O5>$AQ5,AR5="igen"),1,0)) -> 1 | BL5: =IF($M5<2028,"Nem hosszútávú a feladat.",IF(AND($BI5=1,$AR5="nem"),"Forráshiányos a feladat? Jelölje az AR-oszlopban!",IF(AND($BI5=0,$AR5="igen"),"Forráshiányosnak jelölte a feladat az AR-oszlopban, de a forrás költség adatok alapnján nem az!",IF(AND($BI5=1,$AR5="igen"),"Forráshiányos a feladat!",IF($AQ5>$O5,"Többlet forrást jelölt meg a II. ütemnél! A forrás ne legyen több a költségnél.",IF($AQ5=$O5,"A forrás egyenlő a költséggel (II.ütem).",0)))))) -> Forráshiányos a feladat! | BM5: =IF($M5<2028,1,0) -> 0 | BN5: =IF($M5>2027,1,0) -> 1 | BO5: =IF(AND($BM5=1,$N5=0),1,0) -> 0 | BP5: =IF(AND($BN5=1,$O5=0),1,0) -> 0 | BQ5: =IF(AND($BB5="R",$N5=0,$AZ5>29),1,IF(AND($BB5="RH",$N5=0,$AZ5>29),1,0)) -> 0 | BR5: =IF($BN5=0,"Nincs hosszútávú terv!",IF(AND($BB5="H",$O5=0,$AZ5=0),"Nullás a hosszútávú feladat és nincs hozzá indoklás!",IF(AND($BB5="RH",$O5=0,$AZ5=0),"Nullás a hosszútávú feladat és nincs hozzá indoklás!",IF(AND($BB5="R",$O5=0,$AZ5<300),"Nullás a hosszútávú feladat és rövid hozzá az indoklás!",IF(AND($BB5="RH",$O5=0,$AZ5<300),"Nullás a hosszútávú feladat és rövid hozzá az indoklás!",0))))) -> 0 | BS5: =IF(AND($BB5="R",$N5=0,$AZ5>29),1,IF(AND($BB5="RH",$N5=0,$AZ5>29),1,0)) -> 0 | BT5: =IF(AND($BB5="H",$O5=0,$AZ5>29),1,IF(AND($BB5="RH",$O5=0,$AZ5>29),1,0)) -> 0 | BU5: =IF($B5="",0,1) -> 1 | BV5: =IF($C5="",0,1) -> 1 | BW5: =IF($D5="",0,1) -> 1 | BX5: =IF($E5="",0,1) -> 1 | BY5: =IF($L5="",0,1) -> 1 | BZ5: =IF($M5="",0,1) -> 1 | CA5: =IF($N5="",0,1) -> 1 | CB5: =IF($O5="",0,1) -> 1 | CC5: =IF($P5="",0,1) -> 1 | CD5: =IF(AND($BA5=0,$BU5=0),"Hiányos kitöltés! (B-oszlop üres)",IF(AND($BA5=0,$BV5=0),"Hiányos kitöltés! (C-oszlop üres)",IF(AND($BA5=0,$BW5=0),"Hiányos kitöltés! (D-oszlop üres)",IF(AND($BA5=0,$BX5=0),"Hiányos kitöltés! (E-oszlop üres)",IF(AND($BA5=0,$BY5=0),"Hiányos kitöltés! (L-oszlop üres)",IF(AND($BA5=0,$BZ5=0),"Hiányos kitöltés! (M-oszlop üres)",IF(AND($BA5=0,$CA5=0),"Hiányos kitöltés! (N-oszlop üres)",IF(AND($BA5=0,$CB5=0),"Hiányos kitöltés! (O-oszlop üres)",IF(AND($BA5=0,$CC5=0),"Hiányos kitöltés! (P-oszlop üres)",IF(AND($BA5=0,$BG5=0),"Hiányos kitöltés! (I.ütem forrása hiányos!","?")))))))))) -> ? | CE5: =IF($BA5=0,$CD5,IF($BG5=0,"I. ütem forrása nincs kitöltve!",IF($BJ5=0,"II. ütem forrása nincs kitöltve!",IF($BD5=1,"Költségek üteme nem megfelelő (az időtartam és a költség üteme eltér)!",IF(AND(BH5=0,$BA5=1,$BJ5=1,$BD5=1),"Kötelező cellák kitöltve, de az I. ütem forrása hibás!",IF(AND(BJ5=0,$BA5=1,$BJ5=1,$BD5=1),"Kötelező cellák kitöltve, de a II. ütem forrása hibás!",IF(AND($BO5=1,$AZ5<30),"Nullás a rövidtávú feladat és rövid (hiányzik) a hozzá tartozó indoklás!",IF(AND($BP5=1,$AZ5<30),"Nullás a hosszútávú feladat és rövid (hiányzik) a hozzá tartozó indoklás!",IF(AND(BN5=1,C5="2011_RENDKÍVÜLI"),"II. ütemre nem tervezhet Rendkívüli feladatot!",IF(BH5=0,AD5,IF(BK5=0,AS5,IF(AND(BC5=1,$P5>$N5),"EM rendelet 2. melléklet terhére elszámolt költség nem lehet nagyobb az I. ütemre tervezett tényleges költségnél!",IF($AC5>$N5,"Többlet forrást jelölt meg az I. ütemnél! A forrás ne legyen több a költségnél.",IF($AQ5>$O5,"Többlet forrást jelölt meg a II. ütemnél! A forrás ne legyen több a költségnél.","Kitöltés rendben!")))))))))))))) -> Kitöltés rendben! | CF5: =IF(A5="Kitöltés rendben!",1,0) -> 1 | CG5: =IF(AND($BB5="R",$CF5=1),1,IF(AND($BB5="RH",$CF5=1),1,0)) -> 0 | CH5: =IF(AND($BB5="H",$CF5=1),1,IF(AND($BB5="RH",$CF5=1),1,0)) -> 1
A6: =IF($G6="","Nincs VKR kiválasztva!",CE6) -> Kitöltés rendben! | B6: 2 | C6: 2121_VEZETÉK_GERINC | D6: Alibánfa gravitációs csatorna rekonstrukció | E6: nem áll rendelkezésre | F6: =VLOOKUP($G6,Összesítő!$B:$F,2,FALSE) -> 21-32054-1-048-01-10 | G6: Zalaegerszeg-SZV | H6: =AY6&"_"&AW6&"_FIV_"&LEFT(Előlap!$B$6,4) -> 3185_4_FIV_2026 | I6: =VLOOKUP($G6,Összesítő!$B:$F,5,FALSE) -> Alibánfa, Alsónemesapáti, Babosdöbréte, Bagod, Bak, Bocfölde, Boncodfölde, Böde, Búcsúszentlászló, Csatár, Csonkahegyhát, Dobronhegy, Egervár, Gősfa, Hagyárosbörönd, Hottó, Kávás, Kemendollár, Keménfa, Kisbucsa, Kiskutas, Kispáli, Lakhegy, Nagykutas, Nagypáli, Nemesapáti, Nemeshetés, Nemessándorháza, Nemesszentandrás, Németfalu, Ozmánbük, Pethőhenye, Pókaszepetk, Pusztaszentlászló, Salomvár, Sárhida, Söjtör, Teskánd, Vasboldogasszony, Vaspör, Vöckönd, Zalaboldogfa, Zalacséb, Zalaegerszeg, Zalaistvánd, Zalaszentgyörgy, Zalaszentiván, Zalaszentlőrinc | J6: =VLOOKUP($G6,Összesítő!$B:$F,4,FALSE) -> Alibánfa Község Önkormányzata, Alsónemesapáti Község Önkormányzata, Babosdöbréte Község Önkormányzata, Bagod Község Önkormányzata, Bak Község Önkormányzata, Bocfölde Község Önkormányzata, Boncodfölde Község Önkormányzata, Böde Község Önkormányzata, Búcsúszentlászló Község Önkormányzata, Csatár Község Önkormányzata, Csonkahegyhát Község Önkormányzata, Dobronhegy Község Önkormányzata, Egervár Község Önkormányzata, Gősfa Község Önkormányzata, Hagyárosbörönd Község Önkormányzata, Hottó Község Önkormányzata, Kávás Község Önkormányzata, Kemendollár Község Önkormányzata, Keménfa Község Önkormányzata, Kisbucsa Község Önkormányzata, Kiskutas Község Önkormányzata, Kispáli Község Önkormányzata, Lakhegy Község Önkormányzata, Nagykutas Község Önkormányzata, Nagypáli Község Önkormányzata, Nemesapáti Község Önkormányzata, Nemeshetés Község Önkormányzata, Nemessándorháza Község Önkormányzata, Nemesszentandrás Község Önkormányzata, Németfalu Község Önkormányzata, Ozmánbük Község Önkormányzata, Pethőhenye Község Önkormányzata, Pókaszepetk Község Önkormányzata, Pusztaszentlászló Község Önkormányzata, Salomvár Község Önkormányzata, Sárhida Község Önkormányzata, Söjtör Község Önkormányzata, Teskánd Község Önkormányzata, Vasboldogasszony Község Önkormányzata, Vaspör Község Önkormányzata, Vöckönd Község Önkormányzata, Zalaboldogfa Község Önkormányzata, Zalacséb Község Önkormányzata, Zalaegerszeg Megyei Jogú Város Önkormányzata, Zalaistvánd Község Önkormányzata, Zalaszentgyörgy Község Önkormányzata, Zalaszentiván Község Önkormányzata, Zalaszentlőrinc Község Önkormányzata | K6: =N6+O6 -> 33000 | L6: 2028 | M6: 2036 | N6: 0 | O6: 33000 | P6: 0 | R6: 0 | S6: 0 | T6: 0 | U6: 0 | V6: 0 | W6: 0 | X6: 0 | Y6: 0 | Z6: 0 | AA6: 0 | AB6: 0 | AC6: =SUM(R6:AB6) -> 0 | AD6: =IF($G6="","Nincs VKR kiválasztva!",IF(BA6=0,"Hiányos kitöltés!",BF6)) -> Nem rövidtávú a feladat. | AF6: 0 | AG6: 0 | AH6: 0 | AI6: 0 | AJ6: 0 | AK6: 0 | AL6: 0 | AM6: 0 | AN6: 0 | AO6: 0 | AP6: 0 | AQ6: =SUM(AF6:AP6) -> 0 | AR6: igen | AS6: =IF($G6="","Nincs VKR kiválasztva!",IF($BA6=0,"Hiányos kitöltés!",IF($BN6=0,"Nem hosszútávú a feladat.",$BL6))) -> Forráshiányos a feladat! | AW6: =COUNTA($G$3:G6) -> 4 | AY6: =VLOOKUP($G6,Összesítő!$B:$F,3,FALSE) -> 3185 | AZ6: =LEN($AU6) -> 0 | BA6: =IF(OR($B6="",$C6="",$D6="",$E6="",$F6="",$L6="",$M6="",$N6="",$O6="",$P6=""),0,1) -> 1 | BB6: =IF($F6="",0,IF(AND($L6=2027,$M6=2027),"R",IF(AND($L6=2027,$M6>2027),"RH",IF(AND($L6>2027,$M6>2027),"H","x")))) -> H | BC6: =IF(OR(BB6="R",BB6="RH"),1,0) -> 0 | BD6: =IF(AND($BB6="R",$O6>0),1,IF(AND($BB6="H",$N6>0),1,0)) -> 0 | BE6: =IF($AC6<$N6,1,IF($AC6=$N6,0)) -> 0 | BF6: =IF($L6>2027,"Nem rövidtávú a feladat.",IF($BE6=1,"Az I. ütem nem lehet forráshiányos!",IF($AC6>$N6,"Többlet forrást jelölt meg az I. ütemnél! A forrás ne legyen több a költségnél.",IF($AC6=$N6,"A forrás egyenlő a költséggel (I.ütem).",0)))) -> Nem rövidtávú a feladat. | BG6: =IF(AND($R6<>"",$S6<>"",$T6<>"",$U6<>"",$V6<>"",$W6<>"",$X6<>"",$Y6<>"",$Z6<>"",$AA6<>"",$AB6<>""),1,0) -> 1 | BH6: =IF(AND($BG6=1,$N6=$AC6),1,0) -> 1 | BI6: =IF($AQ6<$O6,1,0) -> 1 | BJ6: =IF(AND($AF6<>"",$AG6<>"",$AH6<>"",$AI6<>"",$AJ6<>"",$AK6<>"",$AL6<>"",$AM6<>"",$AN6<>"",$AO6<>"",$AP6<>""),1,0) -> 1 | BK6: =IF(AND($BJ6=1,$O6=$AQ6),1,IF(AND($BJ6=1,$O6>$AQ6,AR6="igen"),1,0)) -> 1 | BL6: =IF($M6<2028,"Nem hosszútávú a feladat.",IF(AND($BI6=1,$AR6="nem"),"Forráshiányos a feladat? Jelölje az AR-oszlopban!",IF(AND($BI6=0,$AR6="igen"),"Forráshiányosnak jelölte a feladat az AR-oszlopban, de a forrás költség adatok alapnján nem az!",IF(AND($BI6=1,$AR6="igen"),"Forráshiányos a feladat!",IF($AQ6>$O6,"Többlet forrást jelölt meg a II. ütemnél! A forrás ne legyen több a költségnél.",IF($AQ6=$O6,"A forrás egyenlő a költséggel (II.ütem).",0)))))) -> Forráshiányos a feladat! | BM6: =IF($M6<2028,1,0) -> 0 | BN6: =IF($M6>2027,1,0) -> 1 | BO6: =IF(AND($BM6=1,$N6=0),1,0) -> 0 | BP6: =IF(AND($BN6=1,$O6=0),1,0) -> 0 | BQ6: =IF(AND($BB6="R",$N6=0,$AZ6>29),1,IF(AND($BB6="RH",$N6=0,$AZ6>29),1,0)) -> 0 | BR6: =IF($BN6=0,"Nincs hosszútávú terv!",IF(AND($BB6="H",$O6=0,$AZ6=0),"Nullás a hosszútávú feladat és nincs hozzá indoklás!",IF(AND($BB6="RH",$O6=0,$AZ6=0),"Nullás a hosszútávú feladat és nincs hozzá indoklás!",IF(AND($BB6="R",$O6=0,$AZ6<300),"Nullás a hosszútávú feladat és rövid hozzá az indoklás!",IF(AND($BB6="RH",$O6=0,$AZ6<300),"Nullás a hosszútávú feladat és rövid hozzá az indoklás!",0))))) -> 0 | BS6: =IF(AND($BB6="R",$N6=0,$AZ6>29),1,IF(AND($BB6="RH",$N6=0,$AZ6>29),1,0)) -> 0 | BT6: =IF(AND($BB6="H",$O6=0,$AZ6>29),1,IF(AND($BB6="RH",$O6=0,$AZ6>29),1,0)) -> 0 | BU6: =IF($B6="",0,1) -> 1 | BV6: =IF($C6="",0,1) -> 1 | BW6: =IF($D6="",0,1) -> 1 | BX6: =IF($E6="",0,1) -> 1 | BY6: =IF($L6="",0,1) -> 1 | BZ6: =IF($M6="",0,1) -> 1 | CA6: =IF($N6="",0,1) -> 1 | CB6: =IF($O6="",0,1) -> 1 | CC6: =IF($P6="",0,1) -> 1 | CD6: =IF(AND($BA6=0,$BU6=0),"Hiányos kitöltés! (B-oszlop üres)",IF(AND($BA6=0,$BV6=0),"Hiányos kitöltés! (C-oszlop üres)",IF(AND($BA6=0,$BW6=0),"Hiányos kitöltés! (D-oszlop üres)",IF(AND($BA6=0,$BX6=0),"Hiányos kitöltés! (E-oszlop üres)",IF(AND($BA6=0,$BY6=0),"Hiányos kitöltés! (L-oszlop üres)",IF(AND($BA6=0,$BZ6=0),"Hiányos kitöltés! (M-oszlop üres)",IF(AND($BA6=0,$CA6=0),"Hiányos kitöltés! (N-oszlop üres)",IF(AND($BA6=0,$CB6=0),"Hiányos kitöltés! (O-oszlop üres)",IF(AND($BA6=0,$CC6=0),"Hiányos kitöltés! (P-oszlop üres)",IF(AND($BA6=0,$BG6=0),"Hiányos kitöltés! (I.ütem forrása hiányos!","?")))))))))) -> ? | CE6: =IF($BA6=0,$CD6,IF($BG6=0,"I. ütem forrása nincs kitöltve!",IF($BJ6=0,"II. ütem forrása nincs kitöltve!",IF($BD6=1,"Költségek üteme nem megfelelő (az időtartam és a költség üteme eltér)!",IF(AND(BH6=0,$BA6=1,$BJ6=1,$BD6=1),"Kötelező cellák kitöltve, de az I. ütem forrása hibás!",IF(AND(BJ6=0,$BA6=1,$BJ6=1,$BD6=1),"Kötelező cellák kitöltve, de a II. ütem forrása hibás!",IF(AND($BO6=1,$AZ6<30),"Nullás a rövidtávú feladat és rövid (hiányzik) a hozzá tartozó indoklás!",IF(AND($BP6=1,$AZ6<30),"Nullás a hosszútávú feladat és rövid (hiányzik) a hozzá tartozó indoklás!",IF(AND(BN6=1,C6="2011_RENDKÍVÜLI"),"II. ütemre nem tervezhet Rendkívüli feladatot!",IF(BH6=0,AD6,IF(BK6=0,AS6,IF(AND(BC6=1,$P6>$N6),"EM rendelet 2. melléklet terhére elszámolt költség nem lehet nagyobb az I. ütemre tervezett tényleges költségnél!",IF($AC6>$N6,"Többlet forrást jelölt meg az I. ütemnél! A forrás ne legyen több a költségnél.",IF($AQ6>$O6,"Többlet forrást jelölt meg a II. ütemnél! A forrás ne legyen több a költségnél.","Kitöltés rendben!")))))))))))))) -> Kitöltés rendben! | CF6: =IF(A6="Kitöltés rendben!",1,0) -> 1 | CG6: =IF(AND($BB6="R",$CF6=1),1,IF(AND($BB6="RH",$CF6=1),1,0)) -> 0 | CH6: =IF(AND($BB6="H",$CF6=1),1,IF(AND($BB6="RH",$CF6=1),1,0)) -> 1
A7: =IF($G7="","Nincs VKR kiválasztva!",CE7) -> Kitöltés rendben! | B7: 2 | C7: 2121_VEZETÉK_GERINC | D7: Alibánfa nyomott vezeték rekonstrukció | E7: nem áll rendelkezésre | F7: =VLOOKUP($G7,Összesítő!$B:$F,2,FALSE) -> 21-32054-1-048-01-10 | G7: Zalaegerszeg-SZV | H7: =AY7&"_"&AW7&"_FIV_"&LEFT(Előlap!$B$6,4) -> 3185_5_FIV_2026 | I7: =VLOOKUP($G7,Összesítő!$B:$F,5,FALSE) -> Alibánfa, Alsónemesapáti, Babosdöbréte, Bagod, Bak, Bocfölde, Boncodfölde, Böde, Búcsúszentlászló, Csatár, Csonkahegyhát, Dobronhegy, Egervár, Gősfa, Hagyárosbörönd, Hottó, Kávás, Kemendollár, Keménfa, Kisbucsa, Kiskutas, Kispáli, Lakhegy, Nagykutas, Nagypáli, Nemesapáti, Nemeshetés, Nemessándorháza, Nemesszentandrás, Németfalu, Ozmánbük, Pethőhenye, Pókaszepetk, Pusztaszentlászló, Salomvár, Sárhida, Söjtör, Teskánd, Vasboldogasszony, Vaspör, Vöckönd, Zalaboldogfa, Zalacséb, Zalaegerszeg, Zalaistvánd, Zalaszentgyörgy, Zalaszentiván, Zalaszentlőrinc | J7: =VLOOKUP($G7,Összesítő!$B:$F,4,FALSE) -> Alibánfa Község Önkormányzata, Alsónemesapáti Község Önkormányzata, Babosdöbréte Község Önkormányzata, Bagod Község Önkormányzata, Bak Község Önkormányzata, Bocfölde Község Önkormányzata, Boncodfölde Község Önkormányzata, Böde Község Önkormányzata, Búcsúszentlászló Község Önkormányzata, Csatár Község Önkormányzata, Csonkahegyhát Község Önkormányzata, Dobronhegy Község Önkormányzata, Egervár Község Önkormányzata, Gősfa Község Önkormányzata, Hagyárosbörönd Község Önkormányzata, Hottó Község Önkormányzata, Kávás Község Önkormányzata, Kemendollár Község Önkormányzata, Keménfa Község Önkormányzata, Kisbucsa Község Önkormányzata, Kiskutas Község Önkormányzata, Kispáli Község Önkormányzata, Lakhegy Község Önkormányzata, Nagykutas Község Önkormányzata, Nagypáli Község Önkormányzata, Nemesapáti Község Önkormányzata, Nemeshetés Község Önkormányzata, Nemessándorháza Község Önkormányzata, Nemesszentandrás Község Önkormányzata, Németfalu Község Önkormányzata, Ozmánbük Község Önkormányzata, Pethőhenye Község Önkormányzata, Pókaszepetk Község Önkormányzata, Pusztaszentlászló Község Önkormányzata, Salomvár Község Önkormányzata, Sárhida Község Önkormányzata, Söjtör Község Önkormányzata, Teskánd Község Önkormányzata, Vasboldogasszony Község Önkormányzata, Vaspör Község Önkormányzata, Vöckönd Község Önkormányzata, Zalaboldogfa Község Önkormányzata, Zalacséb Község Önkormányzata, Zalaegerszeg Megyei Jogú Város Önkormányzata, Zalaistvánd Község Önkormányzata, Zalaszentgyörgy Község Önkormányzata, Zalaszentiván Község Önkormányzata, Zalaszentlőrinc Község Önkormányzata | K7: =N7+O7 -> 19820 | L7: 2028 | M7: 2036 | N7: 0 | O7: 19820 | P7: 0 | R7: 0 | S7: 0 | T7: 0 | U7: 0 | V7: 0 | W7: 0 | X7: 0 | Y7: 0 | Z7: 0 | AA7: 0 | AB7: 0 | AC7: =SUM(R7:AB7) -> 0 | AD7: =IF($G7="","Nincs VKR kiválasztva!",IF(BA7=0,"Hiányos kitöltés!",BF7)) -> Nem rövidtávú a feladat. | AF7: 0 | AG7: 0 | AH7: 0 | AI7: 0 | AJ7: 0 | AK7: 0 | AL7: 0 | AM7: 0 | AN7: 0 | AO7: 0 | AP7: 0 | AQ7: =SUM(AF7:AP7) -> 0 | AR7: igen | AS7: =IF($G7="","Nincs VKR kiválasztva!",IF($BA7=0,"Hiányos kitöltés!",IF($BN7=0,"Nem hosszútávú a feladat.",$BL7))) -> Forráshiányos a feladat! | AW7: =COUNTA($G$3:G7) -> 5 | AY7: =VLOOKUP($G7,Összesítő!$B:$F,3,FALSE) -> 3185 | AZ7: =LEN($AU7) -> 0 | BA7: =IF(OR($B7="",$C7="",$D7="",$E7="",$F7="",$L7="",$M7="",$N7="",$O7="",$P7=""),0,1) -> 1 | BB7: =IF($F7="",0,IF(AND($L7=2027,$M7=2027),"R",IF(AND($L7=2027,$M7>2027),"RH",IF(AND($L7>2027,$M7>2027),"H","x")))) -> H | BC7: =IF(OR(BB7="R",BB7="RH"),1,0) -> 0 | BD7: =IF(AND($BB7="R",$O7>0),1,IF(AND($BB7="H",$N7>0),1,0)) -> 0 | BE7: =IF($AC7<$N7,1,IF($AC7=$N7,0)) -> 0 | BF7: =IF($L7>2027,"Nem rövidtávú a feladat.",IF($BE7=1,"Az I. ütem nem lehet forráshiányos!",IF($AC7>$N7,"Többlet forrást jelölt meg az I. ütemnél! A forrás ne legyen több a költségnél.",IF($AC7=$N7,"A forrás egyenlő a költséggel (I.ütem).",0)))) -> Nem rövidtávú a feladat. | BG7: =IF(AND($R7<>"",$S7<>"",$T7<>"",$U7<>"",$V7<>"",$W7<>"",$X7<>"",$Y7<>"",$Z7<>"",$AA7<>"",$AB7<>""),1,0) -> 1 | BH7: =IF(AND($BG7=1,$N7=$AC7),1,0) -> 1 | BI7: =IF($AQ7<$O7,1,0) -> 1 | BJ7: =IF(AND($AF7<>"",$AG7<>"",$AH7<>"",$AI7<>"",$AJ7<>"",$AK7<>"",$AL7<>"",$AM7<>"",$AN7<>"",$AO7<>"",$AP7<>""),1,0) -> 1 | BK7: =IF(AND($BJ7=1,$O7=$AQ7),1,IF(AND($BJ7=1,$O7>$AQ7,AR7="igen"),1,0)) -> 1 | BL7: =IF($M7<2028,"Nem hosszútávú a feladat.",IF(AND($BI7=1,$AR7="nem"),"Forráshiányos a feladat? Jelölje az AR-oszlopban!",IF(AND($BI7=0,$AR7="igen"),"Forráshiányosnak jelölte a feladat az AR-oszlopban, de a forrás költség adatok alapnján nem az!",IF(AND($BI7=1,$AR7="igen"),"Forráshiányos a feladat!",IF($AQ7>$O7,"Többlet forrást jelölt meg a II. ütemnél! A forrás ne legyen több a költségnél.",IF($AQ7=$O7,"A forrás egyenlő a költséggel (II.ütem).",0)))))) -> Forráshiányos a feladat! | BM7: =IF($M7<2028,1,0) -> 0 | BN7: =IF($M7>2027,1,0) -> 1 | BO7: =IF(AND($BM7=1,$N7=0),1,0) -> 0 | BP7: =IF(AND($BN7=1,$O7=0),1,0) -> 0 | BQ7: =IF(AND($BB7="R",$N7=0,$AZ7>29),1,IF(AND($BB7="RH",$N7=0,$AZ7>29),1,0)) -> 0 | BR7: =IF($BN7=0,"Nincs hosszútávú terv!",IF(AND($BB7="H",$O7=0,$AZ7=0),"Nullás a hosszútávú feladat és nincs hozzá indoklás!",IF(AND($BB7="RH",$O7=0,$AZ7=0),"Nullás a hosszútávú feladat és nincs hozzá indoklás!",IF(AND($BB7="R",$O7=0,$AZ7<300),"Nullás a hosszútávú feladat és rövid hozzá az indoklás!",IF(AND($BB7="RH",$O7=0,$AZ7<300),"Nullás a hosszútávú feladat és rövid hozzá az indoklás!",0))))) -> 0 | BS7: =IF(AND($BB7="R",$N7=0,$AZ7>29),1,IF(AND($BB7="RH",$N7=0,$AZ7>29),1,0)) -> 0 | BT7: =IF(AND($BB7="H",$O7=0,$AZ7>29),1,IF(AND($BB7="RH",$O7=0,$AZ7>29),1,0)) -> 0 | BU7: =IF($B7="",0,1) -> 1 | BV7: =IF($C7="",0,1) -> 1 | BW7: =IF($D7="",0,1) -> 1 | BX7: =IF($E7="",0,1) -> 1 | BY7: =IF($L7="",0,1) -> 1 | BZ7: =IF($M7="",0,1) -> 1 | CA7: =IF($N7="",0,1) -> 1 | CB7: =IF($O7="",0,1) -> 1 | CC7: =IF($P7="",0,1) -> 1 | CD7: =IF(AND($BA7=0,$BU7=0),"Hiányos kitöltés! (B-oszlop üres)",IF(AND($BA7=0,$BV7=0),"Hiányos kitöltés! (C-oszlop üres)",IF(AND($BA7=0,$BW7=0),"Hiányos kitöltés! (D-oszlop üres)",IF(AND($BA7=0,$BX7=0),"Hiányos kitöltés! (E-oszlop üres)",IF(AND($BA7=0,$BY7=0),"Hiányos kitöltés! (L-oszlop üres)",IF(AND($BA7=0,$BZ7=0),"Hiányos kitöltés! (M-oszlop üres)",IF(AND($BA7=0,$CA7=0),"Hiányos kitöltés! (N-oszlop üres)",IF(AND($BA7=0,$CB7=0),"Hiányos kitöltés! (O-oszlop üres)",IF(AND($BA7=0,$CC7=0),"Hiányos kitöltés! (P-oszlop üres)",IF(AND($BA7=0,$BG7=0),"Hiányos kitöltés! (I.ütem forrása hiányos!","?")))))))))) -> ? | CE7: =IF($BA7=0,$CD7,IF($BG7=0,"I. ütem forrása nincs kitöltve!",IF($BJ7=0,"II. ütem forrása nincs kitöltve!",IF($BD7=1,"Költségek üteme nem megfelelő (az időtartam és a költség üteme eltér)!",IF(AND(BH7=0,$BA7=1,$BJ7=1,$BD7=1),"Kötelező cellák kitöltve, de az I. ütem forrása hibás!",IF(AND(BJ7=0,$BA7=1,$BJ7=1,$BD7=1),"Kötelező cellák kitöltve, de a II. ütem forrása hibás!",IF(AND($BO7=1,$AZ7<30),"Nullás a rövidtávú feladat és rövid (hiányzik) a hozzá tartozó indoklás!",IF(AND($BP7=1,$AZ7<30),"Nullás a hosszútávú feladat és rövid (hiányzik) a hozzá tartozó indoklás!",IF(AND(BN7=1,C7="2011_RENDKÍVÜLI"),"II. ütemre nem tervezhet Rendkívüli feladatot!",IF(BH7=0,AD7,IF(BK7=0,AS7,IF(AND(BC7=1,$P7>$N7),"EM rendelet 2. melléklet terhére elszámolt költség nem lehet nagyobb az I. ütemre tervezett tényleges költségnél!",IF($AC7>$N7,"Többlet forrást jelölt meg az I. ütemnél! A forrás ne legyen több a költségnél.",IF($AQ7>$O7,"Többlet forrást jelölt meg a II. ütemnél! A forrás ne legyen több a költségnél.","Kitöltés rendben!")))))))))))))) -> Kitöltés rendben! | CF7: =IF(A7="Kitöltés rendben!",1,0) -> 1 | CG7: =IF(AND($BB7="R",$CF7=1),1,IF(AND($BB7="RH",$CF7=1),1,0)) -> 0 | CH7: =IF(AND($BB7="H",$CF7=1),1,IF(AND($BB7="RH",$CF7=1),1,0)) -> 1
A8: =IF($G8="","Nincs VKR kiválasztva!",CE8) -> Kitöltés rendben! | B8: 2 | C8: 2210_AKNA_EGYÉB | D8: Alibánfa I. szennyvízátemelő átfolyásmérő fejegység csere | E8: nem áll rendelkezésre | F8: =VLOOKUP($G8,Összesítő!$B:$F,2,FALSE) -> 21-32054-1-048-01-10 | G8: Zalaegerszeg-SZV | H8: =AY8&"_"&AW8&"_FIV_"&LEFT(Előlap!$B$6,4) -> 3185_6_FIV_2026 | I8: =VLOOKUP($G8,Összesítő!$B:$F,5,FALSE) -> Alibánfa, Alsónemesapáti, Babosdöbréte, Bagod, Bak, Bocfölde, Boncodfölde, Böde, Búcsúszentlászló, Csatár, Csonkahegyhát, Dobronhegy, Egervár, Gősfa, Hagyárosbörönd, Hottó, Kávás, Kemendollár, Keménfa, Kisbucsa, Kiskutas, Kispáli, Lakhegy, Nagykutas, Nagypáli, Nemesapáti, Nemeshetés, Nemessándorháza, Nemesszentandrás, Németfalu, Ozmánbük, Pethőhenye, Pókaszepetk, Pusztaszentlászló, Salomvár, Sárhida, Söjtör, Teskánd, Vasboldogasszony, Vaspör, Vöckönd, Zalaboldogfa, Zalacséb, Zalaegerszeg, Zalaistvánd, Zalaszentgyörgy, Zalaszentiván, Zalaszentlőrinc | J8: =VLOOKUP($G8,Összesítő!$B:$F,4,FALSE) -> Alibánfa Község Önkormányzata, Alsónemesapáti Község Önkormányzata, Babosdöbréte Község Önkormányzata, Bagod Község Önkormányzata, Bak Község Önkormányzata, Bocfölde Község Önkormányzata, Boncodfölde Község Önkormányzata, Böde Község Önkormányzata, Búcsúszentlászló Község Önkormányzata, Csatár Község Önkormányzata, Csonkahegyhát Község Önkormányzata, Dobronhegy Község Önkormányzata, Egervár Község Önkormányzata, Gősfa Község Önkormányzata, Hagyárosbörönd Község Önkormányzata, Hottó Község Önkormányzata, Kávás Község Önkormányzata, Kemendollár Község Önkormányzata, Keménfa Község Önkormányzata, Kisbucsa Község Önkormányzata, Kiskutas Község Önkormányzata, Kispáli Község Önkormányzata, Lakhegy Község Önkormányzata, Nagykutas Község Önkormányzata, Nagypáli Község Önkormányzata, Nemesapáti Község Önkormányzata, Nemeshetés Község Önkormányzata, Nemessándorháza Község Önkormányzata, Nemesszentandrás Község Önkormányzata, Németfalu Község Önkormányzata, Ozmánbük Község Önkormányzata, Pethőhenye Község Önkormányzata, Pókaszepetk Község Önkormányzata, Pusztaszentlászló Község Önkormányzata, Salomvár Község Önkormányzata, Sárhida Község Önkormányzata, Söjtör Község Önkormányzata, Teskánd Község Önkormányzata, Vasboldogasszony Község Önkormányzata, Vaspör Község Önkormányzata, Vöckönd Község Önkormányzata, Zalaboldogfa Község Önkormányzata, Zalacséb Község Önkormányzata, Zalaegerszeg Megyei Jogú Város Önkormányzata, Zalaistvánd Község Önkormányzata, Zalaszentgyörgy Község Önkormányzata, Zalaszentiván Község Önkormányzata, Zalaszentlőrinc Község Önkormányzata | K8: =N8+O8 -> 400 | L8: 2029 | M8: 2029 | N8: 0 | O8: 400 | P8: 0 | R8: 0 | S8: 0 | T8: 0 | U8: 0 | V8: 0 | W8: 0 | X8: 0 | Y8: 0 | Z8: 0 | AA8: 0 | AB8: 0 | AC8: =SUM(R8:AB8) -> 0 | AD8: =IF($G8="","Nincs VKR kiválasztva!",IF(BA8=0,"Hiányos kitöltés!",BF8)) -> Nem rövidtávú a feladat. | AF8: 0 | AG8: 0 | AH8: 0 | AI8: 0 | AJ8: 0 | AK8: 0 | AL8: 0 | AM8: 0 | AN8: 0 | AO8: 0 | AP8: 0 | AQ8: =SUM(AF8:AP8) -> 0 | AR8: igen | AS8: =IF($G8="","Nincs VKR kiválasztva!",IF($BA8=0,"Hiányos kitöltés!",IF($BN8=0,"Nem hosszútávú a feladat.",$BL8))) -> Forráshiányos a feladat! | AW8: =COUNTA($G$3:G8) -> 6 | AY8: =VLOOKUP($G8,Összesítő!$B:$F,3,FALSE) -> 3185 | AZ8: =LEN($AU8) -> 0 | BA8: =IF(OR($B8="",$C8="",$D8="",$E8="",$F8="",$L8="",$M8="",$N8="",$O8="",$P8=""),0,1) -> 1 | BB8: =IF($F8="",0,IF(AND($L8=2027,$M8=2027),"R",IF(AND($L8=2027,$M8>2027),"RH",IF(AND($L8>2027,$M8>2027),"H","x")))) -> H | BC8: =IF(OR(BB8="R",BB8="RH"),1,0) -> 0 | BD8: =IF(AND($BB8="R",$O8>0),1,IF(AND($BB8="H",$N8>0),1,0)) -> 0 | BE8: =IF($AC8<$N8,1,IF($AC8=$N8,0)) -> 0 | BF8: =IF($L8>2027,"Nem rövidtávú a feladat.",IF($BE8=1,"Az I. ütem nem lehet forráshiányos!",IF($AC8>$N8,"Többlet forrást jelölt meg az I. ütemnél! A forrás ne legyen több a költségnél.",IF($AC8=$N8,"A forrás egyenlő a költséggel (I.ütem).",0)))) -> Nem rövidtávú a feladat. | BG8: =IF(AND($R8<>"",$S8<>"",$T8<>"",$U8<>"",$V8<>"",$W8<>"",$X8<>"",$Y8<>"",$Z8<>"",$AA8<>"",$AB8<>""),1,0) -> 1 | BH8: =IF(AND($BG8=1,$N8=$AC8),1,0) -> 1 | BI8: =IF($AQ8<$O8,1,0) -> 1 | BJ8: =IF(AND($AF8<>"",$AG8<>"",$AH8<>"",$AI8<>"",$AJ8<>"",$AK8<>"",$AL8<>"",$AM8<>"",$AN8<>"",$AO8<>"",$AP8<>""),1,0) -> 1 | BK8: =IF(AND($BJ8=1,$O8=$AQ8),1,IF(AND($BJ8=1,$O8>$AQ8,AR8="igen"),1,0)) -> 1 | BL8: =IF($M8<2028,"Nem hosszútávú a feladat.",IF(AND($BI8=1,$AR8="nem"),"Forráshiányos a feladat? Jelölje az AR-oszlopban!",IF(AND($BI8=0,$AR8="igen"),"Forráshiányosnak jelölte a feladat az AR-oszlopban, de a forrás költség adatok alapnján nem az!",IF(AND($BI8=1,$AR8="igen"),"Forráshiányos a feladat!",IF($AQ8>$O8,"Többlet forrást jelölt meg a II. ütemnél! A forrás ne legyen több a költségnél.",IF($AQ8=$O8,"A forrás egyenlő a költséggel (II.ütem).",0)))))) -> Forráshiányos a feladat! | BM8: =IF($M8<2028,1,0) -> 0 | BN8: =IF($M8>2027,1,0) -> 1 | BO8: =IF(AND($BM8=1,$N8=0),1,0) -> 0 | BP8: =IF(AND($BN8=1,$O8=0),1,0) -> 0 | BQ8: =IF(AND($BB8="R",$N8=0,$AZ8>29),1,IF(AND($BB8="RH",$N8=0,$AZ8>29),1,0)) -> 0 | BR8: =IF($BN8=0,"Nincs hosszútávú terv!",IF(AND($BB8="H",$O8=0,$AZ8=0),"Nullás a hosszútávú feladat és nincs hozzá indoklás!",IF(AND($BB8="RH",$O8=0,$AZ8=0),"Nullás a hosszútávú feladat és nincs hozzá indoklás!",IF(AND($BB8="R",$O8=0,$AZ8<300),"Nullás a hosszútávú feladat és rövid hozzá az indoklás!",IF(AND($BB8="RH",$O8=0,$AZ8<300),"Nullás a hosszútávú feladat és rövid hozzá az indoklás!",0))))) -> 0 | BS8: =IF(AND($BB8="R",$N8=0,$AZ8>29),1,IF(AND($BB8="RH",$N8=0,$AZ8>29),1,0)) -> 0 | BT8: =IF(AND($BB8="H",$O8=0,$AZ8>29),1,IF(AND($BB8="RH",$O8=0,$AZ8>29),1,0)) -> 0 | BU8: =IF($B8="",0,1) -> 1 | BV8: =IF($C8="",0,1) -> 1 | BW8: =IF($D8="",0,1) -> 1 | BX8: =IF($E8="",0,1) -> 1 | BY8: =IF($L8="",0,1) -> 1 | BZ8: =IF($M8="",0,1) -> 1 | CA8: =IF($N8="",0,1) -> 1 | CB8: =IF($O8="",0,1) -> 1 | CC8: =IF($P8="",0,1) -> 1 | CD8: =IF(AND($BA8=0,$BU8=0),"Hiányos kitöltés! (B-oszlop üres)",IF(AND($BA8=0,$BV8=0),"Hiányos kitöltés! (C-oszlop üres)",IF(AND($BA8=0,$BW8=0),"Hiányos kitöltés! (D-oszlop üres)",IF(AND($BA8=0,$BX8=0),"Hiányos kitöltés! (E-oszlop üres)",IF(AND($BA8=0,$BY8=0),"Hiányos kitöltés! (L-oszlop üres)",IF(AND($BA8=0,$BZ8=0),"Hiányos kitöltés! (M-oszlop üres)",IF(AND($BA8=0,$CA8=0),"Hiányos kitöltés! (N-oszlop üres)",IF(AND($BA8=0,$CB8=0),"Hiányos kitöltés! (O-oszlop üres)",IF(AND($BA8=0,$CC8=0),"Hiányos kitöltés! (P-oszlop üres)",IF(AND($BA8=0,$BG8=0),"Hiányos kitöltés! (I.ütem forrása hiányos!","?")))))))))) -> ? | CE8: =IF($BA8=0,$CD8,IF($BG8=0,"I. ütem forrása nincs kitöltve!",IF($BJ8=0,"II. ütem forrása nincs kitöltve!",IF($BD8=1,"Költségek üteme nem megfelelő (az időtartam és a költség üteme eltér)!",IF(AND(BH8=0,$BA8=1,$BJ8=1,$BD8=1),"Kötelező cellák kitöltve, de az I. ütem forrása hibás!",IF(AND(BJ8=0,$BA8=1,$BJ8=1,$BD8=1),"Kötelező cellák kitöltve, de a II. ütem forrása hibás!",IF(AND($BO8=1,$AZ8<30),"Nullás a rövidtávú feladat és rövid (hiányzik) a hozzá tartozó indoklás!",IF(AND($BP8=1,$AZ8<30),"Nullás a hosszútávú feladat és rövid (hiányzik) a hozzá tartozó indoklás!",IF(AND(BN8=1,C8="2011_RENDKÍVÜLI"),"II. ütemre nem tervezhet Rendkívüli feladatot!",IF(BH8=0,AD8,IF(BK8=0,AS8,IF(AND(BC8=1,$P8>$N8),"EM rendelet 2. melléklet terhére elszámolt költség nem lehet nagyobb az I. ütemre tervezett tényleges költségnél!",IF($AC8>$N8,"Többlet forrást jelölt meg az I. ütemnél! A forrás ne legyen több a költségnél.",IF($AQ8>$O8,"Többlet forrást jelölt meg a II. ütemnél! A forrás ne legyen több a költségnél.","Kitöltés rendben!")))))))))))))) -> Kitöltés rendben! | CF8: =IF(A8="Kitöltés rendben!",1,0) -> 1 | CG8: =IF(AND($BB8="R",$CF8=1),1,IF(AND($BB8="RH",$CF8=1),1,0)) -> 0 | CH8: =IF(AND($BB8="H",$CF8=1),1,IF(AND($BB8="RH",$CF8=1),1,0)) -> 1
A9: =IF($G9="","Nincs VKR kiválasztva!",CE9) -> Kitöltés rendben! | B9: 2 | C9: 2211_AKNA_SZIVATTYÚ_HÁLÓZATI | D9: Alibánfa I. szennyvízátemelő szivattyú csere | E9: nem áll rendelkezésre | F9: =VLOOKUP($G9,Összesítő!$B:$F,2,FALSE) -> 21-32054-1-048-01-10 | G9: Zalaegerszeg-SZV | H9: =AY9&"_"&AW9&"_FIV_"&LEFT(Előlap!$B$6,4) -> 3185_7_FIV_2026 | I9: =VLOOKUP($G9,Összesítő!$B:$F,5,FALSE) -> Alibánfa, Alsónemesapáti, Babosdöbréte, Bagod, Bak, Bocfölde, Boncodfölde, Böde, Búcsúszentlászló, Csatár, Csonkahegyhát, Dobronhegy, Egervár, Gősfa, Hagyárosbörönd, Hottó, Kávás, Kemendollár, Keménfa, Kisbucsa, Kiskutas, Kispáli, Lakhegy, Nagykutas, Nagypáli, Nemesapáti, Nemeshetés, Nemessándorháza, Nemesszentandrás, Németfalu, Ozmánbük, Pethőhenye, Pókaszepetk, Pusztaszentlászló, Salomvár, Sárhida, Söjtör, Teskánd, Vasboldogasszony, Vaspör, Vöckönd, Zalaboldogfa, Zalacséb, Zalaegerszeg, Zalaistvánd, Zalaszentgyörgy, Zalaszentiván, Zalaszentlőrinc | J9: =VLOOKUP($G9,Összesítő!$B:$F,4,FALSE) -> Alibánfa Község Önkormányzata, Alsónemesapáti Község Önkormányzata, Babosdöbréte Község Önkormányzata, Bagod Község Önkormányzata, Bak Község Önkormányzata, Bocfölde Község Önkormányzata, Boncodfölde Község Önkormányzata, Böde Község Önkormányzata, Búcsúszentlászló Község Önkormányzata, Csatár Község Önkormányzata, Csonkahegyhát Község Önkormányzata, Dobronhegy Község Önkormányzata, Egervár Község Önkormányzata, Gősfa Község Önkormányzata, Hagyárosbörönd Község Önkormányzata, Hottó Község Önkormányzata, Kávás Község Önkormányzata, Kemendollár Község Önkormányzata, Keménfa Község Önkormányzata, Kisbucsa Község Önkormányzata, Kiskutas Község Önkormányzata, Kispáli Község Önkormányzata, Lakhegy Község Önkormányzata, Nagykutas Község Önkormányzata, Nagypáli Község Önkormányzata, Nemesapáti Község Önkormányzata, Nemeshetés Község Önkormányzata, Nemessándorháza Község Önkormányzata, Nemesszentandrás Község Önkormányzata, Németfalu Község Önkormányzata, Ozmánbük Község Önkormányzata, Pethőhenye Község Önkormányzata, Pókaszepetk Község Önkormányzata, Pusztaszentlászló Község Önkormányzata, Salomvár Község Önkormányzata, Sárhida Község Önkormányzata, Söjtör Község Önkormányzata, Teskánd Község Önkormányzata, Vasboldogasszony Község Önkormányzata, Vaspör Község Önkormányzata, Vöckönd Község Önkormányzata, Zalaboldogfa Község Önkormányzata, Zalacséb Község Önkormányzata, Zalaegerszeg Megyei Jogú Város Önkormányzata, Zalaistvánd Község Önkormányzata, Zalaszentgyörgy Község Önkormányzata, Zalaszentiván Község Önkormányzata, Zalaszentlőrinc Község Önkormányzata | K9: =N9+O9 -> 2200 | L9: 2029 | M9: 2029 | N9: 0 | O9: 2200 | P9: 0 | R9: 0 | S9: 0 | T9: 0 | U9: 0 | V9: 0 | W9: 0 | X9: 0 | Y9: 0 | Z9: 0 | AA9: 0 | AB9: 0 | AC9: =SUM(R9:AB9) -> 0 | AD9: =IF($G9="","Nincs VKR kiválasztva!",IF(BA9=0,"Hiányos kitöltés!",BF9)) -> Nem rövidtávú a feladat. | AF9: 0 | AG9: 0 | AH9: 0 | AI9: 0 | AJ9: 0 | AK9: 0 | AL9: 0 | AM9: 0 | AN9: 0 | AO9: 0 | AP9: 0 | AQ9: =SUM(AF9:AP9) -> 0 | AR9: igen | AS9: =IF($G9="","Nincs VKR kiválasztva!",IF($BA9=0,"Hiányos kitöltés!",IF($BN9=0,"Nem hosszútávú a feladat.",$BL9))) -> Forráshiányos a feladat! | AW9: =COUNTA($G$3:G9) -> 7 | AY9: =VLOOKUP($G9,Összesítő!$B:$F,3,FALSE) -> 3185 | AZ9: =LEN($AU9) -> 0 | BA9: =IF(OR($B9="",$C9="",$D9="",$E9="",$F9="",$L9="",$M9="",$N9="",$O9="",$P9=""),0,1) -> 1 | BB9: =IF($F9="",0,IF(AND($L9=2027,$M9=2027),"R",IF(AND($L9=2027,$M9>2027),"RH",IF(AND($L9>2027,$M9>2027),"H","x")))) -> H | BC9: =IF(OR(BB9="R",BB9="RH"),1,0) -> 0 | BD9: =IF(AND($BB9="R",$O9>0),1,IF(AND($BB9="H",$N9>0),1,0)) -> 0 | BE9: =IF($AC9<$N9,1,IF($AC9=$N9,0)) -> 0 | BF9: =IF($L9>2027,"Nem rövidtávú a feladat.",IF($BE9=1,"Az I. ütem nem lehet forráshiányos!",IF($AC9>$N9,"Többlet forrást jelölt meg az I. ütemnél! A forrás ne legyen több a költségnél.",IF($AC9=$N9,"A forrás egyenlő a költséggel (I.ütem).",0)))) -> Nem rövidtávú a feladat. | BG9: =IF(AND($R9<>"",$S9<>"",$T9<>"",$U9<>"",$V9<>"",$W9<>"",$X9<>"",$Y9<>"",$Z9<>"",$AA9<>"",$AB9<>""),1,0) -> 1 | BH9: =IF(AND($BG9=1,$N9=$AC9),1,0) -> 1 | BI9: =IF($AQ9<$O9,1,0) -> 1 | BJ9: =IF(AND($AF9<>"",$AG9<>"",$AH9<>"",$AI9<>"",$AJ9<>"",$AK9<>"",$AL9<>"",$AM9<>"",$AN9<>"",$AO9<>"",$AP9<>""),1,0) -> 1 | BK9: =IF(AND($BJ9=1,$O9=$AQ9),1,IF(AND($BJ9=1,$O9>$AQ9,AR9="igen"),1,0)) -> 1 | BL9: =IF($M9<2028,"Nem hosszútávú a feladat.",IF(AND($BI9=1,$AR9="nem"),"Forráshiányos a feladat? Jelölje az AR-oszlopban!",IF(AND($BI9=0,$AR9="igen"),"Forráshiányosnak jelölte a feladat az AR-oszlopban, de a forrás költség adatok alapnján nem az!",IF(AND($BI9=1,$AR9="igen"),"Forráshiányos a feladat!",IF($AQ9>$O9,"Többlet forrást jelölt meg a II. ütemnél! A forrás ne legyen több a költségnél.",IF($AQ9=$O9,"A forrás egyenlő a költséggel (II.ütem).",0)))))) -> Forráshiányos a feladat! | BM9: =IF($M9<2028,1,0) -> 0 | BN9: =IF($M9>2027,1,0) -> 1 | BO9: =IF(AND($BM9=1,$N9=0),1,0) -> 0 | BP9: =IF(AND($BN9=1,$O9=0),1,0) -> 0 | BQ9: =IF(AND($BB9="R",$N9=0,$AZ9>29),1,IF(AND($BB9="RH",$N9=0,$AZ9>29),1,0)) -> 0 | BR9: =IF($BN9=0,"Nincs hosszútávú terv!",IF(AND($BB9="H",$O9=0,$AZ9=0),"Nullás a hosszútávú feladat és nincs hozzá indoklás!",IF(AND($BB9="RH",$O9=0,$AZ9=0),"Nullás a hosszútávú feladat és nincs hozzá indoklás!",IF(AND($BB9="R",$O9=0,$AZ9<300),"Nullás a hosszútávú feladat és rövid hozzá az indoklás!",IF(AND($BB9="RH",$O9=0,$AZ9<300),"Nullás a hosszútávú feladat és rövid hozzá az indoklás!",0))))) -> 0 | BS9: =IF(AND($BB9="R",$N9=0,$AZ9>29),1,IF(AND($BB9="RH",$N9=0,$AZ9>29),1,0)) -> 0 | BT9: =IF(AND($BB9="H",$O9=0,$AZ9>29),1,IF(AND($BB9="RH",$O9=0,$AZ9>29),1,0)) -> 0 | BU9: =IF($B9="",0,1) -> 1 | BV9: =IF($C9="",0,1) -> 1 | BW9: =IF($D9="",0,1) -> 1 | BX9: =IF($E9="",0,1) -> 1 | BY9: =IF($L9="",0,1) -> 1 | BZ9: =IF($M9="",0,1) -> 1 | CA9: =IF($N9="",0,1) -> 1 | CB9: =IF($O9="",0,1) -> 1 | CC9: =IF($P9="",0,1) -> 1 | CD9: =IF(AND($BA9=0,$BU9=0),"Hiányos kitöltés! (B-oszlop üres)",IF(AND($BA9=0,$BV9=0),"Hiányos kitöltés! (C-oszlop üres)",IF(AND($BA9=0,$BW9=0),"Hiányos kitöltés! (D-oszlop üres)",IF(AND($BA9=0,$BX9=0),"Hiányos kitöltés! (E-oszlop üres)",IF(AND($BA9=0,$BY9=0),"Hiányos kitöltés! (L-oszlop üres)",IF(AND($BA9=0,$BZ9=0),"Hiányos kitöltés! (M-oszlop üres)",IF(AND($BA9=0,$CA9=0),"Hiányos kitöltés! (N-oszlop üres)",IF(AND($BA9=0,$CB9=0),"Hiányos kitöltés! (O-oszlop üres)",IF(AND($BA9=0,$CC9=0),"Hiányos kitöltés! (P-oszlop üres)",IF(AND($BA9=0,$BG9=0),"Hiányos kitöltés! (I.ütem forrása hiányos!","?")))))))))) -> ? | CE9: =IF($BA9=0,$CD9,IF($BG9=0,"I. ütem forrása nincs kitöltve!",IF($BJ9=0,"II. ütem forrása nincs kitöltve!",IF($BD9=1,"Költségek üteme nem megfelelő (az időtartam és a költség üteme eltér)!",IF(AND(BH9=0,$BA9=1,$BJ9=1,$BD9=1),"Kötelező cellák kitöltve, de az I. ütem forrása hibás!",IF(AND(BJ9=0,$BA9=1,$BJ9=1,$BD9=1),"Kötelező cellák kitöltve, de a II. ütem forrása hibás!",IF(AND($BO9=1,$AZ9<30),"Nullás a rövidtávú feladat és rövid (hiányzik) a hozzá tartozó indoklás!",IF(AND($BP9=1,$AZ9<30),"Nullás a hosszútávú feladat és rövid (hiányzik) a hozzá tartozó indoklás!",IF(AND(BN9=1,C9="2011_RENDKÍVÜLI"),"II. ütemre nem tervezhet Rendkívüli feladatot!",IF(BH9=0,AD9,IF(BK9=0,AS9,IF(AND(BC9=1,$P9>$N9),"EM rendelet 2. melléklet terhére elszámolt költség nem lehet nagyobb az I. ütemre tervezett tényleges költségnél!",IF($AC9>$N9,"Többlet forrást jelölt meg az I. ütemnél! A forrás ne legyen több a költségnél.",IF($AQ9>$O9,"Többlet forrást jelölt meg a II. ütemnél! A forrás ne legyen több a költségnél.","Kitöltés rendben!")))))))))))))) -> Kitöltés rendben! | CF9: =IF(A9="Kitöltés rendben!",1,0) -> 1 | CG9: =IF(AND($BB9="R",$CF9=1),1,IF(AND($BB9="RH",$CF9=1),1,0)) -> 0 | CH9: =IF(AND($BB9="H",$CF9=1),1,IF(AND($BB9="RH",$CF9=1),1,0)) -> 1
A10: =IF($G10="","Nincs VKR kiválasztva!",CE10) -> Kitöltés rendben! | B10: 2 | C10: 2511_VILL_IRÁNYTECH | D10: Alibánfa villamos és irányítástechnika felújítása | E10: nem áll rendelkezésre | F10: =VLOOKUP($G10,Összesítő!$B:$F,2,FALSE) -> 21-32054-1-048-01-10 | G10: Zalaegerszeg-SZV | H10: =AY10&"_"&AW10&"_FIV_"&LEFT(Előlap!$B$6,4) -> 3185_8_FIV_2026 | I10: =VLOOKUP($G10,Összesítő!$B:$F,5,FALSE) -> Alibánfa, Alsónemesapáti, Babosdöbréte, Bagod, Bak, Bocfölde, Boncodfölde, Böde, Búcsúszentlászló, Csatár, Csonkahegyhát, Dobronhegy, Egervár, Gősfa, Hagyárosbörönd, Hottó, Kávás, Kemendollár, Keménfa, Kisbucsa, Kiskutas, Kispáli, Lakhegy, Nagykutas, Nagypáli, Nemesapáti, Nemeshetés, Nemessándorháza, Nemesszentandrás, Németfalu, Ozmánbük, Pethőhenye, Pókaszepetk, Pusztaszentlászló, Salomvár, Sárhida, Söjtör, Teskánd, Vasboldogasszony, Vaspör, Vöckönd, Zalaboldogfa, Zalacséb, Zalaegerszeg, Zalaistvánd, Zalaszentgyörgy, Zalaszentiván, Zalaszentlőrinc | J10: =VLOOKUP($G10,Összesítő!$B:$F,4,FALSE) -> Alibánfa Község Önkormányzata, Alsónemesapáti Község Önkormányzata, Babosdöbréte Község Önkormányzata, Bagod Község Önkormányzata, Bak Község Önkormányzata, Bocfölde Község Önkormányzata, Boncodfölde Község Önkormányzata, Böde Község Önkormányzata, Búcsúszentlászló Község Önkormányzata, Csatár Község Önkormányzata, Csonkahegyhát Község Önkormányzata, Dobronhegy Község Önkormányzata, Egervár Község Önkormányzata, Gősfa Község Önkormányzata, Hagyárosbörönd Község Önkormányzata, Hottó Község Önkormányzata, Kávás Község Önkormányzata, Kemendollár Község Önkormányzata, Keménfa Község Önkormányzata, Kisbucsa Község Önkormányzata, Kiskutas Község Önkormányzata, Kispáli Község Önkormányzata, Lakhegy Község Önkormányzata, Nagykutas Község Önkormányzata, Nagypáli Község Önkormányzata, Nemesapáti Község Önkormányzata, Nemeshetés Község Önkormányzata, Nemessándorháza Község Önkormányzata, Nemesszentandrás Község Önkormányzata, Németfalu Község Önkormányzata, Ozmánbük Község Önkormányzata, Pethőhenye Község Önkormányzata, Pókaszepetk Község Önkormányzata, Pusztaszentlászló Község Önkormányzata, Salomvár Község Önkormányzata, Sárhida Község Önkormányzata, Söjtör Község Önkormányzata, Teskánd Község Önkormányzata, Vasboldogasszony Község Önkormányzata, Vaspör Község Önkormányzata, Vöckönd Község Önkormányzata, Zalaboldogfa Község Önkormányzata, Zalacséb Község Önkormányzata, Zalaegerszeg Megyei Jogú Város Önkormányzata, Zalaistvánd Község Önkormányzata, Zalaszentgyörgy Község Önkormányzata, Zalaszentiván Község Önkormányzata, Zalaszentlőrinc Község Önkormányzata | K10: =N10+O10 -> 4000 | L10: 2029 | M10: 2029 | N10: 0 | O10: 4000 | P10: 0 | R10: 0 | S10: 0 | T10: 0 | U10: 0 | V10: 0 | W10: 0 | X10: 0 | Y10: 0 | Z10: 0 | AA10: 0 | AB10: 0 | AC10: =SUM(R10:AB10) -> 0 | AD10: =IF($G10="","Nincs VKR kiválasztva!",IF(BA10=0,"Hiányos kitöltés!",BF10)) -> Nem rövidtávú a feladat. | AF10: 0 | AG10: 0 | AH10: 0 | AI10: 0 | AJ10: 0 | AK10: 0 | AL10: 0 | AM10: 0 | AN10: 0 | AO10: 0 | AP10: 0 | AQ10: =SUM(AF10:AP10) -> 0 | AR10: igen | AS10: =IF($G10="","Nincs VKR kiválasztva!",IF($BA10=0,"Hiányos kitöltés!",IF($BN10=0,"Nem hosszútávú a feladat.",$BL10))) -> Forráshiányos a feladat! | AW10: =COUNTA($G$3:G10) -> 8 | AY10: =VLOOKUP($G10,Összesítő!$B:$F,3,FALSE) -> 3185 | AZ10: =LEN($AU10) -> 0 | BA10: =IF(OR($B10="",$C10="",$D10="",$E10="",$F10="",$L10="",$M10="",$N10="",$O10="",$P10=""),0,1) -> 1 | BB10: =IF($F10="",0,IF(AND($L10=2027,$M10=2027),"R",IF(AND($L10=2027,$M10>2027),"RH",IF(AND($L10>2027,$M10>2027),"H","x")))) -> H | BC10: =IF(OR(BB10="R",BB10="RH"),1,0) -> 0 | BD10: =IF(AND($BB10="R",$O10>0),1,IF(AND($BB10="H",$N10>0),1,0)) -> 0 | BE10: =IF($AC10<$N10,1,IF($AC10=$N10,0)) -> 0 | BF10: =IF($L10>2027,"Nem rövidtávú a feladat.",IF($BE10=1,"Az I. ütem nem lehet forráshiányos!",IF($AC10>$N10,"Többlet forrást jelölt meg az I. ütemnél! A forrás ne legyen több a költségnél.",IF($AC10=$N10,"A forrás egyenlő a költséggel (I.ütem).",0)))) -> Nem rövidtávú a feladat. | BG10: =IF(AND($R10<>"",$S10<>"",$T10<>"",$U10<>"",$V10<>"",$W10<>"",$X10<>"",$Y10<>"",$Z10<>"",$AA10<>"",$AB10<>""),1,0) -> 1 | BH10: =IF(AND($BG10=1,$N10=$AC10),1,0) -> 1 | BI10: =IF($AQ10<$O10,1,0) -> 1 | BJ10: =IF(AND($AF10<>"",$AG10<>"",$AH10<>"",$AI10<>"",$AJ10<>"",$AK10<>"",$AL10<>"",$AM10<>"",$AN10<>"",$AO10<>"",$AP10<>""),1,0) -> 1 | BK10: =IF(AND($BJ10=1,$O10=$AQ10),1,IF(AND($BJ10=1,$O10>$AQ10,AR10="igen"),1,0)) -> 1 | BL10: =IF($M10<2028,"Nem hosszútávú a feladat.",IF(AND($BI10=1,$AR10="nem"),"Forráshiányos a feladat? Jelölje az AR-oszlopban!",IF(AND($BI10=0,$AR10="igen"),"Forráshiányosnak jelölte a feladat az AR-oszlopban, de a forrás költség adatok alapnján nem az!",IF(AND($BI10=1,$AR10="igen"),"Forráshiányos a feladat!",IF($AQ10>$O10,"Többlet forrást jelölt meg a II. ütemnél! A forrás ne legyen több a költségnél.",IF($AQ10=$O10,"A forrás egyenlő a költséggel (II.ütem).",0)))))) -> Forráshiányos a feladat! | BM10: =IF($M10<2028,1,0) -> 0 | BN10: =IF($M10>2027,1,0) -> 1 | BO10: =IF(AND($BM10=1,$N10=0),1,0) -> 0 | BP10: =IF(AND($BN10=1,$O10=0),1,0) -> 0 | BQ10: =IF(AND($BB10="R",$N10=0,$AZ10>29),1,IF(AND($BB10="RH",$N10=0,$AZ10>29),1,0)) -> 0 | BR10: =IF($BN10=0,"Nincs hosszútávú terv!",IF(AND($BB10="H",$O10=0,$AZ10=0),"Nullás a hosszútávú feladat és nincs hozzá indoklás!",IF(AND($BB10="RH",$O10=0,$AZ10=0),"Nullás a hosszútávú feladat és nincs hozzá indoklás!",IF(AND($BB10="R",$O10=0,$AZ10<300),"Nullás a hosszútávú feladat és rövid hozzá az indoklás!",IF(AND($BB10="RH",$O10=0,$AZ10<300),"Nullás a hosszútávú feladat és rövid hozzá az indoklás!",0))))) -> 0 | BS10: =IF(AND($BB10="R",$N10=0,$AZ10>29),1,IF(AND($BB10="RH",$N10=0,$AZ10>29),1,0)) -> 0 | BT10: =IF(AND($BB10="H",$O10=0,$AZ10>29),1,IF(AND($BB10="RH",$O10=0,$AZ10>29),1,0)) -> 0 | BU10: =IF($B10="",0,1) -> 1 | BV10: =IF($C10="",0,1) -> 1 | BW10: =IF($D10="",0,1) -> 1 | BX10: =IF($E10="",0,1) -> 1 | BY10: =IF($L10="",0,1) -> 1 | BZ10: =IF($M10="",0,1) -> 1 | CA10: =IF($N10="",0,1) -> 1 | CB10: =IF($O10="",0,1) -> 1 | CC10: =IF($P10="",0,1) -> 1 | CD10: =IF(AND($BA10=0,$BU10=0),"Hiányos kitöltés! (B-oszlop üres)",IF(AND($BA10=0,$BV10=0),"Hiányos kitöltés! (C-oszlop üres)",IF(AND($BA10=0,$BW10=0),"Hiányos kitöltés! (D-oszlop üres)",IF(AND($BA10=0,$BX10=0),"Hiányos kitöltés! (E-oszlop üres)",IF(AND($BA10=0,$BY10=0),"Hiányos kitöltés! (L-oszlop üres)",IF(AND($BA10=0,$BZ10=0),"Hiányos kitöltés! (M-oszlop üres)",IF(AND($BA10=0,$CA10=0),"Hiányos kitöltés! (N-oszlop üres)",IF(AND($BA10=0,$CB10=0),"Hiányos kitöltés! (O-oszlop üres)",IF(AND($BA10=0,$CC10=0),"Hiányos kitöltés! (P-oszlop üres)",IF(AND($BA10=0,$BG10=0),"Hiányos kitöltés! (I.ütem forrása hiányos!","?")))))))))) -> ? | CE10: =IF($BA10=0,$CD10,IF($BG10=0,"I. ütem forrása nincs kitöltve!",IF($BJ10=0,"II. ütem forrása nincs kitöltve!",IF($BD10=1,"Költségek üteme nem megfelelő (az időtartam és a költség üteme eltér)!",IF(AND(BH10=0,$BA10=1,$BJ10=1,$BD10=1),"Kötelező cellák kitöltve, de az I. ütem forrása hibás!",IF(AND(BJ10=0,$BA10=1,$BJ10=1,$BD10=1),"Kötelező cellák kitöltve, de a II. ütem forrása hibás!",IF(AND($BO10=1,$AZ10<30),"Nullás a rövidtávú feladat és rövid (hiányzik) a hozzá tartozó indoklás!",IF(AND($BP10=1,$AZ10<30),"Nullás a hosszútávú feladat és rövid (hiányzik) a hozzá tartozó indoklás!",IF(AND(BN10=1,C10="2011_RENDKÍVÜLI"),"II. ütemre nem tervezhet Rendkívüli feladatot!",IF(BH10=0,AD10,IF(BK10=0,AS10,IF(AND(BC10=1,$P10>$N10),"EM rendelet 2. melléklet terhére elszámolt költség nem lehet nagyobb az I. ütemre tervezett tényleges költségnél!",IF($AC10>$N10,"Többlet forrást jelölt meg az I. ütemnél! A forrás ne legyen több a költségnél.",IF($AQ10>$O10,"Többlet forrást jelölt meg a II. ütemnél! A forrás ne legyen több a költségnél.","Kitöltés rendben!")))))))))))))) -> Kitöltés rendben! | CF10: =IF(A10="Kitöltés rendben!",1,0) -> 1 | CG10: =IF(AND($BB10="R",$CF10=1),1,IF(AND($BB10="RH",$CF10=1),1,0)) -> 0 | CH10: =IF(AND($BB10="H",$CF10=1),1,IF(AND($BB10="RH",$CF10=1),1,0)) -> 1
A11: =IF($G11="","Nincs VKR kiválasztva!",CE11) -> Kitöltés rendben! | B11: 2 | C11: 2221_AKNA_ÉPÍTÉSZET | D11: Alibánfa átemelő akna építészeti rekonstrukció | E11: nem áll rendelkezésre | F11: =VLOOKUP($G11,Összesítő!$B:$F,2,FALSE) -> 21-32054-1-048-01-10 | G11: Zalaegerszeg-SZV | H11: =AY11&"_"&AW11&"_FIV_"&LEFT(Előlap!$B$6,4) -> 3185_9_FIV_2026 | I11: =VLOOKUP($G11,Összesítő!$B:$F,5,FALSE) -> Alibánfa, Alsónemesapáti, Babosdöbréte, Bagod, Bak, Bocfölde, Boncodfölde, Böde, Búcsúszentlászló, Csatár, Csonkahegyhát, Dobronhegy, Egervár, Gősfa, Hagyárosbörönd, Hottó, Kávás, Kemendollár, Keménfa, Kisbucsa, Kiskutas, Kispáli, Lakhegy, Nagykutas, Nagypáli, Nemesapáti, Nemeshetés, Nemessándorháza, Nemesszentandrás, Németfalu, Ozmánbük, Pethőhenye, Pókaszepetk, Pusztaszentlászló, Salomvár, Sárhida, Söjtör, Teskánd, Vasboldogasszony, Vaspör, Vöckönd, Zalaboldogfa, Zalacséb, Zalaegerszeg, Zalaistvánd, Zalaszentgyörgy, Zalaszentiván, Zalaszentlőrinc | J11: =VLOOKUP($G11,Összesítő!$B:$F,4,FALSE) -> Alibánfa Község Önkormányzata, Alsónemesapáti Község Önkormányzata, Babosdöbréte Község Önkormányzata, Bagod Község Önkormányzata, Bak Község Önkormányzata, Bocfölde Község Önkormányzata, Boncodfölde Község Önkormányzata, Böde Község Önkormányzata, Búcsúszentlászló Község Önkormányzata, Csatár Község Önkormányzata, Csonkahegyhát Község Önkormányzata, Dobronhegy Község Önkormányzata, Egervár Község Önkormányzata, Gősfa Község Önkormányzata, Hagyárosbörönd Község Önkormányzata, Hottó Község Önkormányzata, Kávás Község Önkormányzata, Kemendollár Község Önkormányzata, Keménfa Község Önkormányzata, Kisbucsa Község Önkormányzata, Kiskutas Község Önkormányzata, Kispáli Község Önkormányzata, Lakhegy Község Önkormányzata, Nagykutas Község Önkormányzata, Nagypáli Község Önkormányzata, Nemesapáti Község Önkormányzata, Nemeshetés Község Önkormányzata, Nemessándorháza Község Önkormányzata, Nemesszentandrás Község Önkormányzata, Németfalu Község Önkormányzata, Ozmánbük Község Önkormányzata, Pethőhenye Község Önkormányzata, Pókaszepetk Község Önkormányzata, Pusztaszentlászló Község Önkormányzata, Salomvár Község Önkormányzata, Sárhida Község Önkormányzata, Söjtör Község Önkormányzata, Teskánd Község Önkormányzata, Vasboldogasszony Község Önkormányzata, Vaspör Község Önkormányzata, Vöckönd Község Önkormányzata, Zalaboldogfa Község Önkormányzata, Zalacséb Község Önkormányzata, Zalaegerszeg Megyei Jogú Város Önkormányzata, Zalaistvánd Község Önkormányzata, Zalaszentgyörgy Község Önkormányzata, Zalaszentiván Község Önkormányzata, Zalaszentlőrinc Község Önkormányzata | K11: =N11+O11 -> 4834 | L11: 2030 | M11: 2030 | N11: 0 | O11: 4834 | P11: 0 | R11: 0 | S11: 0 | T11: 0 | U11: 0 | V11: 0 | W11: 0 | X11: 0 | Y11: 0 | Z11: 0 | AA11: 0 | AB11: 0 | AC11: =SUM(R11:AB11) -> 0 | AD11: =IF($G11="","Nincs VKR kiválasztva!",IF(BA11=0,"Hiányos kitöltés!",BF11)) -> Nem rövidtávú a feladat. | AF11: 0 | AG11: 0 | AH11: 0 | AI11: 0 | AJ11: 0 | AK11: 0 | AL11: 0 | AM11: 0 | AN11: 0 | AO11: 0 | AP11: 0 | AQ11: =SUM(AF11:AP11) -> 0 | AR11: igen | AS11: =IF($G11="","Nincs VKR kiválasztva!",IF($BA11=0,"Hiányos kitöltés!",IF($BN11=0,"Nem hosszútávú a feladat.",$BL11))) -> Forráshiányos a feladat! | AW11: =COUNTA($G$3:G11) -> 9 | AY11: =VLOOKUP($G11,Összesítő!$B:$F,3,FALSE) -> 3185 | AZ11: =LEN($AU11) -> 0 | BA11: =IF(OR($B11="",$C11="",$D11="",$E11="",$F11="",$L11="",$M11="",$N11="",$O11="",$P11=""),0,1) -> 1 | BB11: =IF($F11="",0,IF(AND($L11=2027,$M11=2027),"R",IF(AND($L11=2027,$M11>2027),"RH",IF(AND($L11>2027,$M11>2027),"H","x")))) -> H | BC11: =IF(OR(BB11="R",BB11="RH"),1,0) -> 0 | BD11: =IF(AND($BB11="R",$O11>0),1,IF(AND($BB11="H",$N11>0),1,0)) -> 0 | BE11: =IF($AC11<$N11,1,IF($AC11=$N11,0)) -> 0 | BF11: =IF($L11>2027,"Nem rövidtávú a feladat.",IF($BE11=1,"Az I. ütem nem lehet forráshiányos!",IF($AC11>$N11,"Többlet forrást jelölt meg az I. ütemnél! A forrás ne legyen több a költségnél.",IF($AC11=$N11,"A forrás egyenlő a költséggel (I.ütem).",0)))) -> Nem rövidtávú a feladat. | BG11: =IF(AND($R11<>"",$S11<>"",$T11<>"",$U11<>"",$V11<>"",$W11<>"",$X11<>"",$Y11<>"",$Z11<>"",$AA11<>"",$AB11<>""),1,0) -> 1 | BH11: =IF(AND($BG11=1,$N11=$AC11),1,0) -> 1 | BI11: =IF($AQ11<$O11,1,0) -> 1 | BJ11: =IF(AND($AF11<>"",$AG11<>"",$AH11<>"",$AI11<>"",$AJ11<>"",$AK11<>"",$AL11<>"",$AM11<>"",$AN11<>"",$AO11<>"",$AP11<>""),1,0) -> 1 | BK11: =IF(AND($BJ11=1,$O11=$AQ11),1,IF(AND($BJ11=1,$O11>$AQ11,AR11="igen"),1,0)) -> 1 | BL11: =IF($M11<2028,"Nem hosszútávú a feladat.",IF(AND($BI11=1,$AR11="nem"),"Forráshiányos a feladat? Jelölje az AR-oszlopban!",IF(AND($BI11=0,$AR11="igen"),"Forráshiányosnak jelölte a feladat az AR-oszlopban, de a forrás költség adatok alapnján nem az!",IF(AND($BI11=1,$AR11="igen"),"Forráshiányos a feladat!",IF($AQ11>$O11,"Többlet forrást jelölt meg a II. ütemnél! A forrás ne legyen több a költségnél.",IF($AQ11=$O11,"A forrás egyenlő a költséggel (II.ütem).",0)))))) -> Forráshiányos a feladat! | BM11: =IF($M11<2028,1,0) -> 0 | BN11: =IF($M11>2027,1,0) -> 1 | BO11: =IF(AND($BM11=1,$N11=0),1,0) -> 0 | BP11: =IF(AND($BN11=1,$O11=0),1,0) -> 0 | BQ11: =IF(AND($BB11="R",$N11=0,$AZ11>29),1,IF(AND($BB11="RH",$N11=0,$AZ11>29),1,0)) -> 0 | BR11: =IF($BN11=0,"Nincs hosszútávú terv!",IF(AND($BB11="H",$O11=0,$AZ11=0),"Nullás a hosszútávú feladat és nincs hozzá indoklás!",IF(AND($BB11="RH",$O11=0,$AZ11=0),"Nullás a hosszútávú feladat és nincs hozzá indoklás!",IF(AND($BB11="R",$O11=0,$AZ11<300),"Nullás a hosszútávú feladat és rövid hozzá az indoklás!",IF(AND($BB11="RH",$O11=0,$AZ11<300),"Nullás a hosszútávú feladat és rövid hozzá az indoklás!",0))))) -> 0 | BS11: =IF(AND($BB11="R",$N11=0,$AZ11>29),1,IF(AND($BB11="RH",$N11=0,$AZ11>29),1,0)) -> 0 | BT11: =IF(AND($BB11="H",$O11=0,$AZ11>29),1,IF(AND($BB11="RH",$O11=0,$AZ11>29),1,0)) -> 0 | BU11: =IF($B11="",0,1) -> 1 | BV11: =IF($C11="",0,1) -> 1 | BW11: =IF($D11="",0,1) -> 1 | BX11: =IF($E11="",0,1) -> 1 | BY11: =IF($L11="",0,1) -> 1 | BZ11: =IF($M11="",0,1) -> 1 | CA11: =IF($N11="",0,1) -> 1 | CB11: =IF($O11="",0,1) -> 1 | CC11: =IF($P11="",0,1) -> 1 | CD11: =IF(AND($BA11=0,$BU11=0),"Hiányos kitöltés! (B-oszlop üres)",IF(AND($BA11=0,$BV11=0),"Hiányos kitöltés! (C-oszlop üres)",IF(AND($BA11=0,$BW11=0),"Hiányos kitöltés! (D-oszlop üres)",IF(AND($BA11=0,$BX11=0),"Hiányos kitöltés! (E-oszlop üres)",IF(AND($BA11=0,$BY11=0),"Hiányos kitöltés! (L-oszlop üres)",IF(AND($BA11=0,$BZ11=0),"Hiányos kitöltés! (M-oszlop üres)",IF(AND($BA11=0,$CA11=0),"Hiányos kitöltés! (N-oszlop üres)",IF(AND($BA11=0,$CB11=0),"Hiányos kitöltés! (O-oszlop üres)",IF(AND($BA11=0,$CC11=0),"Hiányos kitöltés! (P-oszlop üres)",IF(AND($BA11=0,$BG11=0),"Hiányos kitöltés! (I.ütem forrása hiányos!","?")))))))))) -> ? | CE11: =IF($BA11=0,$CD11,IF($BG11=0,"I. ütem forrása nincs kitöltve!",IF($BJ11=0,"II. ütem forrása nincs kitöltve!",IF($BD11=1,"Költségek üteme nem megfelelő (az időtartam és a költség üteme eltér)!",IF(AND(BH11=0,$BA11=1,$BJ11=1,$BD11=1),"Kötelező cellák kitöltve, de az I. ütem forrása hibás!",IF(AND(BJ11=0,$BA11=1,$BJ11=1,$BD11=1),"Kötelező cellák kitöltve, de a II. ütem forrása hibás!",IF(AND($BO11=1,$AZ11<30),"Nullás a rövidtávú feladat és rövid (hiányzik) a hozzá tartozó indoklás!",IF(AND($BP11=1,$AZ11<30),"Nullás a hosszútávú feladat és rövid (hiányzik) a hozzá tartozó indoklás!",IF(AND(BN11=1,C11="2011_RENDKÍVÜLI"),"II. ütemre nem tervezhet Rendkívüli feladatot!",IF(BH11=0,AD11,IF(BK11=0,AS11,IF(AND(BC11=1,$P11>$N11),"EM rendelet 2. melléklet terhére elszámolt költség nem lehet nagyobb az I. ütemre tervezett tényleges költségnél!",IF($AC11>$N11,"Többlet forrást jelölt meg az I. ütemnél! A forrás ne legyen több a költségnél.",IF($AQ11>$O11,"Többlet forrást jelölt meg a II. ütemnél! A forrás ne legyen több a költségnél.","Kitöltés rendben!")))))))))))))) -> Kitöltés rendben! | CF11: =IF(A11="Kitöltés rendben!",1,0) -> 1 | CG11: =IF(AND($BB11="R",$CF11=1),1,IF(AND($BB11="RH",$CF11=1),1,0)) -> 0 | CH11: =IF(AND($BB11="H",$CF11=1),1,IF(AND($BB11="RH",$CF11=1),1,0)) -> 1
A12: =IF($G12="","Nincs VKR kiválasztva!",CE12) -> Kitöltés rendben! | B12: 2 | C12: 2210_AKNA_EGYÉB | D12: Alibánfa gépészeti rekonstrukció | E12: nem áll rendelkezésre | F12: =VLOOKUP($G12,Összesítő!$B:$F,2,FALSE) -> 21-32054-1-048-01-10 | G12: Zalaegerszeg-SZV | H12: =AY12&"_"&AW12&"_FIV_"&LEFT(Előlap!$B$6,4) -> 3185_10_FIV_2026 | I12: =VLOOKUP($G12,Összesítő!$B:$F,5,FALSE) -> Alibánfa, Alsónemesapáti, Babosdöbréte, Bagod, Bak, Bocfölde, Boncodfölde, Böde, Búcsúszentlászló, Csatár, Csonkahegyhát, Dobronhegy, Egervár, Gősfa, Hagyárosbörönd, Hottó, Kávás, Kemendollár, Keménfa, Kisbucsa, Kiskutas, Kispáli, Lakhegy, Nagykutas, Nagypáli, Nemesapáti, Nemeshetés, Nemessándorháza, Nemesszentandrás, Németfalu, Ozmánbük, Pethőhenye, Pókaszepetk, Pusztaszentlászló, Salomvár, Sárhida, Söjtör, Teskánd, Vasboldogasszony, Vaspör, Vöckönd, Zalaboldogfa, Zalacséb, Zalaegerszeg, Zalaistvánd, Zalaszentgyörgy, Zalaszentiván, Zalaszentlőrinc | J12: =VLOOKUP($G12,Összesítő!$B:$F,4,FALSE) -> Alibánfa Község Önkormányzata, Alsónemesapáti Község Önkormányzata, Babosdöbréte Község Önkormányzata, Bagod Község Önkormányzata, Bak Község Önkormányzata, Bocfölde Község Önkormányzata, Boncodfölde Község Önkormányzata, Böde Község Önkormányzata, Búcsúszentlászló Község Önkormányzata, Csatár Község Önkormányzata, Csonkahegyhát Község Önkormányzata, Dobronhegy Község Önkormányzata, Egervár Község Önkormányzata, Gősfa Község Önkormányzata, Hagyárosbörönd Község Önkormányzata, Hottó Község Önkormányzata, Kávás Község Önkormányzata, Kemendollár Község Önkormányzata, Keménfa Község Önkormányzata, Kisbucsa Község Önkormányzata, Kiskutas Község Önkormányzata, Kispáli Község Önkormányzata, Lakhegy Község Önkormányzata, Nagykutas Község Önkormányzata, Nagypáli Község Önkormányzata, Nemesapáti Község Önkormányzata, Nemeshetés Község Önkormányzata, Nemessándorháza Község Önkormányzata, Nemesszentandrás Község Önkormányzata, Németfalu Község Önkormányzata, Ozmánbük Község Önkormányzata, Pethőhenye Község Önkormányzata, Pókaszepetk Község Önkormányzata, Pusztaszentlászló Község Önkormányzata, Salomvár Község Önkormányzata, Sárhida Község Önkormányzata, Söjtör Község Önkormányzata, Teskánd Község Önkormányzata, Vasboldogasszony Község Önkormányzata, Vaspör Község Önkormányzata, Vöckönd Község Önkormányzata, Zalaboldogfa Község Önkormányzata, Zalacséb Község Önkormányzata, Zalaegerszeg Megyei Jogú Város Önkormányzata, Zalaistvánd Község Önkormányzata, Zalaszentgyörgy Község Önkormányzata, Zalaszentiván Község Önkormányzata, Zalaszentlőrinc Község Önkormányzata | K12: =N12+O12 -> 4600 | L12: 2030 | M12: 2035 | N12: 0 | O12: 4600 | P12: 0 | R12: 0 | S12: 0 | T12: 0 | U12: 0 | V12: 0 | W12: 0 | X12: 0 | Y12: 0 | Z12: 0 | AA12: 0 | AB12: 0 | AC12: =SUM(R12:AB12) -> 0 | AD12: =IF($G12="","Nincs VKR kiválasztva!",IF(BA12=0,"Hiányos kitöltés!",BF12)) -> Nem rövidtávú a feladat. | AF12: 0 | AG12: 0 | AH12: 0 | AI12: 0 | AJ12: 0 | AK12: 0 | AL12: 0 | AM12: 0 | AN12: 0 | AO12: 0 | AP12: 0 | AQ12: =SUM(AF12:AP12) -> 0 | AR12: igen | AS12: =IF($G12="","Nincs VKR kiválasztva!",IF($BA12=0,"Hiányos kitöltés!",IF($BN12=0,"Nem hosszútávú a feladat.",$BL12))) -> Forráshiányos a feladat! | AW12: =COUNTA($G$3:G12) -> 10 | AY12: =VLOOKUP($G12,Összesítő!$B:$F,3,FALSE) -> 3185 | AZ12: =LEN($AU12) -> 0 | BA12: =IF(OR($B12="",$C12="",$D12="",$E12="",$F12="",$L12="",$M12="",$N12="",$O12="",$P12=""),0,1) -> 1 | BB12: =IF($F12="",0,IF(AND($L12=2027,$M12=2027),"R",IF(AND($L12=2027,$M12>2027),"RH",IF(AND($L12>2027,$M12>2027),"H","x")))) -> H | BC12: =IF(OR(BB12="R",BB12="RH"),1,0) -> 0 | BD12: =IF(AND($BB12="R",$O12>0),1,IF(AND($BB12="H",$N12>0),1,0)) -> 0 | BE12: =IF($AC12<$N12,1,IF($AC12=$N12,0)) -> 0 | BF12: =IF($L12>2027,"Nem rövidtávú a feladat.",IF($BE12=1,"Az I. ütem nem lehet forráshiányos!",IF($AC12>$N12,"Többlet forrást jelölt meg az I. ütemnél! A forrás ne legyen több a költségnél.",IF($AC12=$N12,"A forrás egyenlő a költséggel (I.ütem).",0)))) -> Nem rövidtávú a feladat. | BG12: =IF(AND($R12<>"",$S12<>"",$T12<>"",$U12<>"",$V12<>"",$W12<>"",$X12<>"",$Y12<>"",$Z12<>"",$AA12<>"",$AB12<>""),1,0) -> 1 | BH12: =IF(AND($BG12=1,$N12=$AC12),1,0) -> 1 | BI12: =IF($AQ12<$O12,1,0) -> 1 | BJ12: =IF(AND($AF12<>"",$AG12<>"",$AH12<>"",$AI12<>"",$AJ12<>"",$AK12<>"",$AL12<>"",$AM12<>"",$AN12<>"",$AO12<>"",$AP12<>""),1,0) -> 1 | BK12: =IF(AND($BJ12=1,$O12=$AQ12),1,IF(AND($BJ12=1,$O12>$AQ12,AR12="igen"),1,0)) -> 1 | BL12: =IF($M12<2028,"Nem hosszútávú a feladat.",IF(AND($BI12=1,$AR12="nem"),"Forráshiányos a feladat? Jelölje az AR-oszlopban!",IF(AND($BI12=0,$AR12="igen"),"Forráshiányosnak jelölte a feladat az AR-oszlopban, de a forrás költség adatok alapnján nem az!",IF(AND($BI12=1,$AR12="igen"),"Forráshiányos a feladat!",IF($AQ12>$O12,"Többlet forrást jelölt meg a II. ütemnél! A forrás ne legyen több a költségnél.",IF($AQ12=$O12,"A forrás egyenlő a költséggel (II.ütem).",0)))))) -> Forráshiányos a feladat! | BM12: =IF($M12<2028,1,0) -> 0 | BN12: =IF($M12>2027,1,0) -> 1 | BO12: =IF(AND($BM12=1,$N12=0),1,0) -> 0 | BP12: =IF(AND($BN12=1,$O12=0),1,0) -> 0 | BQ12: =IF(AND($BB12="R",$N12=0,$AZ12>29),1,IF(AND($BB12="RH",$N12=0,$AZ12>29),1,0)) -> 0 | BR12: =IF($BN12=0,"Nincs hosszútávú terv!",IF(AND($BB12="H",$O12=0,$AZ12=0),"Nullás a hosszútávú feladat és nincs hozzá indoklás!",IF(AND($BB12="RH",$O12=0,$AZ12=0),"Nullás a hosszútávú feladat és nincs hozzá indoklás!",IF(AND($BB12="R",$O12=0,$AZ12<300),"Nullás a hosszútávú feladat és rövid hozzá az indoklás!",IF(AND($BB12="RH",$O12=0,$AZ12<300),"Nullás a hosszútávú feladat és rövid hozzá az indoklás!",0))))) -> 0 | BS12: =IF(AND($BB12="R",$N12=0,$AZ12>29),1,IF(AND($BB12="RH",$N12=0,$AZ12>29),1,0)) -> 0 | BT12: =IF(AND($BB12="H",$O12=0,$AZ12>29),1,IF(AND($BB12="RH",$O12=0,$AZ12>29),1,0)) -> 0 | BU12: =IF($B12="",0,1) -> 1 | BV12: =IF($C12="",0,1) -> 1 | BW12: =IF($D12="",0,1) -> 1 | BX12: =IF($E12="",0,1) -> 1 | BY12: =IF($L12="",0,1) -> 1 | BZ12: =IF($M12="",0,1) -> 1 | CA12: =IF($N12="",0,1) -> 1 | CB12: =IF($O12="",0,1) -> 1 | CC12: =IF($P12="",0,1) -> 1 | CD12: =IF(AND($BA12=0,$BU12=0),"Hiányos kitöltés! (B-oszlop üres)",IF(AND($BA12=0,$BV12=0),"Hiányos kitöltés! (C-oszlop üres)",IF(AND($BA12=0,$BW12=0),"Hiányos kitöltés! (D-oszlop üres)",IF(AND($BA12=0,$BX12=0),"Hiányos kitöltés! (E-oszlop üres)",IF(AND($BA12=0,$BY12=0),"Hiányos kitöltés! (L-oszlop üres)",IF(AND($BA12=0,$BZ12=0),"Hiányos kitöltés! (M-oszlop üres)",IF(AND($BA12=0,$CA12=0),"Hiányos kitöltés! (N-oszlop üres)",IF(AND($BA12=0,$CB12=0),"Hiányos kitöltés! (O-oszlop üres)",IF(AND($BA12=0,$CC12=0),"Hiányos kitöltés! (P-oszlop üres)",IF(AND($BA12=0,$BG12=0),"Hiányos kitöltés! (I.ütem forrása hiányos!","?")))))))))) -> ? | CE12: =IF($BA12=0,$CD12,IF($BG12=0,"I. ütem forrása nincs kitöltve!",IF($BJ12=0,"II. ütem forrása nincs kitöltve!",IF($BD12=1,"Költségek üteme nem megfelelő (az időtartam és a költség üteme eltér)!",IF(AND(BH12=0,$BA12=1,$BJ12=1,$BD12=1),"Kötelező cellák kitöltve, de az I. ütem forrása hibás!",IF(AND(BJ12=0,$BA12=1,$BJ12=1,$BD12=1),"Kötelező cellák kitöltve, de a II. ütem forrása hibás!",IF(AND($BO12=1,$AZ12<30),"Nullás a rövidtávú feladat és rövid (hiányzik) a hozzá tartozó indoklás!",IF(AND($BP12=1,$AZ12<30),"Nullás a hosszútávú feladat és rövid (hiányzik) a hozzá tartozó indoklás!",IF(AND(BN12=1,C12="2011_RENDKÍVÜLI"),"II. ütemre nem tervezhet Rendkívüli feladatot!",IF(BH12=0,AD12,IF(BK12=0,AS12,IF(AND(BC12=1,$P12>$N12),"EM rendelet 2. melléklet terhére elszámolt költség nem lehet nagyobb az I. ütemre tervezett tényleges költségnél!",IF($AC12>$N12,"Többlet forrást jelölt meg az I. ütemnél! A forrás ne legyen több a költségnél.",IF($AQ12>$O12,"Többlet forrást jelölt meg a II. ütemnél! A forrás ne legyen több a költségnél.","Kitöltés rendben!")))))))))))))) -> Kitöltés rendben! | CF12: =IF(A12="Kitöltés rendben!",1,0) -> 1 | CG12: =IF(AND($BB12="R",$CF12=1),1,IF(AND($BB12="RH",$CF12=1),1,0)) -> 0 | CH12: =IF(AND($BB12="H",$CF12=1),1,IF(AND($BB12="RH",$CF12=1),1,0)) -> 1
A13: =IF($G13="","Nincs VKR kiválasztva!",CE13) -> Kitöltés rendben! | B13: 2 | C13: 2211_AKNA_SZIVATTYÚ_HÁLÓZATI | D13: Alibánfa II. szennyvízátemelő szivattyú csere | E13: nem áll rendelkezésre | F13: =VLOOKUP($G13,Összesítő!$B:$F,2,FALSE) -> 21-32054-1-048-01-10 | G13: Zalaegerszeg-SZV | H13: =AY13&"_"&AW13&"_FIV_"&LEFT(Előlap!$B$6,4) -> 3185_11_FIV_2026 | I13: =VLOOKUP($G13,Összesítő!$B:$F,5,FALSE) -> Alibánfa, Alsónemesapáti, Babosdöbréte, Bagod, Bak, Bocfölde, Boncodfölde, Böde, Búcsúszentlászló, Csatár, Csonkahegyhát, Dobronhegy, Egervár, Gősfa, Hagyárosbörönd, Hottó, Kávás, Kemendollár, Keménfa, Kisbucsa, Kiskutas, Kispáli, Lakhegy, Nagykutas, Nagypáli, Nemesapáti, Nemeshetés, Nemessándorháza, Nemesszentandrás, Németfalu, Ozmánbük, Pethőhenye, Pókaszepetk, Pusztaszentlászló, Salomvár, Sárhida, Söjtör, Teskánd, Vasboldogasszony, Vaspör, Vöckönd, Zalaboldogfa, Zalacséb, Zalaegerszeg, Zalaistvánd, Zalaszentgyörgy, Zalaszentiván, Zalaszentlőrinc | J13: =VLOOKUP($G13,Összesítő!$B:$F,4,FALSE) -> Alibánfa Község Önkormányzata, Alsónemesapáti Község Önkormányzata, Babosdöbréte Község Önkormányzata, Bagod Község Önkormányzata, Bak Község Önkormányzata, Bocfölde Község Önkormányzata, Boncodfölde Község Önkormányzata, Böde Község Önkormányzata, Búcsúszentlászló Község Önkormányzata, Csatár Község Önkormányzata, Csonkahegyhát Község Önkormányzata, Dobronhegy Község Önkormányzata, Egervár Község Önkormányzata, Gősfa Község Önkormányzata, Hagyárosbörönd Község Önkormányzata, Hottó Község Önkormányzata, Kávás Község Önkormányzata, Kemendollár Község Önkormányzata, Keménfa Község Önkormányzata, Kisbucsa Község Önkormányzata, Kiskutas Község Önkormányzata, Kispáli Község Önkormányzata, Lakhegy Község Önkormányzata, Nagykutas Község Önkormányzata, Nagypáli Község Önkormányzata, Nemesapáti Község Önkormányzata, Nemeshetés Község Önkormányzata, Nemessándorháza Község Önkormányzata, Nemesszentandrás Község Önkormányzata, Németfalu Község Önkormányzata, Ozmánbük Község Önkormányzata, Pethőhenye Község Önkormányzata, Pókaszepetk Község Önkormányzata, Pusztaszentlászló Község Önkormányzata, Salomvár Község Önkormányzata, Sárhida Község Önkormányzata, Söjtör Község Önkormányzata, Teskánd Község Önkormányzata, Vasboldogasszony Község Önkormányzata, Vaspör Község Önkormányzata, Vöckönd Község Önkormányzata, Zalaboldogfa Község Önkormányzata, Zalacséb Község Önkormányzata, Zalaegerszeg Megyei Jogú Város Önkormányzata, Zalaistvánd Község Önkormányzata, Zalaszentgyörgy Község Önkormányzata, Zalaszentiván Község Önkormányzata, Zalaszentlőrinc Község Önkormányzata | K13: =N13+O13 -> 1000 | L13: 2030 | M13: 2030 | N13: 0 | O13: 1000 | P13: 0 | R13: 0 | S13: 0 | T13: 0 | U13: 0 | V13: 0 | W13: 0 | X13: 0 | Y13: 0 | Z13: 0 | AA13: 0 | AB13: 0 | AC13: =SUM(R13:AB13) -> 0 | AD13: =IF($G13="","Nincs VKR kiválasztva!",IF(BA13=0,"Hiányos kitöltés!",BF13)) -> Nem rövidtávú a feladat. | AF13: 0 | AG13: 0 | AH13: 0 | AI13: 0 | AJ13: 0 | AK13: 0 | AL13: 0 | AM13: 0 | AN13: 0 | AO13: 0 | AP13: 0 | AQ13: =SUM(AF13:AP13) -> 0 | AR13: igen | AS13: =IF($G13="","Nincs VKR kiválasztva!",IF($BA13=0,"Hiányos kitöltés!",IF($BN13=0,"Nem hosszútávú a feladat.",$BL13))) -> Forráshiányos a feladat! | AW13: =COUNTA($G$3:G13) -> 11 | AY13: =VLOOKUP($G13,Összesítő!$B:$F,3,FALSE) -> 3185 | AZ13: =LEN($AU13) -> 0 | BA13: =IF(OR($B13="",$C13="",$D13="",$E13="",$F13="",$L13="",$M13="",$N13="",$O13="",$P13=""),0,1) -> 1 | BB13: =IF($F13="",0,IF(AND($L13=2027,$M13=2027),"R",IF(AND($L13=2027,$M13>2027),"RH",IF(AND($L13>2027,$M13>2027),"H","x")))) -> H | BC13: =IF(OR(BB13="R",BB13="RH"),1,0) -> 0 | BD13: =IF(AND($BB13="R",$O13>0),1,IF(AND($BB13="H",$N13>0),1,0)) -> 0 | BE13: =IF($AC13<$N13,1,IF($AC13=$N13,0)) -> 0 | BF13: =IF($L13>2027,"Nem rövidtávú a feladat.",IF($BE13=1,"Az I. ütem nem lehet forráshiányos!",IF($AC13>$N13,"Többlet forrást jelölt meg az I. ütemnél! A forrás ne legyen több a költségnél.",IF($AC13=$N13,"A forrás egyenlő a költséggel (I.ütem).",0)))) -> Nem rövidtávú a feladat. | BG13: =IF(AND($R13<>"",$S13<>"",$T13<>"",$U13<>"",$V13<>"",$W13<>"",$X13<>"",$Y13<>"",$Z13<>"",$AA13<>"",$AB13<>""),1,0) -> 1 | BH13: =IF(AND($BG13=1,$N13=$AC13),1,0) -> 1 | BI13: =IF($AQ13<$O13,1,0) -> 1 | BJ13: =IF(AND($AF13<>"",$AG13<>"",$AH13<>"",$AI13<>"",$AJ13<>"",$AK13<>"",$AL13<>"",$AM13<>"",$AN13<>"",$AO13<>"",$AP13<>""),1,0) -> 1 | BK13: =IF(AND($BJ13=1,$O13=$AQ13),1,IF(AND($BJ13=1,$O13>$AQ13,AR13="igen"),1,0)) -> 1 | BL13: =IF($M13<2028,"Nem hosszútávú a feladat.",IF(AND($BI13=1,$AR13="nem"),"Forráshiányos a feladat? Jelölje az AR-oszlopban!",IF(AND($BI13=0,$AR13="igen"),"Forráshiányosnak jelölte a feladat az AR-oszlopban, de a forrás költség adatok alapnján nem az!",IF(AND($BI13=1,$AR13="igen"),"Forráshiányos a feladat!",IF($AQ13>$O13,"Többlet forrást jelölt meg a II. ütemnél! A forrás ne legyen több a költségnél.",IF($AQ13=$O13,"A forrás egyenlő a költséggel (II.ütem).",0)))))) -> Forráshiányos a feladat! | BM13: =IF($M13<2028,1,0) -> 0 | BN13: =IF($M13>2027,1,0) -> 1 | BO13: =IF(AND($BM13=1,$N13=0),1,0) -> 0 | BP13: =IF(AND($BN13=1,$O13=0),1,0) -> 0 | BQ13: =IF(AND($BB13="R",$N13=0,$AZ13>29),1,IF(AND($BB13="RH",$N13=0,$AZ13>29),1,0)) -> 0 | BR13: =IF($BN13=0,"Nincs hosszútávú terv!",IF(AND($BB13="H",$O13=0,$AZ13=0),"Nullás a hosszútávú feladat és nincs hozzá indoklás!",IF(AND($BB13="RH",$O13=0,$AZ13=0),"Nullás a hosszútávú feladat és nincs hozzá indoklás!",IF(AND($BB13="R",$O13=0,$AZ13<300),"Nullás a hosszútávú feladat és rövid hozzá az indoklás!",IF(AND($BB13="RH",$O13=0,$AZ13<300),"Nullás a hosszútávú feladat és rövid hozzá az indoklás!",0))))) -> 0 | BS13: =IF(AND($BB13="R",$N13=0,$AZ13>29),1,IF(AND($BB13="RH",$N13=0,$AZ13>29),1,0)) -> 0 | BT13: =IF(AND($BB13="H",$O13=0,$AZ13>29),1,IF(AND($BB13="RH",$O13=0,$AZ13>29),1,0)) -> 0 | BU13: =IF($B13="",0,1) -> 1 | BV13: =IF($C13="",0,1) -> 1 | BW13: =IF($D13="",0,1) -> 1 | BX13: =IF($E13="",0,1) -> 1 | BY13: =IF($L13="",0,1) -> 1 | BZ13: =IF($M13="",0,1) -> 1 | CA13: =IF($N13="",0,1) -> 1 | CB13: =IF($O13="",0,1) -> 1 | CC13: =IF($P13="",0,1) -> 1 | CD13: =IF(AND($BA13=0,$BU13=0),"Hiányos kitöltés! (B-oszlop üres)",IF(AND($BA13=0,$BV13=0),"Hiányos kitöltés! (C-oszlop üres)",IF(AND($BA13=0,$BW13=0),"Hiányos kitöltés! (D-oszlop üres)",IF(AND($BA13=0,$BX13=0),"Hiányos kitöltés! (E-oszlop üres)",IF(AND($BA13=0,$BY13=0),"Hiányos kitöltés! (L-oszlop üres)",IF(AND($BA13=0,$BZ13=0),"Hiányos kitöltés! (M-oszlop üres)",IF(AND($BA13=0,$CA13=0),"Hiányos kitöltés! (N-oszlop üres)",IF(AND($BA13=0,$CB13=0),"Hiányos kitöltés! (O-oszlop üres)",IF(AND($BA13=0,$CC13=0),"Hiányos kitöltés! (P-oszlop üres)",IF(AND($BA13=0,$BG13=0),"Hiányos kitöltés! (I.ütem forrása hiányos!","?")))))))))) -> ? | CE13: =IF($BA13=0,$CD13,IF($BG13=0,"I. ütem forrása nincs kitöltve!",IF($BJ13=0,"II. ütem forrása nincs kitöltve!",IF($BD13=1,"Költségek üteme nem megfelelő (az időtartam és a költség üteme eltér)!",IF(AND(BH13=0,$BA13=1,$BJ13=1,$BD13=1),"Kötelező cellák kitöltve, de az I. ütem forrása hibás!",IF(AND(BJ13=0,$BA13=1,$BJ13=1,$BD13=1),"Kötelező cellák kitöltve, de a II. ütem forrása hibás!",IF(AND($BO13=1,$AZ13<30),"Nullás a rövidtávú feladat és rövid (hiányzik) a hozzá tartozó indoklás!",IF(AND($BP13=1,$AZ13<30),"Nullás a hosszútávú feladat és rövid (hiányzik) a hozzá tartozó indoklás!",IF(AND(BN13=1,C13="2011_RENDKÍVÜLI"),"II. ütemre nem tervezhet Rendkívüli feladatot!",IF(BH13=0,AD13,IF(BK13=0,AS13,IF(AND(BC13=1,$P13>$N13),"EM rendelet 2. melléklet terhére elszámolt költség nem lehet nagyobb az I. ütemre tervezett tényleges költségnél!",IF($AC13>$N13,"Többlet forrást jelölt meg az I. ütemnél! A forrás ne legyen több a költségnél.",IF($AQ13>$O13,"Többlet forrást jelölt meg a II. ütemnél! A forrás ne legyen több a költségnél.","Kitöltés rendben!")))))))))))))) -> Kitöltés rendben! | CF13: =IF(A13="Kitöltés rendben!",1,0) -> 1 | CG13: =IF(AND($BB13="R",$CF13=1),1,IF(AND($BB13="RH",$CF13=1),1,0)) -> 0 | CH13: =IF(AND($BB13="H",$CF13=1),1,IF(AND($BB13="RH",$CF13=1),1,0)) -> 1
A14: =IF($G14="","Nincs VKR kiválasztva!",CE14) -> Kitöltés rendben! | B14: 2 | C14: 2211_AKNA_SZIVATTYÚ_HÁLÓZATI | D14: Alibánfa I. szennyvízátemelő szivattyú csere | E14: nem áll rendelkezésre | F14: =VLOOKUP($G14,Összesítő!$B:$F,2,FALSE) -> 21-32054-1-048-01-10 | G14: Zalaegerszeg-SZV | H14: =AY14&"_"&AW14&"_FIV_"&LEFT(Előlap!$B$6,4) -> 3185_12_FIV_2026 | I14: =VLOOKUP($G14,Összesítő!$B:$F,5,FALSE) -> Alibánfa, Alsónemesapáti, Babosdöbréte, Bagod, Bak, Bocfölde, Boncodfölde, Böde, Búcsúszentlászló, Csatár, Csonkahegyhát, Dobronhegy, Egervár, Gősfa, Hagyárosbörönd, Hottó, Kávás, Kemendollár, Keménfa, Kisbucsa, Kiskutas, Kispáli, Lakhegy, Nagykutas, Nagypáli, Nemesapáti, Nemeshetés, Nemessándorháza, Nemesszentandrás, Németfalu, Ozmánbük, Pethőhenye, Pókaszepetk, Pusztaszentlászló, Salomvár, Sárhida, Söjtör, Teskánd, Vasboldogasszony, Vaspör, Vöckönd, Zalaboldogfa, Zalacséb, Zalaegerszeg, Zalaistvánd, Zalaszentgyörgy, Zalaszentiván, Zalaszentlőrinc | J14: =VLOOKUP($G14,Összesítő!$B:$F,4,FALSE) -> Alibánfa Község Önkormányzata, Alsónemesapáti Község Önkormányzata, Babosdöbréte Község Önkormányzata, Bagod Község Önkormányzata, Bak Község Önkormányzata, Bocfölde Község Önkormányzata, Boncodfölde Község Önkormányzata, Böde Község Önkormányzata, Búcsúszentlászló Község Önkormányzata, Csatár Község Önkormányzata, Csonkahegyhát Község Önkormányzata, Dobronhegy Község Önkormányzata, Egervár Község Önkormányzata, Gősfa Község Önkormányzata, Hagyárosbörönd Község Önkormányzata, Hottó Község Önkormányzata, Kávás Község Önkormányzata, Kemendollár Község Önkormányzata, Keménfa Község Önkormányzata, Kisbucsa Község Önkormányzata, Kiskutas Község Önkormányzata, Kispáli Község Önkormányzata, Lakhegy Község Önkormányzata, Nagykutas Község Önkormányzata, Nagypáli Község Önkormányzata, Nemesapáti Község Önkormányzata, Nemeshetés Község Önkormányzata, Nemessándorháza Község Önkormányzata, Nemesszentandrás Község Önkormányzata, Németfalu Község Önkormányzata, Ozmánbük Község Önkormányzata, Pethőhenye Község Önkormányzata, Pókaszepetk Község Önkormányzata, Pusztaszentlászló Község Önkormányzata, Salomvár Község Önkormányzata, Sárhida Község Önkormányzata, Söjtör Község Önkormányzata, Teskánd Község Önkormányzata, Vasboldogasszony Község Önkormányzata, Vaspör Község Önkormányzata, Vöckönd Község Önkormányzata, Zalaboldogfa Község Önkormányzata, Zalacséb Község Önkormányzata, Zalaegerszeg Megyei Jogú Város Önkormányzata, Zalaistvánd Község Önkormányzata, Zalaszentgyörgy Község Önkormányzata, Zalaszentiván Község Önkormányzata, Zalaszentlőrinc Község Önkormányzata | K14: =N14+O14 -> 2200 | L14: 2035 | M14: 2035 | N14: 0 | O14: 2200 | P14: 0 | R14: 0 | S14: 0 | T14: 0 | U14: 0 | V14: 0 | W14: 0 | X14: 0 | Y14: 0 | Z14: 0 | AA14: 0 | AB14: 0 | AC14: =SUM(R14:AB14) -> 0 | AD14: =IF($G14="","Nincs VKR kiválasztva!",IF(BA14=0,"Hiányos kitöltés!",BF14)) -> Nem rövidtávú a feladat. | AF14: 0 | AG14: 0 | AH14: 0 | AI14: 0 | AJ14: 0 | AK14: 0 | AL14: 0 | AM14: 0 | AN14: 0 | AO14: 0 | AP14: 0 | AQ14: =SUM(AF14:AP14) -> 0 | AR14: igen | AS14: =IF($G14="","Nincs VKR kiválasztva!",IF($BA14=0,"Hiányos kitöltés!",IF($BN14=0,"Nem hosszútávú a feladat.",$BL14))) -> Forráshiányos a feladat! | AW14: =COUNTA($G$3:G14) -> 12 | AY14: =VLOOKUP($G14,Összesítő!$B:$F,3,FALSE) -> 3185 | AZ14: =LEN($AU14) -> 0 | BA14: =IF(OR($B14="",$C14="",$D14="",$E14="",$F14="",$L14="",$M14="",$N14="",$O14="",$P14=""),0,1) -> 1 | BB14: =IF($F14="",0,IF(AND($L14=2027,$M14=2027),"R",IF(AND($L14=2027,$M14>2027),"RH",IF(AND($L14>2027,$M14>2027),"H","x")))) -> H | BC14: =IF(OR(BB14="R",BB14="RH"),1,0) -> 0 | BD14: =IF(AND($BB14="R",$O14>0),1,IF(AND($BB14="H",$N14>0),1,0)) -> 0 | BE14: =IF($AC14<$N14,1,IF($AC14=$N14,0)) -> 0 | BF14: =IF($L14>2027,"Nem rövidtávú a feladat.",IF($BE14=1,"Az I. ütem nem lehet forráshiányos!",IF($AC14>$N14,"Többlet forrást jelölt meg az I. ütemnél! A forrás ne legyen több a költségnél.",IF($AC14=$N14,"A forrás egyenlő a költséggel (I.ütem).",0)))) -> Nem rövidtávú a feladat. | BG14: =IF(AND($R14<>"",$S14<>"",$T14<>"",$U14<>"",$V14<>"",$W14<>"",$X14<>"",$Y14<>"",$Z14<>"",$AA14<>"",$AB14<>""),1,0) -> 1 | BH14: =IF(AND($BG14=1,$N14=$AC14),1,0) -> 1 | BI14: =IF($AQ14<$O14,1,0) -> 1 | BJ14: =IF(AND($AF14<>"",$AG14<>"",$AH14<>"",$AI14<>"",$AJ14<>"",$AK14<>"",$AL14<>"",$AM14<>"",$AN14<>"",$AO14<>"",$AP14<>""),1,0) -> 1 | BK14: =IF(AND($BJ14=1,$O14=$AQ14),1,IF(AND($BJ14=1,$O14>$AQ14,AR14="igen"),1,0)) -> 1 | BL14: =IF($M14<2028,"Nem hosszútávú a feladat.",IF(AND($BI14=1,$AR14="nem"),"Forráshiányos a feladat? Jelölje az AR-oszlopban!",IF(AND($BI14=0,$AR14="igen"),"Forráshiányosnak jelölte a feladat az AR-oszlopban, de a forrás költség adatok alapnján nem az!",IF(AND($BI14=1,$AR14="igen"),"Forráshiányos a feladat!",IF($AQ14>$O14,"Többlet forrást jelölt meg a II. ütemnél! A forrás ne legyen több a költségnél.",IF($AQ14=$O14,"A forrás egyenlő a költséggel (II.ütem).",0)))))) -> Forráshiányos a feladat! | BM14: =IF($M14<2028,1,0) -> 0 | BN14: =IF($M14>2027,1,0) -> 1 | BO14: =IF(AND($BM14=1,$N14=0),1,0) -> 0 | BP14: =IF(AND($BN14=1,$O14=0),1,0) -> 0 | BQ14: =IF(AND($BB14="R",$N14=0,$AZ14>29),1,IF(AND($BB14="RH",$N14=0,$AZ14>29),1,0)) -> 0 | BR14: =IF($BN14=0,"Nincs hosszútávú terv!",IF(AND($BB14="H",$O14=0,$AZ14=0),"Nullás a hosszútávú feladat és nincs hozzá indoklás!",IF(AND($BB14="RH",$O14=0,$AZ14=0),"Nullás a hosszútávú feladat és nincs hozzá indoklás!",IF(AND($BB14="R",$O14=0,$AZ14<300),"Nullás a hosszútávú feladat és rövid hozzá az indoklás!",IF(AND($BB14="RH",$O14=0,$AZ14<300),"Nullás a hosszútávú feladat és rövid hozzá az indoklás!",0))))) -> 0 | BS14: =IF(AND($BB14="R",$N14=0,$AZ14>29),1,IF(AND($BB14="RH",$N14=0,$AZ14>29),1,0)) -> 0 | BT14: =IF(AND($BB14="H",$O14=0,$AZ14>29),1,IF(AND($BB14="RH",$O14=0,$AZ14>29),1,0)) -> 0 | BU14: =IF($B14="",0,1) -> 1 | BV14: =IF($C14="",0,1) -> 1 | BW14: =IF($D14="",0,1) -> 1 | BX14: =IF($E14="",0,1) -> 1 | BY14: =IF($L14="",0,1) -> 1 | BZ14: =IF($M14="",0,1) -> 1 | CA14: =IF($N14="",0,1) -> 1 | CB14: =IF($O14="",0,1) -> 1 | CC14: =IF($P14="",0,1) -> 1 | CD14: =IF(AND($BA14=0,$BU14=0),"Hiányos kitöltés! (B-oszlop üres)",IF(AND($BA14=0,$BV14=0),"Hiányos kitöltés! (C-oszlop üres)",IF(AND($BA14=0,$BW14=0),"Hiányos kitöltés! (D-oszlop üres)",IF(AND($BA14=0,$BX14=0),"Hiányos kitöltés! (E-oszlop üres)",IF(AND($BA14=0,$BY14=0),"Hiányos kitöltés! (L-oszlop üres)",IF(AND($BA14=0,$BZ14=0),"Hiányos kitöltés! (M-oszlop üres)",IF(AND($BA14=0,$CA14=0),"Hiányos kitöltés! (N-oszlop üres)",IF(AND($BA14=0,$CB14=0),"Hiányos kitöltés! (O-oszlop üres)",IF(AND($BA14=0,$CC14=0),"Hiányos kitöltés! (P-oszlop üres)",IF(AND($BA14=0,$BG14=0),"Hiányos kitöltés! (I.ütem forrása hiányos!","?")))))))))) -> ? | CE14: =IF($BA14=0,$CD14,IF($BG14=0,"I. ütem forrása nincs kitöltve!",IF($BJ14=0,"II. ütem forrása nincs kitöltve!",IF($BD14=1,"Költségek üteme nem megfelelő (az időtartam és a költség üteme eltér)!",IF(AND(BH14=0,$BA14=1,$BJ14=1,$BD14=1),"Kötelező cellák kitöltve, de az I. ütem forrása hibás!",IF(AND(BJ14=0,$BA14=1,$BJ14=1,$BD14=1),"Kötelező cellák kitöltve, de a II. ütem forrása hibás!",IF(AND($BO14=1,$AZ14<30),"Nullás a rövidtávú feladat és rövid (hiányzik) a hozzá tartozó indoklás!",IF(AND($BP14=1,$AZ14<30),"Nullás a hosszútávú feladat és rövid (hiányzik) a hozzá tartozó indoklás!",IF(AND(BN14=1,C14="2011_RENDKÍVÜLI"),"II. ütemre nem tervezhet Rendkívüli feladatot!",IF(BH14=0,AD14,IF(BK14=0,AS14,IF(AND(BC14=1,$P14>$N14),"EM rendelet 2. melléklet terhére elszámolt költség nem lehet nagyobb az I. ütemre tervezett tényleges költségnél!",IF($AC14>$N14,"Többlet forrást jelölt meg az I. ütemnél! A forrás ne legyen több a költségnél.",IF($AQ14>$O14,"Többlet forrást jelölt meg a II. ütemnél! A forrás ne legyen több a költségnél.","Kitöltés rendben!")))))))))))))) -> Kitöltés rendben! | CF14: =IF(A14="Kitöltés rendben!",1,0) -> 1 | CG14: =IF(AND($BB14="R",$CF14=1),1,IF(AND($BB14="RH",$CF14=1),1,0)) -> 0 | CH14: =IF(AND($BB14="H",$CF14=1),1,IF(AND($BB14="RH",$CF14=1),1,0)) -> 1
... A887: =IF($G887="","Nincs VKR kiválasztva!",CE887) -> Kitöltés rendben! | B887: 1 | C887: 2121_VEZETÉK_GERINC | D887: Zalaszentgyörgy több helyszínen végzett szennyvízhálózat rekonstrukció | E887: nem áll rendelkezésre | F887: =VLOOKUP($G887,Összesítő!$B:$F,2,FALSE) -> 21-32054-1-048-01-10 | G887: Zalaegerszeg-SZV | H887: =AY887&"_"&AW887&"_FIV_"&LEFT(Előlap!$B$6,4) -> 3185_885_FIV_2026 | I887: =VLOOKUP($G887,Összesítő!$B:$F,5,FALSE) -> Alibánfa, Alsónemesapáti, Babosdöbréte, Bagod, Bak, Bocfölde, Boncodfölde, Böde, Búcsúszentlászló, Csatár, Csonkahegyhát, Dobronhegy, Egervár, Gősfa, Hagyárosbörönd, Hottó, Kávás, Kemendollár, Keménfa, Kisbucsa, Kiskutas, Kispáli, Lakhegy, Nagykutas, Nagypáli, Nemesapáti, Nemeshetés, Nemessándorháza, Nemesszentandrás, Németfalu, Ozmánbük, Pethőhenye, Pókaszepetk, Pusztaszentlászló, Salomvár, Sárhida, Söjtör, Teskánd, Vasboldogasszony, Vaspör, Vöckönd, Zalaboldogfa, Zalacséb, Zalaegerszeg, Zalaistvánd, Zalaszentgyörgy, Zalaszentiván, Zalaszentlőrinc | J887: =VLOOKUP($G887,Összesítő!$B:$F,4,FALSE) -> Alibánfa Község Önkormányzata, Alsónemesapáti Község Önkormányzata, Babosdöbréte Község Önkormányzata, Bagod Község Önkormányzata, Bak Község Önkormányzata, Bocfölde Község Önkormányzata, Boncodfölde Község Önkormányzata, Böde Község Önkormányzata, Búcsúszentlászló Község Önkormányzata, Csatár Község Önkormányzata, Csonkahegyhát Község Önkormányzata, Dobronhegy Község Önkormányzata, Egervár Község Önkormányzata, Gősfa Község Önkormányzata, Hagyárosbörönd Község Önkormányzata, Hottó Község Önkormányzata, Kávás Község Önkormányzata, Kemendollár Község Önkormányzata, Keménfa Község Önkormányzata, Kisbucsa Község Önkormányzata, Kiskutas Község Önkormányzata, Kispáli Község Önkormányzata, Lakhegy Község Önkormányzata, Nagykutas Község Önkormányzata, Nagypáli Község Önkormányzata, Nemesapáti Község Önkormányzata, Nemeshetés Község Önkormányzata, Nemessándorháza Község Önkormányzata, Nemesszentandrás Község Önkormányzata, Németfalu Község Önkormányzata, Ozmánbük Község Önkormányzata, Pethőhenye Község Önkormányzata, Pókaszepetk Község Önkormányzata, Pusztaszentlászló Község Önkormányzata, Salomvár Község Önkormányzata, Sárhida Község Önkormányzata, Söjtör Község Önkormányzata, Teskánd Község Önkormányzata, Vasboldogasszony Község Önkormányzata, Vaspör Község Önkormányzata, Vöckönd Község Önkormányzata, Zalaboldogfa Község Önkormányzata, Zalacséb Község Önkormányzata, Zalaegerszeg Megyei Jogú Város Önkormányzata, Zalaistvánd Község Önkormányzata, Zalaszentgyörgy Község Önkormányzata, Zalaszentiván Község Önkormányzata, Zalaszentlőrinc Község Önkormányzata | K887: =N887+O887 -> 1353 | L887: 2027 | M887: 2027 | N887: 1353 | O887: 0 | P887: 0 | R887: 1353 | S887: 0 | T887: 0 | U887: 0 | V887: 0 | W887: 0 | X887: 0 | Y887: 0 | Z887: 0 | AA887: 0 | AB887: 0 | AC887: =SUM(R887:AB887) -> 1353 | AD887: =IF($G887="","Nincs VKR kiválasztva!",IF(BA887=0,"Hiányos kitöltés!",BF887)) -> A forrás egyenlő a költséggel (I.ütem). | AF887: 0 | AG887: 0 | AH887: 0 | AI887: 0 | AJ887: 0 | AK887: 0 | AL887: 0 | AM887: 0 | AN887: 0 | AO887: 0 | AP887: 0 | AQ887: =SUM(AF887:AP887) -> 0 | AR887: nem | AS887: =IF($G887="","Nincs VKR kiválasztva!",IF($BA887=0,"Hiányos kitöltés!",IF($BN887=0,"Nem hosszútávú a feladat.",$BL887))) -> Nem hosszútávú a feladat. | AW887: =COUNTA($G$3:G887) -> 885 | AY887: =VLOOKUP($G887,Összesítő!$B:$F,3,FALSE) -> 3185 | AZ887: =LEN($AU887) -> 0 | BA887: =IF(OR($B887="",$C887="",$D887="",$E887="",$F887="",$L887="",$M887="",$N887="",$O887="",$P887=""),0,1) -> 1 | BB887: =IF($F887="",0,IF(AND($L887=2027,$M887=2027),"R",IF(AND($L887=2027,$M887>2027),"RH",IF(AND($L887>2027,$M887>2027),"H","x")))) -> R | BC887: =IF(OR(BB887="R",BB887="RH"),1,0) -> 1 | BD887: =IF(AND($BB887="R",$O887>0),1,IF(AND($BB887="H",$N887>0),1,0)) -> 0 | BE887: =IF($AC887<$N887,1,IF($AC887=$N887,0)) -> 0 | BF887: =IF($L887>2027,"Nem rövidtávú a feladat.",IF($BE887=1,"Az I. ütem nem lehet forráshiányos!",IF($AC887>$N887,"Többlet forrást jelölt meg az I. ütemnél! A forrás ne legyen több a költségnél.",IF($AC887=$N887,"A forrás egyenlő a költséggel (I.ütem).",0)))) -> A forrás egyenlő a költséggel (I.ütem). | BG887: =IF(AND($R887<>"",$S887<>"",$T887<>"",$U887<>"",$V887<>"",$W887<>"",$X887<>"",$Y887<>"",$Z887<>"",$AA887<>"",$AB887<>""),1,0) -> 1 | BH887: =IF(AND($BG887=1,$N887=$AC887),1,0) -> 1 | BI887: =IF($AQ887<$O887,1,0) -> 0 | BJ887: =IF(AND($AF887<>"",$AG887<>"",$AH887<>"",$AI887<>"",$AJ887<>"",$AK887<>"",$AL887<>"",$AM887<>"",$AN887<>"",$AO887<>"",$AP887<>""),1,0) -> 1 | BK887: =IF(AND($BJ887=1,$O887=$AQ887),1,IF(AND($BJ887=1,$O887>$AQ887,AR887="igen"),1,0)) -> 1 | BL887: =IF($M887<2028,"Nem hosszútávú a feladat.",IF(AND($BI887=1,$AR887="nem"),"Forráshiányos a feladat? Jelölje az AR-oszlopban!",IF(AND($BI887=0,$AR887="igen"),"Forráshiányosnak jelölte a feladat az AR-oszlopban, de a forrás költség adatok alapnján nem az!",IF(AND($BI887=1,$AR887="igen"),"Forráshiányos a feladat!",IF($AQ887>$O887,"Többlet forrást jelölt meg a II. ütemnél! A forrás ne legyen több a költségnél.",IF($AQ887=$O887,"A forrás egyenlő a költséggel (II.ütem).",0)))))) -> Nem hosszútávú a feladat. | BM887: =IF($M887<2028,1,0) -> 1 | BN887: =IF($M887>2027,1,0) -> 0 | BO887: =IF(AND($BM887=1,$N887=0),1,0) -> 0 | BP887: =IF(AND($BN887=1,$O887=0),1,0) -> 0 | BQ887: =IF(AND($BB887="R",$N887=0,$AZ887>29),1,IF(AND($BB887="RH",$N887=0,$AZ887>29),1,0)) -> 0 | BR887: =IF($BN887=0,"Nincs hosszútávú terv!",IF(AND($BB887="H",$O887=0,$AZ887=0),"Nullás a hosszútávú feladat és nincs hozzá indoklás!",IF(AND($BB887="RH",$O887=0,$AZ887=0),"Nullás a hosszútávú feladat és nincs hozzá indoklás!",IF(AND($BB887="R",$O887=0,$AZ887<300),"Nullás a hosszútávú feladat és rövid hozzá az indoklás!",IF(AND($BB887="RH",$O887=0,$AZ887<300),"Nullás a hosszútávú feladat és rövid hozzá az indoklás!",0))))) -> Nincs hosszútávú terv! | BS887: =IF(AND($BB887="R",$N887=0,$AZ887>29),1,IF(AND($BB887="RH",$N887=0,$AZ887>29),1,0)) -> 0 | BT887: =IF(AND($BB887="H",$O887=0,$AZ887>29),1,IF(AND($BB887="RH",$O887=0,$AZ887>29),1,0)) -> 0 | BU887: =IF($B887="",0,1) -> 1 | BV887: =IF($C887="",0,1) -> 1 | BW887: =IF($D887="",0,1) -> 1 | BX887: =IF($E887="",0,1) -> 1 | BY887: =IF($L887="",0,1) -> 1 | BZ887: =IF($M887="",0,1) -> 1 | CA887: =IF($N887="",0,1) -> 1 | CB887: =IF($O887="",0,1) -> 1 | CC887: =IF($P887="",0,1) -> 1 | CD887: =IF(AND($BA887=0,$BU887=0),"Hiányos kitöltés! (B-oszlop üres)",IF(AND($BA887=0,$BV887=0),"Hiányos kitöltés! (C-oszlop üres)",IF(AND($BA887=0,$BW887=0),"Hiányos kitöltés! (D-oszlop üres)",IF(AND($BA887=0,$BX887=0),"Hiányos kitöltés! (E-oszlop üres)",IF(AND($BA887=0,$BY887=0),"Hiányos kitöltés! (L-oszlop üres)",IF(AND($BA887=0,$BZ887=0),"Hiányos kitöltés! (M-oszlop üres)",IF(AND($BA887=0,$CA887=0),"Hiányos kitöltés! (N-oszlop üres)",IF(AND($BA887=0,$CB887=0),"Hiányos kitöltés! (O-oszlop üres)",IF(AND($BA887=0,$CC887=0),"Hiányos kitöltés! (P-oszlop üres)",IF(AND($BA887=0,$BG887=0),"Hiányos kitöltés! (I.ütem forrása hiányos!","?")))))))))) -> ? | CE887: =IF($BA887=0,$CD887,IF($BG887=0,"I. ütem forrása nincs kitöltve!",IF($BJ887=0,"II. ütem forrása nincs kitöltve!",IF($BD887=1,"Költségek üteme nem megfelelő (az időtartam és a költség üteme eltér)!",IF(AND(BH887=0,$BA887=1,$BJ887=1,$BD887=1),"Kötelező cellák kitöltve, de az I. ütem forrása hibás!",IF(AND(BJ887=0,$BA887=1,$BJ887=1,$BD887=1),"Kötelező cellák kitöltve, de a II. ütem forrása hibás!",IF(AND($BO887=1,$AZ887<30),"Nullás a rövidtávú feladat és rövid (hiányzik) a hozzá tartozó indoklás!",IF(AND($BP887=1,$AZ887<30),"Nullás a hosszútávú feladat és rövid (hiányzik) a hozzá tartozó indoklás!",IF(AND(BN887=1,C887="2011_RENDKÍVÜLI"),"II. ütemre nem tervezhet Rendkívüli feladatot!",IF(BH887=0,AD887,IF(BK887=0,AS887,IF(AND(BC887=1,$P887>$N887),"EM rendelet 2. melléklet terhére elszámolt költség nem lehet nagyobb az I. ütemre tervezett tényleges költségnél!",IF($AC887>$N887,"Többlet forrást jelölt meg az I. ütemnél! A forrás ne legyen több a költségnél.",IF($AQ887>$O887,"Többlet forrást jelölt meg a II. ütemnél! A forrás ne legyen több a költségnél.","Kitöltés rendben!")))))))))))))) -> Kitöltés rendben! | CF887: =IF(A887="Kitöltés rendben!",1,0) -> 1 | CG887: =IF(AND($BB887="R",$CF887=1),1,IF(AND($BB887="RH",$CF887=1),1,0)) -> 1 | CH887: =IF(AND($BB887="H",$CF887=1),1,IF(AND($BB887="RH",$CF887=1),1,0)) -> 0
A888: =IF($G888="","Nincs VKR kiválasztva!",CE888) -> Kitöltés rendben! | B888: 2 | C888: 2121_VEZETÉK_GERINC | D888: Zalaszentgyörgy idegenvíz kizárása a csatornadiagnosztikai vizsgálat és a helyszíni ellenőrzés alapján | E888: nem áll rendelkezésre | F888: =VLOOKUP($G888,Összesítő!$B:$F,2,FALSE) -> 21-32054-1-048-01-10 | G888: Zalaegerszeg-SZV | H888: =AY888&"_"&AW888&"_FIV_"&LEFT(Előlap!$B$6,4) -> 3185_886_FIV_2026 | I888: =VLOOKUP($G888,Összesítő!$B:$F,5,FALSE) -> Alibánfa, Alsónemesapáti, Babosdöbréte, Bagod, Bak, Bocfölde, Boncodfölde, Böde, Búcsúszentlászló, Csatár, Csonkahegyhát, Dobronhegy, Egervár, Gősfa, Hagyárosbörönd, Hottó, Kávás, Kemendollár, Keménfa, Kisbucsa, Kiskutas, Kispáli, Lakhegy, Nagykutas, Nagypáli, Nemesapáti, Nemeshetés, Nemessándorháza, Nemesszentandrás, Németfalu, Ozmánbük, Pethőhenye, Pókaszepetk, Pusztaszentlászló, Salomvár, Sárhida, Söjtör, Teskánd, Vasboldogasszony, Vaspör, Vöckönd, Zalaboldogfa, Zalacséb, Zalaegerszeg, Zalaistvánd, Zalaszentgyörgy, Zalaszentiván, Zalaszentlőrinc | J888: =VLOOKUP($G888,Összesítő!$B:$F,4,FALSE) -> Alibánfa Község Önkormányzata, Alsónemesapáti Község Önkormányzata, Babosdöbréte Község Önkormányzata, Bagod Község Önkormányzata, Bak Község Önkormányzata, Bocfölde Község Önkormányzata, Boncodfölde Község Önkormányzata, Böde Község Önkormányzata, Búcsúszentlászló Község Önkormányzata, Csatár Község Önkormányzata, Csonkahegyhát Község Önkormányzata, Dobronhegy Község Önkormányzata, Egervár Község Önkormányzata, Gősfa Község Önkormányzata, Hagyárosbörönd Község Önkormányzata, Hottó Község Önkormányzata, Kávás Község Önkormányzata, Kemendollár Község Önkormányzata, Keménfa Község Önkormányzata, Kisbucsa Község Önkormányzata, Kiskutas Község Önkormányzata, Kispáli Község Önkormányzata, Lakhegy Község Önkormányzata, Nagykutas Község Önkormányzata, Nagypáli Község Önkormányzata, Nemesapáti Község Önkormányzata, Nemeshetés Község Önkormányzata, Nemessándorháza Község Önkormányzata, Nemesszentandrás Község Önkormányzata, Németfalu Község Önkormányzata, Ozmánbük Község Önkormányzata, Pethőhenye Község Önkormányzata, Pókaszepetk Község Önkormányzata, Pusztaszentlászló Község Önkormányzata, Salomvár Község Önkormányzata, Sárhida Község Önkormányzata, Söjtör Község Önkormányzata, Teskánd Község Önkormányzata, Vasboldogasszony Község Önkormányzata, Vaspör Község Önkormányzata, Vöckönd Község Önkormányzata, Zalaboldogfa Község Önkormányzata, Zalacséb Község Önkormányzata, Zalaegerszeg Megyei Jogú Város Önkormányzata, Zalaistvánd Község Önkormányzata, Zalaszentgyörgy Község Önkormányzata, Zalaszentiván Község Önkormányzata, Zalaszentlőrinc Község Önkormányzata | K888: =N888+O888 -> 25000 | L888: 2036 | M888: 2036 | N888: 0 | O888: 25000 | P888: 0 | R888: 0 | S888: 0 | T888: 0 | U888: 0 | V888: 0 | W888: 0 | X888: 0 | Y888: 0 | Z888: 0 | AA888: 0 | AB888: 0 | AC888: =SUM(R888:AB888) -> 0 | AD888: =IF($G888="","Nincs VKR kiválasztva!",IF(BA888=0,"Hiányos kitöltés!",BF888)) -> Nem rövidtávú a feladat. | AF888: 0 | AG888: 0 | AH888: 0 | AI888: 0 | AJ888: 0 | AK888: 0 | AL888: 0 | AM888: 0 | AN888: 0 | AO888: 0 | AP888: 0 | AQ888: 0 | AR888: igen | AS888: =IF($G888="","Nincs VKR kiválasztva!",IF($BA888=0,"Hiányos kitöltés!",IF($BN888=0,"Nem hosszútávú a feladat.",$BL888))) -> Forráshiányos a feladat! | AW888: =COUNTA($G$3:G888) -> 886 | AY888: =VLOOKUP($G888,Összesítő!$B:$F,3,FALSE) -> 3185 | AZ888: =LEN($AU888) -> 0 | BA888: =IF(OR($B888="",$C888="",$D888="",$E888="",$F888="",$L888="",$M888="",$N888="",$O888="",$P888=""),0,1) -> 1 | BB888: =IF($F888="",0,IF(AND($L888=2027,$M888=2027),"R",IF(AND($L888=2027,$M888>2027),"RH",IF(AND($L888>2027,$M888>2027),"H","x")))) -> H | BC888: =IF(OR(BB888="R",BB888="RH"),1,0) -> 0 | BD888: =IF(AND($BB888="R",$O888>0),1,IF(AND($BB888="H",$N888>0),1,0)) -> 0 | BE888: =IF($AC888<$N888,1,IF($AC888=$N888,0)) -> 0 | BF888: =IF($L888>2027,"Nem rövidtávú a feladat.",IF($BE888=1,"Az I. ütem nem lehet forráshiányos!",IF($AC888>$N888,"Többlet forrást jelölt meg az I. ütemnél! A forrás ne legyen több a költségnél.",IF($AC888=$N888,"A forrás egyenlő a költséggel (I.ütem).",0)))) -> Nem rövidtávú a feladat. | BG888: =IF(AND($R888<>"",$S888<>"",$T888<>"",$U888<>"",$V888<>"",$W888<>"",$X888<>"",$Y888<>"",$Z888<>"",$AA888<>"",$AB888<>""),1,0) -> 1 | BH888: =IF(AND($BG888=1,$N888=$AC888),1,0) -> 1 | BI888: =IF($AQ888<$O888,1,0) -> 1 | BJ888: =IF(AND($AF888<>"",$AG888<>"",$AH888<>"",$AI888<>"",$AJ888<>"",$AK888<>"",$AL888<>"",$AM888<>"",$AN888<>"",$AO888<>"",$AP888<>""),1,0) -> 1 | BK888: =IF(AND($BJ888=1,$O888=$AQ888),1,IF(AND($BJ888=1,$O888>$AQ888,AR888="igen"),1,0)) -> 1 | BL888: =IF($M888<2028,"Nem hosszútávú a feladat.",IF(AND($BI888=1,$AR888="nem"),"Forráshiányos a feladat? Jelölje az AR-oszlopban!",IF(AND($BI888=0,$AR888="igen"),"Forráshiányosnak jelölte a feladat az AR-oszlopban, de a forrás költség adatok alapnján nem az!",IF(AND($BI888=1,$AR888="igen"),"Forráshiányos a feladat!",IF($AQ888>$O888,"Többlet forrást jelölt meg a II. ütemnél! A forrás ne legyen több a költségnél.",IF($AQ888=$O888,"A forrás egyenlő a költséggel (II.ütem).",0)))))) -> Forráshiányos a feladat! | BM888: =IF($M888<2028,1,0) -> 0 | BN888: =IF($M888>2027,1,0) -> 1 | BO888: =IF(AND($BM888=1,$N888=0),1,0) -> 0 | BP888: =IF(AND($BN888=1,$O888=0),1,0) -> 0 | BQ888: =IF(AND($BB888="R",$N888=0,$AZ888>29),1,IF(AND($BB888="RH",$N888=0,$AZ888>29),1,0)) -> 0 | BR888: =IF($BN888=0,"Nincs hosszútávú terv!",IF(AND($BB888="H",$O888=0,$AZ888=0),"Nullás a hosszútávú feladat és nincs hozzá indoklás!",IF(AND($BB888="RH",$O888=0,$AZ888=0),"Nullás a hosszútávú feladat és nincs hozzá indoklás!",IF(AND($BB888="R",$O888=0,$AZ888<300),"Nullás a hosszútávú feladat és rövid hozzá az indoklás!",IF(AND($BB888="RH",$O888=0,$AZ888<300),"Nullás a hosszútávú feladat és rövid hozzá az indoklás!",0))))) -> 0 | BS888: =IF(AND($BB888="R",$N888=0,$AZ888>29),1,IF(AND($BB888="RH",$N888=0,$AZ888>29),1,0)) -> 0 | BT888: =IF(AND($BB888="H",$O888=0,$AZ888>29),1,IF(AND($BB888="RH",$O888=0,$AZ888>29),1,0)) -> 0 | BU888: =IF($B888="",0,1) -> 1 | BV888: =IF($C888="",0,1) -> 1 | BW888: =IF($D888="",0,1) -> 1 | BX888: =IF($E888="",0,1) -> 1 | BY888: =IF($L888="",0,1) -> 1 | BZ888: =IF($M888="",0,1) -> 1 | CA888: =IF($N888="",0,1) -> 1 | CB888: =IF($O888="",0,1) -> 1 | CC888: =IF($P888="",0,1) -> 1 | CD888: =IF(AND($BA888=0,$BU888=0),"Hiányos kitöltés! (B-oszlop üres)",IF(AND($BA888=0,$BV888=0),"Hiányos kitöltés! (C-oszlop üres)",IF(AND($BA888=0,$BW888=0),"Hiányos kitöltés! (D-oszlop üres)",IF(AND($BA888=0,$BX888=0),"Hiányos kitöltés! (E-oszlop üres)",IF(AND($BA888=0,$BY888=0),"Hiányos kitöltés! (L-oszlop üres)",IF(AND($BA888=0,$BZ888=0),"Hiányos kitöltés! (M-oszlop üres)",IF(AND($BA888=0,$CA888=0),"Hiányos kitöltés! (N-oszlop üres)",IF(AND($BA888=0,$CB888=0),"Hiányos kitöltés! (O-oszlop üres)",IF(AND($BA888=0,$CC888=0),"Hiányos kitöltés! (P-oszlop üres)",IF(AND($BA888=0,$BG888=0),"Hiányos kitöltés! (I.ütem forrása hiányos!","?")))))))))) -> ? | CE888: =IF($BA888=0,$CD888,IF($BG888=0,"I. ütem forrása nincs kitöltve!",IF($BJ888=0,"II. ütem forrása nincs kitöltve!",IF($BD888=1,"Költségek üteme nem megfelelő (az időtartam és a költség üteme eltér)!",IF(AND(BH888=0,$BA888=1,$BJ888=1,$BD888=1),"Kötelező cellák kitöltve, de az I. ütem forrása hibás!",IF(AND(BJ888=0,$BA888=1,$BJ888=1,$BD888=1),"Kötelező cellák kitöltve, de a II. ütem forrása hibás!",IF(AND($BO888=1,$AZ888<30),"Nullás a rövidtávú feladat és rövid (hiányzik) a hozzá tartozó indoklás!",IF(AND($BP888=1,$AZ888<30),"Nullás a hosszútávú feladat és rövid (hiányzik) a hozzá tartozó indoklás!",IF(AND(BN888=1,C888="2011_RENDKÍVÜLI"),"II. ütemre nem tervezhet Rendkívüli feladatot!",IF(BH888=0,AD888,IF(BK888=0,AS888,IF(AND(BC888=1,$P888>$N888),"EM rendelet 2. melléklet terhére elszámolt költség nem lehet nagyobb az I. ütemre tervezett tényleges költségnél!",IF($AC888>$N888,"Többlet forrást jelölt meg az I. ütemnél! A forrás ne legyen több a költségnél.",IF($AQ888>$O888,"Többlet forrást jelölt meg a II. ütemnél! A forrás ne legyen több a költségnél.","Kitöltés rendben!")))))))))))))) -> Kitöltés rendben! | CF888: =IF(A888="Kitöltés rendben!",1,0) -> 1 | CG888: =IF(AND($BB888="R",$CF888=1),1,IF(AND($BB888="RH",$CF888=1),1,0)) -> 0 | CH888: =IF(AND($BB888="H",$CF888=1),1,IF(AND($BB888="RH",$CF888=1),1,0)) -> 1
A889: =IF($G889="","Nincs VKR kiválasztva!",CE889) -> Kitöltés rendben! | B889: 2 | C889: 2121_VEZETÉK_GERINC | D889: Zalaszentgyörgy gravitációs csatorna rekonstrukció | E889: nem áll rendelkezésre | F889: =VLOOKUP($G889,Összesítő!$B:$F,2,FALSE) -> 21-32054-1-048-01-10 | G889: Zalaegerszeg-SZV | H889: =AY889&"_"&AW889&"_FIV_"&LEFT(Előlap!$B$6,4) -> 3185_887_FIV_2026 | I889: =VLOOKUP($G889,Összesítő!$B:$F,5,FALSE) -> Alibánfa, Alsónemesapáti, Babosdöbréte, Bagod, Bak, Bocfölde, Boncodfölde, Böde, Búcsúszentlászló, Csatár, Csonkahegyhát, Dobronhegy, Egervár, Gősfa, Hagyárosbörönd, Hottó, Kávás, Kemendollár, Keménfa, Kisbucsa, Kiskutas, Kispáli, Lakhegy, Nagykutas, Nagypáli, Nemesapáti, Nemeshetés, Nemessándorháza, Nemesszentandrás, Németfalu, Ozmánbük, Pethőhenye, Pókaszepetk, Pusztaszentlászló, Salomvár, Sárhida, Söjtör, Teskánd, Vasboldogasszony, Vaspör, Vöckönd, Zalaboldogfa, Zalacséb, Zalaegerszeg, Zalaistvánd, Zalaszentgyörgy, Zalaszentiván, Zalaszentlőrinc | J889: =VLOOKUP($G889,Összesítő!$B:$F,4,FALSE) -> Alibánfa Község Önkormányzata, Alsónemesapáti Község Önkormányzata, Babosdöbréte Község Önkormányzata, Bagod Község Önkormányzata, Bak Község Önkormányzata, Bocfölde Község Önkormányzata, Boncodfölde Község Önkormányzata, Böde Község Önkormányzata, Búcsúszentlászló Község Önkormányzata, Csatár Község Önkormányzata, Csonkahegyhát Község Önkormányzata, Dobronhegy Község Önkormányzata, Egervár Község Önkormányzata, Gősfa Község Önkormányzata, Hagyárosbörönd Község Önkormányzata, Hottó Község Önkormányzata, Kávás Község Önkormányzata, Kemendollár Község Önkormányzata, Keménfa Község Önkormányzata, Kisbucsa Község Önkormányzata, Kiskutas Község Önkormányzata, Kispáli Község Önkormányzata, Lakhegy Község Önkormányzata, Nagykutas Község Önkormányzata, Nagypáli Község Önkormányzata, Nemesapáti Község Önkormányzata, Nemeshetés Község Önkormányzata, Nemessándorháza Község Önkormányzata, Nemesszentandrás Község Önkormányzata, Németfalu Község Önkormányzata, Ozmánbük Község Önkormányzata, Pethőhenye Község Önkormányzata, Pókaszepetk Község Önkormányzata, Pusztaszentlászló Község Önkormányzata, Salomvár Község Önkormányzata, Sárhida Község Önkormányzata, Söjtör Község Önkormányzata, Teskánd Község Önkormányzata, Vasboldogasszony Község Önkormányzata, Vaspör Község Önkormányzata, Vöckönd Község Önkormányzata, Zalaboldogfa Község Önkormányzata, Zalacséb Község Önkormányzata, Zalaegerszeg Megyei Jogú Város Önkormányzata, Zalaistvánd Község Önkormányzata, Zalaszentgyörgy Község Önkormányzata, Zalaszentiván Község Önkormányzata, Zalaszentlőrinc Község Önkormányzata | K889: =N889+O889 -> 17600 | L889: 2028 | M889: 2036 | N889: 0 | O889: 17600 | P889: 0 | R889: 0 | S889: 0 | T889: 0 | U889: 0 | V889: 0 | W889: 0 | X889: 0 | Y889: 0 | Z889: 0 | AA889: 0 | AB889: 0 | AC889: =SUM(R889:AB889) -> 0 | AD889: =IF($G889="","Nincs VKR kiválasztva!",IF(BA889=0,"Hiányos kitöltés!",BF889)) -> Nem rövidtávú a feladat. | AF889: 0 | AG889: 0 | AH889: 0 | AI889: 0 | AJ889: 0 | AK889: 0 | AL889: 0 | AM889: 0 | AN889: 0 | AO889: 0 | AP889: 0 | AQ889: =SUM(AF889:AP889) -> 0 | AR889: igen | AS889: =IF($G889="","Nincs VKR kiválasztva!",IF($BA889=0,"Hiányos kitöltés!",IF($BN889=0,"Nem hosszútávú a feladat.",$BL889))) -> Forráshiányos a feladat! | AW889: =COUNTA($G$3:G889) -> 887 | AY889: =VLOOKUP($G889,Összesítő!$B:$F,3,FALSE) -> 3185 | AZ889: =LEN($AU889) -> 0 | BA889: =IF(OR($B889="",$C889="",$D889="",$E889="",$F889="",$L889="",$M889="",$N889="",$O889="",$P889=""),0,1) -> 1 | BB889: =IF($F889="",0,IF(AND($L889=2027,$M889=2027),"R",IF(AND($L889=2027,$M889>2027),"RH",IF(AND($L889>2027,$M889>2027),"H","x")))) -> H | BC889: =IF(OR(BB889="R",BB889="RH"),1,0) -> 0 | BD889: =IF(AND($BB889="R",$O889>0),1,IF(AND($BB889="H",$N889>0),1,0)) -> 0 | BE889: =IF($AC889<$N889,1,IF($AC889=$N889,0)) -> 0 | BF889: =IF($L889>2027,"Nem rövidtávú a feladat.",IF($BE889=1,"Az I. ütem nem lehet forráshiányos!",IF($AC889>$N889,"Többlet forrást jelölt meg az I. ütemnél! A forrás ne legyen több a költségnél.",IF($AC889=$N889,"A forrás egyenlő a költséggel (I.ütem).",0)))) -> Nem rövidtávú a feladat. | BG889: =IF(AND($R889<>"",$S889<>"",$T889<>"",$U889<>"",$V889<>"",$W889<>"",$X889<>"",$Y889<>"",$Z889<>"",$AA889<>"",$AB889<>""),1,0) -> 1 | BH889: =IF(AND($BG889=1,$N889=$AC889),1,0) -> 1 | BI889: =IF($AQ889<$O889,1,0) -> 1 | BJ889: =IF(AND($AF889<>"",$AG889<>"",$AH889<>"",$AI889<>"",$AJ889<>"",$AK889<>"",$AL889<>"",$AM889<>"",$AN889<>"",$AO889<>"",$AP889<>""),1,0) -> 1 | BK889: =IF(AND($BJ889=1,$O889=$AQ889),1,IF(AND($BJ889=1,$O889>$AQ889,AR889="igen"),1,0)) -> 1 | BL889: =IF($M889<2028,"Nem hosszútávú a feladat.",IF(AND($BI889=1,$AR889="nem"),"Forráshiányos a feladat? Jelölje az AR-oszlopban!",IF(AND($BI889=0,$AR889="igen"),"Forráshiányosnak jelölte a feladat az AR-oszlopban, de a forrás költség adatok alapnján nem az!",IF(AND($BI889=1,$AR889="igen"),"Forráshiányos a feladat!",IF($AQ889>$O889,"Többlet forrást jelölt meg a II. ütemnél! A forrás ne legyen több a költségnél.",IF($AQ889=$O889,"A forrás egyenlő a költséggel (II.ütem).",0)))))) -> Forráshiányos a feladat! | BM889: =IF($M889<2028,1,0) -> 0 | BN889: =IF($M889>2027,1,0) -> 1 | BO889: =IF(AND($BM889=1,$N889=0),1,0) -> 0 | BP889: =IF(AND($BN889=1,$O889=0),1,0) -> 0 | BQ889: =IF(AND($BB889="R",$N889=0,$AZ889>29),1,IF(AND($BB889="RH",$N889=0,$AZ889>29),1,0)) -> 0 | BR889: =IF($BN889=0,"Nincs hosszútávú terv!",IF(AND($BB889="H",$O889=0,$AZ889=0),"Nullás a hosszútávú feladat és nincs hozzá indoklás!",IF(AND($BB889="RH",$O889=0,$AZ889=0),"Nullás a hosszútávú feladat és nincs hozzá indoklás!",IF(AND($BB889="R",$O889=0,$AZ889<300),"Nullás a hosszútávú feladat és rövid hozzá az indoklás!",IF(AND($BB889="RH",$O889=0,$AZ889<300),"Nullás a hosszútávú feladat és rövid hozzá az indoklás!",0))))) -> 0 | BS889: =IF(AND($BB889="R",$N889=0,$AZ889>29),1,IF(AND($BB889="RH",$N889=0,$AZ889>29),1,0)) -> 0 | BT889: =IF(AND($BB889="H",$O889=0,$AZ889>29),1,IF(AND($BB889="RH",$O889=0,$AZ889>29),1,0)) -> 0 | BU889: =IF($B889="",0,1) -> 1 | BV889: =IF($C889="",0,1) -> 1 | BW889: =IF($D889="",0,1) -> 1 | BX889: =IF($E889="",0,1) -> 1 | BY889: =IF($L889="",0,1) -> 1 | BZ889: =IF($M889="",0,1) -> 1 | CA889: =IF($N889="",0,1) -> 1 | CB889: =IF($O889="",0,1) -> 1 | CC889: =IF($P889="",0,1) -> 1 | CD889: =IF(AND($BA889=0,$BU889=0),"Hiányos kitöltés! (B-oszlop üres)",IF(AND($BA889=0,$BV889=0),"Hiányos kitöltés! (C-oszlop üres)",IF(AND($BA889=0,$BW889=0),"Hiányos kitöltés! (D-oszlop üres)",IF(AND($BA889=0,$BX889=0),"Hiányos kitöltés! (E-oszlop üres)",IF(AND($BA889=0,$BY889=0),"Hiányos kitöltés! (L-oszlop üres)",IF(AND($BA889=0,$BZ889=0),"Hiányos kitöltés! (M-oszlop üres)",IF(AND($BA889=0,$CA889=0),"Hiányos kitöltés! (N-oszlop üres)",IF(AND($BA889=0,$CB889=0),"Hiányos kitöltés! (O-oszlop üres)",IF(AND($BA889=0,$CC889=0),"Hiányos kitöltés! (P-oszlop üres)",IF(AND($BA889=0,$BG889=0),"Hiányos kitöltés! (I.ütem forrása hiányos!","?")))))))))) -> ? | CE889: =IF($BA889=0,$CD889,IF($BG889=0,"I. ütem forrása nincs kitöltve!",IF($BJ889=0,"II. ütem forrása nincs kitöltve!",IF($BD889=1,"Költségek üteme nem megfelelő (az időtartam és a költség üteme eltér)!",IF(AND(BH889=0,$BA889=1,$BJ889=1,$BD889=1),"Kötelező cellák kitöltve, de az I. ütem forrása hibás!",IF(AND(BJ889=0,$BA889=1,$BJ889=1,$BD889=1),"Kötelező cellák kitöltve, de a II. ütem forrása hibás!",IF(AND($BO889=1,$AZ889<30),"Nullás a rövidtávú feladat és rövid (hiányzik) a hozzá tartozó indoklás!",IF(AND($BP889=1,$AZ889<30),"Nullás a hosszútávú feladat és rövid (hiányzik) a hozzá tartozó indoklás!",IF(AND(BN889=1,C889="2011_RENDKÍVÜLI"),"II. ütemre nem tervezhet Rendkívüli feladatot!",IF(BH889=0,AD889,IF(BK889=0,AS889,IF(AND(BC889=1,$P889>$N889),"EM rendelet 2. melléklet terhére elszámolt költség nem lehet nagyobb az I. ütemre tervezett tényleges költségnél!",IF($AC889>$N889,"Többlet forrást jelölt meg az I. ütemnél! A forrás ne legyen több a költségnél.",IF($AQ889>$O889,"Többlet forrást jelölt meg a II. ütemnél! A forrás ne legyen több a költségnél.","Kitöltés rendben!")))))))))))))) -> Kitöltés rendben! | CF889: =IF(A889="Kitöltés rendben!",1,0) -> 1 | CG889: =IF(AND($BB889="R",$CF889=1),1,IF(AND($BB889="RH",$CF889=1),1,0)) -> 0 | CH889: =IF(AND($BB889="H",$CF889=1),1,IF(AND($BB889="RH",$CF889=1),1,0)) -> 1
A890: =IF($G890="","Nincs VKR kiválasztva!",CE890) -> Kitöltés rendben! | B890: 2 | C890: 2121_VEZETÉK_GERINC | D890: Zalaszentgyörgy nyomott vezeték rekonstrukció | E890: nem áll rendelkezésre | F890: =VLOOKUP($G890,Összesítő!$B:$F,2,FALSE) -> 21-32054-1-048-01-10 | G890: Zalaegerszeg-SZV | H890: =AY890&"_"&AW890&"_FIV_"&LEFT(Előlap!$B$6,4) -> 3185_888_FIV_2026 | I890: =VLOOKUP($G890,Összesítő!$B:$F,5,FALSE) -> Alibánfa, Alsónemesapáti, Babosdöbréte, Bagod, Bak, Bocfölde, Boncodfölde, Böde, Búcsúszentlászló, Csatár, Csonkahegyhát, Dobronhegy, Egervár, Gősfa, Hagyárosbörönd, Hottó, Kávás, Kemendollár, Keménfa, Kisbucsa, Kiskutas, Kispáli, Lakhegy, Nagykutas, Nagypáli, Nemesapáti, Nemeshetés, Nemessándorháza, Nemesszentandrás, Németfalu, Ozmánbük, Pethőhenye, Pókaszepetk, Pusztaszentlászló, Salomvár, Sárhida, Söjtör, Teskánd, Vasboldogasszony, Vaspör, Vöckönd, Zalaboldogfa, Zalacséb, Zalaegerszeg, Zalaistvánd, Zalaszentgyörgy, Zalaszentiván, Zalaszentlőrinc | J890: =VLOOKUP($G890,Összesítő!$B:$F,4,FALSE) -> Alibánfa Község Önkormányzata, Alsónemesapáti Község Önkormányzata, Babosdöbréte Község Önkormányzata, Bagod Község Önkormányzata, Bak Község Önkormányzata, Bocfölde Község Önkormányzata, Boncodfölde Község Önkormányzata, Böde Község Önkormányzata, Búcsúszentlászló Község Önkormányzata, Csatár Község Önkormányzata, Csonkahegyhát Község Önkormányzata, Dobronhegy Község Önkormányzata, Egervár Község Önkormányzata, Gősfa Község Önkormányzata, Hagyárosbörönd Község Önkormányzata, Hottó Község Önkormányzata, Kávás Község Önkormányzata, Kemendollár Község Önkormányzata, Keménfa Község Önkormányzata, Kisbucsa Község Önkormányzata, Kiskutas Község Önkormányzata, Kispáli Község Önkormányzata, Lakhegy Község Önkormányzata, Nagykutas Község Önkormányzata, Nagypáli Község Önkormányzata, Nemesapáti Község Önkormányzata, Nemeshetés Község Önkormányzata, Nemessándorháza Község Önkormányzata, Nemesszentandrás Község Önkormányzata, Németfalu Község Önkormányzata, Ozmánbük Község Önkormányzata, Pethőhenye Község Önkormányzata, Pókaszepetk Község Önkormányzata, Pusztaszentlászló Község Önkormányzata, Salomvár Község Önkormányzata, Sárhida Község Önkormányzata, Söjtör Község Önkormányzata, Teskánd Község Önkormányzata, Vasboldogasszony Község Önkormányzata, Vaspör Község Önkormányzata, Vöckönd Község Önkormányzata, Zalaboldogfa Község Önkormányzata, Zalacséb Község Önkormányzata, Zalaegerszeg Megyei Jogú Város Önkormányzata, Zalaistvánd Község Önkormányzata, Zalaszentgyörgy Község Önkormányzata, Zalaszentiván Község Önkormányzata, Zalaszentlőrinc Község Önkormányzata | K890: =N890+O890 -> 6000 | L890: 2028 | M890: 2033 | N890: 0 | O890: 6000 | P890: 0 | R890: 0 | S890: 0 | T890: 0 | U890: 0 | V890: 0 | W890: 0 | X890: 0 | Y890: 0 | Z890: 0 | AA890: 0 | AB890: 0 | AC890: =SUM(R890:AB890) -> 0 | AD890: =IF($G890="","Nincs VKR kiválasztva!",IF(BA890=0,"Hiányos kitöltés!",BF890)) -> Nem rövidtávú a feladat. | AF890: 0 | AG890: 0 | AH890: 0 | AI890: 0 | AJ890: 0 | AK890: 0 | AL890: 0 | AM890: 0 | AN890: 0 | AO890: 0 | AP890: 0 | AQ890: =SUM(AF890:AP890) -> 0 | AR890: igen | AS890: =IF($G890="","Nincs VKR kiválasztva!",IF($BA890=0,"Hiányos kitöltés!",IF($BN890=0,"Nem hosszútávú a feladat.",$BL890))) -> Forráshiányos a feladat! | AW890: =COUNTA($G$3:G890) -> 888 | AY890: =VLOOKUP($G890,Összesítő!$B:$F,3,FALSE) -> 3185 | AZ890: =LEN($AU890) -> 0 | BA890: =IF(OR($B890="",$C890="",$D890="",$E890="",$F890="",$L890="",$M890="",$N890="",$O890="",$P890=""),0,1) -> 1 | BB890: =IF($F890="",0,IF(AND($L890=2027,$M890=2027),"R",IF(AND($L890=2027,$M890>2027),"RH",IF(AND($L890>2027,$M890>2027),"H","x")))) -> H | BC890: =IF(OR(BB890="R",BB890="RH"),1,0) -> 0 | BD890: =IF(AND($BB890="R",$O890>0),1,IF(AND($BB890="H",$N890>0),1,0)) -> 0 | BE890: =IF($AC890<$N890,1,IF($AC890=$N890,0)) -> 0 | BF890: =IF($L890>2027,"Nem rövidtávú a feladat.",IF($BE890=1,"Az I. ütem nem lehet forráshiányos!",IF($AC890>$N890,"Többlet forrást jelölt meg az I. ütemnél! A forrás ne legyen több a költségnél.",IF($AC890=$N890,"A forrás egyenlő a költséggel (I.ütem).",0)))) -> Nem rövidtávú a feladat. | BG890: =IF(AND($R890<>"",$S890<>"",$T890<>"",$U890<>"",$V890<>"",$W890<>"",$X890<>"",$Y890<>"",$Z890<>"",$AA890<>"",$AB890<>""),1,0) -> 1 | BH890: =IF(AND($BG890=1,$N890=$AC890),1,0) -> 1 | BI890: =IF($AQ890<$O890,1,0) -> 1 | BJ890: =IF(AND($AF890<>"",$AG890<>"",$AH890<>"",$AI890<>"",$AJ890<>"",$AK890<>"",$AL890<>"",$AM890<>"",$AN890<>"",$AO890<>"",$AP890<>""),1,0) -> 1 | BK890: =IF(AND($BJ890=1,$O890=$AQ890),1,IF(AND($BJ890=1,$O890>$AQ890,AR890="igen"),1,0)) -> 1 | BL890: =IF($M890<2028,"Nem hosszútávú a feladat.",IF(AND($BI890=1,$AR890="nem"),"Forráshiányos a feladat? Jelölje az AR-oszlopban!",IF(AND($BI890=0,$AR890="igen"),"Forráshiányosnak jelölte a feladat az AR-oszlopban, de a forrás költség adatok alapnján nem az!",IF(AND($BI890=1,$AR890="igen"),"Forráshiányos a feladat!",IF($AQ890>$O890,"Többlet forrást jelölt meg a II. ütemnél! A forrás ne legyen több a költségnél.",IF($AQ890=$O890,"A forrás egyenlő a költséggel (II.ütem).",0)))))) -> Forráshiányos a feladat! | BM890: =IF($M890<2028,1,0) -> 0 | BN890: =IF($M890>2027,1,0) -> 1 | BO890: =IF(AND($BM890=1,$N890=0),1,0) -> 0 | BP890: =IF(AND($BN890=1,$O890=0),1,0) -> 0 | BQ890: =IF(AND($BB890="R",$N890=0,$AZ890>29),1,IF(AND($BB890="RH",$N890=0,$AZ890>29),1,0)) -> 0 | BR890: =IF($BN890=0,"Nincs hosszútávú terv!",IF(AND($BB890="H",$O890=0,$AZ890=0),"Nullás a hosszútávú feladat és nincs hozzá indoklás!",IF(AND($BB890="RH",$O890=0,$AZ890=0),"Nullás a hosszútávú feladat és nincs hozzá indoklás!",IF(AND($BB890="R",$O890=0,$AZ890<300),"Nullás a hosszútávú feladat és rövid hozzá az indoklás!",IF(AND($BB890="RH",$O890=0,$AZ890<300),"Nullás a hosszútávú feladat és rövid hozzá az indoklás!",0))))) -> 0 | BS890: =IF(AND($BB890="R",$N890=0,$AZ890>29),1,IF(AND($BB890="RH",$N890=0,$AZ890>29),1,0)) -> 0 | BT890: =IF(AND($BB890="H",$O890=0,$AZ890>29),1,IF(AND($BB890="RH",$O890=0,$AZ890>29),1,0)) -> 0 | BU890: =IF($B890="",0,1) -> 1 | BV890: =IF($C890="",0,1) -> 1 | BW890: =IF($D890="",0,1) -> 1 | BX890: =IF($E890="",0,1) -> 1 | BY890: =IF($L890="",0,1) -> 1 | BZ890: =IF($M890="",0,1) -> 1 | CA890: =IF($N890="",0,1) -> 1 | CB890: =IF($O890="",0,1) -> 1 | CC890: =IF($P890="",0,1) -> 1 | CD890: =IF(AND($BA890=0,$BU890=0),"Hiányos kitöltés! (B-oszlop üres)",IF(AND($BA890=0,$BV890=0),"Hiányos kitöltés! (C-oszlop üres)",IF(AND($BA890=0,$BW890=0),"Hiányos kitöltés! (D-oszlop üres)",IF(AND($BA890=0,$BX890=0),"Hiányos kitöltés! (E-oszlop üres)",IF(AND($BA890=0,$BY890=0),"Hiányos kitöltés! (L-oszlop üres)",IF(AND($BA890=0,$BZ890=0),"Hiányos kitöltés! (M-oszlop üres)",IF(AND($BA890=0,$CA890=0),"Hiányos kitöltés! (N-oszlop üres)",IF(AND($BA890=0,$CB890=0),"Hiányos kitöltés! (O-oszlop üres)",IF(AND($BA890=0,$CC890=0),"Hiányos kitöltés! (P-oszlop üres)",IF(AND($BA890=0,$BG890=0),"Hiányos kitöltés! (I.ütem forrása hiányos!","?")))))))))) -> ? | CE890: =IF($BA890=0,$CD890,IF($BG890=0,"I. ütem forrása nincs kitöltve!",IF($BJ890=0,"II. ütem forrása nincs kitöltve!",IF($BD890=1,"Költségek üteme nem megfelelő (az időtartam és a költség üteme eltér)!",IF(AND(BH890=0,$BA890=1,$BJ890=1,$BD890=1),"Kötelező cellák kitöltve, de az I. ütem forrása hibás!",IF(AND(BJ890=0,$BA890=1,$BJ890=1,$BD890=1),"Kötelező cellák kitöltve, de a II. ütem forrása hibás!",IF(AND($BO890=1,$AZ890<30),"Nullás a rövidtávú feladat és rövid (hiányzik) a hozzá tartozó indoklás!",IF(AND($BP890=1,$AZ890<30),"Nullás a hosszútávú feladat és rövid (hiányzik) a hozzá tartozó indoklás!",IF(AND(BN890=1,C890="2011_RENDKÍVÜLI"),"II. ütemre nem tervezhet Rendkívüli feladatot!",IF(BH890=0,AD890,IF(BK890=0,AS890,IF(AND(BC890=1,$P890>$N890),"EM rendelet 2. melléklet terhére elszámolt költség nem lehet nagyobb az I. ütemre tervezett tényleges költségnél!",IF($AC890>$N890,"Többlet forrást jelölt meg az I. ütemnél! A forrás ne legyen több a költségnél.",IF($AQ890>$O890,"Többlet forrást jelölt meg a II. ütemnél! A forrás ne legyen több a költségnél.","Kitöltés rendben!")))))))))))))) -> Kitöltés rendben! | CF890: =IF(A890="Kitöltés rendben!",1,0) -> 1 | CG890: =IF(AND($BB890="R",$CF890=1),1,IF(AND($BB890="RH",$CF890=1),1,0)) -> 0 | CH890: =IF(AND($BB890="H",$CF890=1),1,IF(AND($BB890="RH",$CF890=1),1,0)) -> 1
A891: =IF($G891="","Nincs VKR kiválasztva!",CE891) -> Kitöltés rendben! | B891: 2 | C891: 2221_AKNA_ÉPÍTÉSZET | D891: Zalaszentgyörgy átemelő akna építészeti rekonstrukció | E891: nem áll rendelkezésre | F891: =VLOOKUP($G891,Összesítő!$B:$F,2,FALSE) -> 21-32054-1-048-01-10 | G891: Zalaegerszeg-SZV | H891: =AY891&"_"&AW891&"_FIV_"&LEFT(Előlap!$B$6,4) -> 3185_889_FIV_2026 | I891: =VLOOKUP($G891,Összesítő!$B:$F,5,FALSE) -> Alibánfa, Alsónemesapáti, Babosdöbréte, Bagod, Bak, Bocfölde, Boncodfölde, Böde, Búcsúszentlászló, Csatár, Csonkahegyhát, Dobronhegy, Egervár, Gősfa, Hagyárosbörönd, Hottó, Kávás, Kemendollár, Keménfa, Kisbucsa, Kiskutas, Kispáli, Lakhegy, Nagykutas, Nagypáli, Nemesapáti, Nemeshetés, Nemessándorháza, Nemesszentandrás, Németfalu, Ozmánbük, Pethőhenye, Pókaszepetk, Pusztaszentlászló, Salomvár, Sárhida, Söjtör, Teskánd, Vasboldogasszony, Vaspör, Vöckönd, Zalaboldogfa, Zalacséb, Zalaegerszeg, Zalaistvánd, Zalaszentgyörgy, Zalaszentiván, Zalaszentlőrinc | J891: =VLOOKUP($G891,Összesítő!$B:$F,4,FALSE) -> Alibánfa Község Önkormányzata, Alsónemesapáti Község Önkormányzata, Babosdöbréte Község Önkormányzata, Bagod Község Önkormányzata, Bak Község Önkormányzata, Bocfölde Község Önkormányzata, Boncodfölde Község Önkormányzata, Böde Község Önkormányzata, Búcsúszentlászló Község Önkormányzata, Csatár Község Önkormányzata, Csonkahegyhát Község Önkormányzata, Dobronhegy Község Önkormányzata, Egervár Község Önkormányzata, Gősfa Község Önkormányzata, Hagyárosbörönd Község Önkormányzata, Hottó Község Önkormányzata, Kávás Község Önkormányzata, Kemendollár Község Önkormányzata, Keménfa Község Önkormányzata, Kisbucsa Község Önkormányzata, Kiskutas Község Önkormányzata, Kispáli Község Önkormányzata, Lakhegy Község Önkormányzata, Nagykutas Község Önkormányzata, Nagypáli Község Önkormányzata, Nemesapáti Község Önkormányzata, Nemeshetés Község Önkormányzata, Nemessándorháza Község Önkormányzata, Nemesszentandrás Község Önkormányzata, Németfalu Község Önkormányzata, Ozmánbük Község Önkormányzata, Pethőhenye Község Önkormányzata, Pókaszepetk Község Önkormányzata, Pusztaszentlászló Község Önkormányzata, Salomvár Község Önkormányzata, Sárhida Község Önkormányzata, Söjtör Község Önkormányzata, Teskánd Község Önkormányzata, Vasboldogasszony Község Önkormányzata, Vaspör Község Önkormányzata, Vöckönd Község Önkormányzata, Zalaboldogfa Község Önkormányzata, Zalacséb Község Önkormányzata, Zalaegerszeg Megyei Jogú Város Önkormányzata, Zalaistvánd Község Önkormányzata, Zalaszentgyörgy Község Önkormányzata, Zalaszentiván Község Önkormányzata, Zalaszentlőrinc Község Önkormányzata | K891: =N891+O891 -> 7480 | L891: 2028 | M891: 2036 | N891: 0 | O891: 7480 | P891: 0 | R891: 0 | S891: 0 | T891: 0 | U891: 0 | V891: 0 | W891: 0 | X891: 0 | Y891: 0 | Z891: 0 | AA891: 0 | AB891: 0 | AC891: =SUM(R891:AB891) -> 0 | AD891: =IF($G891="","Nincs VKR kiválasztva!",IF(BA891=0,"Hiányos kitöltés!",BF891)) -> Nem rövidtávú a feladat. | AF891: 0 | AG891: 0 | AH891: 0 | AI891: 0 | AJ891: 0 | AK891: 0 | AL891: 0 | AM891: 0 | AN891: 0 | AO891: 0 | AP891: 0 | AQ891: =SUM(AF891:AP891) -> 0 | AR891: igen | AS891: =IF($G891="","Nincs VKR kiválasztva!",IF($BA891=0,"Hiányos kitöltés!",IF($BN891=0,"Nem hosszútávú a feladat.",$BL891))) -> Forráshiányos a feladat! | AW891: =COUNTA($G$3:G891) -> 889 | AY891: =VLOOKUP($G891,Összesítő!$B:$F,3,FALSE) -> 3185 | AZ891: =LEN($AU891) -> 0 | BA891: =IF(OR($B891="",$C891="",$D891="",$E891="",$F891="",$L891="",$M891="",$N891="",$O891="",$P891=""),0,1) -> 1 | BB891: =IF($F891="",0,IF(AND($L891=2027,$M891=2027),"R",IF(AND($L891=2027,$M891>2027),"RH",IF(AND($L891>2027,$M891>2027),"H","x")))) -> H | BC891: =IF(OR(BB891="R",BB891="RH"),1,0) -> 0 | BD891: =IF(AND($BB891="R",$O891>0),1,IF(AND($BB891="H",$N891>0),1,0)) -> 0 | BE891: =IF($AC891<$N891,1,IF($AC891=$N891,0)) -> 0 | BF891: =IF($L891>2027,"Nem rövidtávú a feladat.",IF($BE891=1,"Az I. ütem nem lehet forráshiányos!",IF($AC891>$N891,"Többlet forrást jelölt meg az I. ütemnél! A forrás ne legyen több a költségnél.",IF($AC891=$N891,"A forrás egyenlő a költséggel (I.ütem).",0)))) -> Nem rövidtávú a feladat. | BG891: =IF(AND($R891<>"",$S891<>"",$T891<>"",$U891<>"",$V891<>"",$W891<>"",$X891<>"",$Y891<>"",$Z891<>"",$AA891<>"",$AB891<>""),1,0) -> 1 | BH891: =IF(AND($BG891=1,$N891=$AC891),1,0) -> 1 | BI891: =IF($AQ891<$O891,1,0) -> 1 | BJ891: =IF(AND($AF891<>"",$AG891<>"",$AH891<>"",$AI891<>"",$AJ891<>"",$AK891<>"",$AL891<>"",$AM891<>"",$AN891<>"",$AO891<>"",$AP891<>""),1,0) -> 1 | BK891: =IF(AND($BJ891=1,$O891=$AQ891),1,IF(AND($BJ891=1,$O891>$AQ891,AR891="igen"),1,0)) -> 1 | BL891: =IF($M891<2028,"Nem hosszútávú a feladat.",IF(AND($BI891=1,$AR891="nem"),"Forráshiányos a feladat? Jelölje az AR-oszlopban!",IF(AND($BI891=0,$AR891="igen"),"Forráshiányosnak jelölte a feladat az AR-oszlopban, de a forrás költség adatok alapnján nem az!",IF(AND($BI891=1,$AR891="igen"),"Forráshiányos a feladat!",IF($AQ891>$O891,"Többlet forrást jelölt meg a II. ütemnél! A forrás ne legyen több a költségnél.",IF($AQ891=$O891,"A forrás egyenlő a költséggel (II.ütem).",0)))))) -> Forráshiányos a feladat! | BM891: =IF($M891<2028,1,0) -> 0 | BN891: =IF($M891>2027,1,0) -> 1 | BO891: =IF(AND($BM891=1,$N891=0),1,0) -> 0 | BP891: =IF(AND($BN891=1,$O891=0),1,0) -> 0 | BQ891: =IF(AND($BB891="R",$N891=0,$AZ891>29),1,IF(AND($BB891="RH",$N891=0,$AZ891>29),1,0)) -> 0 | BR891: =IF($BN891=0,"Nincs hosszútávú terv!",IF(AND($BB891="H",$O891=0,$AZ891=0),"Nullás a hosszútávú feladat és nincs hozzá indoklás!",IF(AND($BB891="RH",$O891=0,$AZ891=0),"Nullás a hosszútávú feladat és nincs hozzá indoklás!",IF(AND($BB891="R",$O891=0,$AZ891<300),"Nullás a hosszútávú feladat és rövid hozzá az indoklás!",IF(AND($BB891="RH",$O891=0,$AZ891<300),"Nullás a hosszútávú feladat és rövid hozzá az indoklás!",0))))) -> 0 | BS891: =IF(AND($BB891="R",$N891=0,$AZ891>29),1,IF(AND($BB891="RH",$N891=0,$AZ891>29),1,0)) -> 0 | BT891: =IF(AND($BB891="H",$O891=0,$AZ891>29),1,IF(AND($BB891="RH",$O891=0,$AZ891>29),1,0)) -> 0 | BU891: =IF($B891="",0,1) -> 1 | BV891: =IF($C891="",0,1) -> 1 | BW891: =IF($D891="",0,1) -> 1 | BX891: =IF($E891="",0,1) -> 1 | BY891: =IF($L891="",0,1) -> 1 | BZ891: =IF($M891="",0,1) -> 1 | CA891: =IF($N891="",0,1) -> 1 | CB891: =IF($O891="",0,1) -> 1 | CC891: =IF($P891="",0,1) -> 1 | CD891: =IF(AND($BA891=0,$BU891=0),"Hiányos kitöltés! (B-oszlop üres)",IF(AND($BA891=0,$BV891=0),"Hiányos kitöltés! (C-oszlop üres)",IF(AND($BA891=0,$BW891=0),"Hiányos kitöltés! (D-oszlop üres)",IF(AND($BA891=0,$BX891=0),"Hiányos kitöltés! (E-oszlop üres)",IF(AND($BA891=0,$BY891=0),"Hiányos kitöltés! (L-oszlop üres)",IF(AND($BA891=0,$BZ891=0),"Hiányos kitöltés! (M-oszlop üres)",IF(AND($BA891=0,$CA891=0),"Hiányos kitöltés! (N-oszlop üres)",IF(AND($BA891=0,$CB891=0),"Hiányos kitöltés! (O-oszlop üres)",IF(AND($BA891=0,$CC891=0),"Hiányos kitöltés! (P-oszlop üres)",IF(AND($BA891=0,$BG891=0),"Hiányos kitöltés! (I.ütem forrása hiányos!","?")))))))))) -> ? | CE891: =IF($BA891=0,$CD891,IF($BG891=0,"I. ütem forrása nincs kitöltve!",IF($BJ891=0,"II. ütem forrása nincs kitöltve!",IF($BD891=1,"Költségek üteme nem megfelelő (az időtartam és a költség üteme eltér)!",IF(AND(BH891=0,$BA891=1,$BJ891=1,$BD891=1),"Kötelező cellák kitöltve, de az I. ütem forrása hibás!",IF(AND(BJ891=0,$BA891=1,$BJ891=1,$BD891=1),"Kötelező cellák kitöltve, de a II. ütem forrása hibás!",IF(AND($BO891=1,$AZ891<30),"Nullás a rövidtávú feladat és rövid (hiányzik) a hozzá tartozó indoklás!",IF(AND($BP891=1,$AZ891<30),"Nullás a hosszútávú feladat és rövid (hiányzik) a hozzá tartozó indoklás!",IF(AND(BN891=1,C891="2011_RENDKÍVÜLI"),"II. ütemre nem tervezhet Rendkívüli feladatot!",IF(BH891=0,AD891,IF(BK891=0,AS891,IF(AND(BC891=1,$P891>$N891),"EM rendelet 2. melléklet terhére elszámolt költség nem lehet nagyobb az I. ütemre tervezett tényleges költségnél!",IF($AC891>$N891,"Többlet forrást jelölt meg az I. ütemnél! A forrás ne legyen több a költségnél.",IF($AQ891>$O891,"Többlet forrást jelölt meg a II. ütemnél! A forrás ne legyen több a költségnél.","Kitöltés rendben!")))))))))))))) -> Kitöltés rendben! | CF891: =IF(A891="Kitöltés rendben!",1,0) -> 1 | CG891: =IF(AND($BB891="R",$CF891=1),1,IF(AND($BB891="RH",$CF891=1),1,0)) -> 0 | CH891: =IF(AND($BB891="H",$CF891=1),1,IF(AND($BB891="RH",$CF891=1),1,0)) -> 1
A892: =IF($G892="","Nincs VKR kiválasztva!",CE892) -> Kitöltés rendben! | B892: 2 | C892: 2221_AKNA_ÉPÍTÉSZET | D892: Zalaszentgyörgy HBA akna építészeti rekonstrukció | E892: nem áll rendelkezésre | F892: =VLOOKUP($G892,Összesítő!$B:$F,2,FALSE) -> 21-32054-1-048-01-10 | G892: Zalaegerszeg-SZV | H892: =AY892&"_"&AW892&"_FIV_"&LEFT(Előlap!$B$6,4) -> 3185_890_FIV_2026 | I892: =VLOOKUP($G892,Összesítő!$B:$F,5,FALSE) -> Alibánfa, Alsónemesapáti, Babosdöbréte, Bagod, Bak, Bocfölde, Boncodfölde, Böde, Búcsúszentlászló, Csatár, Csonkahegyhát, Dobronhegy, Egervár, Gősfa, Hagyárosbörönd, Hottó, Kávás, Kemendollár, Keménfa, Kisbucsa, Kiskutas, Kispáli, Lakhegy, Nagykutas, Nagypáli, Nemesapáti, Nemeshetés, Nemessándorháza, Nemesszentandrás, Németfalu, Ozmánbük, Pethőhenye, Pókaszepetk, Pusztaszentlászló, Salomvár, Sárhida, Söjtör, Teskánd, Vasboldogasszony, Vaspör, Vöckönd, Zalaboldogfa, Zalacséb, Zalaegerszeg, Zalaistvánd, Zalaszentgyörgy, Zalaszentiván, Zalaszentlőrinc | J892: =VLOOKUP($G892,Összesítő!$B:$F,4,FALSE) -> Alibánfa Község Önkormányzata, Alsónemesapáti Község Önkormányzata, Babosdöbréte Község Önkormányzata, Bagod Község Önkormányzata, Bak Község Önkormányzata, Bocfölde Község Önkormányzata, Boncodfölde Község Önkormányzata, Böde Község Önkormányzata, Búcsúszentlászló Község Önkormányzata, Csatár Község Önkormányzata, Csonkahegyhát Község Önkormányzata, Dobronhegy Község Önkormányzata, Egervár Község Önkormányzata, Gősfa Község Önkormányzata, Hagyárosbörönd Község Önkormányzata, Hottó Község Önkormányzata, Kávás Község Önkormányzata, Kemendollár Község Önkormányzata, Keménfa Község Önkormányzata, Kisbucsa Község Önkormányzata, Kiskutas Község Önkormányzata, Kispáli Község Önkormányzata, Lakhegy Község Önkormányzata, Nagykutas Község Önkormányzata, Nagypáli Község Önkormányzata, Nemesapáti Község Önkormányzata, Nemeshetés Község Önkormányzata, Nemessándorháza Község Önkormányzata, Nemesszentandrás Község Önkormányzata, Németfalu Község Önkormányzata, Ozmánbük Község Önkormányzata, Pethőhenye Község Önkormányzata, Pókaszepetk Község Önkormányzata, Pusztaszentlászló Község Önkormányzata, Salomvár Község Önkormányzata, Sárhida Község Önkormányzata, Söjtör Község Önkormányzata, Teskánd Község Önkormányzata, Vasboldogasszony Község Önkormányzata, Vaspör Község Önkormányzata, Vöckönd Község Önkormányzata, Zalaboldogfa Község Önkormányzata, Zalacséb Község Önkormányzata, Zalaegerszeg Megyei Jogú Város Önkormányzata, Zalaistvánd Község Önkormányzata, Zalaszentgyörgy Község Önkormányzata, Zalaszentiván Község Önkormányzata, Zalaszentlőrinc Község Önkormányzata | K892: =N892+O892 -> 2000 | L892: 2028 | M892: 2033 | N892: 0 | O892: 2000 | P892: 0 | R892: 0 | S892: 0 | T892: 0 | U892: 0 | V892: 0 | W892: 0 | X892: 0 | Y892: 0 | Z892: 0 | AA892: 0 | AB892: 0 | AC892: =SUM(R892:AB892) -> 0 | AD892: =IF($G892="","Nincs VKR kiválasztva!",IF(BA892=0,"Hiányos kitöltés!",BF892)) -> Nem rövidtávú a feladat. | AF892: 0 | AG892: 0 | AH892: 0 | AI892: 0 | AJ892: 0 | AK892: 0 | AL892: 0 | AM892: 0 | AN892: 0 | AO892: 0 | AP892: 0 | AQ892: =SUM(AF892:AP892) -> 0 | AR892: igen | AS892: =IF($G892="","Nincs VKR kiválasztva!",IF($BA892=0,"Hiányos kitöltés!",IF($BN892=0,"Nem hosszútávú a feladat.",$BL892))) -> Forráshiányos a feladat! | AW892: =COUNTA($G$3:G892) -> 890 | AY892: =VLOOKUP($G892,Összesítő!$B:$F,3,FALSE) -> 3185 | AZ892: =LEN($AU892) -> 0 | BA892: =IF(OR($B892="",$C892="",$D892="",$E892="",$F892="",$L892="",$M892="",$N892="",$O892="",$P892=""),0,1) -> 1 | BB892: =IF($F892="",0,IF(AND($L892=2027,$M892=2027),"R",IF(AND($L892=2027,$M892>2027),"RH",IF(AND($L892>2027,$M892>2027),"H","x")))) -> H | BC892: =IF(OR(BB892="R",BB892="RH"),1,0) -> 0 | BD892: =IF(AND($BB892="R",$O892>0),1,IF(AND($BB892="H",$N892>0),1,0)) -> 0 | BE892: =IF($AC892<$N892,1,IF($AC892=$N892,0)) -> 0 | BF892: =IF($L892>2027,"Nem rövidtávú a feladat.",IF($BE892=1,"Az I. ütem nem lehet forráshiányos!",IF($AC892>$N892,"Többlet forrást jelölt meg az I. ütemnél! A forrás ne legyen több a költségnél.",IF($AC892=$N892,"A forrás egyenlő a költséggel (I.ütem).",0)))) -> Nem rövidtávú a feladat. | BG892: =IF(AND($R892<>"",$S892<>"",$T892<>"",$U892<>"",$V892<>"",$W892<>"",$X892<>"",$Y892<>"",$Z892<>"",$AA892<>"",$AB892<>""),1,0) -> 1 | BH892: =IF(AND($BG892=1,$N892=$AC892),1,0) -> 1 | BI892: =IF($AQ892<$O892,1,0) -> 1 | BJ892: =IF(AND($AF892<>"",$AG892<>"",$AH892<>"",$AI892<>"",$AJ892<>"",$AK892<>"",$AL892<>"",$AM892<>"",$AN892<>"",$AO892<>"",$AP892<>""),1,0) -> 1 | BK892: =IF(AND($BJ892=1,$O892=$AQ892),1,IF(AND($BJ892=1,$O892>$AQ892,AR892="igen"),1,0)) -> 1 | BL892: =IF($M892<2028,"Nem hosszútávú a feladat.",IF(AND($BI892=1,$AR892="nem"),"Forráshiányos a feladat? Jelölje az AR-oszlopban!",IF(AND($BI892=0,$AR892="igen"),"Forráshiányosnak jelölte a feladat az AR-oszlopban, de a forrás költség adatok alapnján nem az!",IF(AND($BI892=1,$AR892="igen"),"Forráshiányos a feladat!",IF($AQ892>$O892,"Többlet forrást jelölt meg a II. ütemnél! A forrás ne legyen több a költségnél.",IF($AQ892=$O892,"A forrás egyenlő a költséggel (II.ütem).",0)))))) -> Forráshiányos a feladat! | BM892: =IF($M892<2028,1,0) -> 0 | BN892: =IF($M892>2027,1,0) -> 1 | BO892: =IF(AND($BM892=1,$N892=0),1,0) -> 0 | BP892: =IF(AND($BN892=1,$O892=0),1,0) -> 0 | BQ892: =IF(AND($BB892="R",$N892=0,$AZ892>29),1,IF(AND($BB892="RH",$N892=0,$AZ892>29),1,0)) -> 0 | BR892: =IF($BN892=0,"Nincs hosszútávú terv!",IF(AND($BB892="H",$O892=0,$AZ892=0),"Nullás a hosszútávú feladat és nincs hozzá indoklás!",IF(AND($BB892="RH",$O892=0,$AZ892=0),"Nullás a hosszútávú feladat és nincs hozzá indoklás!",IF(AND($BB892="R",$O892=0,$AZ892<300),"Nullás a hosszútávú feladat és rövid hozzá az indoklás!",IF(AND($BB892="RH",$O892=0,$AZ892<300),"Nullás a hosszútávú feladat és rövid hozzá az indoklás!",0))))) -> 0 | BS892: =IF(AND($BB892="R",$N892=0,$AZ892>29),1,IF(AND($BB892="RH",$N892=0,$AZ892>29),1,0)) -> 0 | BT892: =IF(AND($BB892="H",$O892=0,$AZ892>29),1,IF(AND($BB892="RH",$O892=0,$AZ892>29),1,0)) -> 0 | BU892: =IF($B892="",0,1) -> 1 | BV892: =IF($C892="",0,1) -> 1 | BW892: =IF($D892="",0,1) -> 1 | BX892: =IF($E892="",0,1) -> 1 | BY892: =IF($L892="",0,1) -> 1 | BZ892: =IF($M892="",0,1) -> 1 | CA892: =IF($N892="",0,1) -> 1 | CB892: =IF($O892="",0,1) -> 1 | CC892: =IF($P892="",0,1) -> 1 | CD892: =IF(AND($BA892=0,$BU892=0),"Hiányos kitöltés! (B-oszlop üres)",IF(AND($BA892=0,$BV892=0),"Hiányos kitöltés! (C-oszlop üres)",IF(AND($BA892=0,$BW892=0),"Hiányos kitöltés! (D-oszlop üres)",IF(AND($BA892=0,$BX892=0),"Hiányos kitöltés! (E-oszlop üres)",IF(AND($BA892=0,$BY892=0),"Hiányos kitöltés! (L-oszlop üres)",IF(AND($BA892=0,$BZ892=0),"Hiányos kitöltés! (M-oszlop üres)",IF(AND($BA892=0,$CA892=0),"Hiányos kitöltés! (N-oszlop üres)",IF(AND($BA892=0,$CB892=0),"Hiányos kitöltés! (O-oszlop üres)",IF(AND($BA892=0,$CC892=0),"Hiányos kitöltés! (P-oszlop üres)",IF(AND($BA892=0,$BG892=0),"Hiányos kitöltés! (I.ütem forrása hiányos!","?")))))))))) -> ? | CE892: =IF($BA892=0,$CD892,IF($BG892=0,"I. ütem forrása nincs kitöltve!",IF($BJ892=0,"II. ütem forrása nincs kitöltve!",IF($BD892=1,"Költségek üteme nem megfelelő (az időtartam és a költség üteme eltér)!",IF(AND(BH892=0,$BA892=1,$BJ892=1,$BD892=1),"Kötelező cellák kitöltve, de az I. ütem forrása hibás!",IF(AND(BJ892=0,$BA892=1,$BJ892=1,$BD892=1),"Kötelező cellák kitöltve, de a II. ütem forrása hibás!",IF(AND($BO892=1,$AZ892<30),"Nullás a rövidtávú feladat és rövid (hiányzik) a hozzá tartozó indoklás!",IF(AND($BP892=1,$AZ892<30),"Nullás a hosszútávú feladat és rövid (hiányzik) a hozzá tartozó indoklás!",IF(AND(BN892=1,C892="2011_RENDKÍVÜLI"),"II. ütemre nem tervezhet Rendkívüli feladatot!",IF(BH892=0,AD892,IF(BK892=0,AS892,IF(AND(BC892=1,$P892>$N892),"EM rendelet 2. melléklet terhére elszámolt költség nem lehet nagyobb az I. ütemre tervezett tényleges költségnél!",IF($AC892>$N892,"Többlet forrást jelölt meg az I. ütemnél! A forrás ne legyen több a költségnél.",IF($AQ892>$O892,"Többlet forrást jelölt meg a II. ütemnél! A forrás ne legyen több a költségnél.","Kitöltés rendben!")))))))))))))) -> Kitöltés rendben! | CF892: =IF(A892="Kitöltés rendben!",1,0) -> 1 | CG892: =IF(AND($BB892="R",$CF892=1),1,IF(AND($BB892="RH",$CF892=1),1,0)) -> 0 | CH892: =IF(AND($BB892="H",$CF892=1),1,IF(AND($BB892="RH",$CF892=1),1,0)) -> 1
A893: =IF($G893="","Nincs VKR kiválasztva!",CE893) -> Kitöltés rendben! | B893: 2 | C893: 2210_AKNA_EGYÉB | D893: Zalaszentgyörgy szennyvízátemelő gépészeti rekonstrukció | E893: nem áll rendelkezésre | F893: =VLOOKUP($G893,Összesítő!$B:$F,2,FALSE) -> 21-32054-1-048-01-10 | G893: Zalaegerszeg-SZV | H893: =AY893&"_"&AW893&"_FIV_"&LEFT(Előlap!$B$6,4) -> 3185_891_FIV_2026 | I893: =VLOOKUP($G893,Összesítő!$B:$F,5,FALSE) -> Alibánfa, Alsónemesapáti, Babosdöbréte, Bagod, Bak, Bocfölde, Boncodfölde, Böde, Búcsúszentlászló, Csatár, Csonkahegyhát, Dobronhegy, Egervár, Gősfa, Hagyárosbörönd, Hottó, Kávás, Kemendollár, Keménfa, Kisbucsa, Kiskutas, Kispáli, Lakhegy, Nagykutas, Nagypáli, Nemesapáti, Nemeshetés, Nemessándorháza, Nemesszentandrás, Németfalu, Ozmánbük, Pethőhenye, Pókaszepetk, Pusztaszentlászló, Salomvár, Sárhida, Söjtör, Teskánd, Vasboldogasszony, Vaspör, Vöckönd, Zalaboldogfa, Zalacséb, Zalaegerszeg, Zalaistvánd, Zalaszentgyörgy, Zalaszentiván, Zalaszentlőrinc | J893: =VLOOKUP($G893,Összesítő!$B:$F,4,FALSE) -> Alibánfa Község Önkormányzata, Alsónemesapáti Község Önkormányzata, Babosdöbréte Község Önkormányzata, Bagod Község Önkormányzata, Bak Község Önkormányzata, Bocfölde Község Önkormányzata, Boncodfölde Község Önkormányzata, Böde Község Önkormányzata, Búcsúszentlászló Község Önkormányzata, Csatár Község Önkormányzata, Csonkahegyhát Község Önkormányzata, Dobronhegy Község Önkormányzata, Egervár Község Önkormányzata, Gősfa Község Önkormányzata, Hagyárosbörönd Község Önkormányzata, Hottó Község Önkormányzata, Kávás Község Önkormányzata, Kemendollár Község Önkormányzata, Keménfa Község Önkormányzata, Kisbucsa Község Önkormányzata, Kiskutas Község Önkormányzata, Kispáli Község Önkormányzata, Lakhegy Község Önkormányzata, Nagykutas Község Önkormányzata, Nagypáli Község Önkormányzata, Nemesapáti Község Önkormányzata, Nemeshetés Község Önkormányzata, Nemessándorháza Község Önkormányzata, Nemesszentandrás Község Önkormányzata, Németfalu Község Önkormányzata, Ozmánbük Község Önkormányzata, Pethőhenye Község Önkormányzata, Pókaszepetk Község Önkormányzata, Pusztaszentlászló Község Önkormányzata, Salomvár Község Önkormányzata, Sárhida Község Önkormányzata, Söjtör Község Önkormányzata, Teskánd Község Önkormányzata, Vasboldogasszony Község Önkormányzata, Vaspör Község Önkormányzata, Vöckönd Község Önkormányzata, Zalaboldogfa Község Önkormányzata, Zalacséb Község Önkormányzata, Zalaegerszeg Megyei Jogú Város Önkormányzata, Zalaistvánd Község Önkormányzata, Zalaszentgyörgy Község Önkormányzata, Zalaszentiván Község Önkormányzata, Zalaszentlőrinc Község Önkormányzata | K893: =N893+O893 -> 21778 | L893: 2028 | M893: 2036 | N893: 0 | O893: 21778 | P893: 0 | R893: 0 | S893: 0 | T893: 0 | U893: 0 | V893: 0 | W893: 0 | X893: 0 | Y893: 0 | Z893: 0 | AA893: 0 | AB893: 0 | AC893: =SUM(R893:AB893) -> 0 | AD893: =IF($G893="","Nincs VKR kiválasztva!",IF(BA893=0,"Hiányos kitöltés!",BF893)) -> Nem rövidtávú a feladat. | AF893: 0 | AG893: 0 | AH893: 0 | AI893: 0 | AJ893: 0 | AK893: 0 | AL893: 0 | AM893: 0 | AN893: 0 | AO893: 0 | AP893: 0 | AQ893: =SUM(AF893:AP893) -> 0 | AR893: igen | AS893: =IF($G893="","Nincs VKR kiválasztva!",IF($BA893=0,"Hiányos kitöltés!",IF($BN893=0,"Nem hosszútávú a feladat.",$BL893))) -> Forráshiányos a feladat! | AW893: =COUNTA($G$3:G893) -> 891 | AY893: =VLOOKUP($G893,Összesítő!$B:$F,3,FALSE) -> 3185 | AZ893: =LEN($AU893) -> 0 | BA893: =IF(OR($B893="",$C893="",$D893="",$E893="",$F893="",$L893="",$M893="",$N893="",$O893="",$P893=""),0,1) -> 1 | BB893: =IF($F893="",0,IF(AND($L893=2027,$M893=2027),"R",IF(AND($L893=2027,$M893>2027),"RH",IF(AND($L893>2027,$M893>2027),"H","x")))) -> H | BC893: =IF(OR(BB893="R",BB893="RH"),1,0) -> 0 | BD893: =IF(AND($BB893="R",$O893>0),1,IF(AND($BB893="H",$N893>0),1,0)) -> 0 | BE893: =IF($AC893<$N893,1,IF($AC893=$N893,0)) -> 0 | BF893: =IF($L893>2027,"Nem rövidtávú a feladat.",IF($BE893=1,"Az I. ütem nem lehet forráshiányos!",IF($AC893>$N893,"Többlet forrást jelölt meg az I. ütemnél! A forrás ne legyen több a költségnél.",IF($AC893=$N893,"A forrás egyenlő a költséggel (I.ütem).",0)))) -> Nem rövidtávú a feladat. | BG893: =IF(AND($R893<>"",$S893<>"",$T893<>"",$U893<>"",$V893<>"",$W893<>"",$X893<>"",$Y893<>"",$Z893<>"",$AA893<>"",$AB893<>""),1,0) -> 1 | BH893: =IF(AND($BG893=1,$N893=$AC893),1,0) -> 1 | BI893: =IF($AQ893<$O893,1,0) -> 1 | BJ893: =IF(AND($AF893<>"",$AG893<>"",$AH893<>"",$AI893<>"",$AJ893<>"",$AK893<>"",$AL893<>"",$AM893<>"",$AN893<>"",$AO893<>"",$AP893<>""),1,0) -> 1 | BK893: =IF(AND($BJ893=1,$O893=$AQ893),1,IF(AND($BJ893=1,$O893>$AQ893,AR893="igen"),1,0)) -> 1 | BL893: =IF($M893<2028,"Nem hosszútávú a feladat.",IF(AND($BI893=1,$AR893="nem"),"Forráshiányos a feladat? Jelölje az AR-oszlopban!",IF(AND($BI893=0,$AR893="igen"),"Forráshiányosnak jelölte a feladat az AR-oszlopban, de a forrás költség adatok alapnján nem az!",IF(AND($BI893=1,$AR893="igen"),"Forráshiányos a feladat!",IF($AQ893>$O893,"Többlet forrást jelölt meg a II. ütemnél! A forrás ne legyen több a költségnél.",IF($AQ893=$O893,"A forrás egyenlő a költséggel (II.ütem).",0)))))) -> Forráshiányos a feladat! | BM893: =IF($M893<2028,1,0) -> 0 | BN893: =IF($M893>2027,1,0) -> 1 | BO893: =IF(AND($BM893=1,$N893=0),1,0) -> 0 | BP893: =IF(AND($BN893=1,$O893=0),1,0) -> 0 | BQ893: =IF(AND($BB893="R",$N893=0,$AZ893>29),1,IF(AND($BB893="RH",$N893=0,$AZ893>29),1,0)) -> 0 | BR893: =IF($BN893=0,"Nincs hosszútávú terv!",IF(AND($BB893="H",$O893=0,$AZ893=0),"Nullás a hosszútávú feladat és nincs hozzá indoklás!",IF(AND($BB893="RH",$O893=0,$AZ893=0),"Nullás a hosszútávú feladat és nincs hozzá indoklás!",IF(AND($BB893="R",$O893=0,$AZ893<300),"Nullás a hosszútávú feladat és rövid hozzá az indoklás!",IF(AND($BB893="RH",$O893=0,$AZ893<300),"Nullás a hosszútávú feladat és rövid hozzá az indoklás!",0))))) -> 0 | BS893: =IF(AND($BB893="R",$N893=0,$AZ893>29),1,IF(AND($BB893="RH",$N893=0,$AZ893>29),1,0)) -> 0 | BT893: =IF(AND($BB893="H",$O893=0,$AZ893>29),1,IF(AND($BB893="RH",$O893=0,$AZ893>29),1,0)) -> 0 | BU893: =IF($B893="",0,1) -> 1 | BV893: =IF($C893="",0,1) -> 1 | BW893: =IF($D893="",0,1) -> 1 | BX893: =IF($E893="",0,1) -> 1 | BY893: =IF($L893="",0,1) -> 1 | BZ893: =IF($M893="",0,1) -> 1 | CA893: =IF($N893="",0,1) -> 1 | CB893: =IF($O893="",0,1) -> 1 | CC893: =IF($P893="",0,1) -> 1 | CD893: =IF(AND($BA893=0,$BU893=0),"Hiányos kitöltés! (B-oszlop üres)",IF(AND($BA893=0,$BV893=0),"Hiányos kitöltés! (C-oszlop üres)",IF(AND($BA893=0,$BW893=0),"Hiányos kitöltés! (D-oszlop üres)",IF(AND($BA893=0,$BX893=0),"Hiányos kitöltés! (E-oszlop üres)",IF(AND($BA893=0,$BY893=0),"Hiányos kitöltés! (L-oszlop üres)",IF(AND($BA893=0,$BZ893=0),"Hiányos kitöltés! (M-oszlop üres)",IF(AND($BA893=0,$CA893=0),"Hiányos kitöltés! (N-oszlop üres)",IF(AND($BA893=0,$CB893=0),"Hiányos kitöltés! (O-oszlop üres)",IF(AND($BA893=0,$CC893=0),"Hiányos kitöltés! (P-oszlop üres)",IF(AND($BA893=0,$BG893=0),"Hiányos kitöltés! (I.ütem forrása hiányos!","?")))))))))) -> ? | CE893: =IF($BA893=0,$CD893,IF($BG893=0,"I. ütem forrása nincs kitöltve!",IF($BJ893=0,"II. ütem forrása nincs kitöltve!",IF($BD893=1,"Költségek üteme nem megfelelő (az időtartam és a költség üteme eltér)!",IF(AND(BH893=0,$BA893=1,$BJ893=1,$BD893=1),"Kötelező cellák kitöltve, de az I. ütem forrása hibás!",IF(AND(BJ893=0,$BA893=1,$BJ893=1,$BD893=1),"Kötelező cellák kitöltve, de a II. ütem forrása hibás!",IF(AND($BO893=1,$AZ893<30),"Nullás a rövidtávú feladat és rövid (hiányzik) a hozzá tartozó indoklás!",IF(AND($BP893=1,$AZ893<30),"Nullás a hosszútávú feladat és rövid (hiányzik) a hozzá tartozó indoklás!",IF(AND(BN893=1,C893="2011_RENDKÍVÜLI"),"II. ütemre nem tervezhet Rendkívüli feladatot!",IF(BH893=0,AD893,IF(BK893=0,AS893,IF(AND(BC893=1,$P893>$N893),"EM rendelet 2. melléklet terhére elszámolt költség nem lehet nagyobb az I. ütemre tervezett tényleges költségnél!",IF($AC893>$N893,"Többlet forrást jelölt meg az I. ütemnél! A forrás ne legyen több a költségnél.",IF($AQ893>$O893,"Többlet forrást jelölt meg a II. ütemnél! A forrás ne legyen több a költségnél.","Kitöltés rendben!")))))))))))))) -> Kitöltés rendben! | CF893: =IF(A893="Kitöltés rendben!",1,0) -> 1 | CG893: =IF(AND($BB893="R",$CF893=1),1,IF(AND($BB893="RH",$CF893=1),1,0)) -> 0 | CH893: =IF(AND($BB893="H",$CF893=1),1,IF(AND($BB893="RH",$CF893=1),1,0)) -> 1
A894: =IF($G894="","Nincs VKR kiválasztva!",CE894) -> Kitöltés rendben! | B894: 2 | C894: 2210_AKNA_EGYÉB | D894: Zalaszentgyörgy HBA gépészeti rekonstrukció | E894: nem áll rendelkezésre | F894: =VLOOKUP($G894,Összesítő!$B:$F,2,FALSE) -> 21-32054-1-048-01-10 | G894: Zalaegerszeg-SZV | H894: =AY894&"_"&AW894&"_FIV_"&LEFT(Előlap!$B$6,4) -> 3185_892_FIV_2026 | I894: =VLOOKUP($G894,Összesítő!$B:$F,5,FALSE) -> Alibánfa, Alsónemesapáti, Babosdöbréte, Bagod, Bak, Bocfölde, Boncodfölde, Böde, Búcsúszentlászló, Csatár, Csonkahegyhát, Dobronhegy, Egervár, Gősfa, Hagyárosbörönd, Hottó, Kávás, Kemendollár, Keménfa, Kisbucsa, Kiskutas, Kispáli, Lakhegy, Nagykutas, Nagypáli, Nemesapáti, Nemeshetés, Nemessándorháza, Nemesszentandrás, Németfalu, Ozmánbük, Pethőhenye, Pókaszepetk, Pusztaszentlászló, Salomvár, Sárhida, Söjtör, Teskánd, Vasboldogasszony, Vaspör, Vöckönd, Zalaboldogfa, Zalacséb, Zalaegerszeg, Zalaistvánd, Zalaszentgyörgy, Zalaszentiván, Zalaszentlőrinc | J894: =VLOOKUP($G894,Összesítő!$B:$F,4,FALSE) -> Alibánfa Község Önkormányzata, Alsónemesapáti Község Önkormányzata, Babosdöbréte Község Önkormányzata, Bagod Község Önkormányzata, Bak Község Önkormányzata, Bocfölde Község Önkormányzata, Boncodfölde Község Önkormányzata, Böde Község Önkormányzata, Búcsúszentlászló Község Önkormányzata, Csatár Község Önkormányzata, Csonkahegyhát Község Önkormányzata, Dobronhegy Község Önkormányzata, Egervár Község Önkormányzata, Gősfa Község Önkormányzata, Hagyárosbörönd Község Önkormányzata, Hottó Község Önkormányzata, Kávás Község Önkormányzata, Kemendollár Község Önkormányzata, Keménfa Község Önkormányzata, Kisbucsa Község Önkormányzata, Kiskutas Község Önkormányzata, Kispáli Község Önkormányzata, Lakhegy Község Önkormányzata, Nagykutas Község Önkormányzata, Nagypáli Község Önkormányzata, Nemesapáti Község Önkormányzata, Nemeshetés Község Önkormányzata, Nemessándorháza Község Önkormányzata, Nemesszentandrás Község Önkormányzata, Németfalu Község Önkormányzata, Ozmánbük Község Önkormányzata, Pethőhenye Község Önkormányzata, Pókaszepetk Község Önkormányzata, Pusztaszentlászló Község Önkormányzata, Salomvár Község Önkormányzata, Sárhida Község Önkormányzata, Söjtör Község Önkormányzata, Teskánd Község Önkormányzata, Vasboldogasszony Község Önkormányzata, Vaspör Község Önkormányzata, Vöckönd Község Önkormányzata, Zalaboldogfa Község Önkormányzata, Zalacséb Község Önkormányzata, Zalaegerszeg Megyei Jogú Város Önkormányzata, Zalaistvánd Község Önkormányzata, Zalaszentgyörgy Község Önkormányzata, Zalaszentiván Község Önkormányzata, Zalaszentlőrinc Község Önkormányzata | K894: =N894+O894 -> 760 | L894: 2028 | M894: 2035 | N894: 0 | O894: 760 | P894: 0 | R894: 0 | S894: 0 | T894: 0 | U894: 0 | V894: 0 | W894: 0 | X894: 0 | Y894: 0 | Z894: 0 | AA894: 0 | AB894: 0 | AC894: =SUM(R894:AB894) -> 0 | AD894: =IF($G894="","Nincs VKR kiválasztva!",IF(BA894=0,"Hiányos kitöltés!",BF894)) -> Nem rövidtávú a feladat. | AF894: 0 | AG894: 0 | AH894: 0 | AI894: 0 | AJ894: 0 | AK894: 0 | AL894: 0 | AM894: 0 | AN894: 0 | AO894: 0 | AP894: 0 | AQ894: =SUM(AF894:AP894) -> 0 | AR894: igen | AS894: =IF($G894="","Nincs VKR kiválasztva!",IF($BA894=0,"Hiányos kitöltés!",IF($BN894=0,"Nem hosszútávú a feladat.",$BL894))) -> Forráshiányos a feladat! | AW894: =COUNTA($G$3:G894) -> 892 | AY894: =VLOOKUP($G894,Összesítő!$B:$F,3,FALSE) -> 3185 | AZ894: =LEN($AU894) -> 0 | BA894: =IF(OR($B894="",$C894="",$D894="",$E894="",$F894="",$L894="",$M894="",$N894="",$O894="",$P894=""),0,1) -> 1 | BB894: =IF($F894="",0,IF(AND($L894=2027,$M894=2027),"R",IF(AND($L894=2027,$M894>2027),"RH",IF(AND($L894>2027,$M894>2027),"H","x")))) -> H | BC894: =IF(OR(BB894="R",BB894="RH"),1,0) -> 0 | BD894: =IF(AND($BB894="R",$O894>0),1,IF(AND($BB894="H",$N894>0),1,0)) -> 0 | BE894: =IF($AC894<$N894,1,IF($AC894=$N894,0)) -> 0 | BF894: =IF($L894>2027,"Nem rövidtávú a feladat.",IF($BE894=1,"Az I. ütem nem lehet forráshiányos!",IF($AC894>$N894,"Többlet forrást jelölt meg az I. ütemnél! A forrás ne legyen több a költségnél.",IF($AC894=$N894,"A forrás egyenlő a költséggel (I.ütem).",0)))) -> Nem rövidtávú a feladat. | BG894: =IF(AND($R894<>"",$S894<>"",$T894<>"",$U894<>"",$V894<>"",$W894<>"",$X894<>"",$Y894<>"",$Z894<>"",$AA894<>"",$AB894<>""),1,0) -> 1 | BH894: =IF(AND($BG894=1,$N894=$AC894),1,0) -> 1 | BI894: =IF($AQ894<$O894,1,0) -> 1 | BJ894: =IF(AND($AF894<>"",$AG894<>"",$AH894<>"",$AI894<>"",$AJ894<>"",$AK894<>"",$AL894<>"",$AM894<>"",$AN894<>"",$AO894<>"",$AP894<>""),1,0) -> 1 | BK894: =IF(AND($BJ894=1,$O894=$AQ894),1,IF(AND($BJ894=1,$O894>$AQ894,AR894="igen"),1,0)) -> 1 | BL894: =IF($M894<2028,"Nem hosszútávú a feladat.",IF(AND($BI894=1,$AR894="nem"),"Forráshiányos a feladat? Jelölje az AR-oszlopban!",IF(AND($BI894=0,$AR894="igen"),"Forráshiányosnak jelölte a feladat az AR-oszlopban, de a forrás költség adatok alapnján nem az!",IF(AND($BI894=1,$AR894="igen"),"Forráshiányos a feladat!",IF($AQ894>$O894,"Többlet forrást jelölt meg a II. ütemnél! A forrás ne legyen több a költségnél.",IF($AQ894=$O894,"A forrás egyenlő a költséggel (II.ütem).",0)))))) -> Forráshiányos a feladat! | BM894: =IF($M894<2028,1,0) -> 0 | BN894: =IF($M894>2027,1,0) -> 1 | BO894: =IF(AND($BM894=1,$N894=0),1,0) -> 0 | BP894: =IF(AND($BN894=1,$O894=0),1,0) -> 0 | BQ894: =IF(AND($BB894="R",$N894=0,$AZ894>29),1,IF(AND($BB894="RH",$N894=0,$AZ894>29),1,0)) -> 0 | BR894: =IF($BN894=0,"Nincs hosszútávú terv!",IF(AND($BB894="H",$O894=0,$AZ894=0),"Nullás a hosszútávú feladat és nincs hozzá indoklás!",IF(AND($BB894="RH",$O894=0,$AZ894=0),"Nullás a hosszútávú feladat és nincs hozzá indoklás!",IF(AND($BB894="R",$O894=0,$AZ894<300),"Nullás a hosszútávú feladat és rövid hozzá az indoklás!",IF(AND($BB894="RH",$O894=0,$AZ894<300),"Nullás a hosszútávú feladat és rövid hozzá az indoklás!",0))))) -> 0 | BS894: =IF(AND($BB894="R",$N894=0,$AZ894>29),1,IF(AND($BB894="RH",$N894=0,$AZ894>29),1,0)) -> 0 | BT894: =IF(AND($BB894="H",$O894=0,$AZ894>29),1,IF(AND($BB894="RH",$O894=0,$AZ894>29),1,0)) -> 0 | BU894: =IF($B894="",0,1) -> 1 | BV894: =IF($C894="",0,1) -> 1 | BW894: =IF($D894="",0,1) -> 1 | BX894: =IF($E894="",0,1) -> 1 | BY894: =IF($L894="",0,1) -> 1 | BZ894: =IF($M894="",0,1) -> 1 | CA894: =IF($N894="",0,1) -> 1 | CB894: =IF($O894="",0,1) -> 1 | CC894: =IF($P894="",0,1) -> 1 | CD894: =IF(AND($BA894=0,$BU894=0),"Hiányos kitöltés! (B-oszlop üres)",IF(AND($BA894=0,$BV894=0),"Hiányos kitöltés! (C-oszlop üres)",IF(AND($BA894=0,$BW894=0),"Hiányos kitöltés! (D-oszlop üres)",IF(AND($BA894=0,$BX894=0),"Hiányos kitöltés! (E-oszlop üres)",IF(AND($BA894=0,$BY894=0),"Hiányos kitöltés! (L-oszlop üres)",IF(AND($BA894=0,$BZ894=0),"Hiányos kitöltés! (M-oszlop üres)",IF(AND($BA894=0,$CA894=0),"Hiányos kitöltés! (N-oszlop üres)",IF(AND($BA894=0,$CB894=0),"Hiányos kitöltés! (O-oszlop üres)",IF(AND($BA894=0,$CC894=0),"Hiányos kitöltés! (P-oszlop üres)",IF(AND($BA894=0,$BG894=0),"Hiányos kitöltés! (I.ütem forrása hiányos!","?")))))))))) -> ? | CE894: =IF($BA894=0,$CD894,IF($BG894=0,"I. ütem forrása nincs kitöltve!",IF($BJ894=0,"II. ütem forrása nincs kitöltve!",IF($BD894=1,"Költségek üteme nem megfelelő (az időtartam és a költség üteme eltér)!",IF(AND(BH894=0,$BA894=1,$BJ894=1,$BD894=1),"Kötelező cellák kitöltve, de az I. ütem forrása hibás!",IF(AND(BJ894=0,$BA894=1,$BJ894=1,$BD894=1),"Kötelező cellák kitöltve, de a II. ütem forrása hibás!",IF(AND($BO894=1,$AZ894<30),"Nullás a rövidtávú feladat és rövid (hiányzik) a hozzá tartozó indoklás!",IF(AND($BP894=1,$AZ894<30),"Nullás a hosszútávú feladat és rövid (hiányzik) a hozzá tartozó indoklás!",IF(AND(BN894=1,C894="2011_RENDKÍVÜLI"),"II. ütemre nem tervezhet Rendkívüli feladatot!",IF(BH894=0,AD894,IF(BK894=0,AS894,IF(AND(BC894=1,$P894>$N894),"EM rendelet 2. melléklet terhére elszámolt költség nem lehet nagyobb az I. ütemre tervezett tényleges költségnél!",IF($AC894>$N894,"Többlet forrást jelölt meg az I. ütemnél! A forrás ne legyen több a költségnél.",IF($AQ894>$O894,"Többlet forrást jelölt meg a II. ütemnél! A forrás ne legyen több a költségnél.","Kitöltés rendben!")))))))))))))) -> Kitöltés rendben! | CF894: =IF(A894="Kitöltés rendben!",1,0) -> 1 | CG894: =IF(AND($BB894="R",$CF894=1),1,IF(AND($BB894="RH",$CF894=1),1,0)) -> 0 | CH894: =IF(AND($BB894="H",$CF894=1),1,IF(AND($BB894="RH",$CF894=1),1,0)) -> 1
