Workbook

Sheet Előlap
A2: Az adatszolgáltatás
A3: MEKH azonosítószáma: | B3: VK_GFT-JH_F-SZV
A4: címe: | B4: GFT-Jóváhagyás_Felújítás-Szennyvíz
A5: gyakorisága: | B5: Éves
A6: beszámolási időszak: | B6: 2026-01-01
A7: Tárgyidőszak kezdete | B7: =LEFT(B6,4)+1 -> 2027
A8: Tárgyidőszak vége | B8: =LEFT(B6,4)+10 -> 2036
A9: teljesítésének határideje: | B9: 2026-10-01
A12: Az adatszolgáltató
A13: neve: | B13: ZALAVÍZ Zrt.
A14: címe: | B14: 8900 Zalaegerszeg, Balatoni út 8. (2735/17 hrsz.)
A15: MEKH nyilvántartási kódja: | B15: 11354286

Sheet Összesítő
N1: H/1 -- Forrás megnevezése (I. ütem) | AA1: H/2 -- Forrás megnevezése (II. ütem)
A2: Sorszám | B2: Víziközmű-rendszer megnevezése | C2: Víziközmű-rendszer hivatali kódja | D2: ISA | E2: Az érintett ellátásért felelős(ök) megnevezése | F2: Ellátási terület | G2: Ellenőrzés | I2: Tervezett nettó költség [eFt] | J2: A beruházás tervezett nettó költsége a tervezési időszak ütemezése szerint [eFt] - I. ütem | K2: A beruházás tervezett nettó költsége a tervezési időszak ütemezése szerint [eFt] - II. ütem | L2: Az EM rendelet 2. melléklet terhére elszámolni tervezett költség | N2: Használati díj [eFt] | O2: ÉCS [eFt] | P2: Közműfejlesztési hozzájárulás [eFt] | Q2: Egyéb saját forrás [eFt] | R2: Díj [eFt] | S2: VFEA - EM rendelet 1. melléklet | T2: Egyéb állami támogatás [eFt] | U2: Önkormányzati támogatás [eFt] | V2: EU-s támogatás [eFt] | W2: Egyéb támogatás [eFt] | X2: Banki hitel, kötvénykibocsátás [eFt] | Y2: Összesítés [eFt] | AA2: Használati díj [eFt] | AB2: ÉCS [eFt] | AC2: Közműfejlesztési hozzájárulás [eFt] | AD2: Egyéb saját forrás [eFt] | AE2: Díj [eFt] | AF2: VFEA - EM rendelet 1. melléklet | AG2: Egyéb állami támogatás [eFt] | AH2: Önkormányzati támogatás [eFt] | AI2: EU-s támogatás [eFt] | AJ2: Egyéb támogatás [eFt] | AK2: Banki hitel, kötvénykibocsátás [eFt] | AL2: Összesítés [eFt] | AS2: Hány feladat van a rendszeren | AT2: Helyes kitöltések száma | AU2: VAN rövidtávú terv? | AV2: VAN hosszútávú terv?
B3: Víziközmű-rendszer megnevezése | C3: Víziközmű-rendszer hivatali kódja | D3: ISA | E3: Az érintett ellátásért felelős(ök) megnevezése | F3: Ellátási terület | I3: =SUM(I$4:I$13019) -> 14538061 | J3: =SUM(J$4:J$13019) -> 303232 | K3: =SUM(K$4:K$13019) -> 14234829 | L3: =SUM(L$4:L$13019) -> 0 | N3: =SUM(N$4:N$3019) -> 303232 | O3: =SUM(O$4:O$3019) -> 0 | P3: =SUM(P$4:P$3019) -> 0 | Q3: =SUM(Q$4:Q$3019) -> 0 | R3: =SUM(R$4:R$3019) -> 0 | S3: =SUM(S$4:S$3019) -> 0 | T3: =SUM(T$4:T$3019) -> 0 | U3: =SUM(U$4:U$3019) -> 0 | ... Y3: =SUM(Y$4:Y$3019) -> 303232 | AA3: =SUM(AA$4:AA$3019) -> 594714 | AB3: =SUM(AB$4:AB$3019) -> 0 | AC3: =SUM(AC$4:AC$3019) -> 0 | AD3: =SUM(AD$4:AD$3019) -> 0 | AE3: =SUM(AE$4:AE$3019) -> 0 | AF3: =SUM(AF$4:AF$3019) -> 0 | AG3: =SUM(AG$4:AG$3019) -> 0 | AH3: =SUM(AH$4:AH$3019) -> 0 | ... AL3: =SUM(AL$4:AL$3019) -> 594714 | AR3: RÖGZÍTVE? | AS3: =SUM(AS$4:AS$3019) -> 928 | AT3: =SUM(AT$4:AT$3019) -> 928 | AU3: új | AV3: új
A4: 1671 | B4: Gutorfölde-SZV | C4: 21-02097-1-001-00-13 | D4: 3168 | E4: Gutorfölde Község Önkormányzata | F4: Gutorfölde | G4: =IF(ISNA($AR4),"Nincs rögzítve!",IF(AU4=0,"Hiányzik a rövidtávú terv!",IF(AV4=0,"Hiányzik a hosszútávú terv!",IF(AS4=AT4,"Kitöltés rendben!",IF(AS4<>AT4,"Kitöltési hiba!","Kitöltési hiba!"))))) -> Nincs rögzítve! | I4: =J4+K4 -> 0 | J4: =SUMIF(F_SZV_1A!$F:$F,$C4,F_SZV_1A!$N:$N) -> 0 | K4: =SUMIF(F_SZV_1A!$F:$F,$C4,F_SZV_1A!$O:$O) -> 0 | L4: =SUMIF(F_SZV_1A!$F:$F,$C4,F_SZV_1A!$P:$P) -> 0 | N4: =SUMIF(F_SZV_1A!$F:$F,$C4,F_SZV_1A!R:R) -> 0 | O4: =SUMIF(F_SZV_1A!$F:$F,$C4,F_SZV_1A!S:S) -> 0 | P4: =SUMIF(F_SZV_1A!$F:$F,$C4,F_SZV_1A!T:T) -> 0 | Q4: =SUMIF(F_SZV_1A!$F:$F,$C4,F_SZV_1A!U:U) -> 0 | R4: =SUMIF(F_SZV_1A!$F:$F,$C4,F_SZV_1A!V:V) -> 0 | S4: =SUMIF(F_SZV_1A!$F:$F,$C4,F_SZV_1A!W:W) -> 0 | T4: =SUMIF(F_SZV_1A!$F:$F,$C4,F_SZV_1A!X:X) -> 0 | U4: =SUMIF(F_SZV_1A!$F:$F,$C4,F_SZV_1A!Y:Y) -> 0 | V4: =SUMIF(F_SZV_1A!$F:$F,$C4,F_SZV_1A!Z:Z) -> 0 | W4: =SUMIF(F_SZV_1A!$F:$F,$C4,F_SZV_1A!AA:AA) -> 0 | X4: =SUMIF(F_SZV_1A!$F:$F,$C4,F_SZV_1A!AB:AB) -> 0 | Y4: =SUM(N4:X4) -> 0 | AA4: =SUMIF(F_SZV_1A!$F:$F,$C4,F_SZV_1A!AF:AF) -> 0 | AB4: =SUMIF(F_SZV_1A!$F:$F,$C4,F_SZV_1A!AG:AG) -> 0 | AC4: =SUMIF(F_SZV_1A!$F:$F,$C4,F_SZV_1A!AH:AH) -> 0 | AD4: =SUMIF(F_SZV_1A!$F:$F,$C4,F_SZV_1A!AI:AI) -> 0 | AE4: =SUMIF(F_SZV_1A!$F:$F,$C4,F_SZV_1A!AJ:AJ) -> 0 | AF4: =SUMIF(F_SZV_1A!$F:$F,$C4,F_SZV_1A!AK:AK) -> 0 | AG4: =SUMIF(F_SZV_1A!$F:$F,$C4,F_SZV_1A!AL:AL) -> 0 | AH4: =SUMIF(F_SZV_1A!$F:$F,$C4,F_SZV_1A!AM:AM) -> 0 | AI4: =SUMIF(F_SZV_1A!$F:$F,$C4,F_SZV_1A!AN:AN) -> 0 | AJ4: =SUMIF(F_SZV_1A!$F:$F,$C4,F_SZV_1A!AO:AO) -> 0 | AK4: =SUMIF(F_SZV_1A!$F:$F,$C4,F_SZV_1A!AP:AP) -> 0 | AL4: =SUM(AA4:AK4) -> 0 | AR4: =INDEX(F_SZV_1A!$G:$G,MATCH($C4,F_SZV_1A!$F:$F,0)) -> #N/A | AS4: =COUNTIF(F_SZV_1A!$AY$3:$AY$2427,$D4) -> 0 | AT4: =SUMIF(F_SZV_1A!$AY$3:$AY$2427,$D4,F_SZV_1A!$CF$3:$CF$2427) -> 0 | AU4: =SUMIF(F_SZV_1A!$AY:$AY,$D4,F_SZV_1A!$CG:$CG) -> 0 | AV4: =SUMIF(F_SZV_1A!$AY:$AY,$D4,F_SZV_1A!$CG:$CG) -> 0
A5: 1672 | B5: Nova-SZV | C5: 21-03355-1-001-00-04 | D5: 3169 | E5: Nova Község Önkormányzata | F5: Nova | G5: =IF(ISNA($AR5),"Nincs rögzítve!",IF(AU5=0,"Hiányzik a rövidtávú terv!",IF(AV5=0,"Hiányzik a hosszútávú terv!",IF(AS5=AT5,"Kitöltés rendben!",IF(AS5<>AT5,"Kitöltési hiba!","Kitöltési hiba!"))))) -> Nincs rögzítve! | I5: =J5+K5 -> 0 | J5: =SUMIF(F_SZV_1A!$F:$F,$C5,F_SZV_1A!$N:$N) -> 0 | K5: =SUMIF(F_SZV_1A!$F:$F,$C5,F_SZV_1A!$O:$O) -> 0 | L5: =SUMIF(F_SZV_1A!$F:$F,$C5,F_SZV_1A!$P:$P) -> 0 | N5: =SUMIF(F_SZV_1A!$F:$F,$C5,F_SZV_1A!R:R) -> 0 | O5: =SUMIF(F_SZV_1A!$F:$F,$C5,F_SZV_1A!S:S) -> 0 | P5: =SUMIF(F_SZV_1A!$F:$F,$C5,F_SZV_1A!T:T) -> 0 | Q5: =SUMIF(F_SZV_1A!$F:$F,$C5,F_SZV_1A!U:U) -> 0 | R5: =SUMIF(F_SZV_1A!$F:$F,$C5,F_SZV_1A!V:V) -> 0 | S5: =SUMIF(F_SZV_1A!$F:$F,$C5,F_SZV_1A!W:W) -> 0 | T5: =SUMIF(F_SZV_1A!$F:$F,$C5,F_SZV_1A!X:X) -> 0 | U5: =SUMIF(F_SZV_1A!$F:$F,$C5,F_SZV_1A!Y:Y) -> 0 | V5: =SUMIF(F_SZV_1A!$F:$F,$C5,F_SZV_1A!Z:Z) -> 0 | W5: =SUMIF(F_SZV_1A!$F:$F,$C5,F_SZV_1A!AA:AA) -> 0 | X5: =SUMIF(F_SZV_1A!$F:$F,$C5,F_SZV_1A!AB:AB) -> 0 | Y5: =SUM(N5:X5) -> 0 | AA5: =SUMIF(F_SZV_1A!$F:$F,$C5,F_SZV_1A!AF:AF) -> 0 | AB5: =SUMIF(F_SZV_1A!$F:$F,$C5,F_SZV_1A!AG:AG) -> 0 | AC5: =SUMIF(F_SZV_1A!$F:$F,$C5,F_SZV_1A!AH:AH) -> 0 | AD5: =SUMIF(F_SZV_1A!$F:$F,$C5,F_SZV_1A!AI:AI) -> 0 | AE5: =SUMIF(F_SZV_1A!$F:$F,$C5,F_SZV_1A!AJ:AJ) -> 0 | AF5: =SUMIF(F_SZV_1A!$F:$F,$C5,F_SZV_1A!AK:AK) -> 0 | AG5: =SUMIF(F_SZV_1A!$F:$F,$C5,F_SZV_1A!AL:AL) -> 0 | AH5: =SUMIF(F_SZV_1A!$F:$F,$C5,F_SZV_1A!AM:AM) -> 0 | AI5: =SUMIF(F_SZV_1A!$F:$F,$C5,F_SZV_1A!AN:AN) -> 0 | AJ5: =SUMIF(F_SZV_1A!$F:$F,$C5,F_SZV_1A!AO:AO) -> 0 | AK5: =SUMIF(F_SZV_1A!$F:$F,$C5,F_SZV_1A!AP:AP) -> 0 | AL5: =SUM(AA5:AK5) -> 0 | AR5: =INDEX(F_SZV_1A!$G:$G,MATCH($C5,F_SZV_1A!$F:$F,0)) -> #N/A | AS5: =COUNTIF(F_SZV_1A!$AY$3:$AY$2427,$D5) -> 0 | AT5: =SUMIF(F_SZV_1A!$AY$3:$AY$2427,$D5,F_SZV_1A!$CF$3:$CF$2427) -> 0 | AU5: =SUMIF(F_SZV_1A!$AY:$AY,$D5,F_SZV_1A!$CG:$CG) -> 0 | AV5: =SUMIF(F_SZV_1A!$AY:$AY,$D5,F_SZV_1A!$CG:$CG) -> 0
A6: 1673 | B6: Zalacsány-SZV | C6: 21-04002-1-001-00-06 | D6: 3170 | E6: Zalacsány Község Önkormányzata | F6: Zalacsány | G6: =IF(ISNA($AR6),"Nincs rögzítve!",IF(AU6=0,"Hiányzik a rövidtávú terv!",IF(AV6=0,"Hiányzik a hosszútávú terv!",IF(AS6=AT6,"Kitöltés rendben!",IF(AS6<>AT6,"Kitöltési hiba!","Kitöltési hiba!"))))) -> Nincs rögzítve! | I6: =J6+K6 -> 0 | J6: =SUMIF(F_SZV_1A!$F:$F,$C6,F_SZV_1A!$N:$N) -> 0 | K6: =SUMIF(F_SZV_1A!$F:$F,$C6,F_SZV_1A!$O:$O) -> 0 | L6: =SUMIF(F_SZV_1A!$F:$F,$C6,F_SZV_1A!$P:$P) -> 0 | N6: =SUMIF(F_SZV_1A!$F:$F,$C6,F_SZV_1A!R:R) -> 0 | O6: =SUMIF(F_SZV_1A!$F:$F,$C6,F_SZV_1A!S:S) -> 0 | P6: =SUMIF(F_SZV_1A!$F:$F,$C6,F_SZV_1A!T:T) -> 0 | Q6: =SUMIF(F_SZV_1A!$F:$F,$C6,F_SZV_1A!U:U) -> 0 | R6: =SUMIF(F_SZV_1A!$F:$F,$C6,F_SZV_1A!V:V) -> 0 | S6: =SUMIF(F_SZV_1A!$F:$F,$C6,F_SZV_1A!W:W) -> 0 | T6: =SUMIF(F_SZV_1A!$F:$F,$C6,F_SZV_1A!X:X) -> 0 | U6: =SUMIF(F_SZV_1A!$F:$F,$C6,F_SZV_1A!Y:Y) -> 0 | V6: =SUMIF(F_SZV_1A!$F:$F,$C6,F_SZV_1A!Z:Z) -> 0 | W6: =SUMIF(F_SZV_1A!$F:$F,$C6,F_SZV_1A!AA:AA) -> 0 | X6: =SUMIF(F_SZV_1A!$F:$F,$C6,F_SZV_1A!AB:AB) -> 0 | Y6: =SUM(N6:X6) -> 0 | AA6: =SUMIF(F_SZV_1A!$F:$F,$C6,F_SZV_1A!AF:AF) -> 0 | AB6: =SUMIF(F_SZV_1A!$F:$F,$C6,F_SZV_1A!AG:AG) -> 0 | AC6: =SUMIF(F_SZV_1A!$F:$F,$C6,F_SZV_1A!AH:AH) -> 0 | AD6: =SUMIF(F_SZV_1A!$F:$F,$C6,F_SZV_1A!AI:AI) -> 0 | AE6: =SUMIF(F_SZV_1A!$F:$F,$C6,F_SZV_1A!AJ:AJ) -> 0 | AF6: =SUMIF(F_SZV_1A!$F:$F,$C6,F_SZV_1A!AK:AK) -> 0 | AG6: =SUMIF(F_SZV_1A!$F:$F,$C6,F_SZV_1A!AL:AL) -> 0 | AH6: =SUMIF(F_SZV_1A!$F:$F,$C6,F_SZV_1A!AM:AM) -> 0 | AI6: =SUMIF(F_SZV_1A!$F:$F,$C6,F_SZV_1A!AN:AN) -> 0 | AJ6: =SUMIF(F_SZV_1A!$F:$F,$C6,F_SZV_1A!AO:AO) -> 0 | AK6: =SUMIF(F_SZV_1A!$F:$F,$C6,F_SZV_1A!AP:AP) -> 0 | AL6: =SUM(AA6:AK6) -> 0 | AR6: =INDEX(F_SZV_1A!$G:$G,MATCH($C6,F_SZV_1A!$F:$F,0)) -> #N/A | AS6: =COUNTIF(F_SZV_1A!$AY$3:$AY$2427,$D6) -> 0 | AT6: =SUMIF(F_SZV_1A!$AY$3:$AY$2427,$D6,F_SZV_1A!$CF$3:$CF$2427) -> 0 | AU6: =SUMIF(F_SZV_1A!$AY:$AY,$D6,F_SZV_1A!$CG:$CG) -> 0 | AV6: =SUMIF(F_SZV_1A!$AY:$AY,$D6,F_SZV_1A!$CG:$CG) -> 0
A7: 1674 | B7: Kányavár-SZV | C7: 21-04473-1-001-00-11 | D7: 4270 | E7: Kányavár Község Önkormányzata | F7: Kányavár | G7: =IF(ISNA($AR7),"Nincs rögzítve!",IF(AU7=0,"Hiányzik a rövidtávú terv!",IF(AV7=0,"Hiányzik a hosszútávú terv!",IF(AS7=AT7,"Kitöltés rendben!",IF(AS7<>AT7,"Kitöltési hiba!","Kitöltési hiba!"))))) -> Nincs rögzítve! | I7: =J7+K7 -> 0 | J7: =SUMIF(F_SZV_1A!$F:$F,$C7,F_SZV_1A!$N:$N) -> 0 | K7: =SUMIF(F_SZV_1A!$F:$F,$C7,F_SZV_1A!$O:$O) -> 0 | L7: =SUMIF(F_SZV_1A!$F:$F,$C7,F_SZV_1A!$P:$P) -> 0 | N7: =SUMIF(F_SZV_1A!$F:$F,$C7,F_SZV_1A!R:R) -> 0 | O7: =SUMIF(F_SZV_1A!$F:$F,$C7,F_SZV_1A!S:S) -> 0 | P7: =SUMIF(F_SZV_1A!$F:$F,$C7,F_SZV_1A!T:T) -> 0 | Q7: =SUMIF(F_SZV_1A!$F:$F,$C7,F_SZV_1A!U:U) -> 0 | R7: =SUMIF(F_SZV_1A!$F:$F,$C7,F_SZV_1A!V:V) -> 0 | S7: =SUMIF(F_SZV_1A!$F:$F,$C7,F_SZV_1A!W:W) -> 0 | T7: =SUMIF(F_SZV_1A!$F:$F,$C7,F_SZV_1A!X:X) -> 0 | U7: =SUMIF(F_SZV_1A!$F:$F,$C7,F_SZV_1A!Y:Y) -> 0 | V7: =SUMIF(F_SZV_1A!$F:$F,$C7,F_SZV_1A!Z:Z) -> 0 | W7: =SUMIF(F_SZV_1A!$F:$F,$C7,F_SZV_1A!AA:AA) -> 0 | X7: =SUMIF(F_SZV_1A!$F:$F,$C7,F_SZV_1A!AB:AB) -> 0 | Y7: =SUM(N7:X7) -> 0 | AA7: =SUMIF(F_SZV_1A!$F:$F,$C7,F_SZV_1A!AF:AF) -> 0 | AB7: =SUMIF(F_SZV_1A!$F:$F,$C7,F_SZV_1A!AG:AG) -> 0 | AC7: =SUMIF(F_SZV_1A!$F:$F,$C7,F_SZV_1A!AH:AH) -> 0 | AD7: =SUMIF(F_SZV_1A!$F:$F,$C7,F_SZV_1A!AI:AI) -> 0 | AE7: =SUMIF(F_SZV_1A!$F:$F,$C7,F_SZV_1A!AJ:AJ) -> 0 | AF7: =SUMIF(F_SZV_1A!$F:$F,$C7,F_SZV_1A!AK:AK) -> 0 | AG7: =SUMIF(F_SZV_1A!$F:$F,$C7,F_SZV_1A!AL:AL) -> 0 | AH7: =SUMIF(F_SZV_1A!$F:$F,$C7,F_SZV_1A!AM:AM) -> 0 | AI7: =SUMIF(F_SZV_1A!$F:$F,$C7,F_SZV_1A!AN:AN) -> 0 | AJ7: =SUMIF(F_SZV_1A!$F:$F,$C7,F_SZV_1A!AO:AO) -> 0 | AK7: =SUMIF(F_SZV_1A!$F:$F,$C7,F_SZV_1A!AP:AP) -> 0 | AL7: =SUM(AA7:AK7) -> 0 | AR7: =INDEX(F_SZV_1A!$G:$G,MATCH($C7,F_SZV_1A!$F:$F,0)) -> #N/A | AS7: =COUNTIF(F_SZV_1A!$AY$3:$AY$2427,$D7) -> 0 | AT7: =SUMIF(F_SZV_1A!$AY$3:$AY$2427,$D7,F_SZV_1A!$CF$3:$CF$2427) -> 0 | AU7: =SUMIF(F_SZV_1A!$AY:$AY,$D7,F_SZV_1A!$CG:$CG) -> 0 | AV7: =SUMIF(F_SZV_1A!$AY:$AY,$D7,F_SZV_1A!$CG:$CG) -> 0
A8: 1675 | B8: Tófej-SZV | C8: 21-05342-1-003-00-01 | D8: 3171 | E8: Baktüttös Község Önkormányzata, Pusztaederics Község Önkormányzata, Tófej Község Önkormányzata | F8: Baktüttös, Pusztaederics, Tófej | G8: =IF(ISNA($AR8),"Nincs rögzítve!",IF(AU8=0,"Hiányzik a rövidtávú terv!",IF(AV8=0,"Hiányzik a hosszútávú terv!",IF(AS8=AT8,"Kitöltés rendben!",IF(AS8<>AT8,"Kitöltési hiba!","Kitöltési hiba!"))))) -> Nincs rögzítve! | I8: =J8+K8 -> 0 | J8: =SUMIF(F_SZV_1A!$F:$F,$C8,F_SZV_1A!$N:$N) -> 0 | K8: =SUMIF(F_SZV_1A!$F:$F,$C8,F_SZV_1A!$O:$O) -> 0 | L8: =SUMIF(F_SZV_1A!$F:$F,$C8,F_SZV_1A!$P:$P) -> 0 | N8: =SUMIF(F_SZV_1A!$F:$F,$C8,F_SZV_1A!R:R) -> 0 | O8: =SUMIF(F_SZV_1A!$F:$F,$C8,F_SZV_1A!S:S) -> 0 | P8: =SUMIF(F_SZV_1A!$F:$F,$C8,F_SZV_1A!T:T) -> 0 | Q8: =SUMIF(F_SZV_1A!$F:$F,$C8,F_SZV_1A!U:U) -> 0 | R8: =SUMIF(F_SZV_1A!$F:$F,$C8,F_SZV_1A!V:V) -> 0 | S8: =SUMIF(F_SZV_1A!$F:$F,$C8,F_SZV_1A!W:W) -> 0 | T8: =SUMIF(F_SZV_1A!$F:$F,$C8,F_SZV_1A!X:X) -> 0 | U8: =SUMIF(F_SZV_1A!$F:$F,$C8,F_SZV_1A!Y:Y) -> 0 | V8: =SUMIF(F_SZV_1A!$F:$F,$C8,F_SZV_1A!Z:Z) -> 0 | W8: =SUMIF(F_SZV_1A!$F:$F,$C8,F_SZV_1A!AA:AA) -> 0 | X8: =SUMIF(F_SZV_1A!$F:$F,$C8,F_SZV_1A!AB:AB) -> 0 | Y8: =SUM(N8:X8) -> 0 | AA8: =SUMIF(F_SZV_1A!$F:$F,$C8,F_SZV_1A!AF:AF) -> 0 | AB8: =SUMIF(F_SZV_1A!$F:$F,$C8,F_SZV_1A!AG:AG) -> 0 | AC8: =SUMIF(F_SZV_1A!$F:$F,$C8,F_SZV_1A!AH:AH) -> 0 | AD8: =SUMIF(F_SZV_1A!$F:$F,$C8,F_SZV_1A!AI:AI) -> 0 | AE8: =SUMIF(F_SZV_1A!$F:$F,$C8,F_SZV_1A!AJ:AJ) -> 0 | AF8: =SUMIF(F_SZV_1A!$F:$F,$C8,F_SZV_1A!AK:AK) -> 0 | AG8: =SUMIF(F_SZV_1A!$F:$F,$C8,F_SZV_1A!AL:AL) -> 0 | AH8: =SUMIF(F_SZV_1A!$F:$F,$C8,F_SZV_1A!AM:AM) -> 0 | AI8: =SUMIF(F_SZV_1A!$F:$F,$C8,F_SZV_1A!AN:AN) -> 0 | AJ8: =SUMIF(F_SZV_1A!$F:$F,$C8,F_SZV_1A!AO:AO) -> 0 | AK8: =SUMIF(F_SZV_1A!$F:$F,$C8,F_SZV_1A!AP:AP) -> 0 | AL8: =SUM(AA8:AK8) -> 0 | AR8: =INDEX(F_SZV_1A!$G:$G,MATCH($C8,F_SZV_1A!$F:$F,0)) -> #N/A | AS8: =COUNTIF(F_SZV_1A!$AY$3:$AY$2427,$D8) -> 0 | AT8: =SUMIF(F_SZV_1A!$AY$3:$AY$2427,$D8,F_SZV_1A!$CF$3:$CF$2427) -> 0 | AU8: =SUMIF(F_SZV_1A!$AY:$AY,$D8,F_SZV_1A!$CG:$CG) -> 0 | AV8: =SUMIF(F_SZV_1A!$AY:$AY,$D8,F_SZV_1A!$CG:$CG) -> 0
A9: 1676 | B9: Gellénháza-SZV | C9: 21-08068-1-003-00-14 | D9: 3172 | E9: Gellénháza Község Önkormányzata, Nagylengyel Község Önkormányzata, Ormándlak Község Önkormányzata | F9: Gellénháza, Nagylengyel, Ormándlak | G9: =IF(ISNA($AR9),"Nincs rögzítve!",IF(AU9=0,"Hiányzik a rövidtávú terv!",IF(AV9=0,"Hiányzik a hosszútávú terv!",IF(AS9=AT9,"Kitöltés rendben!",IF(AS9<>AT9,"Kitöltési hiba!","Kitöltési hiba!"))))) -> Nincs rögzítve! | I9: =J9+K9 -> 0 | J9: =SUMIF(F_SZV_1A!$F:$F,$C9,F_SZV_1A!$N:$N) -> 0 | K9: =SUMIF(F_SZV_1A!$F:$F,$C9,F_SZV_1A!$O:$O) -> 0 | L9: =SUMIF(F_SZV_1A!$F:$F,$C9,F_SZV_1A!$P:$P) -> 0 | N9: =SUMIF(F_SZV_1A!$F:$F,$C9,F_SZV_1A!R:R) -> 0 | O9: =SUMIF(F_SZV_1A!$F:$F,$C9,F_SZV_1A!S:S) -> 0 | P9: =SUMIF(F_SZV_1A!$F:$F,$C9,F_SZV_1A!T:T) -> 0 | Q9: =SUMIF(F_SZV_1A!$F:$F,$C9,F_SZV_1A!U:U) -> 0 | R9: =SUMIF(F_SZV_1A!$F:$F,$C9,F_SZV_1A!V:V) -> 0 | S9: =SUMIF(F_SZV_1A!$F:$F,$C9,F_SZV_1A!W:W) -> 0 | T9: =SUMIF(F_SZV_1A!$F:$F,$C9,F_SZV_1A!X:X) -> 0 | U9: =SUMIF(F_SZV_1A!$F:$F,$C9,F_SZV_1A!Y:Y) -> 0 | V9: =SUMIF(F_SZV_1A!$F:$F,$C9,F_SZV_1A!Z:Z) -> 0 | W9: =SUMIF(F_SZV_1A!$F:$F,$C9,F_SZV_1A!AA:AA) -> 0 | X9: =SUMIF(F_SZV_1A!$F:$F,$C9,F_SZV_1A!AB:AB) -> 0 | Y9: =SUM(N9:X9) -> 0 | AA9: =SUMIF(F_SZV_1A!$F:$F,$C9,F_SZV_1A!AF:AF) -> 0 | AB9: =SUMIF(F_SZV_1A!$F:$F,$C9,F_SZV_1A!AG:AG) -> 0 | AC9: =SUMIF(F_SZV_1A!$F:$F,$C9,F_SZV_1A!AH:AH) -> 0 | AD9: =SUMIF(F_SZV_1A!$F:$F,$C9,F_SZV_1A!AI:AI) -> 0 | AE9: =SUMIF(F_SZV_1A!$F:$F,$C9,F_SZV_1A!AJ:AJ) -> 0 | AF9: =SUMIF(F_SZV_1A!$F:$F,$C9,F_SZV_1A!AK:AK) -> 0 | AG9: =SUMIF(F_SZV_1A!$F:$F,$C9,F_SZV_1A!AL:AL) -> 0 | AH9: =SUMIF(F_SZV_1A!$F:$F,$C9,F_SZV_1A!AM:AM) -> 0 | AI9: =SUMIF(F_SZV_1A!$F:$F,$C9,F_SZV_1A!AN:AN) -> 0 | AJ9: =SUMIF(F_SZV_1A!$F:$F,$C9,F_SZV_1A!AO:AO) -> 0 | AK9: =SUMIF(F_SZV_1A!$F:$F,$C9,F_SZV_1A!AP:AP) -> 0 | AL9: =SUM(AA9:AK9) -> 0 | AR9: =INDEX(F_SZV_1A!$G:$G,MATCH($C9,F_SZV_1A!$F:$F,0)) -> #N/A | AS9: =COUNTIF(F_SZV_1A!$AY$3:$AY$2427,$D9) -> 0 | AT9: =SUMIF(F_SZV_1A!$AY$3:$AY$2427,$D9,F_SZV_1A!$CF$3:$CF$2427) -> 0 | AU9: =SUMIF(F_SZV_1A!$AY:$AY,$D9,F_SZV_1A!$CG:$CG) -> 0 | AV9: =SUMIF(F_SZV_1A!$AY:$AY,$D9,F_SZV_1A!$CG:$CG) -> 0
A10: 1677 | B10: Lenti-SZV | C10: 21-12575-1-011-01-13 | D10: 3173 | E10: Lenti Város Önkormányzata, Iklódbördőce Község Önkormányzata, Kerkabarabás Község Önkormányzata, Zalabaksa Község Önkormányzata, Csesztreg Község Önkormányzata, Rédics Község Önkormányzata, Resznek Község Önkormányzata, Külsősárd Község Önkormányzata, Belsősárd Község Önkormányzata, Szilvágy Község Önkormányzata, Pórszombat Község Önkormányzata | F10: Lenti - kivéve Máhomfa, Iklódbördőce, Kerkabarabás, Zalabaksa, Csesztreg, Rédics, Resznek, Külsősárd, Belsősárd, Szilvágy, Pórszombat | G10: =IF(ISNA($AR10),"Nincs rögzítve!",IF(AU10=0,"Hiányzik a rövidtávú terv!",IF(AV10=0,"Hiányzik a hosszútávú terv!",IF(AS10=AT10,"Kitöltés rendben!",IF(AS10<>AT10,"Kitöltési hiba!","Kitöltési hiba!"))))) -> Nincs rögzítve! | I10: =J10+K10 -> 0 | J10: =SUMIF(F_SZV_1A!$F:$F,$C10,F_SZV_1A!$N:$N) -> 0 | K10: =SUMIF(F_SZV_1A!$F:$F,$C10,F_SZV_1A!$O:$O) -> 0 | L10: =SUMIF(F_SZV_1A!$F:$F,$C10,F_SZV_1A!$P:$P) -> 0 | N10: =SUMIF(F_SZV_1A!$F:$F,$C10,F_SZV_1A!R:R) -> 0 | O10: =SUMIF(F_SZV_1A!$F:$F,$C10,F_SZV_1A!S:S) -> 0 | P10: =SUMIF(F_SZV_1A!$F:$F,$C10,F_SZV_1A!T:T) -> 0 | Q10: =SUMIF(F_SZV_1A!$F:$F,$C10,F_SZV_1A!U:U) -> 0 | R10: =SUMIF(F_SZV_1A!$F:$F,$C10,F_SZV_1A!V:V) -> 0 | S10: =SUMIF(F_SZV_1A!$F:$F,$C10,F_SZV_1A!W:W) -> 0 | T10: =SUMIF(F_SZV_1A!$F:$F,$C10,F_SZV_1A!X:X) -> 0 | U10: =SUMIF(F_SZV_1A!$F:$F,$C10,F_SZV_1A!Y:Y) -> 0 | V10: =SUMIF(F_SZV_1A!$F:$F,$C10,F_SZV_1A!Z:Z) -> 0 | W10: =SUMIF(F_SZV_1A!$F:$F,$C10,F_SZV_1A!AA:AA) -> 0 | X10: =SUMIF(F_SZV_1A!$F:$F,$C10,F_SZV_1A!AB:AB) -> 0 | Y10: =SUM(N10:X10) -> 0 | AA10: =SUMIF(F_SZV_1A!$F:$F,$C10,F_SZV_1A!AF:AF) -> 0 | AB10: =SUMIF(F_SZV_1A!$F:$F,$C10,F_SZV_1A!AG:AG) -> 0 | AC10: =SUMIF(F_SZV_1A!$F:$F,$C10,F_SZV_1A!AH:AH) -> 0 | AD10: =SUMIF(F_SZV_1A!$F:$F,$C10,F_SZV_1A!AI:AI) -> 0 | AE10: =SUMIF(F_SZV_1A!$F:$F,$C10,F_SZV_1A!AJ:AJ) -> 0 | AF10: =SUMIF(F_SZV_1A!$F:$F,$C10,F_SZV_1A!AK:AK) -> 0 | AG10: =SUMIF(F_SZV_1A!$F:$F,$C10,F_SZV_1A!AL:AL) -> 0 | AH10: =SUMIF(F_SZV_1A!$F:$F,$C10,F_SZV_1A!AM:AM) -> 0 | AI10: =SUMIF(F_SZV_1A!$F:$F,$C10,F_SZV_1A!AN:AN) -> 0 | AJ10: =SUMIF(F_SZV_1A!$F:$F,$C10,F_SZV_1A!AO:AO) -> 0 | AK10: =SUMIF(F_SZV_1A!$F:$F,$C10,F_SZV_1A!AP:AP) -> 0 | AL10: =SUM(AA10:AK10) -> 0 | AR10: =INDEX(F_SZV_1A!$G:$G,MATCH($C10,F_SZV_1A!$F:$F,0)) -> #N/A | AS10: =COUNTIF(F_SZV_1A!$AY$3:$AY$2427,$D10) -> 0 | AT10: =SUMIF(F_SZV_1A!$AY$3:$AY$2427,$D10,F_SZV_1A!$CF$3:$CF$2427) -> 0 | AU10: =SUMIF(F_SZV_1A!$AY:$AY,$D10,F_SZV_1A!$CG:$CG) -> 0 | AV10: =SUMIF(F_SZV_1A!$AY:$AY,$D10,F_SZV_1A!$CG:$CG) -> 0
A11: 1678 | B11: KOZMADOMBJA-SZV (KOZ-SZV) | C11: 21-13082-1-003-00-13 | D11: 3175 | E11: Kálócfa Község Önkormányzata, Kozmadombja Község Önkormányzata, Zalalövő Város Önkormányzata | F11: Kálócfa, Kozmadombja, Zalalövő - Irsapuszta és Szűcsmajor | G11: =IF(ISNA($AR11),"Nincs rögzítve!",IF(AU11=0,"Hiányzik a rövidtávú terv!",IF(AV11=0,"Hiányzik a hosszútávú terv!",IF(AS11=AT11,"Kitöltés rendben!",IF(AS11<>AT11,"Kitöltési hiba!","Kitöltési hiba!"))))) -> Nincs rögzítve! | I11: =J11+K11 -> 0 | J11: =SUMIF(F_SZV_1A!$F:$F,$C11,F_SZV_1A!$N:$N) -> 0 | K11: =SUMIF(F_SZV_1A!$F:$F,$C11,F_SZV_1A!$O:$O) -> 0 | L11: =SUMIF(F_SZV_1A!$F:$F,$C11,F_SZV_1A!$P:$P) -> 0 | N11: =SUMIF(F_SZV_1A!$F:$F,$C11,F_SZV_1A!R:R) -> 0 | O11: =SUMIF(F_SZV_1A!$F:$F,$C11,F_SZV_1A!S:S) -> 0 | P11: =SUMIF(F_SZV_1A!$F:$F,$C11,F_SZV_1A!T:T) -> 0 | Q11: =SUMIF(F_SZV_1A!$F:$F,$C11,F_SZV_1A!U:U) -> 0 | R11: =SUMIF(F_SZV_1A!$F:$F,$C11,F_SZV_1A!V:V) -> 0 | S11: =SUMIF(F_SZV_1A!$F:$F,$C11,F_SZV_1A!W:W) -> 0 | T11: =SUMIF(F_SZV_1A!$F:$F,$C11,F_SZV_1A!X:X) -> 0 | U11: =SUMIF(F_SZV_1A!$F:$F,$C11,F_SZV_1A!Y:Y) -> 0 | V11: =SUMIF(F_SZV_1A!$F:$F,$C11,F_SZV_1A!Z:Z) -> 0 | W11: =SUMIF(F_SZV_1A!$F:$F,$C11,F_SZV_1A!AA:AA) -> 0 | X11: =SUMIF(F_SZV_1A!$F:$F,$C11,F_SZV_1A!AB:AB) -> 0 | Y11: =SUM(N11:X11) -> 0 | AA11: =SUMIF(F_SZV_1A!$F:$F,$C11,F_SZV_1A!AF:AF) -> 0 | AB11: =SUMIF(F_SZV_1A!$F:$F,$C11,F_SZV_1A!AG:AG) -> 0 | AC11: =SUMIF(F_SZV_1A!$F:$F,$C11,F_SZV_1A!AH:AH) -> 0 | AD11: =SUMIF(F_SZV_1A!$F:$F,$C11,F_SZV_1A!AI:AI) -> 0 | AE11: =SUMIF(F_SZV_1A!$F:$F,$C11,F_SZV_1A!AJ:AJ) -> 0 | AF11: =SUMIF(F_SZV_1A!$F:$F,$C11,F_SZV_1A!AK:AK) -> 0 | AG11: =SUMIF(F_SZV_1A!$F:$F,$C11,F_SZV_1A!AL:AL) -> 0 | AH11: =SUMIF(F_SZV_1A!$F:$F,$C11,F_SZV_1A!AM:AM) -> 0 | AI11: =SUMIF(F_SZV_1A!$F:$F,$C11,F_SZV_1A!AN:AN) -> 0 | AJ11: =SUMIF(F_SZV_1A!$F:$F,$C11,F_SZV_1A!AO:AO) -> 0 | AK11: =SUMIF(F_SZV_1A!$F:$F,$C11,F_SZV_1A!AP:AP) -> 0 | AL11: =SUM(AA11:AK11) -> 0 | AR11: =INDEX(F_SZV_1A!$G:$G,MATCH($C11,F_SZV_1A!$F:$F,0)) -> #N/A | AS11: =COUNTIF(F_SZV_1A!$AY$3:$AY$2427,$D11) -> 0 | AT11: =SUMIF(F_SZV_1A!$AY$3:$AY$2427,$D11,F_SZV_1A!$CF$3:$CF$2427) -> 0 | AU11: =SUMIF(F_SZV_1A!$AY:$AY,$D11,F_SZV_1A!$CG:$CG) -> 0 | AV11: =SUMIF(F_SZV_1A!$AY:$AY,$D11,F_SZV_1A!$CG:$CG) -> 0
A12: 1679 | B12: Zalaszentmárton-SZV | C12: 21-13091-1-001-00-10 | D12: 3176 | E12: Zalaszentmárton Község Önkormányzata | F12: Zalaszentmárton | G12: =IF(ISNA($AR12),"Nincs rögzítve!",IF(AU12=0,"Hiányzik a rövidtávú terv!",IF(AV12=0,"Hiányzik a hosszútávú terv!",IF(AS12=AT12,"Kitöltés rendben!",IF(AS12<>AT12,"Kitöltési hiba!","Kitöltési hiba!"))))) -> Nincs rögzítve! | I12: =J12+K12 -> 0 | J12: =SUMIF(F_SZV_1A!$F:$F,$C12,F_SZV_1A!$N:$N) -> 0 | K12: =SUMIF(F_SZV_1A!$F:$F,$C12,F_SZV_1A!$O:$O) -> 0 | L12: =SUMIF(F_SZV_1A!$F:$F,$C12,F_SZV_1A!$P:$P) -> 0 | N12: =SUMIF(F_SZV_1A!$F:$F,$C12,F_SZV_1A!R:R) -> 0 | O12: =SUMIF(F_SZV_1A!$F:$F,$C12,F_SZV_1A!S:S) -> 0 | P12: =SUMIF(F_SZV_1A!$F:$F,$C12,F_SZV_1A!T:T) -> 0 | Q12: =SUMIF(F_SZV_1A!$F:$F,$C12,F_SZV_1A!U:U) -> 0 | R12: =SUMIF(F_SZV_1A!$F:$F,$C12,F_SZV_1A!V:V) -> 0 | S12: =SUMIF(F_SZV_1A!$F:$F,$C12,F_SZV_1A!W:W) -> 0 | T12: =SUMIF(F_SZV_1A!$F:$F,$C12,F_SZV_1A!X:X) -> 0 | U12: =SUMIF(F_SZV_1A!$F:$F,$C12,F_SZV_1A!Y:Y) -> 0 | V12: =SUMIF(F_SZV_1A!$F:$F,$C12,F_SZV_1A!Z:Z) -> 0 | W12: =SUMIF(F_SZV_1A!$F:$F,$C12,F_SZV_1A!AA:AA) -> 0 | X12: =SUMIF(F_SZV_1A!$F:$F,$C12,F_SZV_1A!AB:AB) -> 0 | Y12: =SUM(N12:X12) -> 0 | AA12: =SUMIF(F_SZV_1A!$F:$F,$C12,F_SZV_1A!AF:AF) -> 0 | AB12: =SUMIF(F_SZV_1A!$F:$F,$C12,F_SZV_1A!AG:AG) -> 0 | AC12: =SUMIF(F_SZV_1A!$F:$F,$C12,F_SZV_1A!AH:AH) -> 0 | AD12: =SUMIF(F_SZV_1A!$F:$F,$C12,F_SZV_1A!AI:AI) -> 0 | AE12: =SUMIF(F_SZV_1A!$F:$F,$C12,F_SZV_1A!AJ:AJ) -> 0 | AF12: =SUMIF(F_SZV_1A!$F:$F,$C12,F_SZV_1A!AK:AK) -> 0 | AG12: =SUMIF(F_SZV_1A!$F:$F,$C12,F_SZV_1A!AL:AL) -> 0 | AH12: =SUMIF(F_SZV_1A!$F:$F,$C12,F_SZV_1A!AM:AM) -> 0 | AI12: =SUMIF(F_SZV_1A!$F:$F,$C12,F_SZV_1A!AN:AN) -> 0 | AJ12: =SUMIF(F_SZV_1A!$F:$F,$C12,F_SZV_1A!AO:AO) -> 0 | AK12: =SUMIF(F_SZV_1A!$F:$F,$C12,F_SZV_1A!AP:AP) -> 0 | AL12: =SUM(AA12:AK12) -> 0 | AR12: =INDEX(F_SZV_1A!$G:$G,MATCH($C12,F_SZV_1A!$F:$F,0)) -> #N/A | AS12: =COUNTIF(F_SZV_1A!$AY$3:$AY$2427,$D12) -> 0 | AT12: =SUMIF(F_SZV_1A!$AY$3:$AY$2427,$D12,F_SZV_1A!$CF$3:$CF$2427) -> 0 | AU12: =SUMIF(F_SZV_1A!$AY:$AY,$D12,F_SZV_1A!$CG:$CG) -> 0 | AV12: =SUMIF(F_SZV_1A!$AY:$AY,$D12,F_SZV_1A!$CG:$CG) -> 0
A13: 1680 | B13: Esztergályhorváti-SZV | C13: 21-15769-1-001-00-13 | D13: 3177 | E13: Esztergályhorváti Község Önkormányzata | F13: Esztergályhorváti | G13: =IF(ISNA($AR13),"Nincs rögzítve!",IF(AU13=0,"Hiányzik a rövidtávú terv!",IF(AV13=0,"Hiányzik a hosszútávú terv!",IF(AS13=AT13,"Kitöltés rendben!",IF(AS13<>AT13,"Kitöltési hiba!","Kitöltési hiba!"))))) -> Nincs rögzítve! | I13: =J13+K13 -> 0 | J13: =SUMIF(F_SZV_1A!$F:$F,$C13,F_SZV_1A!$N:$N) -> 0 | K13: =SUMIF(F_SZV_1A!$F:$F,$C13,F_SZV_1A!$O:$O) -> 0 | L13: =SUMIF(F_SZV_1A!$F:$F,$C13,F_SZV_1A!$P:$P) -> 0 | N13: =SUMIF(F_SZV_1A!$F:$F,$C13,F_SZV_1A!R:R) -> 0 | O13: =SUMIF(F_SZV_1A!$F:$F,$C13,F_SZV_1A!S:S) -> 0 | P13: =SUMIF(F_SZV_1A!$F:$F,$C13,F_SZV_1A!T:T) -> 0 | Q13: =SUMIF(F_SZV_1A!$F:$F,$C13,F_SZV_1A!U:U) -> 0 | R13: =SUMIF(F_SZV_1A!$F:$F,$C13,F_SZV_1A!V:V) -> 0 | S13: =SUMIF(F_SZV_1A!$F:$F,$C13,F_SZV_1A!W:W) -> 0 | T13: =SUMIF(F_SZV_1A!$F:$F,$C13,F_SZV_1A!X:X) -> 0 | U13: =SUMIF(F_SZV_1A!$F:$F,$C13,F_SZV_1A!Y:Y) -> 0 | V13: =SUMIF(F_SZV_1A!$F:$F,$C13,F_SZV_1A!Z:Z) -> 0 | W13: =SUMIF(F_SZV_1A!$F:$F,$C13,F_SZV_1A!AA:AA) -> 0 | X13: =SUMIF(F_SZV_1A!$F:$F,$C13,F_SZV_1A!AB:AB) -> 0 | Y13: =SUM(N13:X13) -> 0 | AA13: =SUMIF(F_SZV_1A!$F:$F,$C13,F_SZV_1A!AF:AF) -> 0 | AB13: =SUMIF(F_SZV_1A!$F:$F,$C13,F_SZV_1A!AG:AG) -> 0 | AC13: =SUMIF(F_SZV_1A!$F:$F,$C13,F_SZV_1A!AH:AH) -> 0 | AD13: =SUMIF(F_SZV_1A!$F:$F,$C13,F_SZV_1A!AI:AI) -> 0 | AE13: =SUMIF(F_SZV_1A!$F:$F,$C13,F_SZV_1A!AJ:AJ) -> 0 | AF13: =SUMIF(F_SZV_1A!$F:$F,$C13,F_SZV_1A!AK:AK) -> 0 | AG13: =SUMIF(F_SZV_1A!$F:$F,$C13,F_SZV_1A!AL:AL) -> 0 | AH13: =SUMIF(F_SZV_1A!$F:$F,$C13,F_SZV_1A!AM:AM) -> 0 | AI13: =SUMIF(F_SZV_1A!$F:$F,$C13,F_SZV_1A!AN:AN) -> 0 | AJ13: =SUMIF(F_SZV_1A!$F:$F,$C13,F_SZV_1A!AO:AO) -> 0 | AK13: =SUMIF(F_SZV_1A!$F:$F,$C13,F_SZV_1A!AP:AP) -> 0 | AL13: =SUM(AA13:AK13) -> 0 | AR13: =INDEX(F_SZV_1A!$G:$G,MATCH($C13,F_SZV_1A!$F:$F,0)) -> #N/A | AS13: =COUNTIF(F_SZV_1A!$AY$3:$AY$2427,$D13) -> 0 | AT13: =SUMIF(F_SZV_1A!$AY$3:$AY$2427,$D13,F_SZV_1A!$CF$3:$CF$2427) -> 0 | AU13: =SUMIF(F_SZV_1A!$AY:$AY,$D13,F_SZV_1A!$CG:$CG) -> 0 | AV13: =SUMIF(F_SZV_1A!$AY:$AY,$D13,F_SZV_1A!$CG:$CG) -> 0
A14: 1681 | B14: Zalaapáti-SZV | C14: 21-17400-1-002-00-11 | D14: 3178 | E14: Bókaháza Község Önkormányzata, Zalaapáti Község Önkormányzata | F14: Bókaháza, Zalaapáti | G14: =IF(ISNA($AR14),"Nincs rögzítve!",IF(AU14=0,"Hiányzik a rövidtávú terv!",IF(AV14=0,"Hiányzik a hosszútávú terv!",IF(AS14=AT14,"Kitöltés rendben!",IF(AS14<>AT14,"Kitöltési hiba!","Kitöltési hiba!"))))) -> Nincs rögzítve! | I14: =J14+K14 -> 0 | J14: =SUMIF(F_SZV_1A!$F:$F,$C14,F_SZV_1A!$N:$N) -> 0 | K14: =SUMIF(F_SZV_1A!$F:$F,$C14,F_SZV_1A!$O:$O) -> 0 | L14: =SUMIF(F_SZV_1A!$F:$F,$C14,F_SZV_1A!$P:$P) -> 0 | N14: =SUMIF(F_SZV_1A!$F:$F,$C14,F_SZV_1A!R:R) -> 0 | O14: =SUMIF(F_SZV_1A!$F:$F,$C14,F_SZV_1A!S:S) -> 0 | P14: =SUMIF(F_SZV_1A!$F:$F,$C14,F_SZV_1A!T:T) -> 0 | Q14: =SUMIF(F_SZV_1A!$F:$F,$C14,F_SZV_1A!U:U) -> 0 | R14: =SUMIF(F_SZV_1A!$F:$F,$C14,F_SZV_1A!V:V) -> 0 | S14: =SUMIF(F_SZV_1A!$F:$F,$C14,F_SZV_1A!W:W) -> 0 | T14: =SUMIF(F_SZV_1A!$F:$F,$C14,F_SZV_1A!X:X) -> 0 | U14: =SUMIF(F_SZV_1A!$F:$F,$C14,F_SZV_1A!Y:Y) -> 0 | V14: =SUMIF(F_SZV_1A!$F:$F,$C14,F_SZV_1A!Z:Z) -> 0 | W14: =SUMIF(F_SZV_1A!$F:$F,$C14,F_SZV_1A!AA:AA) -> 0 | X14: =SUMIF(F_SZV_1A!$F:$F,$C14,F_SZV_1A!AB:AB) -> 0 | Y14: =SUM(N14:X14) -> 0 | AA14: =SUMIF(F_SZV_1A!$F:$F,$C14,F_SZV_1A!AF:AF) -> 0 | AB14: =SUMIF(F_SZV_1A!$F:$F,$C14,F_SZV_1A!AG:AG) -> 0 | AC14: =SUMIF(F_SZV_1A!$F:$F,$C14,F_SZV_1A!AH:AH) -> 0 | AD14: =SUMIF(F_SZV_1A!$F:$F,$C14,F_SZV_1A!AI:AI) -> 0 | AE14: =SUMIF(F_SZV_1A!$F:$F,$C14,F_SZV_1A!AJ:AJ) -> 0 | AF14: =SUMIF(F_SZV_1A!$F:$F,$C14,F_SZV_1A!AK:AK) -> 0 | AG14: =SUMIF(F_SZV_1A!$F:$F,$C14,F_SZV_1A!AL:AL) -> 0 | AH14: =SUMIF(F_SZV_1A!$F:$F,$C14,F_SZV_1A!AM:AM) -> 0 | AI14: =SUMIF(F_SZV_1A!$F:$F,$C14,F_SZV_1A!AN:AN) -> 0 | AJ14: =SUMIF(F_SZV_1A!$F:$F,$C14,F_SZV_1A!AO:AO) -> 0 | AK14: =SUMIF(F_SZV_1A!$F:$F,$C14,F_SZV_1A!AP:AP) -> 0 | AL14: =SUM(AA14:AK14) -> 0 | AR14: =INDEX(F_SZV_1A!$G:$G,MATCH($C14,F_SZV_1A!$F:$F,0)) -> #N/A | AS14: =COUNTIF(F_SZV_1A!$AY$3:$AY$2427,$D14) -> 0 | AT14: =SUMIF(F_SZV_1A!$AY$3:$AY$2427,$D14,F_SZV_1A!$CF$3:$CF$2427) -> 0 | AU14: =SUMIF(F_SZV_1A!$AY:$AY,$D14,F_SZV_1A!$CG:$CG) -> 0 | AV14: =SUMIF(F_SZV_1A!$AY:$AY,$D14,F_SZV_1A!$CG:$CG) -> 0
A15: 1682 | B15: Becsvölgye-SZV | C15: 21-18360-1-001-00-10 | D15: 3179 | E15: Becsvölgye Községi Önkormányzat | F15: Becsvölgye | G15: =IF(ISNA($AR15),"Nincs rögzítve!",IF(AU15=0,"Hiányzik a rövidtávú terv!",IF(AV15=0,"Hiányzik a hosszútávú terv!",IF(AS15=AT15,"Kitöltés rendben!",IF(AS15<>AT15,"Kitöltési hiba!","Kitöltési hiba!"))))) -> Nincs rögzítve! | I15: =J15+K15 -> 0 | J15: =SUMIF(F_SZV_1A!$F:$F,$C15,F_SZV_1A!$N:$N) -> 0 | K15: =SUMIF(F_SZV_1A!$F:$F,$C15,F_SZV_1A!$O:$O) -> 0 | L15: =SUMIF(F_SZV_1A!$F:$F,$C15,F_SZV_1A!$P:$P) -> 0 | N15: =SUMIF(F_SZV_1A!$F:$F,$C15,F_SZV_1A!R:R) -> 0 | O15: =SUMIF(F_SZV_1A!$F:$F,$C15,F_SZV_1A!S:S) -> 0 | P15: =SUMIF(F_SZV_1A!$F:$F,$C15,F_SZV_1A!T:T) -> 0 | Q15: =SUMIF(F_SZV_1A!$F:$F,$C15,F_SZV_1A!U:U) -> 0 | R15: =SUMIF(F_SZV_1A!$F:$F,$C15,F_SZV_1A!V:V) -> 0 | S15: =SUMIF(F_SZV_1A!$F:$F,$C15,F_SZV_1A!W:W) -> 0 | T15: =SUMIF(F_SZV_1A!$F:$F,$C15,F_SZV_1A!X:X) -> 0 | U15: =SUMIF(F_SZV_1A!$F:$F,$C15,F_SZV_1A!Y:Y) -> 0 | V15: =SUMIF(F_SZV_1A!$F:$F,$C15,F_SZV_1A!Z:Z) -> 0 | W15: =SUMIF(F_SZV_1A!$F:$F,$C15,F_SZV_1A!AA:AA) -> 0 | X15: =SUMIF(F_SZV_1A!$F:$F,$C15,F_SZV_1A!AB:AB) -> 0 | Y15: =SUM(N15:X15) -> 0 | AA15: =SUMIF(F_SZV_1A!$F:$F,$C15,F_SZV_1A!AF:AF) -> 0 | AB15: =SUMIF(F_SZV_1A!$F:$F,$C15,F_SZV_1A!AG:AG) -> 0 | AC15: =SUMIF(F_SZV_1A!$F:$F,$C15,F_SZV_1A!AH:AH) -> 0 | AD15: =SUMIF(F_SZV_1A!$F:$F,$C15,F_SZV_1A!AI:AI) -> 0 | AE15: =SUMIF(F_SZV_1A!$F:$F,$C15,F_SZV_1A!AJ:AJ) -> 0 | AF15: =SUMIF(F_SZV_1A!$F:$F,$C15,F_SZV_1A!AK:AK) -> 0 | AG15: =SUMIF(F_SZV_1A!$F:$F,$C15,F_SZV_1A!AL:AL) -> 0 | AH15: =SUMIF(F_SZV_1A!$F:$F,$C15,F_SZV_1A!AM:AM) -> 0 | AI15: =SUMIF(F_SZV_1A!$F:$F,$C15,F_SZV_1A!AN:AN) -> 0 | AJ15: =SUMIF(F_SZV_1A!$F:$F,$C15,F_SZV_1A!AO:AO) -> 0 | AK15: =SUMIF(F_SZV_1A!$F:$F,$C15,F_SZV_1A!AP:AP) -> 0 | AL15: =SUM(AA15:AK15) -> 0 | AR15: =INDEX(F_SZV_1A!$G:$G,MATCH($C15,F_SZV_1A!$F:$F,0)) -> #N/A | AS15: =COUNTIF(F_SZV_1A!$AY$3:$AY$2427,$D15) -> 0 | AT15: =SUMIF(F_SZV_1A!$AY$3:$AY$2427,$D15,F_SZV_1A!$CF$3:$CF$2427) -> 0 | AU15: =SUMIF(F_SZV_1A!$AY:$AY,$D15,F_SZV_1A!$CG:$CG) -> 0 | AV15: =SUMIF(F_SZV_1A!$AY:$AY,$D15,F_SZV_1A!$CG:$CG) -> 0
... A23: 1690 | B23: Lenti-Máhomfa- SZV | C23: 22-12575-2-001-00-11 | D23: 3188 | E23: Lenti Város Önkormányzata | F23: Lenti - Máhomfa | G23: =IF(ISNA($AR23),"Nincs rögzítve!",IF(AU23=0,"Hiányzik a rövidtávú terv!",IF(AV23=0,"Hiányzik a hosszútávú terv!",IF(AS23=AT23,"Kitöltés rendben!",IF(AS23<>AT23,"Kitöltési hiba!","Kitöltési hiba!"))))) -> Nincs rögzítve! | I23: =J23+K23 -> 0 | J23: =SUMIF(F_SZV_1A!$F:$F,$C23,F_SZV_1A!$N:$N) -> 0 | K23: =SUMIF(F_SZV_1A!$F:$F,$C23,F_SZV_1A!$O:$O) -> 0 | L23: =SUMIF(F_SZV_1A!$F:$F,$C23,F_SZV_1A!$P:$P) -> 0 | N23: =SUMIF(F_SZV_1A!$F:$F,$C23,F_SZV_1A!R:R) -> 0 | O23: =SUMIF(F_SZV_1A!$F:$F,$C23,F_SZV_1A!S:S) -> 0 | P23: =SUMIF(F_SZV_1A!$F:$F,$C23,F_SZV_1A!T:T) -> 0 | Q23: =SUMIF(F_SZV_1A!$F:$F,$C23,F_SZV_1A!U:U) -> 0 | R23: =SUMIF(F_SZV_1A!$F:$F,$C23,F_SZV_1A!V:V) -> 0 | S23: =SUMIF(F_SZV_1A!$F:$F,$C23,F_SZV_1A!W:W) -> 0 | T23: =SUMIF(F_SZV_1A!$F:$F,$C23,F_SZV_1A!X:X) -> 0 | U23: =SUMIF(F_SZV_1A!$F:$F,$C23,F_SZV_1A!Y:Y) -> 0 | V23: =SUMIF(F_SZV_1A!$F:$F,$C23,F_SZV_1A!Z:Z) -> 0 | W23: =SUMIF(F_SZV_1A!$F:$F,$C23,F_SZV_1A!AA:AA) -> 0 | X23: =SUMIF(F_SZV_1A!$F:$F,$C23,F_SZV_1A!AB:AB) -> 0 | Y23: =SUM(N23:X23) -> 0 | AA23: =SUMIF(F_SZV_1A!$F:$F,$C23,F_SZV_1A!AF:AF) -> 0 | AB23: =SUMIF(F_SZV_1A!$F:$F,$C23,F_SZV_1A!AG:AG) -> 0 | AC23: =SUMIF(F_SZV_1A!$F:$F,$C23,F_SZV_1A!AH:AH) -> 0 | AD23: =SUMIF(F_SZV_1A!$F:$F,$C23,F_SZV_1A!AI:AI) -> 0 | AE23: =SUMIF(F_SZV_1A!$F:$F,$C23,F_SZV_1A!AJ:AJ) -> 0 | AF23: =SUMIF(F_SZV_1A!$F:$F,$C23,F_SZV_1A!AK:AK) -> 0 | AG23: =SUMIF(F_SZV_1A!$F:$F,$C23,F_SZV_1A!AL:AL) -> 0 | AH23: =SUMIF(F_SZV_1A!$F:$F,$C23,F_SZV_1A!AM:AM) -> 0 | AI23: =SUMIF(F_SZV_1A!$F:$F,$C23,F_SZV_1A!AN:AN) -> 0 | AJ23: =SUMIF(F_SZV_1A!$F:$F,$C23,F_SZV_1A!AO:AO) -> 0 | AK23: =SUMIF(F_SZV_1A!$F:$F,$C23,F_SZV_1A!AP:AP) -> 0 | AL23: =SUM(AA23:AK23) -> 0 | AR23: =INDEX(F_SZV_1A!$G:$G,MATCH($C23,F_SZV_1A!$F:$F,0)) -> #N/A | AS23: =COUNTIF(F_SZV_1A!$AY$3:$AY$2427,$D23) -> 0 | AT23: =SUMIF(F_SZV_1A!$AY$3:$AY$2427,$D23,F_SZV_1A!$CF$3:$CF$2427) -> 0 | AU23: =SUMIF(F_SZV_1A!$AY:$AY,$D23,F_SZV_1A!$CG:$CG) -> 0 | AV23: =SUMIF(F_SZV_1A!$AY:$AY,$D23,F_SZV_1A!$CG:$CG) -> 0

Sheet F_SZV_1A
B1: A | C1: B | D1: C | E1: D | F1: E/1 | G1: E/2 | H1: fx | I1: VKEFFO | J1: F | K1: G | L1: I/1 | M1: I/2 | N1: J/1 | O1: J/2 | P1: VKEFFO | R1: H/1 -- Forrás megnevezése (I. ütem) | AD1: fx | AF1: H/2 -- Forrás megnevezése (II. ütem) | AS1: fx | AU1: VKEFFO | AV1: VKEFFO | AY1: fx | AZ1: fx | BA1: fx | BB1: fx | BC1: fx | BD1: fx | BE1: fx | BF1: fx | BG1: fx | BH1: fx | BI1: fx | BJ1: fx | BK1: fx | BL1: fx | BM1: fx | BN1: fx | BO1: fx | BP1: fx | BQ1: fx | BR1: fx | BS1: fx | BT1: fx | BU1: fx | BV1: fx | BW1: fx | BX1: fx | BY1: fx | BZ1: fx | CA1: fx | CB1: fx | CC1: fx | CD1: fx | CE1: fx | CF1: fx | CG1: fx | CH1: fx
A2: Ellenőrzés | B2: Fontossági sorrend | C2: A felújítási feladat kategóriája | D2: Felújítás megnevezése | E2: Vízjogi létesítési/ elvi engedély száma (amennyiben rendelkezésre áll) | F2: Víziközmű-rendszer hivatali kódja | G2: Víziközmű-rendszer megnevezése | H2: FELADAT-AZONOSITO | I2: Ellátási terület | J2: Az érintett ellátásért felelős(ök) megnevezése | K2: Tervezett nettó költség [eFt] | L2: Megvalósítás várható időtartama - KEZDÉS | M2: Megvalósítás várható időtartama - BEFEJEZÉS | N2: A Felújítás tervezett nettó költsége a tervezési időszak ütemezése szerint [eFt] - I. ütem | O2: A Felújítás tervezett nettó költsége a tervezési időszak ütemezése szerint [eFt] - II. ütem | P2: Az EM rendelet 2. melléklet terhére elszámolni tervezett költség | R2: Használati díj [eFt] | S2: ÉCS [eFt] | T2: Közműfejlesztési hozzájárulás [eFt] | U2: Egyéb saját forrás [eFt] | V2: Díj [eFt] | W2: VFEA - EM rendelet 1. melléklet | X2: Egyéb állami támogatás [eFt] | Y2: Önkormányzati támogatás [eFt] | Z2: EU-s támogatás [eFt] | AA2: Egyéb támogatás [eFt] | AB2: Banki hitel, kötvénykibocsátás [eFt] | AC2: Összesítés [eFt] | AD2: Forrás (I. ütem) - ELLENŐRZÉS | AF2: Használati díj [eFt] | AG2: ÉCS [eFt] | AH2: Közműfejlesztési hozzájárulás [eFt] | AI2: Egyéb saját forrás [eFt] | AJ2: Díj [eFt] | AK2: VFEA - EM rendelet 1. melléklet | AL2: Egyéb állami támogatás [eFt] | AM2: Önkormányzati támogatás [eFt] | AN2: EU-s támogatás [eFt] | AO2: Egyéb támogatás [eFt] | AP2: Banki hitel, kötvénykibocsátás [eFt] | AQ2: Összesítés [eFt] | AR2: Forráshiányos a feladat (II. ütem)? | AS2: Forrás (II. ütem) - ELLENŐRZÉS | AU2: INDOKLÁS | AV2: MEGJEGYZÉS | AW2: Feladat sorszáma | AY2: ISA | AZ2: Indoklás hossza | BA2: Minden kitöltve? (kivéve a forrás) 1-igen;0-nem | BB2: 2027-2027: R 2027-x: RH 2028-x: H | BC2: Van rövid távú feladat | BD2: Ütem költségek hibásak? --- 1-igen; 0-nem | BE2: 1.ütem FORRÁS --- forráshiányos? 1-igen;0-nem | BF2: 1.ütem FORRÁS --- Összesítés | BG2: 1.ütem FORRÁS kitöltve? 1-igen, 0-nem | BH2: 1.ütem FORRÁS jól kitöltve? 1-igen;0-nem | BI2: 2.ütem FORRÁS --- forráshiányos? 1-igen;0-nem | BJ2: 2.ütem FORRÁS kitöltve? 1-igen, 0-nem | BK2: 2.ütem FORRÁS jól kitöltve? 1-igen;0-nem | BL2: 2.FORRÁS ütem --- Összesítés | BM2: Van feladat 1.ütem? 1-igen;0-nem | BN2: Van feladat 2.ütem? 1-igen;0-nem | BO2: 1.ütem nullás a terv? 1-igen;0-nem | BP2: 2.ütem nullás a terv? 1-igen;0-nem | BQ2: Nullás és van indoklás rövidtáv 1-igen; 0-nem | BR2: Nincs hosszútávú terv (ktg) indoklás? | BS2: Nullás és van idnoklás rövidtáv 1-igen; 0-nem | BT2: Nullás és van indoklás hosszútáv 1-igen; 0-nem | BU2: Fontossági sorrend | BV2: A felújítási feladat kategóriája | BW2: Felújítás megnevezése | BX2: Vízjogi létesítési/ elvi engedély száma (amennyiben rendelkezésre áll) | BY2: Megvalósítás várható időtartama - KEZDÉS | BZ2: Megvalósítás várható időtartama - BEFEJEZÉS | CA2: A Felújítás tervezett nettó költsége a tervezési időszak ütemezése szerint [eFt] - I. ütem | CB2: A Felújítás tervezett nettó költsége a tervezési időszak ütemezése szerint [eFt] - II. ütem | CC2: VFEA - EM rendelet 2. melléklet (fenntartására fordítandó) | CD2: HIÁNYOS kitöltés?! | CE2: ÖSSZESÍTŐ szöveggel | CF2: Kitöltés rendben! >> 1; Egyébként >> 0 | CG2: Rövid és jó | CH2: Hosszú és jó
A3: =IF($G3="","Nincs VKR kiválasztva!",CE3) -> Kitöltés rendben! | B3: 1 | C3: 2811_RENDKÍVÜLI | D3: Rendkívüli helyzetből adódó azonnali feladatok | E3: nem áll rendelkezésre | F3: =VLOOKUP($G3,Összesítő!$B:$F,2,FALSE) -> 21-32054-1-048-01-10 | G3: Zalaegerszeg-SZV | H3: =AY3&"_"&AW3&"_FIV_"&LEFT(Előlap!$B$6,4) -> 3185_1_FIV_2026 | I3: =VLOOKUP($G3,Összesítő!$B:$F,5,FALSE) -> Alibánfa, Alsónemesapáti, Babosdöbréte, Bagod, Bak, Bocfölde, Boncodfölde, Böde, Búcsúszentlászló, Csatár, Csonkahegyhát, Dobronhegy, Egervár, Gősfa, Hagyárosbörönd, Hottó, Kávás, Kemendollár, Keménfa, Kisbucsa, Kiskutas, Kispáli, Lakhegy, Nagykutas, Nagypáli, Nemesapáti, Nemeshetés, Nemessándorháza, Nemesszentandrás, Németfalu, Ozmánbük, Pethőhenye, Pókaszepetk, Pusztaszentlászló, Salomvár, Sárhida, Söjtör, Teskánd, Vasboldogasszony, Vaspör, Vöckönd, Zalaboldogfa, Zalacséb, Zalaegerszeg, Zalaistvánd, Zalaszentgyörgy, Zalaszentiván, Zalaszentlőrinc | J3: =VLOOKUP($G3,Összesítő!$B:$F,4,FALSE) -> Alibánfa Község Önkormányzata, Alsónemesapáti Község Önkormányzata, Babosdöbréte Község Önkormányzata, Bagod Község Önkormányzata, Bak Község Önkormányzata, Bocfölde Község Önkormányzata, Boncodfölde Község Önkormányzata, Böde Község Önkormányzata, Búcsúszentlászló Község Önkormányzata, Csatár Község Önkormányzata, Csonkahegyhát Község Önkormányzata, Dobronhegy Község Önkormányzata, Egervár Község Önkormányzata, Gősfa Község Önkormányzata, Hagyárosbörönd Község Önkormányzata, Hottó Község Önkormányzata, Kávás Község Önkormányzata, Kemendollár Község Önkormányzata, Keménfa Község Önkormányzata, Kisbucsa Község Önkormányzata, Kiskutas Község Önkormányzata, Kispáli Község Önkormányzata, Lakhegy Község Önkormányzata, Nagykutas Község Önkormányzata, Nagypáli Község Önkormányzata, Nemesapáti Község Önkormányzata, Nemeshetés Község Önkormányzata, Nemessándorháza Község Önkormányzata, Nemesszentandrás Község Önkormányzata, Németfalu Község Önkormányzata, Ozmánbük Község Önkormányzata, Pethőhenye Község Önkormányzata, Pókaszepetk Község Önkormányzata, Pusztaszentlászló Község Önkormányzata, Salomvár Község Önkormányzata, Sárhida Község Önkormányzata, Söjtör Község Önkormányzata, Teskánd Község Önkormányzata, Vasboldogasszony Község Önkormányzata, Vaspör Község Önkormányzata, Vöckönd Község Önkormányzata, Zalaboldogfa Község Önkormányzata, Zalacséb Község Önkormányzata, Zalaegerszeg Megyei Jogú Város Önkormányzata, Zalaistvánd Község Önkormányzata, Zalaszentgyörgy Község Önkormányzata, Zalaszentiván Község Önkormányzata, Zalaszentlőrinc Község Önkormányzata | K3: =N3+O3 -> 65700 | L3: 2027 | M3: 2027 | N3: 65700 | O3: 0 | P3: 0 | R3: 65700 | S3: 0 | T3: 0 | U3: 0 | V3: 0 | W3: 0 | X3: 0 | Y3: 0 | Z3: 0 | AA3: 0 | AB3: 0 | AC3: =SUM(R3:AB3) -> 65700 | AD3: =IF($G3="","Nincs VKR kiválasztva!",IF(BA3=0,"Hiányos kitöltés!",BF3)) -> A forrás egyenlő a költséggel (I.ütem). | AF3: 0 | AG3: 0 | AH3: 0 | AI3: 0 | AJ3: 0 | AK3: 0 | AL3: 0 | AM3: 0 | AN3: 0 | AO3: 0 | AP3: 0 | AQ3: =SUM(AF3:AP3) -> 0 | AR3: nem | AS3: =IF($G3="","Nincs VKR kiválasztva!",IF($BA3=0,"Hiányos kitöltés!",IF($BN3=0,"Nem hosszútávú a feladat.",$BL3))) -> Nem hosszútávú a feladat. | AW3: =COUNTA($G$3:G3) -> 1 | AY3: =VLOOKUP($G3,Összesítő!$B:$F,3,FALSE) -> 3185 | AZ3: =LEN($AU3) -> 0 | BA3: =IF(OR($B3="",$C3="",$D3="",$E3="",$F3="",$L3="",$M3="",$N3="",$O3="",$P3=""),0,1) -> 1 | BB3: =IF($F3="",0,IF(AND($L3=2027,$M3=2027),"R",IF(AND($L3=2027,$M3>2027),"RH",IF(AND($L3>2027,$M3>2027),"H","x")))) -> R | BC3: =IF(OR(BB3="R",BB3="RH"),1,0) -> 1 | BD3: =IF(AND($BB3="R",$O3>0),1,IF(AND($BB3="H",$N3>0),1,0)) -> 0 | BE3: =IF($AC3<$N3,1,IF($AC3=$N3,0)) -> 0 | BF3: =IF($L3>2027,"Nem rövidtávú a feladat.",IF($BE3=1,"Az I. ütem nem lehet forráshiányos!",IF($AC3>$N3,"Többlet forrást jelölt meg az I. ütemnél! A forrás ne legyen több a költségnél.",IF($AC3=$N3,"A forrás egyenlő a költséggel (I.ütem).",0)))) -> A forrás egyenlő a költséggel (I.ütem). | BG3: =IF(AND($R3<>"",$S3<>"",$T3<>"",$U3<>"",$V3<>"",$W3<>"",$X3<>"",$Y3<>"",$Z3<>"",$AA3<>"",$AB3<>""),1,0) -> 1 | BH3: =IF(AND($BG3=1,$N3=$AC3),1,0) -> 1 | BI3: =IF($AQ3<$O3,1,0) -> 0 | BJ3: =IF(AND($AF3<>"",$AG3<>"",$AH3<>"",$AI3<>"",$AJ3<>"",$AK3<>"",$AL3<>"",$AM3<>"",$AN3<>"",$AO3<>"",$AP3<>""),1,0) -> 1 | BK3: =IF(AND($BJ3=1,$O3=$AQ3),1,IF(AND($BJ3=1,$O3>$AQ3,AR3="igen"),1,0)) -> 1 | BL3: =IF($M3<2028,"Nem hosszútávú a feladat.",IF(AND($BI3=1,$AR3="nem"),"Forráshiányos a feladat? Jelölje az AR-oszlopban!",IF(AND($BI3=0,$AR3="igen"),"Forráshiányosnak jelölte a feladat az AR-oszlopban, de a forrás költség adatok alapnján nem az!",IF(AND($BI3=1,$AR3="igen"),"Forráshiányos a feladat!",IF($AQ3>$O3,"Többlet forrást jelölt meg a II. ütemnél! A forrás ne legyen több a költségnél.",IF($AQ3=$O3,"A forrás egyenlő a költséggel (II.ütem).",0)))))) -> Nem hosszútávú a feladat. | BM3: =IF($M3<2028,1,0) -> 1 | BN3: =IF($M3>2027,1,0) -> 0 | BO3: =IF(AND($BM3=1,$N3=0),1,0) -> 0 | BP3: =IF(AND($BN3=1,$O3=0),1,0) -> 0 | BQ3: =IF(AND($BB3="R",$N3=0,$AZ3>29),1,IF(AND($BB3="RH",$N3=0,$AZ3>29),1,0)) -> 0 | BR3: =IF($BN3=0,"Nincs hosszútávú terv!",IF(AND($BB3="H",$O3=0,$AZ3=0),"Nullás a hosszútávú feladat és nincs hozzá indoklás!",IF(AND($BB3="RH",$O3=0,$AZ3=0),"Nullás a hosszútávú feladat és nincs hozzá indoklás!",IF(AND($BB3="R",$O3=0,$AZ3<300),"Nullás a hosszútávú feladat és rövid hozzá az indoklás!",IF(AND($BB3="RH",$O3=0,$AZ3<300),"Nullás a hosszútávú feladat és rövid hozzá az indoklás!",0))))) -> Nincs hosszútávú terv! | BS3: =IF(AND($BB3="R",$N3=0,$AZ3>29),1,IF(AND($BB3="RH",$N3=0,$AZ3>29),1,0)) -> 0 | BT3: =IF(AND($BB3="H",$O3=0,$AZ3>29),1,IF(AND($BB3="RH",$O3=0,$AZ3>29),1,0)) -> 0 | BU3: =IF($B3="",0,1) -> 1 | BV3: =IF($C3="",0,1) -> 1 | BW3: =IF($D3="",0,1) -> 1 | BX3: =IF($E3="",0,1) -> 1 | BY3: =IF($L3="",0,1) -> 1 | BZ3: =IF($M3="",0,1) -> 1 | CA3: =IF($N3="",0,1) -> 1 | CB3: =IF($O3="",0,1) -> 1 | CC3: =IF($P3="",0,1) -> 1 | CD3: =IF(AND($BA3=0,$BU3=0),"Hiányos kitöltés! (B-oszlop üres)",IF(AND($BA3=0,$BV3=0),"Hiányos kitöltés! (C-oszlop üres)",IF(AND($BA3=0,$BW3=0),"Hiányos kitöltés! (D-oszlop üres)",IF(AND($BA3=0,$BX3=0),"Hiányos kitöltés! (E-oszlop üres)",IF(AND($BA3=0,$BY3=0),"Hiányos kitöltés! (L-oszlop üres)",IF(AND($BA3=0,$BZ3=0),"Hiányos kitöltés! (M-oszlop üres)",IF(AND($BA3=0,$CA3=0),"Hiányos kitöltés! (N-oszlop üres)",IF(AND($BA3=0,$CB3=0),"Hiányos kitöltés! (O-oszlop üres)",IF(AND($BA3=0,$CC3=0),"Hiányos kitöltés! (P-oszlop üres)",IF(AND($BA3=0,$BG3=0),"Hiányos kitöltés! (I.ütem forrása hiányos!","?")))))))))) -> ? | CE3: =IF($BA3=0,$CD3,IF($BG3=0,"I. ütem forrása nincs kitöltve!",IF($BJ3=0,"II. ütem forrása nincs kitöltve!",IF($BD3=1,"Költségek üteme nem megfelelő (az időtartam és a költség üteme eltér)!",IF(AND(BH3=0,$BA3=1,$BJ3=1,$BD3=1),"Kötelező cellák kitöltve, de az I. ütem forrása hibás!",IF(AND(BJ3=0,$BA3=1,$BJ3=1,$BD3=1),"Kötelező cellák kitöltve, de a II. ütem forrása hibás!",IF(AND($BO3=1,$AZ3<30),"Nullás a rövidtávú feladat és rövid (hiányzik) a hozzá tartozó indoklás!",IF(AND($BP3=1,$AZ3<30),"Nullás a hosszútávú feladat és rövid (hiányzik) a hozzá tartozó indoklás!",IF(AND(BN3=1,C3="2011_RENDKÍVÜLI"),"II. ütemre nem tervezhet Rendkívüli feladatot!",IF(BH3=0,AD3,IF(BK3=0,AS3,IF(AND(BC3=1,$P3>$N3),"EM rendelet 2. melléklet terhére elszámolt költség nem lehet nagyobb az I. ütemre tervezett tényleges költségnél!",IF($AC3>$N3,"Többlet forrást jelölt meg az I. ütemnél! A forrás ne legyen több a költségnél.",IF($AQ3>$O3,"Többlet forrást jelölt meg a II. ütemnél! A forrás ne legyen több a költségnél.","Kitöltés rendben!")))))))))))))) -> Kitöltés rendben! | CF3: =IF(A3="Kitöltés rendben!",1,0) -> 1 | CG3: =IF(AND($BB3="R",$CF3=1),1,IF(AND($BB3="RH",$CF3=1),1,0)) -> 1 | CH3: =IF(AND($BB3="H",$CF3=1),1,IF(AND($BB3="RH",$CF3=1),1,0)) -> 0
A4: =IF($G4="","Nincs VKR kiválasztva!",CE4) -> Kitöltés rendben! | B4: 1 | C4: 2121_VEZETÉK_GERINC | D4: Alibánfa több helyszínen végzett szennyvízhálózat rekonstrukció | E4: nem áll rendelkezésre | F4: =VLOOKUP($G4,Összesítő!$B:$F,2,FALSE) -> 21-32054-1-048-01-10 | G4: Zalaegerszeg-SZV | H4: =AY4&"_"&AW4&"_FIV_"&LEFT(Előlap!$B$6,4) -> 3185_2_FIV_2026 | I4: =VLOOKUP($G4,Összesítő!$B:$F,5,FALSE) -> Alibánfa, Alsónemesapáti, Babosdöbréte, Bagod, Bak, Bocfölde, Boncodfölde, Böde, Búcsúszentlászló, Csatár, Csonkahegyhát, Dobronhegy, Egervár, Gősfa, Hagyárosbörönd, Hottó, Kávás, Kemendollár, Keménfa, Kisbucsa, Kiskutas, Kispáli, Lakhegy, Nagykutas, Nagypáli, Nemesapáti, Nemeshetés, Nemessándorháza, Nemesszentandrás, Németfalu, Ozmánbük, Pethőhenye, Pókaszepetk, Pusztaszentlászló, Salomvár, Sárhida, Söjtör, Teskánd, Vasboldogasszony, Vaspör, Vöckönd, Zalaboldogfa, Zalacséb, Zalaegerszeg, Zalaistvánd, Zalaszentgyörgy, Zalaszentiván, Zalaszentlőrinc | J4: =VLOOKUP($G4,Összesítő!$B:$F,4,FALSE) -> Alibánfa Község Önkormányzata, Alsónemesapáti Község Önkormányzata, Babosdöbréte Község Önkormányzata, Bagod Község Önkormányzata, Bak Község Önkormányzata, Bocfölde Község Önkormányzata, Boncodfölde Község Önkormányzata, Böde Község Önkormányzata, Búcsúszentlászló Község Önkormányzata, Csatár Község Önkormányzata, Csonkahegyhát Község Önkormányzata, Dobronhegy Község Önkormányzata, Egervár Község Önkormányzata, Gősfa Község Önkormányzata, Hagyárosbörönd Község Önkormányzata, Hottó Község Önkormányzata, Kávás Község Önkormányzata, Kemendollár Község Önkormányzata, Keménfa Község Önkormányzata, Kisbucsa Község Önkormányzata, Kiskutas Község Önkormányzata, Kispáli Község Önkormányzata, Lakhegy Község Önkormányzata, Nagykutas Község Önkormányzata, Nagypáli Község Önkormányzata, Nemesapáti Község Önkormányzata, Nemeshetés Község Önkormányzata, Nemessándorháza Község Önkormányzata, Nemesszentandrás Község Önkormányzata, Németfalu Község Önkormányzata, Ozmánbük Község Önkormányzata, Pethőhenye Község Önkormányzata, Pókaszepetk Község Önkormányzata, Pusztaszentlászló Község Önkormányzata, Salomvár Község Önkormányzata, Sárhida Község Önkormányzata, Söjtör Község Önkormányzata, Teskánd Község Önkormányzata, Vasboldogasszony Község Önkormányzata, Vaspör Község Önkormányzata, Vöckönd Község Önkormányzata, Zalaboldogfa Község Önkormányzata, Zalacséb Község Önkormányzata, Zalaegerszeg Megyei Jogú Város Önkormányzata, Zalaistvánd Község Önkormányzata, Zalaszentgyörgy Község Önkormányzata, Zalaszentiván Község Önkormányzata, Zalaszentlőrinc Község Önkormányzata | K4: =N4+O4 -> 2597 | L4: 2027 | M4: 2027 | N4: 2597 | O4: 0 | P4: 0 | R4: 2597 | S4: 0 | T4: 0 | U4: 0 | V4: 0 | W4: 0 | X4: 0 | Y4: 0 | Z4: 0 | AA4: 0 | AB4: 0 | AC4: =SUM(R4:AB4) -> 2597 | AD4: =IF($G4="","Nincs VKR kiválasztva!",IF(BA4=0,"Hiányos kitöltés!",BF4)) -> A forrás egyenlő a költséggel (I.ütem). | AF4: 0 | AG4: 0 | AH4: 0 | AI4: 0 | AJ4: 0 | AK4: 0 | AL4: 0 | AM4: 0 | AN4: 0 | AO4: 0 | AP4: 0 | AQ4: =SUM(AF4:AP4) -> 0 | AR4: nem | AS4: =IF($G4="","Nincs VKR kiválasztva!",IF($BA4=0,"Hiányos kitöltés!",IF($BN4=0,"Nem hosszútávú a feladat.",$BL4))) -> Nem hosszútávú a feladat. | AW4: =COUNTA($G$3:G4) -> 2 | AY4: =VLOOKUP($G4,Összesítő!$B:$F,3,FALSE) -> 3185 | AZ4: =LEN($AU4) -> 0 | BA4: =IF(OR($B4="",$C4="",$D4="",$E4="",$F4="",$L4="",$M4="",$N4="",$O4="",$P4=""),0,1) -> 1 | BB4: =IF($F4="",0,IF(AND($L4=2027,$M4=2027),"R",IF(AND($L4=2027,$M4>2027),"RH",IF(AND($L4>2027,$M4>2027),"H","x")))) -> R | BC4: =IF(OR(BB4="R",BB4="RH"),1,0) -> 1 | BD4: =IF(AND($BB4="R",$O4>0),1,IF(AND($BB4="H",$N4>0),1,0)) -> 0 | BE4: =IF($AC4<$N4,1,IF($AC4=$N4,0)) -> 0 | BF4: =IF($L4>2027,"Nem rövidtávú a feladat.",IF($BE4=1,"Az I. ütem nem lehet forráshiányos!",IF($AC4>$N4,"Többlet forrást jelölt meg az I. ütemnél! A forrás ne legyen több a költségnél.",IF($AC4=$N4,"A forrás egyenlő a költséggel (I.ütem).",0)))) -> A forrás egyenlő a költséggel (I.ütem). | BG4: =IF(AND($R4<>"",$S4<>"",$T4<>"",$U4<>"",$V4<>"",$W4<>"",$X4<>"",$Y4<>"",$Z4<>"",$AA4<>"",$AB4<>""),1,0) -> 1 | BH4: =IF(AND($BG4=1,$N4=$AC4),1,0) -> 1 | BI4: =IF($AQ4<$O4,1,0) -> 0 | BJ4: =IF(AND($AF4<>"",$AG4<>"",$AH4<>"",$AI4<>"",$AJ4<>"",$AK4<>"",$AL4<>"",$AM4<>"",$AN4<>"",$AO4<>"",$AP4<>""),1,0) -> 1 | BK4: =IF(AND($BJ4=1,$O4=$AQ4),1,IF(AND($BJ4=1,$O4>$AQ4,AR4="igen"),1,0)) -> 1 | BL4: =IF($M4<2028,"Nem hosszútávú a feladat.",IF(AND($BI4=1,$AR4="nem"),"Forráshiányos a feladat? Jelölje az AR-oszlopban!",IF(AND($BI4=0,$AR4="igen"),"Forráshiányosnak jelölte a feladat az AR-oszlopban, de a forrás költség adatok alapnján nem az!",IF(AND($BI4=1,$AR4="igen"),"Forráshiányos a feladat!",IF($AQ4>$O4,"Többlet forrást jelölt meg a II. ütemnél! A forrás ne legyen több a költségnél.",IF($AQ4=$O4,"A forrás egyenlő a költséggel (II.ütem).",0)))))) -> Nem hosszútávú a feladat. | BM4: =IF($M4<2028,1,0) -> 1 | BN4: =IF($M4>2027,1,0) -> 0 | BO4: =IF(AND($BM4=1,$N4=0),1,0) -> 0 | BP4: =IF(AND($BN4=1,$O4=0),1,0) -> 0 | BQ4: =IF(AND($BB4="R",$N4=0,$AZ4>29),1,IF(AND($BB4="RH",$N4=0,$AZ4>29),1,0)) -> 0 | BR4: =IF($BN4=0,"Nincs hosszútávú terv!",IF(AND($BB4="H",$O4=0,$AZ4=0),"Nullás a hosszútávú feladat és nincs hozzá indoklás!",IF(AND($BB4="RH",$O4=0,$AZ4=0),"Nullás a hosszútávú feladat és nincs hozzá indoklás!",IF(AND($BB4="R",$O4=0,$AZ4<300),"Nullás a hosszútávú feladat és rövid hozzá az indoklás!",IF(AND($BB4="RH",$O4=0,$AZ4<300),"Nullás a hosszútávú feladat és rövid hozzá az indoklás!",0))))) -> Nincs hosszútávú terv! | BS4: =IF(AND($BB4="R",$N4=0,$AZ4>29),1,IF(AND($BB4="RH",$N4=0,$AZ4>29),1,0)) -> 0 | BT4: =IF(AND($BB4="H",$O4=0,$AZ4>29),1,IF(AND($BB4="RH",$O4=0,$AZ4>29),1,0)) -> 0 | BU4: =IF($B4="",0,1) -> 1 | BV4: =IF($C4="",0,1) -> 1 | BW4: =IF($D4="",0,1) -> 1 | BX4: =IF($E4="",0,1) -> 1 | BY4: =IF($L4="",0,1) -> 1 | BZ4: =IF($M4="",0,1) -> 1 | CA4: =IF($N4="",0,1) -> 1 | CB4: =IF($O4="",0,1) -> 1 | CC4: =IF($P4="",0,1) -> 1 | CD4: =IF(AND($BA4=0,$BU4=0),"Hiányos kitöltés! (B-oszlop üres)",IF(AND($BA4=0,$BV4=0),"Hiányos kitöltés! (C-oszlop üres)",IF(AND($BA4=0,$BW4=0),"Hiányos kitöltés! (D-oszlop üres)",IF(AND($BA4=0,$BX4=0),"Hiányos kitöltés! (E-oszlop üres)",IF(AND($BA4=0,$BY4=0),"Hiányos kitöltés! (L-oszlop üres)",IF(AND($BA4=0,$BZ4=0),"Hiányos kitöltés! (M-oszlop üres)",IF(AND($BA4=0,$CA4=0),"Hiányos kitöltés! (N-oszlop üres)",IF(AND($BA4=0,$CB4=0),"Hiányos kitöltés! (O-oszlop üres)",IF(AND($BA4=0,$CC4=0),"Hiányos kitöltés! (P-oszlop üres)",IF(AND($BA4=0,$BG4=0),"Hiányos kitöltés! (I.ütem forrása hiányos!","?")))))))))) -> ? | CE4: =IF($BA4=0,$CD4,IF($BG4=0,"I. ütem forrása nincs kitöltve!",IF($BJ4=0,"II. ütem forrása nincs kitöltve!",IF($BD4=1,"Költségek üteme nem megfelelő (az időtartam és a költség üteme eltér)!",IF(AND(BH4=0,$BA4=1,$BJ4=1,$BD4=1),"Kötelező cellák kitöltve, de az I. ütem forrása hibás!",IF(AND(BJ4=0,$BA4=1,$BJ4=1,$BD4=1),"Kötelező cellák kitöltve, de a II. ütem forrása hibás!",IF(AND($BO4=1,$AZ4<30),"Nullás a rövidtávú feladat és rövid (hiányzik) a hozzá tartozó indoklás!",IF(AND($BP4=1,$AZ4<30),"Nullás a hosszútávú feladat és rövid (hiányzik) a hozzá tartozó indoklás!",IF(AND(BN4=1,C4="2011_RENDKÍVÜLI"),"II. ütemre nem tervezhet Rendkívüli feladatot!",IF(BH4=0,AD4,IF(BK4=0,AS4,IF(AND(BC4=1,$P4>$N4),"EM rendelet 2. melléklet terhére elszámolt költség nem lehet nagyobb az I. ütemre tervezett tényleges költségnél!",IF($AC4>$N4,"Többlet forrást jelölt meg az I. ütemnél! A forrás ne legyen több a költségnél.",IF($AQ4>$O4,"Többlet forrást jelölt meg a II. ütemnél! A forrás ne legyen több a költségnél.","Kitöltés rendben!")))))))))))))) -> Kitöltés rendben! | CF4: =IF(A4="Kitöltés rendben!",1,0) -> 1 | CG4: =IF(AND($BB4="R",$CF4=1),1,IF(AND($BB4="RH",$CF4=1),1,0)) -> 1 | CH4: =IF(AND($BB4="H",$CF4=1),1,IF(AND($BB4="RH",$CF4=1),1,0)) -> 0
A5: =IF($G5="","Nincs VKR kiválasztva!",CE5) -> Kitöltés rendben! | B5: 2 | C5: 2121_VEZETÉK_GERINC | D5: Alibánfa több helyszínen végzett szennyvízhálózat rekonstrukció | E5: nem áll rendelkezésre | F5: =VLOOKUP($G5,Összesítő!$B:$F,2,FALSE) -> 21-32054-1-048-01-10 | G5: Zalaegerszeg-SZV | H5: =AY5&"_"&AW5&"_FIV_"&LEFT(Előlap!$B$6,4) -> 3185_3_FIV_2026 | I5: =VLOOKUP($G5,Összesítő!$B:$F,5,FALSE) -> Alibánfa, Alsónemesapáti, Babosdöbréte, Bagod, Bak, Bocfölde, Boncodfölde, Böde, Búcsúszentlászló, Csatár, Csonkahegyhát, Dobronhegy, Egervár, Gősfa, Hagyárosbörönd, Hottó, Kávás, Kemendollár, Keménfa, Kisbucsa, Kiskutas, Kispáli, Lakhegy, Nagykutas, Nagypáli, Nemesapáti, Nemeshetés, Nemessándorháza, Nemesszentandrás, Németfalu, Ozmánbük, Pethőhenye, Pókaszepetk, Pusztaszentlászló, Salomvár, Sárhida, Söjtör, Teskánd, Vasboldogasszony, Vaspör, Vöckönd, Zalaboldogfa, Zalacséb, Zalaegerszeg, Zalaistvánd, Zalaszentgyörgy, Zalaszentiván, Zalaszentlőrinc | J5: =VLOOKUP($G5,Összesítő!$B:$F,4,FALSE) -> Alibánfa Község Önkormányzata, Alsónemesapáti Község Önkormányzata, Babosdöbréte Község Önkormányzata, Bagod Község Önkormányzata, Bak Község Önkormányzata, Bocfölde Község Önkormányzata, Boncodfölde Község Önkormányzata, Böde Község Önkormányzata, Búcsúszentlászló Község Önkormányzata, Csatár Község Önkormányzata, Csonkahegyhát Község Önkormányzata, Dobronhegy Község Önkormányzata, Egervár Község Önkormányzata, Gősfa Község Önkormányzata, Hagyárosbörönd Község Önkormányzata, Hottó Község Önkormányzata, Kávás Község Önkormányzata, Kemendollár Község Önkormányzata, Keménfa Község Önkormányzata, Kisbucsa Község Önkormányzata, Kiskutas Község Önkormányzata, Kispáli Község Önkormányzata, Lakhegy Község Önkormányzata, Nagykutas Község Önkormányzata, Nagypáli Község Önkormányzata, Nemesapáti Község Önkormányzata, Nemeshetés Község Önkormányzata, Nemessándorháza Község Önkormányzata, Nemesszentandrás Község Önkormányzata, Németfalu Község Önkormányzata, Ozmánbük Község Önkormányzata, Pethőhenye Község Önkormányzata, Pókaszepetk Község Önkormányzata, Pusztaszentlászló Község Önkormányzata, Salomvár Község Önkormányzata, Sárhida Község Önkormányzata, Söjtör Község Önkormányzata, Teskánd Község Önkormányzata, Vasboldogasszony Község Önkormányzata, Vaspör Község Önkormányzata, Vöckönd Község Önkormányzata, Zalaboldogfa Község Önkormányzata, Zalacséb Község Önkormányzata, Zalaegerszeg Megyei Jogú Város Önkormányzata, Zalaistvánd Község Önkormányzata, Zalaszentgyörgy Község Önkormányzata, Zalaszentiván Község Önkormányzata, Zalaszentlőrinc Község Önkormányzata | K5: =N5+O5 -> 13075 | L5: 2031 | M5: 2035 | N5: 0 | O5: 13075 | P5: 0 | R5: 0 | S5: 0 | T5: 0 | U5: 0 | V5: 0 | W5: 0 | X5: 0 | Y5: 0 | Z5: 0 | AA5: 0 | AB5: 0 | AC5: =SUM(R5:AB5) -> 0 | AD5: =IF($G5="","Nincs VKR kiválasztva!",IF(BA5=0,"Hiányos kitöltés!",BF5)) -> Nem rövidtávú a feladat. | AF5: 0 | AG5: 0 | AH5: 0 | AI5: 0 | AJ5: 0 | AK5: 0 | AL5: 0 | AM5: 0 | AN5: 0 | AO5: 0 | AP5: 0 | AQ5: =SUM(AF5:AP5) -> 0 | AR5: igen | AS5: =IF($G5="","Nincs VKR kiválasztva!",IF($BA5=0,"Hiányos kitöltés!",IF($BN5=0,"Nem hosszútávú a feladat.",$BL5))) -> Forráshiányos a feladat! | AW5: =COUNTA($G$3:G5) -> 3 | AY5: =VLOOKUP($G5,Összesítő!$B:$F,3,FALSE) -> 3185 | AZ5: =LEN($AU5) -> 0 | BA5: =IF(OR($B5="",$C5="",$D5="",$E5="",$F5="",$L5="",$M5="",$N5="",$O5="",$P5=""),0,1) -> 1 | BB5: =IF($F5="",0,IF(AND($L5=2027,$M5=2027),"R",IF(AND($L5=2027,$M5>2027),"RH",IF(AND($L5>2027,$M5>2027),"H","x")))) -> H | BC5: =IF(OR(BB5="R",BB5="RH"),1,0) -> 0 | BD5: =IF(AND($BB5="R",$O5>0),1,IF(AND($BB5="H",$N5>0),1,0)) -> 0 | BE5: =IF($AC5<$N5,1,IF($AC5=$N5,0)) -> 0 | BF5: =IF($L5>2027,"Nem rövidtávú a feladat.",IF($BE5=1,"Az I. ütem nem lehet forráshiányos!",IF($AC5>$N5,"Többlet forrást jelölt meg az I. ütemnél! A forrás ne legyen több a költségnél.",IF($AC5=$N5,"A forrás egyenlő a költséggel (I.ütem).",0)))) -> Nem rövidtávú a feladat. | BG5: =IF(AND($R5<>"",$S5<>"",$T5<>"",$U5<>"",$V5<>"",$W5<>"",$X5<>"",$Y5<>"",$Z5<>"",$AA5<>"",$AB5<>""),1,0) -> 1 | BH5: =IF(AND($BG5=1,$N5=$AC5),1,0) -> 1 | BI5: =IF($AQ5<$O5,1,0) -> 1 | BJ5: =IF(AND($AF5<>"",$AG5<>"",$AH5<>"",$AI5<>"",$AJ5<>"",$AK5<>"",$AL5<>"",$AM5<>"",$AN5<>"",$AO5<>"",$AP5<>""),1,0) -> 1 | BK5: =IF(AND($BJ5=1,$O5=$AQ5),1,IF(AND($BJ5=1,$O5>$AQ5,AR5="igen"),1,0)) -> 1 | BL5: =IF($M5<2028,"Nem hosszútávú a feladat.",IF(AND($BI5=1,$AR5="nem"),"Forráshiányos a feladat? Jelölje az AR-oszlopban!",IF(AND($BI5=0,$AR5="igen"),"Forráshiányosnak jelölte a feladat az AR-oszlopban, de a forrás költség adatok alapnján nem az!",IF(AND($BI5=1,$AR5="igen"),"Forráshiányos a feladat!",IF($AQ5>$O5,"Többlet forrást jelölt meg a II. ütemnél! A forrás ne legyen több a költségnél.",IF($AQ5=$O5,"A forrás egyenlő a költséggel (II.ütem).",0)))))) -> Forráshiányos a feladat! | BM5: =IF($M5<2028,1,0) -> 0 | BN5: =IF($M5>2027,1,0) -> 1 | BO5: =IF(AND($BM5=1,$N5=0),1,0) -> 0 | BP5: =IF(AND($BN5=1,$O5=0),1,0) -> 0 | BQ5: =IF(AND($BB5="R",$N5=0,$AZ5>29),1,IF(AND($BB5="RH",$N5=0,$AZ5>29),1,0)) -> 0 | BR5: =IF($BN5=0,"Nincs hosszútávú terv!",IF(AND($BB5="H",$O5=0,$AZ5=0),"Nullás a hosszútávú feladat és nincs hozzá indoklás!",IF(AND($BB5="RH",$O5=0,$AZ5=0),"Nullás a hosszútávú feladat és nincs hozzá indoklás!",IF(AND($BB5="R",$O5=0,$AZ5<300),"Nullás a hosszútávú feladat és rövid hozzá az indoklás!",IF(AND($BB5="RH",$O5=0,$AZ5<300),"Nullás a hosszútávú feladat és rövid hozzá az indoklás!",0))))) -> 0 | BS5: =IF(AND($BB5="R",$N5=0,$AZ5>29),1,IF(AND($BB5="RH",$N5=0,$AZ5>29),1,0)) -> 0 | BT5: =IF(AND($BB5="H",$O5=0,$AZ5>29),1,IF(AND($BB5="RH",$O5=0,$AZ5>29),1,0)) -> 0 | BU5: =IF($B5="",0,1) -> 1 | BV5: =IF($C5="",0,1) -> 1 | BW5: =IF($D5="",0,1) -> 1 | BX5: =IF($E5="",0,1) -> 1 | BY5: =IF($L5="",0,1) -> 1 | BZ5: =IF($M5="",0,1) -> 1 | CA5: =IF($N5="",0,1) -> 1 | CB5: =IF($O5="",0,1) -> 1 | CC5: =IF($P5="",0,1) -> 1 | CD5: =IF(AND($BA5=0,$BU5=0),"Hiányos kitöltés! (B-oszlop üres)",IF(AND($BA5=0,$BV5=0),"Hiányos kitöltés! (C-oszlop üres)",IF(AND($BA5=0,$BW5=0),"Hiányos kitöltés! (D-oszlop üres)",IF(AND($BA5=0,$BX5=0),"Hiányos kitöltés! (E-oszlop üres)",IF(AND($BA5=0,$BY5=0),"Hiányos kitöltés! (L-oszlop üres)",IF(AND($BA5=0,$BZ5=0),"Hiányos kitöltés! (M-oszlop üres)",IF(AND($BA5=0,$CA5=0),"Hiányos kitöltés! (N-oszlop üres)",IF(AND($BA5=0,$CB5=0),"Hiányos kitöltés! (O-oszlop üres)",IF(AND($BA5=0,$CC5=0),"Hiányos kitöltés! (P-oszlop üres)",IF(AND($BA5=0,$BG5=0),"Hiányos kitöltés! (I.ütem forrása hiányos!","?")))))))))) -> ? | CE5: =IF($BA5=0,$CD5,IF($BG5=0,"I. ütem forrása nincs kitöltve!",IF($BJ5=0,"II. ütem forrása nincs kitöltve!",IF($BD5=1,"Költségek üteme nem megfelelő (az időtartam és a költség üteme eltér)!",IF(AND(BH5=0,$BA5=1,$BJ5=1,$BD5=1),"Kötelező cellák kitöltve, de az I. ütem forrása hibás!",IF(AND(BJ5=0,$BA5=1,$BJ5=1,$BD5=1),"Kötelező cellák kitöltve, de a II. ütem forrása hibás!",IF(AND($BO5=1,$AZ5<30),"Nullás a rövidtávú feladat és rövid (hiányzik) a hozzá tartozó indoklás!",IF(AND($BP5=1,$AZ5<30),"Nullás a hosszútávú feladat és rövid (hiányzik) a hozzá tartozó indoklás!",IF(AND(BN5=1,C5="2011_RENDKÍVÜLI"),"II. ütemre nem tervezhet Rendkívüli feladatot!",IF(BH5=0,AD5,IF(BK5=0,AS5,IF(AND(BC5=1,$P5>$N5),"EM rendelet 2. melléklet terhére elszámolt költség nem lehet nagyobb az I. ütemre tervezett tényleges költségnél!",IF($AC5>$N5,"Többlet forrást jelölt meg az I. ütemnél! A forrás ne legyen több a költségnél.",IF($AQ5>$O5,"Többlet forrást jelölt meg a II. ütemnél! A forrás ne legyen több a költségnél.","Kitöltés rendben!")))))))))))))) -> Kitöltés rendben! | CF5: =IF(A5="Kitöltés rendben!",1,0) -> 1 | CG5: =IF(AND($BB5="R",$CF5=1),1,IF(AND($BB5="RH",$CF5=1),1,0)) -> 0 | CH5: =IF(AND($BB5="H",$CF5=1),1,IF(AND($BB5="RH",$CF5=1),1,0)) -> 1
