Workbook

Sheet Babosdöbréte
A1: Gördülő fejlesztési terv a 2021 - 2035 időszakra
A2: BERUHÁZÁSOK ÖSSZEFOGLALÓ TÁBLÁZATA
A3: A tervet benyújtó szervezet megnevezése: | K3: BABOSDÖBRÉTE | R3: ellátásért felelős / ellátásért felelősök képviselője / víziközmű-szolgáltató *
A4: Víziközmű-szolgáltató megnevezése: | K4: ÉSZAK ZALAI VÍZ- ÉS CSATORNAMŰ ZÁRTKÖRŰEN MŰKÖDŐ RÉSZVÉNYTÁRSASÁG
A5: Víziközmű-szolgáltatási ágazat megnevezése: | K5: IVÓVÍZ ÁGAZAT
A6: Véleményeltérést megfogalmazó érintett fél megnevezése:
A7: Víziközmű-rendszer kódja: ** | K7: 11-32054-1-025-01-14 | R7: Zalaegerszeg-IV
A8: I. Felszín alatti vízkivétel
A9: Fontossági sorrend | B9: Felujítás és pótlás megnevezése | E9: Műszaki állapot felmérés, szükségességi indoklás | H9: Vízjogi létesítési/elvi engedély száma | I9: Az érintett ellátásért felelős(ök) megnevezése | J9: Tervezett nettó költség | K9: Forrás 2021 évre | L9: Megvalósítás időtartama | N9: Tervezett időtáv | O9: A beruházás ütemezése a tervezési időszak évei szerint
E10: Jelenlegi műszaki állapot | F10: Feladat szükségessége | G10: Megvalósítást követő várható műszaki állapot | J10: (eFt) | L10: Kezdés | M10: Befejezés | N10: (rövid / közép / hosszú) | O10: 1 | P10: 2 | Q10: 3 | R10: 4 | S10: 5 | T10: 6 | U10: 7 | V10: 8 | W10: 9 | X10: 10 | Y10: 11 | Z10: 12 | AA10: 13 | AB10: 14 | AC10: 15
B11: szakág | C11: Helyszín | D11: beruházás megnevezése
B13: MÉLYFÚRÁSÚ KÚT, HAGYOMÁNYOS ÁTMÉRŐVEL
B14: Épület, építmény
B16: Gép, berendezés
B18: Irányítástechnika, energiaellátás
B20: Összesen: | J20: =SUM(J12:J18) -> 0
A21: III. Vízműtelep és vízkezelő létesítmények
C22: Helyszín | D22: beruházás megnevezése
B23: VÍZMŰTELEP
B24: Épület, építmény
B26: Gép, berendezés
B28: Irányítástechnika, energiaellátás
B30: VÍZKEZELŐ LÉTESÍTMÉNYEK
B31: Épület, építmény
B33: Gép, berendezés
B35: Irányítástechnika, energiaellátás
B37: Összesen | J37: =SUM(J23:J36) -> 0
A38: IV. Vízelosztás
C39: Helyszín | D39: beruházás megnevezése
B40: IVÓVÍZHÁLÓZAT
B41: Épület, építmény
B43: Gép, berendezés
B45: Irányítástechnika, energiaellátás
B47: VÍZTÁROLÓK
B48: Épület, építmény
B50: Gép, berendezés
B52: Irányítástechnika, energiaellátás
B54: NYOMÁSFOKOZÓK
B55: Épület, építmény
B57: Gép, berendezés
B59: Irányítástechnika, energiaellátás
B61: Összesen: | J61: =SUM(J40:J60) -> 0 | K61: 0 | O61: =SUM(O12:O60) -> 0 | P61: =SUM(P11:P60) -> 0 | Q61: =SUM(Q11:Q60) -> 0 | R61: =SUM(R11:R60) -> 0 | S61: =SUM(S11:S60) -> 0 | T61: =SUM(T11:T60) -> 0 | U61: =SUM(U11:U60) -> 0 | V61: =SUM(V11:V60) -> 0 | W61: =SUM(W11:W60) -> 0 | ... AC61: =SUM(AC11:AC60) -> 0
B64: Tervezett feladatok nettó költsége a teljes ütem tekintetében (eFt) | C64: Rendelkezésre álló források számszerűsített értéke a teljes ütem tekintetében (eFt) | D64: Forrás megnevezése a teljes ütem tekintetében
A65: I. ütem | B65: =SUM(O61) -> 0 | C65: =K61 -> 0 | D65: Fejlesztési díj (2021)
A66: II. ütem | B66: =SUM(P61:S61) -> 0 | C66: =C65*4 -> 0 | D66: Fejlesztési díj (2022-2025)
A67: III. ütem | B67: =SUM(T61:AC61) -> 0 | C67: =C65*10 -> 0 | D67: Fejlesztési díj (2026-2035)
B70: Jelenleg beruházási igény nem ismert, nincs rendelkezésre álló forrás beruházásra.

Sheet Bagod
A1: Gördülő fejlesztési terv a 2021 - 2035 időszakra
A2: BERUHÁZÁSOK ÖSSZEFOGLALÓ TÁBLÁZATA
A3: A tervet benyújtó szervezet megnevezése: | K3: BAGOD | R3: ellátásért felelős / ellátásért felelősök képviselője / víziközmű-szolgáltató *
A4: Víziközmű-szolgáltató megnevezése: | K4: ÉSZAK ZALAI VÍZ- ÉS CSATORNAMŰ ZÁRTKÖRŰEN MŰKÖDŐ RÉSZVÉNYTÁRSASÁG
A5: Víziközmű-szolgáltatási ágazat megnevezése: | K5: IVÓVÍZ ÁGAZAT
A6: Véleményeltérést megfogalmazó érintett fél megnevezése:
A7: Víziközmű-rendszer kódja: ** | K7: 11-32054-1-025-01-14 | R7: Zalaegerszeg-IV
A8: I. Felszín alatti vízkivétel
A9: Fontossági sorrend | B9: Felujítás és pótlás megnevezése | E9: Műszaki állapot felmérés, szükségességi indoklás | H9: Vízjogi létesítési/elvi engedély száma | I9: Az érintett ellátásért felelős(ök) megnevezése | J9: Tervezett nettó költség | K9: Forrás 2021 évre | L9: Megvalósítás időtartama | N9: Tervezett időtáv | O9: A beruházás ütemezése a tervezési időszak évei szerint
E10: Jelenlegi műszaki állapot | F10: Feladat szükségessége | G10: Megvalósítást követő várható műszaki állapot | J10: (eFt) | L10: Kezdés | M10: Befejezés | N10: (rövid / közép / hosszú) | O10: 1 | P10: 2 | Q10: 3 | R10: 4 | S10: 5 | T10: 6 | U10: 7 | V10: 8 | W10: 9 | X10: 10 | Y10: 11 | Z10: 12 | AA10: 13 | AB10: 14 | AC10: 15
B11: szakág | C11: Helyszín | D11: beruházás megnevezése
B13: MÉLYFÚRÁSÚ KÚT, HAGYOMÁNYOS ÁTMÉRŐVEL
B14: Épület, építmény
B16: Gép, berendezés
B18: Irányítástechnika, energiaellátás
B20: Összesen: | J20: =SUM(J12:J19) -> 0
A21: III. Vízműtelep és vízkezelő létesítmények
C22: Helyszín | D22: beruházás megnevezése
B23: VÍZMŰTELEP
B24: Épület, építmény
B26: Gép, berendezés
B28: Irányítástechnika, energiaellátás
B30: VÍZKEZELŐ LÉTESÍTMÉNYEK
B31: Épület, építmény
B33: Gép, berendezés
B35: Irányítástechnika, energiaellátás
B37: Összesen | J37: =SUM(J23:J36) -> 0
A38: IV. Vízelosztás
C39: Helyszín | D39: beruházás megnevezése
B40: IVÓVÍZHÁLÓZAT
B41: Épület, építmény
B43: Gép, berendezés
B45: Irányítástechnika, energiaellátás
B47: VÍZTÁROLÓK
B48: Épület, építmény
B50: Gép, berendezés
B52: Irányítástechnika, energiaellátás
B54: NYOMÁSFOKOZÓK
B55: Épület, építmény
B57: Gép, berendezés
B59: Irányítástechnika, energiaellátás
B61: Összesen: | J61: =SUM(J40:J60) -> 0 | K61: 0 | O61: =SUM(O12:O60) -> 0 | P61: =SUM(P11:P60) -> 0 | Q61: =SUM(Q11:Q60) -> 0 | R61: =SUM(R11:R60) -> 0 | S61: =SUM(S11:S60) -> 0 | T61: =SUM(T11:T60) -> 0 | U61: =SUM(U11:U60) -> 0 | V61: =SUM(V11:V60) -> 0 | W61: =SUM(W11:W60) -> 0 | ... AC61: =SUM(AC11:AC60) -> 0
B64: Tervezett feladatok nettó költsége a teljes ütem tekintetében (eFt) | C64: Rendelkezésre álló források számszerűsített értéke a teljes ütem tekintetében (eFt) | D64: Forrás megnevezése a teljes ütem tekintetében
A65: I. ütem | B65: =SUM(O61) -> 0 | C65: =K61 -> 0 | D65: Fejlesztési díj (2021)
A66: II. ütem | B66: =SUM(P61:S61) -> 0 | C66: =C65*4 -> 0 | D66: Fejlesztési díj (2022-2025)
A67: III. ütem | B67: =SUM(T61:AC61) -> 0 | C67: =C65*10 -> 0 | D67: Fejlesztési díj (2026-2035)
B70: Jelenleg beruházási igény nem ismert, nincs rendelkezésre álló forrás beruházásra.

Sheet Becsvölgye
A1: Gördülő fejlesztési terv a 2021 - 2035 időszakra
A2: BERUHÁZÁSOK ÖSSZEFOGLALÓ TÁBLÁZATA
A3: A tervet benyújtó szervezet megnevezése: | K3: BECSVÖLGYE | R3: ellátásért felelős / ellátásért felelősök képviselője / víziközmű-szolgáltató *
A4: Víziközmű-szolgáltató megnevezése: | K4: ÉSZAK ZALAI VÍZ- ÉS CSATORNAMŰ ZÁRTKÖRŰEN MŰKÖDŐ RÉSZVÉNYTÁRSASÁG
A5: Víziközmű-szolgáltatási ágazat megnevezése: | K5: IVÓVÍZ ÁGAZAT
A6: Véleményeltérést megfogalmazó érintett fél megnevezése:
A7: Víziközmű-rendszer kódja: ** | K7: 11-32054-1-025-01-14 | R7: Zalaegerszeg-IV
A8: I. Felszín alatti vízkivétel
A9: Fontossági sorrend | B9: Felujítás és pótlás megnevezése | E9: Műszaki állapot felmérés, szükségességi indoklás | H9: Vízjogi létesítési/elvi engedély száma | I9: Az érintett ellátásért felelős(ök) megnevezése | J9: Tervezett nettó költség | K9: Forrás 2021 évre | L9: Megvalósítás időtartama | N9: Tervezett időtáv | O9: A beruházás ütemezése a tervezési időszak évei szerint
E10: Jelenlegi műszaki állapot | F10: Feladat szükségessége | G10: Megvalósítást követő várható műszaki állapot | J10: (eFt) | L10: Kezdés | M10: Befejezés | N10: (rövid / közép / hosszú) | O10: 1 | P10: 2 | Q10: 3 | R10: 4 | S10: 5 | T10: 6 | U10: 7 | V10: 8 | W10: 9 | X10: 10 | Y10: 11 | Z10: 12 | AA10: 13 | AB10: 14 | AC10: 15
B11: szakág | C11: Helyszín | D11: beruházás megnevezése
B13: MÉLYFÚRÁSÚ KÚT, HAGYOMÁNYOS ÁTMÉRŐVEL
B14: Épület, építmény
B16: Gép, berendezés
B18: Irányítástechnika, energiaellátás
B20: Összesen: | J20: =SUM(J12:J19) -> 0
A21: III. Vízműtelep és vízkezelő létesítmények
C22: Helyszín | D22: beruházás megnevezése
B23: VÍZMŰTELEP
B24: Épület, építmény
B26: Gép, berendezés
B28: Irányítástechnika, energiaellátás
B30: VÍZKEZELŐ LÉTESÍTMÉNYEK
B31: Épület, építmény
B33: Gép, berendezés
B35: Irányítástechnika, energiaellátás
B37: Összesen | J37: =SUM(J23:J36) -> 0
A38: IV. Vízelosztás
C39: Helyszín | D39: beruházás megnevezése
B40: IVÓVÍZHÁLÓZAT
B41: Épület, építmény
B43: Gép, berendezés
B45: Irányítástechnika, energiaellátás
B47: VÍZTÁROLÓK
B48: Épület, építmény
B50: Gép, berendezés
B52: Irányítástechnika, energiaellátás
B54: NYOMÁSFOKOZÓK
B55: Épület, építmény
B57: Gép, berendezés
B59: Irányítástechnika, energiaellátás
B61: Összesen: | J61: =SUM(J40:J60) -> 0 | K61: 0 | O61: =SUM(O12:O60) -> 0 | P61: =SUM(P11:P60) -> 0 | Q61: =SUM(Q11:Q60) -> 0 | R61: =SUM(R11:R60) -> 0 | S61: =SUM(S11:S60) -> 0 | T61: =SUM(T11:T60) -> 0 | U61: =SUM(U11:U60) -> 0 | V61: =SUM(V11:V60) -> 0 | W61: =SUM(W11:W60) -> 0 | ... AC61: =SUM(AC11:AC60) -> 0
B64: Tervezett feladatok nettó költsége a teljes ütem tekintetében (eFt) | C64: Rendelkezésre álló források számszerűsített értéke a teljes ütem tekintetében (eFt) | D64: Forrás megnevezése a teljes ütem tekintetében
A65: I. ütem | B65: =SUM(O61) -> 0 | C65: =K61 -> 0 | D65: Fejlesztési díj (2021)
A66: II. ütem | B66: =SUM(P61:S61) -> 0 | C66: =C65*4 -> 0 | D66: Fejlesztési díj (2022-2025)
A67: III. ütem | B67: =SUM(T61:AC61) -> 0 | C67: =C65*10 -> 0 | D67: Fejlesztési díj (2026-2035)
B70: Jelenleg beruházási igény nem ismert, nincs rendelkezésre álló forrás beruházásra.

Sheet Bocfölde
A1: Gördülő fejlesztési terv a 2021 - 2035 időszakra
A2: BERUHÁZÁSOK ÖSSZEFOGLALÓ TÁBLÁZATA
A3: A tervet benyújtó szervezet megnevezése: | K3: BOCFÖLDE | R3: ellátásért felelős / ellátásért felelősök képviselője / víziközmű-szolgáltató *
A4: Víziközmű-szolgáltató megnevezése: | K4: ÉSZAK ZALAI VÍZ- ÉS CSATORNAMŰ ZÁRTKÖRŰEN MŰKÖDŐ RÉSZVÉNYTÁRSASÁG
A5: Víziközmű-szolgáltatási ágazat megnevezése: | K5: IVÓVÍZ ÁGAZAT
A6: Véleményeltérést megfogalmazó érintett fél megnevezése:
A7: Víziközmű-rendszer kódja: ** | K7: 11-32054-1-025-01-14 | R7: Zalaegerszeg-IV
A8: I. Felszín alatti vízkivétel
A9: Fontossági sorrend | B9: Felujítás és pótlás megnevezése | E9: Műszaki állapot felmérés, szükségességi indoklás | H9: Vízjogi létesítési/elvi engedély száma | I9: Az érintett ellátásért felelős(ök) megnevezése | J9: Tervezett nettó költség | K9: Forrás 2021 évre | L9: Megvalósítás időtartama | N9: Tervezett időtáv | O9: A beruházás ütemezése a tervezési időszak évei szerint
E10: Jelenlegi műszaki állapot | F10: Feladat szükségessége | G10: Megvalósítást követő várható műszaki állapot | J10: (eFt) | L10: Kezdés | M10: Befejezés | N10: (rövid / közép / hosszú) | O10: 1 | P10: 2 | Q10: 3 | R10: 4 | S10: 5 | T10: 6 | U10: 7 | V10: 8 | W10: 9 | X10: 10 | Y10: 11 | Z10: 12 | AA10: 13 | AB10: 14 | AC10: 15
B11: szakág | C11: Helyszín | D11: beruházás megnevezése
B13: MÉLYFÚRÁSÚ KÚT, HAGYOMÁNYOS ÁTMÉRŐVEL
B14: Épület, építmény
B16: Gép, berendezés
B18: Irányítástechnika, energiaellátás
B20: Összesen: | J20: =SUM(J12:J19) -> 0
A21: III. Vízműtelep és vízkezelő létesítmények
C22: Helyszín | D22: beruházás megnevezése
B23: VÍZMŰTELEP
B24: Épület, építmény
B26: Gép, berendezés
B28: Irányítástechnika, energiaellátás
B30: VÍZKEZELŐ LÉTESÍTMÉNYEK
B31: Épület, építmény
B33: Gép, berendezés
B35: Irányítástechnika, energiaellátás
B37: Összesen | J37: =SUM(J23:J36) -> 0
A38: IV. Vízelosztás
C39: Helyszín | D39: beruházás megnevezése
B40: IVÓVÍZHÁLÓZAT
B41: Épület, építmény
B43: Gép, berendezés
B45: Irányítástechnika, energiaellátás
B47: VÍZTÁROLÓK
B48: Épület, építmény
B50: Gép, berendezés
B52: Irányítástechnika, energiaellátás
B54: NYOMÁSFOKOZÓK
B55: Épület, építmény
B57: Gép, berendezés
B59: Irányítástechnika, energiaellátás
B61: Összesen: | J61: =SUM(J40:J60) -> 0 | K61: =SUM(C65:C65) -> 0 | O61: =SUM(O12:O60) -> 0 | P61: =SUM(P12:P60) -> 0 | Q61: =SUM(Q12:Q60) -> 0 | R61: =SUM(R12:R60) -> 0 | S61: =SUM(S12:S60) -> 0 | T61: =SUM(T12:T60) -> 0 | U61: =SUM(U12:U60) -> 0 | V61: =SUM(V12:V60) -> 0 | ... AC61: =SUM(AC12:AC60) -> 0
B64: Tervezett feladatok nettó költsége a teljes ütem tekintetében (eFt) | C64: Rendelkezésre álló források számszerűsített értéke a teljes ütem tekintetében (eFt) | D64: Forrás megnevezése a teljes ütem tekintetében
A65: I. ütem | B65: =SUM(O61) -> 0 | C65: 0 | D65: Fejlesztési díj (2021)
A66: II. ütem | B66: =SUM(P61:S61) -> 0 | C66: 0 | D66: Fejlesztési díj (2022-2025)
A67: III. ütem | B67: =SUM(T61:AC61) -> 0 | C67: 0 | D67: Fejlesztési díj (2026-2035)
B70: Jelenleg beruházási igény nem ismert, nincs rendelkezésre álló forrás beruházásra.

Sheet Boncodfölde
A1: Gördülő fejlesztési terv a 2021 - 2035 időszakra
A2: BERUHÁZÁSOK ÖSSZEFOGLALÓ TÁBLÁZATA
A3: A tervet benyújtó szervezet megnevezése: | K3: BONCODFÖLDE | R3: ellátásért felelős / ellátásért felelősök képviselője / víziközmű-szolgáltató *
A4: Víziközmű-szolgáltató megnevezése: | K4: ÉSZAK ZALAI VÍZ- ÉS CSATORNAMŰ ZÁRTKÖRŰEN MŰKÖDŐ RÉSZVÉNYTÁRSASÁG
A5: Víziközmű-szolgáltatási ágazat megnevezése: | K5: IVÓVÍZ ÁGAZAT
A6: Véleményeltérést megfogalmazó érintett fél megnevezése:
A7: Víziközmű-rendszer kódja: ** | K7: 11-32054-1-025-01-14 | R7: Zalaegerszeg-IV
A8: I. Felszín alatti vízkivétel
A9: Fontossági sorrend | B9: Felujítás és pótlás megnevezése | E9: Műszaki állapot felmérés, szükségességi indoklás | H9: Vízjogi létesítési/elvi engedély száma | I9: Az érintett ellátásért felelős(ök) megnevezése | J9: Tervezett nettó költség | K9: Forrás 2021 évre | L9: Megvalósítás időtartama | N9: Tervezett időtáv | O9: A beruházás ütemezése a tervezési időszak évei szerint
E10: Jelenlegi műszaki állapot | F10: Feladat szükségessége | G10: Megvalósítást követő várható műszaki állapot | J10: (eFt) | L10: Kezdés | M10: Befejezés | N10: (rövid / közép / hosszú) | O10: 1 | P10: 2 | Q10: 3 | R10: 4 | S10: 5 | T10: 6 | U10: 7 | V10: 8 | W10: 9 | X10: 10 | Y10: 11 | Z10: 12 | AA10: 13 | AB10: 14 | AC10: 15
B11: szakág | C11: Helyszín | D11: beruházás megnevezése
B13: MÉLYFÚRÁSÚ KÚT, HAGYOMÁNYOS ÁTMÉRŐVEL
B14: Épület, építmény
B16: Gép, berendezés
B18: Irányítástechnika, energiaellátás
B20: Összesen: | J20: =SUM(J12:J19) -> 0
A21: III. Vízműtelep és vízkezelő létesítmények
C22: Helyszín | D22: beruházás megnevezése
B23: VÍZMŰTELEP
B24: Épület, építmény
B26: Gép, berendezés
B28: Irányítástechnika, energiaellátás
B30: VÍZKEZELŐ LÉTESÍTMÉNYEK
B31: Épület, építmény
B33: Gép, berendezés
B35: Irányítástechnika, energiaellátás
B37: Összesen | J37: =SUM(J23:J36) -> 0
A38: IV. Vízelosztás
C39: Helyszín | D39: beruházás megnevezése
B40: IVÓVÍZHÁLÓZAT
B41: Épület, építmény
B43: Gép, berendezés
B45: Irányítástechnika, energiaellátás
B47: VÍZTÁROLÓK
B48: Épület, építmény
B50: Gép, berendezés
B52: Irányítástechnika, energiaellátás
B54: NYOMÁSFOKOZÓK
B55: Épület, építmény
B57: Gép, berendezés
B59: Irányítástechnika, energiaellátás
B61: Összesen: | J61: =SUM(J40:J60) -> 0 | K61: 0 | O61: =SUM(O12:O60) -> 0 | P61: =SUM(P12:P60) -> 0 | Q61: =SUM(Q12:Q60) -> 0 | R61: =SUM(R12:R60) -> 0 | S61: =SUM(S12:S60) -> 0 | T61: =SUM(T12:T60) -> 0 | U61: =SUM(U12:U60) -> 0 | V61: =SUM(V12:V60) -> 0 | ... AC61: =SUM(AC12:AC60) -> 0
B64: Tervezett feladatok nettó költsége a teljes ütem tekintetében (eFt) | C64: Rendelkezésre álló források számszerűsített értéke a teljes ütem tekintetében (eFt) | D64: Forrás megnevezése a teljes ütem tekintetében
A65: I. ütem | B65: =SUM(O61) -> 0 | C65: =K61 -> 0 | D65: Fejlesztési díj (2021)
A66: II. ütem | B66: =SUM(P61:S61) -> 0 | C66: =C65*4 -> 0 | D66: Fejlesztési díj (2022-2025)
A67: III. ütem | B67: =SUM(T61:AC61) -> 0 | C67: =C65*10 -> 0 | D67: Fejlesztési díj (2026-2035)
B70: Jelenleg beruházási igény nem ismert, nincs rendelkezésre álló forrás beruházásra.

Sheet Böde
A1: Gördülő fejlesztési terv a 2021 - 2035 időszakra
A2: BERUHÁZÁSOK ÖSSZEFOGLALÓ TÁBLÁZATA
A3: A tervet benyújtó szervezet megnevezése: | K3: BÖDE | R3: ellátásért felelős / ellátásért felelősök képviselője / víziközmű-szolgáltató *
A4: Víziközmű-szolgáltató megnevezése: | K4: ÉSZAK ZALAI VÍZ- ÉS CSATORNAMŰ ZÁRTKÖRŰEN MŰKÖDŐ RÉSZVÉNYTÁRSASÁG
A5: Víziközmű-szolgáltatási ágazat megnevezése: | K5: IVÓVÍZ ÁGAZAT
A6: Véleményeltérést megfogalmazó érintett fél megnevezése:
A7: Víziközmű-rendszer kódja: ** | K7: 11-32054-1-025-01-14 | R7: Zalaegerszeg-IV
A8: I. Felszín alatti vízkivétel
A9: Fontossági sorrend | B9: Felujítás és pótlás megnevezése | E9: Műszaki állapot felmérés, szükségességi indoklás | H9: Vízjogi létesítési/elvi engedély száma | I9: Az érintett ellátásért felelős(ök) megnevezése | J9: Tervezett nettó költség | K9: Forrás 2021 évre | L9: Megvalósítás időtartama | N9: Tervezett időtáv | O9: A beruházás ütemezése a tervezési időszak évei szerint
E10: Jelenlegi műszaki állapot | F10: Feladat szükségessége | G10: Megvalósítást követő várható műszaki állapot | J10: (eFt) | L10: Kezdés | M10: Befejezés | N10: (rövid / közép / hosszú) | O10: 1 | P10: 2 | Q10: 3 | R10: 4 | S10: 5 | T10: 6 | U10: 7 | V10: 8 | W10: 9 | X10: 10 | Y10: 11 | Z10: 12 | AA10: 13 | AB10: 14 | AC10: 15
B11: szakág | C11: Helyszín | D11: beruházás megnevezése
B13: MÉLYFÚRÁSÚ KÚT, HAGYOMÁNYOS ÁTMÉRŐVEL
B14: Épület, építmény
B16: Gép, berendezés
B18: Irányítástechnika, energiaellátás
B20: Összesen: | J20: =SUM(J12:J18) -> 0
A21: III. Vízműtelep és vízkezelő létesítmények
C22: Helyszín | D22: beruházás megnevezése
B23: VÍZMŰTELEP
B24: Épület, építmény
B26: Gép, berendezés
B28: Irányítástechnika, energiaellátás
B30: VÍZKEZELŐ LÉTESÍTMÉNYEK
B31: Épület, építmény
B33: Gép, berendezés
B35: Irányítástechnika, energiaellátás
B37: Összesen | J37: =SUM(J23:J36) -> 0
A38: IV. Vízelosztás
C39: Helyszín | D39: beruházás megnevezése
B40: IVÓVÍZHÁLÓZAT
B41: Épület, építmény
B43: Gép, berendezés
B45: Irányítástechnika, energiaellátás
B47: VÍZTÁROLÓK
B48: Épület, építmény
B50: Gép, berendezés
B52: Irányítástechnika, energiaellátás
B54: NYOMÁSFOKOZÓK
B55: Épület, építmény
B57: Gép, berendezés
B59: Irányítástechnika, energiaellátás
B61: Összesen: | J61: =SUM(J40:J60) -> 0 | K61: 0 | O61: =SUM(O12:O60) -> 0 | P61: =SUM(P12:P60) -> 0 | Q61: =SUM(Q12:Q60) -> 0 | R61: =SUM(R12:R60) -> 0 | S61: =SUM(S12:S60) -> 0 | T61: =SUM(T12:T60) -> 0 | U61: =SUM(U12:U60) -> 0 | V61: =SUM(V12:V60) -> 0 | ... AC61: =SUM(AC12:AC60) -> 0
B64: Tervezett feladatok nettó költsége a teljes ütem tekintetében (eFt) | C64: Rendelkezésre álló források számszerűsített értéke a teljes ütem tekintetében (eFt) | D64: Forrás megnevezése a teljes ütem tekintetében
A65: I. ütem | B65: =SUM(O61) -> 0 | C65: =K61 -> 0 | D65: Fejlesztési díj (2021)
A66: II. ütem | B66: =SUM(P61:S61) -> 0 | C66: =C65*4 -> 0 | D66: Fejlesztési díj (2022-2025)
A67: III. ütem | B67: =SUM(T61:AC61) -> 0 | C67: =C65*10 -> 0 | D67: Fejlesztési díj (2026-2035)
B70: Jelenleg beruházási igény nem ismert, nincs rendelkezésre álló forrás beruházásra.

Sheet Csatár
A1: Gördülő fejlesztési terv a 2021 - 2035 időszakra
A2: BERUHÁZÁSOK ÖSSZEFOGLALÓ TÁBLÁZATA
A3: A tervet benyújtó szervezet megnevezése: | K3: CSATÁR | R3: ellátásért felelős / ellátásért felelősök képviselője / víziközmű-szolgáltató *
A4: Víziközmű-szolgáltató megnevezése: | K4: ÉSZAK ZALAI VÍZ- ÉS CSATORNAMŰ ZÁRTKÖRŰEN MŰKÖDŐ RÉSZVÉNYTÁRSASÁG
A5: Víziközmű-szolgáltatási ágazat megnevezése: | K5: IVÓVÍZ ÁGAZAT
A6: Véleményeltérést megfogalmazó érintett fél megnevezése:
A7: Víziközmű-rendszer kódja: ** | K7: 11-32054-1-025-01-14 | R7: Zalaegerszeg-IV
A8: I. Felszín alatti vízkivétel
A9: Fontossági sorrend | B9: Felujítás és pótlás megnevezése | E9: Műszaki állapot felmérés, szükségességi indoklás | H9: Vízjogi létesítési/elvi engedély száma | I9: Az érintett ellátásért felelős(ök) megnevezése | J9: Tervezett nettó költség | K9: Forrás 2021 évre | L9: Megvalósítás időtartama | N9: Tervezett időtáv | O9: A beruházás ütemezése a tervezési időszak évei szerint
E10: Jelenlegi műszaki állapot | F10: Feladat szükségessége | G10: Megvalósítást követő várható műszaki állapot | J10: (eFt) | L10: Kezdés | M10: Befejezés | N10: (rövid / közép / hosszú) | O10: 1 | P10: 2 | Q10: 3 | R10: 4 | S10: 5 | T10: 6 | U10: 7 | V10: 8 | W10: 9 | X10: 10 | Y10: 11 | Z10: 12 | AA10: 13 | AB10: 14 | AC10: 15
B11: szakág | C11: Helyszín | D11: beruházás megnevezése
B13: MÉLYFÚRÁSÚ KÚT, HAGYOMÁNYOS ÁTMÉRŐVEL
B14: Épület, építmény
B16: Gép, berendezés
B18: Irányítástechnika, energiaellátás
B20: Összesen: | J20: =SUM(J12:J18) -> 0
A21: III. Vízműtelep és vízkezelő létesítmények
C22: Helyszín | D22: beruházás megnevezése
B23: VÍZMŰTELEP
B24: Épület, építmény
B26: Gép, berendezés
B28: Irányítástechnika, energiaellátás
B30: VÍZKEZELŐ LÉTESÍTMÉNYEK
B31: Épület, építmény
B33: Gép, berendezés
B35: Irányítástechnika, energiaellátás
B37: Összesen | J37: =SUM(J23:J36) -> 0
A38: IV. Vízelosztás
C39: Helyszín | D39: beruházás megnevezése
B40: IVÓVÍZHÁLÓZAT
B41: Épület, építmény
B43: Gép, berendezés
B45: Irányítástechnika, energiaellátás
B47: VÍZTÁROLÓK
B48: Épület, építmény
B50: Gép, berendezés
B52: Irányítástechnika, energiaellátás
B54: NYOMÁSFOKOZÓK
B55: Épület, építmény
B57: Gép, berendezés
B59: Irányítástechnika, energiaellátás
B61: Összesen: | J61: =SUM(J40:J60) -> 0 | K61: 0 | O61: =SUM(O12:O60) -> 0 | P61: =SUM(P12:P60) -> 0 | Q61: =SUM(Q12:Q60) -> 0 | R61: =SUM(R12:R60) -> 0 | S61: =SUM(S12:S60) -> 0 | T61: =SUM(T12:T60) -> 0 | U61: =SUM(U12:U60) -> 0 | V61: =SUM(V12:V60) -> 0 | ... AC61: =SUM(AC12:AC60) -> 0
B64: Tervezett feladatok nettó költsége a teljes ütem tekintetében (eFt) | C64: Rendelkezésre álló források számszerűsített értéke a teljes ütem tekintetében (eFt) | D64: Forrás megnevezése a teljes ütem tekintetében
A65: I. ütem | B65: =SUM(O61) -> 0 | C65: =K61 -> 0 | D65: Fejlesztési díj (2021)
A66: II. ütem | B66: =SUM(P61:S61) -> 0 | C66: =C65*4 -> 0 | D66: Fejlesztési díj (2022-2025)
A67: III. ütem | B67: =SUM(T61:AC61) -> 0 | C67: =C65*10 -> 0 | D67: Fejlesztési díj (2026-2035)
B70: Jelenleg beruházási igény nem ismert, nincs rendelkezésre álló forrás beruházásra.

Sheet Csonkahegyhát
A1: Gördülő fejlesztési terv a 2021 - 2035 időszakra
A2: BERUHÁZÁSOK ÖSSZEFOGLALÓ TÁBLÁZATA
A3: A tervet benyújtó szervezet megnevezése: | K3: CSONKAHEGYHÁT | R3: ellátásért felelős / ellátásért felelősök képviselője / víziközmű-szolgáltató *
A4: Víziközmű-szolgáltató megnevezése: | K4: ÉSZAK ZALAI VÍZ- ÉS CSATORNAMŰ ZÁRTKÖRŰEN MŰKÖDŐ RÉSZVÉNYTÁRSASÁG
A5: Víziközmű-szolgáltatási ágazat megnevezése: | K5: IVÓVÍZ ÁGAZAT
A6: Véleményeltérést megfogalmazó érintett fél megnevezése:
A7: Víziközmű-rendszer kódja: ** | K7: 11-32054-1-025-01-14 | R7: Zalaegerszeg-IV
A8: I. Felszín alatti vízkivétel
A9: Fontossági sorrend | B9: Felujítás és pótlás megnevezése | E9: Műszaki állapot felmérés, szükségességi indoklás | H9: Vízjogi létesítési/elvi engedély száma | I9: Az érintett ellátásért felelős(ök) megnevezése | J9: Tervezett nettó költség | K9: Forrás 2021 évre | L9: Megvalósítás időtartama | N9: Tervezett időtáv | O9: A beruházás ütemezése a tervezési időszak évei szerint
E10: Jelenlegi műszaki állapot | F10: Feladat szükségessége | G10: Megvalósítást követő várható műszaki állapot | J10: (eFt) | L10: Kezdés | M10: Befejezés | N10: (rövid / közép / hosszú) | O10: 1 | P10: 2 | Q10: 3 | R10: 4 | S10: 5 | T10: 6 | U10: 7 | V10: 8 | W10: 9 | X10: 10 | Y10: 11 | Z10: 12 | AA10: 13 | AB10: 14 | AC10: 15
B11: szakág | C11: Helyszín | D11: beruházás megnevezése
B13: MÉLYFÚRÁSÚ KÚT, HAGYOMÁNYOS ÁTMÉRŐVEL
B14: Épület, építmény
B16: Gép, berendezés
B18: Irányítástechnika, energiaellátás
B20: Összesen: | J20: =SUM(J12:J19) -> 0
A21: III. Vízműtelep és vízkezelő létesítmények
C22: Helyszín | D22: beruházás megnevezése
B23: VÍZMŰTELEP
B24: Épület, építmény
B26: Gép, berendezés
B28: Irányítástechnika, energiaellátás
B30: VÍZKEZELŐ LÉTESÍTMÉNYEK
B31: Épület, építmény
B33: Gép, berendezés
B35: Irányítástechnika, energiaellátás
B37: Összesen | J37: =SUM(J23:J36) -> 0
A38: IV. Vízelosztás
C39: Helyszín | D39: beruházás megnevezése
B40: IVÓVÍZHÁLÓZAT
B41: Épület, építmény
B43: Gép, berendezés
B45: Irányítástechnika, energiaellátás
B47: VÍZTÁROLÓK
B48: Épület, építmény
B50: Gép, berendezés
B52: Irányítástechnika, energiaellátás
B54: NYOMÁSFOKOZÓK
B55: Épület, építmény
B57: Gép, berendezés
B59: Irányítástechnika, energiaellátás
B61: Összesen: | J61: =SUM(J40:J60) -> 0 | K61: 0 | O61: =SUM(O12:O60) -> 0 | P61: =SUM(P11:P60) -> 0 | Q61: =SUM(Q11:Q60) -> 0 | R61: =SUM(R11:R60) -> 0 | S61: =SUM(S11:S60) -> 0 | T61: =SUM(T11:T60) -> 0 | U61: =SUM(U11:U60) -> 0 | V61: =SUM(V11:V60) -> 0 | W61: =SUM(W11:W60) -> 0 | ... AC61: =SUM(AC11:AC60) -> 0
B64: Tervezett feladatok nettó költsége a teljes ütem tekintetében (eFt) | C64: Rendelkezésre álló források számszerűsített értéke a teljes ütem tekintetében (eFt) | D64: Forrás megnevezése a teljes ütem tekintetében
A65: I. ütem | B65: =SUM(O61) -> 0 | C65: =K61 -> 0 | D65: Fejlesztési díj (2021)
A66: II. ütem | B66: =SUM(P61:S61) -> 0 | C66: =C65*4 -> 0 | D66: Fejlesztési díj (2022-2025)
A67: III. ütem | B67: =SUM(T61:AC61) -> 0 | C67: =C65*10 -> 0 | D67: Fejlesztési díj (2026-2035)
B70: Jelenleg beruházási igény nem ismert, nincs rendelkezésre álló forrás beruházásra.

Sheet Dobronhegy
A1: Gördülő fejlesztési terv a 2021 - 2035 időszakra
A2: BERUHÁZÁSOK ÖSSZEFOGLALÓ TÁBLÁZATA
A3: A tervet benyújtó szervezet megnevezése: | K3: DOBRONHEGY | R3: ellátásért felelős / ellátásért felelősök képviselője / víziközmű-szolgáltató *
A4: Víziközmű-szolgáltató megnevezése: | K4: ÉSZAK ZALAI VÍZ- ÉS CSATORNAMŰ ZÁRTKÖRŰEN MŰKÖDŐ RÉSZVÉNYTÁRSASÁG
A5: Víziközmű-szolgáltatási ágazat megnevezése: | K5: IVÓVÍZ ÁGAZAT
A6: Véleményeltérést megfogalmazó érintett fél megnevezése:
A7: Víziközmű-rendszer kódja: ** | K7: 11-32054-1-025-01-14 | R7: Zalaegerszeg-IV
A8: I. Felszín alatti vízkivétel
A9: Fontossági sorrend | B9: Felujítás és pótlás megnevezése | E9: Műszaki állapot felmérés, szükségességi indoklás | H9: Vízjogi létesítési/elvi engedély száma | I9: Az érintett ellátásért felelős(ök) megnevezése | J9: Tervezett nettó költség | K9: Forrás 2021 évre | L9: Megvalósítás időtartama | N9: Tervezett időtáv | O9: A beruházás ütemezése a tervezési időszak évei szerint
E10: Jelenlegi műszaki állapot | F10: Feladat szükségessége | G10: Megvalósítást követő várható műszaki állapot | J10: (eFt) | L10: Kezdés | M10: Befejezés | N10: (rövid / közép / hosszú) | O10: 1 | P10: 2 | Q10: 3 | R10: 4 | S10: 5 | T10: 6 | U10: 7 | V10: 8 | W10: 9 | X10: 10 | Y10: 11 | Z10: 12 | AA10: 13 | AB10: 14 | AC10: 15
B11: szakág | C11: Helyszín | D11: beruházás megnevezése
B13: MÉLYFÚRÁSÚ KÚT, HAGYOMÁNYOS ÁTMÉRŐVEL
B14: Épület, építmény
B16: Gép, berendezés
B18: Irányítástechnika, energiaellátás
B20: Összesen: | J20: =SUM(J12:J19) -> 0
A21: III. Vízműtelep és vízkezelő létesítmények
C22: Helyszín | D22: beruházás megnevezése
B23: VÍZMŰTELEP
B24: Épület, építmény
B26: Gép, berendezés
B28: Irányítástechnika, energiaellátás
B30: VÍZKEZELŐ LÉTESÍTMÉNYEK
B31: Épület, építmény
B33: Gép, berendezés
B35: Irányítástechnika, energiaellátás
B37: Összesen | J37: =SUM(J23:J36) -> 0
A38: IV. Vízelosztás
C39: Helyszín | D39: beruházás megnevezése
B40: IVÓVÍZHÁLÓZAT
B41: Épület, építmény
B43: Gép, berendezés
B45: Irányítástechnika, energiaellátás
B47: VÍZTÁROLÓK
B48: Épület, építmény
B50: Gép, berendezés
B52: Irányítástechnika, energiaellátás
B54: NYOMÁSFOKOZÓK
B55: Épület, építmény
B57: Gép, berendezés
B59: Irányítástechnika, energiaellátás
B61: Összesen: | J61: =SUM(J40:J60) -> 0 | K61: 0 | O61: =SUM(O12:O60) -> 0 | P61: =SUM(P12:P60) -> 0 | Q61: =SUM(Q12:Q60) -> 0 | R61: =SUM(R12:R60) -> 0 | S61: =SUM(S12:S60) -> 0 | T61: =SUM(T12:T60) -> 0 | U61: =SUM(U12:U60) -> 0 | V61: =SUM(V12:V60) -> 0 | ... AC61: =SUM(AC12:AC60) -> 0
B64: Tervezett feladatok nettó költsége a teljes ütem tekintetében (eFt) | C64: Rendelkezésre álló források számszerűsített értéke a teljes ütem tekintetében (eFt) | D64: Forrás megnevezése a teljes ütem tekintetében
A65: I. ütem | B65: =SUM(O61) -> 0 | C65: =K61 -> 0 | D65: Fejlesztési díj (2021)
A66: II. ütem | B66: =SUM(P61:S61) -> 0 | C66: =C65*4 -> 0 | D66: Fejlesztési díj (2022-2025)
A67: III. ütem | B67: =SUM(T61:AC61) -> 0 | C67: =C65*10 -> 0 | D67: Fejlesztési díj (2026-2035)
B70: Jelenleg beruházási igény nem ismert, nincs rendelkezésre álló forrás beruházásra.

Sheet Hagyárosbörönd
A1: Gördülő fejlesztési terv a 2021 - 2035 időszakra
A2: BERUHÁZÁSOK ÖSSZEFOGLALÓ TÁBLÁZATA
A3: A tervet benyújtó szervezet megnevezése: | K3: HAGYÁROSBÖRÖND | R3: ellátásért felelős / ellátásért felelősök képviselője / víziközmű-szolgáltató *
A4: Víziközmű-szolgáltató megnevezése: | K4: ÉSZAK ZALAI VÍZ- ÉS CSATORNAMŰ ZÁRTKÖRŰEN MŰKÖDŐ RÉSZVÉNYTÁRSASÁG
A5: Víziközmű-szolgáltatási ágazat megnevezése: | K5: IVÓVÍZ ÁGAZAT
A6: Véleményeltérést megfogalmazó érintett fél megnevezése:
A7: Víziközmű-rendszer kódja: ** | K7: 11-32054-1-025-01-14 | R7: Zalaegerszeg-IV
A8: I. Felszín alatti vízkivétel
A9: Fontossági sorrend | B9: Felujítás és pótlás megnevezése | E9: Műszaki állapot felmérés, szükségességi indoklás | H9: Vízjogi létesítési/elvi engedély száma | I9: Az érintett ellátásért felelős(ök) megnevezése | J9: Tervezett nettó költség | K9: Forrás 2021 évre | L9: Megvalósítás időtartama | N9: Tervezett időtáv | O9: A beruházás ütemezése a tervezési időszak évei szerint
E10: Jelenlegi műszaki állapot | F10: Feladat szükségessége | G10: Megvalósítást követő várható műszaki állapot | J10: (eFt) | L10: Kezdés | M10: Befejezés | N10: (rövid / közép / hosszú) | O10: 1 | P10: 2 | Q10: 3 | R10: 4 | S10: 5 | T10: 6 | U10: 7 | V10: 8 | W10: 9 | X10: 10 | Y10: 11 | Z10: 12 | AA10: 13 | AB10: 14 | AC10: 15
B11: szakág | C11: Helyszín | D11: beruházás megnevezése
B13: MÉLYFÚRÁSÚ KÚT, HAGYOMÁNYOS ÁTMÉRŐVEL
B14: Épület, építmény
B16: Gép, berendezés
B18: Irányítástechnika, energiaellátás
B20: Összesen: | J20: =SUM(J12:J19) -> 0
A21: III. Vízműtelep és vízkezelő létesítmények
C22: Helyszín | D22: beruházás megnevezése
B23: VÍZMŰTELEP
B24: Épület, építmény
B26: Gép, berendezés
B28: Irányítástechnika, energiaellátás
B30: VÍZKEZELŐ LÉTESÍTMÉNYEK
B31: Épület, építmény
B33: Gép, berendezés
B35: Irányítástechnika, energiaellátás
B37: Összesen | J37: =SUM(J23:J36) -> 0
A38: IV. Vízelosztás
C39: Helyszín | D39: beruházás megnevezése
B40: IVÓVÍZHÁLÓZAT
B41: Épület, építmény
B43: Gép, berendezés
B45: Irányítástechnika, energiaellátás
B47: VÍZTÁROLÓK
B48: Épület, építmény
B50: Gép, berendezés
B52: Irányítástechnika, energiaellátás
B54: NYOMÁSFOKOZÓK
B55: Épület, építmény
B57: Gép, berendezés
B59: Irányítástechnika, energiaellátás
B61: Összesen: | J61: =SUM(J40:J60) -> 0 | K61: 0 | O61: =SUM(O12:O60) -> 0 | P61: =SUM(P12:P60) -> 0 | Q61: =SUM(Q12:Q60) -> 0 | R61: =SUM(R12:R60) -> 0 | S61: =SUM(S12:S60) -> 0 | T61: =SUM(T12:T60) -> 0 | U61: =SUM(U12:U60) -> 0 | V61: =SUM(V12:V60) -> 0 | ... AC61: =SUM(AC12:AC60) -> 0
B64: Tervezett feladatok nettó költsége a teljes ütem tekintetében (eFt) | C64: Rendelkezésre álló források számszerűsített értéke a teljes ütem tekintetében (eFt) | D64: Forrás megnevezése a teljes ütem tekintetében
A65: I. ütem | B65: =SUM(O61) -> 0 | C65: =K61 -> 0 | D65: Fejlesztési díj (2021)
A66: II. ütem | B66: =SUM(P61:S61) -> 0 | C66: =C65*4 -> 0 | D66: Fejlesztési díj (2022-2025)
A67: III. ütem | B67: =SUM(T61:AC61) -> 0 | C67: =C65*10 -> 0 | D67: Fejlesztési díj (2026-2035)
B70: Jelenleg beruházási igény nem ismert, nincs rendelkezésre álló forrás beruházásra.

Sheet Hottó
A1: Gördülő fejlesztési terv a 2021 - 2035 időszakra
A2: BERUHÁZÁSOK ÖSSZEFOGLALÓ TÁBLÁZATA
A3: A tervet benyújtó szervezet megnevezése: | K3: HOTTÓ | R3: ellátásért felelős / ellátásért felelősök képviselője / víziközmű-szolgáltató *
A4: Víziközmű-szolgáltató megnevezése: | K4: ÉSZAK ZALAI VÍZ- ÉS CSATORNAMŰ ZÁRTKÖRŰEN MŰKÖDŐ RÉSZVÉNYTÁRSASÁG
A5: Víziközmű-szolgáltatási ágazat megnevezése: | K5: IVÓVÍZ ÁGAZAT
A6: Véleményeltérést megfogalmazó érintett fél megnevezése:
A7: Víziközmű-rendszer kódja: ** | K7: 11-32054-1-025-01-14 | R7: Zalaegerszeg-IV
A8: I. Felszín alatti vízkivétel
A9: Fontossági sorrend | B9: Felujítás és pótlás megnevezése | E9: Műszaki állapot felmérés, szükségességi indoklás | H9: Vízjogi létesítési/elvi engedély száma | I9: Az érintett ellátásért felelős(ök) megnevezése | J9: Tervezett nettó költség | K9: Forrás 2021 évre | L9: Megvalósítás időtartama | N9: Tervezett időtáv | O9: A beruházás ütemezése a tervezési időszak évei szerint
E10: Jelenlegi műszaki állapot | F10: Feladat szükségessége | G10: Megvalósítást követő várható műszaki állapot | J10: (eFt) | L10: Kezdés | M10: Befejezés | N10: (rövid / közép / hosszú) | O10: 1 | P10: 2 | Q10: 3 | R10: 4 | S10: 5 | T10: 6 | U10: 7 | V10: 8 | W10: 9 | X10: 10 | Y10: 11 | Z10: 12 | AA10: 13 | AB10: 14 | AC10: 15
B11: szakág | C11: Helyszín | D11: beruházás megnevezése
B13: MÉLYFÚRÁSÚ KÚT, HAGYOMÁNYOS ÁTMÉRŐVEL
B14: Épület, építmény
B16: Gép, berendezés
B18: Irányítástechnika, energiaellátás
B20: Összesen: | J20: =SUM(J12:J18) -> 0
A21: III. Vízműtelep és vízkezelő létesítmények
C22: Helyszín | D22: beruházás megnevezése
B23: VÍZMŰTELEP
B24: Épület, építmény
B26: Gép, berendezés
B28: Irányítástechnika, energiaellátás
B30: VÍZKEZELŐ LÉTESÍTMÉNYEK
B31: Épület, építmény
B33: Gép, berendezés
B35: Irányítástechnika, energiaellátás
B37: Összesen | J37: =SUM(J23:J36) -> 0
A38: IV. Vízelosztás
C39: Helyszín | D39: beruházás megnevezése
B40: IVÓVÍZHÁLÓZAT
B41: Épület, építmény
B43: Gép, berendezés
B45: Irányítástechnika, energiaellátás
B47: VÍZTÁROLÓK
B48: Épület, építmény
B50: Gép, berendezés
B52: Irányítástechnika, energiaellátás
B54: NYOMÁSFOKOZÓK
B55: Épület, építmény
B57: Gép, berendezés
B59: Irányítástechnika, energiaellátás
B61: Összesen: | J61: =SUM(J40:J60) -> 0 | K61: 0 | O61: =SUM(O12:O60) -> 0 | P61: =SUM(P12:P60) -> 0 | Q61: =SUM(Q12:Q60) -> 0 | R61: =SUM(R12:R60) -> 0 | S61: =SUM(S12:S60) -> 0 | T61: =SUM(T12:T60) -> 0 | U61: =SUM(U12:U60) -> 0 | V61: =SUM(V12:V60) -> 0 | ... AC61: =SUM(AC12:AC60) -> 0
B64: Tervezett feladatok nettó költsége a teljes ütem tekintetében (eFt) | C64: Rendelkezésre álló források számszerűsített értéke a teljes ütem tekintetében (eFt) | D64: Forrás megnevezése a teljes ütem tekintetében
A65: I. ütem | B65: =SUM(O61) -> 0 | C65: =K61 -> 0 | D65: Fejlesztési díj (2021)
A66: II. ütem | B66: =SUM(P61:S61) -> 0 | C66: =C65*4 -> 0 | D66: Fejlesztési díj (2022-2025)
A67: III. ütem | B67: =SUM(T61:AC61) -> 0 | C67: =C65*10 -> 0 | D67: Fejlesztési díj (2026-2035)
B70: Jelenleg beruházási igény nem ismert, nincs rendelkezésre álló forrás beruházásra.

Sheet Kávás
A1: Gördülő fejlesztési terv a 2021 - 2035 időszakra
A2: BERUHÁZÁSOK ÖSSZEFOGLALÓ TÁBLÁZATA
A3: A tervet benyújtó szervezet megnevezése: | K3: KÁVÁS | R3: ellátásért felelős / ellátásért felelősök képviselője / víziközmű-szolgáltató *
A4: Víziközmű-szolgáltató megnevezése: | K4: ÉSZAK ZALAI VÍZ- ÉS CSATORNAMŰ ZÁRTKÖRŰEN MŰKÖDŐ RÉSZVÉNYTÁRSASÁG
A5: Víziközmű-szolgáltatási ágazat megnevezése: | K5: IVÓVÍZ ÁGAZAT
A6: Véleményeltérést megfogalmazó érintett fél megnevezése:
A7: Víziközmű-rendszer kódja: ** | K7: 11-32054-1-025-01-14 | R7: Zalaegerszeg-IV
A8: I. Felszín alatti vízkivétel
A9: Fontossági sorrend | B9: Felujítás és pótlás megnevezése | E9: Műszaki állapot felmérés, szükségességi indoklás | H9: Vízjogi létesítési/elvi engedély száma | I9: Az érintett ellátásért felelős(ök) megnevezése | J9: Tervezett nettó költség | K9: Forrás 2021 évre | L9: Megvalósítás időtartama | N9: Tervezett időtáv | O9: A beruházás ütemezése a tervezési időszak évei szerint
E10: Jelenlegi műszaki állapot | F10: Feladat szükségessége | G10: Megvalósítást követő várható műszaki állapot | J10: (eFt) | L10: Kezdés | M10: Befejezés | N10: (rövid / közép / hosszú) | O10: 1 | P10: 2 | Q10: 3 | R10: 4 | S10: 5 | T10: 6 | U10: 7 | V10: 8 | W10: 9 | X10: 10 | Y10: 11 | Z10: 12 | AA10: 13 | AB10: 14 | AC10: 15
B11: szakág | C11: Helyszín | D11: beruházás megnevezése
B13: MÉLYFÚRÁSÚ KÚT, HAGYOMÁNYOS ÁTMÉRŐVEL
B14: Épület, építmény
B16: Gép, berendezés
B18: Irányítástechnika, energiaellátás
B20: Összesen: | J20: =SUM(J12:J19) -> 0
A21: III. Vízműtelep és vízkezelő létesítmények
C22: Helyszín | D22: beruházás megnevezése
B23: VÍZMŰTELEP
B24: Épület, építmény
B26: Gép, berendezés
B28: Irányítástechnika, energiaellátás
B30: VÍZKEZELŐ LÉTESÍTMÉNYEK
B31: Épület, építmény
B33: Gép, berendezés
B35: Irányítástechnika, energiaellátás
B37: Összesen | J37: =SUM(J23:J36) -> 0
A38: IV. Vízelosztás
C39: Helyszín | D39: beruházás megnevezése
B40: IVÓVÍZHÁLÓZAT
B41: Épület, építmény
B43: Gép, berendezés
B45: Irányítástechnika, energiaellátás
B47: VÍZTÁROLÓK
B48: Épület, építmény
B50: Gép, berendezés
B52: Irányítástechnika, energiaellátás
B54: NYOMÁSFOKOZÓK
B55: Épület, építmény
B57: Gép, berendezés
B59: Irányítástechnika, energiaellátás
B61: Összesen: | J61: =SUM(J40:J60) -> 0 | K61: 0 | O61: =SUM(O12:O60) -> 0 | P61: =SUM(P12:P60) -> 0 | Q61: =SUM(Q12:Q60) -> 0 | R61: =SUM(R12:R60) -> 0 | S61: =SUM(S12:S60) -> 0 | T61: =SUM(T12:T60) -> 0 | U61: =SUM(U12:U60) -> 0 | V61: =SUM(V12:V60) -> 0 | ... AC61: =SUM(AC12:AC60) -> 0
B64: Tervezett feladatok nettó költsége a teljes ütem tekintetében (eFt) | C64: Rendelkezésre álló források számszerűsített értéke a teljes ütem tekintetében (eFt) | D64: Forrás megnevezése a teljes ütem tekintetében
A65: I. ütem | B65: =SUM(O61) -> 0 | C65: =K61 -> 0 | D65: Fejlesztési díj (2021)
A66: II. ütem | B66: =SUM(P61:S61) -> 0 | C66: =C65*4 -> 0 | D66: Fejlesztési díj (2022-2025)
A67: III. ütem | B67: =SUM(T61:AC61) -> 0 | C67: =C65*10 -> 0 | D67: Fejlesztési díj (2026-2035)
B70: Jelenleg beruházási igény nem ismert, nincs rendelkezésre álló forrás beruházásra.

Sheet Kiskutas
A1: Gördülő fejlesztési terv a 2021 - 2035 időszakra
A2: BERUHÁZÁSOK ÖSSZEFOGLALÓ TÁBLÁZATA
A3: A tervet benyújtó szervezet megnevezése: | K3: KISKUTAS | R3: ellátásért felelős / ellátásért felelősök képviselője / víziközmű-szolgáltató *
A4: Víziközmű-szolgáltató megnevezése: | K4: ÉSZAK ZALAI VÍZ- ÉS CSATORNAMŰ ZÁRTKÖRŰEN MŰKÖDŐ RÉSZVÉNYTÁRSASÁG
A5: Víziközmű-szolgáltatási ágazat megnevezése: | K5: IVÓVÍZ ÁGAZAT
A6: Véleményeltérést megfogalmazó érintett fél megnevezése:
A7: Víziközmű-rendszer kódja: ** | K7: 11-32054-1-025-01-14 | R7: Zalaegerszeg-IV
A8: I. Felszín alatti vízkivétel
A9: Fontossági sorrend | B9: Felujítás és pótlás megnevezése | E9: Műszaki állapot felmérés, szükségességi indoklás | H9: Vízjogi létesítési/elvi engedély száma | I9: Az érintett ellátásért felelős(ök) megnevezése | J9: Tervezett nettó költség | K9: Forrás 2021 évre | L9: Megvalósítás időtartama | N9: Tervezett időtáv | O9: A beruházás ütemezése a tervezési időszak évei szerint
E10: Jelenlegi műszaki állapot | F10: Feladat szükségessége | G10: Megvalósítást követő várható műszaki állapot | J10: (eFt) | L10: Kezdés | M10: Befejezés | N10: (rövid / közép / hosszú) | O10: 1 | P10: 2 | Q10: 3 | R10: 4 | S10: 5 | T10: 6 | U10: 7 | V10: 8 | W10: 9 | X10: 10 | Y10: 11 | Z10: 12 | AA10: 13 | AB10: 14 | AC10: 15
B11: szakág | C11: Helyszín | D11: beruházás megnevezése
B13: MÉLYFÚRÁSÚ KÚT, HAGYOMÁNYOS ÁTMÉRŐVEL
B14: Épület, építmény
B16: Gép, berendezés
B18: Irányítástechnika, energiaellátás
B20: Összesen: | J20: =SUM(J12:J18) -> 0
A21: III. Vízműtelep és vízkezelő létesítmények
C22: Helyszín | D22: beruházás megnevezése
B23: VÍZMŰTELEP
B24: Épület, építmény
B26: Gép, berendezés
B28: Irányítástechnika, energiaellátás
B30: VÍZKEZELŐ LÉTESÍTMÉNYEK
B31: Épület, építmény
B33: Gép, berendezés
B35: Irányítástechnika, energiaellátás
B37: Összesen | J37: =SUM(J23:J36) -> 0
A38: IV. Vízelosztás
C39: Helyszín | D39: beruházás megnevezése
B40: IVÓVÍZHÁLÓZAT
B41: Épület, építmény
B43: Gép, berendezés
B45: Irányítástechnika, energiaellátás
B47: VÍZTÁROLÓK
B48: Épület, építmény
B50: Gép, berendezés
B52: Irányítástechnika, energiaellátás
B54: NYOMÁSFOKOZÓK
B55: Épület, építmény
B57: Gép, berendezés
B59: Irányítástechnika, energiaellátás
B61: Összesen: | J61: =SUM(J40:J60) -> 0 | K61: =SUM(C65) -> 0 | O61: =SUM(O12:O60) -> 0 | P61: =SUM(P12:P60) -> 0 | Q61: =SUM(Q12:Q60) -> 0 | R61: =SUM(R12:R60) -> 0 | S61: =SUM(S12:S60) -> 0 | T61: =SUM(T12:T60) -> 0 | U61: =SUM(U12:U60) -> 0 | V61: =SUM(V12:V60) -> 0 | ... AC61: =SUM(AC12:AC60) -> 0
B64: Tervezett feladatok nettó költsége a teljes ütem tekintetében (eFt) | C64: Rendelkezésre álló források számszerűsített értéke a teljes ütem tekintetében (eFt) | D64: Forrás megnevezése a teljes ütem tekintetében
A65: I. ütem | B65: =SUM(O61) -> 0 | C65: 0 | D65: Fejlesztési díj (2021)
A66: II. ütem | B66: =SUM(P61:S61) -> 0 | C66: =C65*4 -> 0 | D66: Fejlesztési díj (2022-2025)
A67: III. ütem | B67: =SUM(T61:AC61) -> 0 | C67: =C65*10 -> 0 | D67: Fejlesztési díj (2026-2035)
B70: Jelenleg beruházási igény nem ismert.

Sheet Kispáli
A1: Gördülő fejlesztési terv a 2021 - 2035 időszakra
A2: BERUHÁZÁSOK ÖSSZEFOGLALÓ TÁBLÁZATA
A3: A tervet benyújtó szervezet megnevezése: | K3: KISPÁLI | R3: ellátásért felelős / ellátásért felelősök képviselője / víziközmű-szolgáltató *
A4: Víziközmű-szolgáltató megnevezése: | K4: ÉSZAK ZALAI VÍZ- ÉS CSATORNAMŰ ZÁRTKÖRŰEN MŰKÖDŐ RÉSZVÉNYTÁRSASÁG
A5: Víziközmű-szolgáltatási ágazat megnevezése: | K5: IVÓVÍZ ÁGAZAT
A6: Véleményeltérést megfogalmazó érintett fél megnevezése:
A7: Víziközmű-rendszer kódja: ** | K7: 11-32054-1-025-01-14 | R7: Zalaegerszeg-IV
A8: I. Felszín alatti vízkivétel
A9: Fontossági sorrend | B9: Felujítás és pótlás megnevezése | E9: Műszaki állapot felmérés, szükségességi indoklás | H9: Vízjogi létesítési/elvi engedély száma | I9: Az érintett ellátásért felelős(ök) megnevezése | J9: Tervezett nettó költség | K9: Forrás 2021 évre | L9: Megvalósítás időtartama | N9: Tervezett időtáv | O9: A beruházás ütemezése a tervezési időszak évei szerint
E10: Jelenlegi műszaki állapot | F10: Feladat szükségessége | G10: Megvalósítást követő várható műszaki állapot | J10: (eFt) | L10: Kezdés | M10: Befejezés | N10: (rövid / közép / hosszú) | O10: 1 | P10: 2 | Q10: 3 | R10: 4 | S10: 5 | T10: 6 | U10: 7 | V10: 8 | W10: 9 | X10: 10 | Y10: 11 | Z10: 12 | AA10: 13 | AB10: 14 | AC10: 15
B11: szakág | C11: Helyszín | D11: beruházás megnevezése
B13: MÉLYFÚRÁSÚ KÚT, HAGYOMÁNYOS ÁTMÉRŐVEL
B14: Épület, építmény
B16: Gép, berendezés
B18: Irányítástechnika, energiaellátás
B20: Összesen: | J20: =SUM(J12:J19) -> 0
A21: III. Vízműtelep és vízkezelő létesítmények
C22: Helyszín | D22: beruházás megnevezése
B23: VÍZMŰTELEP
B24: Épület, építmény
B26: Gép, berendezés
B28: Irányítástechnika, energiaellátás
B30: VÍZKEZELŐ LÉTESÍTMÉNYEK
B31: Épület, építmény
B33: Gép, berendezés
B35: Irányítástechnika, energiaellátás
B37: Összesen | J37: =SUM(J23:J36) -> 0
A38: IV. Vízelosztás
C39: Helyszín | D39: beruházás megnevezése
B40: IVÓVÍZHÁLÓZAT
B41: Épület, építmény
B43: Gép, berendezés
B45: Irányítástechnika, energiaellátás
B47: VÍZTÁROLÓK
B48: Épület, építmény
B50: Gép, berendezés
B52: Irányítástechnika, energiaellátás
B54: NYOMÁSFOKOZÓK
B55: Épület, építmény
B57: Gép, berendezés
B59: Irányítástechnika, energiaellátás
B61: Összesen: | J61: =SUM(J40:J60) -> 0 | K61: 0 | O61: =SUM(O12:O60) -> 0 | P61: =SUM(P11:P60) -> 0 | Q61: =SUM(Q11:Q60) -> 0 | R61: =SUM(R11:R60) -> 0 | S61: =SUM(S11:S60) -> 0 | T61: =SUM(T11:T60) -> 0 | U61: =SUM(U11:U60) -> 0 | V61: =SUM(V11:V60) -> 0 | W61: =SUM(W11:W60) -> 0 | ... AC61: =SUM(AC11:AC60) -> 0
B64: Tervezett feladatok nettó költsége a teljes ütem tekintetében (eFt) | C64: Rendelkezésre álló források számszerűsített értéke a teljes ütem tekintetében (eFt) | D64: Forrás megnevezése a teljes ütem tekintetében
A65: I. ütem | B65: =SUM(O61) -> 0 | C65: =K61 -> 0 | D65: Fejlesztési díj (2021)
A66: II. ütem | B66: =SUM(P61:S61) -> 0 | C66: =C65*4 -> 0 | D66: Fejlesztési díj (2022-2025)
A67: III. ütem | B67: =SUM(T61:AC61) -> 0 | C67: =C65*10 -> 0 | D67: Fejlesztési díj (2026-2035)
B70: Jelenleg beruházási igény nem ismert, nincs rendelkezésre álló forrás beruházásra.

Sheet Kustánszeg
A1: Gördülő fejlesztési terv a 2021 - 2035 időszakra
A2: BERUHÁZÁSOK ÖSSZEFOGLALÓ TÁBLÁZATA
A3: A tervet benyújtó szervezet megnevezése: | K3: KUSTÁNSZEG | R3: ellátásért felelős / ellátásért felelősök képviselője / víziközmű-szolgáltató *
A4: Víziközmű-szolgáltató megnevezése: | K4: ÉSZAK ZALAI VÍZ- ÉS CSATORNAMŰ ZÁRTKÖRŰEN MŰKÖDŐ RÉSZVÉNYTÁRSASÁG
A5: Víziközmű-szolgáltatási ágazat megnevezése: | K5: IVÓVÍZ ÁGAZAT
A6: Véleményeltérést megfogalmazó érintett fél megnevezése:
A7: Víziközmű-rendszer kódja: ** | K7: 11-32054-1-025-01-14 | R7: Zalaegerszeg-IV
A8: I. Felszín alatti vízkivétel
A9: Fontossági sorrend | B9: Felujítás és pótlás megnevezése | E9: Műszaki állapot felmérés, szükségességi indoklás | H9: Vízjogi létesítési/elvi engedély száma | I9: Az érintett ellátásért felelős(ök) megnevezése | J9: Tervezett nettó költség | K9: Forrás 2021 évre | L9: Megvalósítás időtartama | N9: Tervezett időtáv | O9: A beruházás ütemezése a tervezési időszak évei szerint
E10: Jelenlegi műszaki állapot | F10: Feladat szükségessége | G10: Megvalósítást követő várható műszaki állapot | J10: (eFt) | L10: Kezdés | M10: Befejezés | N10: (rövid / közép / hosszú) | O10: 1 | P10: 2 | Q10: 3 | R10: 4 | S10: 5 | T10: 6 | U10: 7 | V10: 8 | W10: 9 | X10: 10 | Y10: 11 | Z10: 12 | AA10: 13 | AB10: 14 | AC10: 15
B11: szakág | C11: Helyszín | D11: beruházás megnevezése
B13: MÉLYFÚRÁSÚ KÚT, HAGYOMÁNYOS ÁTMÉRŐVEL
B14: Épület, építmény
B16: Gép, berendezés
B18: Irányítástechnika, energiaellátás
B20: Összesen: | J20: =SUM(J12:J19) -> 0
A21: III. Vízműtelep és vízkezelő létesítmények
C22: Helyszín | D22: beruházás megnevezése
B23: VÍZMŰTELEP
B24: Épület, építmény
B26: Gép, berendezés
B28: Irányítástechnika, energiaellátás
B30: VÍZKEZELŐ LÉTESÍTMÉNYEK
B31: Épület, építmény
B33: Gép, berendezés
B35: Irányítástechnika, energiaellátás
B37: Összesen | J37: =SUM(J23:J36) -> 0
A38: IV. Vízelosztás
C39: Helyszín | D39: beruházás megnevezése
B40: IVÓVÍZHÁLÓZAT
B41: Épület, építmény
B43: Gép, berendezés
B45: Irányítástechnika, energiaellátás
B47: VÍZTÁROLÓK
B48: Épület, építmény
B50: Gép, berendezés
B52: Irányítástechnika, energiaellátás
B54: NYOMÁSFOKOZÓK
B55: Épület, építmény
B57: Gép, berendezés
B59: Irányítástechnika, energiaellátás
B61: Összesen: | J61: =SUM(J40:J60) -> 0 | K61: 0 | O61: =SUM(O12:O60) -> 0 | P61: =SUM(P12:P60) -> 0 | Q61: =SUM(Q12:Q60) -> 0 | R61: =SUM(R12:R60) -> 0 | S61: =SUM(S12:S60) -> 0 | T61: =SUM(T12:T60) -> 0 | U61: =SUM(U12:U60) -> 0 | V61: =SUM(V12:V60) -> 0 | ... AC61: =SUM(AC12:AC60) -> 0
B64: Tervezett feladatok nettó költsége a teljes ütem tekintetében (eFt) | C64: Rendelkezésre álló források számszerűsített értéke a teljes ütem tekintetében (eFt) | D64: Forrás megnevezése a teljes ütem tekintetében
A65: I. ütem | B65: =SUM(O61) -> 0 | C65: =K61 -> 0 | D65: Fejlesztési díj (2021)
A66: II. ütem | B66: =SUM(P61:S61) -> 0 | C66: =C65*4 -> 0 | D66: Fejlesztési díj (2022-2025)
A67: III. ütem | B67: =SUM(T61:AC61) -> 0 | C67: =C65*10 -> 0 | D67: Fejlesztési díj (2026-2035)
B70: Jelenleg beruházási igény nem ismert, nincs rendelkezésre álló forrás beruházásra.

Sheet Milejszeg
A1: Gördülő fejlesztési terv a 2021 - 2035 időszakra
A2: BERUHÁZÁSOK ÖSSZEFOGLALÓ TÁBLÁZATA
A3: A tervet benyújtó szervezet megnevezése: | K3: MILEJSZEG | R3: ellátásért felelős / ellátásért felelősök képviselője / víziközmű-szolgáltató *
A4: Víziközmű-szolgáltató megnevezése: | K4: ÉSZAK ZALAI VÍZ- ÉS CSATORNAMŰ ZÁRTKÖRŰEN MŰKÖDŐ RÉSZVÉNYTÁRSASÁG
A5: Víziközmű-szolgáltatási ágazat megnevezése: | K5: IVÓVÍZ ÁGAZAT
A6: Véleményeltérést megfogalmazó érintett fél megnevezése:
A7: Víziközmű-rendszer kódja: ** | K7: 11-32054-1-025-01-14 | R7: Zalaegerszeg-IV
A8: I. Felszín alatti vízkivétel
A9: Fontossági sorrend | B9: Felujítás és pótlás megnevezése | E9: Műszaki állapot felmérés, szükségességi indoklás | H9: Vízjogi létesítési/elvi engedély száma | I9: Az érintett ellátásért felelős(ök) megnevezése | J9: Tervezett nettó költség | K9: Forrás 2021 évre | L9: Megvalósítás időtartama | N9: Tervezett időtáv | O9: A beruházás ütemezése a tervezési időszak évei szerint
E10: Jelenlegi műszaki állapot | F10: Feladat szükségessége | G10: Megvalósítást követő várható műszaki állapot | J10: (eFt) | L10: Kezdés | M10: Befejezés | N10: (rövid / közép / hosszú) | O10: 1 | P10: 2 | Q10: 3 | R10: 4 | S10: 5 | T10: 6 | U10: 7 | V10: 8 | W10: 9 | X10: 10 | Y10: 11 | Z10: 12 | AA10: 13 | AB10: 14 | AC10: 15
B11: szakág | C11: Helyszín | D11: beruházás megnevezése
B13: MÉLYFÚRÁSÚ KÚT, HAGYOMÁNYOS ÁTMÉRŐVEL
B14: Épület, építmény
B16: Gép, berendezés
B18: Irányítástechnika, energiaellátás
B20: Összesen: | J20: =SUM(J12:J19) -> 0
A21: III. Vízműtelep és vízkezelő létesítmények
C22: Helyszín | D22: beruházás megnevezése
B23: VÍZMŰTELEP
B24: Épület, építmény
B26: Gép, berendezés
B28: Irányítástechnika, energiaellátás
B30: VÍZKEZELŐ LÉTESÍTMÉNYEK
B31: Épület, építmény
B33: Gép, berendezés
B35: Irányítástechnika, energiaellátás
B37: Összesen | J37: =SUM(J23:J36) -> 0
A38: IV. Vízelosztás
C39: Helyszín | D39: beruházás megnevezése
B40: IVÓVÍZHÁLÓZAT
B41: Épület, építmény
B43: Gép, berendezés
B45: Irányítástechnika, energiaellátás
B47: VÍZTÁROLÓK
B48: Épület, építmény
B50: Gép, berendezés
B52: Irányítástechnika, energiaellátás
B54: NYOMÁSFOKOZÓK
B55: Épület, építmény
B57: Gép, berendezés
B59: Irányítástechnika, energiaellátás
B61: Összesen: | J61: =SUM(J40:J60) -> 0 | K61: 0 | O61: =SUM(O12:O60) -> 0 | P61: =SUM(P12:P60) -> 0 | Q61: =SUM(Q12:Q60) -> 0 | R61: =SUM(R12:R60) -> 0 | S61: =SUM(S12:S60) -> 0 | T61: =SUM(T12:T60) -> 0 | U61: =SUM(U12:U60) -> 0 | V61: =SUM(V12:V60) -> 0 | ... AC61: =SUM(AC12:AC60) -> 0
B64: Tervezett feladatok nettó költsége a teljes ütem tekintetében (eFt) | C64: Rendelkezésre álló források számszerűsített értéke a teljes ütem tekintetében (eFt) | D64: Forrás megnevezése a teljes ütem tekintetében
A65: I. ütem | B65: =SUM(O61) -> 0 | C65: =K61 -> 0 | D65: Fejlesztési díj (2021)
A66: II. ütem | B66: =SUM(P61:S61) -> 0 | C66: =C65*4 -> 0 | D66: Fejlesztési díj (2022-2025)
A67: III. ütem | B67: =SUM(T61:AC61) -> 0 | C67: =C65*10 -> 0 | D67: Fejlesztési díj (2026-2035)
B70: Jelenleg beruházási igény nem ismert, nincs rendelkezésre álló forrás beruházásra.

Sheet Nagykutas
A1: Gördülő fejlesztési terv a 2021 - 2035 időszakra
A2: BERUHÁZÁSOK ÖSSZEFOGLALÓ TÁBLÁZATA
A3: A tervet benyújtó szervezet megnevezése: | K3: NAGYKUTAS | R3: ellátásért felelős / ellátásért felelősök képviselője / víziközmű-szolgáltató *
A4: Víziközmű-szolgáltató megnevezése: | K4: ÉSZAK ZALAI VÍZ- ÉS CSATORNAMŰ ZÁRTKÖRŰEN MŰKÖDŐ RÉSZVÉNYTÁRSASÁG
A5: Víziközmű-szolgáltatási ágazat megnevezése: | K5: IVÓVÍZ ÁGAZAT
A6: Véleményeltérést megfogalmazó érintett fél megnevezése:
A7: Víziközmű-rendszer kódja: ** | K7: 11-32054-1-025-01-14 | R7: Zalaegerszeg-IV
A8: I. Felszín alatti vízkivétel
A9: Fontossági sorrend | B9: Felujítás és pótlás megnevezése | E9: Műszaki állapot felmérés, szükségességi indoklás | H9: Vízjogi létesítési/elvi engedély száma | I9: Az érintett ellátásért felelős(ök) megnevezése | J9: Tervezett nettó költség | K9: Forrás 2021 évre | L9: Megvalósítás időtartama | N9: Tervezett időtáv | O9: A beruházás ütemezése a tervezési időszak évei szerint
E10: Jelenlegi műszaki állapot | F10: Feladat szükségessége | G10: Megvalósítást követő várható műszaki állapot | J10: (eFt) | L10: Kezdés | M10: Befejezés | N10: (rövid / közép / hosszú) | O10: 1 | P10: 2 | Q10: 3 | R10: 4 | S10: 5 | T10: 6 | U10: 7 | V10: 8 | W10: 9 | X10: 10 | Y10: 11 | Z10: 12 | AA10: 13 | AB10: 14 | AC10: 15
B11: szakág | C11: Helyszín | D11: beruházás megnevezése
B13: MÉLYFÚRÁSÚ KÚT, HAGYOMÁNYOS ÁTMÉRŐVEL
B14: Épület, építmény
B16: Gép, berendezés
B18: Irányítástechnika, energiaellátás
B20: Összesen: | J20: =SUM(J12:J18) -> 0
A21: III. Vízműtelep és vízkezelő létesítmények
C22: Helyszín | D22: beruházás megnevezése
B23: VÍZMŰTELEP
B24: Épület, építmény
B26: Gép, berendezés
B28: Irányítástechnika, energiaellátás
B30: VÍZKEZELŐ LÉTESÍTMÉNYEK
B31: Épület, építmény
B33: Gép, berendezés
B35: Irányítástechnika, energiaellátás
B37: Összesen | J37: =SUM(J23:J36) -> 0
A38: IV. Vízelosztás
C39: Helyszín | D39: beruházás megnevezése
B40: IVÓVÍZHÁLÓZAT
B41: Épület, építmény
B43: Gép, berendezés
B45: Irányítástechnika, energiaellátás
B47: VÍZTÁROLÓK
B48: Épület, építmény
B50: Gép, berendezés
B52: Irányítástechnika, energiaellátás
B54: NYOMÁSFOKOZÓK
B55: Épület, építmény
B57: Gép, berendezés
B59: Irányítástechnika, energiaellátás
B61: Összesen: | J61: =SUM(J40:J60) -> 0 | K61: =SUM(C65) -> 0 | O61: =SUM(O12:O60) -> 0 | P61: =SUM(P12:P60) -> 0 | Q61: =SUM(Q12:Q60) -> 0 | R61: =SUM(R12:R60) -> 0 | S61: =SUM(S12:S60) -> 0 | T61: =SUM(T12:T60) -> 0 | U61: =SUM(U12:U60) -> 0 | V61: =SUM(V12:V60) -> 0 | ... AC61: =SUM(AC12:AC60) -> 0
B64: Tervezett feladatok nettó költsége a teljes ütem tekintetében (eFt) | C64: Rendelkezésre álló források számszerűsített értéke a teljes ütem tekintetében (eFt) | D64: Forrás megnevezése a teljes ütem tekintetében
A65: I. ütem | B65: =SUM(O61) -> 0 | C65: 0 | D65: Fejlesztési díj (2021)
A66: II. ütem | B66: =SUM(P61:S61) -> 0 | C66: 0 | D66: Fejlesztési díj (2022-2025)
A67: III. ütem | B67: =SUM(T61:AC61) -> 0 | C67: 0 | D67: Fejlesztési díj (2026-2035)
B70: Jelenleg beruházási igény nem ismert, nincs rendelkezésre álló forrás beruházásra.

Sheet Nagypáli
A1: Gördülő fejlesztési terv a 2021 - 2035 időszakra
A2: BERUHÁZÁSOK ÖSSZEFOGLALÓ TÁBLÁZATA
A3: A tervet benyújtó szervezet megnevezése: | K3: NAGYPÁLI | R3: ellátásért felelős / ellátásért felelősök képviselője / víziközmű-szolgáltató *
A4: Víziközmű-szolgáltató megnevezése: | K4: ÉSZAK ZALAI VÍZ- ÉS CSATORNAMŰ ZÁRTKÖRŰEN MŰKÖDŐ RÉSZVÉNYTÁRSASÁG
A5: Víziközmű-szolgáltatási ágazat megnevezése: | K5: IVÓVÍZ ÁGAZAT
A6: Véleményeltérést megfogalmazó érintett fél megnevezése:
A7: Víziközmű-rendszer kódja: ** | K7: 11-32054-1-025-01-14 | R7: Zalaegerszeg-IV
A8: I. Felszín alatti vízkivétel
A9: Fontossági sorrend | B9: Felujítás és pótlás megnevezése | E9: Műszaki állapot felmérés, szükségességi indoklás | H9: Vízjogi létesítési/elvi engedély száma | I9: Az érintett ellátásért felelős(ök) megnevezése | J9: Tervezett nettó költség | K9: Forrás 2021 évre | L9: Megvalósítás időtartama | N9: Tervezett időtáv | O9: A beruházás ütemezése a tervezési időszak évei szerint
E10: Jelenlegi műszaki állapot | F10: Feladat szükségessége | G10: Megvalósítást követő várható műszaki állapot | J10: (eFt) | L10: Kezdés | M10: Befejezés | N10: (rövid / közép / hosszú) | O10: 1 | P10: 2 | Q10: 3 | R10: 4 | S10: 5 | T10: 6 | U10: 7 | V10: 8 | W10: 9 | X10: 10 | Y10: 11 | Z10: 12 | AA10: 13 | AB10: 14 | AC10: 15
B11: szakág | C11: Helyszín | D11: beruházás megnevezése
B13: MÉLYFÚRÁSÚ KÚT, HAGYOMÁNYOS ÁTMÉRŐVEL
B14: Épület, építmény
B16: Gép, berendezés
B18: Irányítástechnika, energiaellátás
B20: Összesen: | J20: =SUM(J12:J19) -> 0
A21: III. Vízműtelep és vízkezelő létesítmények
C22: Helyszín | D22: beruházás megnevezése
B23: VÍZMŰTELEP
B24: Épület, építmény
B26: Gép, berendezés
B28: Irányítástechnika, energiaellátás
B30: VÍZKEZELŐ LÉTESÍTMÉNYEK
B31: Épület, építmény
B33: Gép, berendezés
B35: Irányítástechnika, energiaellátás
B37: Összesen | J37: =SUM(J23:J36) -> 0
A38: IV. Vízelosztás
C39: Helyszín | D39: beruházás megnevezése
B40: IVÓVÍZHÁLÓZAT
B41: Épület, építmény
B43: Gép, berendezés
B45: Irányítástechnika, energiaellátás
B47: VÍZTÁROLÓK
B48: Épület, építmény
B50: Gép, berendezés
B52: Irányítástechnika, energiaellátás
B54: NYOMÁSFOKOZÓK
B55: Épület, építmény
B57: Gép, berendezés
B59: Irányítástechnika, energiaellátás
B61: Összesen: | J61: =SUM(J40:J60) -> 0 | K61: 0 | O61: =SUM(O12:O60) -> 0 | P61: =SUM(P11:P60) -> 0 | Q61: =SUM(Q11:Q60) -> 0 | R61: =SUM(R11:R60) -> 0 | S61: =SUM(S11:S60) -> 0 | T61: =SUM(T11:T60) -> 0 | U61: =SUM(U11:U60) -> 0 | V61: =SUM(V11:V60) -> 0 | W61: =SUM(W11:W60) -> 0 | ... AC61: =SUM(AC11:AC60) -> 0
B64: Tervezett feladatok nettó költsége a teljes ütem tekintetében (eFt) | C64: Rendelkezésre álló források számszerűsített értéke a teljes ütem tekintetében (eFt) | D64: Forrás megnevezése a teljes ütem tekintetében
A65: I. ütem | B65: =SUM(O61) -> 0 | C65: =K61 -> 0 | D65: Fejlesztési díj (2021)
A66: II. ütem | B66: =SUM(P61:S61) -> 0 | C66: =C65*4 -> 0 | D66: Fejlesztési díj (2022-2025)
A67: III. ütem | B67: =SUM(T61:AC61) -> 0 | C67: =C65*10 -> 0 | D67: Fejlesztési díj (2026-2035)
B70: Jelenleg beruházási igény nem ismert, nincs rendelkezésre álló forrás beruházásra.

Sheet Németfalu
A1: Gördülő fejlesztési terv a 2021 - 2035 időszakra
A2: BERUHÁZÁSOK ÖSSZEFOGLALÓ TÁBLÁZATA
A3: A tervet benyújtó szervezet megnevezése: | K3: NÉMETFALU | R3: ellátásért felelős / ellátásért felelősök képviselője / víziközmű-szolgáltató *
A4: Víziközmű-szolgáltató megnevezése: | K4: ÉSZAK ZALAI VÍZ- ÉS CSATORNAMŰ ZÁRTKÖRŰEN MŰKÖDŐ RÉSZVÉNYTÁRSASÁG
A5: Víziközmű-szolgáltatási ágazat megnevezése: | K5: IVÓVÍZ ÁGAZAT
A6: Véleményeltérést megfogalmazó érintett fél megnevezése:
A7: Víziközmű-rendszer kódja: ** | K7: 11-32054-1-025-01-14 | R7: Zalaegerszeg-IV
A8: I. Felszín alatti vízkivétel
A9: Fontossági sorrend | B9: Felujítás és pótlás megnevezése | E9: Műszaki állapot felmérés, szükségességi indoklás | H9: Vízjogi létesítési/elvi engedély száma | I9: Az érintett ellátásért felelős(ök) megnevezése | J9: Tervezett nettó költség | K9: Forrás 2021 évre | L9: Megvalósítás időtartama | N9: Tervezett időtáv | O9: A beruházás ütemezése a tervezési időszak évei szerint
E10: Jelenlegi műszaki állapot | F10: Feladat szükségessége | G10: Megvalósítást követő várható műszaki állapot | J10: (eFt) | L10: Kezdés | M10: Befejezés | N10: (rövid / közép / hosszú) | O10: 1 | P10: 2 | Q10: 3 | R10: 4 | S10: 5 | T10: 6 | U10: 7 | V10: 8 | W10: 9 | X10: 10 | Y10: 11 | Z10: 12 | AA10: 13 | AB10: 14 | AC10: 15
B11: szakág | C11: Helyszín | D11: beruházás megnevezése
B13: MÉLYFÚRÁSÚ KÚT, HAGYOMÁNYOS ÁTMÉRŐVEL
B14: Épület, építmény
B16: Gép, berendezés
B18: Irányítástechnika, energiaellátás
B20: Összesen: | J20: =SUM(J12:J19) -> 0
A21: III. Vízműtelep és vízkezelő létesítmények
C22: Helyszín | D22: beruházás megnevezése
B23: VÍZMŰTELEP
B24: Épület, építmény
B26: Gép, berendezés
B28: Irányítástechnika, energiaellátás
B30: VÍZKEZELŐ LÉTESÍTMÉNYEK
B31: Épület, építmény
B33: Gép, berendezés
B35: Irányítástechnika, energiaellátás
B37: Összesen | J37: =SUM(J23:J36) -> 0
A38: IV. Vízelosztás
C39: Helyszín | D39: beruházás megnevezése
B40: IVÓVÍZHÁLÓZAT
B41: Épület, építmény
B43: Gép, berendezés
B45: Irányítástechnika, energiaellátás
B47: VÍZTÁROLÓK
B48: Épület, építmény
B50: Gép, berendezés
B52: Irányítástechnika, energiaellátás
B54: NYOMÁSFOKOZÓK
B55: Épület, építmény
B57: Gép, berendezés
B59: Irányítástechnika, energiaellátás
B61: Összesen: | J61: =SUM(J40:J60) -> 0 | O61: =SUM(O12:O60) -> 0 | P61: =SUM(P12:P60) -> 0 | Q61: =SUM(Q12:Q60) -> 0 | R61: =SUM(R12:R60) -> 0 | S61: =SUM(S12:S60) -> 0 | T61: =SUM(T12:T60) -> 0 | U61: =SUM(U12:U60) -> 0 | V61: =SUM(V12:V60) -> 0 | ... AC61: =SUM(AC12:AC60) -> 0
B64: Tervezett feladatok nettó költsége a teljes ütem tekintetében (eFt) | C64: Rendelkezésre álló források számszerűsített értéke a teljes ütem tekintetében (eFt) | D64: Forrás megnevezése a teljes ütem tekintetében
A65: I. ütem | B65: =SUM(O61) -> 0 | C65: 0 | D65: Fejlesztési díj (2021)
A66: II. ütem | B66: =SUM(P61:S61) -> 0 | C66: 0 | D66: Fejlesztési díj (2022-2025)
A67: III. ütem | B67: =SUM(T61:AC61) -> 0 | C67: 0 | D67: Fejlesztési díj (2026-2035)
B70: Jelenleg beruházási igény nem ismert, nincs rendelkezésre álló forrás beruházásra.

Sheet Pálfiszeg
A1: Gördülő fejlesztési terv a 2021 - 2035 időszakra
A2: BERUHÁZÁSOK ÖSSZEFOGLALÓ TÁBLÁZATA
A3: A tervet benyújtó szervezet megnevezése: | K3: PÁLFISZEG | R3: ellátásért felelős / ellátásért felelősök képviselője / víziközmű-szolgáltató *
A4: Víziközmű-szolgáltató megnevezése: | K4: ÉSZAK ZALAI VÍZ- ÉS CSATORNAMŰ ZÁRTKÖRŰEN MŰKÖDŐ RÉSZVÉNYTÁRSASÁG
A5: Víziközmű-szolgáltatási ágazat megnevezése: | K5: IVÓVÍZ ÁGAZAT
A6: Véleményeltérést megfogalmazó érintett fél megnevezése:
A7: Víziközmű-rendszer kódja: ** | K7: 11-32054-1-025-01-14 | R7: Zalaegerszeg-IV
A8: I. Felszín alatti vízkivétel
A9: Fontossági sorrend | B9: Felujítás és pótlás megnevezése | E9: Műszaki állapot felmérés, szükségességi indoklás | H9: Vízjogi létesítési/elvi engedély száma | I9: Az érintett ellátásért felelős(ök) megnevezése | J9: Tervezett nettó költség | K9: Forrás 2021 évre | L9: Megvalósítás időtartama | N9: Tervezett időtáv | O9: A beruházás ütemezése a tervezési időszak évei szerint
E10: Jelenlegi műszaki állapot | F10: Feladat szükségessége | G10: Megvalósítást követő várható műszaki állapot | J10: (eFt) | L10: Kezdés | M10: Befejezés | N10: (rövid / közép / hosszú) | O10: 1 | P10: 2 | Q10: 3 | R10: 4 | S10: 5 | T10: 6 | U10: 7 | V10: 8 | W10: 9 | X10: 10 | Y10: 11 | Z10: 12 | AA10: 13 | AB10: 14 | AC10: 15
B11: szakág | C11: Helyszín | D11: beruházás megnevezése
B13: MÉLYFÚRÁSÚ KÚT, HAGYOMÁNYOS ÁTMÉRŐVEL
B14: Épület, építmény
B16: Gép, berendezés
B18: Irányítástechnika, energiaellátás
B20: Összesen: | J20: =SUM(J12:J19) -> 0
A21: III. Vízműtelep és vízkezelő létesítmények
C22: Helyszín | D22: beruházás megnevezése
B23: VÍZMŰTELEP
B24: Épület, építmény
B26: Gép, berendezés
B28: Irányítástechnika, energiaellátás
B30: VÍZKEZELŐ LÉTESÍTMÉNYEK
B31: Épület, építmény
B33: Gép, berendezés
B35: Irányítástechnika, energiaellátás
B37: Összesen | J37: =SUM(J23:J36) -> 0
A38: IV. Vízelosztás
C39: Helyszín | D39: beruházás megnevezése
B40: IVÓVÍZHÁLÓZAT
B41: Épület, építmény
B43: Gép, berendezés
B45: Irányítástechnika, energiaellátás
B47: VÍZTÁROLÓK
B48: Épület, építmény
B50: Gép, berendezés
B52: Irányítástechnika, energiaellátás
B54: NYOMÁSFOKOZÓK
B55: Épület, építmény
B57: Gép, berendezés
B59: Irányítástechnika, energiaellátás
B61: Összesen: | J61: =SUM(J40:J60) -> 0 | K61: 0 | O61: =SUM(O12:O60) -> 0 | P61: =SUM(P12:P60) -> 0 | Q61: =SUM(Q12:Q60) -> 0 | R61: =SUM(R12:R60) -> 0 | S61: =SUM(S12:S60) -> 0 | T61: =SUM(T12:T60) -> 0 | U61: =SUM(U12:U60) -> 0 | V61: =SUM(V12:V60) -> 0 | ... AC61: =SUM(AC12:AC60) -> 0
B64: Tervezett feladatok nettó költsége a teljes ütem tekintetében (eFt) | C64: Rendelkezésre álló források számszerűsített értéke a teljes ütem tekintetében (eFt) | D64: Forrás megnevezése a teljes ütem tekintetében
A65: I. ütem | B65: =SUM(O61) -> 0 | C65: =K61 -> 0 | D65: Fejlesztési díj (2021)
A66: II. ütem | B66: =SUM(P61:S61) -> 0 | C66: =C65*4 -> 0 | D66: Fejlesztési díj (2022-2025)
A67: III. ütem | B67: =SUM(T61:AC61) -> 0 | C67: =C65*10 -> 0 | D67: Fejlesztési díj (2026-2035)
B70: Jelenleg beruházási igény nem ismert, nincs rendelkezésre álló forrás beruházásra.

Sheet Sárhida
A1: Gördülő fejlesztési terv a 2021 - 2035 időszakra
A2: BERUHÁZÁSOK ÖSSZEFOGLALÓ TÁBLÁZATA
A3: A tervet benyújtó szervezet megnevezése: | K3: SÁRHIDA | R3: ellátásért felelős / ellátásért felelősök képviselője / víziközmű-szolgáltató *
A4: Víziközmű-szolgáltató megnevezése: | K4: ÉSZAK ZALAI VÍZ- ÉS CSATORNAMŰ ZÁRTKÖRŰEN MŰKÖDŐ RÉSZVÉNYTÁRSASÁG
A5: Víziközmű-szolgáltatási ágazat megnevezése: | K5: IVÓVÍZ ÁGAZAT
A6: Véleményeltérést megfogalmazó érintett fél megnevezése:
A7: Víziközmű-rendszer kódja: ** | K7: 11-32054-1-025-01-14 | R7: Zalaegerszeg-IV
A8: I. Felszín alatti vízkivétel
A9: Fontossági sorrend | B9: Felujítás és pótlás megnevezése | E9: Műszaki állapot felmérés, szükségességi indoklás | H9: Vízjogi létesítési/elvi engedély száma | I9: Az érintett ellátásért felelős(ök) megnevezése | J9: Tervezett nettó költség | K9: Forrás 2021 évre | L9: Megvalósítás időtartama | N9: Tervezett időtáv | O9: A beruházás ütemezése a tervezési időszak évei szerint
E10: Jelenlegi műszaki állapot | F10: Feladat szükségessége | G10: Megvalósítást követő várható műszaki állapot | J10: (eFt) | L10: Kezdés | M10: Befejezés | N10: (rövid / közép / hosszú) | O10: 1 | P10: 2 | Q10: 3 | R10: 4 | S10: 5 | T10: 6 | U10: 7 | V10: 8 | W10: 9 | X10: 10 | Y10: 11 | Z10: 12 | AA10: 13 | AB10: 14 | AC10: 15
B11: szakág | C11: Helyszín | D11: beruházás megnevezése
B13: MÉLYFÚRÁSÚ KÚT, HAGYOMÁNYOS ÁTMÉRŐVEL
B14: Épület, építmény
B16: Gép, berendezés
B18: Irányítástechnika, energiaellátás
B20: Összesen: | J20: =SUM(J12:J18) -> 0
A21: III. Vízműtelep és vízkezelő létesítmények
C22: Helyszín | D22: beruházás megnevezése
B23: VÍZMŰTELEP
B24: Épület, építmény
B26: Gép, berendezés
B28: Irányítástechnika, energiaellátás
B30: VÍZKEZELŐ LÉTESÍTMÉNYEK
B31: Épület, építmény
B33: Gép, berendezés
B35: Irányítástechnika, energiaellátás
B37: Összesen | J37: =SUM(J23:J36) -> 0
A38: IV. Vízelosztás
C39: Helyszín | D39: beruházás megnevezése
B40: IVÓVÍZHÁLÓZAT
B41: Épület, építmény
B43: Gép, berendezés
B45: Irányítástechnika, energiaellátás
B47: VÍZTÁROLÓK
B48: Épület, építmény
B50: Gép, berendezés
B52: Irányítástechnika, energiaellátás
B54: NYOMÁSFOKOZÓK
B55: Épület, építmény
B57: Gép, berendezés
B59: Irányítástechnika, energiaellátás
B61: Összesen: | J61: =SUM(J40:J60) -> 0 | K61: =SUM(C65) -> 0 | O61: =SUM(O12:O60) -> 0 | P61: =SUM(P12:P60) -> 0 | Q61: =SUM(Q12:Q60) -> 0 | R61: =SUM(R12:R60) -> 0 | S61: =SUM(S12:S60) -> 0 | T61: =SUM(T12:T60) -> 0 | U61: =SUM(U12:U60) -> 0 | V61: =SUM(V12:V60) -> 0 | ... AC61: =SUM(AC12:AC60) -> 0
B64: Tervezett feladatok nettó költsége a teljes ütem tekintetében (eFt) | C64: Rendelkezésre álló források számszerűsített értéke a teljes ütem tekintetében (eFt) | D64: Forrás megnevezése a teljes ütem tekintetében
A65: I. ütem | B65: =SUM(O61) -> 0 | C65: 0 | D65: Fejlesztési díj (2021)
A66: II. ütem | B66: =SUM(P61:S61) -> 0 | C66: =C65*4 -> 0 | D66: Fejlesztési díj (2022-2025)
A67: III. ütem | B67: =SUM(T61:AC61) -> 0 | C67: =C65*10 -> 0 | D67: Fejlesztési díj (2026-2035)
B70: Jelenleg beruházási igény nem ismert, nincs rendelkezésre álló forrás beruházásra.

Sheet Teskánd
A1: Gördülő fejlesztési terv a 2021 - 2035 időszakra
A2: BERUHÁZÁSOK ÖSSZEFOGLALÓ TÁBLÁZATA
A3: A tervet benyújtó szervezet megnevezése: | K3: TESKÁND | R3: ellátásért felelős / ellátásért felelősök képviselője / víziközmű-szolgáltató *
A4: Víziközmű-szolgáltató megnevezése: | K4: ÉSZAK ZALAI VÍZ- ÉS CSATORNAMŰ ZÁRTKÖRŰEN MŰKÖDŐ RÉSZVÉNYTÁRSASÁG
A5: Víziközmű-szolgáltatási ágazat megnevezése: | K5: IVÓVÍZ ÁGAZAT
A6: Véleményeltérést megfogalmazó érintett fél megnevezése:
A7: Víziközmű-rendszer kódja: ** | K7: 11-32054-1-025-01-14 | R7: Zalaegerszeg-IV
A8: I. Felszín alatti vízkivétel
A9: Fontossági sorrend | B9: Felujítás és pótlás megnevezése | E9: Műszaki állapot felmérés, szükségességi indoklás | H9: Vízjogi létesítési/elvi engedély száma | I9: Az érintett ellátásért felelős(ök) megnevezése | J9: Tervezett nettó költség | K9: Forrás 2021 évre | L9: Megvalósítás időtartama | N9: Tervezett időtáv | O9: A beruházás ütemezése a tervezési időszak évei szerint
E10: Jelenlegi műszaki állapot | F10: Feladat szükségessége | G10: Megvalósítást követő várható műszaki állapot | J10: (eFt) | L10: Kezdés | M10: Befejezés | N10: (rövid / közép / hosszú) | O10: 1 | P10: 2 | Q10: 3 | R10: 4 | S10: 5 | T10: 6 | U10: 7 | V10: 8 | W10: 9 | X10: 10 | Y10: 11 | Z10: 12 | AA10: 13 | AB10: 14 | AC10: 15
B11: szakág | C11: Helyszín | D11: beruházás megnevezése
B13: MÉLYFÚRÁSÚ KÚT, HAGYOMÁNYOS ÁTMÉRŐVEL
B14: Épület, építmény
B16: Gép, berendezés
B18: Irányítástechnika, energiaellátás
B20: Összesen: | J20: =SUM(J12:J18) -> 0
A21: III. Vízműtelep és vízkezelő létesítmények
C22: Helyszín | D22: beruházás megnevezése
B23: VÍZMŰTELEP
B24: Épület, építmény
B26: Gép, berendezés
B28: Irányítástechnika, energiaellátás
B30: VÍZKEZELŐ LÉTESÍTMÉNYEK
B31: Épület, építmény
B33: Gép, berendezés
B35: Irányítástechnika, energiaellátás
B37: Összesen | J37: =SUM(J23:J36) -> 0
A38: IV. Vízelosztás
C39: Helyszín | D39: beruházás megnevezése
B40: IVÓVÍZHÁLÓZAT
B41: Épület, építmény
B43: Gép, berendezés
B45: Irányítástechnika, energiaellátás
B47: VÍZTÁROLÓK
B48: Épület, építmény
B50: Gép, berendezés
B52: Irányítástechnika, energiaellátás
B54: NYOMÁSFOKOZÓK
B55: Épület, építmény
B57: Gép, berendezés
B59: Irányítástechnika, energiaellátás
B61: Összesen: | J61: =SUM(J40:J60) -> 0 | K61: 0 | O61: =SUM(O12:O60) -> 0 | P61: =SUM(P12:P60) -> 0 | Q61: =SUM(Q12:Q60) -> 0 | R61: =SUM(R12:R60) -> 0 | S61: =SUM(S12:S60) -> 0 | T61: =SUM(T12:T60) -> 0 | U61: =SUM(U12:U60) -> 0 | V61: =SUM(V12:V60) -> 0 | ... AC61: =SUM(AC12:AC60) -> 0
B64: Tervezett feladatok nettó költsége a teljes ütem tekintetében (eFt) | C64: Rendelkezésre álló források számszerűsített értéke a teljes ütem tekintetében (eFt) | D64: Forrás megnevezése a teljes ütem tekintetében
A65: I. ütem | B65: =SUM(O61) -> 0 | C65: =K61 -> 0 | D65: Fejlesztési díj (2021)
A66: II. ütem | B66: =SUM(P61:S61) -> 0 | C66: =C65*4 -> 0 | D66: Fejlesztési díj (2022-2025)
A67: III. ütem | B67: =SUM(T61:AC61) -> 0 | C67: =C65*10 -> 0 | D67: Fejlesztési díj (2026-2035)
B70: Jelenleg beruházási igény nem ismert, nincs rendelkezésre álló forrás beruházásra.

Sheet Zalaboldogfa
A1: Gördülő fejlesztési terv a 2021 - 2035 időszakra
A2: BERUHÁZÁSOK ÖSSZEFOGLALÓ TÁBLÁZATA
A3: A tervet benyújtó szervezet megnevezése: | K3: ZALABOLDOGFA | R3: ellátásért felelős / ellátásért felelősök képviselője / víziközmű-szolgáltató *
A4: Víziközmű-szolgáltató megnevezése: | K4: ÉSZAK ZALAI VÍZ- ÉS CSATORNAMŰ ZÁRTKÖRŰEN MŰKÖDŐ RÉSZVÉNYTÁRSASÁG
A5: Víziközmű-szolgáltatási ágazat megnevezése: | K5: IVÓVÍZ ÁGAZAT
A6: Véleményeltérést megfogalmazó érintett fél megnevezése:
A7: Víziközmű-rendszer kódja: ** | K7: 11-32054-1-025-01-14 | R7: Zalaegerszeg-IV
A8: I. Felszín alatti vízkivétel
A9: Fontossági sorrend | B9: Felujítás és pótlás megnevezése | E9: Műszaki állapot felmérés, szükségességi indoklás | H9: Vízjogi létesítési/elvi engedély száma | I9: Az érintett ellátásért felelős(ök) megnevezése | J9: Tervezett nettó költség | K9: Forrás 2021 évre | L9: Megvalósítás időtartama | N9: Tervezett időtáv | O9: A beruházás ütemezése a tervezési időszak évei szerint
E10: Jelenlegi műszaki állapot | F10: Feladat szükségessége | G10: Megvalósítást követő várható műszaki állapot | J10: (eFt) | L10: Kezdés | M10: Befejezés | N10: (rövid / közép / hosszú) | O10: 1 | P10: 2 | Q10: 3 | R10: 4 | S10: 5 | T10: 6 | U10: 7 | V10: 8 | W10: 9 | X10: 10 | Y10: 11 | Z10: 12 | AA10: 13 | AB10: 14 | AC10: 15
B11: szakág | C11: Helyszín | D11: beruházás megnevezése
B13: MÉLYFÚRÁSÚ KÚT, HAGYOMÁNYOS ÁTMÉRŐVEL
B14: Épület, építmény
B16: Gép, berendezés
B18: Irányítástechnika, energiaellátás
B20: Összesen: | J20: =SUM(J12:J19) -> 0
A21: III. Vízműtelep és vízkezelő létesítmények
C22: Helyszín | D22: beruházás megnevezése
B23: VÍZMŰTELEP
B24: Épület, építmény
B26: Gép, berendezés
B28: Irányítástechnika, energiaellátás
B30: VÍZKEZELŐ LÉTESÍTMÉNYEK
B31: Épület, építmény
B33: Gép, berendezés
B35: Irányítástechnika, energiaellátás
B37: Összesen | J37: =SUM(J23:J36) -> 0
A38: IV. Vízelosztás
C39: Helyszín | D39: beruházás megnevezése
B40: IVÓVÍZHÁLÓZAT
B41: Épület, építmény
B43: Gép, berendezés
B45: Irányítástechnika, energiaellátás
B47: VÍZTÁROLÓK
B48: Épület, építmény
B50: Gép, berendezés
B52: Irányítástechnika, energiaellátás
B54: NYOMÁSFOKOZÓK
B55: Épület, építmény
B57: Gép, berendezés
B59: Irányítástechnika, energiaellátás
B61: Összesen: | J61: =SUM(J40:J60) -> 0 | K61: 0 | O61: =SUM(O12:O60) -> 0 | P61: =SUM(P12:P60) -> 0 | Q61: =SUM(Q12:Q60) -> 0 | R61: =SUM(R12:R60) -> 0 | S61: =SUM(S12:S60) -> 0 | T61: =SUM(T12:T60) -> 0 | U61: =SUM(U12:U60) -> 0 | V61: =SUM(V12:V60) -> 0 | ... AC61: =SUM(AC12:AC60) -> 0
B64: Tervezett feladatok nettó költsége a teljes ütem tekintetében (eFt) | C64: Rendelkezésre álló források számszerűsített értéke a teljes ütem tekintetében (eFt) | D64: Forrás megnevezése a teljes ütem tekintetében
A65: I. ütem | B65: =SUM(O61) -> 0 | C65: =K61 -> 0 | D65: Fejlesztési díj (2021)
A66: II. ütem | B66: =SUM(P61:S61) -> 0 | C66: =C65*4 -> 0 | D66: Fejlesztési díj (2022-2025)
A67: III. ütem | B67: =SUM(T61:AC61) -> 0 | C67: =C65*10 -> 0 | D67: Fejlesztési díj (2026-2035)
B70: Jelenleg beruházási igény nem ismert, nincs rendelkezésre álló forrás beruházásra.

Sheet Zalaegerszeg
A1: Gördülő fejlesztési terv a 2021 - 2035 időszakra
A2: BERUHÁZÁSOK ÖSSZEFOGLALÓ TÁBLÁZATA
A3: A tervet benyújtó szervezet megnevezése: | K3: ZALAEGERSZEG | R3: ellátásért felelős / ellátásért felelősök képviselője / víziközmű-szolgáltató *
A4: Víziközmű-szolgáltató megnevezése: | K4: ÉSZAK ZALAI VÍZ- ÉS CSATORNAMŰ ZÁRTKÖRŰEN MŰKÖDŐ RÉSZVÉNYTÁRSASÁG
A5: Víziközmű-szolgáltatási ágazat megnevezése: | K5: IVÓVÍZ ÁGAZAT
A6: Véleményeltérést megfogalmazó érintett fél megnevezése:
A7: Víziközmű-rendszer kódja: ** | K7: 11-32054-1-025-01-14 | R7: ZALAEGERSZEG-IV
A8: I. Felszín alatti vízkivétel
A9: Fontossági sorrend | B9: Felujítás és pótlás megnevezése | E9: Műszaki állapot felmérés, szükségességi indoklás | H9: Vízjogi létesítési/elvi engedély száma | I9: Az érintett ellátásért felelős(ök) megnevezése | J9: Tervezett nettó költség | K9: Forrás 2021 évre | L9: Megvalósítás időtartama | N9: Tervezett időtáv | O9: A beruházás ütemezése a tervezési időszak évei szerint
E10: Jelenlegi műszaki állapot | F10: Feladat szükségessége | G10: Megvalósítást követő várható műszaki állapot | J10: (eFt) | L10: Kezdés | M10: Befejezés | N10: (rövid / közép / hosszú) | O10: 1 | P10: 2 | Q10: 3 | R10: 4 | S10: 5 | T10: 6 | U10: 7 | V10: 8 | W10: 9 | X10: 10 | Y10: 11 | Z10: 12 | AA10: 13 | AB10: 14 | AC10: 15
B11: szakág | C11: Helyszín | D11: beruházás megnevezése
B13: MÉLYFÚRÁSÚ KÚT, HAGYOMÁNYOS ÁTMÉRŐVEL
B14: Épület, építmény
B16: Gép, berendezés
B18: Irányítástechnika, energiaellátás
B20: Összesen: | J20: =SUM(J12:J18) -> 0
A21: III. Vízműtelep és vízkezelő létesítmények
C22: Helyszín | D22: beruházás megnevezése
B23: VÍZMŰTELEP
B24: Épület, építmény
B26: Gép, berendezés
B28: Irányítástechnika, energiaellátás
B30: VÍZKEZELŐ LÉTESÍTMÉNYEK
B31: Épület, építmény
B33: Gép, berendezés
A34: 1 | C34: Zalaegerszeg Keleti vízbázisról ellátott települések | D34: ivóvízminőség javítása és vízellátásának fejlesztése | I34: Zalaegerszeg | J34: 533824 | L34: 44197 | M34: 44561 | N34: rövid | O34: 533824
A35: 7 | C35: É-i vízbázis és vízműtelep kiépítése | D35: ivóvízminőség javítása és vízellátásának fejlesztése | I35: Zalaegerszeg | J35: =SUM(O35:AC35) -> 1500000 | L35: 47484 | M35: 47848 | N35: hosszú | X35: 1500000
B36: Irányítástechnika, energiaellátás
B38: Összesen | J38: =SUM(J23:J37) -> 2033824
A39: IV. Vízelosztás
C40: Helyszín | D40: beruházás megnevezése
B41: IVÓVÍZHÁLÓZAT
B42: Épület, építmény
A43: 2 | C43: Zalaegerszeg Zala u. lakópark mellett | D43: gerincvezeték összekötés | I43: Zalaegerszeg | J43: =SUM(O43:AC43) -> 3616 | L43: 44197 | M43: 44561 | N43: rövid | O43: 3616
A44: 3 | C44: Zalaegerszeg | D44: Megvalósíthatósági tanulmány készítése (és vízjogi létesítési engedély megszerzése) Páterdomb biztonságosabb vízellátására | I44: Zalaegerszeg | J44: 4200 | L44: 44197 | M44: 44561 | N44: rövid | O44: 2520
A45: 4 | C45: Zalaegerszeg | D45: Zalaegerszeg, Magasbükk vízellátás II. ütem felülvizsgálata, engedélyezési és kiviteli terv újra egyeztetése, elkészítése, vízjogi létesítési engedély beszerzése | I45: Zalaegerszeg | J45: =SUM(O45:AC45) -> 70 | L45: 44197 | M45: 44561 | N45: rövid | O45: 70
A46: 5 | C46: Zalaegerszeg | D46: Zalaegerszeg, Jedlik Ányos utca 0811/68 és 74 hrsz. Ingatlanok vízellátásának vízjogi engedélyes és kiviteli tervdokumentációjának elkészítése | I46: Zalaegerszeg | J46: =SUM(O46:AC46) -> 200 | L46: 44197 | M46: 44561 | N46: rövid | O46: 200
A47: 6 | C47: Nyugat- és Dél-Dunántúli ivóvízminőség-javító program | D47: ivóvízminőség javítása és vízellátásának fejlesztése | I47: Zalaegerszeg | J47: =SUM(O47:AC47) -> 2217 | L47: 44197 | M47: 44561 | N47: közép | P47: 2217
B48: Irányítástechnika, energiaellátás
B50: VÍZTÁROLÓK
B51: Épület, építmény
B52: Gép, berendezés
B54: Irányítástechnika, energiaellátás
B56: NYOMÁSFOKOZÓK
B57: Épület, építmény
B58: Gép, berendezés
B60: Irányítástechnika, energiaellátás
J61: =SUM(J43:J60) -> 10303
B62: Összesen: | J62: =J20+J38+J61 -> 2044127 | K62: =SUM(C66:C66) -> 3616 | O62: =SUM(O12:O61) -> 540230 | P62: =SUM(P12:P61) -> 2217 | Q62: =SUM(Q12:Q61) -> 0 | R62: =SUM(R12:R61) -> 0 | S62: =SUM(S12:S61) -> 0 | T62: =SUM(T12:T61) -> 0 | U62: =SUM(U12:U61) -> 0 | V62: =SUM(V12:V61) -> 0 | ... AC62: =SUM(AC12:AC61) -> 0
O63: 2021 évre a fejlesztési forrás biztosított
B65: Tervezett feladatok nettó költsége a teljes ütem tekintetében (eFt) | C65: Rendelkezésre álló források számszerűsített értéke a teljes ütem tekintetében (eFt) | D65: Forrás megnevezése a teljes ütem tekintetében
A66: I. ütem | B66: =SUM(O62) -> 540230 | C66: 3616 | D66: Víziközmű fejlesztési hozzájárulás(2021)
C67: 4470 | D67: használati díj (2021)
C68: 533824 | D68: KEHOP pályázati forrás
A69: II. ütem | B69: =SUM(P62:S62) -> 2217 | C69: 2217 | D69: KEHOP pályázati forrás
A70: III. ütem | B70: =SUM(T62:AC62) -> 1500000 | C70: 1500000 | D70: KEHOP pályázati forrás

Sheet Zalaszentgyörgy
A1: Gördülő fejlesztési terv a 2021 - 2035 időszakra
A2: BERUHÁZÁSOK ÖSSZEFOGLALÓ TÁBLÁZATA
A3: A tervet benyújtó szervezet megnevezése: | K3: ZALASZENTGYÖRGY | R3: ellátásért felelős / ellátásért felelősök képviselője / víziközmű-szolgáltató *
A4: Víziközmű-szolgáltató megnevezése: | K4: ÉSZAK ZALAI VÍZ- ÉS CSATORNAMŰ ZÁRTKÖRŰEN MŰKÖDŐ RÉSZVÉNYTÁRSASÁG
A5: Víziközmű-szolgáltatási ágazat megnevezése: | K5: IVÓVÍZ ÁGAZAT
A6: Véleményeltérést megfogalmazó érintett fél megnevezése:
A7: Víziközmű-rendszer kódja: ** | K7: 11-32054-1-025-01-14 | R7: Zalaegerszeg-IV
A8: I. Felszín alatti vízkivétel
A9: Fontossági sorrend | B9: Felujítás és pótlás megnevezése | E9: Műszaki állapot felmérés, szükségességi indoklás | H9: Vízjogi létesítési/elvi engedély száma | I9: Az érintett ellátásért felelős(ök) megnevezése | J9: Tervezett nettó költség | K9: Forrás 2021 évre | L9: Megvalósítás időtartama | N9: Tervezett időtáv | O9: A beruházás ütemezése a tervezési időszak évei szerint
E10: Jelenlegi műszaki állapot | F10: Feladat szükségessége | G10: Megvalósítást követő várható műszaki állapot | J10: (eFt) | L10: Kezdés | M10: Befejezés | N10: (rövid / közép / hosszú) | O10: 1 | P10: 2 | Q10: 3 | R10: 4 | S10: 5 | T10: 6 | U10: 7 | V10: 8 | W10: 9 | X10: 10 | Y10: 11 | Z10: 12 | AA10: 13 | AB10: 14 | AC10: 15
B11: szakág | C11: Helyszín | D11: beruházás megnevezése
B13: MÉLYFÚRÁSÚ KÚT, HAGYOMÁNYOS ÁTMÉRŐVEL
B14: Épület, építmény
B16: Gép, berendezés
B18: Irányítástechnika, energiaellátás
B20: Összesen: | J20: =SUM(J12:J19) -> 0
A21: III. Vízműtelep és vízkezelő létesítmények
C22: Helyszín | D22: beruházás megnevezése
B23: VÍZMŰTELEP
B24: Épület, építmény
B26: Gép, berendezés
B28: Irányítástechnika, energiaellátás
B30: VÍZKEZELŐ LÉTESÍTMÉNYEK
B31: Épület, építmény
B33: Gép, berendezés
B35: Irányítástechnika, energiaellátás
B37: Összesen | J37: =SUM(J23:J36) -> 0
A38: IV. Vízelosztás
C39: Helyszín | D39: beruházás megnevezése
B40: IVÓVÍZHÁLÓZAT
B41: Épület, építmény
B43: Gép, berendezés
B45: Irányítástechnika, energiaellátás
B47: VÍZTÁROLÓK
B48: Épület, építmény
B50: Gép, berendezés
B52: Irányítástechnika, energiaellátás
B54: NYOMÁSFOKOZÓK
B55: Épület, építmény
B57: Gép, berendezés
B59: Irányítástechnika, energiaellátás
B61: Összesen: | J61: =SUM(J40:J60) -> 0 | K61: 0 | O61: =SUM(O12:O60) -> 0 | P61: =SUM(P12:P60) -> 0 | Q61: =SUM(Q12:Q60) -> 0 | R61: =SUM(R12:R60) -> 0 | S61: =SUM(S12:S60) -> 0 | T61: =SUM(T12:T60) -> 0 | U61: =SUM(U12:U60) -> 0 | V61: =SUM(V12:V60) -> 0 | ... AC61: =SUM(AC12:AC60) -> 0
B64: Tervezett feladatok nettó költsége a teljes ütem tekintetében (eFt) | C64: Rendelkezésre álló források számszerűsített értéke a teljes ütem tekintetében (eFt) | D64: Forrás megnevezése a teljes ütem tekintetében
A65: I. ütem | B65: =SUM(O61) -> 0 | C65: =K61 -> 0 | D65: Fejlesztési díj (2021)
A66: II. ütem | B66: =SUM(P61:S61) -> 0 | C66: =C65*4 -> 0 | D66: Fejlesztési díj (2022-2025)
A67: III. ütem | B67: =SUM(T61:AC61) -> 0 | C67: =C65*10 -> 0 | D67: Fejlesztési díj (2026-2035)
B70: Jelenleg beruházási igény nem ismert, nincs rendelkezésre álló forrás beruházásra.

Sheet VKR_összesítő
A1: Gördülő fejlesztési terv a 2021 - 2035 időszakra
A2: BERUHÁZÁSOK ÖSSZEFOGLALÓ TÁBLÁZATA
A3: A tervet benyújtó szervezet megnevezése: | K3: BABOSDÖBRÉTE, BOCFÖLDE, BÖDE, CSATÁR, HOTTÓ, KISKUTAS, NAGYKUTAS, SÁRHIDA, TESKÁND, ZALAEGERSZEG | R3: ellátásért felelős / ellátásért felelősök képviselője / víziközmű-szolgáltató *
A4: Víziközmű-szolgáltató megnevezése: | K4: ÉSZAK ZALAI VÍZ- ÉS CSATORNAMŰ ZÁRTKÖRŰEN MŰKÖDŐ RÉSZVÉNYTÁRSASÁG
A5: Víziközmű-szolgáltatási ágazat megnevezése: | K5: IVÓVÍZ ÁGAZAT
A6: Véleményeltérést megfogalmazó érintett fél megnevezése:
A7: Víziközmű-rendszer kódja: ** | K7: 11-32054-1-025-01-14 | R7: ZALAEGERSZEG-IV
A8: I. Felszín alatti vízkivétel
A9: Fontossági sorrend | B9: Felujítás és pótlás megnevezése | E9: Műszaki állapot felmérés, szükségességi indoklás | H9: Vízjogi létesítési/elvi engedély száma | I9: Az érintett ellátásért felelős(ök) megnevezése | J9: Tervezett nettó költség | K9: Forrás 2021 évre | L9: Megvalósítás időtartama | N9: Tervezett időtáv | O9: A beruházás ütemezése a tervezési időszak évei szerint
E10: Jelenlegi műszaki állapot | F10: Feladat szükségessége | G10: Megvalósítást követő várható műszaki állapot | J10: (eFt) | L10: Kezdés | M10: Befejezés | N10: (rövid / közép / hosszú) | O10: 1 | P10: 2 | Q10: 3 | R10: 4 | S10: 5 | T10: 6 | U10: 7 | V10: 8 | W10: 9 | X10: 10 | Y10: 11 | Z10: 12 | AA10: 13 | AB10: 14 | AC10: 15
B11: szakág | C11: Helyszín | D11: beruházás megnevezése
B13: MÉLYFÚRÁSÚ KÚT, HAGYOMÁNYOS ÁTMÉRŐVEL
B14: Épület, építmény
B16: Gép, berendezés
B18: Irányítástechnika, energiaellátás
B20: Összesen: | J20: =SUM(J13:J18) -> 0
A21: III. Vízműtelep és vízkezelő létesítmények
C22: Helyszín | D22: beruházás megnevezése
B23: VÍZMŰTELEP
B24: Épület, építmény
B26: Gép, berendezés
B28: Irányítástechnika, energiaellátás
B30: VÍZKEZELŐ LÉTESÍTMÉNYEK
B31: Épület, építmény
B33: Gép, berendezés
A34: 1 | C34: =Zalaegerszeg!C34 -> Zalaegerszeg Keleti vízbázisról ellátott települések | D34: =Zalaegerszeg!D34 -> ivóvízminőség javítása és vízellátásának fejlesztése | I34: =Zalaegerszeg!I34 -> Zalaegerszeg | J34: =Zalaegerszeg!J34 -> 533824 | L34: =Zalaegerszeg!L34 -> 44197 | M34: =Zalaegerszeg!M34 -> 44561 | N34: =Zalaegerszeg!N34 -> rövid | O34: =Zalaegerszeg!O34 -> 533824
A35: 3 | C35: =Zalaegerszeg!C35 -> É-i vízbázis és vízműtelep kiépítése | D35: =Zalaegerszeg!D35 -> ivóvízminőség javítása és vízellátásának fejlesztése | I35: =Zalaegerszeg!I35 -> Zalaegerszeg | J35: =Zalaegerszeg!J35 -> 1500000 | L35: =Zalaegerszeg!L35 -> 47484 | M35: =Zalaegerszeg!M35 -> 47848 | N35: =Zalaegerszeg!N35 -> hosszú | X35: =Zalaegerszeg!X35 -> 1500000
B36: Irányítástechnika, energiaellátás
B38: Összesen | J38: =SUM(J23:J37) -> 2033824
A39: IV. Vízelosztás
C40: Helyszín | D40: beruházás megnevezése
B41: IVÓVÍZHÁLÓZAT
B42: Épület, építmény
A43: =Zalaegerszeg!A43 -> 2 | C43: =Zalaegerszeg!C43 -> Zalaegerszeg Zala u. lakópark mellett | D43: =Zalaegerszeg!D43 -> gerincvezeték összekötés | I43: =Zalaegerszeg!I43 -> Zalaegerszeg | J43: =Zalaegerszeg!J43 -> 3616 | L43: =Zalaegerszeg!L43 -> 44197 | M43: =Zalaegerszeg!M43 -> 44561 | N43: =Zalaegerszeg!N43 -> rövid | O43: =Zalaegerszeg!O43 -> 3616
A44: =Zalaegerszeg!A44 -> 3 | C44: =Zalaegerszeg!C44 -> Zalaegerszeg | D44: =Zalaegerszeg!D44 -> Megvalósíthatósági tanulmány készítése (és vízjogi létesítési engedély megszerzése) Páterdomb biztonságosabb vízellátására | I44: =Zalaegerszeg!I44 -> Zalaegerszeg | J44: =Zalaegerszeg!J44 -> 4200 | L44: =Zalaegerszeg!L44 -> 44197 | M44: =Zalaegerszeg!M44 -> 44561 | N44: =Zalaegerszeg!N44 -> rövid | O44: =Zalaegerszeg!O44 -> 2520
A45: =Zalaegerszeg!A45 -> 4 | C45: =Zalaegerszeg!C45 -> Zalaegerszeg | D45: =Zalaegerszeg!D45 -> Zalaegerszeg, Magasbükk vízellátás II. ütem felülvizsgálata, engedélyezési és kiviteli terv újra egyeztetése, elkészítése, vízjogi létesítési engedély beszerzése | I45: =Zalaegerszeg!I45 -> Zalaegerszeg | J45: =Zalaegerszeg!J45 -> 70 | L45: =Zalaegerszeg!L45 -> 44197 | M45: =Zalaegerszeg!M45 -> 44561 | N45: =Zalaegerszeg!N45 -> rövid | O45: =Zalaegerszeg!O45 -> 70
A46: =Zalaegerszeg!A46 -> 5 | C46: =Zalaegerszeg!C46 -> Zalaegerszeg | D46: =Zalaegerszeg!D46 -> Zalaegerszeg, Jedlik Ányos utca 0811/68 és 74 hrsz. Ingatlanok vízellátásának vízjogi engedélyes és kiviteli tervdokumentációjának elkészítése | I46: =Zalaegerszeg!I46 -> Zalaegerszeg | J46: =Zalaegerszeg!J46 -> 200 | L46: =Zalaegerszeg!L46 -> 44197 | M46: =Zalaegerszeg!M46 -> 44561 | N46: =Zalaegerszeg!N46 -> rövid | O46: =Zalaegerszeg!O46 -> 200
A47: 4 | C47: =Zalaegerszeg!C47 -> Nyugat- és Dél-Dunántúli ivóvízminőség-javító program | D47: =Zalaegerszeg!D47 -> ivóvízminőség javítása és vízellátásának fejlesztése | I47: =Zalaegerszeg!I47 -> Zalaegerszeg | J47: =Zalaegerszeg!J47 -> 2217 | L47: =Zalaegerszeg!L47 -> 44197 | M47: =Zalaegerszeg!M47 -> 44561 | N47: =Zalaegerszeg!N47 -> közép | P47: =Zalaegerszeg!P47 -> 2217
B48: Gép, berendezés
B50: Irányítástechnika, energiaellátás
B52: VÍZTÁROLÓK
B53: Épület, építmény
B55: Gép, berendezés
B57: Irányítástechnika, energiaellátás
B59: NYOMÁSFOKOZÓK
B60: Épület, építmény
B62: Gép, berendezés
B64: Irányítástechnika, energiaellátás
J65: =SUM(J43:J64) -> 10303
B66: Összesen: | J66: =J20+J38+J65 -> 2044127 | K66: =Bocfölde!K61+Kiskutas!K61+Nagykutas!K61+Sárhida!K61+Zalaegerszeg!K62 -> 3616 | O66: =SUM(O12:O65) -> 540230 | P66: =SUM(P12:P65) -> 2217 | Q66: =SUM(Q12:Q65) -> 0 | R66: =SUM(R12:R65) -> 0 | S66: =SUM(S12:S65) -> 0 | T66: =SUM(T12:T65) -> 0 | U66: =SUM(U12:U65) -> 0 | V66: =SUM(V12:V65) -> 0 | ... AC66: =SUM(AC12:AC65) -> 0
K67: 2021 évre a forrás biztosított
B69: Tervezett feladatok nettó költsége a teljes ütem tekintetében (eFt) | C69: Rendelkezésre álló források számszerűsített értéke a teljes ütem tekintetében (eFt) | D69: Forrás megnevezése a teljes ütem tekintetében
A70: I. ütem | B70: =SUM(O66) -> 540230 | C70: =Zalaegerszeg!C66 -> 3616 | D70: Víziközmű fejlesztési hozzájárulás(2021)
C71: =Zalaegerszeg!C67 -> 4470 | D71: használati díj (2021)
C72: =Zalaegerszeg!C68 -> 533824 | D72: =Zalaegerszeg!D68 -> KEHOP pályázati forrás
A73: II. ütem | B73: =SUM(P66:S66) -> 2217 | C73: =Zalaegerszeg!C69 -> 2217 | D73: =Zalaegerszeg!D69 -> KEHOP pályázati forrás
A74: III. ütem | B74: =SUM(T66:AC66) -> 1500000 | C74: =Babosdöbréte!C67+Bagod!C67+Becsvölgye!C67+Bocfölde!C67+Boncodfölde!C67+Böde!C67+Csatár!C67+Csonkahegyhát!C67+Dobronhegy!C67+Hagyárosbörönd!C67+Hottó!C67+Kávás!C67+Kiskutas!C67+Kispáli!C67+Kustánszeg!C67+Milejszeg!C67+Nagykutas!C67+Nagypáli!C67+Németfalu!C67+Pálfiszeg!C67+Sárhida!C67+Teskánd!C67+Zalaboldogfa!C67+Zalaegerszeg!C70+Zalaszentgyörgy!C67 -> 1500000 | D74: KEHOP pályázati forrás
