Workbook

Sheet Babosdöbréte
A1: Gördülő fejlesztési terv a 2021 - 2035 időszakra
A2: BERUHÁZÁSOK ÖSSZEFOGLALÓ TÁBLÁZATA
A3: A tervet benyújtó szervezet megnevezése: | K3: BABOSDÖBRÉTE | R3: ellátásért felelős / ellátásért felelősök képviselője / víziközmű-szolgáltató *
A4: Víziközmű-szolgáltató megnevezése: | K4: ÉSZAK ZALAI VÍZ- ÉS CSATORNAMŰ ZÁRTKÖRŰEN MŰKÖDŐ RÉSZVÉNYTÁRSASÁG
A5: Víziközmű-szolgáltatási ágazat megnevezése: | K5: IVÓVÍZ ÁGAZAT
A6: Véleményeltérést megfogalmazó érintett fél megnevezése:
A7: Víziközmű-rendszer kódja: ** | K7: 11-32054-1-025-01-14 | R7: Zalaegerszeg-IV
A8: I. Felszín alatti vízkivétel
A9: Fontossági sorrend | B9: Felujítás és pótlás megnevezése | E9: Műszaki állapot felmérés, szükségességi indoklás | H9: Vízjogi létesítési/elvi engedély száma | I9: Az érintett ellátásért felelős(ök) megnevezése | J9: Tervezett nettó költség | K9: Forrás 2021 évre | L9: Megvalósítás időtartama | N9: Tervezett időtáv | O9: A beruházás ütemezése a tervezési időszak évei szerint
E10: Jelenlegi műszaki állapot | F10: Feladat szükségessége | G10: Megvalósítást követő várható műszaki állapot | J10: (eFt) | L10: Kezdés | M10: Befejezés | N10: (rövid / közép / hosszú) | O10: 1 | P10: 2 | Q10: 3 | R10: 4 | S10: 5 | T10: 6 | U10: 7 | V10: 8 | W10: 9 | X10: 10 | Y10: 11 | Z10: 12 | AA10: 13 | AB10: 14 | AC10: 15
B11: szakág | C11: Helyszín | D11: beruházás megnevezése
B13: MÉLYFÚRÁSÚ KÚT, HAGYOMÁNYOS ÁTMÉRŐVEL
B14: Épület, építmény
B16: Gép, berendezés
B18: Irányítástechnika, energiaellátás
B20: Összesen: | J20: =SUM(J12:J18) -> 0
A21: III. Vízműtelep és vízkezelő létesítmények
C22: Helyszín | D22: beruházás megnevezése
B23: VÍZMŰTELEP
B24: Épület, építmény
B26: Gép, berendezés
B28: Irányítástechnika, energiaellátás
B30: VÍZKEZELŐ LÉTESÍTMÉNYEK
B31: Épület, építmény
B33: Gép, berendezés
B35: Irányítástechnika, energiaellátás
B37: Összesen | J37: =SUM(J23:J36) -> 0
A38: IV. Vízelosztás
C39: Helyszín | D39: beruházás megnevezése
B40: IVÓVÍZHÁLÓZAT
B41: Épület, építmény
B43: Gép, berendezés
B45: Irányítástechnika, energiaellátás
B47: VÍZTÁROLÓK
B48: Épület, építmény
B50: Gép, berendezés
B52: Irányítástechnika, energiaellátás
B54: NYOMÁSFOKOZÓK
B55: Épület, építmény
B57: Gép, berendezés
...

Sheet Bagod
A1: Gördülő fejlesztési terv a 2021 - 2035 időszakra
A2: BERUHÁZÁSOK ÖSSZEFOGLALÓ TÁBLÁZATA
A3: A tervet benyújtó szervezet megnevezése: | K3: BAGOD | R3: ellátásért felelős / ellátásért felelősök képviselője / víziközmű-szolgáltató *
A4: Víziközmű-szolgáltató megnevezése: | K4: ÉSZAK ZALAI VÍZ- ÉS CSATORNAMŰ ZÁRTKÖRŰEN MŰKÖDŐ RÉSZVÉNYTÁRSASÁG
A5: Víziközmű-szolgáltatási ágazat megnevezése: | K5: IVÓVÍZ ÁGAZAT
A6: Véleményeltérést megfogalmazó érintett fél megnevezése:
A7: Víziközmű-rendszer kódja: ** | K7: 11-32054-1-025-01-14 | R7: Zalaegerszeg-IV
A8: I. Felszín alatti vízkivétel
A9: Fontossági sorrend | B9: Felujítás és pótlás megnevezése | E9: Műszaki állapot felmérés, szükségességi indoklás | H9: Vízjogi létesítési/elvi engedély száma | I9: Az érintett ellátásért felelős(ök) megnevezése | J9: Tervezett nettó költség | K9: Forrás 2021 évre | L9: Megvalósítás időtartama | N9: Tervezett időtáv | O9: A beruházás ütemezése a tervezési időszak évei szerint
E10: Jelenlegi műszaki állapot | F10: Feladat szükségessége | G10: Megvalósítást követő várható műszaki állapot | J10: (eFt) | L10: Kezdés | M10: Befejezés | N10: (rövid / közép / hosszú) | O10: 1 | P10: 2 | Q10: 3 | R10: 4 | S10: 5 | T10: 6 | U10: 7 | V10: 8 | W10: 9 | X10: 10 | Y10: 11 | Z10: 12 | AA10: 13 | AB10: 14 | AC10: 15
B11: szakág | C11: Helyszín | D11: beruházás megnevezése
B13: MÉLYFÚRÁSÚ KÚT, HAGYOMÁNYOS ÁTMÉRŐVEL
B14: Épület, építmény
B16: Gép, berendezés
B18: Irányítástechnika, energiaellátás
B20: Összesen: | J20: =SUM(J12:J19) -> 0
A21: III. Vízműtelep és vízkezelő létesítmények
C22: Helyszín | D22: beruházás megnevezése
B23: VÍZMŰTELEP
B24: Épület, építmény
B26: Gép, berendezés
B28: Irányítástechnika, energiaellátás
B30: VÍZKEZELŐ LÉTESÍTMÉNYEK
B31: Épület, építmény
B33: Gép, berendezés
B35: Irányítástechnika, energiaellátás
B37: Összesen | J37: =SUM(J23:J36) -> 0
A38: IV. Vízelosztás
C39: Helyszín | D39: beruházás megnevezése
B40: IVÓVÍZHÁLÓZAT
B41: Épület, építmény
B43: Gép, berendezés
B45: Irányítástechnika, energiaellátás
B47: VÍZTÁROLÓK
B48: Épület, építmény
B50: Gép, berendezés
B52: Irányítástechnika, energiaellátás
B54: NYOMÁSFOKOZÓK
B55: Épület, építmény
B57: Gép, berendezés
...

Sheet Becsvölgye
A1: Gördülő fejlesztési terv a 2021 - 2035 időszakra
A2: BERUHÁZÁSOK ÖSSZEFOGLALÓ TÁBLÁZATA
A3: A tervet benyújtó szervezet megnevezése: | K3: BECSVÖLGYE | R3: ellátásért felelős / ellátásért felelősök képviselője / víziközmű-szolgáltató *
A4: Víziközmű-szolgáltató megnevezése: | K4: ÉSZAK ZALAI VÍZ- ÉS CSATORNAMŰ ZÁRTKÖRŰEN MŰKÖDŐ RÉSZVÉNYTÁRSASÁG
A5: Víziközmű-szolgáltatási ágazat megnevezése: | K5: IVÓVÍZ ÁGAZAT
A6: Véleményeltérést megfogalmazó érintett fél megnevezése:
A7: Víziközmű-rendszer kódja: ** | K7: 11-32054-1-025-01-14 | R7: Zalaegerszeg-IV
A8: I. Felszín alatti vízkivétel
A9: Fontossági sorrend | B9: Felujítás és pótlás megnevezése | E9: Műszaki állapot felmérés, szükségességi indoklás | H9: Vízjogi létesítési/elvi engedély száma | I9: Az érintett ellátásért felelős(ök) megnevezése | J9: Tervezett nettó költség | K9: Forrás 2021 évre | L9: Megvalósítás időtartama | N9: Tervezett időtáv | O9: A beruházás ütemezése a tervezési időszak évei szerint
E10: Jelenlegi műszaki állapot | F10: Feladat szükségessége | G10: Megvalósítást követő várható műszaki állapot | J10: (eFt) | L10: Kezdés | M10: Befejezés | N10: (rövid / közép / hosszú) | O10: 1 | P10: 2 | Q10: 3 | R10: 4 | S10: 5 | T10: 6 | U10: 7 | V10: 8 | W10: 9 | X10: 10 | Y10: 11 | Z10: 12 | AA10: 13 | AB10: 14 | AC10: 15
B11: szakág | C11: Helyszín | D11: beruházás megnevezése
B13: MÉLYFÚRÁSÚ KÚT, HAGYOMÁNYOS ÁTMÉRŐVEL
B14: Épület, építmény
B16: Gép, berendezés
B18: Irányítástechnika, energiaellátás
B20: Összesen: | J20: =SUM(J12:J19) -> 0
A21: III. Vízműtelep és vízkezelő létesítmények
C22: Helyszín | D22: beruházás megnevezése
B23: VÍZMŰTELEP
B24: Épület, építmény
B26: Gép, berendezés
B28: Irányítástechnika, energiaellátás
B30: VÍZKEZELŐ LÉTESÍTMÉNYEK
B31: Épület, építmény
B33: Gép, berendezés
B35: Irányítástechnika, energiaellátás
B37: Összesen | J37: =SUM(J23:J36) -> 0
A38: IV. Vízelosztás
C39: Helyszín | D39: beruházás megnevezése
B40: IVÓVÍZHÁLÓZAT
B41: Épület, építmény
B43: Gép, berendezés
B45: Irányítástechnika, energiaellátás
B47: VÍZTÁROLÓK
B48: Épület, építmény
B50: Gép, berendezés
B52: Irányítástechnika, energiaellátás
B54: NYOMÁSFOKOZÓK
B55: Épület, építmény
B57: Gép, berendezés
...

Sheet Bocfölde
A1: Gördülő fejlesztési terv a 2021 - 2035 időszakra
A2: BERUHÁZÁSOK ÖSSZEFOGLALÓ TÁBLÁZATA
A3: A tervet benyújtó szervezet megnevezése: | K3: BOCFÖLDE | R3: ellátásért felelős / ellátásért felelősök képviselője / víziközmű-szolgáltató *
A4: Víziközmű-szolgáltató megnevezése: | K4: ÉSZAK ZALAI VÍZ- ÉS CSATORNAMŰ ZÁRTKÖRŰEN MŰKÖDŐ RÉSZVÉNYTÁRSASÁG
A5: Víziközmű-szolgáltatási ágazat megnevezése: | K5: IVÓVÍZ ÁGAZAT
A6: Véleményeltérést megfogalmazó érintett fél megnevezése:
A7: Víziközmű-rendszer kódja: ** | K7: 11-32054-1-025-01-14 | R7: Zalaegerszeg-IV
A8: I. Felszín alatti vízkivétel
A9: Fontossági sorrend | B9: Felujítás és pótlás megnevezése | E9: Műszaki állapot felmérés, szükségességi indoklás | H9: Vízjogi létesítési/elvi engedély száma | I9: Az érintett ellátásért felelős(ök) megnevezése | J9: Tervezett nettó költség | K9: Forrás 2021 évre | L9: Megvalósítás időtartama | N9: Tervezett időtáv | O9: A beruházás ütemezése a tervezési időszak évei szerint
E10: Jelenlegi műszaki állapot | F10: Feladat szükségessége | G10: Megvalósítást követő várható műszaki állapot | J10: (eFt) | L10: Kezdés | M10: Befejezés | N10: (rövid / közép / hosszú) | O10: 1 | P10: 2 | Q10: 3 | R10: 4 | S10: 5 | T10: 6 | U10: 7 | V10: 8 | W10: 9 | X10: 10 | Y10: 11 | Z10: 12 | AA10: 13 | AB10: 14 | AC10: 15
B11: szakág | C11: Helyszín | D11: beruházás megnevezése
B13: MÉLYFÚRÁSÚ KÚT, HAGYOMÁNYOS ÁTMÉRŐVEL
B14: Épület, építmény
B16: Gép, berendezés
B18: Irányítástechnika, energiaellátás
B20: Összesen: | J20: =SUM(J12:J19) -> 0
A21: III. Vízműtelep és vízkezelő létesítmények
C22: Helyszín | D22: beruházás megnevezése
B23: VÍZMŰTELEP
B24: Épület, építmény
B26: Gép, berendezés
B28: Irányítástechnika, energiaellátás
B30: VÍZKEZELŐ LÉTESÍTMÉNYEK
B31: Épület, építmény
B33: Gép, berendezés
B35: Irányítástechnika, energiaellátás
B37: Összesen | J37: =SUM(J23:J36) -> 0
A38: IV. Vízelosztás
C39: Helyszín | D39: beruházás megnevezése
B40: IVÓVÍZHÁLÓZAT
B41: Épület, építmény
B43: Gép, berendezés
B45: Irányítástechnika, energiaellátás
B47: VÍZTÁROLÓK
B48: Épület, építmény
B50: Gép, berendezés
B52: Irányítástechnika, energiaellátás
B54: NYOMÁSFOKOZÓK
B55: Épület, építmény
B57: Gép, berendezés
...

Sheet Boncodfölde
A1: Gördülő fejlesztési terv a 2021 - 2035 időszakra
A2: BERUHÁZÁSOK ÖSSZEFOGLALÓ TÁBLÁZATA
A3: A tervet benyújtó szervezet megnevezése: | K3: BONCODFÖLDE | R3: ellátásért felelős / ellátásért felelősök képviselője / víziközmű-szolgáltató *
A4: Víziközmű-szolgáltató megnevezése: | K4: ÉSZAK ZALAI VÍZ- ÉS CSATORNAMŰ ZÁRTKÖRŰEN MŰKÖDŐ RÉSZVÉNYTÁRSASÁG
A5: Víziközmű-szolgáltatási ágazat megnevezése: | K5: IVÓVÍZ ÁGAZAT
A6: Véleményeltérést megfogalmazó érintett fél megnevezése:
A7: Víziközmű-rendszer kódja: ** | K7: 11-32054-1-025-01-14 | R7: Zalaegerszeg-IV
A8: I. Felszín alatti vízkivétel
A9: Fontossági sorrend | B9: Felujítás és pótlás megnevezése | E9: Műszaki állapot felmérés, szükségességi indoklás | H9: Vízjogi létesítési/elvi engedély száma | I9: Az érintett ellátásért felelős(ök) megnevezése | J9: Tervezett nettó költség | K9: Forrás 2021 évre | L9: Megvalósítás időtartama | N9: Tervezett időtáv | O9: A beruházás ütemezése a tervezési időszak évei szerint
E10: Jelenlegi műszaki állapot | F10: Feladat szükségessége | G10: Megvalósítást követő várható műszaki állapot | J10: (eFt) | L10: Kezdés | M10: Befejezés | N10: (rövid / közép / hosszú) | O10: 1 | P10: 2 | Q10: 3 | R10: 4 | S10: 5 | T10: 6 | U10: 7 | V10: 8 | W10: 9 | X10: 10 | Y10: 11 | Z10: 12 | AA10: 13 | AB10: 14 | AC10: 15
B11: szakág | C11: Helyszín | D11: beruházás megnevezése
B13: MÉLYFÚRÁSÚ KÚT, HAGYOMÁNYOS ÁTMÉRŐVEL
B14: Épület, építmény
B16: Gép, berendezés
B18: Irányítástechnika, energiaellátás
B20: Összesen: | J20: =SUM(J12:J19) -> 0
A21: III. Vízműtelep és vízkezelő létesítmények
C22: Helyszín | D22: beruházás megnevezése
B23: VÍZMŰTELEP
B24: Épület, építmény
B26: Gép, berendezés
B28: Irányítástechnika, energiaellátás
B30: VÍZKEZELŐ LÉTESÍTMÉNYEK
B31: Épület, építmény
B33: Gép, berendezés
B35: Irányítástechnika, energiaellátás
B37: Összesen | J37: =SUM(J23:J36) -> 0
A38: IV. Vízelosztás
C39: Helyszín | D39: beruházás megnevezése
B40: IVÓVÍZHÁLÓZAT
B41: Épület, építmény
B43: Gép, berendezés
B45: Irányítástechnika, energiaellátás
B47: VÍZTÁROLÓK
B48: Épület, építmény
B50: Gép, berendezés
B52: Irányítástechnika, energiaellátás
B54: NYOMÁSFOKOZÓK
B55: Épület, építmény
B57: Gép, berendezés
...

Sheet Böde
A1: Gördülő fejlesztési terv a 2021 - 2035 időszakra
A2: BERUHÁZÁSOK ÖSSZEFOGLALÓ TÁBLÁZATA
A3: A tervet benyújtó szervezet megnevezése: | K3: BÖDE | R3: ellátásért felelős / ellátásért felelősök képviselője / víziközmű-szolgáltató *
A4: Víziközmű-szolgáltató megnevezése: | K4: ÉSZAK ZALAI VÍZ- ÉS CSATORNAMŰ ZÁRTKÖRŰEN MŰKÖDŐ RÉSZVÉNYTÁRSASÁG
A5: Víziközmű-szolgáltatási ágazat megnevezése: | K5: IVÓVÍZ ÁGAZAT
A6: Véleményeltérést megfogalmazó érintett fél megnevezése:
A7: Víziközmű-rendszer kódja: ** | K7: 11-32054-1-025-01-14 | R7: Zalaegerszeg-IV
A8: I. Felszín alatti vízkivétel
A9: Fontossági sorrend | B9: Felujítás és pótlás megnevezése | E9: Műszaki állapot felmérés, szükségességi indoklás | H9: Vízjogi létesítési/elvi engedély száma | I9: Az érintett ellátásért felelős(ök) megnevezése | J9: Tervezett nettó költség | K9: Forrás 2021 évre | L9: Megvalósítás időtartama | N9: Tervezett időtáv | O9: A beruházás ütemezése a tervezési időszak évei szerint
E10: Jelenlegi műszaki állapot | F10: Feladat szükségessége | G10: Megvalósítást követő várható műszaki állapot | J10: (eFt) | L10: Kezdés | M10: Befejezés | N10: (rövid / közép / hosszú) | O10: 1 | P10: 2 | Q10: 3 | R10: 4 | S10: 5 | T10: 6 | U10: 7 | V10: 8 | W10: 9 | X10: 10 | Y10: 11 | Z10: 12 | AA10: 13 | AB10: 14 | AC10: 15
B11: szakág | C11: Helyszín | D11: beruházás megnevezése
B13: MÉLYFÚRÁSÚ KÚT, HAGYOMÁNYOS ÁTMÉRŐVEL
B14: Épület, építmény
B16: Gép, berendezés
B18: Irányítástechnika, energiaellátás
B20: Összesen: | J20: =SUM(J12:J18) -> 0
A21: III. Vízműtelep és vízkezelő létesítmények
C22: Helyszín | D22: beruházás megnevezése
B23: VÍZMŰTELEP
B24: Épület, építmény
B26: Gép, berendezés
B28: Irányítástechnika, energiaellátás
B30: VÍZKEZELŐ LÉTESÍTMÉNYEK
B31: Épület, építmény
B33: Gép, berendezés
B35: Irányítástechnika, energiaellátás
B37: Összesen | J37: =SUM(J23:J36) -> 0
A38: IV. Vízelosztás
C39: Helyszín | D39: beruházás megnevezése
B40: IVÓVÍZHÁLÓZAT
B41: Épület, építmény
B43: Gép, berendezés
B45: Irányítástechnika, energiaellátás
B47: VÍZTÁROLÓK
B48: Épület, építmény
B50: Gép, berendezés
B52: Irányítástechnika, energiaellátás
B54: NYOMÁSFOKOZÓK
B55: Épület, építmény
B57: Gép, berendezés
...

Sheet Csatár
A1: Gördülő fejlesztési terv a 2021 - 2035 időszakra
A2: BERUHÁZÁSOK ÖSSZEFOGLALÓ TÁBLÁZATA
A3: A tervet benyújtó szervezet megnevezése: | K3: CSATÁR | R3: ellátásért felelős / ellátásért felelősök képviselője / víziközmű-szolgáltató *
A4: Víziközmű-szolgáltató megnevezése: | K4: ÉSZAK ZALAI VÍZ- ÉS CSATORNAMŰ ZÁRTKÖRŰEN MŰKÖDŐ RÉSZVÉNYTÁRSASÁG
A5: Víziközmű-szolgáltatási ágazat megnevezése: | K5: IVÓVÍZ ÁGAZAT
A6: Véleményeltérést megfogalmazó érintett fél megnevezése:
A7: Víziközmű-rendszer kódja: ** | K7: 11-32054-1-025-01-14 | R7: Zalaegerszeg-IV
A8: I. Felszín alatti vízkivétel
A9: Fontossági sorrend | B9: Felujítás és pótlás megnevezése | E9: Műszaki állapot felmérés, szükségességi indoklás | H9: Vízjogi létesítési/elvi engedély száma | I9: Az érintett ellátásért felelős(ök) megnevezése | J9: Tervezett nettó költség | K9: Forrás 2021 évre | L9: Megvalósítás időtartama | N9: Tervezett időtáv | O9: A beruházás ütemezése a tervezési időszak évei szerint
E10: Jelenlegi műszaki állapot | F10: Feladat szükségessége | G10: Megvalósítást követő várható műszaki állapot | J10: (eFt) | L10: Kezdés | M10: Befejezés | N10: (rövid / közép / hosszú) | O10: 1 | P10: 2 | Q10: 3 | R10: 4 | S10: 5 | T10: 6 | U10: 7 | V10: 8 | W10: 9 | X10: 10 | Y10: 11 | Z10: 12 | AA10: 13 | AB10: 14 | AC10: 15
B11: szakág | C11: Helyszín | D11: beruházás megnevezése
B13: MÉLYFÚRÁSÚ KÚT, HAGYOMÁNYOS ÁTMÉRŐVEL
B14: Épület, építmény
B16: Gép, berendezés
B18: Irányítástechnika, energiaellátás
B20: Összesen: | J20: =SUM(J12:J18) -> 0
A21: III. Vízműtelep és vízkezelő létesítmények
C22: Helyszín | D22: beruházás megnevezése
B23: VÍZMŰTELEP
B24: Épület, építmény
B26: Gép, berendezés
B28: Irányítástechnika, energiaellátás
B30: VÍZKEZELŐ LÉTESÍTMÉNYEK
B31: Épület, építmény
B33: Gép, berendezés
B35: Irányítástechnika, energiaellátás
B37: Összesen | J37: =SUM(J23:J36) -> 0
A38: IV. Vízelosztás
C39: Helyszín | D39: beruházás megnevezése
B40: IVÓVÍZHÁLÓZAT
B41: Épület, építmény
B43: Gép, berendezés
B45: Irányítástechnika, energiaellátás
B47: VÍZTÁROLÓK
B48: Épület, építmény
B50: Gép, berendezés
B52: Irányítástechnika, energiaellátás
B54: NYOMÁSFOKOZÓK
B55: Épület, építmény
B57: Gép, berendezés
...

Sheet Csonkahegyhát
A1: Gördülő fejlesztési terv a 2021 - 2035 időszakra
A2: BERUHÁZÁSOK ÖSSZEFOGLALÓ TÁBLÁZATA
A3: A tervet benyújtó szervezet megnevezése: | K3: CSONKAHEGYHÁT | R3: ellátásért felelős / ellátásért felelősök képviselője / víziközmű-szolgáltató *
A4: Víziközmű-szolgáltató megnevezése: | K4: ÉSZAK ZALAI VÍZ- ÉS CSATORNAMŰ ZÁRTKÖRŰEN MŰKÖDŐ RÉSZVÉNYTÁRSASÁG
A5: Víziközmű-szolgáltatási ágazat megnevezése: | K5: IVÓVÍZ ÁGAZAT
A6: Véleményeltérést megfogalmazó érintett fél megnevezése:
A7: Víziközmű-rendszer kódja: ** | K7: 11-32054-1-025-01-14 | R7: Zalaegerszeg-IV
A8: I. Felszín alatti vízkivétel
A9: Fontossági sorrend | B9: Felujítás és pótlás megnevezése | E9: Műszaki állapot felmérés, szükségességi indoklás | H9: Vízjogi létesítési/elvi engedély száma | I9: Az érintett ellátásért felelős(ök) megnevezése | J9: Tervezett nettó költség | K9: Forrás 2021 évre | L9: Megvalósítás időtartama | N9: Tervezett időtáv | O9: A beruházás ütemezése a tervezési időszak évei szerint
E10: Jelenlegi műszaki állapot | F10: Feladat szükségessége | G10: Megvalósítást követő várható műszaki állapot | J10: (eFt) | L10: Kezdés | M10: Befejezés | N10: (rövid / közép / hosszú) | O10: 1 | P10: 2 | Q10: 3 | R10: 4 | S10: 5 | T10: 6 | U10: 7 | V10: 8 | W10: 9 | X10: 10 | Y10: 11 | Z10: 12 | AA10: 13 | AB10: 14 | AC10: 15
B11: szakág | C11: Helyszín | D11: beruházás megnevezése
B13: MÉLYFÚRÁSÚ KÚT, HAGYOMÁNYOS ÁTMÉRŐVEL
B14: Épület, építmény
B16: Gép, berendezés
B18: Irányítástechnika, energiaellátás
B20: Összesen: | J20: =SUM(J12:J19) -> 0
A21: III. Vízműtelep és vízkezelő létesítmények
C22: Helyszín | D22: beruházás megnevezése
B23: VÍZMŰTELEP
B24: Épület, építmény
B26: Gép, berendezés
B28: Irányítástechnika, energiaellátás
B30: VÍZKEZELŐ LÉTESÍTMÉNYEK
B31: Épület, építmény
B33: Gép, berendezés
B35: Irányítástechnika, energiaellátás
B37: Összesen | J37: =SUM(J23:J36) -> 0
A38: IV. Vízelosztás
C39: Helyszín | D39: beruházás megnevezése
B40: IVÓVÍZHÁLÓZAT
B41: Épület, építmény
B43: Gép, berendezés
B45: Irányítástechnika, energiaellátás
B47: VÍZTÁROLÓK
B48: Épület, építmény
B50: Gép, berendezés
B52: Irányítástechnika, energiaellátás
B54: NYOMÁSFOKOZÓK
B55: Épület, építmény
B57: Gép, berendezés
...

Sheet Dobronhegy
A1: Gördülő fejlesztési terv a 2021 - 2035 időszakra
A2: BERUHÁZÁSOK ÖSSZEFOGLALÓ TÁBLÁZATA
A3: A tervet benyújtó szervezet megnevezése: | K3: DOBRONHEGY | R3: ellátásért felelős / ellátásért felelősök képviselője / víziközmű-szolgáltató *
A4: Víziközmű-szolgáltató megnevezése: | K4: ÉSZAK ZALAI VÍZ- ÉS CSATORNAMŰ ZÁRTKÖRŰEN MŰKÖDŐ RÉSZVÉNYTÁRSASÁG
A5: Víziközmű-szolgáltatási ágazat megnevezése: | K5: IVÓVÍZ ÁGAZAT
A6: Véleményeltérést megfogalmazó érintett fél megnevezése:
A7: Víziközmű-rendszer kódja: ** | K7: 11-32054-1-025-01-14 | R7: Zalaegerszeg-IV
A8: I. Felszín alatti vízkivétel
A9: Fontossági sorrend | B9: Felujítás és pótlás megnevezése | E9: Műszaki állapot felmérés, szükségességi indoklás | H9: Vízjogi létesítési/elvi engedély száma | I9: Az érintett ellátásért felelős(ök) megnevezése | J9: Tervezett nettó költség | K9: Forrás 2021 évre | L9: Megvalósítás időtartama | N9: Tervezett időtáv | O9: A beruházás ütemezése a tervezési időszak évei szerint
E10: Jelenlegi műszaki állapot | F10: Feladat szükségessége | G10: Megvalósítást követő várható műszaki állapot | J10: (eFt) | L10: Kezdés | M10: Befejezés | N10: (rövid / közép / hosszú) | O10: 1 | P10: 2 | Q10: 3 | R10: 4 | S10: 5 | T10: 6 | U10: 7 | V10: 8 | W10: 9 | X10: 10 | Y10: 11 | Z10: 12 | AA10: 13 | AB10: 14 | AC10: 15
B11: szakág | C11: Helyszín | D11: beruházás megnevezése
B13: MÉLYFÚRÁSÚ KÚT, HAGYOMÁNYOS ÁTMÉRŐVEL
B14: Épület, építmény
B16: Gép, berendezés
B18: Irányítástechnika, energiaellátás
B20: Összesen: | J20: =SUM(J12:J19) -> 0
A21: III. Vízműtelep és vízkezelő létesítmények
C22: Helyszín | D22: beruházás megnevezése
B23: VÍZMŰTELEP
B24: Épület, építmény
B26: Gép, berendezés
B28: Irányítástechnika, energiaellátás
B30: VÍZKEZELŐ LÉTESÍTMÉNYEK
B31: Épület, építmény
B33: Gép, berendezés
B35: Irányítástechnika, energiaellátás
B37: Összesen | J37: =SUM(J23:J36) -> 0
A38: IV. Vízelosztás
C39: Helyszín | D39: beruházás megnevezése
B40: IVÓVÍZHÁLÓZAT
B41: Épület, építmény
B43: Gép, berendezés
B45: Irányítástechnika, energiaellátás
B47: VÍZTÁROLÓK
B48: Épület, építmény
B50: Gép, berendezés
B52: Irányítástechnika, energiaellátás
B54: NYOMÁSFOKOZÓK
B55: Épület, építmény
B57: Gép, berendezés
...

Sheet Hagyárosbörönd
A1: Gördülő fejlesztési terv a 2021 - 2035 időszakra
A2: BERUHÁZÁSOK ÖSSZEFOGLALÓ TÁBLÁZATA
A3: A tervet benyújtó szervezet megnevezése: | K3: HAGYÁROSBÖRÖND | R3: ellátásért felelős / ellátásért felelősök képviselője / víziközmű-szolgáltató *
A4: Víziközmű-szolgáltató megnevezése: | K4: ÉSZAK ZALAI VÍZ- ÉS CSATORNAMŰ ZÁRTKÖRŰEN MŰKÖDŐ RÉSZVÉNYTÁRSASÁG
A5: Víziközmű-szolgáltatási ágazat megnevezése: | K5: IVÓVÍZ ÁGAZAT
A6: Véleményeltérést megfogalmazó érintett fél megnevezése:
A7: Víziközmű-rendszer kódja: ** | K7: 11-32054-1-025-01-14 | R7: Zalaegerszeg-IV
A8: I. Felszín alatti vízkivétel
A9: Fontossági sorrend | B9: Felujítás és pótlás megnevezése | E9: Műszaki állapot felmérés, szükségességi indoklás | H9: Vízjogi létesítési/elvi engedély száma | I9: Az érintett ellátásért felelős(ök) megnevezése | J9: Tervezett nettó költség | K9: Forrás 2021 évre | L9: Megvalósítás időtartama | N9: Tervezett időtáv | O9: A beruházás ütemezése a tervezési időszak évei szerint
E10: Jelenlegi műszaki állapot | F10: Feladat szükségessége | G10: Megvalósítást követő várható műszaki állapot | J10: (eFt) | L10: Kezdés | M10: Befejezés | N10: (rövid / közép / hosszú) | O10: 1 | P10: 2 | Q10: 3 | R10: 4 | S10: 5 | T10: 6 | U10: 7 | V10: 8 | W10: 9 | X10: 10 | Y10: 11 | Z10: 12 | AA10: 13 | AB10: 14 | AC10: 15
B11: szakág | C11: Helyszín | D11: beruházás megnevezése
B13: MÉLYFÚRÁSÚ KÚT, HAGYOMÁNYOS ÁTMÉRŐVEL
B14: Épület, építmény
B16: Gép, berendezés
B18: Irányítástechnika, energiaellátás
B20: Összesen: | J20: =SUM(J12:J19) -> 0
A21: III. Vízműtelep és vízkezelő létesítmények
C22: Helyszín | D22: beruházás megnevezése
B23: VÍZMŰTELEP
B24: Épület, építmény
B26: Gép, berendezés
B28: Irányítástechnika, energiaellátás
B30: VÍZKEZELŐ LÉTESÍTMÉNYEK
B31: Épület, építmény
B33: Gép, berendezés
B35: Irányítástechnika, energiaellátás
B37: Összesen | J37: =SUM(J23:J36) -> 0
A38: IV. Vízelosztás
C39: Helyszín | D39: beruházás megnevezése
B40: IVÓVÍZHÁLÓZAT
B41: Épület, építmény
B43: Gép, berendezés
B45: Irányítástechnika, energiaellátás
B47: VÍZTÁROLÓK
B48: Épület, építmény
B50: Gép, berendezés
B52: Irányítástechnika, energiaellátás
B54: NYOMÁSFOKOZÓK
B55: Épület, építmény
B57: Gép, berendezés
...

Sheet Hottó
A1: Gördülő fejlesztési terv a 2021 - 2035 időszakra
A2: BERUHÁZÁSOK ÖSSZEFOGLALÓ TÁBLÁZATA
A3: A tervet benyújtó szervezet megnevezése: | K3: HOTTÓ | R3: ellátásért felelős / ellátásért felelősök képviselője / víziközmű-szolgáltató *
A4: Víziközmű-szolgáltató megnevezése: | K4: ÉSZAK ZALAI VÍZ- ÉS CSATORNAMŰ ZÁRTKÖRŰEN MŰKÖDŐ RÉSZVÉNYTÁRSASÁG
A5: Víziközmű-szolgáltatási ágazat megnevezése: | K5: IVÓVÍZ ÁGAZAT
A6: Véleményeltérést megfogalmazó érintett fél megnevezése:
A7: Víziközmű-rendszer kódja: ** | K7: 11-32054-1-025-01-14 | R7: Zalaegerszeg-IV
A8: I. Felszín alatti vízkivétel
A9: Fontossági sorrend | B9: Felujítás és pótlás megnevezése | E9: Műszaki állapot felmérés, szükségességi indoklás | H9: Vízjogi létesítési/elvi engedély száma | I9: Az érintett ellátásért felelős(ök) megnevezése | J9: Tervezett nettó költség | K9: Forrás 2021 évre | L9: Megvalósítás időtartama | N9: Tervezett időtáv | O9: A beruházás ütemezése a tervezési időszak évei szerint
E10: Jelenlegi műszaki állapot | F10: Feladat szükségessége | G10: Megvalósítást követő várható műszaki állapot | J10: (eFt) | L10: Kezdés | M10: Befejezés | N10: (rövid / közép / hosszú) | O10: 1 | P10: 2 | Q10: 3 | R10: 4 | S10: 5 | T10: 6 | U10: 7 | V10: 8 | W10: 9 | X10: 10 | Y10: 11 | Z10: 12 | AA10: 13 | AB10: 14 | AC10: 15
B11: szakág | C11: Helyszín | D11: beruházás megnevezése
B13: MÉLYFÚRÁSÚ KÚT, HAGYOMÁNYOS ÁTMÉRŐVEL
B14: Épület, építmény
B16: Gép, berendezés
B18: Irányítástechnika, energiaellátás
B20: Összesen: | J20: =SUM(J12:J18) -> 0
A21: III. Vízműtelep és vízkezelő létesítmények
C22: Helyszín | D22: beruházás megnevezése
B23: VÍZMŰTELEP
B24: Épület, építmény
B26: Gép, berendezés
B28: Irányítástechnika, energiaellátás
B30: VÍZKEZELŐ LÉTESÍTMÉNYEK
B31: Épület, építmény
B33: Gép, berendezés
B35: Irányítástechnika, energiaellátás
B37: Összesen | J37: =SUM(J23:J36) -> 0
A38: IV. Vízelosztás
C39: Helyszín | D39: beruházás megnevezése
B40: IVÓVÍZHÁLÓZAT
B41: Épület, építmény
B43: Gép, berendezés
B45: Irányítástechnika, energiaellátás
B47: VÍZTÁROLÓK
B48: Épület, építmény
B50: Gép, berendezés
B52: Irányítástechnika, energiaellátás
B54: NYOMÁSFOKOZÓK
B55: Épület, építmény
B57: Gép, berendezés
...

Sheet Kávás
A1: Gördülő fejlesztési terv a 2021 - 2035 időszakra
A2: BERUHÁZÁSOK ÖSSZEFOGLALÓ TÁBLÁZATA
A3: A tervet benyújtó szervezet megnevezése: | K3: KÁVÁS | R3: ellátásért felelős / ellátásért felelősök képviselője / víziközmű-szolgáltató *
A4: Víziközmű-szolgáltató megnevezése: | K4: ÉSZAK ZALAI VÍZ- ÉS CSATORNAMŰ ZÁRTKÖRŰEN MŰKÖDŐ RÉSZVÉNYTÁRSASÁG
A5: Víziközmű-szolgáltatási ágazat megnevezése: | K5: IVÓVÍZ ÁGAZAT
A6: Véleményeltérést megfogalmazó érintett fél megnevezése:
A7: Víziközmű-rendszer kódja: ** | K7: 11-32054-1-025-01-14 | R7: Zalaegerszeg-IV
A8: I. Felszín alatti vízkivétel
A9: Fontossági sorrend | B9: Felujítás és pótlás megnevezése | E9: Műszaki állapot felmérés, szükségességi indoklás | H9: Vízjogi létesítési/elvi engedély száma | I9: Az érintett ellátásért felelős(ök) megnevezése | J9: Tervezett nettó költség | K9: Forrás 2021 évre | L9: Megvalósítás időtartama | N9: Tervezett időtáv | O9: A beruházás ütemezése a tervezési időszak évei szerint
E10: Jelenlegi műszaki állapot | F10: Feladat szükségessége | G10: Megvalósítást követő várható műszaki állapot | J10: (eFt) | L10: Kezdés | M10: Befejezés | N10: (rövid / közép / hosszú) | O10: 1 | P10: 2 | Q10: 3 | R10: 4 | S10: 5 | T10: 6 | U10: 7 | V10: 8 | W10: 9 | X10: 10 | Y10: 11 | Z10: 12 | AA10: 13 | AB10: 14 | AC10: 15
B11: szakág | C11: Helyszín | D11: beruházás megnevezése
B13: MÉLYFÚRÁSÚ KÚT, HAGYOMÁNYOS ÁTMÉRŐVEL
B14: Épület, építmény
B16: Gép, berendezés
B18: Irányítástechnika, energiaellátás
B20: Összesen: | J20: =SUM(J12:J19) -> 0
A21: III. Vízműtelep és vízkezelő létesítmények
C22: Helyszín | D22: beruházás megnevezése
B23: VÍZMŰTELEP
B24: Épület, építmény
B26: Gép, berendezés
B28: Irányítástechnika, energiaellátás
B30: VÍZKEZELŐ LÉTESÍTMÉNYEK
B31: Épület, építmény
B33: Gép, berendezés
B35: Irányítástechnika, energiaellátás
B37: Összesen | J37: =SUM(J23:J36) -> 0
A38: IV. Vízelosztás
C39: Helyszín | D39: beruházás megnevezése
B40: IVÓVÍZHÁLÓZAT
B41: Épület, építmény
B43: Gép, berendezés
B45: Irányítástechnika, energiaellátás
B47: VÍZTÁROLÓK
B48: Épület, építmény
B50: Gép, berendezés
B52: Irányítástechnika, energiaellátás
B54: NYOMÁSFOKOZÓK
B55: Épület, építmény
B57: Gép, berendezés
...

Sheet Kiskutas
A1: Gördülő fejlesztési terv a 2021 - 2035 időszakra
A2: BERUHÁZÁSOK ÖSSZEFOGLALÓ TÁBLÁZATA
A3: A tervet benyújtó szervezet megnevezése: | K3: KISKUTAS | R3: ellátásért felelős / ellátásért felelősök képviselője / víziközmű-szolgáltató *
A4: Víziközmű-szolgáltató megnevezése: | K4: ÉSZAK ZALAI VÍZ- ÉS CSATORNAMŰ ZÁRTKÖRŰEN MŰKÖDŐ RÉSZVÉNYTÁRSASÁG
A5: Víziközmű-szolgáltatási ágazat megnevezése: | K5: IVÓVÍZ ÁGAZAT
A6: Véleményeltérést megfogalmazó érintett fél megnevezése:
A7: Víziközmű-rendszer kódja: ** | K7: 11-32054-1-025-01-14 | R7: Zalaegerszeg-IV
A8: I. Felszín alatti vízkivétel
A9: Fontossági sorrend | B9: Felujítás és pótlás megnevezése | E9: Műszaki állapot felmérés, szükségességi indoklás | H9: Vízjogi létesítési/elvi engedély száma | I9: Az érintett ellátásért felelős(ök) megnevezése | J9: Tervezett nettó költség | K9: Forrás 2021 évre | L9: Megvalósítás időtartama | N9: Tervezett időtáv | O9: A beruházás ütemezése a tervezési időszak évei szerint
E10: Jelenlegi műszaki állapot | F10: Feladat szükségessége | G10: Megvalósítást követő várható műszaki állapot | J10: (eFt) | L10: Kezdés | M10: Befejezés | N10: (rövid / közép / hosszú) | O10: 1 | P10: 2 | Q10: 3 | R10: 4 | S10: 5 | T10: 6 | U10: 7 | V10: 8 | W10: 9 | X10: 10 | Y10: 11 | Z10: 12 | AA10: 13 | AB10: 14 | AC10: 15
B11: szakág | C11: Helyszín | D11: beruházás megnevezése
B13: MÉLYFÚRÁSÚ KÚT, HAGYOMÁNYOS ÁTMÉRŐVEL
B14: Épület, építmény
B16: Gép, berendezés
B18: Irányítástechnika, energiaellátás
B20: Összesen: | J20: =SUM(J12:J18) -> 0
A21: III. Vízműtelep és vízkezelő létesítmények
C22: Helyszín | D22: beruházás megnevezése
B23: VÍZMŰTELEP
B24: Épület, építmény
B26: Gép, berendezés
B28: Irányítástechnika, energiaellátás
B30: VÍZKEZELŐ LÉTESÍTMÉNYEK
B31: Épület, építmény
B33: Gép, berendezés
B35: Irányítástechnika, energiaellátás
B37: Összesen | J37: =SUM(J23:J36) -> 0
A38: IV. Vízelosztás
C39: Helyszín | D39: beruházás megnevezése
B40: IVÓVÍZHÁLÓZAT
B41: Épület, építmény
B43: Gép, berendezés
B45: Irányítástechnika, energiaellátás
B47: VÍZTÁROLÓK
B48: Épület, építmény
B50: Gép, berendezés
B52: Irányítástechnika, energiaellátás
B54: NYOMÁSFOKOZÓK
B55: Épület, építmény
B57: Gép, berendezés
...

Sheet Kispáli
A1: Gördülő fejlesztési terv a 2021 - 2035 időszakra
A2: BERUHÁZÁSOK ÖSSZEFOGLALÓ TÁBLÁZATA
A3: A tervet benyújtó szervezet megnevezése: | K3: KISPÁLI | R3: ellátásért felelős / ellátásért felelősök képviselője / víziközmű-szolgáltató *
A4: Víziközmű-szolgáltató megnevezése: | K4: ÉSZAK ZALAI VÍZ- ÉS CSATORNAMŰ ZÁRTKÖRŰEN MŰKÖDŐ RÉSZVÉNYTÁRSASÁG
A5: Víziközmű-szolgáltatási ágazat megnevezése: | K5: IVÓVÍZ ÁGAZAT
A6: Véleményeltérést megfogalmazó érintett fél megnevezése:
A7: Víziközmű-rendszer kódja: ** | K7: 11-32054-1-025-01-14 | R7: Zalaegerszeg-IV
A8: I. Felszín alatti vízkivétel
A9: Fontossági sorrend | B9: Felujítás és pótlás megnevezése | E9: Műszaki állapot felmérés, szükségességi indoklás | H9: Vízjogi létesítési/elvi engedély száma | I9: Az érintett ellátásért felelős(ök) megnevezése | J9: Tervezett nettó költség | K9: Forrás 2021 évre | L9: Megvalósítás időtartama | N9: Tervezett időtáv | O9: A beruházás ütemezése a tervezési időszak évei szerint
E10: Jelenlegi műszaki állapot | F10: Feladat szükségessége | G10: Megvalósítást követő várható műszaki állapot | J10: (eFt) | L10: Kezdés | M10: Befejezés | N10: (rövid / közép / hosszú) | O10: 1 | P10: 2 | Q10: 3 | R10: 4 | S10: 5 | T10: 6 | U10: 7 | V10: 8 | W10: 9 | X10: 10 | Y10: 11 | Z10: 12 | AA10: 13 | AB10: 14 | AC10: 15
B11: szakág | C11: Helyszín | D11: beruházás megnevezése
B13: MÉLYFÚRÁSÚ KÚT, HAGYOMÁNYOS ÁTMÉRŐVEL
B14: Épület, építmény
B16: Gép, berendezés
B18: Irányítástechnika, energiaellátás
B20: Összesen: | J20: =SUM(J12:J19) -> 0
A21: III. Vízműtelep és vízkezelő létesítmények
C22: Helyszín | D22: beruházás megnevezése
B23: VÍZMŰTELEP
B24: Épület, építmény
B26: Gép, berendezés
B28: Irányítástechnika, energiaellátás
B30: VÍZKEZELŐ LÉTESÍTMÉNYEK
B31: Épület, építmény
B33: Gép, berendezés
B35: Irányítástechnika, energiaellátás
B37: Összesen | J37: =SUM(J23:J36) -> 0
A38: IV. Vízelosztás
C39: Helyszín | D39: beruházás megnevezése
B40: IVÓVÍZHÁLÓZAT
B41: Épület, építmény
B43: Gép, berendezés
B45: Irányítástechnika, energiaellátás
B47: VÍZTÁROLÓK
B48: Épület, építmény
B50: Gép, berendezés
B52: Irányítástechnika, energiaellátás
B54: NYOMÁSFOKOZÓK
B55: Épület, építmény
B57: Gép, berendezés
...

Sheet Kustánszeg
A1: Gördülő fejlesztési terv a 2021 - 2035 időszakra
A2: BERUHÁZÁSOK ÖSSZEFOGLALÓ TÁBLÁZATA
A3: A tervet benyújtó szervezet megnevezése: | K3: KUSTÁNSZEG | R3: ellátásért felelős / ellátásért felelősök képviselője / víziközmű-szolgáltató *
A4: Víziközmű-szolgáltató megnevezése: | K4: ÉSZAK ZALAI VÍZ- ÉS CSATORNAMŰ ZÁRTKÖRŰEN MŰKÖDŐ RÉSZVÉNYTÁRSASÁG
A5: Víziközmű-szolgáltatási ágazat megnevezése: | K5: IVÓVÍZ ÁGAZAT
A6: Véleményeltérést megfogalmazó érintett fél megnevezése:
A7: Víziközmű-rendszer kódja: ** | K7: 11-32054-1-025-01-14 | R7: Zalaegerszeg-IV
A8: I. Felszín alatti vízkivétel
A9: Fontossági sorrend | B9: Felujítás és pótlás megnevezése | E9: Műszaki állapot felmérés, szükségességi indoklás | H9: Vízjogi létesítési/elvi engedély száma | I9: Az érintett ellátásért felelős(ök) megnevezése | J9: Tervezett nettó költség | K9: Forrás 2021 évre | L9: Megvalósítás időtartama | N9: Tervezett időtáv | O9: A beruházás ütemezése a tervezési időszak évei szerint
E10: Jelenlegi műszaki állapot | F10: Feladat szükségessége | G10: Megvalósítást követő várható műszaki állapot | J10: (eFt) | L10: Kezdés | M10: Befejezés | N10: (rövid / közép / hosszú) | O10: 1 | P10: 2 | Q10: 3 | R10: 4 | S10: 5 | T10: 6 | U10: 7 | V10: 8 | W10: 9 | X10: 10 | Y10: 11 | Z10: 12 | AA10: 13 | AB10: 14 | AC10: 15
B11: szakág | C11: Helyszín | D11: beruházás megnevezése
B13: MÉLYFÚRÁSÚ KÚT, HAGYOMÁNYOS ÁTMÉRŐVEL
B14: Épület, építmény
B16: Gép, berendezés
B18: Irányítástechnika, energiaellátás
B20: Összesen: | J20: =SUM(J12:J19) -> 0
A21: III. Vízműtelep és vízkezelő létesítmények
C22: Helyszín | D22: beruházás megnevezése
B23: VÍZMŰTELEP
B24: Épület, építmény
B26: Gép, berendezés
B28: Irányítástechnika, energiaellátás
B30: VÍZKEZELŐ LÉTESÍTMÉNYEK
B31: Épület, építmény
B33: Gép, berendezés
B35: Irányítástechnika, energiaellátás
B37: Összesen | J37: =SUM(J23:J36) -> 0
A38: IV. Vízelosztás
C39: Helyszín | D39: beruházás megnevezése
B40: IVÓVÍZHÁLÓZAT
B41: Épület, építmény
B43: Gép, berendezés
B45: Irányítástechnika, energiaellátás
B47: VÍZTÁROLÓK
B48: Épület, építmény
B50: Gép, berendezés
B52: Irányítástechnika, energiaellátás
B54: NYOMÁSFOKOZÓK
B55: Épület, építmény
B57: Gép, berendezés
...

Sheet Milejszeg
A1: Gördülő fejlesztési terv a 2021 - 2035 időszakra
A2: BERUHÁZÁSOK ÖSSZEFOGLALÓ TÁBLÁZATA
A3: A tervet benyújtó szervezet megnevezése: | K3: MILEJSZEG | R3: ellátásért felelős / ellátásért felelősök képviselője / víziközmű-szolgáltató *
A4: Víziközmű-szolgáltató megnevezése: | K4: ÉSZAK ZALAI VÍZ- ÉS CSATORNAMŰ ZÁRTKÖRŰEN MŰKÖDŐ RÉSZVÉNYTÁRSASÁG
A5: Víziközmű-szolgáltatási ágazat megnevezése: | K5: IVÓVÍZ ÁGAZAT
A6: Véleményeltérést megfogalmazó érintett fél megnevezése:
A7: Víziközmű-rendszer kódja: ** | K7: 11-32054-1-025-01-14 | R7: Zalaegerszeg-IV
A8: I. Felszín alatti vízkivétel
A9: Fontossági sorrend | B9: Felujítás és pótlás megnevezése | E9: Műszaki állapot felmérés, szükségességi indoklás | H9: Vízjogi létesítési/elvi engedély száma | I9: Az érintett ellátásért felelős(ök) megnevezése | J9: Tervezett nettó költség | K9: Forrás 2021 évre | L9: Megvalósítás időtartama | N9: Tervezett időtáv | O9: A beruházás ütemezése a tervezési időszak évei szerint
E10: Jelenlegi műszaki állapot | F10: Feladat szükségessége | G10: Megvalósítást követő várható műszaki állapot | J10: (eFt) | L10: Kezdés | M10: Befejezés | N10: (rövid / közép / hosszú) | O10: 1 | P10: 2 | Q10: 3 | R10: 4 | S10: 5 | T10: 6 | U10: 7 | V10: 8 | W10: 9 | X10: 10 | Y10: 11 | Z10: 12 | AA10: 13 | AB10: 14 | AC10: 15
B11: szakág | C11: Helyszín | D11: beruházás megnevezése
B13: MÉLYFÚRÁSÚ KÚT, HAGYOMÁNYOS ÁTMÉRŐVEL
B14: Épület, építmény
B16: Gép, berendezés
B18: Irányítástechnika, energiaellátás
B20: Összesen: | J20: =SUM(J12:J19) -> 0
A21: III. Vízműtelep és vízkezelő létesítmények
C22: Helyszín | D22: beruházás megnevezése
B23: VÍZMŰTELEP
B24: Épület, építmény
B26: Gép, berendezés
B28: Irányítástechnika, energiaellátás
B30: VÍZKEZELŐ LÉTESÍTMÉNYEK
B31: Épület, építmény
B33: Gép, berendezés
B35: Irányítástechnika, energiaellátás
B37: Összesen | J37: =SUM(J23:J36) -> 0
A38: IV. Vízelosztás
C39: Helyszín | D39: beruházás megnevezése
B40: IVÓVÍZHÁLÓZAT
B41: Épület, építmény
B43: Gép, berendezés
B45: Irányítástechnika, energiaellátás
B47: VÍZTÁROLÓK
B48: Épület, építmény
B50: Gép, berendezés
B52: Irányítástechnika, energiaellátás
B54: NYOMÁSFOKOZÓK
B55: Épület, építmény
B57: Gép, berendezés
...

Sheet Nagykutas
A1: Gördülő fejlesztési terv a 2021 - 2035 időszakra
A2: BERUHÁZÁSOK ÖSSZEFOGLALÓ TÁBLÁZATA
A3: A tervet benyújtó szervezet megnevezése: | K3: NAGYKUTAS | R3: ellátásért felelős / ellátásért felelősök képviselője / víziközmű-szolgáltató *
A4: Víziközmű-szolgáltató megnevezése: | K4: ÉSZAK ZALAI VÍZ- ÉS CSATORNAMŰ ZÁRTKÖRŰEN MŰKÖDŐ RÉSZVÉNYTÁRSASÁG
A5: Víziközmű-szolgáltatási ágazat megnevezése: | K5: IVÓVÍZ ÁGAZAT
A6: Véleményeltérést megfogalmazó érintett fél megnevezése:
A7: Víziközmű-rendszer kódja: ** | K7: 11-32054-1-025-01-14 | R7: Zalaegerszeg-IV
A8: I. Felszín alatti vízkivétel
A9: Fontossági sorrend | B9: Felujítás és pótlás megnevezése | E9: Műszaki állapot felmérés, szükségességi indoklás | H9: Vízjogi létesítési/elvi engedély száma | I9: Az érintett ellátásért felelős(ök) megnevezése | J9: Tervezett nettó költség | K9: Forrás 2021 évre | L9: Megvalósítás időtartama | N9: Tervezett időtáv | O9: A beruházás ütemezése a tervezési időszak évei szerint
E10: Jelenlegi műszaki állapot | F10: Feladat szükségessége | G10: Megvalósítást követő várható műszaki állapot | J10: (eFt) | L10: Kezdés | M10: Befejezés | N10: (rövid / közép / hosszú) | O10: 1 | P10: 2 | Q10: 3 | R10: 4 | S10: 5 | T10: 6 | U10: 7 | V10: 8 | W10: 9 | X10: 10 | Y10: 11 | Z10: 12 | AA10: 13 | AB10: 14 | AC10: 15
B11: szakág | C11: Helyszín | D11: beruházás megnevezése
B13: MÉLYFÚRÁSÚ KÚT, HAGYOMÁNYOS ÁTMÉRŐVEL
B14: Épület, építmény
B16: Gép, berendezés
B18: Irányítástechnika, energiaellátás
B20: Összesen: | J20: =SUM(J12:J18) -> 0
A21: III. Vízműtelep és vízkezelő létesítmények
C22: Helyszín | D22: beruházás megnevezése
B23: VÍZMŰTELEP
B24: Épület, építmény
B26: Gép, berendezés
B28: Irányítástechnika, energiaellátás
B30: VÍZKEZELŐ LÉTESÍTMÉNYEK
B31: Épület, építmény
B33: Gép, berendezés
B35: Irányítástechnika, energiaellátás
B37: Összesen | J37: =SUM(J23:J36) -> 0
A38: IV. Vízelosztás
C39: Helyszín | D39: beruházás megnevezése
B40: IVÓVÍZHÁLÓZAT
B41: Épület, építmény
B43: Gép, berendezés
B45: Irányítástechnika, energiaellátás
B47: VÍZTÁROLÓK
B48: Épület, építmény
B50: Gép, berendezés
B52: Irányítástechnika, energiaellátás
B54: NYOMÁSFOKOZÓK
B55: Épület, építmény
B57: Gép, berendezés
...

Sheet Nagypáli
A1: Gördülő fejlesztési terv a 2021 - 2035 időszakra
A2: BERUHÁZÁSOK ÖSSZEFOGLALÓ TÁBLÁZATA
A3: A tervet benyújtó szervezet megnevezése: | K3: NAGYPÁLI | R3: ellátásért felelős / ellátásért felelősök képviselője / víziközmű-szolgáltató *
A4: Víziközmű-szolgáltató megnevezése: | K4: ÉSZAK ZALAI VÍZ- ÉS CSATORNAMŰ ZÁRTKÖRŰEN MŰKÖDŐ RÉSZVÉNYTÁRSASÁG
A5: Víziközmű-szolgáltatási ágazat megnevezése: | K5: IVÓVÍZ ÁGAZAT
A6: Véleményeltérést megfogalmazó érintett fél megnevezése:
A7: Víziközmű-rendszer kódja: ** | K7: 11-32054-1-025-01-14 | R7: Zalaegerszeg-IV
A8: I. Felszín alatti vízkivétel
A9: Fontossági sorrend | B9: Felujítás és pótlás megnevezése | E9: Műszaki állapot felmérés, szükségességi indoklás | H9: Vízjogi létesítési/elvi engedély száma | I9: Az érintett ellátásért felelős(ök) megnevezése | J9: Tervezett nettó költség | K9: Forrás 2021 évre | L9: Megvalósítás időtartama | N9: Tervezett időtáv | O9: A beruházás ütemezése a tervezési időszak évei szerint
E10: Jelenlegi műszaki állapot | F10: Feladat szükségessége | G10: Megvalósítást követő várható műszaki állapot | J10: (eFt) | L10: Kezdés | M10: Befejezés | N10: (rövid / közép / hosszú) | O10: 1 | P10: 2 | Q10: 3 | R10: 4 | S10: 5 | T10: 6 | U10: 7 | V10: 8 | W10: 9 | X10: 10 | Y10: 11 | Z10: 12 | AA10: 13 | AB10: 14 | AC10: 15
B11: szakág | C11: Helyszín | D11: beruházás megnevezése
B13: MÉLYFÚRÁSÚ KÚT, HAGYOMÁNYOS ÁTMÉRŐVEL
B14: Épület, építmény
B16: Gép, berendezés
B18: Irányítástechnika, energiaellátás
B20: Összesen: | J20: =SUM(J12:J19) -> 0
A21: III. Vízműtelep és vízkezelő létesítmények
C22: Helyszín | D22: beruházás megnevezése
B23: VÍZMŰTELEP
B24: Épület, építmény
B26: Gép, berendezés
B28: Irányítástechnika, energiaellátás
B30: VÍZKEZELŐ LÉTESÍTMÉNYEK
B31: Épület, építmény
B33: Gép, berendezés
B35: Irányítástechnika, energiaellátás
B37: Összesen | J37: =SUM(J23:J36) -> 0
A38: IV. Vízelosztás
C39: Helyszín | D39: beruházás megnevezése
B40: IVÓVÍZHÁLÓZAT
B41: Épület, építmény
B43: Gép, berendezés
B45: Irányítástechnika, energiaellátás
B47: VÍZTÁROLÓK
B48: Épület, építmény
B50: Gép, berendezés
B52: Irányítástechnika, energiaellátás
B54: NYOMÁSFOKOZÓK
B55: Épület, építmény
B57: Gép, berendezés
...

Sheet Németfalu
A1: Gördülő fejlesztési terv a 2021 - 2035 időszakra
A2: BERUHÁZÁSOK ÖSSZEFOGLALÓ TÁBLÁZATA
A3: A tervet benyújtó szervezet megnevezése: | K3: NÉMETFALU | R3: ellátásért felelős / ellátásért felelősök képviselője / víziközmű-szolgáltató *
A4: Víziközmű-szolgáltató megnevezése: | K4: ÉSZAK ZALAI VÍZ- ÉS CSATORNAMŰ ZÁRTKÖRŰEN MŰKÖDŐ RÉSZVÉNYTÁRSASÁG
A5: Víziközmű-szolgáltatási ágazat megnevezése: | K5: IVÓVÍZ ÁGAZAT
A6: Véleményeltérést megfogalmazó érintett fél megnevezése:
A7: Víziközmű-rendszer kódja: ** | K7: 11-32054-1-025-01-14 | R7: Zalaegerszeg-IV
A8: I. Felszín alatti vízkivétel
A9: Fontossági sorrend | B9: Felujítás és pótlás megnevezése | E9: Műszaki állapot felmérés, szükségességi indoklás | H9: Vízjogi létesítési/elvi engedély száma | I9: Az érintett ellátásért felelős(ök) megnevezése | J9: Tervezett nettó költség | K9: Forrás 2021 évre | L9: Megvalósítás időtartama | N9: Tervezett időtáv | O9: A beruházás ütemezése a tervezési időszak évei szerint
E10: Jelenlegi műszaki állapot | F10: Feladat szükségessége | G10: Megvalósítást követő várható műszaki állapot | J10: (eFt) | L10: Kezdés | M10: Befejezés | N10: (rövid / közép / hosszú) | O10: 1 | P10: 2 | Q10: 3 | R10: 4 | S10: 5 | T10: 6 | U10: 7 | V10: 8 | W10: 9 | X10: 10 | Y10: 11 | Z10: 12 | AA10: 13 | AB10: 14 | AC10: 15
B11: szakág | C11: Helyszín | D11: beruházás megnevezése
B13: MÉLYFÚRÁSÚ KÚT, HAGYOMÁNYOS ÁTMÉRŐVEL
B14: Épület, építmény
B16: Gép, berendezés
B18: Irányítástechnika, energiaellátás
B20: Összesen: | J20: =SUM(J12:J19) -> 0
A21: III. Vízműtelep és vízkezelő létesítmények
C22: Helyszín | D22: beruházás megnevezése
B23: VÍZMŰTELEP
B24: Épület, építmény
B26: Gép, berendezés
B28: Irányítástechnika, energiaellátás
B30: VÍZKEZELŐ LÉTESÍTMÉNYEK
B31: Épület, építmény
B33: Gép, berendezés
B35: Irányítástechnika, energiaellátás
B37: Összesen | J37: =SUM(J23:J36) -> 0
A38: IV. Vízelosztás
C39: Helyszín | D39: beruházás megnevezése
B40: IVÓVÍZHÁLÓZAT
B41: Épület, építmény
B43: Gép, berendezés
B45: Irányítástechnika, energiaellátás
B47: VÍZTÁROLÓK
B48: Épület, építmény
B50: Gép, berendezés
B52: Irányítástechnika, energiaellátás
B54: NYOMÁSFOKOZÓK
B55: Épület, építmény
B57: Gép, berendezés
...

Sheet Pálfiszeg
A1: Gördülő fejlesztési terv a 2021 - 2035 időszakra
A2: BERUHÁZÁSOK ÖSSZEFOGLALÓ TÁBLÁZATA
A3: A tervet benyújtó szervezet megnevezése: | K3: PÁLFISZEG | R3: ellátásért felelős / ellátásért felelősök képviselője / víziközmű-szolgáltató *
A4: Víziközmű-szolgáltató megnevezése: | K4: ÉSZAK ZALAI VÍZ- ÉS CSATORNAMŰ ZÁRTKÖRŰEN MŰKÖDŐ RÉSZVÉNYTÁRSASÁG
A5: Víziközmű-szolgáltatási ágazat megnevezése: | K5: IVÓVÍZ ÁGAZAT
A6: Véleményeltérést megfogalmazó érintett fél megnevezése:
A7: Víziközmű-rendszer kódja: ** | K7: 11-32054-1-025-01-14 | R7: Zalaegerszeg-IV
A8: I. Felszín alatti vízkivétel
A9: Fontossági sorrend | B9: Felujítás és pótlás megnevezése | E9: Műszaki állapot felmérés, szükségességi indoklás | H9: Vízjogi létesítési/elvi engedély száma | I9: Az érintett ellátásért felelős(ök) megnevezése | J9: Tervezett nettó költség | K9: Forrás 2021 évre | L9: Megvalósítás időtartama | N9: Tervezett időtáv | O9: A beruházás ütemezése a tervezési időszak évei szerint
E10: Jelenlegi műszaki állapot | F10: Feladat szükségessége | G10: Megvalósítást követő várható műszaki állapot | J10: (eFt) | L10: Kezdés | M10: Befejezés | N10: (rövid / közép / hosszú) | O10: 1 | P10: 2 | Q10: 3 | R10: 4 | S10: 5 | T10: 6 | U10: 7 | V10: 8 | W10: 9 | X10: 10 | Y10: 11 | Z10: 12 | AA10: 13 | AB10: 14 | AC10: 15
B11: szakág | C11: Helyszín | D11: beruházás megnevezése
B13: MÉLYFÚRÁSÚ KÚT, HAGYOMÁNYOS ÁTMÉRŐVEL
B14: Épület, építmény
B16: Gép, berendezés
B18: Irányítástechnika, energiaellátás
B20: Összesen: | J20: =SUM(J12:J19) -> 0
A21: III. Vízműtelep és vízkezelő létesítmények
C22: Helyszín | D22: beruházás megnevezése
B23: VÍZMŰTELEP
B24: Épület, építmény
B26: Gép, berendezés
B28: Irányítástechnika, energiaellátás
B30: VÍZKEZELŐ LÉTESÍTMÉNYEK
B31: Épület, építmény
B33: Gép, berendezés
B35: Irányítástechnika, energiaellátás
B37: Összesen | J37: =SUM(J23:J36) -> 0
A38: IV. Vízelosztás
C39: Helyszín | D39: beruházás megnevezése
B40: IVÓVÍZHÁLÓZAT
B41: Épület, építmény
B43: Gép, berendezés
B45: Irányítástechnika, energiaellátás
B47: VÍZTÁROLÓK
B48: Épület, építmény
B50: Gép, berendezés
B52: Irányítástechnika, energiaellátás
B54: NYOMÁSFOKOZÓK
B55: Épület, építmény
B57: Gép, berendezés
...

Sheet Sárhida
A1: Gördülő fejlesztési terv a 2021 - 2035 időszakra
A2: BERUHÁZÁSOK ÖSSZEFOGLALÓ TÁBLÁZATA
A3: A tervet benyújtó szervezet megnevezése: | K3: SÁRHIDA | R3: ellátásért felelős / ellátásért felelősök képviselője / víziközmű-szolgáltató *
A4: Víziközmű-szolgáltató megnevezése: | K4: ÉSZAK ZALAI VÍZ- ÉS CSATORNAMŰ ZÁRTKÖRŰEN MŰKÖDŐ RÉSZVÉNYTÁRSASÁG
A5: Víziközmű-szolgáltatási ágazat megnevezése: | K5: IVÓVÍZ ÁGAZAT
A6: Véleményeltérést megfogalmazó érintett fél megnevezése:
A7: Víziközmű-rendszer kódja: ** | K7: 11-32054-1-025-01-14 | R7: Zalaegerszeg-IV
A8: I. Felszín alatti vízkivétel
A9: Fontossági sorrend | B9: Felujítás és pótlás megnevezése | E9: Műszaki állapot felmérés, szükségességi indoklás | H9: Vízjogi létesítési/elvi engedély száma | I9: Az érintett ellátásért felelős(ök) megnevezése | J9: Tervezett nettó költség | K9: Forrás 2021 évre | L9: Megvalósítás időtartama | N9: Tervezett időtáv | O9: A beruházás ütemezése a tervezési időszak évei szerint
E10: Jelenlegi műszaki állapot | F10: Feladat szükségessége | G10: Megvalósítást követő várható műszaki állapot | J10: (eFt) | L10: Kezdés | M10: Befejezés | N10: (rövid / közép / hosszú) | O10: 1 | P10: 2 | Q10: 3 | R10: 4 | S10: 5 | T10: 6 | U10: 7 | V10: 8 | W10: 9 | X10: 10 | Y10: 11 | Z10: 12 | AA10: 13 | AB10: 14 | AC10: 15
B11: szakág | C11: Helyszín | D11: beruházás megnevezése
B13: MÉLYFÚRÁSÚ KÚT, HAGYOMÁNYOS ÁTMÉRŐVEL
B14: Épület, építmény
B16: Gép, berendezés
B18: Irányítástechnika, energiaellátás
B20: Összesen: | J20: =SUM(J12:J18) -> 0
A21: III. Vízműtelep és vízkezelő létesítmények
C22: Helyszín | D22: beruházás megnevezése
B23: VÍZMŰTELEP
B24: Épület, építmény
B26: Gép, berendezés
B28: Irányítástechnika, energiaellátás
B30: VÍZKEZELŐ LÉTESÍTMÉNYEK
B31: Épület, építmény
B33: Gép, berendezés
B35: Irányítástechnika, energiaellátás
B37: Összesen | J37: =SUM(J23:J36) -> 0
A38: IV. Vízelosztás
C39: Helyszín | D39: beruházás megnevezése
B40: IVÓVÍZHÁLÓZAT
B41: Épület, építmény
B43: Gép, berendezés
B45: Irányítástechnika, energiaellátás
B47: VÍZTÁROLÓK
B48: Épület, építmény
B50: Gép, berendezés
B52: Irányítástechnika, energiaellátás
B54: NYOMÁSFOKOZÓK
B55: Épület, építmény
B57: Gép, berendezés
...

Sheet Teskánd
A1: Gördülő fejlesztési terv a 2021 - 2035 időszakra
A2: BERUHÁZÁSOK ÖSSZEFOGLALÓ TÁBLÁZATA
A3: A tervet benyújtó szervezet megnevezése: | K3: TESKÁND | R3: ellátásért felelős / ellátásért felelősök képviselője / víziközmű-szolgáltató *
A4: Víziközmű-szolgáltató megnevezése: | K4: ÉSZAK ZALAI VÍZ- ÉS CSATORNAMŰ ZÁRTKÖRŰEN MŰKÖDŐ RÉSZVÉNYTÁRSASÁG
A5: Víziközmű-szolgáltatási ágazat megnevezése: | K5: IVÓVÍZ ÁGAZAT
A6: Véleményeltérést megfogalmazó érintett fél megnevezése:
A7: Víziközmű-rendszer kódja: ** | K7: 11-32054-1-025-01-14 | R7: Zalaegerszeg-IV
A8: I. Felszín alatti vízkivétel
A9: Fontossági sorrend | B9: Felujítás és pótlás megnevezése | E9: Műszaki állapot felmérés, szükségességi indoklás | H9: Vízjogi létesítési/elvi engedély száma | I9: Az érintett ellátásért felelős(ök) megnevezése | J9: Tervezett nettó költség | K9: Forrás 2021 évre | L9: Megvalósítás időtartama | N9: Tervezett időtáv | O9: A beruházás ütemezése a tervezési időszak évei szerint
E10: Jelenlegi műszaki állapot | F10: Feladat szükségessége | G10: Megvalósítást követő várható műszaki állapot | J10: (eFt) | L10: Kezdés | M10: Befejezés | N10: (rövid / közép / hosszú) | O10: 1 | P10: 2 | Q10: 3 | R10: 4 | S10: 5 | T10: 6 | U10: 7 | V10: 8 | W10: 9 | X10: 10 | Y10: 11 | Z10: 12 | AA10: 13 | AB10: 14 | AC10: 15
B11: szakág | C11: Helyszín | D11: beruházás megnevezése
B13: MÉLYFÚRÁSÚ KÚT, HAGYOMÁNYOS ÁTMÉRŐVEL
B14: Épület, építmény
B16: Gép, berendezés
B18: Irányítástechnika, energiaellátás
B20: Összesen: | J20: =SUM(J12:J18) -> 0
A21: III. Vízműtelep és vízkezelő létesítmények
C22: Helyszín | D22: beruházás megnevezése
B23: VÍZMŰTELEP
B24: Épület, építmény
B26: Gép, berendezés
B28: Irányítástechnika, energiaellátás
B30: VÍZKEZELŐ LÉTESÍTMÉNYEK
B31: Épület, építmény
B33: Gép, berendezés
B35: Irányítástechnika, energiaellátás
B37: Összesen | J37: =SUM(J23:J36) -> 0
A38: IV. Vízelosztás
C39: Helyszín | D39: beruházás megnevezése
B40: IVÓVÍZHÁLÓZAT
B41: Épület, építmény
B43: Gép, berendezés
B45: Irányítástechnika, energiaellátás
B47: VÍZTÁROLÓK
B48: Épület, építmény
B50: Gép, berendezés
B52: Irányítástechnika, energiaellátás
B54: NYOMÁSFOKOZÓK
B55: Épület, építmény
B57: Gép, berendezés
...

Sheet Zalaboldogfa
A1: Gördülő fejlesztési terv a 2021 - 2035 időszakra
A2: BERUHÁZÁSOK ÖSSZEFOGLALÓ TÁBLÁZATA
A3: A tervet benyújtó szervezet megnevezése: | K3: ZALABOLDOGFA | R3: ellátásért felelős / ellátásért felelősök képviselője / víziközmű-szolgáltató *
A4: Víziközmű-szolgáltató megnevezése: | K4: ÉSZAK ZALAI VÍZ- ÉS CSATORNAMŰ ZÁRTKÖRŰEN MŰKÖDŐ RÉSZVÉNYTÁRSASÁG
A5: Víziközmű-szolgáltatási ágazat megnevezése: | K5: IVÓVÍZ ÁGAZAT
A6: Véleményeltérést megfogalmazó érintett fél megnevezése:
A7: Víziközmű-rendszer kódja: ** | K7: 11-32054-1-025-01-14 | R7: Zalaegerszeg-IV
A8: I. Felszín alatti vízkivétel
A9: Fontossági sorrend | B9: Felujítás és pótlás megnevezése | E9: Műszaki állapot felmérés, szükségességi indoklás | H9: Vízjogi létesítési/elvi engedély száma | I9: Az érintett ellátásért felelős(ök) megnevezése | J9: Tervezett nettó költség | K9: Forrás 2021 évre | L9: Megvalósítás időtartama | N9: Tervezett időtáv | O9: A beruházás ütemezése a tervezési időszak évei szerint
E10: Jelenlegi műszaki állapot | F10: Feladat szükségessége | G10: Megvalósítást követő várható műszaki állapot | J10: (eFt) | L10: Kezdés | M10: Befejezés | N10: (rövid / közép / hosszú) | O10: 1 | P10: 2 | Q10: 3 | R10: 4 | S10: 5 | T10: 6 | U10: 7 | V10: 8 | W10: 9 | X10: 10 | Y10: 11 | Z10: 12 | AA10: 13 | AB10: 14 | AC10: 15
B11: szakág | C11: Helyszín | D11: beruházás megnevezése
B13: MÉLYFÚRÁSÚ KÚT, HAGYOMÁNYOS ÁTMÉRŐVEL
B14: Épület, építmény
B16: Gép, berendezés
B18: Irányítástechnika, energiaellátás
B20: Összesen: | J20: =SUM(J12:J19) -> 0
A21: III. Vízműtelep és vízkezelő létesítmények
C22: Helyszín | D22: beruházás megnevezése
B23: VÍZMŰTELEP
B24: Épület, építmény
B26: Gép, berendezés
B28: Irányítástechnika, energiaellátás
B30: VÍZKEZELŐ LÉTESÍTMÉNYEK
B31: Épület, építmény
B33: Gép, berendezés
B35: Irányítástechnika, energiaellátás
B37: Összesen | J37: =SUM(J23:J36) -> 0
A38: IV. Vízelosztás
C39: Helyszín | D39: beruházás megnevezése
B40: IVÓVÍZHÁLÓZAT
B41: Épület, építmény
B43: Gép, berendezés
B45: Irányítástechnika, energiaellátás
B47: VÍZTÁROLÓK
B48: Épület, építmény
B50: Gép, berendezés
B52: Irányítástechnika, energiaellátás
B54: NYOMÁSFOKOZÓK
B55: Épület, építmény
B57: Gép, berendezés
...

Sheet Zalaegerszeg
A1: Gördülő fejlesztési terv a 2021 - 2035 időszakra
A2: BERUHÁZÁSOK ÖSSZEFOGLALÓ TÁBLÁZATA
A3: A tervet benyújtó szervezet megnevezése: | K3: ZALAEGERSZEG | R3: ellátásért felelős / ellátásért felelősök képviselője / víziközmű-szolgáltató *
A4: Víziközmű-szolgáltató megnevezése: | K4: ÉSZAK ZALAI VÍZ- ÉS CSATORNAMŰ ZÁRTKÖRŰEN MŰKÖDŐ RÉSZVÉNYTÁRSASÁG
A5: Víziközmű-szolgáltatási ágazat megnevezése: | K5: IVÓVÍZ ÁGAZAT
A6: Véleményeltérést megfogalmazó érintett fél megnevezése:
A7: Víziközmű-rendszer kódja: ** | K7: 11-32054-1-025-01-14 | R7: ZALAEGERSZEG-IV
A8: I. Felszín alatti vízkivétel
A9: Fontossági sorrend | B9: Felujítás és pótlás megnevezése | E9: Műszaki állapot felmérés, szükségességi indoklás | H9: Vízjogi létesítési/elvi engedély száma | I9: Az érintett ellátásért felelős(ök) megnevezése | J9: Tervezett nettó költség | K9: Forrás 2021 évre | L9: Megvalósítás időtartama | N9: Tervezett időtáv | O9: A beruházás ütemezése a tervezési időszak évei szerint
E10: Jelenlegi műszaki állapot | F10: Feladat szükségessége | G10: Megvalósítást követő várható műszaki állapot | J10: (eFt) | L10: Kezdés | M10: Befejezés | N10: (rövid / közép / hosszú) | O10: 1 | P10: 2 | Q10: 3 | R10: 4 | S10: 5 | T10: 6 | U10: 7 | V10: 8 | W10: 9 | X10: 10 | Y10: 11 | Z10: 12 | AA10: 13 | AB10: 14 | AC10: 15
B11: szakág | C11: Helyszín | D11: beruházás megnevezése
B13: MÉLYFÚRÁSÚ KÚT, HAGYOMÁNYOS ÁTMÉRŐVEL
B14: Épület, építmény
B16: Gép, berendezés
B18: Irányítástechnika, energiaellátás
B20: Összesen: | J20: =SUM(J12:J18) -> 0
A21: III. Vízműtelep és vízkezelő létesítmények
C22: Helyszín | D22: beruházás megnevezése
B23: VÍZMŰTELEP
B24: Épület, építmény
B26: Gép, berendezés
B28: Irányítástechnika, energiaellátás
B30: VÍZKEZELŐ LÉTESÍTMÉNYEK
B31: Épület, építmény
B33: Gép, berendezés
A34: 1 | C34: Zalaegerszeg Keleti vízbázisról ellátott települések | D34: ivóvízminőség javítása és vízellátásának fejlesztése | I34: Zalaegerszeg | J34: 533824 | L34: 44197 | M34: 44561 | N34: rövid | O34: 533824
A35: 7 | C35: É-i vízbázis és vízműtelep kiépítése | D35: ivóvízminőség javítása és vízellátásának fejlesztése | I35: Zalaegerszeg | J35: =SUM(O35:AC35) -> 1500000 | L35: 47484 | M35: 47848 | N35: hosszú | X35: 1500000
B36: Irányítástechnika, energiaellátás
B38: Összesen | J38: =SUM(J23:J37) -> 2033824
A39: IV. Vízelosztás
C40: Helyszín | D40: beruházás megnevezése
B41: IVÓVÍZHÁLÓZAT
B42: Épület, építmény
A43: 2 | C43: Zalaegerszeg Zala u. lakópark mellett | D43: gerincvezeték összekötés | I43: Zalaegerszeg | J43: =SUM(O43:AC43) -> 3616 | L43: 44197 | M43: 44561 | N43: rövid | O43: 3616
A44: 3 | C44: Zalaegerszeg | D44: Megvalósíthatósági tanulmány készítése (és vízjogi létesítési engedély megszerzése) Páterdomb biztonságosabb vízellátására | I44: Zalaegerszeg | J44: 4200 | L44: 44197 | M44: 44561 | N44: rövid | O44: 2520
A45: 4 | C45: Zalaegerszeg | D45: Zalaegerszeg, Magasbükk vízellátás II. ütem felülvizsgálata, engedélyezési és kiviteli terv újra egyeztetése, elkészítése, vízjogi létesítési engedély beszerzése | I45: Zalaegerszeg | J45: =SUM(O45:AC45) -> 70 | L45: 44197 | M45: 44561 | N45: rövid | O45: 70
A46: 5 | C46: Zalaegerszeg | D46: Zalaegerszeg, Jedlik Ányos utca 0811/68 és 74 hrsz. Ingatlanok vízellátásának vízjogi engedélyes és kiviteli tervdokumentációjának elkészítése | I46: Zalaegerszeg | J46: =SUM(O46:AC46) -> 200 | L46: 44197 | M46: 44561 | N46: rövid | O46: 200
A47: 6 | C47: Nyugat- és Dél-Dunántúli ivóvízminőség-javító program | D47: ivóvízminőség javítása és vízellátásának fejlesztése | I47: Zalaegerszeg | J47: =SUM(O47:AC47) -> 2217 | L47: 44197 | M47: 44561 | N47: közép | P47: 2217
B48: Irányítástechnika, energiaellátás
B50: VÍZTÁROLÓK
...

Sheet Zalaszentgyörgy
A1: Gördülő fejlesztési terv a 2021 - 2035 időszakra
A2: BERUHÁZÁSOK ÖSSZEFOGLALÓ TÁBLÁZATA
A3: A tervet benyújtó szervezet megnevezése: | K3: ZALASZENTGYÖRGY | R3: ellátásért felelős / ellátásért felelősök képviselője / víziközmű-szolgáltató *
A4: Víziközmű-szolgáltató megnevezése: | K4: ÉSZAK ZALAI VÍZ- ÉS CSATORNAMŰ ZÁRTKÖRŰEN MŰKÖDŐ RÉSZVÉNYTÁRSASÁG
A5: Víziközmű-szolgáltatási ágazat megnevezése: | K5: IVÓVÍZ ÁGAZAT
A6: Véleményeltérést megfogalmazó érintett fél megnevezése:
A7: Víziközmű-rendszer kódja: ** | K7: 11-32054-1-025-01-14 | R7: Zalaegerszeg-IV
A8: I. Felszín alatti vízkivétel
A9: Fontossági sorrend | B9: Felujítás és pótlás megnevezése | E9: Műszaki állapot felmérés, szükségességi indoklás | H9: Vízjogi létesítési/elvi engedély száma | I9: Az érintett ellátásért felelős(ök) megnevezése | J9: Tervezett nettó költség | K9: Forrás 2021 évre | L9: Megvalósítás időtartama | N9: Tervezett időtáv | O9: A beruházás ütemezése a tervezési időszak évei szerint
E10: Jelenlegi műszaki állapot | F10: Feladat szükségessége | G10: Megvalósítást követő várható műszaki állapot | J10: (eFt) | L10: Kezdés | M10: Befejezés | N10: (rövid / közép / hosszú) | O10: 1 | P10: 2 | Q10: 3 | R10: 4 | S10: 5 | T10: 6 | U10: 7 | V10: 8 | W10: 9 | X10: 10 | Y10: 11 | Z10: 12 | AA10: 13 | AB10: 14 | AC10: 15
B11: szakág | C11: Helyszín | D11: beruházás megnevezése
B13: MÉLYFÚRÁSÚ KÚT, HAGYOMÁNYOS ÁTMÉRŐVEL
B14: Épület, építmény
B16: Gép, berendezés
B18: Irányítástechnika, energiaellátás
B20: Összesen: | J20: =SUM(J12:J19) -> 0
A21: III. Vízműtelep és vízkezelő létesítmények
C22: Helyszín | D22: beruházás megnevezése
B23: VÍZMŰTELEP
B24: Épület, építmény
B26: Gép, berendezés
B28: Irányítástechnika, energiaellátás
B30: VÍZKEZELŐ LÉTESÍTMÉNYEK
B31: Épület, építmény
B33: Gép, berendezés
B35: Irányítástechnika, energiaellátás
B37: Összesen | J37: =SUM(J23:J36) -> 0
A38: IV. Vízelosztás
C39: Helyszín | D39: beruházás megnevezése
B40: IVÓVÍZHÁLÓZAT
B41: Épület, építmény
B43: Gép, berendezés
B45: Irányítástechnika, energiaellátás
B47: VÍZTÁROLÓK
B48: Épület, építmény
B50: Gép, berendezés
B52: Irányítástechnika, energiaellátás
B54: NYOMÁSFOKOZÓK
B55: Épület, építmény
B57: Gép, berendezés
...

Sheet VKR_összesítő
A1: Gördülő fejlesztési terv a 2021 - 2035 időszakra
A2: BERUHÁZÁSOK ÖSSZEFOGLALÓ TÁBLÁZATA
A3: A tervet benyújtó szervezet megnevezése: | K3: BABOSDÖBRÉTE, BOCFÖLDE, BÖDE, CSATÁR, HOTTÓ, KISKUTAS, NAGYKUTAS, SÁRHIDA, TESKÁND, ZALAEGERSZEG | R3: ellátásért felelős / ellátásért felelősök képviselője / víziközmű-szolgáltató *
A4: Víziközmű-szolgáltató megnevezése: | K4: ÉSZAK ZALAI VÍZ- ÉS CSATORNAMŰ ZÁRTKÖRŰEN MŰKÖDŐ RÉSZVÉNYTÁRSASÁG
A5: Víziközmű-szolgáltatási ágazat megnevezése: | K5: IVÓVÍZ ÁGAZAT
A6: Véleményeltérést megfogalmazó érintett fél megnevezése:
A7: Víziközmű-rendszer kódja: ** | K7: 11-32054-1-025-01-14 | R7: ZALAEGERSZEG-IV
A8: I. Felszín alatti vízkivétel
A9: Fontossági sorrend | B9: Felujítás és pótlás megnevezése | E9: Műszaki állapot felmérés, szükségességi indoklás | H9: Vízjogi létesítési/elvi engedély száma | I9: Az érintett ellátásért felelős(ök) megnevezése | J9: Tervezett nettó költség | K9: Forrás 2021 évre | L9: Megvalósítás időtartama | N9: Tervezett időtáv | O9: A beruházás ütemezése a tervezési időszak évei szerint
E10: Jelenlegi műszaki állapot | F10: Feladat szükségessége | G10: Megvalósítást követő várható műszaki állapot | J10: (eFt) | L10: Kezdés | M10: Befejezés | N10: (rövid / közép / hosszú) | O10: 1 | P10: 2 | Q10: 3 | R10: 4 | S10: 5 | T10: 6 | U10: 7 | V10: 8 | W10: 9 | X10: 10 | Y10: 11 | Z10: 12 | AA10: 13 | AB10: 14 | AC10: 15
B11: szakág | C11: Helyszín | D11: beruházás megnevezése
B13: MÉLYFÚRÁSÚ KÚT, HAGYOMÁNYOS ÁTMÉRŐVEL
B14: Épület, építmény
B16: Gép, berendezés
B18: Irányítástechnika, energiaellátás
B20: Összesen: | J20: =SUM(J13:J18) -> 0
A21: III. Vízműtelep és vízkezelő létesítmények
C22: Helyszín | D22: beruházás megnevezése
B23: VÍZMŰTELEP
B24: Épület, építmény
B26: Gép, berendezés
B28: Irányítástechnika, energiaellátás
B30: VÍZKEZELŐ LÉTESÍTMÉNYEK
B31: Épület, építmény
B33: Gép, berendezés
A34: 1 | C34: =Zalaegerszeg!C34 -> Zalaegerszeg Keleti vízbázisról ellátott települések | D34: =Zalaegerszeg!D34 -> ivóvízminőség javítása és vízellátásának fejlesztése | I34: =Zalaegerszeg!I34 -> Zalaegerszeg | J34: =Zalaegerszeg!J34 -> 533824 | L34: =Zalaegerszeg!L34 -> 44197 | M34: =Zalaegerszeg!M34 -> 44561 | N34: =Zalaegerszeg!N34 -> rövid | O34: =Zalaegerszeg!O34 -> 533824
A35: 3 | C35: =Zalaegerszeg!C35 -> É-i vízbázis és vízműtelep kiépítése | D35: =Zalaegerszeg!D35 -> ivóvízminőség javítása és vízellátásának fejlesztése | I35: =Zalaegerszeg!I35 -> Zalaegerszeg | J35: =Zalaegerszeg!J35 -> 1500000 | L35: =Zalaegerszeg!L35 -> 47484 | M35: =Zalaegerszeg!M35 -> 47848 | N35: =Zalaegerszeg!N35 -> hosszú | X35: =Zalaegerszeg!X35 -> 1500000
B36: Irányítástechnika, energiaellátás
B38: Összesen | J38: =SUM(J23:J37) -> 2033824
A39: IV. Vízelosztás
C40: Helyszín | D40: beruházás megnevezése
B41: IVÓVÍZHÁLÓZAT
B42: Épület, építmény
