Workbook

Sheet Alibánfa
A2: Gördülő fejlesztési terv a 2020 - 2034 időszakra
A3: BERUHÁZÁSOK ÖSSZEFOGLALÓ TÁBLÁZATA
A4: A tervet benyújtó szervezet megnevezése: | K4: ALIBÁNFA | R4: ellátásért felelős / ellátásért felelősök képviselője / víziközmű-szolgáltató *
A5: Víziközmű-szolgáltató megnevezése: | K5: ÉSZAK ZALAI VÍZ- ÉS CSATORNAMŰ ZÁRTKÖRŰEN MŰKÖDŐ RÉSZVÉNYTÁRSASÁG
A6: Víziközmű-szolgáltatási ágazat megnevezése: | K6: SZENNYVÍZ ÁGAZAT
A7: Véleményeltérést megfogalmazó érintett fél megnevezése:
A8: Víziközmű-rendszer kódja: ** | K8: 21-32054-1-048-01-10 | R8: Zalaegerszeg-SZV
A9: V. Szennyvízelvezetés
A10: Fontossági sorrend | B10: Beruházás megnevezése | E10: Műszaki állapot felmérés, szükségességi indoklás | H10: Vízjogi létesítési/elvi engedély száma | I10: Az érintett ellátásért felelős(ök) megnevezése | J10: Tervezett nettó költség | K10: Forrás 2020 évre | L10: Megvalósítás időtartama | N10: Tervezett időtáv | O10: A beruházás ütemezése a tervezési időszak évei szerint
E11: Jelenlegi műszaki állapot | F11: Feladat szükségessége | G11: Megvalósítást követő várható műszaki állapot | J11: (eFt) | L11: Kezdés | M11: Befejezés | N11: (rövid / közép / hosszú) | O11: 1 | P11: 2 | Q11: 3 | R11: 4 | S11: 5 | T11: 6 | U11: 7 | V11: 8 | W11: 9 | X11: 10 | Y11: 11 | Z11: 12 | AA11: 13 | AB11: 14 | AC11: 15
B12: szakág | C12: Helyszín | D12: beruházás megnevezése
B14: SZENNYVÍZCSATORNA (GRAVITÁCIÓS)
B15: Épület, építmény
B17: SZENNYVÍZVEZETÉKEK (KÉNYSZERÁRAMOLTATÁSÚ)
B19: SZENNYVÍZÁTEMELŐK
B20: Épület, építmény
B21: Gép, berendezés
B22: Irányítástechnika, energiaellátás
B24: Összesen: | J24: =SUM(J14:J23) -> 0 | K24: 0 | O24: =SUM(O13:O23) -> 0 | P24: =SUM(P13:P23) -> 0 | Q24: =SUM(Q13:Q23) -> 0 | R24: =SUM(R13:R23) -> 0 | S24: =SUM(S13:S23) -> 0 | T24: =SUM(T13:T23) -> 0 | U24: =SUM(U13:U23) -> 0 | V24: =SUM(V13:V23) -> 0 | ... AC24: =SUM(AC13:AC23) -> 0
K25: Beruházásra forrás nem áll rendelkezésre.
B26: Tervezett feladatok nettó költsége a teljes ütem tekintetében (eFt) | C26: Rendelkezésre álló források számszerűsített értéke a teljes ütem tekintetében (eFt) | D26: Rendelkezésre álló források megnevezése
A27: I. ütem | B27: =O24 -> 0 | C27: 0 | D27: Fejlesztési díj (2020)
A28: II. ütem | B28: =SUM(P24:S24) -> 0 | C28: =C27*4 -> 0 | D28: Fejlesztési díj (2021-2024)
A29: III. ütem | B29: =SUM(T24:AC24) -> 0 | C29: =C27*10 -> 0 | D29: Fejlesztési díj (2025-2034)
B32: Jelenleg beruházási igény nem ismert, nincs rendelkezésre álló forrás beruházásra.

Sheet Alsónemesapáti
A2: Gördülő fejlesztési terv a 2020 - 2034 időszakra
A3: BERUHÁZÁSOK ÖSSZEFOGLALÓ TÁBLÁZATA
A4: A tervet benyújtó szervezet megnevezése: | K4: ALSÓNEMESAPÁTI | R4: ellátásért felelős / ellátásért felelősök képviselője / víziközmű-szolgáltató *
A5: Víziközmű-szolgáltató megnevezése: | K5: ÉSZAK ZALAI VÍZ- ÉS CSATORNAMŰ ZÁRTKÖRŰEN MŰKÖDŐ RÉSZVÉNYTÁRSASÁG
A6: Víziközmű-szolgáltatási ágazat megnevezése: | K6: SZENNYVÍZ ÁGAZAT
A7: Véleményeltérést megfogalmazó érintett fél megnevezése:
A8: Víziközmű-rendszer kódja: ** | K8: 21-32054-1-048-01-10 | R8: Zalaegerszeg-SZV
A9: V. Szennyvízelvezetés
A10: Fontossági sorrend | B10: Beruházás megnevezése | E10: Műszaki állapot felmérés, szükségességi indoklás | H10: Vízjogi létesítési/elvi engedély száma | I10: Az érintett ellátásért felelős(ök) megnevezése | J10: Tervezett nettó költség | K10: Forrás 2020 évre | L10: Megvalósítás időtartama | N10: Tervezett időtáv | O10: A beruházás ütemezése a tervezési időszak évei szerint
E11: Jelenlegi műszaki állapot | F11: Feladat szükségessége | G11: Megvalósítást követő várható műszaki állapot | J11: (eFt) | L11: Kezdés | M11: Befejezés | N11: (rövid / közép / hosszú) | O11: 1 | P11: 2 | Q11: 3 | R11: 4 | S11: 5 | T11: 6 | U11: 7 | V11: 8 | W11: 9 | X11: 10 | Y11: 11 | Z11: 12 | AA11: 13 | AB11: 14 | AC11: 15
B12: szakág | C12: Helyszín | D12: beruházás megnevezése
B14: SZENNYVÍZCSATORNA (GRAVITÁCIÓS)
B15: Épület, építmény
B17: SZENNYVÍZVEZETÉKEK (KÉNYSZERÁRAMOLTATÁSÚ)
B19: SZENNYVÍZÁTEMELŐK
B20: Épület, építmény
B21: Gép, berendezés
B22: Irányítástechnika, energiaellátás
B24: Összesen: | J24: =SUM(J14:J23) -> 0 | K24: 0 | O24: =SUM(O13:O23) -> 0 | P24: =SUM(P13:P23) -> 0 | Q24: =SUM(Q13:Q23) -> 0 | R24: =SUM(R13:R23) -> 0 | S24: =SUM(S13:S23) -> 0 | T24: =SUM(T13:T23) -> 0 | U24: =SUM(U13:U23) -> 0 | V24: =SUM(V13:V23) -> 0 | ... AC24: =SUM(AC13:AC23) -> 0
K25: Beruházásra forrás nem áll rendelkezésre.
B26: Tervezett feladatok nettó költsége a teljes ütem tekintetében (eFt) | C26: Rendelkezésre álló források számszerűsített értéke a teljes ütem tekintetében (eFt) | D26: Rendelkezésre álló források megnevezése
A27: I. ütem | B27: =O24 -> 0 | C27: 0 | D27: Fejlesztési díj (2020)
A28: II. ütem | B28: =SUM(P24:S24) -> 0 | C28: =C27*4 -> 0 | D28: Fejlesztési díj (2021-2024)
A29: III. ütem | B29: =SUM(T24:AC24) -> 0 | C29: =C27*10 -> 0 | D29: Fejlesztési díj (2025-2034)
B32: Jelenleg beruházási igény nem ismert, nincs rendelkezésre álló forrás beruházásra.

Sheet Babosdöbréte
A2: Gördülő fejlesztési terv a 2020 - 2034 időszakra
A3: BERUHÁZÁSOK ÖSSZEFOGLALÓ TÁBLÁZATA
A4: A tervet benyújtó szervezet megnevezése: | K4: BABOSDÖBRÉTE | R4: ellátásért felelős / ellátásért felelősök képviselője / víziközmű-szolgáltató *
A5: Víziközmű-szolgáltató megnevezése: | K5: ÉSZAK ZALAI VÍZ- ÉS CSATORNAMŰ ZÁRTKÖRŰEN MŰKÖDŐ RÉSZVÉNYTÁRSASÁG
A6: Víziközmű-szolgáltatási ágazat megnevezése: | K6: SZENNYVÍZ ÁGAZAT
A7: Véleményeltérést megfogalmazó érintett fél megnevezése:
A8: Víziközmű-rendszer kódja: ** | K8: 21-32054-1-048-01-10 | R8: Zalaegerszeg-SZV
A9: V. Szennyvízelvezetés
A10: Fontossági sorrend | B10: Beruházás megnevezése | E10: Műszaki állapot felmérés, szükségességi indoklás | H10: Vízjogi létesítési/elvi engedély száma | I10: Az érintett ellátásért felelős(ök) megnevezése | J10: Tervezett nettó költség | K10: Forrás 2020 évre | L10: Megvalósítás időtartama | N10: Tervezett időtáv | O10: A beruházás ütemezése a tervezési időszak évei szerint
E11: Jelenlegi műszaki állapot | F11: Feladat szükségessége | G11: Megvalósítást követő várható műszaki állapot | J11: (eFt) | L11: Kezdés | M11: Befejezés | N11: (rövid / közép / hosszú) | O11: 1 | P11: 2 | Q11: 3 | R11: 4 | S11: 5 | T11: 6 | U11: 7 | V11: 8 | W11: 9 | X11: 10 | Y11: 11 | Z11: 12 | AA11: 13 | AB11: 14 | AC11: 15
B12: szakág | C12: Helyszín | D12: beruházás megnevezése
B14: SZENNYVÍZCSATORNA (GRAVITÁCIÓS)
B15: Épület, építmény
B17: SZENNYVÍZVEZETÉKEK (KÉNYSZERÁRAMOLTATÁSÚ)
B19: SZENNYVÍZÁTEMELŐK
B20: Épület, építmény
B21: Gép, berendezés
B22: Irányítástechnika, energiaellátás
B24: Összesen: | J24: =SUM(J14:J23) -> 0 | K24: 0 | O24: =SUM(O13:O23) -> 0 | P24: =SUM(P13:P23) -> 0 | Q24: =SUM(Q13:Q23) -> 0 | R24: =SUM(R13:R23) -> 0 | S24: =SUM(S13:S23) -> 0 | T24: =SUM(T13:T23) -> 0 | U24: =SUM(U13:U23) -> 0 | V24: =SUM(V13:V23) -> 0 | ... AC24: =SUM(AC13:AC23) -> 0
K25: Beruházásra forrás nem áll rendelkezésre.
B26: Tervezett feladatok nettó költsége a teljes ütem tekintetében (eFt) | C26: Rendelkezésre álló források számszerűsített értéke a teljes ütem tekintetében (eFt) | D26: Rendelkezésre álló források megnevezése
A27: I. ütem | B27: =O24 -> 0 | C27: 0 | D27: Fejlesztési díj (2020)
A28: II. ütem | B28: =SUM(P24:S24) -> 0 | C28: =C27*4 -> 0 | D28: Fejlesztési díj (2021-2024)
A29: III. ütem | B29: =SUM(T24:AC24) -> 0 | C29: =C27*10 -> 0 | D29: Fejlesztési díj (2025-2034)
B32: Jelenleg beruházási igény nem ismert, nincs rendelkezésre álló forrás beruházásra.

Sheet Bagod
A2: Gördülő fejlesztési terv a 2020 - 2034 időszakra
A3: BERUHÁZÁSOK ÖSSZEFOGLALÓ TÁBLÁZATA
A4: A tervet benyújtó szervezet megnevezése: | K4: BAGOD | R4: ellátásért felelős / ellátásért felelősök képviselője / víziközmű-szolgáltató *
A5: Víziközmű-szolgáltató megnevezése: | K5: ÉSZAK ZALAI VÍZ- ÉS CSATORNAMŰ ZÁRTKÖRŰEN MŰKÖDŐ RÉSZVÉNYTÁRSASÁG
A6: Víziközmű-szolgáltatási ágazat megnevezése: | K6: SZENNYVÍZ ÁGAZAT
A7: Véleményeltérést megfogalmazó érintett fél megnevezése:
A8: Víziközmű-rendszer kódja: ** | K8: 21-32054-1-048-01-10 | R8: Zalaegerszeg-SZV
A9: V. Szennyvízelvezetés
A10: Fontossági sorrend | B10: Beruházás megnevezése | E10: Műszaki állapot felmérés, szükségességi indoklás | H10: Vízjogi létesítési/elvi engedély száma | I10: Az érintett ellátásért felelős(ök) megnevezése | J10: Tervezett nettó költség | K10: Forrás 2020 évre | L10: Megvalósítás időtartama | N10: Tervezett időtáv | O10: A beruházás ütemezése a tervezési időszak évei szerint
E11: Jelenlegi műszaki állapot | F11: Feladat szükségessége | G11: Megvalósítást követő várható műszaki állapot | J11: (eFt) | L11: Kezdés | M11: Befejezés | N11: (rövid / közép / hosszú) | O11: 1 | P11: 2 | Q11: 3 | R11: 4 | S11: 5 | T11: 6 | U11: 7 | V11: 8 | W11: 9 | X11: 10 | Y11: 11 | Z11: 12 | AA11: 13 | AB11: 14 | AC11: 15
B12: szakág | C12: Helyszín | D12: beruházás megnevezése
B14: SZENNYVÍZCSATORNA (GRAVITÁCIÓS)
B15: Épület, építmény
B17: SZENNYVÍZVEZETÉKEK (KÉNYSZERÁRAMOLTATÁSÚ)
B19: SZENNYVÍZÁTEMELŐK
B20: Épület, építmény
B21: Gép, berendezés
B22: Irányítástechnika, energiaellátás
B24: Összesen: | J24: =SUM(J14:J23) -> 0 | K24: 0 | O24: =SUM(O13:O23) -> 0 | P24: =SUM(P13:P23) -> 0 | Q24: =SUM(Q13:Q23) -> 0 | R24: =SUM(R13:R23) -> 0 | S24: =SUM(S13:S23) -> 0 | T24: =SUM(T13:T23) -> 0 | U24: =SUM(U13:U23) -> 0 | V24: =SUM(V13:V23) -> 0 | ... AC24: =SUM(AC13:AC23) -> 0
K25: Beruházásra forrás nem áll rendelkezésre.
B26: Tervezett feladatok nettó költsége a teljes ütem tekintetében (eFt) | C26: Rendelkezésre álló források számszerűsített értéke a teljes ütem tekintetében (eFt) | D26: Rendelkezésre álló források megnevezése
A27: I. ütem | B27: =O24 -> 0 | C27: 0 | D27: Fejlesztési díj (2020)
A28: II. ütem | B28: =SUM(P24:S24) -> 0 | C28: =C27*4 -> 0 | D28: Fejlesztési díj (2021-2024)
A29: III. ütem | B29: =SUM(T24:AC24) -> 0 | C29: =C27*10 -> 0 | D29: Fejlesztési díj (2025-2034)
B32: Jelenleg beruházási igény nem ismert, nincs rendelkezésre álló forrás beruházásra.

Sheet Bak
A2: Gördülő fejlesztési terv a 2020 - 2034 időszakra
A3: BERUHÁZÁSOK ÖSSZEFOGLALÓ TÁBLÁZATA
A4: A tervet benyújtó szervezet megnevezése: | K4: BAK | R4: ellátásért felelős / ellátásért felelősök képviselője / víziközmű-szolgáltató *
A5: Víziközmű-szolgáltató megnevezése: | K5: ÉSZAK ZALAI VÍZ- ÉS CSATORNAMŰ ZÁRTKÖRŰEN MŰKÖDŐ RÉSZVÉNYTÁRSASÁG
A6: Víziközmű-szolgáltatási ágazat megnevezése: | K6: SZENNYVÍZ ÁGAZAT
A7: Véleményeltérést megfogalmazó érintett fél megnevezése:
A8: Víziközmű-rendszer kódja: ** | K8: 21-32054-1-048-01-10 | R8: Zalaegerszeg-SZV
A9: V. Szennyvízelvezetés
A10: Fontossági sorrend | B10: Beruházás megnevezése | E10: Műszaki állapot felmérés, szükségességi indoklás | H10: Vízjogi létesítési/elvi engedély száma | I10: Az érintett ellátásért felelős(ök) megnevezése | J10: Tervezett nettó költség | K10: Forrás 2020 évre | L10: Megvalósítás időtartama | N10: Tervezett időtáv | O10: A beruházás ütemezése a tervezési időszak évei szerint
E11: Jelenlegi műszaki állapot | F11: Feladat szükségessége | G11: Megvalósítást követő várható műszaki állapot | J11: (eFt) | L11: Kezdés | M11: Befejezés | N11: (rövid / közép / hosszú) | O11: 1 | P11: 2 | Q11: 3 | R11: 4 | S11: 5 | T11: 6 | U11: 7 | V11: 8 | W11: 9 | X11: 10 | Y11: 11 | Z11: 12 | AA11: 13 | AB11: 14 | AC11: 15
B12: szakág | C12: Helyszín | D12: beruházás megnevezése
B14: SZENNYVÍZCSATORNA (GRAVITÁCIÓS)
B15: Épület, építmény
B17: SZENNYVÍZVEZETÉKEK (KÉNYSZERÁRAMOLTATÁSÚ)
B19: SZENNYVÍZÁTEMELŐK
B20: Épület, építmény
B21: Gép, berendezés
B22: Irányítástechnika, energiaellátás
B24: Összesen: | J24: =SUM(J14:J23) -> 0 | K24: 0 | O24: =SUM(O13:O23) -> 0 | P24: =SUM(P13:P23) -> 0 | Q24: =SUM(Q13:Q23) -> 0 | R24: =SUM(R13:R23) -> 0 | S24: =SUM(S13:S23) -> 0 | T24: =SUM(T13:T23) -> 0 | U24: =SUM(U13:U23) -> 0 | V24: =SUM(V13:V23) -> 0 | ... AC24: =SUM(AC13:AC23) -> 0
K25: Beruházásra forrás nem áll rendelkezésre.
B26: Tervezett feladatok nettó költsége a teljes ütem tekintetében (eFt) | C26: Rendelkezésre álló források számszerűsített értéke a teljes ütem tekintetében (eFt) | D26: Rendelkezésre álló források megnevezése
A27: I. ütem | B27: =O24 -> 0 | C27: 0 | D27: Fejlesztési díj (2020)
A28: II. ütem | B28: =SUM(P24:S24) -> 0 | C28: =C27*4 -> 0 | D28: Fejlesztési díj (2021-2024)
A29: III. ütem | B29: =SUM(T24:AC24) -> 0 | C29: =C27*10 -> 0 | D29: Fejlesztési díj (2025-2034)
B32: Jelenleg beruházási igény nem ismert, nincs rendelkezésre álló forrás beruházásra.

Sheet Bocfölde
A2: Gördülő fejlesztési terv a 2020 - 2034 időszakra
A3: BERUHÁZÁSOK ÖSSZEFOGLALÓ TÁBLÁZATA
A4: A tervet benyújtó szervezet megnevezése: | K4: BOCFÖLDE | R4: ellátásért felelős / ellátásért felelősök képviselője / víziközmű-szolgáltató *
A5: Víziközmű-szolgáltató megnevezése: | K5: ÉSZAK ZALAI VÍZ- ÉS CSATORNAMŰ ZÁRTKÖRŰEN MŰKÖDŐ RÉSZVÉNYTÁRSASÁG
A6: Víziközmű-szolgáltatási ágazat megnevezése: | K6: SZENNYVÍZ ÁGAZAT
A7: Véleményeltérést megfogalmazó érintett fél megnevezése:
A8: Víziközmű-rendszer kódja: ** | K8: 21-32054-1-048-01-10 | R8: Zalaegerszeg-SZV
A9: V. Szennyvízelvezetés
A10: Fontossági sorrend | B10: Beruházás megnevezése | E10: Műszaki állapot felmérés, szükségességi indoklás | H10: Vízjogi létesítési/elvi engedély száma | I10: Az érintett ellátásért felelős(ök) megnevezése | J10: Tervezett nettó költség | K10: Forrás 2020 évre | L10: Megvalósítás időtartama | N10: Tervezett időtáv | O10: A beruházás ütemezése a tervezési időszak évei szerint
E11: Jelenlegi műszaki állapot | F11: Feladat szükségessége | G11: Megvalósítást követő várható műszaki állapot | J11: (eFt) | L11: Kezdés | M11: Befejezés | N11: (rövid / közép / hosszú) | O11: 1 | P11: 2 | Q11: 3 | R11: 4 | S11: 5 | T11: 6 | U11: 7 | V11: 8 | W11: 9 | X11: 10 | Y11: 11 | Z11: 12 | AA11: 13 | AB11: 14 | AC11: 15
B12: szakág | C12: Helyszín | D12: beruházás megnevezése
B14: SZENNYVÍZCSATORNA (GRAVITÁCIÓS)
B15: Épület, építmény
B17: SZENNYVÍZVEZETÉKEK (KÉNYSZERÁRAMOLTATÁSÚ)
B19: SZENNYVÍZÁTEMELŐK
B20: Épület, építmény
B21: Gép, berendezés
B22: Irányítástechnika, energiaellátás
B24: Összesen: | J24: =SUM(J14:J23) -> 0 | K24: 0 | O24: =SUM(O13:O23) -> 0 | P24: =SUM(P13:P23) -> 0 | Q24: =SUM(Q13:Q23) -> 0 | R24: =SUM(R13:R23) -> 0 | S24: =SUM(S13:S23) -> 0 | T24: =SUM(T13:T23) -> 0 | U24: =SUM(U13:U23) -> 0 | V24: =SUM(V13:V23) -> 0 | ... AC24: =SUM(AC13:AC23) -> 0
K25: Beruházásra forrás nem áll rendelkezésre.
B26: Tervezett feladatok nettó költsége a teljes ütem tekintetében (eFt) | C26: Rendelkezésre álló források számszerűsített értéke a teljes ütem tekintetében (eFt) | D26: Rendelkezésre álló források megnevezése
A27: I. ütem | B27: =O24 -> 0 | C27: 0 | D27: Fejlesztési díj (2020)
A28: II. ütem | B28: =SUM(P24:S24) -> 0 | C28: =C27*4 -> 0 | D28: Fejlesztési díj (2021-2024)
A29: III. ütem | B29: =SUM(T24:AC24) -> 0 | C29: =C27*10 -> 0 | D29: Fejlesztési díj (2025-2034)
B32: Jelenleg beruházási igény nem ismert, nincs rendelkezésre álló forrás beruházásra.

Sheet Boncodfölde
A2: Gördülő fejlesztési terv a 2020 - 2034 időszakra
A3: BERUHÁZÁSOK ÖSSZEFOGLALÓ TÁBLÁZATA
A4: A tervet benyújtó szervezet megnevezése: | K4: BONCODFÖLDE | R4: ellátásért felelős / ellátásért felelősök képviselője / víziközmű-szolgáltató *
A5: Víziközmű-szolgáltató megnevezése: | K5: ÉSZAK ZALAI VÍZ- ÉS CSATORNAMŰ ZÁRTKÖRŰEN MŰKÖDŐ RÉSZVÉNYTÁRSASÁG
A6: Víziközmű-szolgáltatási ágazat megnevezése: | K6: SZENNYVÍZ ÁGAZAT
A7: Véleményeltérést megfogalmazó érintett fél megnevezése:
A8: Víziközmű-rendszer kódja: ** | K8: 21-32054-1-048-01-10 | R8: Zalaegerszeg-SZV
A9: V. Szennyvízelvezetés
A10: Fontossági sorrend | B10: Beruházás megnevezése | E10: Műszaki állapot felmérés, szükségességi indoklás | H10: Vízjogi létesítési/elvi engedély száma | I10: Az érintett ellátásért felelős(ök) megnevezése | J10: Tervezett nettó költség | K10: Forrás 2020 évre | L10: Megvalósítás időtartama | N10: Tervezett időtáv | O10: A beruházás ütemezése a tervezési időszak évei szerint
E11: Jelenlegi műszaki állapot | F11: Feladat szükségessége | G11: Megvalósítást követő várható műszaki állapot | J11: (eFt) | L11: Kezdés | M11: Befejezés | N11: (rövid / közép / hosszú) | O11: 1 | P11: 2 | Q11: 3 | R11: 4 | S11: 5 | T11: 6 | U11: 7 | V11: 8 | W11: 9 | X11: 10 | Y11: 11 | Z11: 12 | AA11: 13 | AB11: 14 | AC11: 15
B12: szakág | C12: Helyszín | D12: beruházás megnevezése
B14: SZENNYVÍZCSATORNA (GRAVITÁCIÓS)
B15: Épület, építmény
B17: SZENNYVÍZVEZETÉKEK (KÉNYSZERÁRAMOLTATÁSÚ)
B19: SZENNYVÍZÁTEMELŐK
B20: Épület, építmény
B21: Gép, berendezés
B22: Irányítástechnika, energiaellátás
B24: Összesen: | J24: =SUM(J14:J23) -> 0 | K24: 0 | O24: =SUM(O13:O23) -> 0 | P24: =SUM(P13:P23) -> 0 | Q24: =SUM(Q13:Q23) -> 0 | R24: =SUM(R13:R23) -> 0 | S24: =SUM(S13:S23) -> 0 | T24: =SUM(T13:T23) -> 0 | U24: =SUM(U13:U23) -> 0 | V24: =SUM(V13:V23) -> 0 | ... AC24: =SUM(AC13:AC23) -> 0
K25: Beruházásra forrás nem áll rendelkezésre.
B26: Tervezett feladatok nettó költsége a teljes ütem tekintetében (eFt) | C26: Rendelkezésre álló források számszerűsített értéke a teljes ütem tekintetében (eFt) | D26: Rendelkezésre álló források megnevezése
A27: I. ütem | B27: =O24 -> 0 | C27: 0 | D27: Fejlesztési díj (2020)
A28: II. ütem | B28: =SUM(P24:S24) -> 0 | C28: =C27*4 -> 0 | D28: Fejlesztési díj (2021-2024)
A29: III. ütem | B29: =SUM(T24:AC24) -> 0 | C29: =C27*10 -> 0 | D29: Fejlesztési díj (2025-2034)
B32: Jelenleg beruházási igény nem ismert, nincs rendelkezésre álló forrás beruházásra.

Sheet Böde
A2: Gördülő fejlesztési terv a 2020 - 2034 időszakra
A3: BERUHÁZÁSOK ÖSSZEFOGLALÓ TÁBLÁZATA
A4: A tervet benyújtó szervezet megnevezése: | K4: BÖDE | R4: ellátásért felelős / ellátásért felelősök képviselője / víziközmű-szolgáltató *
A5: Víziközmű-szolgáltató megnevezése: | K5: ÉSZAK ZALAI VÍZ- ÉS CSATORNAMŰ ZÁRTKÖRŰEN MŰKÖDŐ RÉSZVÉNYTÁRSASÁG
A6: Víziközmű-szolgáltatási ágazat megnevezése: | K6: SZENNYVÍZ ÁGAZAT
A7: Véleményeltérést megfogalmazó érintett fél megnevezése:
A8: Víziközmű-rendszer kódja: ** | K8: 21-32054-1-048-01-10 | R8: Zalaegerszeg-SZV
A9: V. Szennyvízelvezetés
A10: Fontossági sorrend | B10: Beruházás megnevezése | E10: Műszaki állapot felmérés, szükségességi indoklás | H10: Vízjogi létesítési/elvi engedély száma | I10: Az érintett ellátásért felelős(ök) megnevezése | J10: Tervezett nettó költség | K10: Forrás 2020 évre | L10: Megvalósítás időtartama | N10: Tervezett időtáv | O10: A beruházás ütemezése a tervezési időszak évei szerint
E11: Jelenlegi műszaki állapot | F11: Feladat szükségessége | G11: Megvalósítást követő várható műszaki állapot | J11: (eFt) | L11: Kezdés | M11: Befejezés | N11: (rövid / közép / hosszú) | O11: 1 | P11: 2 | Q11: 3 | R11: 4 | S11: 5 | T11: 6 | U11: 7 | V11: 8 | W11: 9 | X11: 10 | Y11: 11 | Z11: 12 | AA11: 13 | AB11: 14 | AC11: 15
B12: szakág | C12: Helyszín | D12: beruházás megnevezése
B14: SZENNYVÍZCSATORNA (GRAVITÁCIÓS)
B15: Épület, építmény
B17: SZENNYVÍZVEZETÉKEK (KÉNYSZERÁRAMOLTATÁSÚ)
B19: SZENNYVÍZÁTEMELŐK
B20: Épület, építmény
B21: Gép, berendezés
B22: Irányítástechnika, energiaellátás
B24: Összesen: | J24: =SUM(J14:J23) -> 0 | K24: 0 | O24: =SUM(O13:O23) -> 0 | P24: =SUM(P13:P23) -> 0 | Q24: =SUM(Q13:Q23) -> 0 | R24: =SUM(R13:R23) -> 0 | S24: =SUM(S13:S23) -> 0 | T24: =SUM(T13:T23) -> 0 | U24: =SUM(U13:U23) -> 0 | V24: =SUM(V13:V23) -> 0 | ... AC24: =SUM(AC13:AC23) -> 0
K25: Beruházásra forrás nem áll rendelkezésre.
B26: Tervezett feladatok nettó költsége a teljes ütem tekintetében (eFt) | C26: Rendelkezésre álló források számszerűsített értéke a teljes ütem tekintetében (eFt) | D26: Rendelkezésre álló források megnevezése
A27: I. ütem | B27: =O24 -> 0 | C27: 0 | D27: Fejlesztési díj (2020)
A28: II. ütem | B28: =SUM(P24:S24) -> 0 | C28: =C27*4 -> 0 | D28: Fejlesztési díj (2021-2024)
A29: III. ütem | B29: =SUM(T24:AC24) -> 0 | C29: =C27*10 -> 0 | D29: Fejlesztési díj (2025-2034)
B31: Jelenleg beruházási igény nem ismert, nincs rendelkezésre álló forrás beruházásra.

Sheet Búcsúszentlászló
A2: Gördülő fejlesztési terv a 2020 - 2034 időszakra
A3: BERUHÁZÁSOK ÖSSZEFOGLALÓ TÁBLÁZATA
A4: A tervet benyújtó szervezet megnevezése: | K4: BUCSUSZENTLÁSZLÓ | R4: ellátásért felelős / ellátásért felelősök képviselője / víziközmű-szolgáltató *
A5: Víziközmű-szolgáltató megnevezése: | K5: ÉSZAK ZALAI VÍZ- ÉS CSATORNAMŰ ZÁRTKÖRŰEN MŰKÖDŐ RÉSZVÉNYTÁRSASÁG
A6: Víziközmű-szolgáltatási ágazat megnevezése: | K6: SZENNYVÍZ ÁGAZAT
A7: Véleményeltérést megfogalmazó érintett fél megnevezése:
A8: Víziközmű-rendszer kódja: ** | K8: 21-32054-1-048-01-10 | R8: Zalaegerszeg-SZV
A9: V. Szennyvízelvezetés
A10: Fontossági sorrend | B10: Beruházás megnevezése | E10: Műszaki állapot felmérés, szükségességi indoklás | H10: Vízjogi létesítési/elvi engedély száma | I10: Az érintett ellátásért felelős(ök) megnevezése | J10: Tervezett nettó költség | K10: Forrás 2020 évre | L10: Megvalósítás időtartama | N10: Tervezett időtáv | O10: A beruházás ütemezése a tervezési időszak évei szerint
E11: Jelenlegi műszaki állapot | F11: Feladat szükségessége | G11: Megvalósítást követő várható műszaki állapot | J11: (eFt) | L11: Kezdés | M11: Befejezés | N11: (rövid / közép / hosszú) | O11: 1 | P11: 2 | Q11: 3 | R11: 4 | S11: 5 | T11: 6 | U11: 7 | V11: 8 | W11: 9 | X11: 10 | Y11: 11 | Z11: 12 | AA11: 13 | AB11: 14 | AC11: 15
B12: szakág | C12: Helyszín | D12: beruházás megnevezése
B14: SZENNYVÍZCSATORNA (GRAVITÁCIÓS)
B15: Épület, építmény
B17: SZENNYVÍZVEZETÉKEK (KÉNYSZERÁRAMOLTATÁSÚ)
B19: SZENNYVÍZÁTEMELŐK
B20: Épület, építmény
B21: Gép, berendezés
B22: Irányítástechnika, energiaellátás
B24: Összesen: | J24: =SUM(J14:J23) -> 0 | K24: 0 | O24: =SUM(O13:O23) -> 0 | P24: =SUM(P13:P23) -> 0 | Q24: =SUM(Q13:Q23) -> 0 | R24: =SUM(R13:R23) -> 0 | S24: =SUM(S13:S23) -> 0 | T24: =SUM(T13:T23) -> 0 | U24: =SUM(U13:U23) -> 0 | V24: =SUM(V13:V23) -> 0 | ... AC24: =SUM(AC13:AC23) -> 0
K25: Beruházásra forrás nem áll rendelkezésre.
B26: Tervezett feladatok nettó költsége a teljes ütem tekintetében (eFt) | C26: Rendelkezésre álló források számszerűsített értéke a teljes ütem tekintetében (eFt) | D26: Rendelkezésre álló források megnevezése
A27: I. ütem | B27: =O24 -> 0 | C27: 0 | D27: Fejlesztési díj (2020)
A28: II. ütem | B28: =SUM(P24:S24) -> 0 | C28: =C27*4 -> 0 | D28: Fejlesztési díj (2021-2024)
A29: III. ütem | B29: =SUM(T24:AC24) -> 0 | C29: =C27*10 -> 0 | D29: Fejlesztési díj (2025-2034)
B32: Jelenleg beruházási igény nem ismert, nincs rendelkezésre álló forrás beruházásra.

Sheet Csatár
A2: Gördülő fejlesztési terv a 2020 - 2034 időszakra
A3: BERUHÁZÁSOK ÖSSZEFOGLALÓ TÁBLÁZATA
A4: A tervet benyújtó szervezet megnevezése: | K4: CSATRÁ | R4: ellátásért felelős / ellátásért felelősök képviselője / víziközmű-szolgáltató *
A5: Víziközmű-szolgáltató megnevezése: | K5: ÉSZAK ZALAI VÍZ- ÉS CSATORNAMŰ ZÁRTKÖRŰEN MŰKÖDŐ RÉSZVÉNYTÁRSASÁG
A6: Víziközmű-szolgáltatási ágazat megnevezése: | K6: SZENNYVÍZ ÁGAZAT
A7: Véleményeltérést megfogalmazó érintett fél megnevezése:
A8: Víziközmű-rendszer kódja: ** | K8: 21-32054-1-048-01-10 | R8: Zalaegerszeg-SZV
A9: V. Szennyvízelvezetés
A10: Fontossági sorrend | B10: Beruházás megnevezése | E10: Műszaki állapot felmérés, szükségességi indoklás | H10: Vízjogi létesítési/elvi engedély száma | I10: Az érintett ellátásért felelős(ök) megnevezése | J10: Tervezett nettó költség | K10: Forrás 2020 évre | L10: Megvalósítás időtartama | N10: Tervezett időtáv | O10: A beruházás ütemezése a tervezési időszak évei szerint
E11: Jelenlegi műszaki állapot | F11: Feladat szükségessége | G11: Megvalósítást követő várható műszaki állapot | J11: (eFt) | L11: Kezdés | M11: Befejezés | N11: (rövid / közép / hosszú) | O11: 1 | P11: 2 | Q11: 3 | R11: 4 | S11: 5 | T11: 6 | U11: 7 | V11: 8 | W11: 9 | X11: 10 | Y11: 11 | Z11: 12 | AA11: 13 | AB11: 14 | AC11: 15
B12: szakág | C12: Helyszín | D12: beruházás megnevezése
B14: SZENNYVÍZCSATORNA (GRAVITÁCIÓS)
B15: Épület, építmény
B17: SZENNYVÍZVEZETÉKEK (KÉNYSZERÁRAMOLTATÁSÚ)
B19: SZENNYVÍZÁTEMELŐK
B20: Épület, építmény
B21: Gép, berendezés
B22: Irányítástechnika, energiaellátás
B24: Összesen: | J24: =SUM(J14:J23) -> 0 | K24: 0 | O24: =SUM(O13:O23) -> 0 | P24: =SUM(P13:P23) -> 0 | Q24: =SUM(Q13:Q23) -> 0 | R24: =SUM(R13:R23) -> 0 | S24: =SUM(S13:S23) -> 0 | T24: =SUM(T13:T23) -> 0 | U24: =SUM(U13:U23) -> 0 | V24: =SUM(V13:V23) -> 0 | ... AC24: =SUM(AC13:AC23) -> 0
K25: Beruházásra forrás nem áll rendelkezésre.
B26: Tervezett feladatok nettó költsége a teljes ütem tekintetében (eFt) | C26: Rendelkezésre álló források számszerűsített értéke a teljes ütem tekintetében (eFt) | D26: Rendelkezésre álló források megnevezése
A27: I. ütem | B27: =O24 -> 0 | C27: 0 | D27: Fejlesztési díj (2020)
A28: II. ütem | B28: =SUM(P24:S24) -> 0 | C28: =C27*4 -> 0 | D28: Fejlesztési díj (2021-2024)
A29: III. ütem | B29: =SUM(T24:AC24) -> 0 | C29: =C27*10 -> 0 | D29: Fejlesztési díj (2025-2034)
B31: Jelenleg beruházási igény nem ismert, nincs rendelkezésre álló forrás beruházásra.

Sheet Csonkahegyhát
A2: Gördülő fejlesztési terv a 2020 - 2034 időszakra
A3: BERUHÁZÁSOK ÖSSZEFOGLALÓ TÁBLÁZATA
A4: A tervet benyújtó szervezet megnevezése: | K4: CSONKAHEGYHÁT | R4: ellátásért felelős / ellátásért felelősök képviselője / víziközmű-szolgáltató *
A5: Víziközmű-szolgáltató megnevezése: | K5: ÉSZAK ZALAI VÍZ- ÉS CSATORNAMŰ ZÁRTKÖRŰEN MŰKÖDŐ RÉSZVÉNYTÁRSASÁG
A6: Víziközmű-szolgáltatási ágazat megnevezése: | K6: SZENNYVÍZ ÁGAZAT
A7: Véleményeltérést megfogalmazó érintett fél megnevezése:
A8: Víziközmű-rendszer kódja: ** | K8: 21-32054-1-048-01-10 | R8: Zalaegerszeg-SZV
A9: V. Szennyvízelvezetés
A10: Fontossági sorrend | B10: Beruházás megnevezése | E10: Műszaki állapot felmérés, szükségességi indoklás | H10: Vízjogi létesítési/elvi engedély száma | I10: Az érintett ellátásért felelős(ök) megnevezése | J10: Tervezett nettó költség | K10: Forrás 2020 évre | L10: Megvalósítás időtartama | N10: Tervezett időtáv | O10: A beruházás ütemezése a tervezési időszak évei szerint
E11: Jelenlegi műszaki állapot | F11: Feladat szükségessége | G11: Megvalósítást követő várható műszaki állapot | J11: (eFt) | L11: Kezdés | M11: Befejezés | N11: (rövid / közép / hosszú) | O11: 1 | P11: 2 | Q11: 3 | R11: 4 | S11: 5 | T11: 6 | U11: 7 | V11: 8 | W11: 9 | X11: 10 | Y11: 11 | Z11: 12 | AA11: 13 | AB11: 14 | AC11: 15
B12: szakág | C12: Helyszín | D12: beruházás megnevezése
B14: SZENNYVÍZCSATORNA (GRAVITÁCIÓS)
B15: Épület, építmény
B17: SZENNYVÍZVEZETÉKEK (KÉNYSZERÁRAMOLTATÁSÚ)
B19: SZENNYVÍZÁTEMELŐK
B20: Épület, építmény
B21: Gép, berendezés
B22: Irányítástechnika, energiaellátás
B24: Összesen: | J24: =SUM(J14:J23) -> 0 | K24: 0 | O24: =SUM(O13:O23) -> 0 | P24: =SUM(P13:P23) -> 0 | Q24: =SUM(Q13:Q23) -> 0 | R24: =SUM(R13:R23) -> 0 | S24: =SUM(S13:S23) -> 0 | T24: =SUM(T13:T23) -> 0 | U24: =SUM(U13:U23) -> 0 | V24: =SUM(V13:V23) -> 0 | ... AC24: =SUM(AC13:AC23) -> 0
K25: Beruházásra forrás nem áll rendelkezésre.
B26: Tervezett feladatok nettó költsége a teljes ütem tekintetében (eFt) | C26: Rendelkezésre álló források számszerűsített értéke a teljes ütem tekintetében (eFt) | D26: Rendelkezésre álló források megnevezése
A27: I. ütem | B27: =O24 -> 0 | C27: 0 | D27: Fejlesztési díj (2020)
A28: II. ütem | B28: =SUM(P24:S24) -> 0 | C28: =C27*4 -> 0 | D28: Fejlesztési díj (2021-2024)
A29: III. ütem | B29: =SUM(T24:AC24) -> 0 | C29: =C27*10 -> 0 | D29: Fejlesztési díj (2025-2034)
B32: Jelenleg beruházási igény nem ismert, nincs rendelkezésre álló forrás beruházásra.

Sheet Dobronhegy
A2: Gördülő fejlesztési terv a 2020 - 2034 időszakra
A3: BERUHÁZÁSOK ÖSSZEFOGLALÓ TÁBLÁZATA
A4: A tervet benyújtó szervezet megnevezése: | K4: DOBRONHEGY | R4: ellátásért felelős / ellátásért felelősök képviselője / víziközmű-szolgáltató *
A5: Víziközmű-szolgáltató megnevezése: | K5: ÉSZAK ZALAI VÍZ- ÉS CSATORNAMŰ ZÁRTKÖRŰEN MŰKÖDŐ RÉSZVÉNYTÁRSASÁG
A6: Víziközmű-szolgáltatási ágazat megnevezése: | K6: SZENNYVÍZ ÁGAZAT
A7: Véleményeltérést megfogalmazó érintett fél megnevezése:
A8: Víziközmű-rendszer kódja: ** | K8: 21-32054-1-048-01-10 | R8: Zalaegerszeg-SZV
A9: V. Szennyvízelvezetés
A10: Fontossági sorrend | B10: Beruházás megnevezése | E10: Műszaki állapot felmérés, szükségességi indoklás | H10: Vízjogi létesítési/elvi engedély száma | I10: Az érintett ellátásért felelős(ök) megnevezése | J10: Tervezett nettó költség | K10: Forrás 2020 évre | L10: Megvalósítás időtartama | N10: Tervezett időtáv | O10: A beruházás ütemezése a tervezési időszak évei szerint
E11: Jelenlegi műszaki állapot | F11: Feladat szükségessége | G11: Megvalósítást követő várható műszaki állapot | J11: (eFt) | L11: Kezdés | M11: Befejezés | N11: (rövid / közép / hosszú) | O11: 1 | P11: 2 | Q11: 3 | R11: 4 | S11: 5 | T11: 6 | U11: 7 | V11: 8 | W11: 9 | X11: 10 | Y11: 11 | Z11: 12 | AA11: 13 | AB11: 14 | AC11: 15
B12: szakág | C12: Helyszín | D12: beruházás megnevezése
B14: SZENNYVÍZCSATORNA (GRAVITÁCIÓS)
B15: Épület, építmény
B17: SZENNYVÍZVEZETÉKEK (KÉNYSZERÁRAMOLTATÁSÚ)
B19: SZENNYVÍZÁTEMELŐK
B20: Épület, építmény
B21: Gép, berendezés
B22: Irányítástechnika, energiaellátás
B24: Összesen: | J24: =SUM(J14:J23) -> 0 | K24: 0 | O24: =SUM(O13:O23) -> 0 | P24: =SUM(P13:P23) -> 0 | Q24: =SUM(Q13:Q23) -> 0 | R24: =SUM(R13:R23) -> 0 | S24: =SUM(S13:S23) -> 0 | T24: =SUM(T13:T23) -> 0 | U24: =SUM(U13:U23) -> 0 | V24: =SUM(V13:V23) -> 0 | ... AC24: =SUM(AC13:AC23) -> 0
K25: Beruházásra forrás nem áll rendelkezésre.
B26: Tervezett feladatok nettó költsége a teljes ütem tekintetében (eFt) | C26: Rendelkezésre álló források számszerűsített értéke a teljes ütem tekintetében (eFt) | D26: Rendelkezésre álló források megnevezése
A27: I. ütem | B27: =O24 -> 0 | C27: 0 | D27: Fejlesztési díj (2020)
A28: II. ütem | B28: =SUM(P24:S24) -> 0 | C28: =C27*4 -> 0 | D28: Fejlesztési díj (2021-2024)
A29: III. ütem | B29: =SUM(T24:AC24) -> 0 | C29: =C27*10 -> 0 | D29: Fejlesztési díj (2025-2034)
B31: Jelenleg beruházási igény nem ismert, nincs rendelkezésre álló forrás beruházásra.

Sheet Egervár
A2: Gördülő fejlesztési terv a 2020 - 2034 időszakra
A3: BERUHÁZÁSOK ÖSSZEFOGLALÓ TÁBLÁZATA
A4: A tervet benyújtó szervezet megnevezése: | K4: EGERVÁR | R4: ellátásért felelős / ellátásért felelősök képviselője / víziközmű-szolgáltató *
A5: Víziközmű-szolgáltató megnevezése: | K5: ÉSZAK ZALAI VÍZ- ÉS CSATORNAMŰ ZÁRTKÖRŰEN MŰKÖDŐ RÉSZVÉNYTÁRSASÁG
A6: Víziközmű-szolgáltatási ágazat megnevezése: | K6: SZENNYVÍZ ÁGAZAT
A7: Véleményeltérést megfogalmazó érintett fél megnevezése:
A8: Víziközmű-rendszer kódja: ** | K8: 21-32054-1-048-01-10 | R8: Zalaegerszeg-SZV
A9: V. Szennyvízelvezetés
A10: Fontossági sorrend | B10: Beruházás megnevezése | E10: Műszaki állapot felmérés, szükségességi indoklás | H10: Vízjogi létesítési/elvi engedély száma | I10: Az érintett ellátásért felelős(ök) megnevezése | J10: Tervezett nettó költség | K10: Forrás 2020 évre | L10: Megvalósítás időtartama | N10: Tervezett időtáv | O10: A beruházás ütemezése a tervezési időszak évei szerint
E11: Jelenlegi műszaki állapot | F11: Feladat szükségessége | G11: Megvalósítást követő várható műszaki állapot | J11: (eFt) | L11: Kezdés | M11: Befejezés | N11: (rövid / közép / hosszú) | O11: 1 | P11: 2 | Q11: 3 | R11: 4 | S11: 5 | T11: 6 | U11: 7 | V11: 8 | W11: 9 | X11: 10 | Y11: 11 | Z11: 12 | AA11: 13 | AB11: 14 | AC11: 15
B12: szakág | C12: Helyszín | D12: beruházás megnevezése
B14: SZENNYVÍZCSATORNA (GRAVITÁCIÓS)
B15: Épület, építmény
B17: SZENNYVÍZVEZETÉKEK (KÉNYSZERÁRAMOLTATÁSÚ)
B19: SZENNYVÍZÁTEMELŐK
B20: Épület, építmény
B21: Gép, berendezés
B22: Irányítástechnika, energiaellátás
B24: Összesen: | J24: =SUM(J14:J23) -> 0 | K24: 0 | O24: =SUM(O13:O23) -> 0 | P24: =SUM(P13:P23) -> 0 | Q24: =SUM(Q13:Q23) -> 0 | R24: =SUM(R13:R23) -> 0 | S24: =SUM(S13:S23) -> 0 | T24: =SUM(T13:T23) -> 0 | U24: =SUM(U13:U23) -> 0 | V24: =SUM(V13:V23) -> 0 | ... AC24: =SUM(AC13:AC23) -> 0
K25: Beruházásra forrás nem áll rendelkezésre.
B26: Tervezett feladatok nettó költsége a teljes ütem tekintetében (eFt) | C26: Rendelkezésre álló források számszerűsített értéke a teljes ütem tekintetében (eFt) | D26: Rendelkezésre álló források megnevezése
A27: I. ütem | B27: =O24 -> 0 | C27: 0 | D27: Fejlesztési díj (2020)
A28: II. ütem | B28: =SUM(P24:S24) -> 0 | C28: =C27*4 -> 0 | D28: Fejlesztési díj (2021-2024)
A29: III. ütem | B29: =SUM(T24:AC24) -> 0 | C29: =C27*10 -> 0 | D29: Fejlesztési díj (2025-2034)
B31: Jelenleg beruházási igény nem ismert, nincs rendelkezésre álló forrás beruházásra.

Sheet Gősfa
A2: Gördülő fejlesztési terv a 2020 - 2034 időszakra
A3: BERUHÁZÁSOK ÖSSZEFOGLALÓ TÁBLÁZATA
A4: A tervet benyújtó szervezet megnevezése: | K4: GŐSFA | R4: ellátásért felelős / ellátásért felelősök képviselője / víziközmű-szolgáltató *
A5: Víziközmű-szolgáltató megnevezése: | K5: ÉSZAK ZALAI VÍZ- ÉS CSATORNAMŰ ZÁRTKÖRŰEN MŰKÖDŐ RÉSZVÉNYTÁRSASÁG
A6: Víziközmű-szolgáltatási ágazat megnevezése: | K6: SZENNYVÍZ ÁGAZAT
A7: Véleményeltérést megfogalmazó érintett fél megnevezése:
A8: Víziközmű-rendszer kódja: ** | K8: 21-32054-1-048-01-10 | R8: Zalaegerszeg-SZV
A9: V. Szennyvízelvezetés
A10: Fontossági sorrend | B10: Beruházás megnevezése | E10: Műszaki állapot felmérés, szükségességi indoklás | H10: Vízjogi létesítési/elvi engedély száma | I10: Az érintett ellátásért felelős(ök) megnevezése | J10: Tervezett nettó költség | K10: Forrás 2020 évre | L10: Megvalósítás időtartama | N10: Tervezett időtáv | O10: A beruházás ütemezése a tervezési időszak évei szerint
E11: Jelenlegi műszaki állapot | F11: Feladat szükségessége | G11: Megvalósítást követő várható műszaki állapot | J11: (eFt) | L11: Kezdés | M11: Befejezés | N11: (rövid / közép / hosszú) | O11: 1 | P11: 2 | Q11: 3 | R11: 4 | S11: 5 | T11: 6 | U11: 7 | V11: 8 | W11: 9 | X11: 10 | Y11: 11 | Z11: 12 | AA11: 13 | AB11: 14 | AC11: 15
B12: szakág | C12: Helyszín | D12: beruházás megnevezése
B14: SZENNYVÍZCSATORNA (GRAVITÁCIÓS)
B15: Épület, építmény
B17: SZENNYVÍZVEZETÉKEK (KÉNYSZERÁRAMOLTATÁSÚ)
B19: SZENNYVÍZÁTEMELŐK
B20: Épület, építmény
B21: Gép, berendezés
B22: Irányítástechnika, energiaellátás
B24: Összesen: | J24: =SUM(J14:J23) -> 0 | K24: 0 | O24: =SUM(O13:O23) -> 0 | P24: =SUM(P13:P23) -> 0 | Q24: =SUM(Q13:Q23) -> 0 | R24: =SUM(R13:R23) -> 0 | S24: =SUM(S13:S23) -> 0 | T24: =SUM(T13:T23) -> 0 | U24: =SUM(U13:U23) -> 0 | V24: =SUM(V13:V23) -> 0 | ... AC24: =SUM(AC13:AC23) -> 0
K25: Beruházásra forrás nem áll rendelkezésre.
B26: Tervezett feladatok nettó költsége a teljes ütem tekintetében (eFt) | C26: Rendelkezésre álló források számszerűsített értéke a teljes ütem tekintetében (eFt) | D26: Rendelkezésre álló források megnevezése
A27: I. ütem | B27: =O24 -> 0 | C27: 0 | D27: Fejlesztési díj (2020)
A28: II. ütem | B28: =SUM(P24:S24) -> 0 | C28: =C27*4 -> 0 | D28: Fejlesztési díj (2021-2024)
A29: III. ütem | B29: =SUM(T24:AC24) -> 0 | C29: =C27*10 -> 0 | D29: Fejlesztési díj (2025-2034)
B31: Jelenleg beruházási igény nem ismert, nincs rendelkezésre álló forrás beruházásra.

Sheet Hagyárosbörönd
A2: Gördülő fejlesztési terv a 2020 - 2034 időszakra
A3: BERUHÁZÁSOK ÖSSZEFOGLALÓ TÁBLÁZATA
A4: A tervet benyújtó szervezet megnevezése: | K4: HAGYÁROSBÖRÖND | R4: ellátásért felelős / ellátásért felelősök képviselője / víziközmű-szolgáltató *
A5: Víziközmű-szolgáltató megnevezése: | K5: ÉSZAK ZALAI VÍZ- ÉS CSATORNAMŰ ZÁRTKÖRŰEN MŰKÖDŐ RÉSZVÉNYTÁRSASÁG
A6: Víziközmű-szolgáltatási ágazat megnevezése: | K6: SZENNYVÍZ ÁGAZAT
A7: Véleményeltérést megfogalmazó érintett fél megnevezése:
A8: Víziközmű-rendszer kódja: ** | K8: 21-32054-1-048-01-10 | R8: Zalaegerszeg-SZV
A9: V. Szennyvízelvezetés
A10: Fontossági sorrend | B10: Beruházás megnevezése | E10: Műszaki állapot felmérés, szükségességi indoklás | H10: Vízjogi létesítési/elvi engedély száma | I10: Az érintett ellátásért felelős(ök) megnevezése | J10: Tervezett nettó költség | K10: Forrás 2020 évre | L10: Megvalósítás időtartama | N10: Tervezett időtáv | O10: A beruházás ütemezése a tervezési időszak évei szerint
E11: Jelenlegi műszaki állapot | F11: Feladat szükségessége | G11: Megvalósítást követő várható műszaki állapot | J11: (eFt) | L11: Kezdés | M11: Befejezés | N11: (rövid / közép / hosszú) | O11: 1 | P11: 2 | Q11: 3 | R11: 4 | S11: 5 | T11: 6 | U11: 7 | V11: 8 | W11: 9 | X11: 10 | Y11: 11 | Z11: 12 | AA11: 13 | AB11: 14 | AC11: 15
B12: szakág | C12: Helyszín | D12: beruházás megnevezése
B14: SZENNYVÍZCSATORNA (GRAVITÁCIÓS)
B15: Épület, építmény
B17: SZENNYVÍZVEZETÉKEK (KÉNYSZERÁRAMOLTATÁSÚ)
B19: SZENNYVÍZÁTEMELŐK
B20: Épület, építmény
B21: Gép, berendezés
B22: Irányítástechnika, energiaellátás
B24: Összesen: | J24: =SUM(J14:J23) -> 0 | K24: 0 | O24: =SUM(O13:O23) -> 0 | P24: =SUM(P13:P23) -> 0 | Q24: =SUM(Q13:Q23) -> 0 | R24: =SUM(R13:R23) -> 0 | S24: =SUM(S13:S23) -> 0 | T24: =SUM(T13:T23) -> 0 | U24: =SUM(U13:U23) -> 0 | V24: =SUM(V13:V23) -> 0 | ... AC24: =SUM(AC13:AC23) -> 0
K25: Beruházásra forrás nem áll rendelkezésre.
B26: Tervezett feladatok nettó költsége a teljes ütem tekintetében (eFt) | C26: Rendelkezésre álló források számszerűsített értéke a teljes ütem tekintetében (eFt) | D26: Rendelkezésre álló források megnevezése
A27: I. ütem | B27: =O24 -> 0 | C27: 0 | D27: Fejlesztési díj (2020)
A28: II. ütem | B28: =SUM(P24:S24) -> 0 | C28: =C27*4 -> 0 | D28: Fejlesztési díj (2021-2024)
A29: III. ütem | B29: =SUM(T24:AC24) -> 0 | C29: =C27*10 -> 0 | D29: Fejlesztési díj (2025-2034)
B31: Jelenleg beruházási igény nem ismert, nincs rendelkezésre álló forrás beruházásra.

Sheet Hottó
A2: Gördülő fejlesztési terv a 2020 - 2034 időszakra
A3: BERUHÁZÁSOK ÖSSZEFOGLALÓ TÁBLÁZATA
A4: A tervet benyújtó szervezet megnevezése: | K4: HOTTÓ | R4: ellátásért felelős / ellátásért felelősök képviselője / víziközmű-szolgáltató *
A5: Víziközmű-szolgáltató megnevezése: | K5: ÉSZAK ZALAI VÍZ- ÉS CSATORNAMŰ ZÁRTKÖRŰEN MŰKÖDŐ RÉSZVÉNYTÁRSASÁG
A6: Víziközmű-szolgáltatási ágazat megnevezése: | K6: SZENNYVÍZ ÁGAZAT
A7: Véleményeltérést megfogalmazó érintett fél megnevezése:
A8: Víziközmű-rendszer kódja: ** | K8: 21-32054-1-048-01-10 | R8: Zalaegerszeg-SZV
A9: V. Szennyvízelvezetés
A10: Fontossági sorrend | B10: Beruházás megnevezése | E10: Műszaki állapot felmérés, szükségességi indoklás | H10: Vízjogi létesítési/elvi engedély száma | I10: Az érintett ellátásért felelős(ök) megnevezése | J10: Tervezett nettó költség | K10: Forrás 2020 évre | L10: Megvalósítás időtartama | N10: Tervezett időtáv | O10: A beruházás ütemezése a tervezési időszak évei szerint
E11: Jelenlegi műszaki állapot | F11: Feladat szükségessége | G11: Megvalósítást követő várható műszaki állapot | J11: (eFt) | L11: Kezdés | M11: Befejezés | N11: (rövid / közép / hosszú) | O11: 1 | P11: 2 | Q11: 3 | R11: 4 | S11: 5 | T11: 6 | U11: 7 | V11: 8 | W11: 9 | X11: 10 | Y11: 11 | Z11: 12 | AA11: 13 | AB11: 14 | AC11: 15
B12: szakág | C12: Helyszín | D12: beruházás megnevezése
B14: SZENNYVÍZCSATORNA (GRAVITÁCIÓS)
B15: Épület, építmény
B17: SZENNYVÍZVEZETÉKEK (KÉNYSZERÁRAMOLTATÁSÚ)
B19: SZENNYVÍZÁTEMELŐK
B20: Épület, építmény
B21: Gép, berendezés
B22: Irányítástechnika, energiaellátás
B24: Összesen: | J24: =SUM(J14:J23) -> 0 | K24: 0 | O24: =SUM(O13:O23) -> 0 | P24: =SUM(P13:P23) -> 0 | Q24: =SUM(Q13:Q23) -> 0 | R24: =SUM(R13:R23) -> 0 | S24: =SUM(S13:S23) -> 0 | T24: =SUM(T13:T23) -> 0 | U24: =SUM(U13:U23) -> 0 | V24: =SUM(V13:V23) -> 0 | ... AC24: =SUM(AC13:AC23) -> 0
K25: Beruházásra forrás nem áll rendelkezésre.
B26: Tervezett feladatok nettó költsége a teljes ütem tekintetében (eFt) | C26: Rendelkezésre álló források számszerűsített értéke a teljes ütem tekintetében (eFt) | D26: Rendelkezésre álló források megnevezése
A27: I. ütem | B27: =O24 -> 0 | C27: 0 | D27: Fejlesztési díj (2020)
A28: II. ütem | B28: =SUM(P24:S24) -> 0 | C28: =C27*4 -> 0 | D28: Fejlesztési díj (2021-2024)
A29: III. ütem | B29: =SUM(T24:AC24) -> 0 | C29: =C27*10 -> 0 | D29: Fejlesztési díj (2025-2034)
B31: Jelenleg beruházási igény nem ismert, nincs rendelkezésre álló forrás beruházásra.

Sheet Kávás
A2: Gördülő fejlesztési terv a 2020 - 2034 időszakra
A3: BERUHÁZÁSOK ÖSSZEFOGLALÓ TÁBLÁZATA
A4: A tervet benyújtó szervezet megnevezése: | K4: KÁVÁS | R4: ellátásért felelős / ellátásért felelősök képviselője / víziközmű-szolgáltató *
A5: Víziközmű-szolgáltató megnevezése: | K5: ÉSZAK ZALAI VÍZ- ÉS CSATORNAMŰ ZÁRTKÖRŰEN MŰKÖDŐ RÉSZVÉNYTÁRSASÁG
A6: Víziközmű-szolgáltatási ágazat megnevezése: | K6: SZENNYVÍZ ÁGAZAT
A7: Véleményeltérést megfogalmazó érintett fél megnevezése:
A8: Víziközmű-rendszer kódja: ** | K8: 21-32054-1-048-01-10 | R8: Zalaegerszeg-SZV
A9: V. Szennyvízelvezetés
A10: Fontossági sorrend | B10: Beruházás megnevezése | E10: Műszaki állapot felmérés, szükségességi indoklás | H10: Vízjogi létesítési/elvi engedély száma | I10: Az érintett ellátásért felelős(ök) megnevezése | J10: Tervezett nettó költség | K10: Forrás 2020 évre | L10: Megvalósítás időtartama | N10: Tervezett időtáv | O10: A beruházás ütemezése a tervezési időszak évei szerint
E11: Jelenlegi műszaki állapot | F11: Feladat szükségessége | G11: Megvalósítást követő várható műszaki állapot | J11: (eFt) | L11: Kezdés | M11: Befejezés | N11: (rövid / közép / hosszú) | O11: 1 | P11: 2 | Q11: 3 | R11: 4 | S11: 5 | T11: 6 | U11: 7 | V11: 8 | W11: 9 | X11: 10 | Y11: 11 | Z11: 12 | AA11: 13 | AB11: 14 | AC11: 15
B12: szakág | C12: Helyszín | D12: beruházás megnevezése
B14: SZENNYVÍZCSATORNA (GRAVITÁCIÓS)
B15: Épület, építmény
B17: SZENNYVÍZVEZETÉKEK (KÉNYSZERÁRAMOLTATÁSÚ)
B19: SZENNYVÍZÁTEMELŐK
B20: Épület, építmény
B21: Gép, berendezés
B22: Irányítástechnika, energiaellátás
B24: Összesen: | J24: =SUM(J14:J23) -> 0 | K24: 0 | O24: =SUM(O13:O23) -> 0 | P24: =SUM(P13:P23) -> 0 | Q24: =SUM(Q13:Q23) -> 0 | R24: =SUM(R13:R23) -> 0 | S24: =SUM(S13:S23) -> 0 | T24: =SUM(T13:T23) -> 0 | U24: =SUM(U13:U23) -> 0 | V24: =SUM(V13:V23) -> 0 | ... AC24: =SUM(AC13:AC23) -> 0
K25: Beruházásra forrás nem áll rendelkezésre.
B26: Tervezett feladatok nettó költsége a teljes ütem tekintetében (eFt) | C26: Rendelkezésre álló források számszerűsített értéke a teljes ütem tekintetében (eFt) | D26: Rendelkezésre álló források megnevezése
A27: I. ütem | B27: =O24 -> 0 | C27: 0 | D27: Fejlesztési díj (2020)
A28: II. ütem | B28: =SUM(P24:S24) -> 0 | C28: =C27*4 -> 0 | D28: Fejlesztési díj (2021-2024)
A29: III. ütem | B29: =SUM(T24:AC24) -> 0 | C29: =C27*10 -> 0 | D29: Fejlesztési díj (2025-2034)
B31: Jelenleg beruházási igény nem ismert, nincs rendelkezésre álló forrás beruházásra.

Sheet Kemendollár
A2: Gördülő fejlesztési terv a 2020 - 2034 időszakra
A3: BERUHÁZÁSOK ÖSSZEFOGLALÓ TÁBLÁZATA
A4: A tervet benyújtó szervezet megnevezése: | K4: KEMENDOLLÁR | R4: ellátásért felelős / ellátásért felelősök képviselője / víziközmű-szolgáltató *
A5: Víziközmű-szolgáltató megnevezése: | K5: ÉSZAK ZALAI VÍZ- ÉS CSATORNAMŰ ZÁRTKÖRŰEN MŰKÖDŐ RÉSZVÉNYTÁRSASÁG
A6: Víziközmű-szolgáltatási ágazat megnevezése: | K6: SZENNYVÍZ ÁGAZAT
A7: Véleményeltérést megfogalmazó érintett fél megnevezése:
A8: Víziközmű-rendszer kódja: ** | K8: 21-32054-1-048-01-10 | R8: Zalaegerszeg-SZV
A9: V. Szennyvízelvezetés
A10: Fontossági sorrend | B10: Beruházás megnevezése | E10: Műszaki állapot felmérés, szükségességi indoklás | H10: Vízjogi létesítési/elvi engedély száma | I10: Az érintett ellátásért felelős(ök) megnevezése | J10: Tervezett nettó költség | K10: Forrás 2020 évre | L10: Megvalósítás időtartama | N10: Tervezett időtáv | O10: A beruházás ütemezése a tervezési időszak évei szerint
E11: Jelenlegi műszaki állapot | F11: Feladat szükségessége | G11: Megvalósítást követő várható műszaki állapot | J11: (eFt) | L11: Kezdés | M11: Befejezés | N11: (rövid / közép / hosszú) | O11: 1 | P11: 2 | Q11: 3 | R11: 4 | S11: 5 | T11: 6 | U11: 7 | V11: 8 | W11: 9 | X11: 10 | Y11: 11 | Z11: 12 | AA11: 13 | AB11: 14 | AC11: 15
B12: szakág | C12: Helyszín | D12: beruházás megnevezése
B14: SZENNYVÍZCSATORNA (GRAVITÁCIÓS)
B15: Épület, építmény
B17: SZENNYVÍZVEZETÉKEK (KÉNYSZERÁRAMOLTATÁSÚ)
B19: SZENNYVÍZÁTEMELŐK
B20: Épület, építmény
B21: Gép, berendezés
B22: Irányítástechnika, energiaellátás
B24: Összesen: | J24: =SUM(J14:J23) -> 0 | K24: 0 | O24: =SUM(O13:O23) -> 0 | P24: =SUM(P13:P23) -> 0 | Q24: =SUM(Q13:Q23) -> 0 | R24: =SUM(R13:R23) -> 0 | S24: =SUM(S13:S23) -> 0 | T24: =SUM(T13:T23) -> 0 | U24: =SUM(U13:U23) -> 0 | V24: =SUM(V13:V23) -> 0 | ... AC24: =SUM(AC13:AC23) -> 0
K25: Beruházásra forrás nem áll rendelkezésre.
B26: Tervezett feladatok nettó költsége a teljes ütem tekintetében (eFt) | C26: Rendelkezésre álló források számszerűsített értéke a teljes ütem tekintetében (eFt) | D26: Rendelkezésre álló források megnevezése
A27: I. ütem | B27: =O24 -> 0 | C27: 0 | D27: Fejlesztési díj (2020)
A28: II. ütem | B28: =SUM(P24:S24) -> 0 | C28: =C27*4 -> 0 | D28: Fejlesztési díj (2021-2024)
A29: III. ütem | B29: =SUM(T24:AC24) -> 0 | C29: =C27*10 -> 0 | D29: Fejlesztési díj (2025-2034)
B31: Jelenleg beruházási igény nem ismert, nincs rendelkezésre álló forrás beruházásra.

Sheet Keménfa
A2: Gördülő fejlesztési terv a 2020 - 2034 időszakra
A3: BERUHÁZÁSOK ÖSSZEFOGLALÓ TÁBLÁZATA
A4: A tervet benyújtó szervezet megnevezése: | K4: KEMÉNFA | R4: ellátásért felelős / ellátásért felelősök képviselője / víziközmű-szolgáltató *
A5: Víziközmű-szolgáltató megnevezése: | K5: ÉSZAK ZALAI VÍZ- ÉS CSATORNAMŰ ZÁRTKÖRŰEN MŰKÖDŐ RÉSZVÉNYTÁRSASÁG
A6: Víziközmű-szolgáltatási ágazat megnevezése: | K6: SZENNYVÍZ ÁGAZAT
A7: Véleményeltérést megfogalmazó érintett fél megnevezése:
A8: Víziközmű-rendszer kódja: ** | K8: 21-32054-1-048-01-10 | R8: Zalaegerszeg-SZV
A9: V. Szennyvízelvezetés
A10: Fontossági sorrend | B10: Beruházás megnevezése | E10: Műszaki állapot felmérés, szükségességi indoklás | H10: Vízjogi létesítési/elvi engedély száma | I10: Az érintett ellátásért felelős(ök) megnevezése | J10: Tervezett nettó költség | K10: Forrás 2020 évre | L10: Megvalósítás időtartama | N10: Tervezett időtáv | O10: A beruházás ütemezése a tervezési időszak évei szerint
E11: Jelenlegi műszaki állapot | F11: Feladat szükségessége | G11: Megvalósítást követő várható műszaki állapot | J11: (eFt) | L11: Kezdés | M11: Befejezés | N11: (rövid / közép / hosszú) | O11: 1 | P11: 2 | Q11: 3 | R11: 4 | S11: 5 | T11: 6 | U11: 7 | V11: 8 | W11: 9 | X11: 10 | Y11: 11 | Z11: 12 | AA11: 13 | AB11: 14 | AC11: 15
B12: szakág | C12: Helyszín | D12: beruházás megnevezése
B14: SZENNYVÍZCSATORNA (GRAVITÁCIÓS)
B15: Épület, építmény
B17: SZENNYVÍZVEZETÉKEK (KÉNYSZERÁRAMOLTATÁSÚ)
B19: SZENNYVÍZÁTEMELŐK
B20: Épület, építmény
B21: Gép, berendezés
B22: Irányítástechnika, energiaellátás
B24: Összesen: | J24: =SUM(J14:J23) -> 0 | K24: 0 | O24: =SUM(O13:O23) -> 0 | P24: =SUM(P13:P23) -> 0 | Q24: =SUM(Q13:Q23) -> 0 | R24: =SUM(R13:R23) -> 0 | S24: =SUM(S13:S23) -> 0 | T24: =SUM(T13:T23) -> 0 | U24: =SUM(U13:U23) -> 0 | V24: =SUM(V13:V23) -> 0 | ... AC24: =SUM(AC13:AC23) -> 0
K25: Beruházásra forrás nem áll rendelkezésre.
B26: Tervezett feladatok nettó költsége a teljes ütem tekintetében (eFt) | C26: Rendelkezésre álló források számszerűsített értéke a teljes ütem tekintetében (eFt) | D26: Rendelkezésre álló források megnevezése
A27: I. ütem | B27: =O24 -> 0 | C27: 0 | D27: Fejlesztési díj (2020)
A28: II. ütem | B28: =SUM(P24:S24) -> 0 | C28: =C27*4 -> 0 | D28: Fejlesztési díj (2021-2024)
A29: III. ütem | B29: =SUM(T24:AC24) -> 0 | C29: =C27*10 -> 0 | D29: Fejlesztési díj (2025-2034)
B31: Jelenleg beruházási igény nem ismert, nincs rendelkezésre álló forrás beruházásra.

Sheet Kisbucsa
A2: Gördülő fejlesztési terv a 2020 - 2034 időszakra
A3: BERUHÁZÁSOK ÖSSZEFOGLALÓ TÁBLÁZATA
A4: A tervet benyújtó szervezet megnevezése: | K4: KISBUCSA | R4: ellátásért felelős / ellátásért felelősök képviselője / víziközmű-szolgáltató *
A5: Víziközmű-szolgáltató megnevezése: | K5: ÉSZAK ZALAI VÍZ- ÉS CSATORNAMŰ ZÁRTKÖRŰEN MŰKÖDŐ RÉSZVÉNYTÁRSASÁG
A6: Víziközmű-szolgáltatási ágazat megnevezése: | K6: SZENNYVÍZ ÁGAZAT
A7: Véleményeltérést megfogalmazó érintett fél megnevezése:
A8: Víziközmű-rendszer kódja: ** | K8: 21-32054-1-048-01-10 | R8: Zalaegerszeg-SZV
A9: V. Szennyvízelvezetés
A10: Fontossági sorrend | B10: Beruházás megnevezése | E10: Műszaki állapot felmérés, szükségességi indoklás | H10: Vízjogi létesítési/elvi engedély száma | I10: Az érintett ellátásért felelős(ök) megnevezése | J10: Tervezett nettó költség | K10: Forrás 2020 évre | L10: Megvalósítás időtartama | N10: Tervezett időtáv | O10: A beruházás ütemezése a tervezési időszak évei szerint
E11: Jelenlegi műszaki állapot | F11: Feladat szükségessége | G11: Megvalósítást követő várható műszaki állapot | J11: (eFt) | L11: Kezdés | M11: Befejezés | N11: (rövid / közép / hosszú) | O11: 1 | P11: 2 | Q11: 3 | R11: 4 | S11: 5 | T11: 6 | U11: 7 | V11: 8 | W11: 9 | X11: 10 | Y11: 11 | Z11: 12 | AA11: 13 | AB11: 14 | AC11: 15
B12: szakág | C12: Helyszín | D12: beruházás megnevezése
B14: SZENNYVÍZCSATORNA (GRAVITÁCIÓS)
B15: Épület, építmény
B17: SZENNYVÍZVEZETÉKEK (KÉNYSZERÁRAMOLTATÁSÚ)
B19: SZENNYVÍZÁTEMELŐK
B20: Épület, építmény
B21: Gép, berendezés
B22: Irányítástechnika, energiaellátás
B24: Összesen: | J24: =SUM(J14:J23) -> 0 | K24: 0 | O24: =SUM(O13:O23) -> 0 | P24: =SUM(P13:P23) -> 0 | Q24: =SUM(Q13:Q23) -> 0 | R24: =SUM(R13:R23) -> 0 | S24: =SUM(S13:S23) -> 0 | T24: =SUM(T13:T23) -> 0 | U24: =SUM(U13:U23) -> 0 | V24: =SUM(V13:V23) -> 0 | ... AC24: =SUM(AC13:AC23) -> 0
K25: Beruházásra forrás nem áll rendelkezésre.
B26: Tervezett feladatok nettó költsége a teljes ütem tekintetében (eFt) | C26: Rendelkezésre álló források számszerűsített értéke a teljes ütem tekintetében (eFt) | D26: Rendelkezésre álló források megnevezése
A27: I. ütem | B27: =O24 -> 0 | C27: 0 | D27: Fejlesztési díj (2020)
A28: II. ütem | B28: =SUM(P24:S24) -> 0 | C28: =C27*4 -> 0 | D28: Fejlesztési díj (2021-2024)
A29: III. ütem | B29: =SUM(T24:AC24) -> 0 | C29: =C27*10 -> 0 | D29: Fejlesztési díj (2025-2034)
B31: Jelenleg beruházási igény nem ismert, nincs rendelkezésre álló forrás beruházásra.

Sheet Kiskutas
A2: Gördülő fejlesztési terv a 2020 - 2034 időszakra
A3: BERUHÁZÁSOK ÖSSZEFOGLALÓ TÁBLÁZATA
A4: A tervet benyújtó szervezet megnevezése: | K4: KISKUTAS | R4: ellátásért felelős / ellátásért felelősök képviselője / víziközmű-szolgáltató *
A5: Víziközmű-szolgáltató megnevezése: | K5: ÉSZAK ZALAI VÍZ- ÉS CSATORNAMŰ ZÁRTKÖRŰEN MŰKÖDŐ RÉSZVÉNYTÁRSASÁG
A6: Víziközmű-szolgáltatási ágazat megnevezése: | K6: SZENNYVÍZ ÁGAZAT
A7: Véleményeltérést megfogalmazó érintett fél megnevezése:
A8: Víziközmű-rendszer kódja: ** | K8: 21-32054-1-048-01-10 | R8: Zalaegerszeg-SZV
A9: V. Szennyvízelvezetés
A10: Fontossági sorrend | B10: Beruházás megnevezése | E10: Műszaki állapot felmérés, szükségességi indoklás | H10: Vízjogi létesítési/elvi engedély száma | I10: Az érintett ellátásért felelős(ök) megnevezése | J10: Tervezett nettó költség | K10: Forrás 2020 évre | L10: Megvalósítás időtartama | N10: Tervezett időtáv | O10: A beruházás ütemezése a tervezési időszak évei szerint
E11: Jelenlegi műszaki állapot | F11: Feladat szükségessége | G11: Megvalósítást követő várható műszaki állapot | J11: (eFt) | L11: Kezdés | M11: Befejezés | N11: (rövid / közép / hosszú) | O11: 1 | P11: 2 | Q11: 3 | R11: 4 | S11: 5 | T11: 6 | U11: 7 | V11: 8 | W11: 9 | X11: 10 | Y11: 11 | Z11: 12 | AA11: 13 | AB11: 14 | AC11: 15
B12: szakág | C12: Helyszín | D12: beruházás megnevezése
B14: SZENNYVÍZCSATORNA (GRAVITÁCIÓS)
B15: Épület, építmény
B17: SZENNYVÍZVEZETÉKEK (KÉNYSZERÁRAMOLTATÁSÚ)
B19: SZENNYVÍZÁTEMELŐK
B20: Épület, építmény
B21: Gép, berendezés
B22: Irányítástechnika, energiaellátás
B24: Összesen: | J24: =SUM(J14:J23) -> 0 | K24: 0 | O24: =SUM(O13:O23) -> 0 | P24: =SUM(P13:P23) -> 0 | Q24: =SUM(Q13:Q23) -> 0 | R24: =SUM(R13:R23) -> 0 | S24: =SUM(S13:S23) -> 0 | T24: =SUM(T13:T23) -> 0 | U24: =SUM(U13:U23) -> 0 | V24: =SUM(V13:V23) -> 0 | ... AC24: =SUM(AC13:AC23) -> 0
K25: Beruházásra forrás nem áll rendelkezésre.
B26: Tervezett feladatok nettó költsége a teljes ütem tekintetében (eFt) | C26: Rendelkezésre álló források számszerűsített értéke a teljes ütem tekintetében (eFt) | D26: Rendelkezésre álló források megnevezése
A27: I. ütem | B27: =O24 -> 0 | C27: 0 | D27: Fejlesztési díj (2020)
A28: II. ütem | B28: =SUM(P24:S24) -> 0 | C28: =C27*4 -> 0 | D28: Fejlesztési díj (2021-2024)
A29: III. ütem | B29: =SUM(T24:AC24) -> 0 | C29: =C27*10 -> 0 | D29: Fejlesztési díj (2025-2034)
B31: Jelenleg beruházási igény nem ismert, nincs rendelkezésre álló forrás beruházásra.

Sheet Kispáli
A2: Gördülő fejlesztési terv a 2020 - 2034 időszakra
A3: BERUHÁZÁSOK ÖSSZEFOGLALÓ TÁBLÁZATA
A4: A tervet benyújtó szervezet megnevezése: | K4: KISPÁLI | R4: ellátásért felelős / ellátásért felelősök képviselője / víziközmű-szolgáltató *
A5: Víziközmű-szolgáltató megnevezése: | K5: ÉSZAK ZALAI VÍZ- ÉS CSATORNAMŰ ZÁRTKÖRŰEN MŰKÖDŐ RÉSZVÉNYTÁRSASÁG
A6: Víziközmű-szolgáltatási ágazat megnevezése: | K6: SZENNYVÍZ ÁGAZAT
A7: Véleményeltérést megfogalmazó érintett fél megnevezése:
A8: Víziközmű-rendszer kódja: ** | K8: 21-32054-1-048-01-10 | R8: Zalaegerszeg-SZV
A9: V. Szennyvízelvezetés
A10: Fontossági sorrend | B10: Beruházás megnevezése | E10: Műszaki állapot felmérés, szükségességi indoklás | H10: Vízjogi létesítési/elvi engedély száma | I10: Az érintett ellátásért felelős(ök) megnevezése | J10: Tervezett nettó költség | K10: Forrás 2020 évre | L10: Megvalósítás időtartama | N10: Tervezett időtáv | O10: A beruházás ütemezése a tervezési időszak évei szerint
E11: Jelenlegi műszaki állapot | F11: Feladat szükségessége | G11: Megvalósítást követő várható műszaki állapot | J11: (eFt) | L11: Kezdés | M11: Befejezés | N11: (rövid / közép / hosszú) | O11: 1 | P11: 2 | Q11: 3 | R11: 4 | S11: 5 | T11: 6 | U11: 7 | V11: 8 | W11: 9 | X11: 10 | Y11: 11 | Z11: 12 | AA11: 13 | AB11: 14 | AC11: 15
B12: szakág | C12: Helyszín | D12: beruházás megnevezése
B14: SZENNYVÍZCSATORNA (GRAVITÁCIÓS)
B15: Épület, építmény
B17: SZENNYVÍZVEZETÉKEK (KÉNYSZERÁRAMOLTATÁSÚ)
B19: SZENNYVÍZÁTEMELŐK
B20: Épület, építmény
B21: Gép, berendezés
B22: Irányítástechnika, energiaellátás
B24: Összesen: | J24: =SUM(J14:J23) -> 0 | K24: 0 | O24: =SUM(O13:O23) -> 0 | P24: =SUM(P13:P23) -> 0 | Q24: =SUM(Q13:Q23) -> 0 | R24: =SUM(R13:R23) -> 0 | S24: =SUM(S13:S23) -> 0 | T24: =SUM(T13:T23) -> 0 | U24: =SUM(U13:U23) -> 0 | V24: =SUM(V13:V23) -> 0 | ... AC24: =SUM(AC13:AC23) -> 0
K25: Beruházásra forrás nem áll rendelkezésre.
B26: Tervezett feladatok nettó költsége a teljes ütem tekintetében (eFt) | C26: Rendelkezésre álló források számszerűsített értéke a teljes ütem tekintetében (eFt) | D26: Rendelkezésre álló források megnevezése
A27: I. ütem | B27: =O24 -> 0 | C27: 0 | D27: Fejlesztési díj (2020)
A28: II. ütem | B28: =SUM(P24:S24) -> 0 | C28: =C27*4 -> 0 | D28: Fejlesztési díj (2021-2024)
A29: III. ütem | B29: =SUM(T24:AC24) -> 0 | C29: =C27*10 -> 0 | D29: Fejlesztési díj (2025-2034)
B31: Jelenleg beruházási igény nem ismert, nincs rendelkezésre álló forrás beruházásra.

Sheet Lakhegy
A2: Gördülő fejlesztési terv a 2020 - 2034 időszakra
A3: BERUHÁZÁSOK ÖSSZEFOGLALÓ TÁBLÁZATA
A4: A tervet benyújtó szervezet megnevezése: | K4: LAKHEGY | R4: ellátásért felelős / ellátásért felelősök képviselője / víziközmű-szolgáltató *
A5: Víziközmű-szolgáltató megnevezése: | K5: ÉSZAK ZALAI VÍZ- ÉS CSATORNAMŰ ZÁRTKÖRŰEN MŰKÖDŐ RÉSZVÉNYTÁRSASÁG
A6: Víziközmű-szolgáltatási ágazat megnevezése: | K6: SZENNYVÍZ ÁGAZAT
A7: Véleményeltérést megfogalmazó érintett fél megnevezése:
A8: Víziközmű-rendszer kódja: ** | K8: 21-32054-1-048-01-10 | R8: Zalaegerszeg-SZV
A9: V. Szennyvízelvezetés
A10: Fontossági sorrend | B10: Beruházás megnevezése | E10: Műszaki állapot felmérés, szükségességi indoklás | H10: Vízjogi létesítési/elvi engedély száma | I10: Az érintett ellátásért felelős(ök) megnevezése | J10: Tervezett nettó költség | K10: Forrás 2020 évre | L10: Megvalósítás időtartama | N10: Tervezett időtáv | O10: A beruházás ütemezése a tervezési időszak évei szerint
E11: Jelenlegi műszaki állapot | F11: Feladat szükségessége | G11: Megvalósítást követő várható műszaki állapot | J11: (eFt) | L11: Kezdés | M11: Befejezés | N11: (rövid / közép / hosszú) | O11: 1 | P11: 2 | Q11: 3 | R11: 4 | S11: 5 | T11: 6 | U11: 7 | V11: 8 | W11: 9 | X11: 10 | Y11: 11 | Z11: 12 | AA11: 13 | AB11: 14 | AC11: 15
B12: szakág | C12: Helyszín | D12: beruházás megnevezése
B14: SZENNYVÍZCSATORNA (GRAVITÁCIÓS)
B15: Épület, építmény
B17: SZENNYVÍZVEZETÉKEK (KÉNYSZERÁRAMOLTATÁSÚ)
B19: SZENNYVÍZÁTEMELŐK
B20: Épület, építmény
B21: Gép, berendezés
B22: Irányítástechnika, energiaellátás
B24: Összesen: | J24: =SUM(J14:J23) -> 0 | K24: 0 | O24: =SUM(O13:O23) -> 0 | P24: =SUM(P13:P23) -> 0 | Q24: =SUM(Q13:Q23) -> 0 | R24: =SUM(R13:R23) -> 0 | S24: =SUM(S13:S23) -> 0 | T24: =SUM(T13:T23) -> 0 | U24: =SUM(U13:U23) -> 0 | V24: =SUM(V13:V23) -> 0 | ... AC24: =SUM(AC13:AC23) -> 0
K25: Beruházásra forrás nem áll rendelkezésre.
B26: Tervezett feladatok nettó költsége a teljes ütem tekintetében (eFt) | C26: Rendelkezésre álló források számszerűsített értéke a teljes ütem tekintetében (eFt) | D26: Rendelkezésre álló források megnevezése
A27: I. ütem | B27: =O24 -> 0 | C27: 0 | D27: Fejlesztési díj (2020)
A28: II. ütem | B28: =SUM(P24:S24) -> 0 | C28: =C27*4 -> 0 | D28: Fejlesztési díj (2021-2024)
A29: III. ütem | B29: =SUM(T24:AC24) -> 0 | C29: =C27*10 -> 0 | D29: Fejlesztési díj (2025-2034)
B31: Jelenleg beruházási igény nem ismert, nincs rendelkezésre álló forrás beruházásra.

Sheet Nagykutas
A2: Gördülő fejlesztési terv a 2020 - 2034 időszakra
A3: BERUHÁZÁSOK ÖSSZEFOGLALÓ TÁBLÁZATA
A4: A tervet benyújtó szervezet megnevezése: | K4: NAGYKUTAS | R4: ellátásért felelős / ellátásért felelősök képviselője / víziközmű-szolgáltató *
A5: Víziközmű-szolgáltató megnevezése: | K5: ÉSZAK ZALAI VÍZ- ÉS CSATORNAMŰ ZÁRTKÖRŰEN MŰKÖDŐ RÉSZVÉNYTÁRSASÁG
A6: Víziközmű-szolgáltatási ágazat megnevezése: | K6: SZENNYVÍZ ÁGAZAT
A7: Véleményeltérést megfogalmazó érintett fél megnevezése:
A8: Víziközmű-rendszer kódja: ** | K8: 21-32054-1-048-01-10 | R8: Zalaegerszeg-SZV
A9: V. Szennyvízelvezetés
A10: Fontossági sorrend | B10: Beruházás megnevezése | E10: Műszaki állapot felmérés, szükségességi indoklás | H10: Vízjogi létesítési/elvi engedély száma | I10: Az érintett ellátásért felelős(ök) megnevezése | J10: Tervezett nettó költség | K10: Forrás 2020 évre | L10: Megvalósítás időtartama | N10: Tervezett időtáv | O10: A beruházás ütemezése a tervezési időszak évei szerint
E11: Jelenlegi műszaki állapot | F11: Feladat szükségessége | G11: Megvalósítást követő várható műszaki állapot | J11: (eFt) | L11: Kezdés | M11: Befejezés | N11: (rövid / közép / hosszú) | O11: 1 | P11: 2 | Q11: 3 | R11: 4 | S11: 5 | T11: 6 | U11: 7 | V11: 8 | W11: 9 | X11: 10 | Y11: 11 | Z11: 12 | AA11: 13 | AB11: 14 | AC11: 15
B12: szakág | C12: Helyszín | D12: beruházás megnevezése
B14: SZENNYVÍZCSATORNA (GRAVITÁCIÓS)
B15: Épület, építmény
B17: SZENNYVÍZVEZETÉKEK (KÉNYSZERÁRAMOLTATÁSÚ)
B19: SZENNYVÍZÁTEMELŐK
B20: Épület, építmény
B21: Gép, berendezés
B22: Irányítástechnika, energiaellátás
B24: Összesen: | J24: =SUM(J14:J23) -> 0 | K24: 0 | O24: =SUM(O13:O23) -> 0 | P24: =SUM(P13:P23) -> 0 | Q24: =SUM(Q13:Q23) -> 0 | R24: =SUM(R13:R23) -> 0 | S24: =SUM(S13:S23) -> 0 | T24: =SUM(T13:T23) -> 0 | U24: =SUM(U13:U23) -> 0 | V24: =SUM(V13:V23) -> 0 | ... AC24: =SUM(AC13:AC23) -> 0
K25: Beruházásra forrás nem áll rendelkezésre.
B26: Tervezett feladatok nettó költsége a teljes ütem tekintetében (eFt) | C26: Rendelkezésre álló források számszerűsített értéke a teljes ütem tekintetében (eFt) | D26: Rendelkezésre álló források megnevezése
A27: I. ütem | B27: =O24 -> 0 | C27: 0 | D27: Fejlesztési díj (2020)
A28: II. ütem | B28: =SUM(P24:S24) -> 0 | C28: =C27*4 -> 0 | D28: Fejlesztési díj (2021-2024)
A29: III. ütem | B29: =SUM(T24:AC24) -> 0 | C29: =C27*10 -> 0 | D29: Fejlesztési díj (2025-2034)
B31: Jelenleg beruházási igény nem ismert, nincs rendelkezésre álló forrás beruházásra.

Sheet Nagypáli
A2: Gördülő fejlesztési terv a 2020 - 2034 időszakra
A3: BERUHÁZÁSOK ÖSSZEFOGLALÓ TÁBLÁZATA
A4: A tervet benyújtó szervezet megnevezése: | K4: NAGYPÁLI | R4: ellátásért felelős / ellátásért felelősök képviselője / víziközmű-szolgáltató *
A5: Víziközmű-szolgáltató megnevezése: | K5: ÉSZAK ZALAI VÍZ- ÉS CSATORNAMŰ ZÁRTKÖRŰEN MŰKÖDŐ RÉSZVÉNYTÁRSASÁG
A6: Víziközmű-szolgáltatási ágazat megnevezése: | K6: SZENNYVÍZ ÁGAZAT
A7: Véleményeltérést megfogalmazó érintett fél megnevezése:
A8: Víziközmű-rendszer kódja: ** | K8: 21-32054-1-048-01-10 | R8: Zalaegerszeg-SZV
A9: V. Szennyvízelvezetés
A10: Fontossági sorrend | B10: Beruházás megnevezése | E10: Műszaki állapot felmérés, szükségességi indoklás | H10: Vízjogi létesítési/elvi engedély száma | I10: Az érintett ellátásért felelős(ök) megnevezése | J10: Tervezett nettó költség | K10: Forrás 2020 évre | L10: Megvalósítás időtartama | N10: Tervezett időtáv | O10: A beruházás ütemezése a tervezési időszak évei szerint
E11: Jelenlegi műszaki állapot | F11: Feladat szükségessége | G11: Megvalósítást követő várható műszaki állapot | J11: (eFt) | L11: Kezdés | M11: Befejezés | N11: (rövid / közép / hosszú) | O11: 1 | P11: 2 | Q11: 3 | R11: 4 | S11: 5 | T11: 6 | U11: 7 | V11: 8 | W11: 9 | X11: 10 | Y11: 11 | Z11: 12 | AA11: 13 | AB11: 14 | AC11: 15
B12: szakág | C12: Helyszín | D12: beruházás megnevezése
B14: SZENNYVÍZCSATORNA (GRAVITÁCIÓS)
B15: Épület, építmény
B17: SZENNYVÍZVEZETÉKEK (KÉNYSZERÁRAMOLTATÁSÚ)
B19: SZENNYVÍZÁTEMELŐK
B20: Épület, építmény
B21: Gép, berendezés
B22: Irányítástechnika, energiaellátás
B24: Összesen: | J24: =SUM(J14:J23) -> 0 | K24: 0 | O24: =SUM(O13:O23) -> 0 | P24: =SUM(P13:P23) -> 0 | Q24: =SUM(Q13:Q23) -> 0 | R24: =SUM(R13:R23) -> 0 | S24: =SUM(S13:S23) -> 0 | T24: =SUM(T13:T23) -> 0 | U24: =SUM(U13:U23) -> 0 | V24: =SUM(V13:V23) -> 0 | ... AC24: =SUM(AC13:AC23) -> 0
K25: Beruházásra forrás nem áll rendelkezésre.
B26: Tervezett feladatok nettó költsége a teljes ütem tekintetében (eFt) | C26: Rendelkezésre álló források számszerűsített értéke a teljes ütem tekintetében (eFt) | D26: Rendelkezésre álló források megnevezése
A27: I. ütem | B27: =O24 -> 0 | C27: 0 | D27: Fejlesztési díj (2020)
A28: II. ütem | B28: =SUM(P24:S25) -> 0 | C28: =C27*4 -> 0 | D28: Fejlesztési díj (2021-2024)
A29: III. ütem | B29: =SUM(T24:AC24) -> 0 | C29: =C27*10 -> 0 | D29: Fejlesztési díj (2025-2034)
B31: Jelenleg beruházási igény nem ismert, nincs rendelkezésre álló forrás beruházásra.

Sheet Nemesapáti
A2: Gördülő fejlesztési terv a 2020 - 2034 időszakra
A3: BERUHÁZÁSOK ÖSSZEFOGLALÓ TÁBLÁZATA
A4: A tervet benyújtó szervezet megnevezése: | K4: NEMESAPÁTI | R4: ellátásért felelős / ellátásért felelősök képviselője / víziközmű-szolgáltató *
A5: Víziközmű-szolgáltató megnevezése: | K5: ÉSZAK ZALAI VÍZ- ÉS CSATORNAMŰ ZÁRTKÖRŰEN MŰKÖDŐ RÉSZVÉNYTÁRSASÁG
A6: Víziközmű-szolgáltatási ágazat megnevezése: | K6: SZENNYVÍZ ÁGAZAT
A7: Véleményeltérést megfogalmazó érintett fél megnevezése:
A8: Víziközmű-rendszer kódja: ** | K8: 21-32054-1-048-01-10 | R8: Zalaegerszeg-SZV
A9: V. Szennyvízelvezetés
A10: Fontossági sorrend | B10: Beruházás megnevezése | E10: Műszaki állapot felmérés, szükségességi indoklás | H10: Vízjogi létesítési/elvi engedély száma | I10: Az érintett ellátásért felelős(ök) megnevezése | J10: Tervezett nettó költség | K10: Forrás 2020 évre | L10: Megvalósítás időtartama | N10: Tervezett időtáv | O10: A beruházás ütemezése a tervezési időszak évei szerint
E11: Jelenlegi műszaki állapot | F11: Feladat szükségessége | G11: Megvalósítást követő várható műszaki állapot | J11: (eFt) | L11: Kezdés | M11: Befejezés | N11: (rövid / közép / hosszú) | O11: 1 | P11: 2 | Q11: 3 | R11: 4 | S11: 5 | T11: 6 | U11: 7 | V11: 8 | W11: 9 | X11: 10 | Y11: 11 | Z11: 12 | AA11: 13 | AB11: 14 | AC11: 15
B12: szakág | C12: Helyszín | D12: beruházás megnevezése
B14: SZENNYVÍZCSATORNA (GRAVITÁCIÓS)
B15: Épület, építmény
B17: SZENNYVÍZVEZETÉKEK (KÉNYSZERÁRAMOLTATÁSÚ)
B19: SZENNYVÍZÁTEMELŐK
B20: Épület, építmény
B21: Gép, berendezés
B22: Irányítástechnika, energiaellátás
B24: Összesen: | J24: =SUM(J14:J23) -> 0 | K24: 0 | O24: =SUM(O13:O23) -> 0 | P24: =SUM(P13:P23) -> 0 | Q24: =SUM(Q13:Q23) -> 0 | R24: =SUM(R13:R23) -> 0 | S24: =SUM(S13:S23) -> 0 | T24: =SUM(T13:T23) -> 0 | U24: =SUM(U13:U23) -> 0 | V24: =SUM(V13:V23) -> 0 | ... AC24: =SUM(AC13:AC23) -> 0
K25: Beruházásra forrás nem áll rendelkezésre.
B26: Tervezett feladatok nettó költsége a teljes ütem tekintetében (eFt) | C26: Rendelkezésre álló források számszerűsített értéke a teljes ütem tekintetében (eFt) | D26: Rendelkezésre álló források megnevezése
A27: I. ütem | B27: =O24 -> 0 | C27: 0 | D27: Fejlesztési díj (2020)
A28: II. ütem | B28: =SUM(P24:S24) -> 0 | C28: =C27*4 -> 0 | D28: Fejlesztési díj (2021-2024)
A29: III. ütem | B29: =SUM(T24:AC24) -> 0 | C29: =C27*10 -> 0 | D29: Fejlesztési díj (2025-2034)
B31: Jelenleg beruházási igény nem ismert, nincs rendelkezésre álló forrás beruházásra.

Sheet Nemeshetés
A2: Gördülő fejlesztési terv a 2020 - 2034 időszakra
A3: BERUHÁZÁSOK ÖSSZEFOGLALÓ TÁBLÁZATA
A4: A tervet benyújtó szervezet megnevezése: | K4: NEMESHETÉS | R4: ellátásért felelős / ellátásért felelősök képviselője / víziközmű-szolgáltató *
A5: Víziközmű-szolgáltató megnevezése: | K5: ÉSZAK ZALAI VÍZ- ÉS CSATORNAMŰ ZÁRTKÖRŰEN MŰKÖDŐ RÉSZVÉNYTÁRSASÁG
A6: Víziközmű-szolgáltatási ágazat megnevezése: | K6: SZENNYVÍZ ÁGAZAT
A7: Véleményeltérést megfogalmazó érintett fél megnevezése:
A8: Víziközmű-rendszer kódja: ** | K8: 21-32054-1-048-01-10 | R8: Zalaegerszeg-SZV
A9: V. Szennyvízelvezetés
A10: Fontossági sorrend | B10: Beruházás megnevezése | E10: Műszaki állapot felmérés, szükségességi indoklás | H10: Vízjogi létesítési/elvi engedély száma | I10: Az érintett ellátásért felelős(ök) megnevezése | J10: Tervezett nettó költség | K10: Forrás 2020 évre | L10: Megvalósítás időtartama | N10: Tervezett időtáv | O10: A beruházás ütemezése a tervezési időszak évei szerint
E11: Jelenlegi műszaki állapot | F11: Feladat szükségessége | G11: Megvalósítást követő várható műszaki állapot | J11: (eFt) | L11: Kezdés | M11: Befejezés | N11: (rövid / közép / hosszú) | O11: 1 | P11: 2 | Q11: 3 | R11: 4 | S11: 5 | T11: 6 | U11: 7 | V11: 8 | W11: 9 | X11: 10 | Y11: 11 | Z11: 12 | AA11: 13 | AB11: 14 | AC11: 15
B12: szakág | C12: Helyszín | D12: beruházás megnevezése
B14: SZENNYVÍZCSATORNA (GRAVITÁCIÓS)
B15: Épület, építmény
B17: SZENNYVÍZVEZETÉKEK (KÉNYSZERÁRAMOLTATÁSÚ)
B19: SZENNYVÍZÁTEMELŐK
B20: Épület, építmény
B21: Gép, berendezés
B22: Irányítástechnika, energiaellátás
B24: Összesen: | J24: =SUM(J14:J23) -> 0 | K24: 0 | O24: =SUM(O13:O23) -> 0 | P24: =SUM(P13:P23) -> 0 | Q24: =SUM(Q13:Q23) -> 0 | R24: =SUM(R13:R23) -> 0 | S24: =SUM(S13:S23) -> 0 | T24: =SUM(T13:T23) -> 0 | U24: =SUM(U13:U23) -> 0 | V24: =SUM(V13:V23) -> 0 | ... AC24: =SUM(AC13:AC23) -> 0
K25: Beruházásra forrás nem áll rendelkezésre.
B26: Tervezett feladatok nettó költsége a teljes ütem tekintetében (eFt) | C26: Rendelkezésre álló források számszerűsített értéke a teljes ütem tekintetében (eFt) | D26: Rendelkezésre álló források megnevezése
A27: I. ütem | B27: =O24 -> 0 | C27: 0 | D27: Fejlesztési díj (2020)
A28: II. ütem | B28: =SUM(P24:S24) -> 0 | C28: =C27*4 -> 0 | D28: Fejlesztési díj (2021-2024)
A29: III. ütem | B29: =SUM(T24:AC24) -> 0 | C29: =C27*10 -> 0 | D29: Fejlesztési díj (2025-2034)
B31: Jelenleg beruházási igény nem ismert, nincs rendelkezésre álló forrás beruházásra.

Sheet Nemesándorháza
A2: Gördülő fejlesztési terv a 2020 - 2034 időszakra
A3: BERUHÁZÁSOK ÖSSZEFOGLALÓ TÁBLÁZATA
A4: A tervet benyújtó szervezet megnevezése: | K4: NEMESSÁNDORHÁZA | R4: ellátásért felelős / ellátásért felelősök képviselője / víziközmű-szolgáltató *
A5: Víziközmű-szolgáltató megnevezése: | K5: ÉSZAK ZALAI VÍZ- ÉS CSATORNAMŰ ZÁRTKÖRŰEN MŰKÖDŐ RÉSZVÉNYTÁRSASÁG
A6: Víziközmű-szolgáltatási ágazat megnevezése: | K6: SZENNYVÍZ ÁGAZAT
A7: Véleményeltérést megfogalmazó érintett fél megnevezése:
A8: Víziközmű-rendszer kódja: ** | K8: 21-32054-1-048-01-10 | R8: Zalaegerszeg-SZV
A9: V. Szennyvízelvezetés
A10: Fontossági sorrend | B10: Beruházás megnevezése | E10: Műszaki állapot felmérés, szükségességi indoklás | H10: Vízjogi létesítési/elvi engedély száma | I10: Az érintett ellátásért felelős(ök) megnevezése | J10: Tervezett nettó költség | K10: Forrás 2020 évre | L10: Megvalósítás időtartama | N10: Tervezett időtáv | O10: A beruházás ütemezése a tervezési időszak évei szerint
E11: Jelenlegi műszaki állapot | F11: Feladat szükségessége | G11: Megvalósítást követő várható műszaki állapot | J11: (eFt) | L11: Kezdés | M11: Befejezés | N11: (rövid / közép / hosszú) | O11: 1 | P11: 2 | Q11: 3 | R11: 4 | S11: 5 | T11: 6 | U11: 7 | V11: 8 | W11: 9 | X11: 10 | Y11: 11 | Z11: 12 | AA11: 13 | AB11: 14 | AC11: 15
B12: szakág | C12: Helyszín | D12: beruházás megnevezése
B14: SZENNYVÍZCSATORNA (GRAVITÁCIÓS)
B15: Épület, építmény
B17: SZENNYVÍZVEZETÉKEK (KÉNYSZERÁRAMOLTATÁSÚ)
B19: SZENNYVÍZÁTEMELŐK
B20: Épület, építmény
B21: Gép, berendezés
B22: Irányítástechnika, energiaellátás
B24: Összesen: | J24: =SUM(J14:J23) -> 0 | K24: 0 | O24: =SUM(O13:O23) -> 0 | P24: =SUM(P13:P23) -> 0 | Q24: =SUM(Q13:Q23) -> 0 | R24: =SUM(R13:R23) -> 0 | S24: =SUM(S13:S23) -> 0 | T24: =SUM(T13:T23) -> 0 | U24: =SUM(U13:U23) -> 0 | V24: =SUM(V13:V23) -> 0 | ... AC24: =SUM(AC13:AC23) -> 0
K25: Beruházásra forrás nem áll rendelkezésre.
B26: Tervezett feladatok nettó költsége a teljes ütem tekintetében (eFt) | C26: Rendelkezésre álló források számszerűsített értéke a teljes ütem tekintetében (eFt) | D26: Rendelkezésre álló források megnevezése
A27: I. ütem | B27: =O24 -> 0 | C27: 0 | D27: Fejlesztési díj (2020)
A28: II. ütem | B28: =SUM(P24:S24) -> 0 | C28: =C27*4 -> 0 | D28: Fejlesztési díj (2021-2024)
A29: III. ütem | B29: =SUM(T24:AC24) -> 0 | C29: =C27*10 -> 0 | D29: Fejlesztési díj (2025-2034)
B31: Jelenleg beruházási igény nem ismert, nincs rendelkezésre álló forrás beruházásra.

Sheet Nemesszentandrás
A2: Gördülő fejlesztési terv a 2020 - 2034 időszakra
A3: BERUHÁZÁSOK ÖSSZEFOGLALÓ TÁBLÁZATA
A4: A tervet benyújtó szervezet megnevezése: | K4: NEMESSZENTANDRÁS | R4: ellátásért felelős / ellátásért felelősök képviselője / víziközmű-szolgáltató *
A5: Víziközmű-szolgáltató megnevezése: | K5: ÉSZAK ZALAI VÍZ- ÉS CSATORNAMŰ ZÁRTKÖRŰEN MŰKÖDŐ RÉSZVÉNYTÁRSASÁG
A6: Víziközmű-szolgáltatási ágazat megnevezése: | K6: SZENNYVÍZ ÁGAZAT
A7: Véleményeltérést megfogalmazó érintett fél megnevezése:
A8: Víziközmű-rendszer kódja: ** | K8: 21-32054-1-048-01-10 | R8: Zalaegerszeg-SZV
A9: V. Szennyvízelvezetés
A10: Fontossági sorrend | B10: Beruházás megnevezése | E10: Műszaki állapot felmérés, szükségességi indoklás | H10: Vízjogi létesítési/elvi engedély száma | I10: Az érintett ellátásért felelős(ök) megnevezése | J10: Tervezett nettó költség | K10: Forrás 2020 évre | L10: Megvalósítás időtartama | N10: Tervezett időtáv | O10: A beruházás ütemezése a tervezési időszak évei szerint
E11: Jelenlegi műszaki állapot | F11: Feladat szükségessége | G11: Megvalósítást követő várható műszaki állapot | J11: (eFt) | L11: Kezdés | M11: Befejezés | N11: (rövid / közép / hosszú) | O11: 1 | P11: 2 | Q11: 3 | R11: 4 | S11: 5 | T11: 6 | U11: 7 | V11: 8 | W11: 9 | X11: 10 | Y11: 11 | Z11: 12 | AA11: 13 | AB11: 14 | AC11: 15
B12: szakág | C12: Helyszín | D12: beruházás megnevezése
B14: SZENNYVÍZCSATORNA (GRAVITÁCIÓS)
B15: Épület, építmény
B17: SZENNYVÍZVEZETÉKEK (KÉNYSZERÁRAMOLTATÁSÚ)
B19: SZENNYVÍZÁTEMELŐK
B20: Épület, építmény
B21: Gép, berendezés
B22: Irányítástechnika, energiaellátás
B24: Összesen: | J24: =SUM(J14:J23) -> 0 | K24: 0 | O24: =SUM(O13:O23) -> 0 | P24: =SUM(P13:P23) -> 0 | Q24: =SUM(Q13:Q23) -> 0 | R24: =SUM(R13:R23) -> 0 | S24: =SUM(S13:S23) -> 0 | T24: =SUM(T13:T23) -> 0 | U24: =SUM(U13:U23) -> 0 | V24: =SUM(V13:V23) -> 0 | ... AC24: =SUM(AC13:AC23) -> 0
K25: Beruházásra forrás nem áll rendelkezésre.
B26: Tervezett feladatok nettó költsége a teljes ütem tekintetében (eFt) | C26: Rendelkezésre álló források számszerűsített értéke a teljes ütem tekintetében (eFt) | D26: Rendelkezésre álló források megnevezése
A27: I. ütem | B27: =O24 -> 0 | C27: 0 | D27: Fejlesztési díj (2020)
A28: II. ütem | B28: =SUM(P24:S24) -> 0 | C28: =C27*4 -> 0 | D28: Fejlesztési díj (2021-2024)
A29: III. ütem | B29: =SUM(T24:AC24) -> 0 | C29: =C27*10 -> 0 | D29: Fejlesztési díj (2025-2034)
B31: Jelenleg beruházási igény nem ismert, nincs rendelkezésre álló forrás beruházásra.

Sheet Németfalu
A2: Gördülő fejlesztési terv a 2020 - 2034 időszakra
A3: BERUHÁZÁSOK ÖSSZEFOGLALÓ TÁBLÁZATA
A4: A tervet benyújtó szervezet megnevezése: | K4: NÉMETFALU | R4: ellátásért felelős / ellátásért felelősök képviselője / víziközmű-szolgáltató *
A5: Víziközmű-szolgáltató megnevezése: | K5: ÉSZAK ZALAI VÍZ- ÉS CSATORNAMŰ ZÁRTKÖRŰEN MŰKÖDŐ RÉSZVÉNYTÁRSASÁG
A6: Víziközmű-szolgáltatási ágazat megnevezése: | K6: SZENNYVÍZ ÁGAZAT
A7: Véleményeltérést megfogalmazó érintett fél megnevezése:
A8: Víziközmű-rendszer kódja: ** | K8: 21-32054-1-048-01-10 | R8: Zalaegerszeg-SZV
A9: V. Szennyvízelvezetés
A10: Fontossági sorrend | B10: Beruházás megnevezése | E10: Műszaki állapot felmérés, szükségességi indoklás | H10: Vízjogi létesítési/elvi engedély száma | I10: Az érintett ellátásért felelős(ök) megnevezése | J10: Tervezett nettó költség | K10: Forrás 2020 évre | L10: Megvalósítás időtartama | N10: Tervezett időtáv | O10: A beruházás ütemezése a tervezési időszak évei szerint
E11: Jelenlegi műszaki állapot | F11: Feladat szükségessége | G11: Megvalósítást követő várható műszaki állapot | J11: (eFt) | L11: Kezdés | M11: Befejezés | N11: (rövid / közép / hosszú) | O11: 1 | P11: 2 | Q11: 3 | R11: 4 | S11: 5 | T11: 6 | U11: 7 | V11: 8 | W11: 9 | X11: 10 | Y11: 11 | Z11: 12 | AA11: 13 | AB11: 14 | AC11: 15
B12: szakág | C12: Helyszín | D12: beruházás megnevezése
B14: SZENNYVÍZCSATORNA (GRAVITÁCIÓS)
B15: Épület, építmény
B17: SZENNYVÍZVEZETÉKEK (KÉNYSZERÁRAMOLTATÁSÚ)
B19: SZENNYVÍZÁTEMELŐK
B20: Épület, építmény
B21: Gép, berendezés
B22: Irányítástechnika, energiaellátás
B24: Összesen: | J24: =SUM(J14:J23) -> 0 | K24: 0 | O24: =SUM(O13:O23) -> 0 | P24: =SUM(P13:P23) -> 0 | Q24: =SUM(Q13:Q23) -> 0 | R24: =SUM(R13:R23) -> 0 | S24: =SUM(S13:S23) -> 0 | T24: =SUM(T13:T23) -> 0 | U24: =SUM(U13:U23) -> 0 | V24: =SUM(V13:V23) -> 0 | ... AC24: =SUM(AC13:AC23) -> 0
K25: Beruházásra forrás nem áll rendelkezésre.
B26: Tervezett feladatok nettó költsége a teljes ütem tekintetében (eFt) | C26: Rendelkezésre álló források számszerűsített értéke a teljes ütem tekintetében (eFt) | D26: Rendelkezésre álló források megnevezése
A27: I. ütem | B27: =O24 -> 0 | C27: 0 | D27: Fejlesztési díj (2020)
A28: II. ütem | B28: =SUM(P24:S24) -> 0 | C28: =C27*4 -> 0 | D28: Fejlesztési díj (2021-2024)
A29: III. ütem | B29: =SUM(T24:AC24) -> 0 | C29: =C27*10 -> 0 | D29: Fejlesztési díj (2025-2034)
B31: Jelenleg beruházási igény nem ismert, nincs rendelkezésre álló forrás beruházásra.

Sheet Ozmánbük
A2: Gördülő fejlesztési terv a 2020 - 2034 időszakra
A3: BERUHÁZÁSOK ÖSSZEFOGLALÓ TÁBLÁZATA
A4: A tervet benyújtó szervezet megnevezése: | K4: OZMÁNBÜK | R4: ellátásért felelős / ellátásért felelősök képviselője / víziközmű-szolgáltató *
A5: Víziközmű-szolgáltató megnevezése: | K5: ÉSZAK ZALAI VÍZ- ÉS CSATORNAMŰ ZÁRTKÖRŰEN MŰKÖDŐ RÉSZVÉNYTÁRSASÁG
A6: Víziközmű-szolgáltatási ágazat megnevezése: | K6: SZENNYVÍZ ÁGAZAT
A7: Véleményeltérést megfogalmazó érintett fél megnevezése:
A8: Víziközmű-rendszer kódja: ** | K8: 21-32054-1-048-01-10 | R8: Zalaegerszeg-SZV
A9: V. Szennyvízelvezetés
A10: Fontossági sorrend | B10: Beruházás megnevezése | E10: Műszaki állapot felmérés, szükségességi indoklás | H10: Vízjogi létesítési/elvi engedély száma | I10: Az érintett ellátásért felelős(ök) megnevezése | J10: Tervezett nettó költség | K10: Forrás 2020 évre | L10: Megvalósítás időtartama | N10: Tervezett időtáv | O10: A beruházás ütemezése a tervezési időszak évei szerint
E11: Jelenlegi műszaki állapot | F11: Feladat szükségessége | G11: Megvalósítást követő várható műszaki állapot | J11: (eFt) | L11: Kezdés | M11: Befejezés | N11: (rövid / közép / hosszú) | O11: 1 | P11: 2 | Q11: 3 | R11: 4 | S11: 5 | T11: 6 | U11: 7 | V11: 8 | W11: 9 | X11: 10 | Y11: 11 | Z11: 12 | AA11: 13 | AB11: 14 | AC11: 15
B12: szakág | C12: Helyszín | D12: beruházás megnevezése
B14: SZENNYVÍZCSATORNA (GRAVITÁCIÓS)
B15: Épület, építmény
B17: SZENNYVÍZVEZETÉKEK (KÉNYSZERÁRAMOLTATÁSÚ)
B19: SZENNYVÍZÁTEMELŐK
B20: Épület, építmény
B21: Gép, berendezés
B22: Irányítástechnika, energiaellátás
B24: Összesen: | J24: =SUM(J14:J23) -> 0 | K24: 0 | O24: =SUM(O13:O23) -> 0 | P24: =SUM(P13:P23) -> 0 | Q24: =SUM(Q13:Q23) -> 0 | R24: =SUM(R13:R23) -> 0 | S24: =SUM(S13:S23) -> 0 | T24: =SUM(T13:T23) -> 0 | U24: =SUM(U13:U23) -> 0 | V24: =SUM(V13:V23) -> 0 | ... AC24: =SUM(AC13:AC23) -> 0
K25: Beruházásra forrás nem áll rendelkezésre.
B26: Tervezett feladatok nettó költsége a teljes ütem tekintetében (eFt) | C26: Rendelkezésre álló források számszerűsített értéke a teljes ütem tekintetében (eFt) | D26: Rendelkezésre álló források megnevezése
A27: I. ütem | B27: =O24 -> 0 | C27: 0 | D27: Fejlesztési díj (2020)
A28: II. ütem | B28: =SUM(P24:S24) -> 0 | C28: =C27*4 -> 0 | D28: Fejlesztési díj (2021-2024)
A29: III. ütem | B29: =SUM(T24:AC24) -> 0 | C29: =C27*10 -> 0 | D29: Fejlesztési díj (2025-2034)
B31: Jelenleg beruházási igény nem ismert, nincs rendelkezésre álló forrás beruházásra.

Sheet Pethőhenye
A2: Gördülő fejlesztési terv a 2020 - 2034 időszakra
A3: BERUHÁZÁSOK ÖSSZEFOGLALÓ TÁBLÁZATA
A4: A tervet benyújtó szervezet megnevezése: | K4: PETHŐHENYE | R4: ellátásért felelős / ellátásért felelősök képviselője / víziközmű-szolgáltató *
A5: Víziközmű-szolgáltató megnevezése: | K5: ÉSZAK ZALAI VÍZ- ÉS CSATORNAMŰ ZÁRTKÖRŰEN MŰKÖDŐ RÉSZVÉNYTÁRSASÁG
A6: Víziközmű-szolgáltatási ágazat megnevezése: | K6: SZENNYVÍZ ÁGAZAT
A7: Véleményeltérést megfogalmazó érintett fél megnevezése:
A8: Víziközmű-rendszer kódja: ** | K8: 21-32054-1-048-01-10 | R8: Zalaegerszeg-SZV
A9: V. Szennyvízelvezetés
A10: Fontossági sorrend | B10: Beruházás megnevezése | E10: Műszaki állapot felmérés, szükségességi indoklás | H10: Vízjogi létesítési/elvi engedély száma | I10: Az érintett ellátásért felelős(ök) megnevezése | J10: Tervezett nettó költség | K10: Forrás 2020 évre | L10: Megvalósítás időtartama | N10: Tervezett időtáv | O10: A beruházás ütemezése a tervezési időszak évei szerint
E11: Jelenlegi műszaki állapot | F11: Feladat szükségessége | G11: Megvalósítást követő várható műszaki állapot | J11: (eFt) | L11: Kezdés | M11: Befejezés | N11: (rövid / közép / hosszú) | O11: 1 | P11: 2 | Q11: 3 | R11: 4 | S11: 5 | T11: 6 | U11: 7 | V11: 8 | W11: 9 | X11: 10 | Y11: 11 | Z11: 12 | AA11: 13 | AB11: 14 | AC11: 15
B12: szakág | C12: Helyszín | D12: beruházás megnevezése
B14: SZENNYVÍZCSATORNA (GRAVITÁCIÓS)
B15: Épület, építmény
B17: SZENNYVÍZVEZETÉKEK (KÉNYSZERÁRAMOLTATÁSÚ)
B19: SZENNYVÍZÁTEMELŐK
B20: Épület, építmény
B21: Gép, berendezés
B22: Irányítástechnika, energiaellátás
B24: Összesen: | J24: =SUM(J14:J23) -> 0 | K24: 0 | O24: =SUM(O13:O23) -> 0 | P24: =SUM(P13:P23) -> 0 | Q24: =SUM(Q13:Q23) -> 0 | R24: =SUM(R13:R23) -> 0 | S24: =SUM(S13:S23) -> 0 | T24: =SUM(T13:T23) -> 0 | U24: =SUM(U13:U23) -> 0 | V24: =SUM(V13:V23) -> 0 | ... AC24: =SUM(AC13:AC23) -> 0
K25: Beruházásra forrás nem áll rendelkezésre.
B26: Tervezett feladatok nettó költsége a teljes ütem tekintetében (eFt) | C26: Rendelkezésre álló források számszerűsített értéke a teljes ütem tekintetében (eFt) | D26: Rendelkezésre álló források megnevezése
A27: I. ütem | B27: =O24 -> 0 | C27: 0 | D27: Fejlesztési díj (2020)
A28: II. ütem | B28: =SUM(P24:S24) -> 0 | C28: =C27*4 -> 0 | D28: Fejlesztési díj (2021-2024)
A29: III. ütem | B29: =SUM(T24:AC24) -> 0 | C29: =C27*10 -> 0 | D29: Fejlesztési díj (2025-2034)
B31: Jelenleg beruházási igény nem ismert, nincs rendelkezésre álló forrás beruházásra.

Sheet Pókaszepetk
A2: Gördülő fejlesztési terv a 2020 - 2034 időszakra
A3: BERUHÁZÁSOK ÖSSZEFOGLALÓ TÁBLÁZATA
A4: A tervet benyújtó szervezet megnevezése: | K4: PÓKASZEPETK | R4: ellátásért felelős / ellátásért felelősök képviselője / víziközmű-szolgáltató *
A5: Víziközmű-szolgáltató megnevezése: | K5: ÉSZAK ZALAI VÍZ- ÉS CSATORNAMŰ ZÁRTKÖRŰEN MŰKÖDŐ RÉSZVÉNYTÁRSASÁG
A6: Víziközmű-szolgáltatási ágazat megnevezése: | K6: SZENNYVÍZ ÁGAZAT
A7: Véleményeltérést megfogalmazó érintett fél megnevezése:
A8: Víziközmű-rendszer kódja: ** | K8: 21-32054-1-048-01-10 | R8: Zalaegerszeg-SZV
A9: V. Szennyvízelvezetés
A10: Fontossági sorrend | B10: Beruházás megnevezése | E10: Műszaki állapot felmérés, szükségességi indoklás | H10: Vízjogi létesítési/elvi engedély száma | I10: Az érintett ellátásért felelős(ök) megnevezése | J10: Tervezett nettó költség | K10: Forrás 2020 évre | L10: Megvalósítás időtartama | N10: Tervezett időtáv | O10: A beruházás ütemezése a tervezési időszak évei szerint
E11: Jelenlegi műszaki állapot | F11: Feladat szükségessége | G11: Megvalósítást követő várható műszaki állapot | J11: (eFt) | L11: Kezdés | M11: Befejezés | N11: (rövid / közép / hosszú) | O11: 1 | P11: 2 | Q11: 3 | R11: 4 | S11: 5 | T11: 6 | U11: 7 | V11: 8 | W11: 9 | X11: 10 | Y11: 11 | Z11: 12 | AA11: 13 | AB11: 14 | AC11: 15
B12: szakág | C12: Helyszín | D12: beruházás megnevezése
B14: SZENNYVÍZCSATORNA (GRAVITÁCIÓS)
B15: Épület, építmény
B17: SZENNYVÍZVEZETÉKEK (KÉNYSZERÁRAMOLTATÁSÚ)
B19: SZENNYVÍZÁTEMELŐK
B20: Épület, építmény
B21: Gép, berendezés
B22: Irányítástechnika, energiaellátás
B24: Összesen: | J24: =SUM(J14:J23) -> 0 | K24: 0 | O24: =SUM(O13:O23) -> 0 | P24: =SUM(P13:P23) -> 0 | Q24: =SUM(Q13:Q23) -> 0 | R24: =SUM(R13:R23) -> 0 | S24: =SUM(S13:S23) -> 0 | T24: =SUM(T13:T23) -> 0 | U24: =SUM(U13:U23) -> 0 | V24: =SUM(V13:V23) -> 0 | ... AC24: =SUM(AC13:AC23) -> 0
K25: Beruházásra forrás nem áll rendelkezésre.
B26: Tervezett feladatok nettó költsége a teljes ütem tekintetében (eFt) | C26: Rendelkezésre álló források számszerűsített értéke a teljes ütem tekintetében (eFt) | D26: Rendelkezésre álló források megnevezése
A27: I. ütem | B27: =O24 -> 0 | C27: 0 | D27: Fejlesztési díj (2020)
A28: II. ütem | B28: =SUM(P24:S24) -> 0 | C28: =C27*4 -> 0 | D28: Fejlesztési díj (2021-2024)
A29: III. ütem | B29: =SUM(T24:AC24) -> 0 | C29: =C27*10 -> 0 | D29: Fejlesztési díj (2025-2034)
B31: Jelenleg beruházási igény nem ismert, nincs rendelkezésre álló forrás beruházásra.

Sheet Pusztaszenlászló
A2: Gördülő fejlesztési terv a 2020 - 2034 időszakra
A3: BERUHÁZÁSOK ÖSSZEFOGLALÓ TÁBLÁZATA
A4: A tervet benyújtó szervezet megnevezése: | K4: PUSZTASZENTLÁSZLÓ | R4: ellátásért felelős / ellátásért felelősök képviselője / víziközmű-szolgáltató *
A5: Víziközmű-szolgáltató megnevezése: | K5: ÉSZAK ZALAI VÍZ- ÉS CSATORNAMŰ ZÁRTKÖRŰEN MŰKÖDŐ RÉSZVÉNYTÁRSASÁG
A6: Víziközmű-szolgáltatási ágazat megnevezése: | K6: SZENNYVÍZ ÁGAZAT
A7: Véleményeltérést megfogalmazó érintett fél megnevezése:
A8: Víziközmű-rendszer kódja: ** | K8: 21-32054-1-048-01-10 | R8: Zalaegerszeg-SZV
A9: V. Szennyvízelvezetés
A10: Fontossági sorrend | B10: Beruházás megnevezése | E10: Műszaki állapot felmérés, szükségességi indoklás | H10: Vízjogi létesítési/elvi engedély száma | I10: Az érintett ellátásért felelős(ök) megnevezése | J10: Tervezett nettó költség | K10: Forrás 2020 évre | L10: Megvalósítás időtartama | N10: Tervezett időtáv | O10: A beruházás ütemezése a tervezési időszak évei szerint
E11: Jelenlegi műszaki állapot | F11: Feladat szükségessége | G11: Megvalósítást követő várható műszaki állapot | J11: (eFt) | L11: Kezdés | M11: Befejezés | N11: (rövid / közép / hosszú) | O11: 1 | P11: 2 | Q11: 3 | R11: 4 | S11: 5 | T11: 6 | U11: 7 | V11: 8 | W11: 9 | X11: 10 | Y11: 11 | Z11: 12 | AA11: 13 | AB11: 14 | AC11: 15
B12: szakág | C12: Helyszín | D12: beruházás megnevezése
B14: SZENNYVÍZCSATORNA (GRAVITÁCIÓS)
B15: Épület, építmény
B17: SZENNYVÍZVEZETÉKEK (KÉNYSZERÁRAMOLTATÁSÚ)
B19: SZENNYVÍZÁTEMELŐK
B20: Épület, építmény
B21: Gép, berendezés
B22: Irányítástechnika, energiaellátás
B24: Összesen: | J24: =SUM(J14:J23) -> 0 | K24: 0 | O24: =SUM(O13:O23) -> 0 | P24: =SUM(P13:P23) -> 0 | Q24: =SUM(Q13:Q23) -> 0 | R24: =SUM(R13:R23) -> 0 | S24: =SUM(S13:S23) -> 0 | T24: =SUM(T13:T23) -> 0 | U24: =SUM(U13:U23) -> 0 | V24: =SUM(V13:V23) -> 0 | ... AC24: =SUM(AC13:AC23) -> 0
K25: Beruházásra forrás nem áll rendelkezésre.
B26: Tervezett feladatok nettó költsége a teljes ütem tekintetében (eFt) | C26: Rendelkezésre álló források számszerűsített értéke a teljes ütem tekintetében (eFt) | D26: Rendelkezésre álló források megnevezése
A27: I. ütem | B27: =O24 -> 0 | C27: 0 | D27: Fejlesztési díj (2020)
A28: II. ütem | B28: =SUM(P24:S24) -> 0 | C28: =C27*4 -> 0 | D28: Fejlesztési díj (2021-2024)
A29: III. ütem | B29: =SUM(T24:AC24) -> 0 | C29: =C27*10 -> 0 | D29: Fejlesztési díj (2025-2034)
B31: Jelenleg beruházási igény nem ismert, nincs rendelkezésre álló forrás beruházásra.

Sheet Salomvár
A2: Gördülő fejlesztési terv a 2020 - 2034 időszakra
A3: BERUHÁZÁSOK ÖSSZEFOGLALÓ TÁBLÁZATA
A4: A tervet benyújtó szervezet megnevezése: | K4: SALOMVÁR | R4: ellátásért felelős / ellátásért felelősök képviselője / víziközmű-szolgáltató *
A5: Víziközmű-szolgáltató megnevezése: | K5: ÉSZAK ZALAI VÍZ- ÉS CSATORNAMŰ ZÁRTKÖRŰEN MŰKÖDŐ RÉSZVÉNYTÁRSASÁG
A6: Víziközmű-szolgáltatási ágazat megnevezése: | K6: SZENNYVÍZ ÁGAZAT
A7: Véleményeltérést megfogalmazó érintett fél megnevezése:
A8: Víziközmű-rendszer kódja: ** | K8: 21-32054-1-048-01-10 | R8: Zalaegerszeg-SZV
A9: V. Szennyvízelvezetés
A10: Fontossági sorrend | B10: Beruházás megnevezése | E10: Műszaki állapot felmérés, szükségességi indoklás | H10: Vízjogi létesítési/elvi engedély száma | I10: Az érintett ellátásért felelős(ök) megnevezése | J10: Tervezett nettó költség | K10: Forrás 2020 évre | L10: Megvalósítás időtartama | N10: Tervezett időtáv | O10: A beruházás ütemezése a tervezési időszak évei szerint
E11: Jelenlegi műszaki állapot | F11: Feladat szükségessége | G11: Megvalósítást követő várható műszaki állapot | J11: (eFt) | L11: Kezdés | M11: Befejezés | N11: (rövid / közép / hosszú) | O11: 1 | P11: 2 | Q11: 3 | R11: 4 | S11: 5 | T11: 6 | U11: 7 | V11: 8 | W11: 9 | X11: 10 | Y11: 11 | Z11: 12 | AA11: 13 | AB11: 14 | AC11: 15
B12: szakág | C12: Helyszín | D12: beruházás megnevezése
B14: SZENNYVÍZCSATORNA (GRAVITÁCIÓS)
B15: Épület, építmény
B17: SZENNYVÍZVEZETÉKEK (KÉNYSZERÁRAMOLTATÁSÚ)
B19: SZENNYVÍZÁTEMELŐK
B20: Épület, építmény
B21: Gép, berendezés
B22: Irányítástechnika, energiaellátás
B24: Összesen: | J24: =SUM(J14:J23) -> 0 | K24: 0 | O24: =SUM(O13:O23) -> 0 | P24: =SUM(P13:P23) -> 0 | Q24: =SUM(Q13:Q23) -> 0 | R24: =SUM(R13:R23) -> 0 | S24: =SUM(S13:S23) -> 0 | T24: =SUM(T13:T23) -> 0 | U24: =SUM(U13:U23) -> 0 | V24: =SUM(V13:V23) -> 0 | ... AC24: =SUM(AC13:AC23) -> 0
K25: Beruházásra forrás nem áll rendelkezésre.
B26: Tervezett feladatok nettó költsége a teljes ütem tekintetében (eFt) | C26: Rendelkezésre álló források számszerűsített értéke a teljes ütem tekintetében (eFt) | D26: Rendelkezésre álló források megnevezése
A27: I. ütem | B27: =O24 -> 0 | C27: 0 | D27: Fejlesztési díj (2020)
A28: II. ütem | B28: =SUM(P24:S24) -> 0 | C28: =C27*4 -> 0 | D28: Fejlesztési díj (2021-2024)
A29: III. ütem | B29: =SUM(T24:AC24) -> 0 | C29: =C27*10 -> 0 | D29: Fejlesztési díj (2025-2034)
B31: Jelenleg beruházási igény nem ismert, nincs rendelkezésre álló forrás beruházásra.

Sheet Sárhida
A2: Gördülő fejlesztési terv a 2020 - 2034 időszakra
A3: BERUHÁZÁSOK ÖSSZEFOGLALÓ TÁBLÁZATA
A4: A tervet benyújtó szervezet megnevezése: | K4: SÁRHIDA | R4: ellátásért felelős / ellátásért felelősök képviselője / víziközmű-szolgáltató *
A5: Víziközmű-szolgáltató megnevezése: | K5: ÉSZAK ZALAI VÍZ- ÉS CSATORNAMŰ ZÁRTKÖRŰEN MŰKÖDŐ RÉSZVÉNYTÁRSASÁG
A6: Víziközmű-szolgáltatási ágazat megnevezése: | K6: SZENNYVÍZ ÁGAZAT
A7: Véleményeltérést megfogalmazó érintett fél megnevezése:
A8: Víziközmű-rendszer kódja: ** | K8: 21-32054-1-048-01-10 | R8: Zalaegerszeg-SZV
A9: V. Szennyvízelvezetés
A10: Fontossági sorrend | B10: Beruházás megnevezése | E10: Műszaki állapot felmérés, szükségességi indoklás | H10: Vízjogi létesítési/elvi engedély száma | I10: Az érintett ellátásért felelős(ök) megnevezése | J10: Tervezett nettó költség | K10: Forrás 2020 évre | L10: Megvalósítás időtartama | N10: Tervezett időtáv | O10: A beruházás ütemezése a tervezési időszak évei szerint
E11: Jelenlegi műszaki állapot | F11: Feladat szükségessége | G11: Megvalósítást követő várható műszaki állapot | J11: (eFt) | L11: Kezdés | M11: Befejezés | N11: (rövid / közép / hosszú) | O11: 1 | P11: 2 | Q11: 3 | R11: 4 | S11: 5 | T11: 6 | U11: 7 | V11: 8 | W11: 9 | X11: 10 | Y11: 11 | Z11: 12 | AA11: 13 | AB11: 14 | AC11: 15
B12: szakág | C12: Helyszín | D12: beruházás megnevezése
B14: SZENNYVÍZCSATORNA (GRAVITÁCIÓS)
B15: Épület, építmény
B17: SZENNYVÍZVEZETÉKEK (KÉNYSZERÁRAMOLTATÁSÚ)
B19: SZENNYVÍZÁTEMELŐK
B20: Épület, építmény
B21: Gép, berendezés
B22: Irányítástechnika, energiaellátás
B24: Összesen: | J24: =SUM(J14:J23) -> 0 | K24: 0 | O24: =SUM(O13:O23) -> 0 | P24: =SUM(P13:P23) -> 0 | Q24: =SUM(Q13:Q23) -> 0 | R24: =SUM(R13:R23) -> 0 | S24: =SUM(S13:S23) -> 0 | T24: =SUM(T13:T23) -> 0 | U24: =SUM(U13:U23) -> 0 | V24: =SUM(V13:V23) -> 0 | ... AC24: =SUM(AC13:AC23) -> 0
K25: Beruházásra forrás nem áll rendelkezésre.
B26: Tervezett feladatok nettó költsége a teljes ütem tekintetében (eFt) | C26: Rendelkezésre álló források számszerűsített értéke a teljes ütem tekintetében (eFt) | D26: Rendelkezésre álló források megnevezése
A27: I. ütem | B27: =O24 -> 0 | C27: 0 | D27: Fejlesztési díj (2020)
A28: II. ütem | B28: =SUM(P24:S24) -> 0 | C28: =C27*4 -> 0 | D28: Fejlesztési díj (2021-2024)
A29: III. ütem | B29: =SUM(T24:AC24) -> 0 | C29: =C27*10 -> 0 | D29: Fejlesztési díj (2025-2034)
B31: Jelenleg beruházási igény nem ismert, nincs rendelkezésre álló forrás beruházásra.

Sheet Söjtör
A2: Gördülő fejlesztési terv a 2020 - 2034 időszakra
A3: BERUHÁZÁSOK ÖSSZEFOGLALÓ TÁBLÁZATA
A4: A tervet benyújtó szervezet megnevezése: | K4: SÖJTÖR | R4: ellátásért felelős / ellátásért felelősök képviselője / víziközmű-szolgáltató *
A5: Víziközmű-szolgáltató megnevezése: | K5: ÉSZAK ZALAI VÍZ- ÉS CSATORNAMŰ ZÁRTKÖRŰEN MŰKÖDŐ RÉSZVÉNYTÁRSASÁG
A6: Víziközmű-szolgáltatási ágazat megnevezése: | K6: SZENNYVÍZ ÁGAZAT
A7: Véleményeltérést megfogalmazó érintett fél megnevezése:
A8: Víziközmű-rendszer kódja: ** | K8: 21-32054-1-048-01-10 | R8: Zalaegerszeg-SZV
A9: V. Szennyvízelvezetés
A10: Fontossági sorrend | B10: Beruházás megnevezése | E10: Műszaki állapot felmérés, szükségességi indoklás | H10: Vízjogi létesítési/elvi engedély száma | I10: Az érintett ellátásért felelős(ök) megnevezése | J10: Tervezett nettó költség | K10: Forrás 2020 évre | L10: Megvalósítás időtartama | N10: Tervezett időtáv | O10: A beruházás ütemezése a tervezési időszak évei szerint
E11: Jelenlegi műszaki állapot | F11: Feladat szükségessége | G11: Megvalósítást követő várható műszaki állapot | J11: (eFt) | L11: Kezdés | M11: Befejezés | N11: (rövid / közép / hosszú) | O11: 1 | P11: 2 | Q11: 3 | R11: 4 | S11: 5 | T11: 6 | U11: 7 | V11: 8 | W11: 9 | X11: 10 | Y11: 11 | Z11: 12 | AA11: 13 | AB11: 14 | AC11: 15
B12: szakág | C12: Helyszín | D12: beruházás megnevezése
B14: SZENNYVÍZCSATORNA (GRAVITÁCIÓS)
B15: Épület, építmény
B17: SZENNYVÍZVEZETÉKEK (KÉNYSZERÁRAMOLTATÁSÚ)
B19: SZENNYVÍZÁTEMELŐK
B20: Épület, építmény
B21: Gép, berendezés
B22: Irányítástechnika, energiaellátás
B24: Összesen: | J24: =SUM(J14:J23) -> 0 | K24: 0 | O24: =SUM(O13:O23) -> 0 | P24: =SUM(P13:P23) -> 0 | Q24: =SUM(Q13:Q23) -> 0 | R24: =SUM(R13:R23) -> 0 | S24: =SUM(S13:S23) -> 0 | T24: =SUM(T13:T23) -> 0 | U24: =SUM(U13:U23) -> 0 | V24: =SUM(V13:V23) -> 0 | ... AC24: =SUM(AC13:AC23) -> 0
K25: Beruházásra forrás nem áll rendelkezésre.
B26: Tervezett feladatok nettó költsége a teljes ütem tekintetében (eFt) | C26: Rendelkezésre álló források számszerűsített értéke a teljes ütem tekintetében (eFt) | D26: Rendelkezésre álló források megnevezése
A27: I. ütem | B27: =O24 -> 0 | C27: 0 | D27: Fejlesztési díj (2020)
A28: II. ütem | B28: =SUM(P24:S24) -> 0 | C28: =C27*4 -> 0 | D28: Fejlesztési díj (2021-2024)
A29: III. ütem | B29: =SUM(T24:AC24) -> 0 | C29: =C27*10 -> 0 | D29: Fejlesztési díj (2025-2034)
B31: Jelenleg beruházási igény nem ismert, nincs rendelkezésre álló forrás beruházásra.

Sheet Teskánd
A2: Gördülő fejlesztési terv a 2020 - 2034 időszakra
A3: BERUHÁZÁSOK ÖSSZEFOGLALÓ TÁBLÁZATA
A4: A tervet benyújtó szervezet megnevezése: | K4: TESKÁND | R4: ellátásért felelős / ellátásért felelősök képviselője / víziközmű-szolgáltató *
A5: Víziközmű-szolgáltató megnevezése: | K5: ÉSZAK ZALAI VÍZ- ÉS CSATORNAMŰ ZÁRTKÖRŰEN MŰKÖDŐ RÉSZVÉNYTÁRSASÁG
A6: Víziközmű-szolgáltatási ágazat megnevezése: | K6: SZENNYVÍZ ÁGAZAT
A7: Véleményeltérést megfogalmazó érintett fél megnevezése:
A8: Víziközmű-rendszer kódja: ** | K8: 21-32054-1-048-01-10 | R8: Zalaegerszeg-SZV
A9: V. Szennyvízelvezetés
A10: Fontossági sorrend | B10: Beruházás megnevezése | E10: Műszaki állapot felmérés, szükségességi indoklás | H10: Vízjogi létesítési/elvi engedély száma | I10: Az érintett ellátásért felelős(ök) megnevezése | J10: Tervezett nettó költség | K10: Forrás 2020 évre | L10: Megvalósítás időtartama | N10: Tervezett időtáv | O10: A beruházás ütemezése a tervezési időszak évei szerint
E11: Jelenlegi műszaki állapot | F11: Feladat szükségessége | G11: Megvalósítást követő várható műszaki állapot | J11: (eFt) | L11: Kezdés | M11: Befejezés | N11: (rövid / közép / hosszú) | O11: 1 | P11: 2 | Q11: 3 | R11: 4 | S11: 5 | T11: 6 | U11: 7 | V11: 8 | W11: 9 | X11: 10 | Y11: 11 | Z11: 12 | AA11: 13 | AB11: 14 | AC11: 15
B12: szakág | C12: Helyszín | D12: beruházás megnevezése
B14: SZENNYVÍZCSATORNA (GRAVITÁCIÓS)
B15: Épület, építmény
B17: SZENNYVÍZVEZETÉKEK (KÉNYSZERÁRAMOLTATÁSÚ)
B19: SZENNYVÍZÁTEMELŐK
B20: Épület, építmény
B21: Gép, berendezés
B22: Irányítástechnika, energiaellátás
B24: Összesen: | J24: =SUM(J14:J23) -> 0 | K24: 0 | O24: =SUM(O13:O23) -> 0 | P24: =SUM(P13:P23) -> 0 | Q24: =SUM(Q13:Q23) -> 0 | R24: =SUM(R13:R23) -> 0 | S24: =SUM(S13:S23) -> 0 | T24: =SUM(T13:T23) -> 0 | U24: =SUM(U13:U23) -> 0 | V24: =SUM(V13:V23) -> 0 | ... AC24: =SUM(AC13:AC23) -> 0
K25: Beruházásra forrás nem áll rendelkezésre.
B26: Tervezett feladatok nettó költsége a teljes ütem tekintetében (eFt) | C26: Rendelkezésre álló források számszerűsített értéke a teljes ütem tekintetében (eFt) | D26: Rendelkezésre álló források megnevezése
A27: I. ütem | B27: =O24 -> 0 | C27: 0 | D27: Fejlesztési díj (2020)
A28: II. ütem | B28: =SUM(P24:S24) -> 0 | C28: =C27*4 -> 0 | D28: Fejlesztési díj (2021-2024)
A29: III. ütem | B29: =SUM(T24:AC24) -> 0 | C29: =C27*10 -> 0 | D29: Fejlesztési díj (2025-2034)
B31: Jelenleg beruházási igény nem ismert, nincs rendelkezésre álló forrás beruházásra.

Sheet Vasboldogasszony
A2: Gördülő fejlesztési terv a 2020 - 2034 időszakra
A3: BERUHÁZÁSOK ÖSSZEFOGLALÓ TÁBLÁZATA
A4: A tervet benyújtó szervezet megnevezése: | K4: VASBOLDOGASSZONY | R4: ellátásért felelős / ellátásért felelősök képviselője / víziközmű-szolgáltató *
A5: Víziközmű-szolgáltató megnevezése: | K5: ÉSZAK ZALAI VÍZ- ÉS CSATORNAMŰ ZÁRTKÖRŰEN MŰKÖDŐ RÉSZVÉNYTÁRSASÁG
A6: Víziközmű-szolgáltatási ágazat megnevezése: | K6: SZENNYVÍZ ÁGAZAT
A7: Véleményeltérést megfogalmazó érintett fél megnevezése:
A8: Víziközmű-rendszer kódja: ** | K8: 21-32054-1-048-01-10 | R8: Zalaegerszeg-SZV
A9: V. Szennyvízelvezetés
A10: Fontossági sorrend | B10: Beruházás megnevezése | E10: Műszaki állapot felmérés, szükségességi indoklás | H10: Vízjogi létesítési/elvi engedély száma | I10: Az érintett ellátásért felelős(ök) megnevezése | J10: Tervezett nettó költség | K10: Forrás 2020 évre | L10: Megvalósítás időtartama | N10: Tervezett időtáv | O10: A beruházás ütemezése a tervezési időszak évei szerint
E11: Jelenlegi műszaki állapot | F11: Feladat szükségessége | G11: Megvalósítást követő várható műszaki állapot | J11: (eFt) | L11: Kezdés | M11: Befejezés | N11: (rövid / közép / hosszú) | O11: 1 | P11: 2 | Q11: 3 | R11: 4 | S11: 5 | T11: 6 | U11: 7 | V11: 8 | W11: 9 | X11: 10 | Y11: 11 | Z11: 12 | AA11: 13 | AB11: 14 | AC11: 15
B12: szakág | C12: Helyszín | D12: beruházás megnevezése
B14: SZENNYVÍZCSATORNA (GRAVITÁCIÓS)
B15: Épület, építmény
B17: SZENNYVÍZVEZETÉKEK (KÉNYSZERÁRAMOLTATÁSÚ)
B19: SZENNYVÍZÁTEMELŐK
B20: Épület, építmény
B21: Gép, berendezés
B22: Irányítástechnika, energiaellátás
B24: Összesen: | J24: =SUM(J14:J23) -> 0 | K24: 0 | O24: =SUM(O13:O23) -> 0 | P24: =SUM(P13:P23) -> 0 | Q24: =SUM(Q13:Q23) -> 0 | R24: =SUM(R13:R23) -> 0 | S24: =SUM(S13:S23) -> 0 | T24: =SUM(T13:T23) -> 0 | U24: =SUM(U13:U23) -> 0 | V24: =SUM(V13:V23) -> 0 | ... AC24: =SUM(AC13:AC23) -> 0
K25: Beruházásra forrás nem áll rendelkezésre.
B26: Tervezett feladatok nettó költsége a teljes ütem tekintetében (eFt) | C26: Rendelkezésre álló források számszerűsített értéke a teljes ütem tekintetében (eFt) | D26: Rendelkezésre álló források megnevezése
A27: I. ütem | B27: =O24 -> 0 | C27: 0 | D27: Fejlesztési díj (2020)
A28: II. ütem | B28: =SUM(P24:S24) -> 0 | C28: =C27*4 -> 0 | D28: Fejlesztési díj (2021-2024)
A29: III. ütem | B29: =SUM(T24:AC24) -> 0 | C29: =C27*10 -> 0 | D29: Fejlesztési díj (2025-2034)
B31: Jelenleg beruházási igény nem ismert, nincs rendelkezésre álló forrás beruházásra.

Sheet Vaspör
A2: Gördülő fejlesztési terv a 2020 - 2034 időszakra
A3: BERUHÁZÁSOK ÖSSZEFOGLALÓ TÁBLÁZATA
A4: A tervet benyújtó szervezet megnevezése: | K4: VASPÖR | R4: ellátásért felelős / ellátásért felelősök képviselője / víziközmű-szolgáltató *
A5: Víziközmű-szolgáltató megnevezése: | K5: ÉSZAK ZALAI VÍZ- ÉS CSATORNAMŰ ZÁRTKÖRŰEN MŰKÖDŐ RÉSZVÉNYTÁRSASÁG
A6: Víziközmű-szolgáltatási ágazat megnevezése: | K6: SZENNYVÍZ ÁGAZAT
A7: Véleményeltérést megfogalmazó érintett fél megnevezése:
A8: Víziközmű-rendszer kódja: ** | K8: 21-32054-1-048-01-10 | R8: Zalaegerszeg-SZV
A9: V. Szennyvízelvezetés
A10: Fontossági sorrend | B10: Beruházás megnevezése | E10: Műszaki állapot felmérés, szükségességi indoklás | H10: Vízjogi létesítési/elvi engedély száma | I10: Az érintett ellátásért felelős(ök) megnevezése | J10: Tervezett nettó költség | K10: Forrás 2020 évre | L10: Megvalósítás időtartama | N10: Tervezett időtáv | O10: A beruházás ütemezése a tervezési időszak évei szerint
E11: Jelenlegi műszaki állapot | F11: Feladat szükségessége | G11: Megvalósítást követő várható műszaki állapot | J11: (eFt) | L11: Kezdés | M11: Befejezés | N11: (rövid / közép / hosszú) | O11: 1 | P11: 2 | Q11: 3 | R11: 4 | S11: 5 | T11: 6 | U11: 7 | V11: 8 | W11: 9 | X11: 10 | Y11: 11 | Z11: 12 | AA11: 13 | AB11: 14 | AC11: 15
B12: szakág | C12: Helyszín | D12: beruházás megnevezése
B14: SZENNYVÍZCSATORNA (GRAVITÁCIÓS)
B15: Épület, építmény
B17: SZENNYVÍZVEZETÉKEK (KÉNYSZERÁRAMOLTATÁSÚ)
B19: SZENNYVÍZÁTEMELŐK
B20: Épület, építmény
B21: Gép, berendezés
B22: Irányítástechnika, energiaellátás
B24: Összesen: | J24: =SUM(J14:J23) -> 0 | K24: 0 | O24: =SUM(O13:O23) -> 0 | P24: =SUM(P13:P23) -> 0 | Q24: =SUM(Q13:Q23) -> 0 | R24: =SUM(R13:R23) -> 0 | S24: =SUM(S13:S23) -> 0 | T24: =SUM(T13:T23) -> 0 | U24: =SUM(U13:U23) -> 0 | V24: =SUM(V13:V23) -> 0 | ... AC24: =SUM(AC13:AC23) -> 0
K25: Beruházásra forrás nem áll rendelkezésre.
B26: Tervezett feladatok nettó költsége a teljes ütem tekintetében (eFt) | C26: Rendelkezésre álló források számszerűsített értéke a teljes ütem tekintetében (eFt) | D26: Rendelkezésre álló források megnevezése
A27: I. ütem | B27: =O24 -> 0 | C27: 0 | D27: Fejlesztési díj (2020)
A28: II. ütem | B28: =SUM(P24:S24) -> 0 | C28: =C27*4 -> 0 | D28: Fejlesztési díj (2021-2024)
A29: III. ütem | B29: =SUM(T24:AC24) -> 0 | C29: =C27*10 -> 0 | D29: Fejlesztési díj (2025-2034)
B31: Jelenleg beruházási igény nem ismert, nincs rendelkezésre álló forrás beruházásra.

Sheet Vöckönd
A2: Gördülő fejlesztési terv a 2020 - 2034 időszakra
A3: BERUHÁZÁSOK ÖSSZEFOGLALÓ TÁBLÁZATA
A4: A tervet benyújtó szervezet megnevezése: | K4: VÖCKÖND | R4: ellátásért felelős / ellátásért felelősök képviselője / víziközmű-szolgáltató *
A5: Víziközmű-szolgáltató megnevezése: | K5: ÉSZAK ZALAI VÍZ- ÉS CSATORNAMŰ ZÁRTKÖRŰEN MŰKÖDŐ RÉSZVÉNYTÁRSASÁG
A6: Víziközmű-szolgáltatási ágazat megnevezése: | K6: SZENNYVÍZ ÁGAZAT
A7: Véleményeltérést megfogalmazó érintett fél megnevezése:
A8: Víziközmű-rendszer kódja: ** | K8: 21-32054-1-048-01-10 | R8: Zalaegerszeg-SZV
A9: V. Szennyvízelvezetés
A10: Fontossági sorrend | B10: Beruházás megnevezése | E10: Műszaki állapot felmérés, szükségességi indoklás | H10: Vízjogi létesítési/elvi engedély száma | I10: Az érintett ellátásért felelős(ök) megnevezése | J10: Tervezett nettó költség | K10: Forrás 2020 évre | L10: Megvalósítás időtartama | N10: Tervezett időtáv | O10: A beruházás ütemezése a tervezési időszak évei szerint
E11: Jelenlegi műszaki állapot | F11: Feladat szükségessége | G11: Megvalósítást követő várható műszaki állapot | J11: (eFt) | L11: Kezdés | M11: Befejezés | N11: (rövid / közép / hosszú) | O11: 1 | P11: 2 | Q11: 3 | R11: 4 | S11: 5 | T11: 6 | U11: 7 | V11: 8 | W11: 9 | X11: 10 | Y11: 11 | Z11: 12 | AA11: 13 | AB11: 14 | AC11: 15
B13: szakág | C13: Helyszín | D13: beruházás megnevezése
B14: SZENNYVÍZCSATORNA (GRAVITÁCIÓS)
B15: Épület, építmény
B17: SZENNYVÍZVEZETÉKEK (KÉNYSZERÁRAMOLTATÁSÚ)
B19: SZENNYVÍZÁTEMELŐK
B20: Épület, építmény
B21: Gép, berendezés
B22: Irányítástechnika, energiaellátás
B24: Összesen: | J24: =SUM(J14:J23) -> 0 | K24: 0 | O24: =SUM(O13:O23) -> 0 | P24: =SUM(P13:P23) -> 0 | Q24: =SUM(Q13:Q23) -> 0 | R24: =SUM(R13:R23) -> 0 | S24: =SUM(S13:S23) -> 0 | T24: =SUM(T13:T23) -> 0 | U24: =SUM(U13:U23) -> 0 | V24: =SUM(V13:V23) -> 0 | ... AC24: =SUM(AC13:AC23) -> 0
K25: Beruházásra forrás nem áll rendelkezésre.
B26: Tervezett feladatok nettó költsége a teljes ütem tekintetében (eFt) | C26: Rendelkezésre álló források számszerűsített értéke a teljes ütem tekintetében (eFt) | D26: Rendelkezésre álló források megnevezése
A27: I. ütem | B27: =O24 -> 0 | C27: 0 | D27: Fejlesztési díj (2020)
A28: II. ütem | B28: =SUM(P24:S24) -> 0 | C28: =C27*4 -> 0 | D28: Fejlesztési díj (2021-2024)
A29: III. ütem | B29: =SUM(T24:AC24) -> 0 | C29: =C27*10 -> 0 | D29: Fejlesztési díj (2025-2034)
B31: Jelenleg beruházási igény nem ismert, nincs rendelkezésre álló forrás beruházásra.

Sheet Zalaboldogfa
A2: Gördülő fejlesztési terv a 2020 - 2034 időszakra
A3: BERUHÁZÁSOK ÖSSZEFOGLALÓ TÁBLÁZATA
A4: A tervet benyújtó szervezet megnevezése: | K4: ZALABOLDOGFA | R4: ellátásért felelős / ellátásért felelősök képviselője / víziközmű-szolgáltató *
A5: Víziközmű-szolgáltató megnevezése: | K5: ÉSZAK ZALAI VÍZ- ÉS CSATORNAMŰ ZÁRTKÖRŰEN MŰKÖDŐ RÉSZVÉNYTÁRSASÁG
A6: Víziközmű-szolgáltatási ágazat megnevezése: | K6: SZENNYVÍZ ÁGAZAT
A7: Véleményeltérést megfogalmazó érintett fél megnevezése:
A8: Víziközmű-rendszer kódja: ** | K8: 21-32054-1-048-01-10 | R8: Zalaegerszeg-SZV
A9: V. Szennyvízelvezetés
A10: Fontossági sorrend | B10: Beruházás megnevezése | E10: Műszaki állapot felmérés, szükségességi indoklás | H10: Vízjogi létesítési/elvi engedély száma | I10: Az érintett ellátásért felelős(ök) megnevezése | J10: Tervezett nettó költség | K10: Forrás 2020 évre | L10: Megvalósítás időtartama | N10: Tervezett időtáv | O10: A beruházás ütemezése a tervezési időszak évei szerint
E11: Jelenlegi műszaki állapot | F11: Feladat szükségessége | G11: Megvalósítást követő várható műszaki állapot | J11: (eFt) | L11: Kezdés | M11: Befejezés | N11: (rövid / közép / hosszú) | O11: 1 | P11: 2 | Q11: 3 | R11: 4 | S11: 5 | T11: 6 | U11: 7 | V11: 8 | W11: 9 | X11: 10 | Y11: 11 | Z11: 12 | AA11: 13 | AB11: 14 | AC11: 15
B12: szakág | C12: Helyszín | D12: beruházás megnevezése
B14: SZENNYVÍZCSATORNA (GRAVITÁCIÓS)
B15: Épület, építmény
B17: SZENNYVÍZVEZETÉKEK (KÉNYSZERÁRAMOLTATÁSÚ)
B19: SZENNYVÍZÁTEMELŐK
B20: Épület, építmény
B21: Gép, berendezés
B22: Irányítástechnika, energiaellátás
B24: Összesen: | J24: =SUM(J14:J23) -> 0 | K24: 0 | O24: =SUM(O13:O23) -> 0 | P24: =SUM(P13:P23) -> 0 | Q24: =SUM(Q13:Q23) -> 0 | R24: =SUM(R13:R23) -> 0 | S24: =SUM(S13:S23) -> 0 | T24: =SUM(T13:T23) -> 0 | U24: =SUM(U13:U23) -> 0 | V24: =SUM(V13:V23) -> 0 | ... AC24: =SUM(AC13:AC23) -> 0
K25: Beruházásra forrás nem áll rendelkezésre.
B26: Tervezett feladatok nettó költsége a teljes ütem tekintetében (eFt) | C26: Rendelkezésre álló források számszerűsített értéke a teljes ütem tekintetében (eFt) | D26: Rendelkezésre álló források megnevezése
A27: I. ütem | B27: =O24 -> 0 | C27: 0 | D27: Fejlesztési díj (2020)
A28: II. ütem | B28: =SUM(P24:S24) -> 0 | C28: =C27*4 -> 0 | D28: Fejlesztési díj (2021-2024)
A29: III. ütem | B29: =SUM(T24:AC24) -> 0 | C29: =C27*10 -> 0 | D29: Fejlesztési díj (2025-2034)
B31: Jelenleg beruházási igény nem ismert, nincs rendelkezésre álló forrás beruházásra.

Sheet Zalacséb
A2: Gördülő fejlesztési terv a 2020 - 2034 időszakra
A3: BERUHÁZÁSOK ÖSSZEFOGLALÓ TÁBLÁZATA
A4: A tervet benyújtó szervezet megnevezése: | K4: ZALACSÉB | R4: ellátásért felelős / ellátásért felelősök képviselője / víziközmű-szolgáltató *
A5: Víziközmű-szolgáltató megnevezése: | K5: ÉSZAK ZALAI VÍZ- ÉS CSATORNAMŰ ZÁRTKÖRŰEN MŰKÖDŐ RÉSZVÉNYTÁRSASÁG
A6: Víziközmű-szolgáltatási ágazat megnevezése: | K6: SZENNYVÍZ ÁGAZAT
A7: Véleményeltérést megfogalmazó érintett fél megnevezése:
A8: Víziközmű-rendszer kódja: ** | K8: 21-32054-1-048-01-10 | R8: Zalaegerszeg-SZV
A9: V. Szennyvízelvezetés
A10: Fontossági sorrend | B10: Beruházás megnevezése | E10: Műszaki állapot felmérés, szükségességi indoklás | H10: Vízjogi létesítési/elvi engedély száma | I10: Az érintett ellátásért felelős(ök) megnevezése | J10: Tervezett nettó költség | K10: Forrás 2020 évre | L10: Megvalósítás időtartama | N10: Tervezett időtáv | O10: A beruházás ütemezése a tervezési időszak évei szerint
E11: Jelenlegi műszaki állapot | F11: Feladat szükségessége | G11: Megvalósítást követő várható műszaki állapot | J11: (eFt) | L11: Kezdés | M11: Befejezés | N11: (rövid / közép / hosszú) | O11: 1 | P11: 2 | Q11: 3 | R11: 4 | S11: 5 | T11: 6 | U11: 7 | V11: 8 | W11: 9 | X11: 10 | Y11: 11 | Z11: 12 | AA11: 13 | AB11: 14 | AC11: 15
B12: szakág | C12: Helyszín | D12: beruházás megnevezése
B14: SZENNYVÍZCSATORNA (GRAVITÁCIÓS)
B15: Épület, építmény
B17: SZENNYVÍZVEZETÉKEK (KÉNYSZERÁRAMOLTATÁSÚ)
B19: SZENNYVÍZÁTEMELŐK
B20: Épület, építmény
B21: Gép, berendezés
B22: Irányítástechnika, energiaellátás
B24: Összesen: | J24: =SUM(J14:J23) -> 0 | K24: 0 | O24: =SUM(O13:O23) -> 0 | P24: =SUM(P13:P23) -> 0 | Q24: =SUM(Q13:Q23) -> 0 | R24: =SUM(R13:R23) -> 0 | S24: =SUM(S13:S23) -> 0 | T24: =SUM(T13:T23) -> 0 | U24: =SUM(U13:U23) -> 0 | V24: =SUM(V13:V23) -> 0 | ... AC24: =SUM(AC13:AC23) -> 0
K25: Beruházásra forrás nem áll rendelkezésre.
B26: Tervezett feladatok nettó költsége a teljes ütem tekintetében (eFt) | C26: Rendelkezésre álló források számszerűsített értéke a teljes ütem tekintetében (eFt) | D26: Rendelkezésre álló források megnevezése
A27: I. ütem | B27: =O24 -> 0 | C27: 0 | D27: Fejlesztési díj (2020)
A28: II. ütem | B28: =SUM(P24:S24) -> 0 | C28: =C27*4 -> 0 | D28: Fejlesztési díj (2021-2024)
A29: III. ütem | B29: =SUM(T24:AC24) -> 0 | C29: =C27*10 -> 0 | D29: Fejlesztési díj (2025-2034)
B31: Jelenleg beruházási igény nem ismert, nincs rendelkezésre álló forrás beruházásra.

Sheet Zalaegerszeg
A2: Gördülő fejlesztési terv a 2020 - 2034 időszakra
A3: BERUHÁZÁSOK ÖSSZEFOGLALÓ TÁBLÁZATA
A4: A tervet benyújtó szervezet megnevezése: | K4: ZALAEGERSZEG | R4: ellátásért felelős / ellátásért felelősök képviselője / víziközmű-szolgáltató *
A5: Víziközmű-szolgáltató megnevezése: | K5: ÉSZAK ZALAI VÍZ- ÉS CSATORNAMŰ ZÁRTKÖRŰEN MŰKÖDŐ RÉSZVÉNYTÁRSASÁG
A6: Víziközmű-szolgáltatási ágazat megnevezése: | K6: SZENNYVÍZ ÁGAZAT
A7: Véleményeltérést megfogalmazó érintett fél megnevezése:
A8: Víziközmű-rendszer kódja: ** | K8: 21-32054-1-048-01-10 | R8: Zalaegerszeg-SZV
A9: V. Szennyvízelvezetés
A10: Fontossági sorrend | B10: Beruházás megnevezése | E10: Műszaki állapot felmérés, szükségességi indoklás | H10: Vízjogi létesítési/elvi engedély száma | I10: Az érintett ellátásért felelős(ök) megnevezése | J10: Tervezett nettó költség | K10: Forrás 2020 évre | L10: Megvalósítás időtartama | N10: Tervezett időtáv | O10: A beruházás ütemezése a tervezési időszak évei szerint
E11: Jelenlegi műszaki állapot | F11: Feladat szükségessége | G11: Megvalósítást követő várható műszaki állapot | J11: (eFt) | L11: Kezdés | M11: Befejezés | N11: (rövid / közép / hosszú) | O11: 1 | P11: 2 | Q11: 3 | R11: 4 | S11: 5 | T11: 6 | U11: 7 | V11: 8 | W11: 9 | X11: 10 | Y11: 11 | Z11: 12 | AA11: 13 | AB11: 14 | AC11: 15
B12: szakág | C12: Helyszín | D12: beruházás megnevezése
B14: SZENNYVÍZCSATORNA (GRAVITÁCIÓS)
B15: Épület, építmény
B17: SZENNYVÍZVEZETÉKEK (KÉNYSZERÁRAMOLTATÁSÚ)
B19: SZENNYVÍZÁTEMELŐK
B20: Épület, építmény
B21: Gép, berendezés
B22: Irányítástechnika, energiaellátás
A24: VI. Szennyvíztisztítás
A25: sorszám | B25: szakág | C25: Helyszín | D25: beruházás megnevezése
B26: SZENNYVÍZTISZTÍTÓ-TELEP
B27: Épület, építmény
B28: Gép, berendezés
B29: Irányítástechnika, energiaellátás
B30: EGYEDI SZENNYVÍZKEZELŐ LÉTESÍTMÉNY
B31: Épület, építmény
B33: Gép, berendezés
B35: Irányítástechnika, energiaellátás
B37: TERMÉSZETKÖZELI SZENNYVÍZTISZTÍTÓK
B38: Épület, építmény
B40: Gép, berendezés
B42: Irányítástechnika, energiaellátás
... B49: Irányítástechnika, energiaellátás
B52: Összesen: | J52: =SUM(J14:J51) -> 0 | K52: 0 | O52: =SUM(O13:O51) -> 0 | P52: =SUM(P13:P51) -> 0 | Q52: =SUM(Q13:Q51) -> 0 | R52: =SUM(R13:R51) -> 0 | S52: =SUM(S13:S51) -> 0 | T52: =SUM(T13:T51) -> 0 | U52: =SUM(U13:U51) -> 0 | V52: =SUM(V13:V51) -> 0 | ... AC52: =SUM(AC13:AC51) -> 0
K53: Beruházásra forrás nem áll rendelkezésre.
B54: Tervezett feladatok nettó költsége a teljes ütem tekintetében (eFt) | C54: Rendelkezésre álló források számszerűsített értéke a teljes ütem tekintetében (eFt) | D54: Rendelkezésre álló források megnevezése
A55: I. ütem | B55: =O52 -> 0 | C55: 0 | D55: Fejlesztési díj (2020)
A56: II. ütem | B56: =SUM(P52:S52) -> 0 | C56: =C55*4 -> 0 | D56: Fejlesztési díj (2021-2024)
A57: III. ütem | B57: =SUM(T52:AC52) -> 0 | C57: =C55*10 -> 0 | D57: Fejlesztési díj (2025-2034)
B59: Jelenleg beruházási igény nem ismert, nincs rendelkezésre álló forrás beruházásra.

Sheet Zalaistvánd
A2: Gördülő fejlesztési terv a 2020 - 2034 időszakra
A3: BERUHÁZÁSOK ÖSSZEFOGLALÓ TÁBLÁZATA
A4: A tervet benyújtó szervezet megnevezése: | K4: ZALAISTVÁND | R4: ellátásért felelős / ellátásért felelősök képviselője / víziközmű-szolgáltató *
A5: Víziközmű-szolgáltató megnevezése: | K5: ÉSZAK ZALAI VÍZ- ÉS CSATORNAMŰ ZÁRTKÖRŰEN MŰKÖDŐ RÉSZVÉNYTÁRSASÁG
A6: Víziközmű-szolgáltatási ágazat megnevezése: | K6: SZENNYVÍZ ÁGAZAT
A7: Véleményeltérést megfogalmazó érintett fél megnevezése:
A8: Víziközmű-rendszer kódja: ** | K8: 21-32054-1-048-01-10 | R8: Zalaegerszeg-SZV
A9: V. Szennyvízelvezetés
A10: Fontossági sorrend | B10: Beruházás megnevezése | E10: Műszaki állapot felmérés, szükségességi indoklás | H10: Vízjogi létesítési/elvi engedély száma | I10: Az érintett ellátásért felelős(ök) megnevezése | J10: Tervezett nettó költség | K10: Forrás 2020 évre | L10: Megvalósítás időtartama | N10: Tervezett időtáv | O10: A beruházás ütemezése a tervezési időszak évei szerint
E11: Jelenlegi műszaki állapot | F11: Feladat szükségessége | G11: Megvalósítást követő várható műszaki állapot | J11: (eFt) | L11: Kezdés | M11: Befejezés | N11: (rövid / közép / hosszú) | O11: 1 | P11: 2 | Q11: 3 | R11: 4 | S11: 5 | T11: 6 | U11: 7 | V11: 8 | W11: 9 | X11: 10 | Y11: 11 | Z11: 12 | AA11: 13 | AB11: 14 | AC11: 15
B12: szakág | C12: Helyszín | D12: beruházás megnevezése
B14: SZENNYVÍZCSATORNA (GRAVITÁCIÓS)
B15: Épület, építmény
B17: SZENNYVÍZVEZETÉKEK (KÉNYSZERÁRAMOLTATÁSÚ)
B19: SZENNYVÍZÁTEMELŐK
B20: Épület, építmény
B21: Gép, berendezés
B22: Irányítástechnika, energiaellátás
B24: Összesen: | J24: =SUM(J14:J23) -> 0 | K24: 0 | O24: =SUM(O13:O23) -> 0 | P24: =SUM(P13:P23) -> 0 | Q24: =SUM(Q13:Q23) -> 0 | R24: =SUM(R13:R23) -> 0 | S24: =SUM(S13:S23) -> 0 | T24: =SUM(T13:T23) -> 0 | U24: =SUM(U13:U23) -> 0 | V24: =SUM(V13:V23) -> 0 | ... AC24: =SUM(AC13:AC23) -> 0
K25: Beruházásra forrás nem áll rendelkezésre.
B26: Tervezett feladatok nettó költsége a teljes ütem tekintetében (eFt) | C26: Rendelkezésre álló források számszerűsített értéke a teljes ütem tekintetében (eFt) | D26: Rendelkezésre álló források megnevezése
A27: I. ütem | B27: =O24 -> 0 | C27: 0 | D27: Fejlesztési díj (2020)
A28: II. ütem | B28: =SUM(P24:S24) -> 0 | C28: =C27*4 -> 0 | D28: Fejlesztési díj (2021-2024)
A29: III. ütem | B29: =SUM(T24:AC24) -> 0 | C29: =C27*10 -> 0 | D29: Fejlesztési díj (2025-2034)
B31: Jelenleg beruházási igény nem ismert, nincs rendelkezésre álló forrás beruházásra.

Sheet Zalaszentgyörgy
A2: Gördülő fejlesztési terv a 2020 - 2034 időszakra
A3: BERUHÁZÁSOK ÖSSZEFOGLALÓ TÁBLÁZATA
A4: A tervet benyújtó szervezet megnevezése: | K4: ZALASZENTGYÖRGY | R4: ellátásért felelős / ellátásért felelősök képviselője / víziközmű-szolgáltató *
A5: Víziközmű-szolgáltató megnevezése: | K5: ÉSZAK ZALAI VÍZ- ÉS CSATORNAMŰ ZÁRTKÖRŰEN MŰKÖDŐ RÉSZVÉNYTÁRSASÁG
A6: Víziközmű-szolgáltatási ágazat megnevezése: | K6: SZENNYVÍZ ÁGAZAT
A7: Véleményeltérést megfogalmazó érintett fél megnevezése:
A8: Víziközmű-rendszer kódja: ** | K8: 21-32054-1-048-01-10 | R8: Zalaegerszeg-SZV
A9: V. Szennyvízelvezetés
A10: Fontossági sorrend | B10: Beruházás megnevezése | E10: Műszaki állapot felmérés, szükségességi indoklás | H10: Vízjogi létesítési/elvi engedély száma | I10: Az érintett ellátásért felelős(ök) megnevezése | J10: Tervezett nettó költség | K10: Forrás 2020 évre | L10: Megvalósítás időtartama | N10: Tervezett időtáv | O10: A beruházás ütemezése a tervezési időszak évei szerint
E11: Jelenlegi műszaki állapot | F11: Feladat szükségessége | G11: Megvalósítást követő várható műszaki állapot | J11: (eFt) | L11: Kezdés | M11: Befejezés | N11: (rövid / közép / hosszú) | O11: 1 | P11: 2 | Q11: 3 | R11: 4 | S11: 5 | T11: 6 | U11: 7 | V11: 8 | W11: 9 | X11: 10 | Y11: 11 | Z11: 12 | AA11: 13 | AB11: 14 | AC11: 15
B12: szakág | C12: Helyszín | D12: beruházás megnevezése
B14: SZENNYVÍZCSATORNA (GRAVITÁCIÓS)
B15: Épület, építmény
B17: SZENNYVÍZVEZETÉKEK (KÉNYSZERÁRAMOLTATÁSÚ)
B19: SZENNYVÍZÁTEMELŐK
B20: Épület, építmény
B21: Gép, berendezés
B22: Irányítástechnika, energiaellátás
B24: Összesen: | J24: =SUM(J14:J23) -> 0 | K24: 0 | O24: =SUM(O13:O23) -> 0 | P24: =SUM(P13:P23) -> 0 | Q24: =SUM(Q13:Q23) -> 0 | R24: =SUM(R13:R23) -> 0 | S24: =SUM(S13:S23) -> 0 | T24: =SUM(T13:T23) -> 0 | U24: =SUM(U13:U23) -> 0 | V24: =SUM(V13:V23) -> 0 | ... AC24: =SUM(AC13:AC23) -> 0
K25: Beruházásra forrás nem áll rendelkezésre.
B26: Tervezett feladatok nettó költsége a teljes ütem tekintetében (eFt) | C26: Rendelkezésre álló források számszerűsített értéke a teljes ütem tekintetében (eFt) | D26: Rendelkezésre álló források megnevezése
A27: I. ütem | B27: =O24 -> 0 | C27: 0 | D27: Fejlesztési díj (2020)
A28: II. ütem | B28: =SUM(P24:S24) -> 0 | C28: =C27*4 -> 0 | D28: Fejlesztési díj (2021-2024)
A29: III. ütem | B29: =SUM(T24:AC24) -> 0 | C29: =C27*10 -> 0 | D29: Fejlesztési díj (2025-2034)
B31: Jelenleg beruházási igény nem ismert, nincs rendelkezésre álló forrás beruházásra.

Sheet Zalaszentiván
A2: Gördülő fejlesztési terv a 2020 - 2034 időszakra
A3: BERUHÁZÁSOK ÖSSZEFOGLALÓ TÁBLÁZATA
A4: A tervet benyújtó szervezet megnevezése: | K4: ZALASZENTIVÁN | R4: ellátásért felelős / ellátásért felelősök képviselője / víziközmű-szolgáltató *
A5: Víziközmű-szolgáltató megnevezése: | K5: ÉSZAK ZALAI VÍZ- ÉS CSATORNAMŰ ZÁRTKÖRŰEN MŰKÖDŐ RÉSZVÉNYTÁRSASÁG
A6: Víziközmű-szolgáltatási ágazat megnevezése: | K6: SZENNYVÍZ ÁGAZAT
A7: Véleményeltérést megfogalmazó érintett fél megnevezése:
A8: Víziközmű-rendszer kódja: ** | K8: 21-32054-1-048-01-10 | R8: Zalaegerszeg-SZV
A9: V. Szennyvízelvezetés
A10: Fontossági sorrend | B10: Beruházás megnevezése | E10: Műszaki állapot felmérés, szükségességi indoklás | H10: Vízjogi létesítési/elvi engedély száma | I10: Az érintett ellátásért felelős(ök) megnevezése | J10: Tervezett nettó költség | K10: Forrás 2020 évre | L10: Megvalósítás időtartama | N10: Tervezett időtáv | O10: A beruházás ütemezése a tervezési időszak évei szerint
E11: Jelenlegi műszaki állapot | F11: Feladat szükségessége | G11: Megvalósítást követő várható műszaki állapot | J11: (eFt) | L11: Kezdés | M11: Befejezés | N11: (rövid / közép / hosszú) | O11: 1 | P11: 2 | Q11: 3 | R11: 4 | S11: 5 | T11: 6 | U11: 7 | V11: 8 | W11: 9 | X11: 10 | Y11: 11 | Z11: 12 | AA11: 13 | AB11: 14 | AC11: 15
B12: szakág | C12: Helyszín | D12: beruházás megnevezése
B14: SZENNYVÍZCSATORNA (GRAVITÁCIÓS)
B15: Épület, építmény
B17: SZENNYVÍZVEZETÉKEK (KÉNYSZERÁRAMOLTATÁSÚ)
B19: SZENNYVÍZÁTEMELŐK
B20: Épület, építmény
B21: Gép, berendezés
B22: Irányítástechnika, energiaellátás
B24: Összesen: | J24: =SUM(J14:J23) -> 0 | K24: 0 | O24: =SUM(O13:O23) -> 0 | P24: =SUM(P13:P23) -> 0 | Q24: =SUM(Q13:Q23) -> 0 | R24: =SUM(R13:R23) -> 0 | S24: =SUM(S13:S23) -> 0 | T24: =SUM(T13:T23) -> 0 | U24: =SUM(U13:U23) -> 0 | V24: =SUM(V13:V23) -> 0 | ... AC24: =SUM(AC13:AC23) -> 0
K25: Beruházásra forrás nem áll rendelkezésre.
B26: Tervezett feladatok nettó költsége a teljes ütem tekintetében (eFt) | C26: Rendelkezésre álló források számszerűsített értéke a teljes ütem tekintetében (eFt) | D26: Rendelkezésre álló források megnevezése
A27: I. ütem | B27: =O24 -> 0 | C27: 0 | D27: Fejlesztési díj (2020)
A28: II. ütem | B28: =SUM(P24:S24) -> 0 | C28: =C27*4 -> 0 | D28: Fejlesztési díj (2021-2024)
A29: III. ütem | B29: =SUM(T24:AC24) -> 0 | C29: =C27*10 -> 0 | D29: Fejlesztési díj (2025-2034)
B31: Jelenleg beruházási igény nem ismert, nincs rendelkezésre álló forrás beruházásra.

Sheet Zalaszentlőrinc
A2: Gördülő fejlesztési terv a 2020 - 2034 időszakra
A3: BERUHÁZÁSOK ÖSSZEFOGLALÓ TÁBLÁZATA
A4: A tervet benyújtó szervezet megnevezése: | K4: ZALASZENTLŐRINC | R4: ellátásért felelős / ellátásért felelősök képviselője / víziközmű-szolgáltató *
A5: Víziközmű-szolgáltató megnevezése: | K5: ÉSZAK ZALAI VÍZ- ÉS CSATORNAMŰ ZÁRTKÖRŰEN MŰKÖDŐ RÉSZVÉNYTÁRSASÁG
A6: Víziközmű-szolgáltatási ágazat megnevezése: | K6: SZENNYVÍZ ÁGAZAT
A7: Véleményeltérést megfogalmazó érintett fél megnevezése:
A8: Víziközmű-rendszer kódja: ** | K8: 21-32054-1-048-01-10 | R8: Zalaegerszeg-SZV
A9: V. Szennyvízelvezetés
A10: Fontossági sorrend | B10: Beruházás megnevezése | E10: Műszaki állapot felmérés, szükségességi indoklás | H10: Vízjogi létesítési/elvi engedély száma | I10: Az érintett ellátásért felelős(ök) megnevezése | J10: Tervezett nettó költség | K10: Forrás 2020 évre | L10: Megvalósítás időtartama | N10: Tervezett időtáv | O10: A beruházás ütemezése a tervezési időszak évei szerint
E11: Jelenlegi műszaki állapot | F11: Feladat szükségessége | G11: Megvalósítást követő várható műszaki állapot | J11: (eFt) | L11: Kezdés | M11: Befejezés | N11: (rövid / közép / hosszú) | O11: 1 | P11: 2 | Q11: 3 | R11: 4 | S11: 5 | T11: 6 | U11: 7 | V11: 8 | W11: 9 | X11: 10 | Y11: 11 | Z11: 12 | AA11: 13 | AB11: 14 | AC11: 15
B12: szakág | C12: Helyszín | D12: beruházás megnevezése
B14: SZENNYVÍZCSATORNA (GRAVITÁCIÓS)
B15: Épület, építmény
B17: SZENNYVÍZVEZETÉKEK (KÉNYSZERÁRAMOLTATÁSÚ)
B19: SZENNYVÍZÁTEMELŐK
B20: Épület, építmény
B21: Gép, berendezés
B22: Irányítástechnika, energiaellátás
B24: Összesen: | J24: =SUM(J14:J23) -> 0 | K24: 0 | O24: =SUM(O13:O23) -> 0 | P24: =SUM(P13:P23) -> 0 | Q24: =SUM(Q13:Q23) -> 0 | R24: =SUM(R13:R23) -> 0 | S24: =SUM(S13:S23) -> 0 | T24: =SUM(T13:T23) -> 0 | U24: =SUM(U13:U23) -> 0 | V24: =SUM(V13:V23) -> 0 | ... AC24: =SUM(AC13:AC23) -> 0
K25: Beruházásra forrás nem áll rendelkezésre.
B26: Tervezett feladatok nettó költsége a teljes ütem tekintetében (eFt) | C26: Rendelkezésre álló források számszerűsített értéke a teljes ütem tekintetében (eFt) | D26: Rendelkezésre álló források megnevezése
A27: I. ütem | B27: =O24 -> 0 | C27: 0 | D27: Fejlesztési díj (2020)
A28: II. ütem | B28: =SUM(P24:S24) -> 0 | C28: =C27*4 -> 0 | D28: Fejlesztési díj (2021-2024)
A29: III. ütem | B29: =SUM(T24:AC24) -> 0 | C29: =C27*10 -> 0 | D29: Fejlesztési díj (2025-2034)
B31: Jelenleg beruházási igény nem ismert, nincs rendelkezésre álló forrás beruházásra.

Sheet VKR összesítő
A2: Gördülő fejlesztési terv a 2020 - 2034 időszakra
A3: BERUHÁZÁSOK ÖSSZEFOGLALÓ TÁBLÁZATA
A4: A tervet benyújtó szervezet megnevezése: | K4: ZALAEGERSZEG | R4: ellátásért felelős / ellátásért felelősök képviselője / víziközmű-szolgáltató *
A5: Víziközmű-szolgáltató megnevezése: | K5: ÉSZAK ZALAI VÍZ- ÉS CSATORNAMŰ ZÁRTKÖRŰEN MŰKÖDŐ RÉSZVÉNYTÁRSASÁG
A6: Víziközmű-szolgáltatási ágazat megnevezése: | K6: SZENNYVÍZ ÁGAZAT
A7: Véleményeltérést megfogalmazó érintett fél megnevezése:
A8: Víziközmű-rendszer kódja: ** | K8: 21-32054-1-048-01-10 | R8: Zalaegerszeg-SZV
A9: V. Szennyvízelvezetés
A10: Fontossági sorrend | B10: Beruházás megnevezése | E10: Műszaki állapot felmérés, szükségességi indoklás | H10: Vízjogi létesítési/elvi engedély száma | I10: Az érintett ellátásért felelős(ök) megnevezése | J10: Tervezett nettó költség | K10: Forrás 2020 évre | L10: Megvalósítás időtartama | N10: Tervezett időtáv | O10: A beruházás ütemezése a tervezési időszak évei szerint
E11: Jelenlegi műszaki állapot | F11: Feladat szükségessége | G11: Megvalósítást követő várható műszaki állapot | J11: (eFt) | L11: Kezdés | M11: Befejezés | N11: (rövid / közép / hosszú) | O11: 1 | P11: 2 | Q11: 3 | R11: 4 | S11: 5 | T11: 6 | U11: 7 | V11: 8 | W11: 9 | X11: 10 | Y11: 11 | Z11: 12 | AA11: 13 | AB11: 14 | AC11: 15
B12: szakág | C12: Helyszín | D12: beruházás megnevezése
B14: SZENNYVÍZCSATORNA (GRAVITÁCIÓS)
B15: Épület, építmény
B17: SZENNYVÍZVEZETÉKEK (KÉNYSZERÁRAMOLTATÁSÚ)
B19: SZENNYVÍZÁTEMELŐK
B20: Épület, építmény
B22: Gép, berendezés
B24: Irányítástechnika, energiaellátás
B25: összesen: | J25: =SUM(J14:J24) -> 0
A26: VI. Szennyvíztisztítás
A27: sorszám | B27: szakág | C27: Helyszín | D27: beruházás megnevezése
B28: SZENNYVÍZTISZTÍTÓ-TELEP
B29: Épület, építmény
B30: Gép, berendezés
B31: Irányítástechnika, energiaellátás
B32: EGYEDI SZENNYVÍZKEZELŐ LÉTESÍTMÉNY
B33: Épület, építmény
B35: Gép, berendezés
B37: Irányítástechnika, energiaellátás
B39: TERMÉSZETKÖZELI SZENNYVÍZTISZTÍTÓK
B40: Épület, építmény
B42: Gép, berendezés
B44: Irányítástechnika, energiaellátás
... B51: Irányítástechnika, energiaellátás
B54: Összesen: | J54: =SUM(J28:J53) -> 0 | K54: 0 | O54: =SUM(O13:O53) -> 0 | P54: =SUM(P13:P53) -> 0 | Q54: =SUM(Q13:Q53) -> 0 | R54: =SUM(R13:R53) -> 0 | S54: =SUM(S13:S53) -> 0 | T54: =SUM(T13:T53) -> 0 | U54: =SUM(U13:U53) -> 0 | V54: =SUM(V13:V53) -> 0 | ... AC54: =SUM(AC13:AC53) -> 0
K55: Beruházásra forrás nem áll rendelkezésre.
B56: Tervezett feladatok nettó költsége a teljes ütem tekintetében (eFt) | C56: Rendelkezésre álló források számszerűsített értéke a teljes ütem tekintetében (eFt) | D56: Rendelkezésre álló források megnevezése
A57: I. ütem | B57: =Alibánfa!B27+Alsónemesapáti!B27+Babosdöbréte!B27+Bagod!B27+Bak!B27+Bocfölde!B27+Boncodfölde!B27+Böde!B27+Búcsúszentlászló!B27+Csatár!B27+Csonkahegyhát!B27+Dobronhegy!B27+Egervár!B27+Gősfa!B27+Hagyárosbörönd!B27+Hottó!B27+Kávás!B27+Kemendollár!B27+Keménfa!B27+Kisbucsa!B27+Kiskutas!B27+Kispáli!B27+Lakhegy!B27+Nagykutas!B27+Nagypáli!B27+Nemesapáti!B27+Nemeshetés!B27+Nemesándorháza!B27+Nemesszentandrás!B27+Németfalu!B27+Ozmánbük!B27+Pethőhenye!B27+Pókaszepetk!B27+Pusztaszenlászló!B27+Salomvár!B27+Sárhida!B27+Söjtör!B27+Teskánd!B27+Vasboldogasszony!B27+Vaspör!B27+Vöckönd!B27+Zalaboldogfa!B27+Zalacséb!B27+Zalaegerszeg!B55+Zalaistvánd!B27+Zalaszentgyörgy!B27+Zalaszentiván!B27+Zalaszentlőrinc!B27 -> 0 | C57: =Alibánfa!C27+Alsónemesapáti!C27+Babosdöbréte!C27+Bagod!C27+Bak!C27+Bocfölde!C27+Boncodfölde!C27+Böde!C27+Búcsúszentlászló!C27+Csatár!C27+Csonkahegyhát!C27+Dobronhegy!C27+Egervár!C27+Gősfa!C27+Hagyárosbörönd!C27+Hottó!C27+Kávás!C27+Kemendollár!C27+Keménfa!C27+Kisbucsa!C27+Kiskutas!C27+Kispáli!C27+Lakhegy!C27+Nagykutas!C27+Nagypáli!C27+Nemesapáti!C27+Nemeshetés!C27+Nemesándorháza!C27+Nemesszentandrás!C27+Németfalu!C27+Ozmánbük!C27+Pethőhenye!C27+Pókaszepetk!C27+Pusztaszenlászló!C27+Salomvár!C27+Sárhida!C27+Söjtör!C27+Teskánd!C27+Vasboldogasszony!C27+Vaspör!C27+Vöckönd!C27+Zalaboldogfa!C27+Zalacséb!C27+Zalaegerszeg!C55+Zalaistvánd!C27+Zalaszentgyörgy!C27+Zalaszentiván!C27+Zalaszentlőrinc!C27 -> 0 | D57: Fejlesztési díj (2020)
A58: II. ütem | B58: =Alibánfa!B28+Alsónemesapáti!B28+Babosdöbréte!B28+Bagod!B28+Bak!B28+Bocfölde!B28+Boncodfölde!B28+Böde!B28+Búcsúszentlászló!B28+Csatár!B28+Csonkahegyhát!B28+Dobronhegy!B28+Egervár!B28+Gősfa!B28+Hagyárosbörönd!B28+Hottó!B28+Kávás!B28+Kemendollár!B28+Keménfa!B28+Kisbucsa!B28+Kiskutas!B28+Kispáli!B28+Lakhegy!B28+Nagykutas!B28+Nagypáli!B28+Nemesapáti!B28+Nemeshetés!B28+Nemesándorháza!B28+Nemesszentandrás!B28+Németfalu!B28+Ozmánbük!B28+Pethőhenye!B28+Pókaszepetk!B28+Pusztaszenlászló!B28+Salomvár!B28+Sárhida!B28+Söjtör!B28+Teskánd!B28+Vasboldogasszony!B28+Vaspör!B28+Vöckönd!B28+Zalaboldogfa!B28+Zalacséb!B28+Zalaegerszeg!B56+Zalaistvánd!B28+Zalaszentgyörgy!B28+Zalaszentiván!B28+Zalaszentlőrinc!B28 -> 0 | C58: =Alibánfa!C28+Alsónemesapáti!C28+Babosdöbréte!C28+Bagod!C28+Bak!C28+Bocfölde!C28+Boncodfölde!C28+Böde!C28+Búcsúszentlászló!C28+Csatár!C28+Csonkahegyhát!C28+Dobronhegy!C28+Egervár!C28+Gősfa!C28+Hagyárosbörönd!C28+Hottó!C28+Kávás!C28+Kemendollár!C28+Keménfa!C28+Kisbucsa!C28+Kiskutas!C28+Kispáli!C28+Lakhegy!C28+Nagykutas!C28+Nagypáli!C28+Nemesapáti!C28+Nemeshetés!C28+Nemesándorháza!C28+Nemesszentandrás!C28+Németfalu!C28+Ozmánbük!C28+Pethőhenye!C28+Pókaszepetk!C28+Pusztaszenlászló!C28+Salomvár!C28+Sárhida!C28+Söjtör!C28+Teskánd!C28+Vasboldogasszony!C28+Vaspör!C28+Vöckönd!C28+Zalaboldogfa!C28+Zalacséb!C28+Zalaegerszeg!C56+Zalaistvánd!C28+Zalaszentgyörgy!C28+Zalaszentiván!C28+Zalaszentlőrinc!C28 -> 0 | D58: Fejlesztési díj (2021-2024)
A59: III. ütem | B59: =Alibánfa!B29+Alsónemesapáti!B29+Babosdöbréte!B29+Bagod!B29+Bak!B29+Bocfölde!B29+Boncodfölde!B29+Böde!B29+Búcsúszentlászló!B29+Csatár!B29+Csonkahegyhát!B29+Dobronhegy!B29+Egervár!B29+Gősfa!B29+Hagyárosbörönd!B29+Hottó!B29+Kávás!B29+Kemendollár!B29+Keménfa!B29+Kisbucsa!B29+Kiskutas!B29+Kispáli!B29+Lakhegy!B29+Nagykutas!B29+Nagypáli!B29+Nemesapáti!B29+Nemeshetés!B29+Nemesándorháza!B29+Nemesszentandrás!B29+Németfalu!B29+Ozmánbük!B29+Pethőhenye!B29+Pókaszepetk!B29+Pusztaszenlászló!B29+Salomvár!B29+Sárhida!B29+Söjtör!B29+Teskánd!B29+Vasboldogasszony!B29+Vaspör!B29+Vöckönd!B29+Zalaboldogfa!B29+Zalacséb!B29+Zalaegerszeg!B57+Zalaistvánd!B29+Zalaszentgyörgy!B29+Zalaszentiván!B29+Zalaszentlőrinc!B29 -> 0 | C59: =Alibánfa!C29+Alsónemesapáti!C29+Babosdöbréte!C29+Bagod!C29+Bak!C29+Bocfölde!C29+Boncodfölde!C29+Böde!C29+Búcsúszentlászló!C29+Csatár!C29+Csonkahegyhát!C29+Dobronhegy!C29+Egervár!C29+Gősfa!C29+Hagyárosbörönd!C29+Hottó!C29+Kávás!C29+Kemendollár!C29+Keménfa!C29+Kisbucsa!C29+Kiskutas!C29+Kispáli!C29+Lakhegy!C29+Nagykutas!C29+Nagypáli!C29+Nemesapáti!C29+Nemeshetés!C29+Nemesándorháza!C29+Nemesszentandrás!C29+Németfalu!C29+Ozmánbük!C29+Pethőhenye!C29+Pókaszepetk!C29+Pusztaszenlászló!C29+Salomvár!C29+Sárhida!C29+Söjtör!C29+Teskánd!C29+Vasboldogasszony!C29+Vaspör!C29+Vöckönd!C29+Zalaboldogfa!C29+Zalacséb!C29+Zalaegerszeg!C57+Zalaistvánd!C29+Zalaszentgyörgy!C29+Zalaszentiván!C29+Zalaszentlőrinc!C29 -> 0 | D59: Fejlesztési díj (2025-2034)
B62: Jelenleg beruházási igény nem ismert, nincs rendelkezésre álló forrás beruházásra.
