Workbook

Sheet Alibánfa
A2: Gördülő fejlesztési terv a 2020 - 2034 időszakra
A3: BERUHÁZÁSOK ÖSSZEFOGLALÓ TÁBLÁZATA
A4: A tervet benyújtó szervezet megnevezése: | K4: ALIBÁNFA | R4: ellátásért felelős / ellátásért felelősök képviselője / víziközmű-szolgáltató *
A5: Víziközmű-szolgáltató megnevezése: | K5: ÉSZAK ZALAI VÍZ- ÉS CSATORNAMŰ ZÁRTKÖRŰEN MŰKÖDŐ RÉSZVÉNYTÁRSASÁG
A6: Víziközmű-szolgáltatási ágazat megnevezése: | K6: SZENNYVÍZ ÁGAZAT
A7: Véleményeltérést megfogalmazó érintett fél megnevezése:
A8: Víziközmű-rendszer kódja: ** | K8: 21-32054-1-048-01-10 | R8: Zalaegerszeg-SZV
A9: V. Szennyvízelvezetés
A10: Fontossági sorrend | B10: Beruházás megnevezése | E10: Műszaki állapot felmérés, szükségességi indoklás | H10: Vízjogi létesítési/elvi engedély száma | I10: Az érintett ellátásért felelős(ök) megnevezése | J10: Tervezett nettó költség | K10: Forrás 2020 évre | L10: Megvalósítás időtartama | N10: Tervezett időtáv | O10: A beruházás ütemezése a tervezési időszak évei szerint
E11: Jelenlegi műszaki állapot | F11: Feladat szükségessége | G11: Megvalósítást követő várható műszaki állapot | J11: (eFt) | L11: Kezdés | M11: Befejezés | N11: (rövid / közép / hosszú) | O11: 1 | P11: 2 | Q11: 3 | R11: 4 | S11: 5 | T11: 6 | U11: 7 | V11: 8 | W11: 9 | X11: 10 | Y11: 11 | Z11: 12 | AA11: 13 | AB11: 14 | AC11: 15
B12: szakág | C12: Helyszín | D12: beruházás megnevezése
B14: SZENNYVÍZCSATORNA (GRAVITÁCIÓS)
B15: Épület, építmény
B17: SZENNYVÍZVEZETÉKEK (KÉNYSZERÁRAMOLTATÁSÚ)
B19: SZENNYVÍZÁTEMELŐK
B20: Épület, építmény
B21: Gép, berendezés
B22: Irányítástechnika, energiaellátás
B24: Összesen: | J24: =SUM(J14:J23) -> 0 | K24: 0 | O24: =SUM(O13:O23) -> 0 | P24: =SUM(P13:P23) -> 0 | Q24: =SUM(Q13:Q23) -> 0 | R24: =SUM(R13:R23) -> 0 | S24: =SUM(S13:S23) -> 0 | T24: =SUM(T13:T23) -> 0 | U24: =SUM(U13:U23) -> 0 | V24: =SUM(V13:V23) -> 0 | ... AC24: =SUM(AC13:AC23) -> 0
K25: Beruházásra forrás nem áll rendelkezésre.
B26: Tervezett feladatok nettó költsége a teljes ütem tekintetében (eFt) | C26: Rendelkezésre álló források számszerűsített értéke a teljes ütem tekintetében (eFt) | D26: Rendelkezésre álló források megnevezése
A27: I. ütem | B27: =O24 -> 0 | C27: 0 | D27: Fejlesztési díj (2020)
A28: II. ütem | B28: =SUM(P24:S24) -> 0 | C28: =C27*4 -> 0 | D28: Fejlesztési díj (2021-2024)
A29: III. ütem | B29: =SUM(T24:AC24) -> 0 | C29: =C27*10 -> 0 | D29: Fejlesztési díj (2025-2034)
B32: Jelenleg beruházási igény nem ismert, nincs rendelkezésre álló forrás beruházásra.

Sheet Alsónemesapáti
A2: Gördülő fejlesztési terv a 2020 - 2034 időszakra
A3: BERUHÁZÁSOK ÖSSZEFOGLALÓ TÁBLÁZATA
A4: A tervet benyújtó szervezet megnevezése: | K4: ALSÓNEMESAPÁTI | R4: ellátásért felelős / ellátásért felelősök képviselője / víziközmű-szolgáltató *
A5: Víziközmű-szolgáltató megnevezése: | K5: ÉSZAK ZALAI VÍZ- ÉS CSATORNAMŰ ZÁRTKÖRŰEN MŰKÖDŐ RÉSZVÉNYTÁRSASÁG
A6: Víziközmű-szolgáltatási ágazat megnevezése: | K6: SZENNYVÍZ ÁGAZAT
A7: Véleményeltérést megfogalmazó érintett fél megnevezése:
A8: Víziközmű-rendszer kódja: ** | K8: 21-32054-1-048-01-10 | R8: Zalaegerszeg-SZV
A9: V. Szennyvízelvezetés
A10: Fontossági sorrend | B10: Beruházás megnevezése | E10: Műszaki állapot felmérés, szükségességi indoklás | H10: Vízjogi létesítési/elvi engedély száma | I10: Az érintett ellátásért felelős(ök) megnevezése | J10: Tervezett nettó költség | K10: Forrás 2020 évre | L10: Megvalósítás időtartama | N10: Tervezett időtáv | O10: A beruházás ütemezése a tervezési időszak évei szerint
E11: Jelenlegi műszaki állapot | F11: Feladat szükségessége | G11: Megvalósítást követő várható műszaki állapot | J11: (eFt) | L11: Kezdés | M11: Befejezés | N11: (rövid / közép / hosszú) | O11: 1 | P11: 2 | Q11: 3 | R11: 4 | S11: 5 | T11: 6 | U11: 7 | V11: 8 | W11: 9 | X11: 10 | Y11: 11 | Z11: 12 | AA11: 13 | AB11: 14 | AC11: 15
B12: szakág | C12: Helyszín | D12: beruházás megnevezése
B14: SZENNYVÍZCSATORNA (GRAVITÁCIÓS)
B15: Épület, építmény
B17: SZENNYVÍZVEZETÉKEK (KÉNYSZERÁRAMOLTATÁSÚ)
B19: SZENNYVÍZÁTEMELŐK
B20: Épület, építmény
B21: Gép, berendezés
B22: Irányítástechnika, energiaellátás
B24: Összesen: | J24: =SUM(J14:J23) -> 0 | K24: 0 | O24: =SUM(O13:O23) -> 0 | P24: =SUM(P13:P23) -> 0 | Q24: =SUM(Q13:Q23) -> 0 | R24: =SUM(R13:R23) -> 0 | S24: =SUM(S13:S23) -> 0 | T24: =SUM(T13:T23) -> 0 | U24: =SUM(U13:U23) -> 0 | V24: =SUM(V13:V23) -> 0 | ... AC24: =SUM(AC13:AC23) -> 0
K25: Beruházásra forrás nem áll rendelkezésre.
B26: Tervezett feladatok nettó költsége a teljes ütem tekintetében (eFt) | C26: Rendelkezésre álló források számszerűsített értéke a teljes ütem tekintetében (eFt) | D26: Rendelkezésre álló források megnevezése
A27: I. ütem | B27: =O24 -> 0 | C27: 0 | D27: Fejlesztési díj (2020)
A28: II. ütem | B28: =SUM(P24:S24) -> 0 | C28: =C27*4 -> 0 | D28: Fejlesztési díj (2021-2024)
A29: III. ütem | B29: =SUM(T24:AC24) -> 0 | C29: =C27*10 -> 0 | D29: Fejlesztési díj (2025-2034)
B32: Jelenleg beruházási igény nem ismert, nincs rendelkezésre álló forrás beruházásra.

Sheet Babosdöbréte
A2: Gördülő fejlesztési terv a 2020 - 2034 időszakra
A3: BERUHÁZÁSOK ÖSSZEFOGLALÓ TÁBLÁZATA
A4: A tervet benyújtó szervezet megnevezése: | K4: BABOSDÖBRÉTE | R4: ellátásért felelős / ellátásért felelősök képviselője / víziközmű-szolgáltató *
A5: Víziközmű-szolgáltató megnevezése: | K5: ÉSZAK ZALAI VÍZ- ÉS CSATORNAMŰ ZÁRTKÖRŰEN MŰKÖDŐ RÉSZVÉNYTÁRSASÁG
A6: Víziközmű-szolgáltatási ágazat megnevezése: | K6: SZENNYVÍZ ÁGAZAT
A7: Véleményeltérést megfogalmazó érintett fél megnevezése:
A8: Víziközmű-rendszer kódja: ** | K8: 21-32054-1-048-01-10 | R8: Zalaegerszeg-SZV
A9: V. Szennyvízelvezetés
A10: Fontossági sorrend | B10: Beruházás megnevezése | E10: Műszaki állapot felmérés, szükségességi indoklás | H10: Vízjogi létesítési/elvi engedély száma | I10: Az érintett ellátásért felelős(ök) megnevezése | J10: Tervezett nettó költség | K10: Forrás 2020 évre | L10: Megvalósítás időtartama | N10: Tervezett időtáv | O10: A beruházás ütemezése a tervezési időszak évei szerint
E11: Jelenlegi műszaki állapot | F11: Feladat szükségessége | G11: Megvalósítást követő várható műszaki állapot | J11: (eFt) | L11: Kezdés | M11: Befejezés | N11: (rövid / közép / hosszú) | O11: 1 | P11: 2 | Q11: 3 | R11: 4 | S11: 5 | T11: 6 | U11: 7 | V11: 8 | W11: 9 | X11: 10 | Y11: 11 | Z11: 12 | AA11: 13 | AB11: 14 | AC11: 15
B12: szakág | C12: Helyszín | D12: beruházás megnevezése
B14: SZENNYVÍZCSATORNA (GRAVITÁCIÓS)
B15: Épület, építmény
B17: SZENNYVÍZVEZETÉKEK (KÉNYSZERÁRAMOLTATÁSÚ)
B19: SZENNYVÍZÁTEMELŐK
B20: Épület, építmény
B21: Gép, berendezés
B22: Irányítástechnika, energiaellátás
B24: Összesen: | J24: =SUM(J14:J23) -> 0 | K24: 0 | O24: =SUM(O13:O23) -> 0 | P24: =SUM(P13:P23) -> 0 | Q24: =SUM(Q13:Q23) -> 0 | R24: =SUM(R13:R23) -> 0 | S24: =SUM(S13:S23) -> 0 | T24: =SUM(T13:T23) -> 0 | U24: =SUM(U13:U23) -> 0 | V24: =SUM(V13:V23) -> 0 | ... AC24: =SUM(AC13:AC23) -> 0
K25: Beruházásra forrás nem áll rendelkezésre.
B26: Tervezett feladatok nettó költsége a teljes ütem tekintetében (eFt) | C26: Rendelkezésre álló források számszerűsített értéke a teljes ütem tekintetében (eFt) | D26: Rendelkezésre álló források megnevezése
A27: I. ütem | B27: =O24 -> 0 | C27: 0 | D27: Fejlesztési díj (2020)
A28: II. ütem | B28: =SUM(P24:S24) -> 0 | C28: =C27*4 -> 0 | D28: Fejlesztési díj (2021-2024)
A29: III. ütem | B29: =SUM(T24:AC24) -> 0 | C29: =C27*10 -> 0 | D29: Fejlesztési díj (2025-2034)
B32: Jelenleg beruházási igény nem ismert, nincs rendelkezésre álló forrás beruházásra.

Sheet Bagod
A2: Gördülő fejlesztési terv a 2020 - 2034 időszakra
A3: BERUHÁZÁSOK ÖSSZEFOGLALÓ TÁBLÁZATA
A4: A tervet benyújtó szervezet megnevezése: | K4: BAGOD | R4: ellátásért felelős / ellátásért felelősök képviselője / víziközmű-szolgáltató *
A5: Víziközmű-szolgáltató megnevezése: | K5: ÉSZAK ZALAI VÍZ- ÉS CSATORNAMŰ ZÁRTKÖRŰEN MŰKÖDŐ RÉSZVÉNYTÁRSASÁG
A6: Víziközmű-szolgáltatási ágazat megnevezése: | K6: SZENNYVÍZ ÁGAZAT
A7: Véleményeltérést megfogalmazó érintett fél megnevezése:
A8: Víziközmű-rendszer kódja: ** | K8: 21-32054-1-048-01-10 | R8: Zalaegerszeg-SZV
A9: V. Szennyvízelvezetés
A10: Fontossági sorrend | B10: Beruházás megnevezése | E10: Műszaki állapot felmérés, szükségességi indoklás | H10: Vízjogi létesítési/elvi engedély száma | I10: Az érintett ellátásért felelős(ök) megnevezése | J10: Tervezett nettó költség | K10: Forrás 2020 évre | L10: Megvalósítás időtartama | N10: Tervezett időtáv | O10: A beruházás ütemezése a tervezési időszak évei szerint
E11: Jelenlegi műszaki állapot | F11: Feladat szükségessége | G11: Megvalósítást követő várható műszaki állapot | J11: (eFt) | L11: Kezdés | M11: Befejezés | N11: (rövid / közép / hosszú) | O11: 1 | P11: 2 | Q11: 3 | R11: 4 | S11: 5 | T11: 6 | U11: 7 | V11: 8 | W11: 9 | X11: 10 | Y11: 11 | Z11: 12 | AA11: 13 | AB11: 14 | AC11: 15
B12: szakág | C12: Helyszín | D12: beruházás megnevezése
B14: SZENNYVÍZCSATORNA (GRAVITÁCIÓS)
B15: Épület, építmény
B17: SZENNYVÍZVEZETÉKEK (KÉNYSZERÁRAMOLTATÁSÚ)
B19: SZENNYVÍZÁTEMELŐK
B20: Épület, építmény
B21: Gép, berendezés
B22: Irányítástechnika, energiaellátás
B24: Összesen: | J24: =SUM(J14:J23) -> 0 | K24: 0 | O24: =SUM(O13:O23) -> 0 | P24: =SUM(P13:P23) -> 0 | Q24: =SUM(Q13:Q23) -> 0 | R24: =SUM(R13:R23) -> 0 | S24: =SUM(S13:S23) -> 0 | T24: =SUM(T13:T23) -> 0 | U24: =SUM(U13:U23) -> 0 | V24: =SUM(V13:V23) -> 0 | ... AC24: =SUM(AC13:AC23) -> 0
K25: Beruházásra forrás nem áll rendelkezésre.
B26: Tervezett feladatok nettó költsége a teljes ütem tekintetében (eFt) | C26: Rendelkezésre álló források számszerűsített értéke a teljes ütem tekintetében (eFt) | D26: Rendelkezésre álló források megnevezése
A27: I. ütem | B27: =O24 -> 0 | C27: 0 | D27: Fejlesztési díj (2020)
A28: II. ütem | B28: =SUM(P24:S24) -> 0 | C28: =C27*4 -> 0 | D28: Fejlesztési díj (2021-2024)
A29: III. ütem | B29: =SUM(T24:AC24) -> 0 | C29: =C27*10 -> 0 | D29: Fejlesztési díj (2025-2034)
B32: Jelenleg beruházási igény nem ismert, nincs rendelkezésre álló forrás beruházásra.

Sheet Bak
A2: Gördülő fejlesztési terv a 2020 - 2034 időszakra
A3: BERUHÁZÁSOK ÖSSZEFOGLALÓ TÁBLÁZATA
A4: A tervet benyújtó szervezet megnevezése: | K4: BAK | R4: ellátásért felelős / ellátásért felelősök képviselője / víziközmű-szolgáltató *
A5: Víziközmű-szolgáltató megnevezése: | K5: ÉSZAK ZALAI VÍZ- ÉS CSATORNAMŰ ZÁRTKÖRŰEN MŰKÖDŐ RÉSZVÉNYTÁRSASÁG
A6: Víziközmű-szolgáltatási ágazat megnevezése: | K6: SZENNYVÍZ ÁGAZAT
A7: Véleményeltérést megfogalmazó érintett fél megnevezése:
A8: Víziközmű-rendszer kódja: ** | K8: 21-32054-1-048-01-10 | R8: Zalaegerszeg-SZV
A9: V. Szennyvízelvezetés
A10: Fontossági sorrend | B10: Beruházás megnevezése | E10: Műszaki állapot felmérés, szükségességi indoklás | H10: Vízjogi létesítési/elvi engedély száma | I10: Az érintett ellátásért felelős(ök) megnevezése | J10: Tervezett nettó költség | K10: Forrás 2020 évre | L10: Megvalósítás időtartama | N10: Tervezett időtáv | O10: A beruházás ütemezése a tervezési időszak évei szerint
E11: Jelenlegi műszaki állapot | F11: Feladat szükségessége | G11: Megvalósítást követő várható műszaki állapot | J11: (eFt) | L11: Kezdés | M11: Befejezés | N11: (rövid / közép / hosszú) | O11: 1 | P11: 2 | Q11: 3 | R11: 4 | S11: 5 | T11: 6 | U11: 7 | V11: 8 | W11: 9 | X11: 10 | Y11: 11 | Z11: 12 | AA11: 13 | AB11: 14 | AC11: 15
B12: szakág | C12: Helyszín | D12: beruházás megnevezése
B14: SZENNYVÍZCSATORNA (GRAVITÁCIÓS)
B15: Épület, építmény
B17: SZENNYVÍZVEZETÉKEK (KÉNYSZERÁRAMOLTATÁSÚ)
B19: SZENNYVÍZÁTEMELŐK
B20: Épület, építmény
B21: Gép, berendezés
B22: Irányítástechnika, energiaellátás
B24: Összesen: | J24: =SUM(J14:J23) -> 0 | K24: 0 | O24: =SUM(O13:O23) -> 0 | P24: =SUM(P13:P23) -> 0 | Q24: =SUM(Q13:Q23) -> 0 | R24: =SUM(R13:R23) -> 0 | S24: =SUM(S13:S23) -> 0 | T24: =SUM(T13:T23) -> 0 | U24: =SUM(U13:U23) -> 0 | V24: =SUM(V13:V23) -> 0 | ... AC24: =SUM(AC13:AC23) -> 0
K25: Beruházásra forrás nem áll rendelkezésre.
B26: Tervezett feladatok nettó költsége a teljes ütem tekintetében (eFt) | C26: Rendelkezésre álló források számszerűsített értéke a teljes ütem tekintetében (eFt) | D26: Rendelkezésre álló források megnevezése
A27: I. ütem | B27: =O24 -> 0 | C27: 0 | D27: Fejlesztési díj (2020)
A28: II. ütem | B28: =SUM(P24:S24) -> 0 | C28: =C27*4 -> 0 | D28: Fejlesztési díj (2021-2024)
A29: III. ütem | B29: =SUM(T24:AC24) -> 0 | C29: =C27*10 -> 0 | D29: Fejlesztési díj (2025-2034)
B32: Jelenleg beruházási igény nem ismert, nincs rendelkezésre álló forrás beruházásra.

Sheet Bocfölde
A2: Gördülő fejlesztési terv a 2020 - 2034 időszakra
A3: BERUHÁZÁSOK ÖSSZEFOGLALÓ TÁBLÁZATA
A4: A tervet benyújtó szervezet megnevezése: | K4: BOCFÖLDE | R4: ellátásért felelős / ellátásért felelősök képviselője / víziközmű-szolgáltató *
A5: Víziközmű-szolgáltató megnevezése: | K5: ÉSZAK ZALAI VÍZ- ÉS CSATORNAMŰ ZÁRTKÖRŰEN MŰKÖDŐ RÉSZVÉNYTÁRSASÁG
A6: Víziközmű-szolgáltatási ágazat megnevezése: | K6: SZENNYVÍZ ÁGAZAT
A7: Véleményeltérést megfogalmazó érintett fél megnevezése:
A8: Víziközmű-rendszer kódja: ** | K8: 21-32054-1-048-01-10 | R8: Zalaegerszeg-SZV
A9: V. Szennyvízelvezetés
A10: Fontossági sorrend | B10: Beruházás megnevezése | E10: Műszaki állapot felmérés, szükségességi indoklás | H10: Vízjogi létesítési/elvi engedély száma | I10: Az érintett ellátásért felelős(ök) megnevezése | J10: Tervezett nettó költség | K10: Forrás 2020 évre | L10: Megvalósítás időtartama | N10: Tervezett időtáv | O10: A beruházás ütemezése a tervezési időszak évei szerint
E11: Jelenlegi műszaki állapot | F11: Feladat szükségessége | G11: Megvalósítást követő várható műszaki állapot | J11: (eFt) | L11: Kezdés | M11: Befejezés | N11: (rövid / közép / hosszú) | O11: 1 | P11: 2 | Q11: 3 | R11: 4 | S11: 5 | T11: 6 | U11: 7 | V11: 8 | W11: 9 | X11: 10 | Y11: 11 | Z11: 12 | AA11: 13 | AB11: 14 | AC11: 15
B12: szakág | C12: Helyszín | D12: beruházás megnevezése
B14: SZENNYVÍZCSATORNA (GRAVITÁCIÓS)
B15: Épület, építmény
B17: SZENNYVÍZVEZETÉKEK (KÉNYSZERÁRAMOLTATÁSÚ)
B19: SZENNYVÍZÁTEMELŐK
B20: Épület, építmény
B21: Gép, berendezés
B22: Irányítástechnika, energiaellátás
B24: Összesen: | J24: =SUM(J14:J23) -> 0 | K24: 0 | O24: =SUM(O13:O23) -> 0 | P24: =SUM(P13:P23) -> 0 | Q24: =SUM(Q13:Q23) -> 0 | R24: =SUM(R13:R23) -> 0 | S24: =SUM(S13:S23) -> 0 | T24: =SUM(T13:T23) -> 0 | U24: =SUM(U13:U23) -> 0 | V24: =SUM(V13:V23) -> 0 | ... AC24: =SUM(AC13:AC23) -> 0
K25: Beruházásra forrás nem áll rendelkezésre.
B26: Tervezett feladatok nettó költsége a teljes ütem tekintetében (eFt) | C26: Rendelkezésre álló források számszerűsített értéke a teljes ütem tekintetében (eFt) | D26: Rendelkezésre álló források megnevezése
A27: I. ütem | B27: =O24 -> 0 | C27: 0 | D27: Fejlesztési díj (2020)
A28: II. ütem | B28: =SUM(P24:S24) -> 0 | C28: =C27*4 -> 0 | D28: Fejlesztési díj (2021-2024)
A29: III. ütem | B29: =SUM(T24:AC24) -> 0 | C29: =C27*10 -> 0 | D29: Fejlesztési díj (2025-2034)
B32: Jelenleg beruházási igény nem ismert, nincs rendelkezésre álló forrás beruházásra.

Sheet Boncodfölde
A2: Gördülő fejlesztési terv a 2020 - 2034 időszakra
A3: BERUHÁZÁSOK ÖSSZEFOGLALÓ TÁBLÁZATA
A4: A tervet benyújtó szervezet megnevezése: | K4: BONCODFÖLDE | R4: ellátásért felelős / ellátásért felelősök képviselője / víziközmű-szolgáltató *
A5: Víziközmű-szolgáltató megnevezése: | K5: ÉSZAK ZALAI VÍZ- ÉS CSATORNAMŰ ZÁRTKÖRŰEN MŰKÖDŐ RÉSZVÉNYTÁRSASÁG
A6: Víziközmű-szolgáltatási ágazat megnevezése: | K6: SZENNYVÍZ ÁGAZAT
A7: Véleményeltérést megfogalmazó érintett fél megnevezése:
A8: Víziközmű-rendszer kódja: ** | K8: 21-32054-1-048-01-10 | R8: Zalaegerszeg-SZV
A9: V. Szennyvízelvezetés
A10: Fontossági sorrend | B10: Beruházás megnevezése | E10: Műszaki állapot felmérés, szükségességi indoklás | H10: Vízjogi létesítési/elvi engedély száma | I10: Az érintett ellátásért felelős(ök) megnevezése | J10: Tervezett nettó költség | K10: Forrás 2020 évre | L10: Megvalósítás időtartama | N10: Tervezett időtáv | O10: A beruházás ütemezése a tervezési időszak évei szerint
E11: Jelenlegi műszaki állapot | F11: Feladat szükségessége | G11: Megvalósítást követő várható műszaki állapot | J11: (eFt) | L11: Kezdés | M11: Befejezés | N11: (rövid / közép / hosszú) | O11: 1 | P11: 2 | Q11: 3 | R11: 4 | S11: 5 | T11: 6 | U11: 7 | V11: 8 | W11: 9 | X11: 10 | Y11: 11 | Z11: 12 | AA11: 13 | AB11: 14 | AC11: 15
B12: szakág | C12: Helyszín | D12: beruházás megnevezése
B14: SZENNYVÍZCSATORNA (GRAVITÁCIÓS)
B15: Épület, építmény
B17: SZENNYVÍZVEZETÉKEK (KÉNYSZERÁRAMOLTATÁSÚ)
B19: SZENNYVÍZÁTEMELŐK
B20: Épület, építmény
B21: Gép, berendezés
B22: Irányítástechnika, energiaellátás
B24: Összesen: | J24: =SUM(J14:J23) -> 0 | K24: 0 | O24: =SUM(O13:O23) -> 0 | P24: =SUM(P13:P23) -> 0 | Q24: =SUM(Q13:Q23) -> 0 | R24: =SUM(R13:R23) -> 0 | S24: =SUM(S13:S23) -> 0 | T24: =SUM(T13:T23) -> 0 | U24: =SUM(U13:U23) -> 0 | V24: =SUM(V13:V23) -> 0 | ... AC24: =SUM(AC13:AC23) -> 0
K25: Beruházásra forrás nem áll rendelkezésre.
B26: Tervezett feladatok nettó költsége a teljes ütem tekintetében (eFt) | C26: Rendelkezésre álló források számszerűsített értéke a teljes ütem tekintetében (eFt) | D26: Rendelkezésre álló források megnevezése
A27: I. ütem | B27: =O24 -> 0 | C27: 0 | D27: Fejlesztési díj (2020)
A28: II. ütem | B28: =SUM(P24:S24) -> 0 | C28: =C27*4 -> 0 | D28: Fejlesztési díj (2021-2024)
A29: III. ütem | B29: =SUM(T24:AC24) -> 0 | C29: =C27*10 -> 0 | D29: Fejlesztési díj (2025-2034)
B32: Jelenleg beruházási igény nem ismert, nincs rendelkezésre álló forrás beruházásra.

Sheet Böde
A2: Gördülő fejlesztési terv a 2020 - 2034 időszakra
A3: BERUHÁZÁSOK ÖSSZEFOGLALÓ TÁBLÁZATA
A4: A tervet benyújtó szervezet megnevezése: | K4: BÖDE | R4: ellátásért felelős / ellátásért felelősök képviselője / víziközmű-szolgáltató *
A5: Víziközmű-szolgáltató megnevezése: | K5: ÉSZAK ZALAI VÍZ- ÉS CSATORNAMŰ ZÁRTKÖRŰEN MŰKÖDŐ RÉSZVÉNYTÁRSASÁG
A6: Víziközmű-szolgáltatási ágazat megnevezése: | K6: SZENNYVÍZ ÁGAZAT
A7: Véleményeltérést megfogalmazó érintett fél megnevezése:
A8: Víziközmű-rendszer kódja: ** | K8: 21-32054-1-048-01-10 | R8: Zalaegerszeg-SZV
A9: V. Szennyvízelvezetés
A10: Fontossági sorrend | B10: Beruházás megnevezése | E10: Műszaki állapot felmérés, szükségességi indoklás | H10: Vízjogi létesítési/elvi engedély száma | I10: Az érintett ellátásért felelős(ök) megnevezése | J10: Tervezett nettó költség | K10: Forrás 2020 évre | L10: Megvalósítás időtartama | N10: Tervezett időtáv | O10: A beruházás ütemezése a tervezési időszak évei szerint
E11: Jelenlegi műszaki állapot | F11: Feladat szükségessége | G11: Megvalósítást követő várható műszaki állapot | J11: (eFt) | L11: Kezdés | M11: Befejezés | N11: (rövid / közép / hosszú) | O11: 1 | P11: 2 | Q11: 3 | R11: 4 | S11: 5 | T11: 6 | U11: 7 | V11: 8 | W11: 9 | X11: 10 | Y11: 11 | Z11: 12 | AA11: 13 | AB11: 14 | AC11: 15
B12: szakág | C12: Helyszín | D12: beruházás megnevezése
B14: SZENNYVÍZCSATORNA (GRAVITÁCIÓS)
B15: Épület, építmény
B17: SZENNYVÍZVEZETÉKEK (KÉNYSZERÁRAMOLTATÁSÚ)
B19: SZENNYVÍZÁTEMELŐK
B20: Épület, építmény
B21: Gép, berendezés
B22: Irányítástechnika, energiaellátás
B24: Összesen: | J24: =SUM(J14:J23) -> 0 | K24: 0 | O24: =SUM(O13:O23) -> 0 | P24: =SUM(P13:P23) -> 0 | Q24: =SUM(Q13:Q23) -> 0 | R24: =SUM(R13:R23) -> 0 | S24: =SUM(S13:S23) -> 0 | T24: =SUM(T13:T23) -> 0 | U24: =SUM(U13:U23) -> 0 | V24: =SUM(V13:V23) -> 0 | ... AC24: =SUM(AC13:AC23) -> 0
K25: Beruházásra forrás nem áll rendelkezésre.
B26: Tervezett feladatok nettó költsége a teljes ütem tekintetében (eFt) | C26: Rendelkezésre álló források számszerűsített értéke a teljes ütem tekintetében (eFt) | D26: Rendelkezésre álló források megnevezése
A27: I. ütem | B27: =O24 -> 0 | C27: 0 | D27: Fejlesztési díj (2020)
A28: II. ütem | B28: =SUM(P24:S24) -> 0 | C28: =C27*4 -> 0 | D28: Fejlesztési díj (2021-2024)
A29: III. ütem | B29: =SUM(T24:AC24) -> 0 | C29: =C27*10 -> 0 | D29: Fejlesztési díj (2025-2034)
B31: Jelenleg beruházási igény nem ismert, nincs rendelkezésre álló forrás beruházásra.

Sheet Búcsúszentlászló
A2: Gördülő fejlesztési terv a 2020 - 2034 időszakra
A3: BERUHÁZÁSOK ÖSSZEFOGLALÓ TÁBLÁZATA
A4: A tervet benyújtó szervezet megnevezése: | K4: BUCSUSZENTLÁSZLÓ | R4: ellátásért felelős / ellátásért felelősök képviselője / víziközmű-szolgáltató *
A5: Víziközmű-szolgáltató megnevezése: | K5: ÉSZAK ZALAI VÍZ- ÉS CSATORNAMŰ ZÁRTKÖRŰEN MŰKÖDŐ RÉSZVÉNYTÁRSASÁG
A6: Víziközmű-szolgáltatási ágazat megnevezése: | K6: SZENNYVÍZ ÁGAZAT
A7: Véleményeltérést megfogalmazó érintett fél megnevezése:
A8: Víziközmű-rendszer kódja: ** | K8: 21-32054-1-048-01-10 | R8: Zalaegerszeg-SZV
A9: V. Szennyvízelvezetés
A10: Fontossági sorrend | B10: Beruházás megnevezése | E10: Műszaki állapot felmérés, szükségességi indoklás | H10: Vízjogi létesítési/elvi engedély száma | I10: Az érintett ellátásért felelős(ök) megnevezése | J10: Tervezett nettó költség | K10: Forrás 2020 évre | L10: Megvalósítás időtartama | N10: Tervezett időtáv | O10: A beruházás ütemezése a tervezési időszak évei szerint
E11: Jelenlegi műszaki állapot | F11: Feladat szükségessége | G11: Megvalósítást követő várható műszaki állapot | J11: (eFt) | L11: Kezdés | M11: Befejezés | N11: (rövid / közép / hosszú) | O11: 1 | P11: 2 | Q11: 3 | R11: 4 | S11: 5 | T11: 6 | U11: 7 | V11: 8 | W11: 9 | X11: 10 | Y11: 11 | Z11: 12 | AA11: 13 | AB11: 14 | AC11: 15
B12: szakág | C12: Helyszín | D12: beruházás megnevezése
B14: SZENNYVÍZCSATORNA (GRAVITÁCIÓS)
B15: Épület, építmény
B17: SZENNYVÍZVEZETÉKEK (KÉNYSZERÁRAMOLTATÁSÚ)
B19: SZENNYVÍZÁTEMELŐK
B20: Épület, építmény
B21: Gép, berendezés
B22: Irányítástechnika, energiaellátás
B24: Összesen: | J24: =SUM(J14:J23) -> 0 | K24: 0 | O24: =SUM(O13:O23) -> 0 | P24: =SUM(P13:P23) -> 0 | Q24: =SUM(Q13:Q23) -> 0 | R24: =SUM(R13:R23) -> 0 | S24: =SUM(S13:S23) -> 0 | T24: =SUM(T13:T23) -> 0 | U24: =SUM(U13:U23) -> 0 | V24: =SUM(V13:V23) -> 0 | ... AC24: =SUM(AC13:AC23) -> 0
K25: Beruházásra forrás nem áll rendelkezésre.
B26: Tervezett feladatok nettó költsége a teljes ütem tekintetében (eFt) | C26: Rendelkezésre álló források számszerűsített értéke a teljes ütem tekintetében (eFt) | D26: Rendelkezésre álló források megnevezése
A27: I. ütem | B27: =O24 -> 0 | C27: 0 | D27: Fejlesztési díj (2020)
A28: II. ütem | B28: =SUM(P24:S24) -> 0 | C28: =C27*4 -> 0 | D28: Fejlesztési díj (2021-2024)
A29: III. ütem | B29: =SUM(T24:AC24) -> 0 | C29: =C27*10 -> 0 | D29: Fejlesztési díj (2025-2034)
B32: Jelenleg beruházási igény nem ismert, nincs rendelkezésre álló forrás beruházásra.

Sheet Csatár
A2: Gördülő fejlesztési terv a 2020 - 2034 időszakra
A3: BERUHÁZÁSOK ÖSSZEFOGLALÓ TÁBLÁZATA
A4: A tervet benyújtó szervezet megnevezése: | K4: CSATRÁ | R4: ellátásért felelős / ellátásért felelősök képviselője / víziközmű-szolgáltató *
A5: Víziközmű-szolgáltató megnevezése: | K5: ÉSZAK ZALAI VÍZ- ÉS CSATORNAMŰ ZÁRTKÖRŰEN MŰKÖDŐ RÉSZVÉNYTÁRSASÁG
A6: Víziközmű-szolgáltatási ágazat megnevezése: | K6: SZENNYVÍZ ÁGAZAT
A7: Véleményeltérést megfogalmazó érintett fél megnevezése:
A8: Víziközmű-rendszer kódja: ** | K8: 21-32054-1-048-01-10 | R8: Zalaegerszeg-SZV
A9: V. Szennyvízelvezetés
A10: Fontossági sorrend | B10: Beruházás megnevezése | E10: Műszaki állapot felmérés, szükségességi indoklás | H10: Vízjogi létesítési/elvi engedély száma | I10: Az érintett ellátásért felelős(ök) megnevezése | J10: Tervezett nettó költség | K10: Forrás 2020 évre | L10: Megvalósítás időtartama | N10: Tervezett időtáv | O10: A beruházás ütemezése a tervezési időszak évei szerint
E11: Jelenlegi műszaki állapot | F11: Feladat szükségessége | G11: Megvalósítást követő várható műszaki állapot | J11: (eFt) | L11: Kezdés | M11: Befejezés | N11: (rövid / közép / hosszú) | O11: 1 | P11: 2 | Q11: 3 | R11: 4 | S11: 5 | T11: 6 | U11: 7 | V11: 8 | W11: 9 | X11: 10 | Y11: 11 | Z11: 12 | AA11: 13 | AB11: 14 | AC11: 15
B12: szakág | C12: Helyszín | D12: beruházás megnevezése
B14: SZENNYVÍZCSATORNA (GRAVITÁCIÓS)
B15: Épület, építmény
B17: SZENNYVÍZVEZETÉKEK (KÉNYSZERÁRAMOLTATÁSÚ)
B19: SZENNYVÍZÁTEMELŐK
B20: Épület, építmény
B21: Gép, berendezés
B22: Irányítástechnika, energiaellátás
B24: Összesen: | J24: =SUM(J14:J23) -> 0 | K24: 0 | O24: =SUM(O13:O23) -> 0 | P24: =SUM(P13:P23) -> 0 | Q24: =SUM(Q13:Q23) -> 0 | R24: =SUM(R13:R23) -> 0 | S24: =SUM(S13:S23) -> 0 | T24: =SUM(T13:T23) -> 0 | U24: =SUM(U13:U23) -> 0 | V24: =SUM(V13:V23) -> 0 | ... AC24: =SUM(AC13:AC23) -> 0
K25: Beruházásra forrás nem áll rendelkezésre.
B26: Tervezett feladatok nettó költsége a teljes ütem tekintetében (eFt) | C26: Rendelkezésre álló források számszerűsített értéke a teljes ütem tekintetében (eFt) | D26: Rendelkezésre álló források megnevezése
A27: I. ütem | B27: =O24 -> 0 | C27: 0 | D27: Fejlesztési díj (2020)
A28: II. ütem | B28: =SUM(P24:S24) -> 0 | C28: =C27*4 -> 0 | D28: Fejlesztési díj (2021-2024)
A29: III. ütem | B29: =SUM(T24:AC24) -> 0 | C29: =C27*10 -> 0 | D29: Fejlesztési díj (2025-2034)
B31: Jelenleg beruházási igény nem ismert, nincs rendelkezésre álló forrás beruházásra.

Sheet Csonkahegyhát
A2: Gördülő fejlesztési terv a 2020 - 2034 időszakra
A3: BERUHÁZÁSOK ÖSSZEFOGLALÓ TÁBLÁZATA
A4: A tervet benyújtó szervezet megnevezése: | K4: CSONKAHEGYHÁT | R4: ellátásért felelős / ellátásért felelősök képviselője / víziközmű-szolgáltató *
A5: Víziközmű-szolgáltató megnevezése: | K5: ÉSZAK ZALAI VÍZ- ÉS CSATORNAMŰ ZÁRTKÖRŰEN MŰKÖDŐ RÉSZVÉNYTÁRSASÁG
A6: Víziközmű-szolgáltatási ágazat megnevezése: | K6: SZENNYVÍZ ÁGAZAT
A7: Véleményeltérést megfogalmazó érintett fél megnevezése:
A8: Víziközmű-rendszer kódja: ** | K8: 21-32054-1-048-01-10 | R8: Zalaegerszeg-SZV
A9: V. Szennyvízelvezetés
A10: Fontossági sorrend | B10: Beruházás megnevezése | E10: Műszaki állapot felmérés, szükségességi indoklás | H10: Vízjogi létesítési/elvi engedély száma | I10: Az érintett ellátásért felelős(ök) megnevezése | J10: Tervezett nettó költség | K10: Forrás 2020 évre | L10: Megvalósítás időtartama | N10: Tervezett időtáv | O10: A beruházás ütemezése a tervezési időszak évei szerint
E11: Jelenlegi műszaki állapot | F11: Feladat szükségessége | G11: Megvalósítást követő várható műszaki állapot | J11: (eFt) | L11: Kezdés | M11: Befejezés | N11: (rövid / közép / hosszú) | O11: 1 | P11: 2 | Q11: 3 | R11: 4 | S11: 5 | T11: 6 | U11: 7 | V11: 8 | W11: 9 | X11: 10 | Y11: 11 | Z11: 12 | AA11: 13 | AB11: 14 | AC11: 15
B12: szakág | C12: Helyszín | D12: beruházás megnevezése
B14: SZENNYVÍZCSATORNA (GRAVITÁCIÓS)
B15: Épület, építmény
B17: SZENNYVÍZVEZETÉKEK (KÉNYSZERÁRAMOLTATÁSÚ)
B19: SZENNYVÍZÁTEMELŐK
B20: Épület, építmény
B21: Gép, berendezés
B22: Irányítástechnika, energiaellátás
B24: Összesen: | J24: =SUM(J14:J23) -> 0 | K24: 0 | O24: =SUM(O13:O23) -> 0 | P24: =SUM(P13:P23) -> 0 | Q24: =SUM(Q13:Q23) -> 0 | R24: =SUM(R13:R23) -> 0 | S24: =SUM(S13:S23) -> 0 | T24: =SUM(T13:T23) -> 0 | U24: =SUM(U13:U23) -> 0 | V24: =SUM(V13:V23) -> 0 | ... AC24: =SUM(AC13:AC23) -> 0
K25: Beruházásra forrás nem áll rendelkezésre.
B26: Tervezett feladatok nettó költsége a teljes ütem tekintetében (eFt) | C26: Rendelkezésre álló források számszerűsített értéke a teljes ütem tekintetében (eFt) | D26: Rendelkezésre álló források megnevezése
A27: I. ütem | B27: =O24 -> 0 | C27: 0 | D27: Fejlesztési díj (2020)
A28: II. ütem | B28: =SUM(P24:S24) -> 0 | C28: =C27*4 -> 0 | D28: Fejlesztési díj (2021-2024)
A29: III. ütem | B29: =SUM(T24:AC24) -> 0 | C29: =C27*10 -> 0 | D29: Fejlesztési díj (2025-2034)
B32: Jelenleg beruházási igény nem ismert, nincs rendelkezésre álló forrás beruházásra.

Sheet Dobronhegy
A2: Gördülő fejlesztési terv a 2020 - 2034 időszakra
A3: BERUHÁZÁSOK ÖSSZEFOGLALÓ TÁBLÁZATA
A4: A tervet benyújtó szervezet megnevezése: | K4: DOBRONHEGY | R4: ellátásért felelős / ellátásért felelősök képviselője / víziközmű-szolgáltató *
A5: Víziközmű-szolgáltató megnevezése: | K5: ÉSZAK ZALAI VÍZ- ÉS CSATORNAMŰ ZÁRTKÖRŰEN MŰKÖDŐ RÉSZVÉNYTÁRSASÁG
A6: Víziközmű-szolgáltatási ágazat megnevezése: | K6: SZENNYVÍZ ÁGAZAT
A7: Véleményeltérést megfogalmazó érintett fél megnevezése:
A8: Víziközmű-rendszer kódja: ** | K8: 21-32054-1-048-01-10 | R8: Zalaegerszeg-SZV
A9: V. Szennyvízelvezetés
A10: Fontossági sorrend | B10: Beruházás megnevezése | E10: Műszaki állapot felmérés, szükségességi indoklás | H10: Vízjogi létesítési/elvi engedély száma | I10: Az érintett ellátásért felelős(ök) megnevezése | J10: Tervezett nettó költség | K10: Forrás 2020 évre | L10: Megvalósítás időtartama | N10: Tervezett időtáv | O10: A beruházás ütemezése a tervezési időszak évei szerint
E11: Jelenlegi műszaki állapot | F11: Feladat szükségessége | G11: Megvalósítást követő várható műszaki állapot | J11: (eFt) | L11: Kezdés | M11: Befejezés | N11: (rövid / közép / hosszú) | O11: 1 | P11: 2 | Q11: 3 | R11: 4 | S11: 5 | T11: 6 | U11: 7 | V11: 8 | W11: 9 | X11: 10 | Y11: 11 | Z11: 12 | AA11: 13 | AB11: 14 | AC11: 15
B12: szakág | C12: Helyszín | D12: beruházás megnevezése
B14: SZENNYVÍZCSATORNA (GRAVITÁCIÓS)
B15: Épület, építmény
B17: SZENNYVÍZVEZETÉKEK (KÉNYSZERÁRAMOLTATÁSÚ)
B19: SZENNYVÍZÁTEMELŐK
B20: Épület, építmény
B21: Gép, berendezés
B22: Irányítástechnika, energiaellátás
B24: Összesen: | J24: =SUM(J14:J23) -> 0 | K24: 0 | O24: =SUM(O13:O23) -> 0 | P24: =SUM(P13:P23) -> 0 | Q24: =SUM(Q13:Q23) -> 0 | R24: =SUM(R13:R23) -> 0 | S24: =SUM(S13:S23) -> 0 | T24: =SUM(T13:T23) -> 0 | U24: =SUM(U13:U23) -> 0 | V24: =SUM(V13:V23) -> 0 | ... AC24: =SUM(AC13:AC23) -> 0
K25: Beruházásra forrás nem áll rendelkezésre.
B26: Tervezett feladatok nettó költsége a teljes ütem tekintetében (eFt) | C26: Rendelkezésre álló források számszerűsített értéke a teljes ütem tekintetében (eFt) | D26: Rendelkezésre álló források megnevezése
A27: I. ütem | B27: =O24 -> 0 | C27: 0 | D27: Fejlesztési díj (2020)
A28: II. ütem | B28: =SUM(P24:S24) -> 0 | C28: =C27*4 -> 0 | D28: Fejlesztési díj (2021-2024)
A29: III. ütem | B29: =SUM(T24:AC24) -> 0 | C29: =C27*10 -> 0 | D29: Fejlesztési díj (2025-2034)
B31: Jelenleg beruházási igény nem ismert, nincs rendelkezésre álló forrás beruházásra.

Sheet Egervár
A2: Gördülő fejlesztési terv a 2020 - 2034 időszakra
A3: BERUHÁZÁSOK ÖSSZEFOGLALÓ TÁBLÁZATA
A4: A tervet benyújtó szervezet megnevezése: | K4: EGERVÁR | R4: ellátásért felelős / ellátásért felelősök képviselője / víziközmű-szolgáltató *
A5: Víziközmű-szolgáltató megnevezése: | K5: ÉSZAK ZALAI VÍZ- ÉS CSATORNAMŰ ZÁRTKÖRŰEN MŰKÖDŐ RÉSZVÉNYTÁRSASÁG
A6: Víziközmű-szolgáltatási ágazat megnevezése: | K6: SZENNYVÍZ ÁGAZAT
A7: Véleményeltérést megfogalmazó érintett fél megnevezése:
A8: Víziközmű-rendszer kódja: ** | K8: 21-32054-1-048-01-10 | R8: Zalaegerszeg-SZV
A9: V. Szennyvízelvezetés
A10: Fontossági sorrend | B10: Beruházás megnevezése | E10: Műszaki állapot felmérés, szükségességi indoklás | H10: Vízjogi létesítési/elvi engedély száma | I10: Az érintett ellátásért felelős(ök) megnevezése | J10: Tervezett nettó költség | K10: Forrás 2020 évre | L10: Megvalósítás időtartama | N10: Tervezett időtáv | O10: A beruházás ütemezése a tervezési időszak évei szerint
E11: Jelenlegi műszaki állapot | F11: Feladat szükségessége | G11: Megvalósítást követő várható műszaki állapot | J11: (eFt) | L11: Kezdés | M11: Befejezés | N11: (rövid / közép / hosszú) | O11: 1 | P11: 2 | Q11: 3 | R11: 4 | S11: 5 | T11: 6 | U11: 7 | V11: 8 | W11: 9 | X11: 10 | Y11: 11 | Z11: 12 | AA11: 13 | AB11: 14 | AC11: 15
B12: szakág | C12: Helyszín | D12: beruházás megnevezése
B14: SZENNYVÍZCSATORNA (GRAVITÁCIÓS)
B15: Épület, építmény
B17: SZENNYVÍZVEZETÉKEK (KÉNYSZERÁRAMOLTATÁSÚ)
B19: SZENNYVÍZÁTEMELŐK
B20: Épület, építmény
B21: Gép, berendezés
B22: Irányítástechnika, energiaellátás
B24: Összesen: | J24: =SUM(J14:J23) -> 0 | K24: 0 | O24: =SUM(O13:O23) -> 0 | P24: =SUM(P13:P23) -> 0 | Q24: =SUM(Q13:Q23) -> 0 | R24: =SUM(R13:R23) -> 0 | S24: =SUM(S13:S23) -> 0 | T24: =SUM(T13:T23) -> 0 | U24: =SUM(U13:U23) -> 0 | V24: =SUM(V13:V23) -> 0 | ... AC24: =SUM(AC13:AC23) -> 0
K25: Beruházásra forrás nem áll rendelkezésre.
B26: Tervezett feladatok nettó költsége a teljes ütem tekintetében (eFt) | C26: Rendelkezésre álló források számszerűsített értéke a teljes ütem tekintetében (eFt) | D26: Rendelkezésre álló források megnevezése
A27: I. ütem | B27: =O24 -> 0 | C27: 0 | D27: Fejlesztési díj (2020)
A28: II. ütem | B28: =SUM(P24:S24) -> 0 | C28: =C27*4 -> 0 | D28: Fejlesztési díj (2021-2024)
A29: III. ütem | B29: =SUM(T24:AC24) -> 0 | C29: =C27*10 -> 0 | D29: Fejlesztési díj (2025-2034)
B31: Jelenleg beruházási igény nem ismert, nincs rendelkezésre álló forrás beruházásra.

Sheet Gősfa
A2: Gördülő fejlesztési terv a 2020 - 2034 időszakra
A3: BERUHÁZÁSOK ÖSSZEFOGLALÓ TÁBLÁZATA
A4: A tervet benyújtó szervezet megnevezése: | K4: GŐSFA | R4: ellátásért felelős / ellátásért felelősök képviselője / víziközmű-szolgáltató *
A5: Víziközmű-szolgáltató megnevezése: | K5: ÉSZAK ZALAI VÍZ- ÉS CSATORNAMŰ ZÁRTKÖRŰEN MŰKÖDŐ RÉSZVÉNYTÁRSASÁG
A6: Víziközmű-szolgáltatási ágazat megnevezése: | K6: SZENNYVÍZ ÁGAZAT
A7: Véleményeltérést megfogalmazó érintett fél megnevezése:
A8: Víziközmű-rendszer kódja: ** | K8: 21-32054-1-048-01-10 | R8: Zalaegerszeg-SZV
A9: V. Szennyvízelvezetés
A10: Fontossági sorrend | B10: Beruházás megnevezése | E10: Műszaki állapot felmérés, szükségességi indoklás | H10: Vízjogi létesítési/elvi engedély száma | I10: Az érintett ellátásért felelős(ök) megnevezése | J10: Tervezett nettó költség | K10: Forrás 2020 évre | L10: Megvalósítás időtartama | N10: Tervezett időtáv | O10: A beruházás ütemezése a tervezési időszak évei szerint
E11: Jelenlegi műszaki állapot | F11: Feladat szükségessége | G11: Megvalósítást követő várható műszaki állapot | J11: (eFt) | L11: Kezdés | M11: Befejezés | N11: (rövid / közép / hosszú) | O11: 1 | P11: 2 | Q11: 3 | R11: 4 | S11: 5 | T11: 6 | U11: 7 | V11: 8 | W11: 9 | X11: 10 | Y11: 11 | Z11: 12 | AA11: 13 | AB11: 14 | AC11: 15
B12: szakág | C12: Helyszín | D12: beruházás megnevezése
B14: SZENNYVÍZCSATORNA (GRAVITÁCIÓS)
B15: Épület, építmény
B17: SZENNYVÍZVEZETÉKEK (KÉNYSZERÁRAMOLTATÁSÚ)
B19: SZENNYVÍZÁTEMELŐK
B20: Épület, építmény
B21: Gép, berendezés
B22: Irányítástechnika, energiaellátás
B24: Összesen: | J24: =SUM(J14:J23) -> 0 | K24: 0 | O24: =SUM(O13:O23) -> 0 | P24: =SUM(P13:P23) -> 0 | Q24: =SUM(Q13:Q23) -> 0 | R24: =SUM(R13:R23) -> 0 | S24: =SUM(S13:S23) -> 0 | T24: =SUM(T13:T23) -> 0 | U24: =SUM(U13:U23) -> 0 | V24: =SUM(V13:V23) -> 0 | ... AC24: =SUM(AC13:AC23) -> 0
K25: Beruházásra forrás nem áll rendelkezésre.
B26: Tervezett feladatok nettó költsége a teljes ütem tekintetében (eFt) | C26: Rendelkezésre álló források számszerűsített értéke a teljes ütem tekintetében (eFt) | D26: Rendelkezésre álló források megnevezése
A27: I. ütem | B27: =O24 -> 0 | C27: 0 | D27: Fejlesztési díj (2020)
A28: II. ütem | B28: =SUM(P24:S24) -> 0 | C28: =C27*4 -> 0 | D28: Fejlesztési díj (2021-2024)
A29: III. ütem | B29: =SUM(T24:AC24) -> 0 | C29: =C27*10 -> 0 | D29: Fejlesztési díj (2025-2034)
B31: Jelenleg beruházási igény nem ismert, nincs rendelkezésre álló forrás beruházásra.

Sheet Hagyárosbörönd
A2: Gördülő fejlesztési terv a 2020 - 2034 időszakra
A3: BERUHÁZÁSOK ÖSSZEFOGLALÓ TÁBLÁZATA
A4: A tervet benyújtó szervezet megnevezése: | K4: HAGYÁROSBÖRÖND | R4: ellátásért felelős / ellátásért felelősök képviselője / víziközmű-szolgáltató *
A5: Víziközmű-szolgáltató megnevezése: | K5: ÉSZAK ZALAI VÍZ- ÉS CSATORNAMŰ ZÁRTKÖRŰEN MŰKÖDŐ RÉSZVÉNYTÁRSASÁG
A6: Víziközmű-szolgáltatási ágazat megnevezése: | K6: SZENNYVÍZ ÁGAZAT
A7: Véleményeltérést megfogalmazó érintett fél megnevezése:
A8: Víziközmű-rendszer kódja: ** | K8: 21-32054-1-048-01-10 | R8: Zalaegerszeg-SZV
A9: V. Szennyvízelvezetés
A10: Fontossági sorrend | B10: Beruházás megnevezése | E10: Műszaki állapot felmérés, szükségességi indoklás | H10: Vízjogi létesítési/elvi engedély száma | I10: Az érintett ellátásért felelős(ök) megnevezése | J10: Tervezett nettó költség | K10: Forrás 2020 évre | L10: Megvalósítás időtartama | N10: Tervezett időtáv | O10: A beruházás ütemezése a tervezési időszak évei szerint
E11: Jelenlegi műszaki állapot | F11: Feladat szükségessége | G11: Megvalósítást követő várható műszaki állapot | J11: (eFt) | L11: Kezdés | M11: Befejezés | N11: (rövid / közép / hosszú) | O11: 1 | P11: 2 | Q11: 3 | R11: 4 | S11: 5 | T11: 6 | U11: 7 | V11: 8 | W11: 9 | X11: 10 | Y11: 11 | Z11: 12 | AA11: 13 | AB11: 14 | AC11: 15
B12: szakág | C12: Helyszín | D12: beruházás megnevezése
B14: SZENNYVÍZCSATORNA (GRAVITÁCIÓS)
B15: Épület, építmény
B17: SZENNYVÍZVEZETÉKEK (KÉNYSZERÁRAMOLTATÁSÚ)
B19: SZENNYVÍZÁTEMELŐK
B20: Épület, építmény
B21: Gép, berendezés
B22: Irányítástechnika, energiaellátás
B24: Összesen: | J24: =SUM(J14:J23) -> 0 | K24: 0 | O24: =SUM(O13:O23) -> 0 | P24: =SUM(P13:P23) -> 0 | Q24: =SUM(Q13:Q23) -> 0 | R24: =SUM(R13:R23) -> 0 | S24: =SUM(S13:S23) -> 0 | T24: =SUM(T13:T23) -> 0 | U24: =SUM(U13:U23) -> 0 | V24: =SUM(V13:V23) -> 0 | ... AC24: =SUM(AC13:AC23) -> 0
K25: Beruházásra forrás nem áll rendelkezésre.
B26: Tervezett feladatok nettó költsége a teljes ütem tekintetében (eFt) | C26: Rendelkezésre álló források számszerűsített értéke a teljes ütem tekintetében (eFt) | D26: Rendelkezésre álló források megnevezése
A27: I. ütem | B27: =O24 -> 0 | C27: 0 | D27: Fejlesztési díj (2020)
A28: II. ütem | B28: =SUM(P24:S24) -> 0 | C28: =C27*4 -> 0 | D28: Fejlesztési díj (2021-2024)
A29: III. ütem | B29: =SUM(T24:AC24) -> 0 | C29: =C27*10 -> 0 | D29: Fejlesztési díj (2025-2034)
B31: Jelenleg beruházási igény nem ismert, nincs rendelkezésre álló forrás beruházásra.

Sheet Hottó
A2: Gördülő fejlesztési terv a 2020 - 2034 időszakra
A3: BERUHÁZÁSOK ÖSSZEFOGLALÓ TÁBLÁZATA
A4: A tervet benyújtó szervezet megnevezése: | K4: HOTTÓ | R4: ellátásért felelős / ellátásért felelősök képviselője / víziközmű-szolgáltató *
A5: Víziközmű-szolgáltató megnevezése: | K5: ÉSZAK ZALAI VÍZ- ÉS CSATORNAMŰ ZÁRTKÖRŰEN MŰKÖDŐ RÉSZVÉNYTÁRSASÁG
A6: Víziközmű-szolgáltatási ágazat megnevezése: | K6: SZENNYVÍZ ÁGAZAT
A7: Véleményeltérést megfogalmazó érintett fél megnevezése:
A8: Víziközmű-rendszer kódja: ** | K8: 21-32054-1-048-01-10 | R8: Zalaegerszeg-SZV
A9: V. Szennyvízelvezetés
A10: Fontossági sorrend | B10: Beruházás megnevezése | E10: Műszaki állapot felmérés, szükségességi indoklás | H10: Vízjogi létesítési/elvi engedély száma | I10: Az érintett ellátásért felelős(ök) megnevezése | J10: Tervezett nettó költség | K10: Forrás 2020 évre | L10: Megvalósítás időtartama | N10: Tervezett időtáv | O10: A beruházás ütemezése a tervezési időszak évei szerint
E11: Jelenlegi műszaki állapot | F11: Feladat szükségessége | G11: Megvalósítást követő várható műszaki állapot | J11: (eFt) | L11: Kezdés | M11: Befejezés | N11: (rövid / közép / hosszú) | O11: 1 | P11: 2 | Q11: 3 | R11: 4 | S11: 5 | T11: 6 | U11: 7 | V11: 8 | W11: 9 | X11: 10 | Y11: 11 | Z11: 12 | AA11: 13 | AB11: 14 | AC11: 15
B12: szakág | C12: Helyszín | D12: beruházás megnevezése
B14: SZENNYVÍZCSATORNA (GRAVITÁCIÓS)
B15: Épület, építmény
B17: SZENNYVÍZVEZETÉKEK (KÉNYSZERÁRAMOLTATÁSÚ)
B19: SZENNYVÍZÁTEMELŐK
B20: Épület, építmény
B21: Gép, berendezés
B22: Irányítástechnika, energiaellátás
B24: Összesen: | J24: =SUM(J14:J23) -> 0 | K24: 0 | O24: =SUM(O13:O23) -> 0 | P24: =SUM(P13:P23) -> 0 | Q24: =SUM(Q13:Q23) -> 0 | R24: =SUM(R13:R23) -> 0 | S24: =SUM(S13:S23) -> 0 | T24: =SUM(T13:T23) -> 0 | U24: =SUM(U13:U23) -> 0 | V24: =SUM(V13:V23) -> 0 | ... AC24: =SUM(AC13:AC23) -> 0
K25: Beruházásra forrás nem áll rendelkezésre.
B26: Tervezett feladatok nettó költsége a teljes ütem tekintetében (eFt) | C26: Rendelkezésre álló források számszerűsített értéke a teljes ütem tekintetében (eFt) | D26: Rendelkezésre álló források megnevezése
A27: I. ütem | B27: =O24 -> 0 | C27: 0 | D27: Fejlesztési díj (2020)
A28: II. ütem | B28: =SUM(P24:S24) -> 0 | C28: =C27*4 -> 0 | D28: Fejlesztési díj (2021-2024)
A29: III. ütem | B29: =SUM(T24:AC24) -> 0 | C29: =C27*10 -> 0 | D29: Fejlesztési díj (2025-2034)
B31: Jelenleg beruházási igény nem ismert, nincs rendelkezésre álló forrás beruházásra.

Sheet Kávás
A2: Gördülő fejlesztési terv a 2020 - 2034 időszakra
A3: BERUHÁZÁSOK ÖSSZEFOGLALÓ TÁBLÁZATA
A4: A tervet benyújtó szervezet megnevezése: | K4: KÁVÁS | R4: ellátásért felelős / ellátásért felelősök képviselője / víziközmű-szolgáltató *
A5: Víziközmű-szolgáltató megnevezése: | K5: ÉSZAK ZALAI VÍZ- ÉS CSATORNAMŰ ZÁRTKÖRŰEN MŰKÖDŐ RÉSZVÉNYTÁRSASÁG
A6: Víziközmű-szolgáltatási ágazat megnevezése: | K6: SZENNYVÍZ ÁGAZAT
A7: Véleményeltérést megfogalmazó érintett fél megnevezése:
A8: Víziközmű-rendszer kódja: ** | K8: 21-32054-1-048-01-10 | R8: Zalaegerszeg-SZV
A9: V. Szennyvízelvezetés
A10: Fontossági sorrend | B10: Beruházás megnevezése | E10: Műszaki állapot felmérés, szükségességi indoklás | H10: Vízjogi létesítési/elvi engedély száma | I10: Az érintett ellátásért felelős(ök) megnevezése | J10: Tervezett nettó költség | K10: Forrás 2020 évre | L10: Megvalósítás időtartama | N10: Tervezett időtáv | O10: A beruházás ütemezése a tervezési időszak évei szerint
E11: Jelenlegi műszaki állapot | F11: Feladat szükségessége | G11: Megvalósítást követő várható műszaki állapot | J11: (eFt) | L11: Kezdés | M11: Befejezés | N11: (rövid / közép / hosszú) | O11: 1 | P11: 2 | Q11: 3 | R11: 4 | S11: 5 | T11: 6 | U11: 7 | V11: 8 | W11: 9 | X11: 10 | Y11: 11 | Z11: 12 | AA11: 13 | AB11: 14 | AC11: 15
B12: szakág | C12: Helyszín | D12: beruházás megnevezése
B14: SZENNYVÍZCSATORNA (GRAVITÁCIÓS)
B15: Épület, építmény
B17: SZENNYVÍZVEZETÉKEK (KÉNYSZERÁRAMOLTATÁSÚ)
B19: SZENNYVÍZÁTEMELŐK
B20: Épület, építmény
B21: Gép, berendezés
B22: Irányítástechnika, energiaellátás
B24: Összesen: | J24: =SUM(J14:J23) -> 0 | K24: 0 | O24: =SUM(O13:O23) -> 0 | P24: =SUM(P13:P23) -> 0 | Q24: =SUM(Q13:Q23) -> 0 | R24: =SUM(R13:R23) -> 0 | S24: =SUM(S13:S23) -> 0 | T24: =SUM(T13:T23) -> 0 | U24: =SUM(U13:U23) -> 0 | V24: =SUM(V13:V23) -> 0 | ... AC24: =SUM(AC13:AC23) -> 0
K25: Beruházásra forrás nem áll rendelkezésre.
B26: Tervezett feladatok nettó költsége a teljes ütem tekintetében (eFt) | C26: Rendelkezésre álló források számszerűsített értéke a teljes ütem tekintetében (eFt) | D26: Rendelkezésre álló források megnevezése
A27: I. ütem | B27: =O24 -> 0 | C27: 0 | D27: Fejlesztési díj (2020)
A28: II. ütem | B28: =SUM(P24:S24) -> 0 | C28: =C27*4 -> 0 | D28: Fejlesztési díj (2021-2024)
A29: III. ütem | B29: =SUM(T24:AC24) -> 0 | C29: =C27*10 -> 0 | D29: Fejlesztési díj (2025-2034)
B31: Jelenleg beruházási igény nem ismert, nincs rendelkezésre álló forrás beruházásra.

Sheet Kemendollár
A2: Gördülő fejlesztési terv a 2020 - 2034 időszakra
A3: BERUHÁZÁSOK ÖSSZEFOGLALÓ TÁBLÁZATA
A4: A tervet benyújtó szervezet megnevezése: | K4: KEMENDOLLÁR | R4: ellátásért felelős / ellátásért felelősök képviselője / víziközmű-szolgáltató *
A5: Víziközmű-szolgáltató megnevezése: | K5: ÉSZAK ZALAI VÍZ- ÉS CSATORNAMŰ ZÁRTKÖRŰEN MŰKÖDŐ RÉSZVÉNYTÁRSASÁG
A6: Víziközmű-szolgáltatási ágazat megnevezése: | K6: SZENNYVÍZ ÁGAZAT
A7: Véleményeltérést megfogalmazó érintett fél megnevezése:
A8: Víziközmű-rendszer kódja: ** | K8: 21-32054-1-048-01-10 | R8: Zalaegerszeg-SZV
A9: V. Szennyvízelvezetés
A10: Fontossági sorrend | B10: Beruházás megnevezése | E10: Műszaki állapot felmérés, szükségességi indoklás | H10: Vízjogi létesítési/elvi engedély száma | I10: Az érintett ellátásért felelős(ök) megnevezése | J10: Tervezett nettó költség | K10: Forrás 2020 évre | L10: Megvalósítás időtartama | N10: Tervezett időtáv | O10: A beruházás ütemezése a tervezési időszak évei szerint
E11: Jelenlegi műszaki állapot | F11: Feladat szükségessége | G11: Megvalósítást követő várható műszaki állapot | J11: (eFt) | L11: Kezdés | M11: Befejezés | N11: (rövid / közép / hosszú) | O11: 1 | P11: 2 | Q11: 3 | R11: 4 | S11: 5 | T11: 6 | U11: 7 | V11: 8 | W11: 9 | X11: 10 | Y11: 11 | Z11: 12 | AA11: 13 | AB11: 14 | AC11: 15
B12: szakág | C12: Helyszín | D12: beruházás megnevezése
B14: SZENNYVÍZCSATORNA (GRAVITÁCIÓS)
B15: Épület, építmény
B17: SZENNYVÍZVEZETÉKEK (KÉNYSZERÁRAMOLTATÁSÚ)
B19: SZENNYVÍZÁTEMELŐK
B20: Épület, építmény
B21: Gép, berendezés
B22: Irányítástechnika, energiaellátás
B24: Összesen: | J24: =SUM(J14:J23) -> 0 | K24: 0 | O24: =SUM(O13:O23) -> 0 | P24: =SUM(P13:P23) -> 0 | Q24: =SUM(Q13:Q23) -> 0 | R24: =SUM(R13:R23) -> 0 | S24: =SUM(S13:S23) -> 0 | T24: =SUM(T13:T23) -> 0 | U24: =SUM(U13:U23) -> 0 | V24: =SUM(V13:V23) -> 0 | ... AC24: =SUM(AC13:AC23) -> 0
K25: Beruházásra forrás nem áll rendelkezésre.
B26: Tervezett feladatok nettó költsége a teljes ütem tekintetében (eFt) | C26: Rendelkezésre álló források számszerűsített értéke a teljes ütem tekintetében (eFt) | D26: Rendelkezésre álló források megnevezése
A27: I. ütem | B27: =O24 -> 0 | C27: 0 | D27: Fejlesztési díj (2020)
A28: II. ütem | B28: =SUM(P24:S24) -> 0 | C28: =C27*4 -> 0 | D28: Fejlesztési díj (2021-2024)
A29: III. ütem | B29: =SUM(T24:AC24) -> 0 | C29: =C27*10 -> 0 | D29: Fejlesztési díj (2025-2034)
B31: Jelenleg beruházási igény nem ismert, nincs rendelkezésre álló forrás beruházásra.

Sheet Keménfa
A2: Gördülő fejlesztési terv a 2020 - 2034 időszakra
A3: BERUHÁZÁSOK ÖSSZEFOGLALÓ TÁBLÁZATA
A4: A tervet benyújtó szervezet megnevezése: | K4: KEMÉNFA | R4: ellátásért felelős / ellátásért felelősök képviselője / víziközmű-szolgáltató *
A5: Víziközmű-szolgáltató megnevezése: | K5: ÉSZAK ZALAI VÍZ- ÉS CSATORNAMŰ ZÁRTKÖRŰEN MŰKÖDŐ RÉSZVÉNYTÁRSASÁG
A6: Víziközmű-szolgáltatási ágazat megnevezése: | K6: SZENNYVÍZ ÁGAZAT
A7: Véleményeltérést megfogalmazó érintett fél megnevezése:
A8: Víziközmű-rendszer kódja: ** | K8: 21-32054-1-048-01-10 | R8: Zalaegerszeg-SZV
A9: V. Szennyvízelvezetés
A10: Fontossági sorrend | B10: Beruházás megnevezése | E10: Műszaki állapot felmérés, szükségességi indoklás | H10: Vízjogi létesítési/elvi engedély száma | I10: Az érintett ellátásért felelős(ök) megnevezése | J10: Tervezett nettó költség | K10: Forrás 2020 évre | L10: Megvalósítás időtartama | N10: Tervezett időtáv | O10: A beruházás ütemezése a tervezési időszak évei szerint
E11: Jelenlegi műszaki állapot | F11: Feladat szükségessége | G11: Megvalósítást követő várható műszaki állapot | J11: (eFt) | L11: Kezdés | M11: Befejezés | N11: (rövid / közép / hosszú) | O11: 1 | P11: 2 | Q11: 3 | R11: 4 | S11: 5 | T11: 6 | U11: 7 | V11: 8 | W11: 9 | X11: 10 | Y11: 11 | Z11: 12 | AA11: 13 | AB11: 14 | AC11: 15
B12: szakág | C12: Helyszín | D12: beruházás megnevezése
B14: SZENNYVÍZCSATORNA (GRAVITÁCIÓS)
B15: Épület, építmény
B17: SZENNYVÍZVEZETÉKEK (KÉNYSZERÁRAMOLTATÁSÚ)
B19: SZENNYVÍZÁTEMELŐK
B20: Épület, építmény
B21: Gép, berendezés
B22: Irányítástechnika, energiaellátás
B24: Összesen: | J24: =SUM(J14:J23) -> 0 | K24: 0 | O24: =SUM(O13:O23) -> 0 | P24: =SUM(P13:P23) -> 0 | Q24: =SUM(Q13:Q23) -> 0 | R24: =SUM(R13:R23) -> 0 | S24: =SUM(S13:S23) -> 0 | T24: =SUM(T13:T23) -> 0 | U24: =SUM(U13:U23) -> 0 | V24: =SUM(V13:V23) -> 0 | ... AC24: =SUM(AC13:AC23) -> 0
K25: Beruházásra forrás nem áll rendelkezésre.
B26: Tervezett feladatok nettó költsége a teljes ütem tekintetében (eFt) | C26: Rendelkezésre álló források számszerűsített értéke a teljes ütem tekintetében (eFt) | D26: Rendelkezésre álló források megnevezése
A27: I. ütem | B27: =O24 -> 0 | C27: 0 | D27: Fejlesztési díj (2020)
A28: II. ütem | B28: =SUM(P24:S24) -> 0 | C28: =C27*4 -> 0 | D28: Fejlesztési díj (2021-2024)
A29: III. ütem | B29: =SUM(T24:AC24) -> 0 | C29: =C27*10 -> 0 | D29: Fejlesztési díj (2025-2034)
B31: Jelenleg beruházási igény nem ismert, nincs rendelkezésre álló forrás beruházásra.

Sheet Kisbucsa
A2: Gördülő fejlesztési terv a 2020 - 2034 időszakra
A3: BERUHÁZÁSOK ÖSSZEFOGLALÓ TÁBLÁZATA
A4: A tervet benyújtó szervezet megnevezése: | K4: KISBUCSA | R4: ellátásért felelős / ellátásért felelősök képviselője / víziközmű-szolgáltató *
A5: Víziközmű-szolgáltató megnevezése: | K5: ÉSZAK ZALAI VÍZ- ÉS CSATORNAMŰ ZÁRTKÖRŰEN MŰKÖDŐ RÉSZVÉNYTÁRSASÁG
A6: Víziközmű-szolgáltatási ágazat megnevezése: | K6: SZENNYVÍZ ÁGAZAT
A7: Véleményeltérést megfogalmazó érintett fél megnevezése:
A8: Víziközmű-rendszer kódja: ** | K8: 21-32054-1-048-01-10 | R8: Zalaegerszeg-SZV
A9: V. Szennyvízelvezetés
A10: Fontossági sorrend | B10: Beruházás megnevezése | E10: Műszaki állapot felmérés, szükségességi indoklás | H10: Vízjogi létesítési/elvi engedély száma | I10: Az érintett ellátásért felelős(ök) megnevezése | J10: Tervezett nettó költség | K10: Forrás 2020 évre | L10: Megvalósítás időtartama | N10: Tervezett időtáv | O10: A beruházás ütemezése a tervezési időszak évei szerint
E11: Jelenlegi műszaki állapot | F11: Feladat szükségessége | G11: Megvalósítást követő várható műszaki állapot | J11: (eFt) | L11: Kezdés | M11: Befejezés | N11: (rövid / közép / hosszú) | O11: 1 | P11: 2 | Q11: 3 | R11: 4 | S11: 5 | T11: 6 | U11: 7 | V11: 8 | W11: 9 | X11: 10 | Y11: 11 | Z11: 12 | AA11: 13 | AB11: 14 | AC11: 15
B12: szakág | C12: Helyszín | D12: beruházás megnevezése
B14: SZENNYVÍZCSATORNA (GRAVITÁCIÓS)
B15: Épület, építmény
B17: SZENNYVÍZVEZETÉKEK (KÉNYSZERÁRAMOLTATÁSÚ)
B19: SZENNYVÍZÁTEMELŐK
B20: Épület, építmény
B21: Gép, berendezés
B22: Irányítástechnika, energiaellátás
B24: Összesen: | J24: =SUM(J14:J23) -> 0 | K24: 0 | O24: =SUM(O13:O23) -> 0 | P24: =SUM(P13:P23) -> 0 | Q24: =SUM(Q13:Q23) -> 0 | R24: =SUM(R13:R23) -> 0 | S24: =SUM(S13:S23) -> 0 | T24: =SUM(T13:T23) -> 0 | U24: =SUM(U13:U23) -> 0 | V24: =SUM(V13:V23) -> 0 | ... AC24: =SUM(AC13:AC23) -> 0
K25: Beruházásra forrás nem áll rendelkezésre.
B26: Tervezett feladatok nettó költsége a teljes ütem tekintetében (eFt) | C26: Rendelkezésre álló források számszerűsített értéke a teljes ütem tekintetében (eFt) | D26: Rendelkezésre álló források megnevezése
A27: I. ütem | B27: =O24 -> 0 | C27: 0 | D27: Fejlesztési díj (2020)
A28: II. ütem | B28: =SUM(P24:S24) -> 0 | C28: =C27*4 -> 0 | D28: Fejlesztési díj (2021-2024)
A29: III. ütem | B29: =SUM(T24:AC24) -> 0 | C29: =C27*10 -> 0 | D29: Fejlesztési díj (2025-2034)
B31: Jelenleg beruházási igény nem ismert, nincs rendelkezésre álló forrás beruházásra.

Sheet Kiskutas
A2: Gördülő fejlesztési terv a 2020 - 2034 időszakra
A3: BERUHÁZÁSOK ÖSSZEFOGLALÓ TÁBLÁZATA
A4: A tervet benyújtó szervezet megnevezése: | K4: KISKUTAS | R4: ellátásért felelős / ellátásért felelősök képviselője / víziközmű-szolgáltató *
A5: Víziközmű-szolgáltató megnevezése: | K5: ÉSZAK ZALAI VÍZ- ÉS CSATORNAMŰ ZÁRTKÖRŰEN MŰKÖDŐ RÉSZVÉNYTÁRSASÁG
A6: Víziközmű-szolgáltatási ágazat megnevezése: | K6: SZENNYVÍZ ÁGAZAT
A7: Véleményeltérést megfogalmazó érintett fél megnevezése:
A8: Víziközmű-rendszer kódja: ** | K8: 21-32054-1-048-01-10 | R8: Zalaegerszeg-SZV
A9: V. Szennyvízelvezetés
A10: Fontossági sorrend | B10: Beruházás megnevezése | E10: Műszaki állapot felmérés, szükségességi indoklás | H10: Vízjogi létesítési/elvi engedély száma | I10: Az érintett ellátásért felelős(ök) megnevezése | J10: Tervezett nettó költség | K10: Forrás 2020 évre | L10: Megvalósítás időtartama | N10: Tervezett időtáv | O10: A beruházás ütemezése a tervezési időszak évei szerint
E11: Jelenlegi műszaki állapot | F11: Feladat szükségessége | G11: Megvalósítást követő várható műszaki állapot | J11: (eFt) | L11: Kezdés | M11: Befejezés | N11: (rövid / közép / hosszú) | O11: 1 | P11: 2 | Q11: 3 | R11: 4 | S11: 5 | T11: 6 | U11: 7 | V11: 8 | W11: 9 | X11: 10 | Y11: 11 | Z11: 12 | AA11: 13 | AB11: 14 | AC11: 15
B12: szakág | C12: Helyszín | D12: beruházás megnevezése
B14: SZENNYVÍZCSATORNA (GRAVITÁCIÓS)
B15: Épület, építmény
B17: SZENNYVÍZVEZETÉKEK (KÉNYSZERÁRAMOLTATÁSÚ)
B19: SZENNYVÍZÁTEMELŐK
B20: Épület, építmény
B21: Gép, berendezés
B22: Irányítástechnika, energiaellátás
B24: Összesen: | J24: =SUM(J14:J23) -> 0 | K24: 0 | O24: =SUM(O13:O23) -> 0 | P24: =SUM(P13:P23) -> 0 | Q24: =SUM(Q13:Q23) -> 0 | R24: =SUM(R13:R23) -> 0 | S24: =SUM(S13:S23) -> 0 | T24: =SUM(T13:T23) -> 0 | U24: =SUM(U13:U23) -> 0 | V24: =SUM(V13:V23) -> 0 | ... AC24: =SUM(AC13:AC23) -> 0
K25: Beruházásra forrás nem áll rendelkezésre.
B26: Tervezett feladatok nettó költsége a teljes ütem tekintetében (eFt) | C26: Rendelkezésre álló források számszerűsített értéke a teljes ütem tekintetében (eFt) | D26: Rendelkezésre álló források megnevezése
A27: I. ütem | B27: =O24 -> 0 | C27: 0 | D27: Fejlesztési díj (2020)
A28: II. ütem | B28: =SUM(P24:S24) -> 0 | C28: =C27*4 -> 0 | D28: Fejlesztési díj (2021-2024)
A29: III. ütem | B29: =SUM(T24:AC24) -> 0 | C29: =C27*10 -> 0 | D29: Fejlesztési díj (2025-2034)
B31: Jelenleg beruházási igény nem ismert, nincs rendelkezésre álló forrás beruházásra.

Sheet Kispáli
A2: Gördülő fejlesztési terv a 2020 - 2034 időszakra
A3: BERUHÁZÁSOK ÖSSZEFOGLALÓ TÁBLÁZATA
A4: A tervet benyújtó szervezet megnevezése: | K4: KISPÁLI | R4: ellátásért felelős / ellátásért felelősök képviselője / víziközmű-szolgáltató *
A5: Víziközmű-szolgáltató megnevezése: | K5: ÉSZAK ZALAI VÍZ- ÉS CSATORNAMŰ ZÁRTKÖRŰEN MŰKÖDŐ RÉSZVÉNYTÁRSASÁG
A6: Víziközmű-szolgáltatási ágazat megnevezése: | K6: SZENNYVÍZ ÁGAZAT
A7: Véleményeltérést megfogalmazó érintett fél megnevezése:
A8: Víziközmű-rendszer kódja: ** | K8: 21-32054-1-048-01-10 | R8: Zalaegerszeg-SZV
A9: V. Szennyvízelvezetés
A10: Fontossági sorrend | B10: Beruházás megnevezése | E10: Műszaki állapot felmérés, szükségességi indoklás | H10: Vízjogi létesítési/elvi engedély száma | I10: Az érintett ellátásért felelős(ök) megnevezése | J10: Tervezett nettó költség | K10: Forrás 2020 évre | L10: Megvalósítás időtartama | N10: Tervezett időtáv | O10: A beruházás ütemezése a tervezési időszak évei szerint
E11: Jelenlegi műszaki állapot | F11: Feladat szükségessége | G11: Megvalósítást követő várható műszaki állapot | J11: (eFt) | L11: Kezdés | M11: Befejezés | N11: (rövid / közép / hosszú) | O11: 1 | P11: 2 | Q11: 3 | R11: 4 | S11: 5 | T11: 6 | U11: 7 | V11: 8 | W11: 9 | X11: 10 | Y11: 11 | Z11: 12 | AA11: 13 | AB11: 14 | AC11: 15
B12: szakág | C12: Helyszín | D12: beruházás megnevezése
B14: SZENNYVÍZCSATORNA (GRAVITÁCIÓS)
B15: Épület, építmény
B17: SZENNYVÍZVEZETÉKEK (KÉNYSZERÁRAMOLTATÁSÚ)
B19: SZENNYVÍZÁTEMELŐK
B20: Épület, építmény
B21: Gép, berendezés
B22: Irányítástechnika, energiaellátás
B24: Összesen: | J24: =SUM(J14:J23) -> 0 | K24: 0 | O24: =SUM(O13:O23) -> 0 | P24: =SUM(P13:P23) -> 0 | Q24: =SUM(Q13:Q23) -> 0 | R24: =SUM(R13:R23) -> 0 | S24: =SUM(S13:S23) -> 0 | T24: =SUM(T13:T23) -> 0 | U24: =SUM(U13:U23) -> 0 | V24: =SUM(V13:V23) -> 0 | ... AC24: =SUM(AC13:AC23) -> 0
K25: Beruházásra forrás nem áll rendelkezésre.
B26: Tervezett feladatok nettó költsége a teljes ütem tekintetében (eFt) | C26: Rendelkezésre álló források számszerűsített értéke a teljes ütem tekintetében (eFt) | D26: Rendelkezésre álló források megnevezése
A27: I. ütem | B27: =O24 -> 0 | C27: 0 | D27: Fejlesztési díj (2020)
A28: II. ütem | B28: =SUM(P24:S24) -> 0 | C28: =C27*4 -> 0 | D28: Fejlesztési díj (2021-2024)
A29: III. ütem | B29: =SUM(T24:AC24) -> 0 | C29: =C27*10 -> 0 | D29: Fejlesztési díj (2025-2034)
B31: Jelenleg beruházási igény nem ismert, nincs rendelkezésre álló forrás beruházásra.

Sheet Lakhegy
A2: Gördülő fejlesztési terv a 2020 - 2034 időszakra
A3: BERUHÁZÁSOK ÖSSZEFOGLALÓ TÁBLÁZATA
A4: A tervet benyújtó szervezet megnevezése: | K4: LAKHEGY | R4: ellátásért felelős / ellátásért felelősök képviselője / víziközmű-szolgáltató *
A5: Víziközmű-szolgáltató megnevezése: | K5: ÉSZAK ZALAI VÍZ- ÉS CSATORNAMŰ ZÁRTKÖRŰEN MŰKÖDŐ RÉSZVÉNYTÁRSASÁG
A6: Víziközmű-szolgáltatási ágazat megnevezése: | K6: SZENNYVÍZ ÁGAZAT
A7: Véleményeltérést megfogalmazó érintett fél megnevezése:
A8: Víziközmű-rendszer kódja: ** | K8: 21-32054-1-048-01-10 | R8: Zalaegerszeg-SZV
A9: V. Szennyvízelvezetés
A10: Fontossági sorrend | B10: Beruházás megnevezése | E10: Műszaki állapot felmérés, szükségességi indoklás | H10: Vízjogi létesítési/elvi engedély száma | I10: Az érintett ellátásért felelős(ök) megnevezése | J10: Tervezett nettó költség | K10: Forrás 2020 évre | L10: Megvalósítás időtartama | N10: Tervezett időtáv | O10: A beruházás ütemezése a tervezési időszak évei szerint
E11: Jelenlegi műszaki állapot | F11: Feladat szükségessége | G11: Megvalósítást követő várható műszaki állapot | J11: (eFt) | L11: Kezdés | M11: Befejezés | N11: (rövid / közép / hosszú) | O11: 1 | P11: 2 | Q11: 3 | R11: 4 | S11: 5 | T11: 6 | U11: 7 | V11: 8 | W11: 9 | X11: 10 | Y11: 11 | Z11: 12 | AA11: 13 | AB11: 14 | AC11: 15
B12: szakág | C12: Helyszín | D12: beruházás megnevezése
B14: SZENNYVÍZCSATORNA (GRAVITÁCIÓS)
B15: Épület, építmény
B17: SZENNYVÍZVEZETÉKEK (KÉNYSZERÁRAMOLTATÁSÚ)
B19: SZENNYVÍZÁTEMELŐK
B20: Épület, építmény
B21: Gép, berendezés
B22: Irányítástechnika, energiaellátás
B24: Összesen: | J24: =SUM(J14:J23) -> 0 | K24: 0 | O24: =SUM(O13:O23) -> 0 | P24: =SUM(P13:P23) -> 0 | Q24: =SUM(Q13:Q23) -> 0 | R24: =SUM(R13:R23) -> 0 | S24: =SUM(S13:S23) -> 0 | T24: =SUM(T13:T23) -> 0 | U24: =SUM(U13:U23) -> 0 | V24: =SUM(V13:V23) -> 0 | ... AC24: =SUM(AC13:AC23) -> 0
K25: Beruházásra forrás nem áll rendelkezésre.
B26: Tervezett feladatok nettó költsége a teljes ütem tekintetében (eFt) | C26: Rendelkezésre álló források számszerűsített értéke a teljes ütem tekintetében (eFt) | D26: Rendelkezésre álló források megnevezése
A27: I. ütem | B27: =O24 -> 0 | C27: 0 | D27: Fejlesztési díj (2020)
A28: II. ütem | B28: =SUM(P24:S24) -> 0 | C28: =C27*4 -> 0 | D28: Fejlesztési díj (2021-2024)
A29: III. ütem | B29: =SUM(T24:AC24) -> 0 | C29: =C27*10 -> 0 | D29: Fejlesztési díj (2025-2034)
B31: Jelenleg beruházási igény nem ismert, nincs rendelkezésre álló forrás beruházásra.

Sheet Nagykutas
A2: Gördülő fejlesztési terv a 2020 - 2034 időszakra
A3: BERUHÁZÁSOK ÖSSZEFOGLALÓ TÁBLÁZATA
A4: A tervet benyújtó szervezet megnevezése: | K4: NAGYKUTAS | R4: ellátásért felelős / ellátásért felelősök képviselője / víziközmű-szolgáltató *
A5: Víziközmű-szolgáltató megnevezése: | K5: ÉSZAK ZALAI VÍZ- ÉS CSATORNAMŰ ZÁRTKÖRŰEN MŰKÖDŐ RÉSZVÉNYTÁRSASÁG
A6: Víziközmű-szolgáltatási ágazat megnevezése: | K6: SZENNYVÍZ ÁGAZAT
A7: Véleményeltérést megfogalmazó érintett fél megnevezése:
A8: Víziközmű-rendszer kódja: ** | K8: 21-32054-1-048-01-10 | R8: Zalaegerszeg-SZV
A9: V. Szennyvízelvezetés
A10: Fontossági sorrend | B10: Beruházás megnevezése | E10: Műszaki állapot felmérés, szükségességi indoklás | H10: Vízjogi létesítési/elvi engedély száma | I10: Az érintett ellátásért felelős(ök) megnevezése | J10: Tervezett nettó költség | K10: Forrás 2020 évre | L10: Megvalósítás időtartama | N10: Tervezett időtáv | O10: A beruházás ütemezése a tervezési időszak évei szerint
E11: Jelenlegi műszaki állapot | F11: Feladat szükségessége | G11: Megvalósítást követő várható műszaki állapot | J11: (eFt) | L11: Kezdés | M11: Befejezés | N11: (rövid / közép / hosszú) | O11: 1 | P11: 2 | Q11: 3 | R11: 4 | S11: 5 | T11: 6 | U11: 7 | V11: 8 | W11: 9 | X11: 10 | Y11: 11 | Z11: 12 | AA11: 13 | AB11: 14 | AC11: 15
B12: szakág | C12: Helyszín | D12: beruházás megnevezése
B14: SZENNYVÍZCSATORNA (GRAVITÁCIÓS)
B15: Épület, építmény
B17: SZENNYVÍZVEZETÉKEK (KÉNYSZERÁRAMOLTATÁSÚ)
B19: SZENNYVÍZÁTEMELŐK
B20: Épület, építmény
B21: Gép, berendezés
B22: Irányítástechnika, energiaellátás
B24: Összesen: | J24: =SUM(J14:J23) -> 0 | K24: 0 | O24: =SUM(O13:O23) -> 0 | P24: =SUM(P13:P23) -> 0 | Q24: =SUM(Q13:Q23) -> 0 | R24: =SUM(R13:R23) -> 0 | S24: =SUM(S13:S23) -> 0 | T24: =SUM(T13:T23) -> 0 | U24: =SUM(U13:U23) -> 0 | V24: =SUM(V13:V23) -> 0 | ... AC24: =SUM(AC13:AC23) -> 0
K25: Beruházásra forrás nem áll rendelkezésre.
B26: Tervezett feladatok nettó költsége a teljes ütem tekintetében (eFt) | C26: Rendelkezésre álló források számszerűsített értéke a teljes ütem tekintetében (eFt) | D26: Rendelkezésre álló források megnevezése
A27: I. ütem | B27: =O24 -> 0 | C27: 0 | D27: Fejlesztési díj (2020)
A28: II. ütem | B28: =SUM(P24:S24) -> 0 | C28: =C27*4 -> 0 | D28: Fejlesztési díj (2021-2024)
A29: III. ütem | B29: =SUM(T24:AC24) -> 0 | C29: =C27*10 -> 0 | D29: Fejlesztési díj (2025-2034)
B31: Jelenleg beruházási igény nem ismert, nincs rendelkezésre álló forrás beruházásra.

Sheet Nagypáli
A2: Gördülő fejlesztési terv a 2020 - 2034 időszakra
A3: BERUHÁZÁSOK ÖSSZEFOGLALÓ TÁBLÁZATA
A4: A tervet benyújtó szervezet megnevezése: | K4: NAGYPÁLI | R4: ellátásért felelős / ellátásért felelősök képviselője / víziközmű-szolgáltató *
A5: Víziközmű-szolgáltató megnevezése: | K5: ÉSZAK ZALAI VÍZ- ÉS CSATORNAMŰ ZÁRTKÖRŰEN MŰKÖDŐ RÉSZVÉNYTÁRSASÁG
