Workbook

Sheet Beviteli oldal
A1: Kérjük töltse ki vállalkozása adatait:
A3: A vállalkozás megnevezése: | B3: ZALA-MÜLLEX Kft.
A5: A vállalkozás címe: | B5: 8900 Zalaegerszeg Gasparich u. 26.
A6: Telefonszáma:
A8: Statisztikai számjel: | B8: 12701131-3811-113-20
A10: Cégjegyzék száma: | B10: 20-09-06581
A12: A beszámolókészítés napja: | B12: 2017. november 20.
A14: A beszámoló fordulónapja: | B14: 2017. szeptember 30.
A16: Az alábbi gombok segítségével a megfelelő beszámolósémát hívhatja be:
A18: Éves beszámoló
A19: Mérleg "A"
A20: Mérleg "B"
A21: Eredménykimutatás összköltség eljárással "A"
A22: Eredménykimutatás összköltség eljárással "B"
A23: Eredménykimutatás forgalmi költség eljárással "A"
A24: Eredménykimutatás forgalmi költség eljárással "B"
A26: Egyszerűsített éves beszámoló
A27: Mérleg "A"
A28: Mérleg "B"
A29: Eredménykimutatás összköltség eljárással "A"
... A42: Cash flow kimutatás

Sheet Fedlap vagyonmérleg
B2: ='Beviteli oldal'!$B$8 -> 12701131-3811-113-20
B3: Statisztikai számjel
B5: ='Beviteli oldal'!$B$10 -> 20-09-06581
B6: Cégjegyzék száma
C12: =+'Beviteli oldal'!$B$3 -> ZALA-MÜLLEX Kft.
C13: Jogutód
C14: =+'Beviteli oldal'!$B$5 -> 8900 Zalaegerszeg Gasparich u. 26.
C15: =IF('Beviteli oldal'!$B$6=0," ",'Beviteli oldal'!$B$6)
C19: Egyesülési vagyonmérleg
C21: 43008
A30: Keltezés: | B30: =+'Beviteli oldal'!$B$12 -> 2017. november 20.
E31: a vállalkozás vezetője (képviselője)
C34: P.H.

Sheet Mérleg"A" 
C1: ='[1]Beviteli oldal'!$B$8 -> 12701131-3811-113-20
C2: Statisztikai számjel
C4: ='[1]Beviteli oldal'!$B$10 -> 20-09-065081
C5: Cégjegyzék száma
A7: "A" MÉRLEG Eszközök (aktívák)
C8: 2017. szeptember 30. | H8: adatok E Ft-ban
A9: Sor-szám | C9: A tétel megnevezése | D9: Átvevő ZALA-DEPO Kft. vagyonmérleg sz. érték | E9: Beolvadó MÜLLEX-KÖRMEND KFT. vagyonmérleg sz. érték | F9: Különbözetek | G9: Rendezés | H9: Jogutód ZALA-MÜLLEX Kft. vagyonmérleg sz. érték
A10: 1 | B10: A. | C10: Befektetett eszközök | D10: =+D11+D19+D27 -> 1276265 | E10: =+E11+E19+E27 -> 496346 | F10: =+F11+F19+F27 -> -911760 | G10: =+G11+G19+G27 -> 0 | H10: =+H11+H19+H27 -> 860851
A11: 2 | B11: I. | C11: IMMATERIÁLIS JAVAK | D11: 719 | E11: =+SUM(E12:E18) -> 1747 | F11: =+SUM(F12:F18) -> 0 | G11: =+SUM(G12:G18) -> 0 | H11: =+SUM(H12:H18) -> 2466
A12: 3 | C12: Alapítás-átszervezés aktivált értéke | H12: =D12+E12+F12+G12 -> 0
A13: 4 | C13: Kísérleti fejlesztés aktivált értéke | H13: =D13+E13+F13+G13 -> 0
A14: 5 | C14: Vagyoni értékű jogok | D14: 719 | E14: 1747 | H14: =D14+E14+F14+G14 -> 2466
A15: 6 | C15: Szellemi termékek | D15: 0 | H15: =D15+E15+F15+G15 -> 0
A16: 7 | C16: Üzleti vagy cégérték | H16: =D16+E16+F16+G16 -> 0
A17: 8 | C17: Immateriális javakra adott előlegek | H17: =D17+E17+F17+G17 -> 0
A18: 9 | C18: Immateriális javak értékhelyesbítése | H18: =D18+E18+F18+G18 -> 0
A19: 10 | B19: II. | C19: TÁRGYI ESZKÖZÖK | D19: =+SUM(D20:D26) -> 363786 | E19: =+SUM(E20:E26) -> 494579 | F19: =+SUM(F20:F26) -> 0 | G19: =+SUM(G20:G26) -> 0 | H19: =+SUM(H20:H26) -> 858365
A20: 11 | C20: Ingatlanok és a kapcsolódó vagyoni értékű jogok | D20: 144135 | E20: 241073 | H20: =D20+E20+F20+G20 -> 385208
A21: 12 | C21: Műszaki berendezések, gépek, járművek | D21: 184293 | E21: 118368 | H21: =D21+E21+F21+G21 -> 302661
A22: 13 | C22: Egyéb berendezések, felszerelések, járművek | D22: 13479 | E22: 23000 | H22: =D22+E22+F22+G22 -> 36479
A23: 14 | C23: Tenyészállatok | H23: =D23+E23+F23+G23 -> 0
A24: 15 | C24: Beruházások, felújítások | D24: 21697 | E24: 74645 | H24: =D24+E24+F24+G24 -> 96342
A25: 16 | C25: Beruházásokra adott előlegek | D25: 182 | E25: 37493 | H25: =D25+E25+F25+G25 -> 37675
A26: 17 | C26: Tárgyi eszközök értékhelyesbítése | H26: =D26+E26+F26+G26 -> 0
A27: 18 | B27: III. | C27: BEFEKTETETT PÉNZÜGYI ESZKÖZÖK | D27: =+SUM(D28:D35) -> 911760 | E27: =+SUM(E28:E35) -> 20 | F27: =+SUM(F28:F35) -> -911760 | G27: =+SUM(G28:G35) -> 0 | H27: =D27+E27+F27+G27 -> 20
A28: 19 | C28: Tartós részesedés kapcsolt vállalkozásban | D28: 911760 | E28: 0 | F28: -911760 | H28: =D28+E28+F28+G28 -> 0
A29: 20 | C29: Tartósan adott kölcsön kapcsolt vállalkozásban | H29: =D29+E29+F29+G29 -> 0
A30: 21 | C30: Tartós jelentős részesedés | H30: =D30+E30+F30+G30 -> 0
A31: 22 | C31: Tartósan adott kölcsön jelentős tulajdoni részesedési viszonyban álló vállalkozásban | H31: =D31+E31+F31+G31 -> 0
A32: 23 | C32: Egyéb tartós részesedés | E32: 20 | H32: =D32+E32+F32+G32 -> 20
A33: 24 | C33: Tartós hitelviszonyt megtestesítő értékpapír | H33: =D33+E33+F33+G33 -> 0
A34: 25 | C34: Befektetett pénzügyi eszközök értékhelyesbítése | H34: =D34+E34+F34+G34 -> 0
A35: 26 | C35: Befektetett pénzügyi eszközök értékelési különbözete | H35: =D35+E35+F35+G35 -> 0
A37: Keltezés: | C37: 2017. november 20.
E38: a vállalkozás vezetője (képviselője)
C39: P.H.
C40: ='[1]Beviteli oldal'!$B$8 -> 12701131-3811-113-20
C41: Statisztikai számjel
C43: ='[1]Beviteli oldal'!$B$10 -> 20-09-065081
C44: Cégjegyzék száma
A46: "A" MÉRLEG Eszközök (aktívák)
C47: 2017. szeptember 30. | H47: adatok E Ft-ban
A48: Sor-szám | C48: A tétel megnevezése | D48: Átvevő ZALA-DEPO Kft. vagyonmérleg sz. érték | E48: Beolvadó MÜLLEX-KÖRMEND KFT. vagyonmérleg sz. érték | F48: Különbözetek | G48: Rendezés | H48: Jogutód ZALA-MÜLLEX Kft. vagyonmérleg sz. érték
A49: 27 | B49: B. | C49: Forgóeszközök | D49: =+D50+D57+D65+D71 -> 867141 | E49: =+E50+E57+E65+E71 -> 715526 | F49: =+F50+F57+F65+F71 -> -44035 | G49: =+G50+G57+G65+G71 -> 0 | H49: =+H50+H57+H65+H71 -> 1538632
A50: 28 | B50: I. | C50: KÉSZLETEK | D50: 123140 | E50: =+SUM(E51:E56) -> 8426 | F50: =F51+F52+F53+F54+F55+F56 -> 0 | G50: =G51+G52+G53+G54+G55+G56 -> 0 | H50: =H51+H52+H53+H54+H55+H56 -> 131566
A51: 29 | C51: Anyagok | D51: 23242 | E51: 3762 | H51: =D51+E51+F51+G51 -> 27004
A52: 30 | C52: Befejezetlen termelés és félkész termékek | D52: 8118 | E52: 1935 | H52: =D52+E52+F52+G52 -> 10053
A53: 31 | C53: Növendék-, hízó- és egyéb állatok | D53: 15 | E53: 68 | H53: =D53+E53+F53+G53 -> 83
A54: 32 | C54: Késztermékek | D54: 84260 | E54: 2557 | H54: =D54+E54+F54+G54 -> 86817
A55: 33 | C55: Áruk | D55: 7505 | E55: 104 | H55: =D55+E55+F55+G55 -> 7609
A56: 34 | C56: Készletekre adott előlegek | H56: =D56+E56+F56+G56 -> 0
A57: 35 | B57: II. | C57: KÖVETELÉSEK | D57: =+SUM(D58:D64) -> 679803 | E57: =+SUM(E58:E64) -> 525413 | F57: =+SUM(F58:F64) -> -44035 | G57: =+SUM(G58:G64) -> 0 | H57: =+SUM(H58:H64) -> 1161181
A58: 36 | C58: Követelések áruszállításból és szolgáltatásból (vevők) | D58: 603078 | E58: 475433 | H58: =D58+E58+F58+G58 -> 1078511
A59: 37 | C59: Követelések kapcsolt vállalkozással szemben | D59: 25 | E59: 44010 | F59: -44035 | H59: =D59+E59+F59+G59 -> 0
A60: 38 | C60: Követelések jelentős tulajdoni részesedési viszonyban lévő vállalkozással szemben | D60: 32422 | H60: =D60+E60+F60+G60 -> 32422
A61: 39 | C61: Váltókövetelések | D61: 0 | H61: =D61+E61+F61+G61 -> 0
A62: 40 | C62: Egyéb követelések | D62: 44278 | E62: 5970 | H62: =D62+E62+F62+G62 -> 50248
A63: 41 | C63: Követések értékelési különbözete | H63: =D63+E63+F63+G63 -> 0
A64: 42 | C64: Származékos ügyletek pozitív értékelési különbözete | H64: =D64+E64+F64+G64 -> 0
A65: 43 | B65: III. | C65: ÉRTÉKPAPÍROK | D65: =+SUM(D66:D70) -> 0 | E65: =+SUM(E66:E70) -> 0 | F65: =+SUM(F66:F70) -> 0 | G65: =+SUM(G66:G70) -> 0 | H65: =+SUM(H66:H70) -> 0
A66: 44 | C66: Részesedés kapcsolt vállalkozásban | H66: =D66+E66+F66+G66 -> 0
A67: 45 | C67: Egyéb részesedés | H67: =D67+E67+F67+G67 -> 0
A68: 46 | C68: Saját részvények, saját üzletrészek | H68: =D68+E68+F68+G68 -> 0
A69: 47 | C69: Forgatási célú hitelviszonyt megtestesítő értékpapírok | H69: =D69+E69+F69+G69 -> 0
A70: 48 | C70: Értékpapírok értékelési különbözete | H70: =D70+E70+F70+G70 -> 0
A71: 49 | B71: IV. | C71: PÉNZESZKÖZÖK | D71: =+SUM(D72:D73) -> 64198 | E71: =+SUM(E72:E73) -> 181687 | F71: =+SUM(F72:F73) -> 0 | G71: =+SUM(G72:G73) -> 0 | H71: =+SUM(H72:H73) -> 245885
A72: 50 | C72: Pénztár, csekkek | D72: 1304 | E72: 362 | H72: =D72+E72+F72+G72 -> 1666
A73: 51 | C73: Bankbetétek | D73: 62894 | E73: 181325 | H73: =D73+E73+F73+G73 -> 244219
A74: 52 | B74: C. | C74: Aktív időbeli elhatárolások | D74: =+SUM(D75:D77) -> 247245 | E74: =+SUM(E75:E77) -> 124445 | F74: =+SUM(F75:F77) -> 0 | G74: =+SUM(G75:G77) -> 0 | H74: =+SUM(H75:H77) -> 371690
A75: 53 | C75: Bevételek aktív időbeli elhatárolása | D75: 240874 | E75: 123263 | H75: =D75+E75+F75+G75 -> 364137
A76: 54 | C76: Költségek, ráfordítások aktív időbeli elhatárolása | D76: 6371 | E76: 1182 | H76: =D76+E76+F76+G76 -> 7553
A77: 55 | C77: Halasztott ráfordítások | D77: 0 | H77: =D77+E77+F77+G77 -> 0
A79: 56 | C79: Eszközök összesen | D79: =+D10+D49+D74 -> 2390651 | E79: =+E10+E49+E74 -> 1336317 | F79: =+F10+F49+F74 -> -955795 | G79: =+G10+G49+G74 -> 0 | H79: =+H10+H49+H74 -> 2771173
A81: Keltezés: | C81: 2017. november 20.
C82: P.H. | E82: a vállalkozás vezetője (képviselője)
C84: ='[1]Beviteli oldal'!$B$8 -> 12701131-3811-113-20
C85: Statisztikai számjel
C87: ='[1]Beviteli oldal'!$B$10 -> 20-09-065081
C88: Cégjegyzék száma
A90: "A" MÉRLEG Források (passzívák)
C91: 2017. szeptember 30. | H91: adatok E Ft-ban
A92: Sor-szám | C92: A tétel megnevezése | D92: Átvevő ZALA-DEPO Kft. vagyonmérleg sz. érték | E92: Beolvadó MÜLLEX-KÖRMEND KFT. vagyonmérleg sz. érték | F92: Különbözetek | G92: Rendezés | H92: Jogutód ZALA-MÜLLEX Kft. vagyonmérleg sz. érték
A93: 57 | B93: D. | C93: Saját tőke | D93: =+D94-D96+SUM(D97:D100)+D103 -> 1067645 | E93: =+E94-E96+SUM(E97:E100)+E103 -> 935905 | F93: =+F94-F96+SUM(F97:F100)+F103 -> -911760 | G93: =+G94-G96+SUM(G97:G100)+G103 -> 0 | H93: =+H94-H96+SUM(H97:H100)+H103 -> 1091790
A94: 58 | B94: I. | C94: JEGYZETT TŐKE | D94: 95000 | E94: 100610 | F94: -100610 | G94: 106000 | H94: =D94+E94+F94+G94 -> 201000
A95: 59 | C95: ebből: visszavásárolt tulajdoni részesedés névértéken | H95: =D95+E95+F95+G95 -> 0
A96: 60 | B96: II. | C96: JEGYZETT, DE MÉG BE NEM FIZETETT TŐKE (-) | H96: =D96+E96+F96+G96 -> 0
A97: 61 | B97: III. | C97: TŐKETARTALÉK | D97: 771 | E97: 745 | H97: =D97+E97+F97+G97 -> 1516
A98: 62 | B98: IV. | C98: EREDMÉNYTARTALÉK | D98: 971874 | E98: 658050 | F98: -811150 | G98: -106000 | H98: =D98+E98+F98+G98 -> 712774
A99: 63 | B99: V. | C99: LEKÖTÖTT TARTALÉK | E99: 176500 | H99: =D99+E99+F99+G99 -> 176500
A100: 64 | B100: VI. | C100: ÉRTÉKELÉSI TARTALÉK | E100: =+SUM(E101:E102) -> 0
A101: 65 | C101: Értékhelyesbítés értékelési tartaléka | H101: =D101+E101+F101+G101 -> 0
A102: 66 | C102: Valós értékelés értékelési tartaléka | H102: =D102+E102+F102+G102 -> 0
A103: 67 | B103: VII. | C103: ADÓZOTT EREDMÉNY | D103: 0 | E103: 0 | H103: =D103+E103+F103+G103 -> 0
A104: 68 | B104: E. | C104: Céltartalékok | D104: =+SUM(D105:D107) -> 232500 | E104: =+SUM(E105:E107) -> 145849 | F104: =+SUM(F105:F107) -> 0 | G104: =+SUM(G105:G107) -> 0 | H104: =+SUM(H105:H107) -> 378349
A105: 69 | C105: Céltartalék a várható kötelezettségekre | D105: 0 | E105: 0 | H105: =D105+E105+F105+G105 -> 0
A106: 70 | C106: Céltartalék a jövőbeni költségekre | D106: 232500 | E106: 145849 | H106: =D106+E106+F106+G106 -> 378349
A107: 71 | C107: Egyéb céltartalék | D107: 0 | H107: =D107+E107+F107+G107 -> 0
A108: 72 | B108: F. | C108: Kötelezettségek | D108: =+D109+D113+D135 -> 1064458 | E108: =+E109+E113+E135 -> 211906 | F108: =+F109+F113+F135 -> -44035 | G108: =+G109+G113+G135 -> 0 | H108: =+H109+H113+H135 -> 1232329
A109: 73 | B109: I. | C109: HÁTRASOROLT KÖTELEZETTSÉGEK | D109: =+SUM(D110:D112) -> 0 | E109: =+SUM(E110:E112) -> 0 | F109: =+SUM(F110:F112) -> 0 | G109: =+SUM(G110:G112) -> 0 | H109: =+SUM(H110:H112) -> 0
A110: 74 | C110: Hátrasorolt kötelezettségek kapcsolt vállalkozással szemben | H110: =D110+E110+F110+G110 -> 0
...

Sheet Fedlap vagyonleltár
B2: ='Beviteli oldal'!$B$8 -> 12701131-3811-113-20
B3: Statisztikai számjel
B5: ='Beviteli oldal'!$B$10 -> 20-09-06581
B6: Cégjegyzék száma
C12: =+'Beviteli oldal'!$B$3 -> ZALA-MÜLLEX Kft.
C13: Jogutód
C14: =+'Beviteli oldal'!$B$5 -> 8900 Zalaegerszeg Gasparich u. 26.
C15: =IF('Beviteli oldal'!$B$6=0," ",'Beviteli oldal'!$B$6)
C19: Egyesülési vagyonleltár
C21: 43008
A30: Keltezés: | B30: =+'Beviteli oldal'!$B$12 -> 2017. november 20.
E31: a vállalkozás vezetője (képviselője)
C34: P.H.

Sheet Tartalomjegyzék
A1: =+'Beviteli oldal'!$B$3 -> ZALA-MÜLLEX Kft.
A2: Jogutód
A4: Tartalomjegyzék
A7: 1. sz. táblázat | B7: A./I. | C7: Immateriális javak leltára
A8: 1/A. sz. táblázat | B8: A./I. | C8: Immateriális javak állományváltozása
A9: 2. sz. táblázat | B9: A./II. | C9: Tárgyi eszközök leltára
A10: 2/A. sz. táblázat | B10: A./II. | C10: Tárgyi eszközök állományváltozása
A11: 3. sz. táblázat | B11: A./II.15,16 | C11: Beruházások, felújítások leltára
A12: 4. sz. táblázat | B12: A./III.23 | C12: Tartós részesedés leltára
A13: 5. sz. táblázat | B13: B./I. | C13: Készletek leltára
A14: 6. sz. táblázat | B14: B./II.36 | C14: Követelések áruszállításból és szolgáltatásból (vevők) leltára
A15: 6./A.sz.táblázat | B15: B./II.36 | C15: Követelések értékvesztése
A16: 7.sz. táblázat | B16: B./II.38 | C16: Követelések jelentős tulajdoni részesedési viszonyban lévő vállalkozással szemben
A17: 8.sz. táblázat | B17: B./II.40 | C17: Egyéb követelések leltára
A18: 9. sz. táblázat | B18: B./IV. | C18: Pénzeszközök leltára
... A28: 18. sz. táblázat | B28: G. | C28: Passzív időbeli elhatárolások leltára
A34: Keltezés: | B34: =+'Beviteli oldal'!$B$12 -> 2017. november 20.
C38: P.H.

Sheet Megjegyzés
A1: Megjegyzés a "Különbözetek" oszlop tartalmához
A3: A vagyonmérleg "különbözetek" oszlopában bemutatott változások
A6: 1.) A 2000. évi C. törvény a számvitelről 139. § (4) bekezdése értelmében:
A7: "Az átalakulással létrejövő gazdasági társaság vagyonmérleg-tervezetének "különbözetek" oszlopában kell kimutatni egyesülés esetén a jogutód gazdasági társaság jegyzett tőkéjének meghatározása során figyelembe nem vehető részesedések (részvények, törzsbetétek) jogelőd gazdasági társaság vagyonmérleg-tervezete szerinti értékét az eszközök, illetve a saját tőke csökkenéseként (a névértéknek megfelelő összeget a jegyzett tőke csökkenéseként, a névérték és a vagyonmérleg-tervezet szerinti eszközérték különbözetét az eredménytartalék változásaként). "
A9: A Zala-Depo Kft Müllex_Körmend Kft.-ben lévő részesedésének kivezetése piaci értéken:
A11: 19. sor | B11: Tartós részesedések kapcsolt vállalkozásban csökken | H11: 911760 | I11: E Ft
A12: 62. sor | B12: Eredménytartalék csökken | H12: 911760 | I12: E Ft
A15: 2.) A 2000. évi C. törvény a számvitelről 139. § (5) bekezdése értelmében:
A16: "Egyesülés esetén az átalakulással létrejövő gazdasági társaság vagyonmérleg-tervezetében a "különbözetek" oszlopban kell kiszűrni az egyesülő (jogelőd) gazdasági társaságok vagyonmérleg-tervezeteiben szereplő, egymással szemben fennálló követelések-kötelezettségek tételeit a követelések és a kötelezettségek, illetve az időbeli elhatárolások csökkentésével, valamint ezen követelések és kötelezettségek, illetve az időbeli elhatárolások értékeinek különbözetével a saját tőkét kell (az eredménytartalék változásaként) módosítani."
A18: A Zala-Depo Kft-nek követelése (vevői) a Müllex-Körmend Kft-vel szemben könyv szerinti értéken:
A20: 37. sor | B20: Követelések kapcsolt vállalkozással szemben csökken | H20: 44035 | I20: E Ft
A21: 93. sor | B21: Rövid lej. kötelezettség kapcsolt vállalkozással szemben csökken | H21: 44035 | I21: E Ft
A24: A Zala-Depo Kft.-nek kötelezettsége (szállítói) a Müllex-Körmend Kft-vel szemben könyv szerinti értéken:
A26: 93. sor | B26: Rövid lej. kötelezettség kapcsolt vállalkozással szemben csökken | H26: 44035 | I26: E Ft
A27: 37. sor | B27: Követelések kapcsolt vállalkozással szemben csökken | H27: 44035 | I27: E Ft
A29: 3.) A 2000. évi C. törvény a számvitelről 139. § (4) bekezdése értelmében:
A30: "Az átalakulással létrejövő gazdasági társaság vagyonmérleg-tervezetének "különbözetek" oszlopában kell kimutatni egyesülés esetén a jogutód gazdasági társaság jegyzett tőkéjének meghatározása során figyelembe nem vehető részesedések (részvények, törzsbetétek) jogelőd gazdasági társaság vagyonmérleg-tervezete szerinti értékét az eszközök, illetve a saját tőke csökkenéseként (a névétéknek megfelelő összeget a jegyzett tőke csökkenéseként, a névérték és a vagyonmérleg-tervezet szerinti eszközérték különbözetét az eredménytartalék változásaként.) A "különbözetek" oszlop szolgál a törvényben külön nem nevesített egyéb tételek rendezésére is. "
A32: A Müllex-Körmend Kft.- jegyzett tőkéjének kivezetése névértéken:
A34: 58. sor | B34: Jegyzett tőke csökken | H34: 100610 | I34: E Ft
A35: 62. sor | B35: Eredménytartalék nő | H35: 100610 | I35: E Ft
A38: 4.) A Ptk. 3:174.-2:175.§ és a 2000. évi C. törvény a számvitelről 39. § (3)(5) bekezdése értelmében:
A39: 39.§.(3)"Az eredménytartalékból kell lekötni és a lekötött tartalékba átvezetni: a)a a visszavásárolt saját részvények, saját üzletrészk, továbbá a visszaváltható részvények könyv szerinti értékét." 39 § (5)219 A saját részvény, a saját üzletrész, továbbá a visszaváltható részvény visszavásárlásának (megszerzésének) - a más jogszabályban előírtakon túlmenően - az is feltétele, hogy azok visszavásárlására (megszerzésére) a) a legutolsó beszámolóval lezárt üzleti év mérlegében kimutatott adózott eredménnyel kiegészített szabad eredménytartalék osztalékként, részesedésként, kamatozó részvény kamataként figyelembe nem vett összege, vagy b) a 21. § szerinti közbenső mérlegben (illetve egyéb, az alapul szolgáló beszámoló mérlegében) kimutatott - osztalékelőlegként figyelembe nem vett - adózott eredménnyel kiegészített szabad eredménytartalék összege fedezetet nyújtson úgy, hogy a lekötött tartalékkal, a pozitív értékelési tartalékkal, továbbá a visszavásárlás (a megszerzés) értékével csökkentett saját tőke összege nem csökken a jegyzett tőke összege alá."
A41: Körmend Város üzletrészének visszavásárlása:
A43: 46. sor | B43: Saját részvények, üzletrészek nő | H43: 0 | I43: E Ft
A44: 85. sor | B44: Egyéb hosszú lejáratú kötelzettségek nő | H44: 0 | I44: E Ft
A45: 95. sor | B45: Egyéb rövid lejáratú kötelezettségek nő | H45: 0 | I45: E Ft
A47: 5.) A 2000. évi C. törvény a számvitelről 38. § (3) bekezdése értelmében:
A48: 38.§(3) "Az eredménytartalékból le kell kötni és a lekötött tartalékba átvezetni: a) a visszavásárolt saját részvények, saját üzletrészek, továbbá a visszaváltható részvények könyv szerinti értékét,"
A50: Körmend Város üzletrészének visszavásárlása:
A52: 62. sor | B52: Eredménytartalék csökken | H52: 0 | I52: E Ft
A53: 63. sor | B53: Lekötött tartalék nő | H53: 0 | I53: E Ft
A56: 4.) A 2000. évi C. törvény a számvitelről 140. § (2) és 37.§.(2) b9 bekezdése értelmében:
A57: "Ha a saját tőke egyes elemeinek… értékétől a (3)-(7) bekezdésben foglaltakat is figyelembe véve a létesítő okiratban a szerződő felek eltérnekm vagy az eltérést törvény írja elő, akkor a saját tőke - létesítő okirat szerinti megosztásának megfelelő - átrendezéséhez egy további külön oszlopot ("rendezés" oszlop) is be kell iktatni a vagyonmérleg tervezetbe."
A58: "Az eredménytartalék csökkenésként kell kimutatni: a jegyzett tőke emelését a rendelkezésre álló szabad eredménytartalékból."
A59: A jegyzett tőke emelése 200 M Ft-ra:
A61: 58. sor | B61: Jegyzett tőke nő | H61: 106000 | I61: E Ft
A62: 62. sor | B62: Eredménytartalék csökken | H62: 106000 | I62: E Ft

Sheet 1
C1: 43008
A3: IMMATERIÁLIS JAVAK LELTÁRA 1. sz. táblázat
A5: Társaság neve: | B5: ZALA-MÜLLEX Kft.
C7: ezer Ft-ban
A8: Főkönyvi számla száma | B8: Tétel megnevezése | C8: 43008
A9: 111 | B9: Alapítás-átszervezés aktivált értéke | C9: 2642
A10: 113 | B10: Vagyoni értékű jogok | C10: 6104
A11: 114 | B11: Vagyoni értékű jogok, szoftverek | C11: 9794
A12: 1191 | B12: Alapítás-átszervezés écs. | C12: 2642
A13: 1193 | B13: Vagyoni értékű jogok écs. | C13: 4067
A14: 1194 | B14: Vagyoni értékű jogok écs. | C14: 9365
A15: 11 | B15: IMMATERIÁLIS JAVAK | C15: =+C9+C10+C11-C12-C13-C14 -> 2466
B16: Záró nettó érték | C16: 2466
C17: ,
A23: Keltezés: | B23: =+'Beviteli oldal'!$B$12 -> 2017. november 20.

Sheet 1A
I1: 43008
A2: AZ IMMATERIÁLIS JAVAK ÁLLOMÁNYVÁLTOZÁSA 1/A. sz. táblázat
A3: Társaság neve: | B3: ZALA-MÜLLEX Kft.
I4: ezer Ft-ban
A5: MEGNEVEZÉS | B5: ALAPÍTÁS ÁTSZERVEZÉS | C5: KÍSÉRLETI FEJLESZTÉS | D5: VAGYONI ÉRTÉKŰ JOGOK | E5: SZELLEMI TERMÉKEK | F5: ÜZLETI VAGY CÉGÉRTÉK | G5: IMMATERIÁLIS JAVAKRA ADOTT ELŐLEG | H5: IMMATERIÁLIS JAVAK ÉRTÉK-HELYESBÍTÉSE | I5: IMMATERIÁLIS JAVAK ÖSSZESEN
A6: Nyitó bruttó érték | B6: 2642 | D6: 14117 | G6: 0 | H6: 0 | I6: 16759
A7: Vásárlás | D7: 2225 | I7: =SUM(B7:H7) -> 2225
A8: Apportálás | I8: =SUM(B8:H8) -> 0
A9: Előállítás | I9: =SUM(B9:H9) -> 0
A10: Térítés nélkül átvett | I10: =SUM(B10:H10) -> 0
A11: Átsorolás | I11: =SUM(B11:H11) -> 0
A12: Értékhelyesbítés | I12: =SUM(B12:H12) -> 0
A13: Egyéb növekedés | I13: =SUM(B13:H13) -> 0
A14: Növekedés összesen | B14: =SUM(B7:B13) -> 0 | C14: =SUM(C7:C13) -> 0 | D14: =SUM(D7:D13) -> 2225 | E14: =SUM(E7:E13) -> 0 | F14: =SUM(F7:F13) -> 0 | G14: =SUM(G7:G13) -> 0 | H14: =SUM(H7:H13) -> 0 | I14: =SUM(B14:H14) -> 2225
A15: Selejtezés | D15: 443 | I15: =SUM(B15:H15) -> 443
A16: Eladás | I16: =SUM(B16:H16) -> 0
A17: Átadás | I17: =SUM(B17:H17) -> 0
A18: Térítés nélkül átadott | I18: =SUM(B18:H18) -> 0
A19: Átsorolás | I19: =SUM(B19:H19) -> 0
A20: Értékhelyesbítés | I20: =SUM(B20:H20) -> 0
A21: Egyéb csökkenés | I21: =SUM(B21:H21) -> 0
A22: Csökkenés összesen | B22: =SUM(B15:B21) -> 0 | C22: =SUM(C15:C21) -> 0 | D22: =SUM(D15:D21) -> 443 | E22: =SUM(E15:E21) -> 0 | F22: =SUM(F15:F21) -> 0 | G22: =SUM(G15:G21) -> 0 | H22: =SUM(H15:H21) -> 0 | I22: =SUM(B22:H22) -> 443
A23: Záró bruttó érték | B23: =B6+B14-B22 -> 2642 | C23: =C6+C14-C22 -> 0 | D23: =D6+D14-D22 -> 15899 | E23: =E6+E14-E22 -> 0 | F23: =F6+F14-F22 -> 0 | G23: =G6+G14-G22 -> 0 | H23: =H6+H14-H22 -> 0 | I23: =SUM(B23:H23) -> 18541
A25: Nyitó értékcsökkenés | B25: 2642 | D25: 13133 | F25: 0 | G25: 0 | H25: 0 | I25: 15775
A26: Terv szerinti écs. | D26: 743 | I26: =SUM(B26:H26) -> 743
A27: Terven felüli écs. | I27: =SUM(B27:H27) -> 0
A28: Átsorolás | I28: =SUM(B28:H28) -> 0
A29: ÉCS növekedés összesen | B29: =SUM(B26:B27) -> 0 | C29: =SUM(C26:C27) -> 0 | D29: =SUM(D26:D28) -> 743 | E29: =SUM(E26:E28) -> 0 | F29: =SUM(F26:F27) -> 0 | G29: =SUM(G26:G27) -> 0 | H29: =SUM(H26:H27) -> 0 | I29: =SUM(B29:H29) -> 743
A30: Selejtezés | D30: 443 | I30: =SUM(B30:H30) -> 443
A31: Eladás | I31: =SUM(B31:H31) -> 0
A32: Apportba adás | I32: =SUM(B32:H32) -> 0
A33: Térítés nélkül átadott | I33: =SUM(B33:H33) -> 0
A34: Egyéb csökkenés | I34: =SUM(B34:H34) -> 0
A35: ÉCS csökkenés összesen | B35: =SUM(B30:B34) -> 0 | C35: =SUM(C30:C34) -> 0 | D35: =SUM(D30:D34) -> 443 | E35: =SUM(E30:E34) -> 0 | F35: =SUM(F30:F34) -> 0 | G35: =SUM(G30:G34) -> 0 | H35: =SUM(H30:H34) -> 0 | I35: =SUM(B35:H35) -> 443
A36: Záró értékcsökkenés | B36: =B25+B29-B35 -> 2642 | C36: =C25+C29-C35 -> 0 | D36: =D25+D29-D35 -> 13433 | E36: =E25+E29-E35 -> 0 | F36: =F25+F29-F35 -> 0 | G36: =G25+G29-G35 -> 0 | H36: =H25+H29-H35 -> 0 | I36: =SUM(B36:H36) -> 16075
A38: Nyitó nettó érték | B38: =B6-B25 -> 0 | C38: =C6-C25 -> 0 | D38: =D6-D25 -> 984 | E38: =E6-E25 -> 0 | F38: =F6-F25 -> 0 | G38: =G6-G25 -> 0 | H38: =H6-H25 -> 0 | I38: =SUM(B38:H38) -> 984
A39: Záró nettó érték | B39: =B23-B36 -> 0 | C39: =C23-C36 -> 0 | D39: =D23-D36 -> 2466 | E39: =E23-E36 -> 0 | F39: =F23-F36 -> 0 | G39: =G23-G36 -> 0 | H39: =H23-H36 -> 0 | I39: =SUM(B39:H39) -> 2466
A42: Keltezés: | B42: =+'Beviteli oldal'!$B$12 -> 2017. november 20.

Sheet 2
C1: 43008
A3: TÁRGYI ESZKÖZÖK LELTÁRA 2. sz. táblázat
A5: Társaság neve: | B5: ZALA-MÜLLEX Kft.
C6: ezer Ft-ban
A7: Főkönyvi számla száma | B7: Tétel megnevezése | C7: 43008
A8: 122 | B8: Telek | C8: 48070
A9: 123 | B9: Épületek | C9: 252314
A10: 124 | B10: Egyéb építmények | C10: 438523
A11: 125 | B11: Bérelt ingatlanon végzett beruházás | C11: 105458
A12: 126 | B12: Üzemkörön kívüli ingatlanokhoz kapcs vagyoni jog | C12: 28
A13: 1261 | B13: Ingatlanhoz kapcsolódó vagyoni értékű jog | C13: 6064
A14: 1269 | B14: Ingatlanhoz kapcsolódó vagyoni értékű jog leírása | C14: -6064
A15: 127 | B15: Üzemkörön kívüli épületek | C15: 11025
A16: 1219 | B16: Földterület utáni écs. | C16: -36564
A17: 1229 | B17: Épületek écs | C17: -48762
A18: 1259 | B18: Egyéb építmények écs | C18: -314262
... A23: 1297 | B23: Üzemkörön kívüli épületek écs. | C23: -3103
A24: 12 | B24: Ingatlanok és a kapcsolódó vagyoni értékű jogok | C24: =SUM(C8:C23) -> 385208
A25: 131 | B25: Termelő gépek, berendezések | C25: 721563
A26: 1311 | B26: Járművek | C26: 402266
A27: 132 | B27: Termelésben közvetlenül résztvevő járművek | C27: 469039
A28: 133 | B28: Bérelt járművön végzett beruházás | C28: 14295
A29: 134 | B29: Bérelt gépen, berendezésen végzett beruházás | C29: 1211
A30: 135 | B30: Kis értékű tárgyi eszközök | C30: 103909
A31: 1391 | B31: Termelőgépek, berendezések écs. | C31: -569834
A32: 1392 | B32: Termelésben közvetlenül résztvevő járművek écs | C32: -722427
A33: 1393 | B33: Bérelt járművön végzett beruházás écs | C33: -12638
A34: 1394 | B34: Bérelt gépen, berendezésen végzett beruházás écs | C34: -815
A35: 1395 | B35: Kis értékű eszközök écs | C35: -103908
A36: 13 | B36: Műszaki berendezések, gépek, járművek | C36: =SUM(C25:C35) -> 302661
A37: 1411 | B37: Üzemi (üzleti) gépek, berendezések | C37: 160018
A38: 142 | B38: Egyéb járművek | C38: 28939
A39: 143 | B39: Irodai, igazgatási berendezések, felszerelések | C39: 28808
A40: 145 | B40: Kisértékű tárgyi eszközök | C40: 83961
A41: 146 | B41: Üzemkörön kívüli berendezések | C41: 2417
A42: 1641 | B42: Műszerek | C42: 4935
A43: 1419 | B43: Üzemi gépek, berendezések écs. | C43: -138263
A44: 1469 | B44: Műszerek écs | C44: -4635
A45: 1492 | B45: Egyéb járművek écs | C45: -17165
A46: 1493 | B46: Irodai, igazgatási berendezések, felszerelések écs | C46: -26362
A47: 1495 | B47: Kisértékű tárgyi eszközök écs | C47: -83961
A48: 1496 | B48: Üzemkörön kívüli berendezések écs | C48: -2213
A49: 14 | B49: EGYÉB BERENDEZÉSEK, GÉPEK,JÁRM | C49: =SUM(C37:C48) -> 36479
A50: 161 | B50: Befejezetlen beruházások | C50: 1240
A51: 163 | B51: Befejezetlen kísérleti fejlesztés | C51: 5800
A52: 164 | B52: Depo bővítés | C52: 95102
A53: 1683 | B53: Kísérleti fejlesztés terven felüli écs | C53: -5800
A54: 352 | B54: Beruházásokra adott előlegek | C54: 37675
A55: 16 | B55: Beruházások, felújítások, beruházásokra adott előlegek | C55: =SUM(C50:C54) -> 134017
B56: Záró nettó érték | C56: 858365
A59: Keltezés: | B59: =+'Beviteli oldal'!$B$12 -> 2017. november 20.

Sheet 2A
M1: 43008
A3: A TÁRGYI ESZKÖZÖK ÁLLOMÁNYVÁLTOZÁSA 2/A. számú táblázat
A5: Társaság neve: | B5: ZALA-MÜLLEX Kft. | M5: ezer Ft-ban
A6: MEGNEVEZÉS | B6: Ingatlanok + kapcsolódó vagyoni értékű jogok | C6: Műszaki berendezések, gépek, járművek | F6: Egyéb berendezések, felszerelések, járművek | I6: Beruházások, felújítások | J6: Tenyészállatok | K6: Beruházásra adott előleg | L6: Érték-helyesbítés | M6: TÁRGYI
C7: 100 eFt alatt | D7: 100 eFt felett | E7: Összesen | F7: 100 eFt alatt | G7: 100 eFt felett | H7: Összesen | M7: ESZKÖZÖK ÖSSZESEN
A8: Nyitó bruttó érték | B8: 860064 | C8: 102334 | D8: 1556908 | E8: =+C8+D8 -> 1659242 | F8: 86705 | G8: 220050 | H8: =+F8+G8 -> 306755 | I8: 49042 | K8: 200 | M8: =+B8+E8+H8+I8+J8+K8+L8 -> 2875303
A9: Vásárlás | B9: 1418 | C9: 4671 | D9: 57512 | E9: =+C9+D9 -> 62183 | F9: 2585 | G9: 15456 | H9: 18041 | I9: 105031 | M9: =B9+E9+H9+I9+K9+L9 -> 186673
A10: Apportálás | M10: =B10+E10+H10+I10+K10+L10 -> 0
A11: Előállítás | M11: =B11+E11+H11+I11+K11+L11 -> 0
A12: Térítés nélkül átvett | M12: =B12+E12+H12+I12+K12+L12 -> 0
A13: Átsorolás | M13: =B13+E13+H13+I13+K13+L13 -> 0
A14: Értékhelyesbítés | M14: =B14+E14+H14+I14+K14+L14 -> 0
A15: Egyéb növekedés | F15: 3802 | H15: =+F15+G15 -> 3802 | M15: =B15+E15+H15+I15+K15+L15 -> 3802
A16: Növekedés összesen | B16: =SUM(B9:B15) -> 1418 | C16: =SUM(C9:C15) -> 4671 | D16: =SUM(D9:D15) -> 57512 | E16: =C16+D16 -> 62183 | F16: =SUM(F9:F15) -> 6387 | G16: =SUM(G9:G15) -> 15456 | H16: =F16+G16 -> 21843 | I16: =SUM(I9:I15) -> 105031 | J16: =SUM(J9:J15) -> 0 | K16: =SUM(K9:K15) -> 0 | L16: =SUM(L9:L15) -> 0 | M16: =B16+E16+H16+I16+K16+L16 -> 190475
A17: Selejtezés | C17: 1132 | D17: 224 | E17: 1356 | F17: 7846 | G17: 3119 | H17: 10965 | M17: =B17+E17+H17+I17+K17+L17 -> 12321
A18: Eladás | C18: 1964 | D18: 5822 | E18: 7786 | G18: 8498 | H18: 8498 | M18: =B18+E18+H18+I18+K18+L18 -> 16284
A19: Apportba átadás | M19: =B19+E19+H19+I19+K19+L19 -> 0
A20: Térítés nélkül átadott | M20: =B20+E20+H20+I20+K20+L20 -> 0
A21: Átsorolás | I21: 1606 | M21: =B21+E21+H21+I21+K21+L21 -> 1606
A22: Értékhelyesbítés | M22: =B22+E22+H22+I22+K22+L22 -> 0
A23: Egyéb csökkenés | I23: 12832 | K23: 18 | M23: =B23+E23+H23+I23+K23+L23 -> 12850
A24: Csökkenés összesen | B24: =SUM(B17:B23) -> 0 | C24: =SUM(C17:C23) -> 3096 | D24: =SUM(D17:D23) -> 6046 | E24: =C24+D24 -> 9142 | F24: =SUM(F17:F23) -> 7846 | G24: =SUM(G17:G23) -> 11617 | H24: =F24+G24 -> 19463 | I24: =SUM(I17:I23) -> 14438 | J24: =SUM(J17:J23) -> 0 | K24: =SUM(K17:K23) -> 18 | L24: =SUM(L17:L23) -> 0 | M24: =B24+E24+H24+I24+K24+L24 -> 43061
M25: =B25+E25+H25+I25+K25+L25 -> 0
A26: Záró bruttó érték | B26: =B8+B16-B24 -> 861482 | C26: =C8+C16-C24 -> 103909 | D26: =D8+D16-D24 -> 1608374 | E26: =C26+D26 -> 1712283 | F26: =F8+F16-F24 -> 85246 | G26: =G8+G16-G24 -> 223889 | H26: =H8+H16-H24 -> 309135 | I26: =I8+I16-I24 -> 139635 | J26: =J8+J16-J24 -> 0 | K26: =K8+K16-K24 -> 182 | L26: =L8+L16-L24 -> 0 | M26: =+B26+E26+H26+I26+J26+K26+L26 -> 3022717
M27: =B27+E27+H27+I27+K27+L27 -> 0
A28: Nyitó értékcsökkenés | B28: 457043 | C28: 102334 | D28: 1244680 | E28: =+C28+D28 -> 1347014 | F28: 86705 | G28: 187673 | H28: =+F28+G28 -> 274378 | I28: 5800 | M28: =B28+E28+H28+I28+K28+L28 -> 2084235
A29: Terv szerinti écs. | B29: 19231 | C29: 4671 | D29: 66497 | E29: =+C29+D29 -> 71168 | F29: 6387 | G29: 9110 | H29: =+G29+F29 -> 15497 | M29: =B29+E29+H29+I29+K29+L29 -> 105896
A30: Terven felüli écs. | E30: =C30+D30 -> 0 | G30: 89 | H30: =F30+G30 -> 89 | M30: =B30+E30+H30+I30+K30+L30 -> 89
A31: ÉCS növekedés összesen | B31: =SUM(B29:B30) -> 19231 | C31: =SUM(C29:C30) -> 4671 | D31: =SUM(D29:D30) -> 66497 | E31: =C31+D31 -> 71168 | F31: =SUM(F29:F30) -> 6387 | G31: =SUM(G29:G30) -> 9199 | H31: =SUM(H29:H30) -> 15586 | I31: =SUM(I29:I30) -> 0 | J31: =SUM(J29:J30) -> 0 | K31: =SUM(K29:K30) -> 0 | L31: =SUM(L29:L30) -> 0 | M31: =B31+E31+H31+I31+K31+L31 -> 105985
A32: Selejtezés | C32: 1132 | D32: 224 | E32: 1356 | F32: 7846 | G32: 3119 | H32: 10965 | M32: =B32+E32+H32+I32+K32+L32 -> 12321
A33: Eladás | C33: 1964 | D33: 5240 | E33: 7204 | G33: 6343 | H33: 6343 | M33: =B33+E33+H33+I33+K33+L33 -> 13547
A34: Apportba adás | M34: =B34+E34+H34+I34+K34+L34 -> 0
A35: Térítés nélkül átadott | M35: =B35+E35+H35+I35+K35+L35 -> 0
A36: Egyéb csökkenés | M36: =B36+E36+H36+I36+K36+L36 -> 0
A37: ÉCS csökkenés összesen | B37: =SUM(B32:B36) -> 0 | C37: =SUM(C32:C36) -> 3096 | D37: =SUM(D32:D36) -> 5464 | E37: =C37+D37 -> 8560 | F37: =SUM(F32:F36) -> 7846 | G37: =SUM(G32:G36) -> 9462 | H37: =F37+G37 -> 17308 | I37: =SUM(I32:I36) -> 0 | J37: =SUM(J32:J36) -> 0 | K37: =SUM(K32:K36) -> 0 | L37: =SUM(L32:L36) -> 0 | M37: =B37+E37+H37+I37+K37+L37 -> 25868
A38: Záró értékcsökkenés | B38: =B28+B31-B37 -> 476274 | C38: =C28+C31-C37 -> 103909 | D38: =D28+D31-D37 -> 1305713 | E38: =C38+D38 -> 1409622 | F38: =F28+F31-F37 -> 85246 | G38: =G28+G31-G37 -> 187410 | H38: =F38+G38 -> 272656 | I38: =I28+I31-I37 -> 5800 | J38: =J28+J31-J37 -> 0 | K38: =K28+K31-K37 -> 0 | L38: =L28+L31-L37 -> 0 | M38: =B38+E38+H38+I38+K38+L38 -> 2164352
M39: =B39+E39+H39+I39+K39+L39 -> 0
A40: Nyitó nettó érték | B40: =B8-B28 -> 403021 | C40: =C8-C28 -> 0 | D40: =D8-D28 -> 312228 | E40: =C40+D40 -> 312228 | F40: =F8-F28 -> 0 | G40: =G8-G28 -> 32377 | H40: =F40+G40 -> 32377 | I40: =I8-I28 -> 43242 | J40: =J8-J28 -> 0 | K40: =K8-K28 -> 200 | L40: =L8-L28 -> 0 | M40: =B40+E40+H40+I40+K40+L40 -> 791068
A41: Záró nettó érték | B41: =B26-B38 -> 385208 | C41: =C26-C38 -> 0 | D41: =D26-D38 -> 302661 | E41: =C41+D41 -> 302661 | F41: =F26-F38 -> 0 | G41: =G26-G38 -> 36479 | H41: =F41+G41 -> 36479 | I41: =I26-I38 -> 133835 | J41: =J26-J38 -> 0 | K41: =K26-K38 -> 182 | L41: =L26-L38 -> 0 | M41: =B41+E41+H41+I41+K41+L41 -> 858365
A44: Keltezés: | B44: =+'Beviteli oldal'!$B$12 -> 2017. november 20.

Sheet 3
D1: 43008
A3: BERUHÁZÁSOK, FELÚJÍTÁSOK LELTÁRA 3. sz. táblázat
A5: Társaság neve: | B5: ZALA-MÜLLEX Kft.
D7: ezer Ft-ban
A8: Befejezetlen beruházások leltára tételesen
A10: Számla | B10: Megnevezés | D10: 43008
A11: ='2'!A50 -> 161 | B11: ='2'!B50 -> Befejezetlen beruházások | D11: 1240
A12: ='2'!A51 -> 163 | B12: ='2'!B51 -> Befejezetlen kísérleti fejlesztés | D12: ='2'!C51 -> 5800
A13: ='2'!A52 -> 164 | B13: ='2'!B52 -> Depo bővítés | D13: 95102
A14: 1683 | B14: ='2'!B53 -> Kísérleti fejlesztés terven felüli écs | D14: ='2'!C53 -> -5800
A15: 352 | B15: Beruházásokra adott előlegek | D15: 37675
A16: Összesen: | D16: 134017
A20: Keltezés: | B20: =+'Beviteli oldal'!$B$12 -> 2017. november 20.

Sheet 4
F1: 43008
A3: TARTÓS RÉSZESEDÉS LELTÁRA 4. sz. táblázat
A5: Társaság neve: | B5: ZALA-MÜLLEX Kft. | F5: ezer Ft-ban
A7: A Társaság megnevezése, amiben részesedünk | B7: A részesedés kelte | C7: Névérték | D7: Beszerzési ár | E7: Értékvesztés | F7: Vagyonmérleg szerinti érték
A8: Köztisztasági Egyesülés | B8: 36577 | C8: 20 | D8: 20 | E8: 0 | F8: 20
A9: MÜLLEX-KÖZSZOLGÁLTATÓ NONPROFI KFT | B9: 41806 | C9: 31870.5 | D9: 31870.5 | E9: 31870.5 | F9: 0
A10: ÖSSZESEN: | C10: =SUM(C8:C9) -> 31890.5 | D10: =SUM(D8:D9) -> 31890.5 | E10: 31870.5 | F10: =SUM(F8:F9) -> 20
A13: Keltezés: | B13: =+'Beviteli oldal'!$B$12 -> 2017. november 20.

Sheet 5
C1: 43008
A3: KÉSZLETEK LELTÁRA 5. sz. táblázat
A5: Társaság neve: | B5: ZALA-MÜLLEX Kft.
C7: ezer Ft-ban
A8: Főkönyvi számla száma | B8: Tétel megnevezése | C8: 43008
A9: 2111 | B9: Gázolaj: I.sz olajtartály | C9: 343
A10: 2112 | B10: Üzemanyag (gépjárművekben) | C10: 1434
A11: 212 | B11: Hulladék haszonanyag, propán gáztartály | C11: 2217
A12: 213 | B12: Munka-védőruházat | C12: 723
A13: 214 | B13: Kötöződrót | C13: 605
A14: 2222 | B14: Üzemanyag (gépjárművekben) | C14: 4333
A15: 2223 | B15: Üzemanyag (üzemanyag kútban) | C15: 3996
A16: 227 | B16: Egyéb anyagok | C16: 13353
A17: 21-22 | B17: Anyagok | C17: =SUM(C9:C16) -> 27004
A18: 231 | B18: Befejezetlen termelés és félkész termékek | C18: 8118
A19: 2321 | B19: Félkésztermék fólia | C19: 1935
A20: 231 | B20: Befejezetlen termelés és félkész termékek | C20: =+C18+C19 -> 10053
A21: 241 | B21: Egyéb állatok | C21: 83
A22: 241 | B22: Egyéb állatok | C22: =+C21 -> 83
A23: 251 | B23: Késztermékek | C23: 67379
A24: 252 | B24: Komposzt készlet | C24: 88163
A25: 259 | B25: Késztermékek értékvesztése | C25: -68725
A26: 25 | B26: Késztermék | C26: =SUM(C23:C25) -> 86817
A27: 261 | B27: Áruk | C27: 7505
A28: 262 | B28: Raklap | C28: 104
A29: 261 | B29: Áruk | C29: =+C27+C28 -> 7609
B30: ÖSSZESEN: | C30: =+C17+C20+C22+C26+C29 -> 131566
A35: Keltezés: | B35: =+'Beviteli oldal'!$B$12 -> 2017. november 20.

Sheet 6
C1: 43008
A3: KÖVETELÉSEK ÁRUSZÁLLÍTÁSBÓL ÉS SZOLGÁLTATÁSBÓL (VEVŐK) LELTÁRA 6. sz. táblázat
A5: Társaság neve: | B5: ZALA-MÜLLEX Kft.
C7: ezer Ft-ban
A8: Főkönyvi számla száma | B8: Tétel megnevezése | C8: 43008
A9: 311 | B9: Belföldi követelések lakosság | C9: 496707
A10: 312 | B10: Belföldi vevők közület | C10: 572650
A11: 313 | B11: Külföldi vevők közület | C11: 35473
A12: 315 | B12: Értékvesztés | C12: -7400
A13: 3151 | B13: Lakossági vevők értékvesztése | C13: -16906
A14: 3152 | B14: Közületi vevők értékvesztése | C14: -2013
B15: ÖSSZESEN: | C15: =SUM(C9:C14) -> 1078511
C18: ezer Ft-ban
A19: 5.000.000,- Ft feletti vevőkövetelések leltára (312,3 főkönyvi számlából) | C19: 43008
A20: LENTI HULLADÉKKEZELŐ KFT | C20: 32837
A21: ZALAEGERSZEG MEGYEI JOGÚ VÁROS ÖNKORMÁNYZATA | C21: 12882
A22: ZALAI KÖZSZOLGÁLTATÓ NONPROFIT KFT | C22: 430536
A23: BIOMARK 2000 KFT | C23: 5611
A24: EVERGREEN RECYCLING S.R.O | C24: 26465
A25: GWV GMBH | C25: 5405
A26: Sárvári Zöld Pont Kft. | C26: 26588
A27: Müllex Közszolgáltató Nonprofit Kft. | C27: 359352
A28: STKH Kft. | C28: 24011
A29: Sárvári Huke Kft. | C29: 15291
A30: Falco Zrt. | C30: 10297
A31: Duparec | C31: 5403
B32: ÖSSZESEN: | C32: =SUM(C20:C31) -> 954678
A36: Keltezés: | B36: =+'Beviteli oldal'!$B$12 -> 2017. november 20.

Sheet 6A
L1: 43008
A2: KÖVETELÉS ÉRTÉKVESZTÉS SZÁMVITELI ELSZÁMOLÁSA 6/A. sz. táblázat
A3: ZALA-MÜLLEX Kft.
A4: Vevő neve | C4: Követelés jellege (peresített, fa, va) | D4: Nyitó érték/Tárgyévi adatok | G4: 2017. évi változás | J4: Záró érték
D5: Bekerülési érték | E5: Számvitelben elszámolt Értékvesztés | F5: Könyvszerinti érték | G5: Hitelezési veszteségre átvezetés (Felsz.nyil, Egyezség, Kivezetés) | H5: Befolyás, átruházás, beszámítás | I5: Tárgyévi képzés ( + ) visszaírás ( - ) | J5: Bekerülési érték | K5: Számvitelben elszámolt Értékvesztés | L5: Könyvszerinti érték
A6: Zola-Ker Bt. | B6: éven belül | F6: =D6-E6 -> 0 | J6: =D6-G6 -> 0 | K6: =E6-G6+I6-H6 -> 0 | L6: =J6-K6 -> 0
B7: éven túl | C7: ügyvédi felszólítás a. | D7: 17930 | E7: 17930 | F7: =D7-E7 -> 0 | J7: =D7-G7 -> 17930 | K7: =E7-G7+I7-H7 -> 17930 | L7: =J7-K7 -> 0
A8: Baumag Szövetkezet "fa" | B8: éven belül | F8: =D8-E8 -> 0 | J8: =D8-G8 -> 0 | K8: =E8-G8+I8-H8 -> 0 | L8: =J8-K8 -> 0
B9: éven túl | C9: felszámolás alatt | D9: 9939 | E9: 9939 | F9: =D9-E9 -> 0 | J9: =D9-G9 -> 9939 | K9: =E9-G9+I9-H9 -> 9939 | L9: =J9-K9 -> 0
A10: Extrakarb Kft. "fa" | B10: éven belül | F10: =D10-E10 -> 0 | J10: =D10-G10 -> 0 | K10: =E10-G10+I10-H10 -> 0 | L10: =J10-K10 -> 0
B11: éven túl | C11: felszámolás alatt | D11: 9796 | E11: 9796 | F11: =D11-E11 -> 0 | G11: 9796 | J11: =D11-G11 -> 0 | K11: =E11-G11+I11-H11 -> 0 | L11: =J11-K11 -> 0
A12: Fatér Gábor | B12: éven belül | F12: =D12-E12 -> 0 | J12: =D12-G12 -> 0 | K12: =E12-G12+I12-H12 -> 0 | L12: =J12-K12 -> 0
B13: éven túl | C13: végrehajtás alatt | D13: 12312 | E13: 12312 | F13: =D13-E13 -> 0 | J13: =D13-G13 -> 12312 | K13: =E13-G13+I13-H13 -> 12312 | L13: =J13-K13 -> 0
A14: Tall Bt. | B14: éven belül | F14: =D14-E14 -> 0 | J14: =D14-G14 -> 0 | K14: =E14-G14+I14-H14 -> 0 | L14: =J14-K14 -> 0
B15: éven túl | C15: végrehajtás alatt | D15: 61034 | E15: 61034 | F15: =D15-E15 -> 0 | J15: =D15-G15 -> 61034 | K15: =E15-G15+I15-H15 -> 61034 | L15: =J15-K15 -> 0
A16: R.D.C. Program REW Kft | B16: éven belül | F16: =D16-E16 -> 0 | J16: =D16-G16 -> 0 | K16: =E16-G16+I16-H16 -> 0 | L16: =J16-K16 -> 0
B17: éven túl | C17: végrehajtás alatt | D17: 80122 | E17: 80122 | F17: =D17-E17 -> 0 | J17: =D17-G17 -> 80122 | K17: =E17-G17+I17-H17 -> 80122 | L17: =J17-K17 -> 0
A18: Spaits Csaba | B18: éven belül | F18: =D18-E18 -> 0 | J18: =D18-G18 -> 0 | K18: =E18-G18+I18-H18 -> 0 | L18: =J18-K18 -> 0
B19: éven túl | D19: 8767 | E19: 8767 | F19: =D19-E19 -> 0 | J19: =D19-G19 -> 8767 | K19: =E19-G19+I19-H19 -> 8767 | L19: =J19-K19 -> 0
A20: Farkas Béla | B20: éven belül | F20: =D20-E20 -> 0 | J20: =D20-G20 -> 0 | K20: =E20-G20+I20-H20 -> 0 | L20: =J20-K20 -> 0
B21: éven túl | C21: végrehatás alatt | D21: 36684 | E21: 36684 | F21: =D21-E21 -> 0 | J21: =D21-G21 -> 36684 | K21: =E21-G21+I21-H21 -> 36684 | L21: =J21-K21 -> 0
A22: Zebra Fess Kft. "fa" | B22: éven belül | F22: =D22-E22 -> 0 | J22: =D22-G22 -> 0 | K22: =E22-G22+I22-H22 -> 0 | L22: =J22-K22 -> 0
B23: éven túl | C23: felszámolás alatt | D23: 33621 | E23: 33621 | F23: =D23-E23 -> 0 | J23: =D23-G23 -> 33621 | K23: =E23-G23+I23-H23 -> 33621 | L23: =J23-K23 -> 0
A24: Németh István | B24: éven belül | F24: =D24-E24 -> 0 | J24: =D24-G24 -> 0 | K24: =E24-G24+I24-H24 -> 0 | L24: =J24-K24 -> 0
B25: éven túl | C25: végrehajtás alatt | D25: 16576 | E25: 16576 | F25: =D25-E25 -> 0 | J25: =D25-G25 -> 16576 | K25: =E25-G25+I25-H25 -> 16576 | L25: =J25-K25 -> 0
A26: Pretoflex Kft. "kta" | B26: éven belül | F26: =D26-E26 -> 0 | J26: =D26-G26 -> 0 | K26: =E26-G26+I26-H26 -> 0 | L26: =J26-K26 -> 0
B27: éven túl | C27: kényszertörlés alatt | D27: 469852 | E27: 469852 | F27: =D27-E27 -> 0 | J27: =D27-G27+I27 -> 469852 | K27: =E27-G27+I27-H27 -> 469852 | L27: =J27-K27 -> 0
A28: K+K Bau Zrt, "fa" | B28: éven belül | F28: =D28-E28 -> 0 | J28: =D28-G28 -> 0 | K28: =E28-G28+I28-H28 -> 0 | L28: =J28-K28 -> 0
B29: éven túl | C29: felszámolás alatt | D29: 859015 | E29: 859015 | F29: =D29-E29 -> 0 | J29: =D29-G29 -> 859015 | K29: =E29-G29+I29-H29 -> 859015 | L29: =J29-K29 -> 0
A30: Horváth Máté | B30: éven belül | F30: =D30-E30 -> 0 | J30: =D30-G30 -> 0 | K30: =E30-G30+I30-H30 -> 0 | L30: =J30-K30 -> 0
B31: éven túl | C31: végrehajtás alatt | D31: 17452 | E31: 17452 | F31: =D31-E31 -> 0 | J31: =D31-G31 -> 17452 | K31: =E31-G31+I31-H31 -> 17452 | L31: =J31-K31 -> 0
A32: General Zala Invest Kft. "fa" | B32: éven belül | F32: =D32-E32 -> 0 | J32: =D32-G32 -> 0 | K32: =E32-G32+I32-H32 -> 0 | L32: =J32-K32 -> 0
B33: éven túl | C33: felszámolás alatt | D33: 162510 | E33: 162510 | F33: =D33-E33 -> 0 | J33: =D33-G33 -> 162510 | K33: =E33-G33+I33-H33 -> 162510 | L33: =J33-K33 -> 0
A34: Zebra Fess Kft. "fa" | B34: éven belül | F34: =D34-E34 -> 0 | J34: =D34-G34 -> 0 | K34: =E34-G34+I34-H34 -> 0 | L34: =J34-K34 -> 0
B35: éven túl | C35: felszámolás alatt | D35: 18632 | E35: 18632 | F35: =D35-E35 -> 0 | J35: =D35-G35 -> 18632 | K35: =E35-G35+I35-H35 -> 18632 | L35: =J35-K35 -> 0
A36: Otto Dinary Bt. "KTA" | B36: éven belül | F36: =D36-E36 -> 0 | J36: =D36-G36 -> 0 | K36: =E36-G36+I36-H36 -> 0 | L36: =J36-K36 -> 0
B37: éven túl | C37: kényszertörlés alatt | D37: 160273 | E37: 160273 | F37: =D37-E37 -> 0 | G37: 160273 | J37: =D37-G37 -> 0 | K37: =E37-G37+I37-H37 -> 0 | L37: =J37-K37 -> 0
A38: Hubay Balázs | B38: éven belül | F38: =D38-E38 -> 0 | J38: =D38-G38 -> 0 | K38: =E38-G38+I38-H38 -> 0 | L38: =J38-K38 -> 0
B39: éven túl | C39: végrehajtás alatt | D39: 48334 | E39: 48334 | F39: =D39-E39 -> 0 | J39: =D39-G39 -> 48334 | K39: =E39-G39+I39-H39 -> 48334 | L39: =J39-K39 -> 0
A40: Hungarocare Kft. "fa" | B40: éven belül | F40: =D40-E40 -> 0 | J40: =D40-G40 -> 0 | K40: =E40-G40+I40-H40 -> 0 | L40: =J40-K40 -> 0
B41: éven túl | C41: felszámolás alatt | D41: 53393 | E41: 53393 | F41: =D41-E41 -> 0 | J41: =D41-G41 -> 53393 | K41: =E41-G41+I41-H41 -> 53393 | L41: =J41-K41 -> 0
A42: Körmendi Aladár Lajosné | B42: éven belül | F42: =D42-E42 -> 0 | J42: =D42-G42 -> 0 | K42: =E42-G42+I42-H42 -> 0 | L42: =J42-K42 -> 0
B43: éven túl | C43: végrehajtás alatt | D43: 11536 | E43: 11536 | F43: =D43-E43 -> 0 | J43: =D43-G43 -> 11536 | K43: =E43-G43+I43-H43 -> 11536 | L43: =J43-K43 -> 0
A44: Amarilisz(Szabóné Dom. Renáta) | B44: éven belül | F44: =D44-E44 -> 0 | J44: =D44-G44 -> 0 | K44: =E44-G44+I44-H44 -> 0 | L44: =J44-K44 -> 0
B45: éven túl | C45: végrehajtás alatt | D45: 8628 | E45: 8628 | F45: =D45-E45 -> 0 | J45: =D45-G45 -> 8628 | K45: =E45-G45+I45-H45 -> 8628 | L45: =J45-K45 -> 0
A46: Lumené Bt | B46: éven belül | F46: =D46-E46 -> 0 | J46: =D46-G46 -> 0 | K46: =E46-G46+I46-H46 -> 0 | L46: =J46-K46 -> 0
B47: éven túl | C47: végrehajtás alatt | D47: 21962 | E47: 21962 | F47: =D47-E47 -> 0 | J47: =D47-G47 -> 21962 | K47: =E47-G47+I47-H47 -> 21962 | L47: =J47-K47 -> 0
A48: Fábián Klaudia | B48: éven belül | F48: =D48-E48 -> 0 | J48: =D48-G48 -> 0 | K48: =E48-G48+I48-H48 -> 0 | L48: =J48-K48 -> 0
B49: éven túl | C49: végrehajtás alatt | D49: 9195 | E49: 9195 | F49: =D49-E49 -> 0 | J49: =D49-G49 -> 9195 | K49: =E49-G49+I49-H49 -> 9195 | L49: =J49-K49 -> 0
A50: Sárközi Noémi | B50: éven belül | F50: =D50-E50 -> 0 | J50: =D50-G50 -> 0 | K50: =E50-G50+I50-H50 -> 0 | L50: =J50-K50 -> 0
B51: éven túl | C51: végrehajtás alatt | D51: 12209 | E51: 12209 | F51: =D51-E51 -> 0 | J51: =D51-G51 -> 12209 | K51: =E51-G51+I51-H51 -> 12209 | L51: =J51-K51 -> 0
A52: Horváth Gyula ev | B52: éven belül | F52: =D52-E52 -> 0 | J52: =D52-G52 -> 0 | K52: =E52-G52+I52-H52 -> 0 | L52: =J52-K52 -> 0
B53: éven túl | C53: végrehajtás alatt | D53: 17686 | E53: 17686 | F53: =D53-E53 -> 0 | J53: =D53-G53 -> 17686 | K53: =E53-G53+I53-H53 -> 17686 | L53: =J53-K53 -> 0
A54: Pakodgyöngye Bt "fa" | B54: éven belül | F54: =D54-E54 -> 0 | J54: =D54-G54 -> 0 | K54: =E54-G54+I54-H54 -> 0 | L54: =J54-K54 -> 0
B55: éven túl | C55: felszámolás alatt | D55: 12004 | E55: 12004 | F55: =D55-E55 -> 0 | J55: =D55-G55 -> 12004 | K55: =E55-G55+I55-H55 -> 12004 | L55: =J55-K55 -> 0
A56: BALI GÉZA/Farmer MG üzlet | B56: éven belül | F56: =D56-E56 -> 0 | J56: =D56-G56 -> 0 | K56: =E56-G56+I56-H56 -> 0 | L56: =J56-K56 -> 0
B57: éven túl | C57: végrehajtás alatt | D57: 13320 | E57: 13320 | F57: =D57-E57 -> 0 | J57: =D57-G57 -> 13320 | K57: =E57-G57+I57-H57 -> 13320 | L57: =J57-K57 -> 0
A58: TIENDA CABINA Kft. | B58: éven belül | F58: =D58-E58 -> 0 | J58: =D58-G58 -> 0 | K58: =E58-G58+I58-H58 -> 0 | L58: =J58-K58 -> 0
B59: éven túl | C59: végrehajtás alatt | D59: 29006 | E59: 29006 | F59: =D59-E59 -> 0 | H59: 29006 | J59: =D59-G59-H59 -> 0 | K59: =E59-G59+I59-H59 -> 0 | L59: =J59-K59 -> 0
A60: Lakossági vevők | B60: éven belül | F60: =D60-E60 -> 0 | J60: =D60-G60 -> 0 | K60: =E60-G60+I60-H60 -> 0 | L60: =J60-K60 -> 0
B61: éven túl | C61: végrehajtás alatt | D61: 23859108 | E61: 23859108 | F61: =D61-E61 -> 0 | G61: 6599871 | H61: 353149 | J61: =D61-G61+I61-H61 -> 16906088 | K61: 16906088 | L61: =J61-K61 -> 0
A62: Összesen: | D62: =SUM(D6:D61) -> 26070896 | E62: =SUM(E6:E61) -> 26070896 | F62: =SUM(F6:F61) -> 0 | G62: =SUM(G6:G61) -> 6769940 | H62: =SUM(H6:H61) -> 382155 | I62: =SUM(I6:I61) -> 0 | J62: =SUM(J6:J61) -> 18918801 | K62: =SUM(K6:K61) -> 18918801 | L62: =SUM(L6:L61) -> 0
A75: Vevő neve | C75: Követelés jellege (peresített, fa, va) | D75: Nyitó érték/Tárgyévi adatok | G75: 2017. évi változás | J75: Záró érték
D76: Bekerülési érték | E76: Számvitelben elszámolt Értékvesztés | F76: Könyvszerinti érték | G76: Hitelezési veszteségre átvezetés (Felsz.nyil, Egyezség, Kivezetés) | H76: Befolyás, átruházás, beszámítás | I76: Tárgyévi képzés ( + ) visszaírás ( - ) | J76: Bekerülési érték | K76: Számvitelben elszámolt Értékvesztés | L76: Könyvszerinti érték
A77: Aero Étterem | B77: éven belül | F77: =D77-E77 -> 0 | J77: =D77-G77 -> 0 | K77: =E77-G77+I77 -> 0 | L77: =J77-K77 -> 0
B78: éven túl | C78: ügyvédi felszólítás | D78: 56700 | E78: 56700 | F78: =D78-E78 -> 0 | J78: =D78-G78 -> 56700 | K78: =E78-G78+I78 -> 56700 | L78: =J78-K78 -> 0
A79: Rába-parti Fórum | B79: éven belül | F79: =D79-E79 -> 0 | J79: =D79-G79 -> 0 | K79: =E79-G79+I79 -> 0 | L79: =J79-K79 -> 0
B80: éven túl | C80: ügyvédi felszólítás | D80: 86205 | E80: 86205 | F80: =D80-E80 -> 0 | J80: =D80-G80 -> 86205 | K80: =E80-G80+I80 -> 86205 | L80: =J80-K80 -> 0
A81: Nunkovics Károly | B81: éven belül | F81: =D81-E81 -> 0 | J81: =D81-G81 -> 0 | K81: =E81-G81+I81 -> 0 | L81: =J81-K81 -> 0
B82: éven túl | C82: ügyvédi felszólítás | D82: 55520 | E82: 55520 | F82: =D82-E82 -> 0 | J82: =D82-G82 -> 55520 | K82: =E82-G82+I82 -> 55520 | L82: =J82-K82 -> 0
A83: Horváth Tibor | B83: éven belül | F83: =D83-E83 -> 0 | J83: =D83-G83 -> 0 | K83: =E83-G83+I83 -> 0 | L83: =J83-K83 -> 0
B84: éven túl | C84: ügyvédi felszólítás | D84: 77400 | E84: 77400 | F84: =D84-E84 -> 0 | J84: =D84-G84 -> 77400 | K84: =E84-G84+I84 -> 77400 | L84: =J84-K84 -> 0
A85: M-Team Bau Kft. | B85: éven belül | F85: =D85-E85 -> 0 | J85: =D85-G85 -> 0 | K85: =E85-G85+I85 -> 0 | L85: =J85-K85 -> 0
B86: éven túl | C86: felszámolás alatt | D86: 81500 | E86: 81500 | F86: =D86-E86 -> 0 | J86: =D86-G86 -> 81500 | K86: =E86-G86+I86 -> 81500 | L86: =J86-K86 -> 0
A87: Haspártiak | B87: éven belül | F87: =D87-E87 -> 0 | J87: =D87-G87 -> 0 | K87: =E87-G87+I87 -> 0 | L87: =J87-K87 -> 0
B88: éven túl | C88: felszámolás alatt | D88: 52395 | E88: 52395 | F88: =D88-E88 -> 0 | J88: =D88-G88 -> 52395 | K88: =E88-G88+I88 -> 52395 | L88: =J88-K88 -> 0
A89: AGRO SERVICE | B89: éven belül | J89: =D89-G89 -> 0 | K89: =E89-G89+I89 -> 0
B90: éven túl | C90: fizetési felszólítás | D90: 0 | E90: 27534 | F90: 0 | H90: 27534 | J90: =D90-G90 -> 0 | K90: 0
A91: Kulmer Fe-Ro Kft. | B91: éven belül | F91: =D91-E91 -> 0 | J91: =D91-G91 -> 0 | K91: =E91-G91+I91 -> 0 | L91: =J91-K91 -> 0
B92: éven túl | C92: ügyvédi felszólítás | D92: 142331 | E92: 142331 | F92: =D92-E92 -> 0 | G92: 142331 | J92: =D92-G92 -> 0 | K92: =E92-G92+I92 -> 0 | L92: =J92-K92 -> 0
A93: Ny-M.országi Mérnöki Iroda | B93: éven belül | F93: =D93-E93 -> 0 | J93: =D93-G93 -> 0 | K93: =E93-G93+I93 -> 0 | L93: =J93-K93 -> 0
B94: éven túl | C94: fizetési felszólítás | D94: 137592 | E94: 137592 | F94: =D94-E94 -> 0 | J94: =D94-G94 -> 137592 | K94: =E94-G94+I94 -> 137592 | L94: =J94-K94 -> 0
A95: PRO DOMO ZRT. | B95: éven belül | F95: =D95-E95 -> 0 | J95: =D95-G95 -> 0 | K95: =E95-G95+I95 -> 0 | L95: =J95-K95 -> 0
B96: éven túl | C96: fizetési felszólítás | D96: 202057 | E96: 202057 | F96: =D96-E96 -> 0 | J96: =D96-G96 -> 202057 | K96: =E96-G96+I96 -> 202057 | L96: =J96-K96 -> 0
A97: FARBAX KFT. V.A. | B97: éven belül | F97: =D97-E97 -> 0 | J97: =D97-G97 -> 0 | K97: =E97-G97+I97 -> 0 | L97: =J97-K97 -> 0
B98: éven túl | C98: végelszámolás alatt | D98: 1957005 | E98: 495298 | F98: =D98-E98 -> 1461707 | I98: 1461707 | J98: =D98-G98 -> 1957005 | K98: =E98-G98+I98 -> 1957005 | L98: =J98-K98 -> 0
A99: ENVIROINVEST | B99: éven belül | F99: =D99-E99 -> 0 | J99: =D99-G99 -> 0 | K99: =E99-G99+I99 -> 0 | L99: =J99-K99 -> 0
B100: éven túl | C100: ügyvédi felszólítás | D100: 100000 | E100: 100000 | F100: =D100-E100 -> 0 | H100: 100000 | J100: 0 | K100: 0 | L100: =J100-K100 -> 0
A101: "M" Ipari, kereskedelmi szolg. | B101: éven belül | F101: =D101-E101 -> 0 | J101: =D101-G101 -> 0 | K101: =E101-G101+I101 -> 0
B102: éven túl | D102: 1661363 | F102: 1661363 | I102: 1661363 | J102: =D102-G102 -> 1661363 | K102: =E102-G102+I102 -> 1661363
A103: Lakossági vevők | B103: éven belül | F103: =D103-E103 -> 0 | J103: =D103-G103 -> 0 | K103: =E103-G103+I103 -> 0 | L103: =J103-K103 -> 0
B104: éven túl | C104: fizetési felszólítás | D104: 27854530 | E104: 27850435 | F104: =D104-E104 -> 4095 | G104: 24728058 | H104: 89720 | J104: 3032657 | K104: 3032657 | L104: =J104-K104 -> 0
A105: Összesen: | D105: =SUM(D77:D104) -> 32464598 | E105: =SUM(E77:E104) -> 29364967 | F105: =SUM(F77:F104) -> 3127165 | G105: =SUM(G77:G104) -> 24870389 | H105: =SUM(H77:H104) -> 217254 | I105: =SUM(I77:I104) -> 3123070 | J105: =SUM(J77:J104) -> 7400394 | K105: =SUM(K77:K104) -> 7400394 | L105: =SUM(L77:L104) -> 0
A108: Keltezés: | B108: =+'[2]Beviteli oldal'!$B$12 -> 43059

Sheet 7
C1: 43008
A3: KÖVETELÉSEK JELENTŐS TULAJDONI RÉSZESEDÉSI VISZONYBAN LÉVŐ VÁLLALKOZÁSSAL SZEMBEN LELTÁRA 7. sz. táblázat
A5: Társaság neve: | B5: ZALA-MÜLLEX Kft.
C7: ezer Ft-ban
A8: Kapcsolt vállalkozás megnevezése | C8: 43008
A9: MÜLLEX-KÖZSZOLGÁLTATÓ NONPROFIT KFT | C9: 32422
B10: ÖSSZESEN: | C10: =SUM(C9:C9) -> 32422
A15: Keltezés: | B15: =+'Beviteli oldal'!$B$12 -> 2017. november 20.

Sheet 8
D1: 43008
A3: EGYÉB KÖVETELÉSEK LELTÁRA 8.sz. táblázat
A5: Társaság neve: | B5: ZALA-MÜLLEX Kft.
D7: ezer Ft-ban
A8: Mérlegsor száma | B8: Főkönyvi számla száma | C8: Tétel megnevezése | D8: 43008
B9: 3613 | C9: Munkabérelőleg | D9: 180
B10: 3621 | C10: Jövedéki adó visszaigénylése | D10: 2053
B11: 3622 | C11: Egyéb követelés magánszemélyekkel szemben | D11: 58
B12: 3631 | C12: Jövedéki adó kiutalása | D12: -1198
B13: 3682 | C13: Egyéb követelés VÁM | D13: 1468
B14: 3683 | C14: VPOP-val szembeni követelés | D14: 1003
B15: 3684 | C15: Egyéb követelés kaució | D15: 150
B16: 3685 | C16: Étkezési utalványok | D16: 21
B17: 3688 | C17: Ügyvédi letét | D17: 301
B18: 3689 | C18: Különféle egyéb követelések | D18: 3228
B19: 369 | C19: NAV vámletét letéti számla | D19: 5
B20: 4634 | C20: Táppénz | D20: 35
... B30: 4734 | C30: Kifizetőhelyi elszámolás | D30: 828
A31: ÖSSZESEN | D31: =SUM(D9:D30) -> 50248
A35: Keltezés: | B35: =+'Beviteli oldal'!$B$12 -> 2017. november 20.

Sheet 9
D1: 43008
A3: PÉNZESZKÖZÖK LELTÁRA 9. sz. táblázat
A5: Társaság neve: | B5: ZALA-MÜLLEX Kft.
D8: Ezer Ft-ban
A9: Mérlegsor száma | B9: Főkönyvi számla száma | C9: Tétel megnevezése | D9: 43008
B10: 3811 | C10: Pénztár 1. Központ | D10: 1666
B11: 3841 | C11: Elszámolási betétszámla OTP I. | D11: 95546
B12: 3842 | C12: Raiffeisen HUF folyószámla | D12: 43259
B13: 3843 | C13: Lekötött betétszámla | D13: 150
B14: 3851 | C14: Kamatozó betétszámla OTP | D14: 283
B15: 3853 | C15: Elkülönített számla OTP | D15: 2
B16: 3854 | C16: Elkülönített számla OTP | D16: 131
B17: 3855 | C17: Kártyaszámla OTP | D17: 150
B18: 386 | C18: Devizabetétszámla EUR OTP | D18: 2870
B19: 3861 | C19: Sparkasse EUR folyószámla | D19: 40992
B20: 3862 | C20: Devizabetétszámla OTP | D20: 1378
B21: 389 | C21: MESTER SZÁMLA | D21: 59458
A23: ÖSSZESEN | D23: =SUM(D10:D22) -> 245885
A27: Keltezés: | B27: =+'Beviteli oldal'!$B$12 -> 2017. november 20.

Sheet 10
C1: 43008
A3: AKTÍV IDŐBELI ELHATÁROLÁSOK LELTÁRA 10. sz. táblázat
A5: Társaság neve: | B5: ZALA-MÜLLEX Kft.
C7: ezer Ft-ban
A8: Megnevezés
C9: 43008
A10: Irodabérleti díj | C10: 908
A11: Eszközhasználati díj | C11: 270
A12: Hulladékkezelés alvállalkozói díjbevétel | C12: 235758
A13: Biogáz jutalék | C13: 1030
A14: Bérválogatás | C14: 253
A15: Biztosító kártérítés | C15: 748
A16: Konténer bérleti díj | C16: 104
A17: Szelektív begyűjtői díj | C17: 1803
A18: Teljesített árbevétel | C18: 123263
A19: Bevételek aktív időbeli elhatárolásai összesen: | C19: =SUM(C10:C18) -> 364137
A21: Szoftver megújítás | C21: 74
A22: Jogtár előfizetés | C22: 215
A23: Újság,szaklap előfizetések | C23: 113
A24: Túzjelző rendszer díja | C24: 14
A25: Gépjármű használati díj | C25: 353
A26: IPPC felügyeleti díj | C26: 50
A27: Éves kártyadíj tankoláshoz | C27: 9
A28: Hirdetés, reklám | C28: 630
A29: Biztosítási díjak | C29: 1174
A30: Internet | C30: 962
A31: Fiókbérleti díj | C31: 5
A32: Működési ktg. Köztisztasági Egy. | C32: 119
... A47: Könyvviteli szolgáltatás | C47: 49
A48: Költségek, ráfordítások aktív időbeli elhatárolásai összesen: | C48: =SUM(C21:C47) -> 7553
A50: Aktív időbeli elhatárolások összesen: | C50: =C19+C48 -> 371690
A53: Keltezés: | B53: =+'Beviteli oldal'!$B$12 -> 2017. november 20.

Sheet 11
J1: 43008
A3: SAJÁT TŐKE LELTÁRA 11. sz. táblázat
A5: Társaság neve: | B5: ZALA-MÜLLEX Kft.
J7: ezer Ft-ban
A8: Megnevezés | C8: Saját | D8: Jegyzett | E8: Jegyzett, de | F8: Tőke | G8: Eredmény | H8: Lekötött | I8: Értékelési | J8: Adózott eredmény
C9: tőke | D9: tőke | E9: be nem fiz. tőke | F9: tartalék | G9: tartalék | H9: tartalék | I9: tartalék
A10: Nyitóállomány az év elején | C10: 1688225 | D10: 195610 | F10: 1516 | G10: 977908 | H10: 176500 | J10: 336691
A11: A saját tőke összetételének változása
A12: Előző évi eredmény átvezetése eredménytartalékba | C12: =SUM(D12:J12) -> 0 | G12: 336691 | J12: -336691
A13: Jegyzett tőke emelés eredménytartalékból vagy tőke tartalékból | C13: =SUM(D13:J13) -> 0 | D13: 106000 | G13: -106000
A14: Átvezetés eredménytartalék és tőketartalék között | C14: =SUM(D14:J14) -> 0
A15: Átvezetés eredménytartalék és lekötött tartalék között
A16: Átvezetés tőketartalék és lekötött tartalék között | C16: =SUM(D16:J16) -> 0
A17: Egyéb mozgások | C17: =SUM(D17:J17) -> -596435 | D17: -100610 | G17: -811150 | J17: 315325
A18: Összesen | C18: =SUM(D18:J18) -> -596435 | D18: =SUM(D12:D17) -> 5390 | E18: =SUM(E12:E17) -> 0 | F18: =SUM(F12:F17) -> 0 | G18: =SUM(G12:G17) -> -580459 | H18: =SUM(H12:H17) -> 0 | I18: =SUM(I12:I17) -> 0 | J18: =SUM(J12:J17) -> -21366
A20: A saját tőke értékének változása
A21: Jegyzett tőke emelés vagy csökkentés | C21: =SUM(D21:J21) -> 0
A22: Befizetés eredmény-, tőke-, vagy lekötött tartalékba | C22: =SUM(D22:J22) -> 0
A23: Tőketartalék vagy eredménytartalék átadás | C23: =SUM(D23:J23) -> 0
A24: Tőketartalék vagy eredménytartalék átvétel | C24: =SUM(D24:J24) -> 0
A25: Egyéb | C25: =SUM(D25:J25) -> 0
A26: Tárgyévi eredmény átvezetése az eredménytartalékba | C26: =SUM(D26:J26) -> 0 | G26: 315325 | J26: -315325
A27: Összesen | C27: =SUM(C21:C25) -> 0 | D27: =SUM(D21:D25) -> 0 | E27: =SUM(E21:E25) -> 0 | F27: =SUM(F21:F25) -> 0 | G27: 315325 | H27: =SUM(H21:H25) -> 0 | I27: =SUM(I21:I25) -> 0 | J27: -315325
A28: Záróállomány az év végén. | C28: =SUM(C10+C18+C27) -> 1091790 | D28: =D10+D18+D27 -> 201000 | E28: =E10+E18+E27 -> 0 | F28: =F10+F18+F27 -> 1516 | G28: =G10+G18+G27 -> 712774 | H28: =H10+H18+H27 -> 176500 | I28: =I10+I18+I27 -> 0 | J28: =J10+J18+J27 -> 0
A32: Keltezés: | B32: =+'Beviteli oldal'!$B$12 -> 2017. november 20.

Sheet 11A
F1: 43008
A3: ADÓZOTT EREDMÉNY LELTÁRA 11/A. sz. táblázat
A5: Társaság neve: | B5: ZALA-MÜLLEX Kft.
F7: ezer Ft-ban
G8: ezer Ft-ban
B9: 2012 | C9: 2013 | D9: 2014 | E9: 2015 | F9: 2016 | G9: 2017
A10: Adózás előtti eredmény | B10: 10999 | C10: 14952 | D10: 9216 | E10: 126316 | F10: 185322 | G10: 136375
A11: Adóalap növelő | B11: 142480 | C11: 97169 | D11: 92158 | E11: 128379 | F11: 104405 | G11: 70148
A12: Adóalap csökkentő | B12: 97994 | C12: 93114 | D12: 87950 | E12: 120663 | F12: 205336 | G12: 59362
A13: ebből:
A14: Veszteség leírás
A15: Korrigált adóalap | B15: =B10+B11-B12 -> 55485 | C15: =C10+C11-C12 -> 19007 | D15: =D10+D11-D12 -> 13424 | E15: =E10+E11-E12 -> 134032 | F15: =F10+F11-F12 -> 84391 | G15: =G10+G11-G12 -> 147161
A16: Adó (2016.év: 10%,16%) 2017.év 9% | B16: 5549 | C16: 8399 | D16: 4104 | E16: 13403 | F16: 8439 | G16: 13244
A17: Adókedvezmény | B17: 0 | C17: 1300 | D17: 2269 | E17: 8831
A18: Társas vállalkozások különadója
A19: Adózott eredmény | B19: =B10-B16-B18+B17 -> 5450 | C19: =C10-C16-C18+C17 -> 7853 | D19: =D10-D16+D17 -> 7381 | E19: =E10-E16+E17 -> 121744 | F19: =F10-F16-F18+F17 -> 176883 | G19: =G10-G16-G18+G17 -> 123131
A20: Osztalékfizetés (jóváhagyott) | B20: 0 | D20: 0 | E20: 0 | F20: 0 | G20: 0
A21: Adózott eredmény (Osztalék jóváhagyás után) | B21: =B19-B20 -> 5450 | C21: =C19-C20 -> 7853 | D21: =D19-D20 -> 7381 | E21: =E19-E20 -> 121744 | F21: =F19-F20 -> 176883 | G21: =G19-G20 -> 123131
B24: 2012 | C24: 2013 | D24: 2014 | E24: 2015 | F24: 2016 | G24: 2017
A25: Adózás előtti eredmény | B25: 52417 | C25: -7854 | D25: 106475 | E25: 139458 | F25: 176153 | G25: 214102
A26: Adóalap növelő | B26: 117862 | C26: 93387 | D26: 95861 | E26: 87070 | F26: 100755 | G26: 70175
A27: Adóalap csökkentő | B27: 131782 | C27: 89029 | D27: 110772 | E27: 115742 | F27: 113454 | G27: 40851
A28: ebből:
A29: Veszteség leírás
A30: Korrigált adóalap | B30: =B25+B26-B27 -> 38497 | C30: =C25+C26-C27 -> -3496 | D30: =D25+D26-D27 -> 91564 | E30: =E25+E26-E27 -> 110786 | F30: =F25+F26-F27 -> 163454 | G30: =G25+G26-G27 -> 243426
A31: Adó (2016.év: 10%,16%) 2017.év 9% | B31: 3950 | C31: 1277 | D31: 9157 | E31: 11079 | F31: 16345 | G31: 21908
A32: Adókedvezmény | B32: 2300 | D32: 2000 | E32: 2500
A33: Társas vállalkozások különadója
A34: Adózott eredmény | B34: =B25-B31-B33+B32 -> 50767 | C34: =C25-C31-C33+C32 -> -9131 | D34: =D25-D31+D32 -> 99318 | E34: =E25-E31+E32 -> 130879 | F34: =F25-F31-F33+F32 -> 159808 | G34: =G25-G31-G33+G32 -> 192194
A35: Osztalékfizetés (jóváhagyott) | B35: 40000 | D35: 33000 | E35: 110000
A36: Adózott eredmény (Osztalék jóváhagyás után) | B36: =B34-B35 -> 10767 | C36: =C34-C35 -> -9131 | D36: =D34-D35 -> 66318 | E36: =E34-E35 -> 20879 | F36: =F34-F35 -> 159808 | G36: =G34-G35 -> 192194
A39: Keltezés: | B39: =+'Beviteli oldal'!$B$12 -> 2017. november 20.

Sheet 12
D1: 43008
A3: CÉLTARTALÉKOK LELTÁRA 12. sz. táblázat
A5: Társaság neve: ZALA-MÜLLEX Kft.
D7: ezer Ft
A8: Tárgyév | C8: SZÁMVITELI TV. SZERINT KÉPZETT CÉLTARTALÉK ÖSSZEGE | D8: ADÓTÖRVÉNY ÁLTAL ELISMERT CÉLTARTALÉK
B9: Előző évben képzett céltartalék | C9: 330034
B10: Előző évi céltartalékból felhasználás miatt bevételként elszámolt összeg
A11: TÁRGYÉVBEN KÉPZETT CÉLTARTALÉK
A12: 1. | B12: Fizetési kötelezettségekre
B13: Garanciális kötelezettségre
B14: Végkielégítés fedezetére
B15: Korengedményes nyugdíjra
B16: Törvényben (bányászat, villamos energia, környezetvédelmi általános, ktsvetési agrártámogatási) meghatározott
B17: - környezetvédelmi kötelezettségek fedezetése
B18: - erdőfelújítási kötelezettségek fedezetére | D18: =SUM(C18) -> 0
A19: 2. | B19: Várható jövőbeni költségekre | C19: 24992
B20: Fenntartási, átszervezési költségekre
B21: Egyéb környezetvédelmi költségekre
A22: 3. | B22: Beruházási devizahitel árfolyamveszteségének elhatárolására
A23: Tárgyév összesen | C23: 24992 | D23: 0
A24: Adóalap növelő tétel | C24: 24992
A25: Adóalap csökkentő tétel | C25: 0
D28: ezer Ft
A29: Megnevezés
A30: Nyitó mérlegérték | D30: 353357
A31: Előző évi céltartalékból felhasználás miatt bevételként elszámolt összeg - feloldás
A32: Tárgyévben ráfordításként elszámolt összeg - képzés | D32: 24992
A33: Záró mérlegérték | D33: =D30-D31+D32 -> 378349
A36: Keltezés: | B36: =+'Beviteli oldal'!$B$12 -> 2017. november 20.

Sheet 13
D1: 43008
A4: Beruházási és fejlesztési hitelek 13. sz. táblázat
A6: Társaság neve: | B6: ZALA-MÜLLEX Kft.
D8: ezer Ft-ban
A9: Mérlegsor száma | B9: Főkönyvi számla száma | C9: Tétel megnevezése | D9: 43008
A10: F./II.81 | B10: 44454 | C10: Betontörő | D10: 1861
A11: F./II.81 | B11: 4441 | C11: Müllex-Körmend Kft üzletrész vásárlás | D11: 492188
A12: Záró mérlegérték | D12: =+D10+D11 -> 494049
A17: Keltezés: | B17: =+'Beviteli oldal'!$B$12 -> 2017. november 20.

Sheet 14
D1: 43008
A3: Rövid lejáratú hitelek 14. sz. táblázat
A5: Társaság neve: | B5: ZALA-MÜLLEX Kft.
D7: ezer Ft-ban
A8: Mérlegsor száma | B8: Főkönyvi számla száma | C8: Tétel megnevezése | D8: 43008
A9: F./II.81 | B9: 44454 | C9: Betontörő | D9: 5587
A10: F./III.89 | B10: 4441 | C10: Müllex-Körmend Kft üzletrész vásárlás | D10: 93750
A11: Záró mérlegérték | D11: =+D9+D10 -> 99337
A14: Keltezés: | B14: =+'Beviteli oldal'!$B$12 -> 2017. november 20.

Sheet 15
C1: 43008
A3: VEVŐKTŐL KAPOTT ELŐLEGEK LELTÁRA 15. sz. táblázat
A5: Társaság neve: | B5: ZALA-MÜLLEX Kft.
C7: ezer Ft-ban
A8: Főkönyvi számla száma | B8: Tétel megnevezése | C8: 43008
A9: 453 | B9: Vevőktől kapott előlegek (óvadékok) | C9: 1483
B11: ÖSSZESEN: | C11: =SUM(C9:C10) -> 1483
A16: Keltezés: | B16: =+'Beviteli oldal'!$B$12 -> 2017. november 20.

Sheet 16
C1: 43008
A3: KÖTELEZETTSÉGEK ÁRUSZÁLLÍTÁSBÓL ÉS SZOLGÁLTATÁSBÓL (SZÁLLÍTÓK) LELTÁRA 16. sz. táblázat
A5: Társaság neve: | B5: ZALA-MÜLLEX Kft.
C7: ezer Ft-ban
A8: Főkönyvi számla száma | B8: Tétel megnevezése | C8: 43008
A9: 4541 | B9: Belföldi szállítók | C9: 327893
A10: 4549 | B10: Nem számlázott szállítások | C10: 434
A11: 455 | B11: Beruházási szállítók | C11: 31243
A12: 456 | B12: Külföldi szállítók | C12: 273
B13: ÖSSZESEN: | C13: =SUM(C9:C12) -> 359843
A17: Keltezés: | B17: =+'Beviteli oldal'!$B$12 -> 2017. november 20.

Sheet 17
D1: 43008
A3: EGYÉB RÖVID LEJÁRATÚ KÖTELEZETTSÉGEK LELTÁRA 17 .sz. táblázat
A5: Társaság neve: | B5: ZALA-MÜLLEX Kft.
D7: Adatok ezer Ft-ban
A8: Mérlegsor száma | B8: Főkönyvi számla száma | C8: Tétel megnevezése | D8: 43008
B9: 4611 | C9: Társasági adó | D9: 24316
B10: 4621 | C10: Szja | D10: 1402
B11: 4622 | C11: Magánszemélyből levont szja | D11: 42339
B12: 4623 | C12: Kifizetői szja | D12: 2979
B13: 4627 | C13: Levont szja teljesítése | D13: -37017
B14: 4628 | C14: Kifizetői szja teljesítése | D14: -2648
B15: 4629 | C15: Előző évi szja elszámolása | D15: -535
B16: 4633 | C16: EHO | D16: 3234
B17: 4634 | C17: Rehabilitációs hozzájárulás | D17: 8519
B18: 4635 | C18: Szakképzési hozzájárulás | D18: 3509
B19: 4636 | C19: Innovációs járulék | D19: 1186
B20: 4638 | C20: Külön fel nem sorolt befizetési kötelezettségek | D20: 0
... B26: 4646 | C26: Innovációs járulék teljesítése | D26: 0
B27: 4648 | C27: Külön fel nem sorolt befizetési kötelezettségek telj.
B28: 46492 | C28: Cégautóadó teljesítése | D28: -367
B29: 46496 | C29: Hulladéklerakási járulék teljesítése | D29: -94324
B30: 466-468 | C30: ÁFA | D30: 18980
B31: 46911 | C31: Helyi adó Harasztifalu | D31: 1137
B32: 46954 | C32: Iparűzési adó Letenye
B33: 4711 | C33: Keresetelszámolási számla | D33: 32037
B34: 472 | C34: Fel nem vett járandóságok | D34: 123
B35: 47313 | C35: Egbizt és merőpiaci járulék | D35: 27381
B36: 47314 | C36: Egbizt és merőpiaci járulék teljesítése | D36: -23617
B37: 47323 | C37: Nyugdíjbizt járulék | D37: 32721
B38: 47324 | C38: Nyugdíjbizt járulék teljesítése | D38: -28217
B39: 47327 | C39: Szochó | D39: 66562
B40: 47328 | C40: Szochó teljesítése | D40: -57525
B41: 476 | C41: Tartásdíj | D41: 531
B42: 477 | C42: Önkéntes nyugdíjpénztár | D42: 461
B43: 4791 | C43: Letiltás munkabérből | D43: 61
B44: 467 | C44: Fizetendő áfa | D44: 13247
... B46: 4799 | C46: Rövid lejáratú egyéb kötelezettségek | D46: 19700
B47: ÖSSZESEN: | D47: =SUM(D9:D46) -> 277617
A50: Keltezés: | B50: =+'Beviteli oldal'!$B$12 -> 2017. november 20.

Sheet 18
C1: 43008
A3: PASSZÍV IDŐBELI ELHATÁROLÁSOK LELTÁRA 18. sz. táblázat
A5: Társaság neve: | B5: ZALA-MÜLLEX Kft.
C8: Adatok ezer Ft-ban
A9: Megnevezés
C10: 43008
A12: Bevételek passzív időbeli elhatárolásai összesen: | C12: =SUM(C11:C11) -> 0
A14: Gáztartály bérleti díj | C14: 8
A15: Biztosítási díj | C15: 10
A16: Áramdíj | C16: 12
A17: hulladékfelvásárlás | C17: 147
A18: Munkábajárás | C18: 184
A19: Felügyeleti díj | C19: 90
A20: Prémium és járulékai | C20: 1853
A21: Iparűzési adó | C21: 20647
A22: Innovációs járulék | C22: 3097
A23: Kamat (betontörő) | C23: 7
A24: Bérleti díj | C24: 107
A25: Biztosítás | C25: 0
... A27: Távhő szolg. | C27: 11
A28: Költségek, ráfordítások passzív időbeli elhatárolásai összesen: | C28: =SUM(C14:C27) -> 26185
A30: Irodaház | C30: 26952
A31: Útburkolat | C31: 10205
A32: Hídmérleg | C32: 3162
A33: Térmegfigyelő rendszer | C33: 0
A34: GPRS rendszer | C34: 30
A35: Konténerek | C35: 0
A36: Biogáz hasznosító rendszer | C36: 2171
A37: Halasztott bevételek összesen: | C37: =SUM(C30:C36) -> 42520
A39: Passzív időbeli elhatárolások összesen: | C39: =C12+C28+C37 -> 68705
A43: Keltezés: | B43: =+'Beviteli oldal'!$B$12 -> 2017. november 20.
