Workbook
Name _GoBack: '2'!#REF!

Sheet 1
B1: 2019. évi eredeti előirányzat | C1: 2019. évi módosított előirányzat | D1: Teljesítés az I. félévben | E1: Teljesítés %-a | G1: Megnevezés | H1: 2019. évi eredeti előirányzat | I1: 2019. évi módosított előirányzat | J1: Teljesítés az I. félévben | K1: Teljesítés %-a
A2: I. Működési célú bevételek | G2: I. Működési célú kiadások
A3: 1.) Működési célú támogatások államháztartáson belülről | B3: 3630793 | C3: 3803739 | D3: 2000046 | E3: =SUM(D3/C3)*100 -> 52.581052 | G3: 1.) Költségvetési szervek kiadásai | H3: 7057066 | I3: 7413646 | J3: 3586431 | K3: =SUM(J3/H3)*100 -> 50.820426
A4: 2.) Közhatalmi bevételek | B4: 5312000 | C4: 5312000 | D4: 2853318 | E4: =SUM(D4/C4)*100 -> 53.714571 | G4: 2.) Önkormányzat szakosztályainak kiadásai | H4: 5161211 | I4: 7225821 | J4: 1320537 | K4: =SUM(J4/H4)*100 -> 25.585798
A5: 3.) Működési bevételek | B5: 2473872 | C5: 2736398 | D5: 1101812 | E5: =SUM(D5/C5)*100 -> 40.265049 | G5: 3.Egyéb működési célú kiadások (költségvetési szervek és tartalék nélkül) | H5: 1714996 | I5: 1796098 | J5: 860310 | K5: =SUM(J5/H5)*100 -> 50.163965
A6: 4.) Működési célú átvett pénzeszközök | B6: 93949 | C6: 290883 | D6: 44781 | E6: =SUM(D6/C6)*100 -> 15.394849 | G6: 4.) Céltartalékból működésre | H6: 271028 | I6: 251213 | K6: =SUM(J6/H6)*100 -> 0
A7: Költségvetési műk. bevételei összesen: | B7: =SUM(B3+B4+B5+B6) -> 11510614 | C7: 12143020 | D7: =SUM(D3+D4+D5+D6) -> 5999957 | E7: =SUM(D7/C7)*100 -> 49.410748 | G7: 5.) Általános tartalék | H7: 9000 | I7: 4500 | K7: =SUM(J7/H7)*100 -> 0
A8: Finanszírozási bevételek | G8: Költségvetési műk. kiadásai összesen: | H8: =SUM(H2:H7) -> 14213301 | I8: 16691278 | J8: =SUM(J2:J7) -> 5767278 | K8: =SUM(J8/H8)*100 -> 40.576626
A9: 5.) Előző év költségvetési maradványának igénybevétele | B9: 2791148 | C9: 4636719 | D9: 4636719 | E9: =SUM(D9/C9)*100 -> 100 | G9: 6.) Egyéb finanszírozási kiadás (államháztartáson belüli megelőlegezés visszafizetése) | H9: 88461 | I9: 88461 | J9: 88461 | K9: =SUM(J9/H9)*100 -> 100
A10: 6.) Államháztartáson belüli megelőlegezések | C10: 820 | D10: 561 | E10: =SUM(D10/C10)*100 -> 68.414634 | G10: 7.) Államháztartáson belüli megelőlegezés visszafizetése | I10: 820 | J10: 561
A11: MŰKÖDÉSI CÉLÚ BEVÉTELEK ÖSSZ: | B11: =SUM(B7:B10) -> 14301762 | C11: 16780559 | D11: =SUM(D7:D10) -> 10637237 | E11: =SUM(D11/C11)*100 -> 63.390242 | G11: MŰKÖDÉSI CÉLÚ KIADÁSOK ÖSSZ.: | H11: =SUM(H8:H9) -> 14301762 | I11: 16780559 | J11: =SUM(J8:J10) -> 5856300 | K11: =SUM(J11/H11)*100 -> 40.948101
A12: II. Felhalmozási célú bevételek | G12: II. Felhalmozási célú kiadások
A13: 1.) Felhalmozási célú támogatások államháztartáson belülről | B13: 6296455 | C13: 7802169 | D13: 4999531 | E13: =SUM(D13/C13)*100 -> 64.078732 | G13: 1.) Egyéb felhalmozási célú kiadások | H13: 190576 | I13: 512281 | J13: 357742 | K13: =SUM(J13/I13)*100 -> 69.833158
A14: 2.) Közhatalmi bevételek | B14: 102000 | C14: 102000 | E14: =SUM(D14/C14)*100 -> 0 | G14: 2.) Beruházás | H14: 22377674 | I14: 21899412 | J14: 1564057 | K14: =SUM(J14/I14)*100 -> 7.1420045
A15: 3.) Felhalmozási bevételek | B15: 226720 | C15: 227170 | D15: 121005 | E15: =SUM(D15/C15)*100 -> 53.266276 | G15: ebből: költségvetési szervek | H15: 91455 | I15: 137321 | J15: 66902 | K15: =SUM(J15/I15)*100 -> 48.719424
A16: 4.) Felhalmozási célú átvett pénzeszközök | B16: 5000 | C16: 9024 | D16: 12064 | E16: =SUM(D16/C16)*100 -> 133.68794 | G16: 3.) Felújítás | H16: 4059149 | I16: 4354070 | J16: 397874 | K16: =SUM(J16/I16)*100 -> 9.1379789
A17: 5.) Fejlesztéshez működési jellegű bevétel (HD, áfa visszaigénylés) | B17: 3770924 | C17: 3805164 | D17: 235022 | E17: =SUM(D17/C17)*100 -> 6.1763961 | G17: ebből: költségvetési szervek | H17: 11916 | I17: 37811 | J17: 6698 | K17: =SUM(J17/I17)*100 -> 17.714422
A18: Költségvetési felhalm. bevételei összesen: | B18: =SUM(B12:B17) -> 10401099 | C18: 11945527 | D18: =SUM(D12:D17) -> 5367622 | E18: =SUM(D18/C18)*100 -> 44.934158 | G18: 4.) Céltartalék | H18: 32185 | I18: 15509 | K18: =SUM(J18/I18)*100 -> 0
A19: Finanszírozási bevételek | G19: 5.)Fejlesztési hitel kamata | H19: 23908 | I19: 24436 | J19: 10314 | K19: =SUM(J19/I19)*100 -> 42.208217
A20: 6.) Hitel felvétel | B20: 190999 | C20: 340999 | D20: 174204 | E20: =SUM(D20/C20)*100 -> 51.086367 | G20: Költségvetési felh.célú kiadásai összesen: | H20: =SUM(H13+H14+H16+H18+H19) -> 26683492 | I20: 26805708 | J20: =SUM(J13+J14+J16+J18+J19) -> 2329987 | K20: =SUM(J20/I20)*100 -> 8.69213
A21: 7.) Előző év költségvetési maradványának igénybevétele | B21: 6736171 | C21: 5161588 | D21: 5161588 | E21: =SUM(D21/C21)*100 -> 100 | G21: Finanszírozási kiadások
A22: 8.) Forgatási célú értékpapír beváltás | B22: 9454275 | C22: 9456646 | E22: =SUM(D22/C22)*100 -> 0 | G22: 6.) Hitel- és kölcsön törlesztések | H22: 74052 | I22: 74052 | J22: 32026 | K22: =SUM(J22/I22)*100 -> 43.247988
G23: 7.) Lízing kötelezettség | H23: 25000 | I23: 25000 | K23: =SUM(J23/I23)*100 -> 0
A24: FELHALMOZÁSI CÉLÚ BEVÉTELEK ÖSSZESEN: | B24: =SUM(B18:B23) -> 26782544 | C24: 26904760 | D24: =SUM(D18:D23) -> 10703414 | E24: =SUM(D24/C24)*100 -> 39.782604 | G24: FELHALMOZÁSI CÉLÚ KIADÁSOK ÖSSZESEN: | H24: =SUM(H20:H23) -> 26782544 | I24: 26904760 | J24: =SUM(J20:J23) -> 2362013 | K24: =SUM(J24/I24)*100 -> 8.779164
A25: ÖNKORMÁNYZAT ÖSSZESEN: | B25: =SUM(B11+B24) -> 41084306 | C25: 43685319 | D25: =SUM(D11+D24) -> 21340651 | E25: =SUM(D25/C25)*100 -> 48.850853 | G25: ÖNKORMÁNYZAT ÖSSZESEN: | H25: =SUM(H11+H24) -> 41084306 | I25: 43685319 | J25: =SUM(J11+J24) -> 8218313 | K25: =SUM(J25/I25)*100 -> 18.812528
A26: 9.) Forgatási célú értékpapír beváltás projektekhez kapcsolódóan | B26: 2000000 | C26: 2800000 | D26: 410000 | E26: =SUM(D26/C26)*100 -> 14.642857 | G26: 8.) Forgatási célú értékpapír vásárlás hazai forrásból átmenetileg szabad pénzeszközökből | H26: 2000000 | I26: 2800000 | J26: 2000000 | K26: =SUM(J26/I26)*100 -> 71.428571
A27: MINDÖSSZESEN: | B27: =SUM(B25:B26) -> 43084306 | C27: 46485319 | D27: =SUM(D25:D26) -> 21750651 | E27: =SUM(D27/C27)*100 -> 46.790366 | G27: MINDÖSSZESEN: | H27: =SUM(H25:H26) -> 43084306 | I27: 46485319 | J27: =SUM(J25:J26) -> 10218313 | K27: =SUM(J27/I27)*100 -> 21.981807

Sheet 2
A1: Rovat száma | B1: Megnevezés | C1: 2019. évi eredeti előirányzat | D1: 2019. évi módosított előirányzat | E1: Teljesítés az I. félévben | F1: Teljesítés %-a
A2: B | B2: BEVÉTELEK
A3: B1 | B3: Működési célú támogatások államháztartáson belülről
A4: B11 | B4: Önkormányzatok működési támogatásai
A5: B111 | B5: Helyi önkormányzatok működésének általános támogatása | C5: 101340 | D5: 108538 | E5: 61155 | F5: =SUM(E5/D5)*100 -> 56.344322
A6: B112 | B6: Települési önkormányzatok egyes köznevelési feladatainak tám. | C6: 986394 | D6: 988518 | E6: 500316 | F6: =SUM(E6/D6)*100 -> 50.612735
A7: B113 | B7: Települési önkormányzatok szociális és gyermekjóléti feladatainak támogatása | C7: 1168048 | D7: 1209290 | E7: 656855 | F7: =SUM(E7/D7)*100 -> 54.317409
A8: B114 | B8: Települési önkormányzatok kulturális feladatainak támogatása | C8: 715427 | D8: 744389 | E8: 491209 | F8: =SUM(E8/D8)*100 -> 65.988213
A9: B115 | B9: Működési célú költségvetési támogatások és kiegészítő támogatások | D9: 0
A10: B116 | B10: Elszámolásból származó bevételek | D10: 0
A11: B12 | B11: Elvonások és befizetések bevételei | E11: 3112
A12: B14 | B12: Működési célú visszatérítendő támogatások, kölcsönök visszatérülése államháztartáson belülről | C12: 45425 | D12: 45425 | E12: 12000 | F12: =SUM(E12/D12)*100 -> 26.417171
A13: B16 | B13: Egyéb működési célú támogatások bevételei államháztartáson belülről | C13: 614159 | D13: 707579 | E13: 275399 | F13: =SUM(E13/D13)*100 -> 38.921308
B14: Működési célú támogatások államháztartáson belülről összesen | C14: =SUM(C4:C13) -> 3630793 | D14: 3803739 | E14: =SUM(E5:E13) -> 2000046 | F14: =SUM(E14/D14)*100 -> 52.581052
A15: B2 | B15: Felhalmozási célú támogatások államháztartáson belülről
A16: B21 | B16: Felhalmozási célú önkormányzati támogatás
A17: B25 | B17: Egyéb felhalmozási célú támogatások bevételei államháztartáson belülről | C17: 6296455 | D17: 7802169 | E17: 4999531 | F17: =SUM(E17/D17)*100 -> 64.078732
B18: Felhalmozási célú támogatások államháztartáson belülről összesen | C18: =SUM(C16:C17) -> 6296455 | D18: 7802169 | E18: =SUM(E16:E17) -> 4999531 | F18: =SUM(E18/D18)*100 -> 64.078732
A19: B3 | B19: Közhatalmi bevételek
A20: B34 | B20: Vagyoni típusú adók (építményadó, magánszemélyek kommunális adója) | C20: 1020000 | D20: 1020000 | E20: 587121 | F20: =SUM(E20/D20)*100 -> 57.560882
A21: B35 | B21: Termékek és szolgáltatások adói
A22: B351 | B22: Értékesítési és forgalmi adók (iparűzési adó) | C22: 4100000 | D22: 4100000 | E22: 2086895 | F22: =SUM(E22/D22)*100 -> 50.899878
A23: B354 | B23: Gépjárműadók | C23: 264000 | D23: 264000 | E23: 142197 | F23: =SUM(E23/D23)*100 -> 53.8625
A24: B355 | B24: Egyéb áruhasználati és szolgáltatási adók ( idegenforgalmi adó) | C24: 20000 | D24: 20000 | E24: 7463 | F24: =SUM(E24/D24)*100 -> 37.315
A25: B36 | B25: Egyéb közhatalmi bevételek (különféle bírságok, talajterhelési díj) | C25: 10000 | D25: 10000 | E25: 29642 | F25: =SUM(E25/D25)*100 -> 296.42
B26: Közhatalmi bevételek összesen | C26: =SUM(C19:C25) -> 5414000 | D26: 5414000 | E26: =SUM(E20:E25) -> 2853318 | F26: =SUM(E26/D26)*100 -> 52.702586
A27: B4 | B27: Működési bevételek | C27: 6244796 | D27: 6541562 | E27: 1336834 | F27: =SUM(E27/D27)*100 -> 20.436006
A28: B5 | B28: Felhalmozási bevételek
A29: B52 | B29: Ingatlanok értékesítése | C29: 226720 | D29: 226720 | E29: 118605 | F29: =SUM(E29/D29)*100 -> 52.313426
A30: B53 | B30: Egyéb tárgyi eszközök értékesítése | D30: 450 | E30: 2400 | F30: =SUM(E30/D30)*100 -> 533.33333
B31: Felhalmozási bevételek összesen | C31: =SUM(C29:C30) -> 226720 | D31: 227170 | E31: =SUM(E29:E30) -> 121005 | F31: =SUM(E31/D31)*100 -> 53.266276
A32: B6 | B32: Működési célú átvett pénzeszközök | C32: 93949 | D32: 290883 | E32: 44781 | F32: =SUM(E32/D32)*100 -> 15.394849
A33: B7 | B33: Felhalmozási célú átvett pénzeszközök
A34: B72 | B34: Felhalmozási célú visszatérítendő támogatások, kölcsönök visszatérülése államháztartáson kívülről | C34: 5000 | D34: 5900 | E34: 7840 | F34: =SUM(E34/D34)*100 -> 132.88136
A35: B73 | B35: Egyéb felhalmozási célú átvett pénzeszközök | D35: 3124 | E35: 4224 | F35: =SUM(E35/D35)*100 -> 135.21127
B36: Felhalmozási célú átvett pénzeszközök összesen | C36: =SUM(C34:C35) -> 5000 | D36: 9024 | E36: =SUM(E34:E35) -> 12064 | F36: =SUM(E36/D36)*100 -> 133.68794
A37: B1-B7 | B37: Költségvetési bevételek | C37: =SUM(C14+C18+C26+C27+C31+C32+C36) -> 21911713 | D37: =SUM(D14+D18+D26+D27+D31+D32+D36) -> 24088547 | E37: =SUM(E14+E18+E26+E27+E31+E32+E36) -> 11367579 | F37: =SUM(E37/D37)*100 -> 47.190804
A38: B8 | B38: Finanszírozási bevételek
A39: B81 | B39: Belföldi finanszírozás bevételei
A40: B811 | B40: Hitel-, kölcsönfelvétel államháztartáson kívülről | C40: 190999 | D40: 340999 | E40: 174204 | F40: =SUM(E40/D40)*100 -> 51.086367
A41: B8121 | B41: Forgatási célú belföldi értékpapírok beváltása, értékesítése | C41: 11454275 | D41: 12256646 | E41: 410000 | F41: =SUM(E41/D41)*100 -> 3.3451239
A42: B813 | B42: Maradvány igénybevétele | C42: 9527319 | D42: 9798307 | E42: 9798307 | F42: =SUM(E42/D42)*100 -> 100
A43: B814 | B43: Államháztartáson belüli megelőlegezések | D43: 820 | E43: 561 | F43: =SUM(E43/D43)*100 -> 68.414634
B44: Finanszírozási bevételek összesen | C44: =SUM(C40:C42) -> 21172593 | D44: =SUM(D40:D43) -> 22396772 | E44: =SUM(E40:E43) -> 10383072 | F44: =SUM(E44/D44)*100 -> 46.359681
B45: BEVÉTELEK ÖSSZESEN: | C45: =SUM(C37+C44) -> 43084306 | D45: =SUM(D37+D44) -> 46485319 | E45: =SUM(E37+E44) -> 21750651 | F45: =SUM(E45/D45)*100 -> 46.790366

Sheet 3
B1: 2018. évi tervezett bevétel | G1: 2019. évi tervezett bevétel | L1: Ft-ban | M1: 2019. évi tervezett bevétel | R1: 2019. évi bevétel eredeti előirányzata | W1: 2019. évi bevétel módosított előirányzata | AD1: Teljesítés összege az I. félévben | AE1: Teljesítés %-a
A2: Hozzájárulás jogcíme | B2: létszám | C2: mutató | D2: Normatíva Ft/fő | E2: számított hozzájárulás | F2: Hozzájárulás ezer Ft-ban | G2: létszám | H2: mutató | I2: Normatíva Ft/fő | J2: számított hozzájárulás | K2: Hozzájárulás ezer Ft-ban | M2: létszám | N2: mutató | O2: Normatíva Ft/fő | P2: számított hozzájárulás | Q2: Hozzájárulás ezer Ft-ban | R2: létszám | S2: mutató | T2: Normatíva Ft/fő | U2: számított hozzájárulás | V2: Hozzájárulás ezer Ft-ban | W2: létszám | X2: mutató | Y2: Normatíva Ft/fő | Z2: számított hozzájárulás | AA2: Hozzájárulás ezer Ft-ban | AB2: Forintban
A3: 2. melléklet szerinti jogcímek | G3: 2018. évi eredeti mutatószámokkal | M3: 2018. októberi mutatószámokkal
A4: I. Helyi önkormányzatok működésének általános támogatása
A5: 1.a) önkormányzati hivatal működésének támogatása | C5: 132.85 | D5: 4580000 | E5: 608453 | H5: 132.45 | I5: 4580000 | J5: 606621 | N5: 132.45 | O5: 4580000 | P5: 606621 | S5: 132.45 | T5: 4580000 | U5: 606621 | X5: 132.45 | Y5: 4580000 | Z5: 606621 | AC5: 606621000
A6: 1.a) önkormányzati hivatal működésénak támogatása - beszámítás után | F6: 0 | K6: 0 | Q6: 0 | V6: 101260 | AA6: 101260 | AB6: 101259741 | AD6: 52655 | AE6: =SUM(AD6/AA6)*100 -> 51.999802
A7: 1.b) település-üzemeltetéshez kapcsolódó feladataellátás támogatása
A8: ba) zöldterület gazdálkodással kapcsolatos feladatok ellátásának támogatása (hektár) | C8: 2307.3 | D8: 22300 | E8: 51448 | H8: 2307.3 | I8: 22300 | J8: 51448 | N8: 2307.3 | O8: 22300 | P8: 51448 | S8: 2310 | T8: 22300 | U8: 51513 | X8: 2310 | Y8: 22300 | Z8: 51513 | AC8: 51513000
A9: bb) közvilágítás fenntartásának támogatása (km) | C9: 394.9 | D9: 415000 | E9: 164589 | H9: 394.9 | I9: 415000 | J9: 164589 | N9: 394.9 | O9: 415000 | P9: 164589 | S9: 399.2 | T9: 415000 | U9: 165668 | X9: 399.2 | Y9: 415000 | Z9: 165668 | AC9: 165668000
A10: bc) köztemető fenntartással kapcsolatos feladatok támogatása (m²) | C10: 323446 | D10: 70 | E10: 22641 | H10: 323446 | I10: 70 | J10: 22641 | N10: 323446 | O10: 70 | P10: 22641 | S10: 323446 | T10: 70 | U10: 22641 | X10: 323446 | Y10: 70 | Z10: 22641 | AC10: 22641220
A11: bd) közutak fenntartásának támogatása (km) | C11: 220.25 | D11: 470000 | E11: 102836 | H11: 220.25 | I11: 470000 | J11: 102836 | N11: 220.25 | O11: 470000 | P11: 102836 | S11: 219.09 | T11: 470000 | U11: 102972 | X11: 219.09 | Y11: 470000 | Z11: 102972 | AC11: 102972300
A12: 1.b) település-üzemeltetéshez kapcsolódó feladataellátás támogatása - beszámítás után | F12: 0 | K12: 0 | Q12: 0 | V12: 0 | AA12: 0
A13: 1.c) egyéb kötelező önkormányzati feladatok támogatása | B13: 58125 | D13: 2700 | E13: =SUM(B13*D13)/1000 -> 156937.5 | G13: 57914 | I13: 2700 | J13: =SUM(G13*I13)/1000 -> 156367.8 | M13: 57914 | O13: 2700 | P13: =SUM(M13*O13)/1000 -> 156367.8 | R13: 57914 | T13: 2700 | U13: =SUM(R13*T13)/1000 -> 156367.8 | W13: 57914 | Y13: 2700 | Z13: =SUM(W13*Y13)/1000 -> 156367.8 | AC13: 156367800
A14: 1.c) egyéb kötelező önkormányzati feladatok támogatása - beszámítás után | F14: 0 | K14: 0 | Q14: 0 | V14: 0 | AA14: 0
A15: 1.d) Lakott külterülettel kapcsolatos feladatok támogatása | B15: 3851 | D15: 2550 | E15: 9820 | G15: 3959 | I15: 2550 | J15: 10095 | M15: 3959 | O15: 2550 | P15: 10095 | R15: 3959 | T15: 2550 | U15: 10095 | W15: 3959 | Y15: 2550 | Z15: 10095 | AC15: 10095450
A16: 1.d) Lakott külterülettel kapcsolatos feladatok támogatása - beszámítás után | F16: 0 | K16: 0 | Q16: 0 | V16: 0 | AA16: 0
A17: 1.e) Üdülőhelyi feladatok támogatása | C17: 19471000 | D17: 1 | E17: 19471 | H17: 19912099 | I17: 1 | J17: 19912 | N17: 19912099 | O17: 1 | P17: 19912 | S17: 19912099 | T17: 1 | U17: 19912 | X17: 19912099 | Y17: 1 | Z17: 19912 | AC17: 19912099
A18: 1.e) Üdülőhelyi feladatok támogatása - beszámítás után | F18: 0 | K18: 0 | Q18: 0 | V18: 0 | AA18: 0
A19: V. Beszámítás összege | E19: -1165392 | J19: -1131984 | P19: -1131984 | U19: -103453 | Z19: -103453 | AC19: -1034531128
A20: I.2.Nem közművel összegyűjtött háztartási szennyvíz ártalmatlanítása | C20: 800 | D20: 100 | F20: =SUM(C20*D20)/1000 -> 80 | H20: 800 | I20: 100 | K20: =SUM(H20*I20)/1000 -> 80 | L20: 80000 | N20: 800 | O20: 100 | Q20: =SUM(N20*O20)/1000 -> 80 | S20: 800 | T20: 100 | V20: =SUM(S20*T20)/1000 -> 80 | X20: 800 | Y20: 100 | AA20: =SUM(X20*Y20)/1000 -> 80 | AB20: 80000 | AD20: 40 | AE20: =SUM(AD20/AA20)*100 -> 50
A21: I.5. A költségvetési szerveknél foglalkoztatottak 2018. évi áthúzódó és 2019. évi kompenzációja | AA21: 7198 | AB21: 7197767 | AD21: 8460 | AE21: =SUM(AD21/AA21)*100 -> 117.53265
A22: II. Települési önkormányzatok egyes köznevelési feladatainak támogatása
A23: 1. Óvodapedagógusok és az óvodapedagógusok nevelő munkáját közvetlenül segítők bértámogatása
A24: - óvodapedagógusok átlagbérének és közterheinek elismert összege 8 hó | C24: 138.2 | D24: 2946000 | F24: 407137 | H24: 138.2 | I24: 2914333 | K24: 402761 | L24: 407137200 | N24: 140.4 | O24: 2914333 | Q24: 409172 | S24: 140.4 | T24: 2914333 | V24: 409172 | X24: 140.3 | Y24: 2914333 | AA24: 408881 | AB24: 408880967 | AD24: 310971 | AE24: =SUM(AD24/AA24)*100 -> 76.054158
A25: - óvodapedagógusok átlagbérének és közterheinek elismert összege 4 hó | C25: 133 | D25: 1473000 | F25: 195909 | H25: 133 | I25: 1457167 | K25: 193803 | L25: 195909000 | N25: 140.4 | O25: 1457167 | Q25: 204586 | S25: 139.6 | T25: 1457167 | V25: 203420 | X25: 139.6 | Y25: 1457167 | AA25: 203420 | AB25: 203420467 | AE25: =SUM(AD25/AA25)*100 -> 0
A26: - óvodapedagógusok nevelő munkáját közvetlenük segítők átlagbérének és közterheinek elismert összege 8 hó | C26: 91 | D26: 1470000 | F26: 133770 | H26: 91 | I26: 1470000 | K26: 133770 | L26: 133770000 | N26: 91 | O26: 1470000 | Q26: 133770 | S26: 91 | T26: 1470000 | V26: 133770 | X26: 91 | Y26: 1470000 | AA26: 133770 | AB26: 133770000 | AD26: 101665 | AE26: =SUM(AD26/AA26)*100 -> 75.99985
A27: - óvodapedagógusok nevelő munkáját közvetlenük segítők átlagbérének és közterheinek elismert összege 4 hó | C27: 91 | D27: 735000 | F27: 66885 | H27: 91 | I27: 735000 | K27: 66885 | L27: 66885000 | N27: 91 | O27: 735000 | Q27: 66885 | S27: 91 | T27: 735000 | V27: 66885 | X27: 91 | Y27: 735000 | AA27: 66885 | AB27: 66885000 | AE27: =SUM(AD27/AA27)*100 -> 0
A28: 2. Óvodaműködtetési támogatás 8 hóra | B28: 1540 | D28: 54467 | F28: 83879 | G28: 1540 | I28: 64933 | K28: 99997 | L28: 83878667 | M28: 1580 | O28: 64933 | Q28: 102594 | R28: 1580 | T28: 64933 | V28: 102595 | W28: 1578 | Y28: 64933 | AA28: 102465 | AB28: 102464800 | AC28: 81700-ról 97400-ra | AD28: 77972 | AE28: =SUM(AD28/AA28)*100 -> 76.096228
A29: 4 hóra | B29: 1497 | D29: 27233 | F29: 40768 | G29: 1497 | I29: 32467 | K29: 48603 | L29: 40768300 | M29: 1580 | O29: 32467 | Q29: 51298 | R29: 1575 | T29: 32467 | V29: 51135 | W29: 1575 | Y29: 32467 | AA29: 51135 | AB29: 51135000 | AE29: =SUM(AD29/AA29)*100 -> 0
A30: 5. Kiegészítő támogatás az óvodapedagógusok minősítéséből adódó többletkiadásokhoz
A31: (1) Pedagógus II. kategóriába sorolt óvodapedagógusok kiegészítő támogatása | B31: 35 | D31: 401000 | F31: 14035 | G31: 35 | I31: 396700 | K31: 13885 | L31: 14035000 | M31: 35 | O31: 396700 | Q31: 13885 | R31: 38 | T31: 396700 | V31: 15075 | W31: 38 | Y31: 396700 | AA31: 15075 | AB31: 15074600 | AD31: 7537 | AE31: =SUM(AD31/AA31)*100 -> 49.996683
A32: (2) Pedagógus II. kategóriába sorolt óvodapedagógusok kiegészítő támogatása, akik a minősítés 2019. jan-1-jei átsorolással szerezték meg | B32: 7 | D32: 367584 | F32: 2573 | G32: 7 | I32: 363642 | K32: 2545 | L32: 2573088 | M32: 7 | O32: 363642 | Q32: 2545 | T32: 363642 | W32: 7 | Y32: 363642 | AA32: 2545 | AB32: 2545494 | AC32: évközben | AE32: =SUM(AD32/AA32)*100 -> 0
A33: (2) Mesterpedagógus kategóriába sorolt óvodapedagógusok kiegészítő támogatása | B33: 3 | D33: 1463000 | F33: 4389 | G33: 3 | I33: 1447300 | K33: 4342 | L33: 4389000 | M33: 3 | O33: 1447300 | Q33: 4342 | R33: 3 | T33: 1447300 | V33: 4342 | W33: 3 | Y33: 1447300 | AA33: 4342 | AB33: 4341900 | AD33: 2171 | AE33: =SUM(AD33/AA33)*100 -> 50
A34: III. Települési önkormányzatok szociális és gyermekjóléti feladatainak támogatása
A35: 3.a) Család és gyermekjóléti szolgálat
A36: - járásszékhely település | B36: 58125 | C36: 7.3 | D36: 3400000 | F36: =SUM(C36*D36)/1000 -> 24820 | G36: 57914 | H36: 7.2 | I36: 3000000 | K36: =SUM(H36*I36)/1000 -> 21600 | L36: 24820000 | M36: 57914 | N36: 7.2 | O36: 3000000 | Q36: =SUM(N36*O36)/1000 -> 21600 | R36: 57914 | S36: 7.3 | T36: 3000000 | V36: =SUM(S36*T36)/1000 -> 21900 | W36: 57914 | X36: 7.3 | Y36: 3000000 | AA36: =SUM(X36*Y36)/1000 -> 21900 | AB36: 21900000 | AD36: 11388 | AE36: =SUM(AD36/AA36)*100 -> 52
A37: - egyéb önkormányzatok (Nagypáli Közös Önk. Hivatal) | B37: 4042 | C37: 1 | D37: 3400000 | F37: =SUM(C37*D37)/1000 -> 3400 | G37: 4042 | H37: 1 | I37: 3000000 | K37: =SUM(H37*I37)/1000 -> 3000 | L37: 3400000 | M37: 4042 | N37: 1 | O37: 3000000 | Q37: =SUM(N37*O37)/1000 -> 3000 | R37: 4042 | S37: 1 | T37: 3000000 | V37: =SUM(S37*T37)/1000 -> 3000 | W37: 4042 | X37: 1 | Y37: 3000000 | AA37: =SUM(X37*Y37)/1000 -> 3000 | AB37: 3000000 | AD37: 1560 | AE37: =SUM(AD37/AA37)*100 -> 52
A38: -községek száma miatti kiegészítő létszám | C38: 1 | D38: 3400000 | F38: =SUM(C38*D38)/1000 -> 3400 | H38: 1 | I38: 3000000 | K38: =SUM(H38*I38)/1000 -> 3000 | L38: 3400000 | N38: 1 | O38: 3000000 | Q38: =SUM(N38*O38)/1000 -> 3000 | S38: 1 | T38: 3000000 | V38: =SUM(S38*T38)/1000 -> 3000 | X38: 1 | Y38: 3000000 | AA38: =SUM(X38*Y38)/1000 -> 3000 | AB38: 3000000 | AD38: 1560 | AE38: =SUM(AD38/AA38)*100 -> 52
A39: b) Gyermekjóléti Központ
A40: b.) Család- és gyermekjóléti központ ( járáshoz tartozó összes településre) | B40: 100900 | C40: 22.8 | D40: 3300000 | F40: =SUM(C40*D40)/1000 -> 75240 | G40: 100900 | H40: 22.8 | I40: 3000000 | K40: =SUM(H40*I40)/1000 -> 68400 | L40: 75240000 | M40: 100900 | N40: 22.8 | O40: 3000000 | Q40: =SUM(N40*O40)/1000 -> 68400 | R40: 100900 | S40: 23.8 | T40: 3000000 | V40: =SUM(S40*T40)/1000 -> 71400 | W40: 100900 | X40: 23.8 | Y40: 3000000 | AA40: =SUM(X40*Y40)/1000 -> 71400 | AB40: 71400000 | AD40: 37128 | AE40: =SUM(AD40/AA40)*100 -> 52
A41: c) Szociális étkeztetés | C41: 355 | D41: 60896 | F41: 21618 | H41: 355 | I41: 60896 | K41: 21618 | L41: 21618080 | N41: 337 | O41: 60896 | Q41: 20522 | S41: 340 | T41: 60896 | V41: 20705 | X41: 340 | Y41: 60896 | AA41: 20705 | AB41: 20704640 | AD41: 10767 | AE41: =SUM(AD41/AA41)*100 -> 52.001932
A42: d) Házi segítségnyújtás | F42: =SUM(C42*D42)/1000 -> 0
A43: da) szociális segítés | C43: 4 | D43: 25000 | F43: =SUM(C43*D43)/1000 -> 100 | H43: 4 | I43: 25000 | K43: =SUM(H43*I43)/1000 -> 100 | L43: 100000 | N43: 2 | O43: 25000 | Q43: =SUM(N43*O43)/1000 -> 50 | S43: 3 | T43: 25000 | V43: =SUM(S43*T43)/1000 -> 75 | X43: 3 | Y43: 25000 | AA43: =SUM(X43*Y43)/1000 -> 75 | AB43: 75000 | AD43: 39 | AE43: =SUM(AD43/AA43)*100 -> 52
A44: db) személyi gondozás | C44: 55 | D44: 429000 | F44: =SUM(C44*D44)/1000 -> 23595 | H44: 55 | I44: 273000 | K44: =SUM(H44*I44)/1000 -> 15015 | L44: 23595000 | N44: 52 | O44: 273000 | Q44: =SUM(N44*O44)/1000 -> 14196 | S44: 52 | T44: 273000 | V44: =SUM(S44*T44)/1000 -> 14196 | X44: 52 | Y44: 273000 | AA44: =SUM(X44*Y44)/1000 -> 14196 | AB44: 14196000 | AD44: 7382 | AE44: =SUM(AD44/AA44)*100 -> 52.000564
A45: f) Időskorúak nappali intézményi ellátása | C45: 75 | D45: 163500 | F45: 12262 | H45: 75 | I45: 163500 | K45: 12262 | L45: 12262500 | N45: 75 | O45: 163500 | Q45: 12262 | S45: 75 | T45: 163500 | V45: 12263 | X45: 75 | Y45: 163500 | AA45: 12263 | AB45: 12262500 | AD45: 6377 | AE45: =SUM(AD45/AA45)*100 -> 52.001957
A46: g) Fogyatékos és demens személyek nappali intézményi ellátása | C46: 4 | D46: 550000 | F46: =SUM(C46*D46)/1000 -> 2200 | H46: 4 | I46: 550000 | K46: =SUM(H46*I46)/1000 -> 2200 | L46: 2200000 | N46: 3 | O46: 550000 | Q46: =SUM(N46*O46)/1000 -> 1650 | S46: 4 | T46: 550000 | V46: =SUM(S46*T46)/1000 -> 2200 | X46: 4 | Y46: 550000 | AA46: =SUM(X46*Y46)/1000 -> 2200 | AB46: 2200000 | AD46: 1144 | AE46: =SUM(AD46/AA46)*100 -> 52
A47: h) Pszichiátriai és szenvedélybetegek nappali intézményi ellátása | C47: 24 | D47: 372000 | F47: =SUM(C47*D47)/1000 -> 8928 | H47: 24 | I47: 372000 | K47: =SUM(H47*I47)/1000 -> 8928 | L47: 8928000 | N47: 25 | O47: 372000 | Q47: =SUM(N47*O47)/1000 -> 9300 | S47: 24 | T47: 372000 | V47: =SUM(S47*T47)/1000 -> 8928 | X47: 24 | Y47: 372000 | AA47: =SUM(X47*Y47)/1000 -> 8928 | AB47: 8928000 | AD47: 4643 | AE47: =SUM(AD47/AA47)*100 -> 52.004928
A48: j) Gyermekek napközbeni ellátása
A49: n) Óvodai és iskolai szociális segítő tevékenység támogatása | F49: * | V49: 54570 | AA49: 54570 | AB49: 54569961 | AD49: 28376 | AE49: =SUM(AD49/AA49)*100 -> 51.999267
A50: o) kiegészítő fajlagos összegek 2017. és 2018. éviminimálbér és garantált bérminimum összegét érintő intézkedésekhez | F50: *
A51: oa) Család- és gyermekjóléti szolgálat | F51: * | H51: 9.2 | I51: 400000 | K51: 3680 | N51: 9.2 | O51: 400000 | Q51: 3680 | S51: 9.3 | T51: 400000 | V51: 3720 | X51: 9.3 | Y51: 400000 | AA51: 3720 | AB51: 3720000 | AD51: 1934 | AE51: =SUM(AD51/AA51)*100 -> 51.989247
A52: oa) Család- és gyermekjóléti központ | F52: * | H52: 22.8 | I52: 300000 | K52: 840 | N52: 22.8 | O52: 300000 | Q52: 840 | S52: 23.8 | T52: 300000 | V52: 7140 | X52: 23.8 | Y52: 300000 | AA52: 7140 | AB52: 7140000 | AD52: 3713 | AE52: =SUM(AD52/AA52)*100 -> 52.002801
A53: ob) Házi segítségnyújtás-személyi gondozás | F53: * | H53: 55 | I53: 120000 | K53: 6600 | N53: 52 | O53: 120000 | Q53: 6240 | S53: 52 | T53: 156000 | V53: 8112 | X53: 52 | Y53: 156000 | AA53: 8112 | AB53: 8112000 | AD53: 4218 | AE53: =SUM(AD53/AA53)*100 -> 51.997041
A54: 4. települési önk. által az idős és hajléktalan személyek részére nyújtott szociális szakosított ellátási feladatok
A55: a) a kötelezően foglalkoztatott szakmai dolgozók bértámogatása | C55: 37.25 | D55: 2848000 | F55: =SUM(C55*D55)/1000 -> 106088 | H55: 37.25 | I55: 2606040 | K55: =SUM(H55*I55)/1000 -> 97074.99 | L55: 106088000 | N55: 37.25 | O55: 2606040 | Q55: =SUM(N55*O55)/1000 -> 97074.99 | S55: 37.25 | T55: 2606040 | V55: =SUM(S55*T55)/1000 -> 97074.99 | X55: 37.25 | Y55: 2606040 | AA55: =SUM(X55*Y55)/1000 -> 97074.99 | AB55: 97074990 | AD55: 50479 | AE55: =SUM(AD55/AA55)*100 -> 52.000005
A56: b) intézmény üzemeltetési támogatás | F56: 4477 | K56: 4477 | L56: 4477000 | Q56: 4477 | V56: 20645 | AA56: 20645 | AB56: 20645000 | AD56: 10735 | AE56: =SUM(AD56/AA56)*100 -> 51.998062
A57: c) kiegészítő fajlagos összeg (2017-2018. évi minimálbér és garantált bérminimum emeléshez) | H57: 37.25 | I57: 241960 | K57: 9013 | N57: 37.25 | O57: 241960 | Q57: 9013 | S57: 37.25 | T57: 241960 | V57: 9013 | X57: 37.25 | Y57: 241960 | AA57: 9013 | AB57: 9013010 | AD57: 4687 | AE57: =SUM(AD57/AA57)*100 -> 52.002663
A58: III.5.Gyermekétkeztetés támogatása
A59: a) a finanszírozás szempontjából elismert szakmai dolgozók bértámogatása | B59: 105.59 | D59: 1900000 | F59: 200621 | G59: 105.59 | I59: 1900000 | K59: 200621 | L59: 200621000 | M59: 110.36 | O59: 1900000 | Q59: 209684 | R59: 106.43 | T59: 1900000 | V59: 202407 | W59: 106.43 | Y59: 1900000 | AA59: 202407 | AB59: 202407000 | AD59: 105252 | AE59: =SUM(AD59/AA59)*100 -> 52.000178
A60: b) Gyermekétkeztetés-üzemeltetési támogatás | F60: 175118 | K60: 175118 | L60: 175117817 | Q60: 175118 | V60: 252877 | AA60: 252877 | AB60: 252877032 | AD60: 131496 | AE60: =SUM(AD60/AA60)*100 -> 51.999984
A61: - szünidei étkeztetés | B61: 2310 | C61: adag | D61: 285 | F61: 658 | G61: 2310 | H61: adag | I61: 285 | K61: 658 | L61: 658350 | M61: 2310 | N61: adag | O61: 285 | Q61: 658 | R61: 2046 | S61: adag | T61: 285 | V61: 576 | W61: 2046 | X61: adag | Y61: 285 | AA61: 576 | AB61: 576270 | AD61: 299 | AE61: =SUM(AD61/AA61)*100 -> 51.909722
A62: III.6.Bölcsődében a finanszírozás szempontból elismert szakmai dolgozók bértámogatása
A63: - felsőfokú végzettségű kisgyermeknevelők | C63: 17 | D63: 4419000 | F63: =SUM(C63*D63)/1000 -> 75123 | H63: 17 | I63: 4419000 | K63: =SUM(H63*I63)/1000 -> 75123 | N63: 17 | O63: 4419000 | Q63: =SUM(N63*O63)/1000 -> 75123 | S63: 17 | T63: 4419000 | V63: =SUM(S63*T63)/1000 -> 75123 | X63: 17 | Y63: 4419000 | AA63: =SUM(X63*Y63)/1000 -> 75123 | AB63: 75123000 | AD63: 39064 | AE63: =SUM(AD63/AA63)*100 -> 52.000053
A64: - bölcsődei dajkák,középfokú végzettségű kisgyermeknevelők | C64: 50.3 | D64: 2993000 | F64: 150548 | H64: 50.3 | I64: 2993000 | K64: 150548 | N64: 50.3 | O64: 2993000 | Q64: 150548 | S64: 52.4 | T64: 2993000 | V64: 156833 | X64: 52.4 | Y64: 2993000 | AA64: 156833 | AB64: 156833200 | AD64: 81553 | AE64: =SUM(AD64/AA64)*100 -> 51.999898
A65: - bölcsődei üzemeltetési támogatás | V65: 122290 | AA65: 122290 | AB65: 122290000 | AD65: 63591 | AE65: =SUM(AD65/AA65)*100 -> 52.000164
A66: Szociális ágazati összevont pétlék | AA66: 39970 | AB66: 39970698 | AD66: 47971 | AE66: =SUM(AD66/AA66)*100 -> 120.01751
A67: Szociális ágazatban egészségügyi végzettséghez kötött munkakörben foglalkoztatottak egészségügyi kiegészítő pótléka | AA67: 1272 | AB67: 1271707 | AD67: 1499 | AE67: =SUM(AD67/AA67)*100 -> 117.84591
A68: IV. Települési önk. kulturális feladatainak támogatása
A69: 1.a) megyei hatókörű városi múzeumok feldataiank támogatása ( Göcseji Múzeum) | F69: 106000 | K69: 106000 | L69: 106000000 | Q69: 106000 | V69: 108200 | AA69: 108200 | AB69: 108200000 | AD69: 56264 | AE69: =SUM(AD69/AA69)*100 -> 52
A70: 1.b) megyei hatáskörű könyvtárak feladatainak támogatása ( (Deák Ferenc Megyei Könyvtár és a városi könyvtár) | F70: 134700 | K70: 134700 | L70: 134700000 | Q70: 134700 | V70: 135000 | AA70: 135000 | AB70: 135000000 | AD70: 70200 | AE70: =SUM(AD70/AA70)*100 -> 52
A71: 1.c) megyei jogú városok közművelődési támogatása | B71: 58125 | D71: 454 | F71: 26389 | G71: 57914 | I71: 454 | K71: 26389 | L71: 26388750 | M71: 57914 | O71: 454 | Q71: 26389 | R71: 57914 | T71: 454 | V71: 26293 | W71: 57914 | Y71: 454 | AA71: 26293 | AB71: 26292956 | AD71: 13672 | AE71: =SUM(AD71/AA71)*100 -> 51.998631
A72: 1.h) megyei hatókörű könyvtár kistelepülési könyvtári és közművelődési célú kieg. támogatása | F72: 174474 | K72: 174474 | L72: 174473540 | Q72: 174474 | V72: 175534 | AA72: 175534 | AB72: 175534300 | AD72: 175534 | AE72: =SUM(AD72/AA72)*100 -> 100
A73: 2. Települési önk.által fenntartott előadó-művészeti szervezetek támogatása
A74: 2.a) színházművészeti szervezetek támogatása
A75: Hevesi Sándor Színház és Griff Bábszínház állami támogatása | F75: 264200 | K75: 264200 | L75: 264200000 | Q75: 264200 | V75: 270400 | AA75: 270400 | AB75: 270400000 | AD75: 140608 | AE75: =SUM(AD75/AA75)*100 -> 52
A76: Könyvtári érdekeltség növelő támogatás | AD76: 183
A77: Kulturális illetménypótlék | AA77: 28962 | AB77: 28961831 | AD77: 34748 | AE77: =SUM(AD77/AA77)*100 -> 119.9779
A78: Állami hozzájárulás összesen: | F78: =SUM(F20:F75) -> 2543384 | K78: =SUM(K20:K75) -> 2552310 | L78: =SUM(L20:L75) -> 2317713292 | Q78: =SUM(Q20:Q75) -> 2581356 | V78: =SUM(V6:V75) -> 2971209 | AA78: =SUM(AA6:AA77) -> 3050735 | AB78: =SUM(AB6:AB77) -> 3050734831 | AC78: =SUM(AC6:AC77) -> -505361259 | AD78: =SUM(AD6:AD77) -> 1709535 | AE78: =SUM(AD78/AA78)*100 -> 56.036824
K81: =SUM(K78-F78) -> 8925.99 | Q81: =SUM(Q78-F78) -> 37971.99

Sheet 4
A3: Rovat száma | B3: Megnevezés | C3: 2019. évi eredeti előirányzat | D3: 2019. évi módosított előirányzat | E3: 2019. I. félévi teljesítés | F3: Teljesítés %-a
B4: Költségvetési kiadások
A5: K1 | B5: Személyi juttatások | C5: 4034936 | D5: 4176627 | E5: ='6'!H18 -> 1967723 | F5: =E5/D5*100 -> 47.11273
A6: K2 | B6: Munkaadókat terhelő járulékok és szociális hj. adó | C6: 834475 | D6: 869205 | E6: ='6'!I18 -> 419799 | F6: =E6/D6*100 -> 48.296892
A7: K3 | B7: Dologi kiadások | C7: 7205741 | D7: 9443612 | E7: ='6'!J18 -> 2457164 | F7: =E7/D7*100 -> 26.019324
A8: K4 | B8: Ellátottak pénzbeli juttatásai | C8: 103630 | D8: 99457 | E8: ='6'!K18 -> 41241 | F8: =E8/D8*100 -> 41.466161
A9: K5 | B9: Egyéb működési célú kiadások | C9: 2058427 | D9: 2126813 | E9: ='6'!L18 -> 891665 | F9: =E9/D9*100 -> 41.924937
B10: Működési költségvetés összesen: | C10: 14237209 | D10: 16715714 | E10: =SUM(E5:E9) -> 5777592 | F10: =E10/D10*100 -> 34.563836
A11: K6 | B11: Beruházások | C11: 22397674 | D11: 21909412 | E11: ='6'!M18 -> 1564057 | F11: =E11/D11*100 -> 7.1387448
A12: K7 | B12: Felújítások | C12: 4071334 | D12: 4359579 | E12: ='6'!N18 -> 397874 | F12: =E12/D12*100 -> 9.1264317
A13: K8 | B13: Egyéb felhalmozási célú kiadások | C13: 190576 | D13: 512281 | E13: ='6'!O18 -> 357742 | F13: =E13/D13*100 -> 69.833158
B14: Felhalmozási költségvetés összesen: | C14: 26659584 | D14: 26781272 | E14: =SUM(E11:E13) -> 2319673 | F14: =E14/D14*100 -> 8.661549
A15: K1-K8 | B15: Költségvetési kiadások összesen: | C15: 40896793 | D15: 43496986 | E15: =SUM(E14+E10) -> 8097265 | F15: =E15/D15*100 -> 18.615692
A16: K9 | B16: Finanszírozási kiadások | C16: 2187513 | D16: 2988333 | E16: ='6'!P18+'6'!Q18 -> 2121048 | F16: =E16/D16*100 -> 70.977632
B17: Önkormányzat kiadásai összesen | C17: 43084306 | D17: 46485319 | E17: =SUM(E15:E16) -> 10218313 | F17: =E17/D17*100 -> 21.981807

Sheet 5
A1: Cím szám | B1: Alcím szám | C1: Megnevezés | D1: Előirányzat | F1: Teljesítés | H1: Költségvetési bevételek | O1: Finanszírozási bevételek
D2: Eredeti | E2: Módosított | F2: Összege | G2: %-a | H2: Működési célú támogatások áht-n belülről | I2: Felhalmozási célú támogatások áht-n belülről | J2: Közhatalmi bevételek | K2: Működési bevételek | L2: Felhalmozási bevételek | M2: Működési célú átvett pénzeszközök | N2: Felhalmozási célú átvett pénzeszközök | O2: Hitel-, kölcsönfelvétel áht-n kívülről | P2: Maradvány igénybevétele | Q2: Egyéb finanszírozási bevétel
C3: Önkormányzat
B4: 12 | C4: Szociális és igazgatási feladatok | D4: 9906 | E4: 9906 | F4: =SUM(H4:Q4) -> 9874 | G4: =F4/E4*100 -> 99.676963 | H4: ='5.a'!I16 -> 0 | I4: ='5.a'!J16 -> 0 | J4: ='5.a'!K16 -> 436 | K4: ='5.a'!L16 -> 9373 | L4: ='5.a'!M16 -> 0 | M4: ='5.a'!N16 -> 0 | N4: ='5.a'!O16 -> 65 | O4: ='5.a'!P16 -> 0 | ... Q4: ='5.a'!R16 -> 0
B5: 13 | C5: Humánigazgatási feladatok | D5: 69546 | E5: 68784 | F5: =SUM(H5:Q5) -> 47868 | G5: =F5/E5*100 -> 69.591766 | H5: ='5.a'!I31 -> 22134 | I5: ='5.a'!J31 -> 22002 | J5: ='5.a'!K31 -> 0 | K5: ='5.a'!L31 -> 3433 | L5: ='5.a'!M31 -> 0 | M5: ='5.a'!N31 -> 299 | N5: ='5.a'!O31 -> 0 | O5: ='5.a'!P31 -> 0 | ... Q5: ='5.a'!R31 -> 0
B6: 14 | C6: Főépítészi feladatok | D6: 5080 | E6: 5311 | F6: =SUM(H6:Q6) -> 497 | G6: =F6/E6*100 -> 9.3579364 | H6: ='5.a'!I35 -> 0 | I6: ='5.a'!J35 -> 0 | J6: ='5.a'!K35 -> 0 | K6: ='5.a'!L35 -> 497 | L6: ='5.a'!M35 -> 0 | M6: ='5.a'!N35 -> 0 | N6: ='5.a'!O35 -> 0 | O6: ='5.a'!P35 -> 0 | ... Q6: ='5.a'!R35 -> 0
B7: 15 | C7: Városüzemelési felad. | D7: 498453 | E7: 502973 | F7: =SUM(H7:Q7) -> 164025 | G7: =F7/E7*100 -> 32.611094 | H7: ='5.a'!I67 -> 2757 | I7: ='5.a'!J67 -> 1000 | J7: ='5.a'!K67 -> 967 | K7: ='5.a'!L67 -> 158201 | L7: ='5.a'!M67 -> 0 | M7: ='5.a'!N67 -> 0 | N7: ='5.a'!O67 -> 1100 | O7: ='5.a'!P67 -> 0 | ... Q7: ='5.a'!R67 -> 0
B8: 16 | C8: Városépítészeti feladatok | D8: 10376509 | E8: 12323901 | F8: =SUM(H8:Q8) -> 5265996 | G8: =F8/E8*100 -> 42.729944 | H8: ='5.a'!I105 -> 52259 | I8: ='5.a'!J105 -> 4936029 | J8: ='5.a'!K105 -> 0 | K8: ='5.a'!L105 -> 277708 | L8: ='5.a'!M105 -> 0 | M8: ='5.a'!N105 -> 0 | N8: ='5.a'!O105 -> 0 | O8: ='5.a'!P105 -> 0 | ... Q8: ='5.a'!R105 -> 0
B9: 17 | C9: Vagyonkez. feladatok | D9: 949315 | E9: 953457 | F9: =SUM(H9:Q9) -> 435796 | G9: =F9/E9*100 -> 45.706938 | H9: ='5.a'!I137 -> 0 | I9: ='5.a'!J137 -> 0 | J9: ='5.a'!K137 -> 0 | K9: ='5.a'!L137 -> 171220 | L9: ='5.a'!M137 -> 118605 | M9: ='5.a'!N137 -> 0 | N9: ='5.a'!O137 -> 6354 | O9: ='5.a'!P137 -> 0 | ... Q9: ='5.a'!R137 -> 0
B10: 18 | C10: Jogi és közig. feladatok | D10: 81944 | E10: 111944 | F10: =SUM(H10:Q10) -> 69987 | G10: =F10/E10*100 -> 62.519653 | H10: ='5.a'!I147 -> 0 | I10: ='5.a'!J147 -> 30000 | J10: ='5.a'!K147 -> 1768 | K10: ='5.a'!L147 -> 38219 | L10: ='5.a'!M147 -> 0 | M10: ='5.a'!N147 -> 0 | N10: ='5.a'!O147 -> 0 | O10: ='5.a'!P147 -> 0 | ... Q10: ='5.a'!R147 -> 0
B11: 19 | C11: Pénzügyi lebonyolítás | D11: 29122465 | E11: 30183561 | F11: =SUM(H11:Q11) -> 14389846 | G11: =F11/E11*100 -> 47.674448 | H11: ='5.a'!I190 -> 1732995 | I11: ='5.a'!J190 -> 0 | J11: ='5.a'!K190 -> 2850147 | K11: ='5.a'!L190 -> 119287 | L11: ='5.a'!M190 -> 0 | M11: ='5.a'!N190 -> 6640 | N11: ='5.a'!O190 -> 1421 | O11: ='5.a'!P190 -> 174204 | ... Q11: ='5.a'!R190 -> 410561
B12: 20 | C12: Építéshatósági feladatok | D12: 0 | E12: 0 | F12: =SUM(H12:Q12) -> 0 | H12: ='5.a'!I192 -> 0 | I12: ='5.a'!J192 -> 0 | J12: ='5.a'!K192 -> 0 | K12: ='5.a'!L192 -> 0 | L12: ='5.a'!M192 -> 0 | M12: ='5.a'!N192 -> 0 | N12: ='5.a'!O192 -> 0 | O12: ='5.a'!P192 -> 0 | ... Q12: ='5.a'!R192 -> 0
B13: 22 | C13: Polgármesteri Kabinet | D13: 0 | E13: 6361 | F13: =SUM(H13:Q13) -> 8362 | G13: =F13/E13*100 -> 131.45732 | H13: ='5.a'!I205 -> 3005 | I13: ='5.a'!J205 -> 0 | J13: ='5.a'!K205 -> 0 | K13: ='5.a'!L205 -> 1811 | L13: ='5.a'!M205 -> 0 | M13: ='5.a'!N205 -> 422 | N13: ='5.a'!O205 -> 3124 | O13: ='5.a'!P205 -> 0 | ... Q13: ='5.a'!R205 -> 0
C14: Önkormányzat összesen költségvetési szervek nélkül | D14: =SUM(D4:D13) -> 41113218 | E14: =SUM(E4:E13) -> 44166198 | F14: =SUM(F4:F13) -> 20392251 | G14: =F14/E14*100 -> 46.171624 | H14: =SUM(H4:H13) -> 1813150 | I14: =SUM(I4:I13) -> 4989031 | J14: =SUM(J4:J13) -> 2853318 | K14: =SUM(K4:K13) -> 779749 | L14: =SUM(L4:L13) -> 118605 | M14: =SUM(M4:M13) -> 7361 | N14: =SUM(N4:N13) -> 12064 | O14: =SUM(O4:O13) -> 174204 | ... Q14: =SUM(Q4:Q13) -> 410561
A15: 2 | C15: Költségvetési szervek | D15: 1971088 | E15: 2319121 | F15: =SUM(H15:Q15) -> 1358400 | G15: =F15/E15*100 -> 58.573917 | H15: ='7'!G21 -> 186896 | I15: ='7'!H21 -> 10500 | J15: ='7'!I21 -> 0 | K15: ='7'!J21 -> 557085 | L15: ='7'!K21 -> 2400 | M15: ='7'!L21 -> 37420 | N15: ='7'!M21 -> 0 | P15: ='7'!N21 -> 564099 | Q15: ='7'!P21 -> 0
C16: Önkormányzat összesen: | D16: =SUM(D14:D15) -> 43084306 | E16: =SUM(E14:E15) -> 46485319 | F16: =SUM(F14:F15) -> 21750651 | G16: =F16/E16*100 -> 46.790366 | H16: =SUM(H14:H15) -> 2000046 | I16: =SUM(I14:I15) -> 4999531 | J16: =SUM(J14:J15) -> 2853318 | K16: =SUM(K14:K15) -> 1336834 | L16: =SUM(L14:L15) -> 121005 | M16: =SUM(M14:M15) -> 44781 | N16: =SUM(N14:N15) -> 12064 | O16: =SUM(O14:O15) -> 174204 | ... Q16: =SUM(Q14:Q15) -> 410561

Sheet 5.a
A1: Cím szám | B1: Alcím szám | C1: Megnevezés | D1: Tervezési alapegység | E1: Előirányzat | G1: Teljesítés | I1: Költségvetési bevételek | P1: Finanszírozási bevételek
E2: Eredeti | F2: Módosított | G2: Összege | H2: %-a | I2: Működési célú támogatások áht-n belülről | J2: Felhalmozási célú támogatások áht-n belülről | K2: Közhatalmi bevételek | L2: Működési bevételek | M2: Felhalmozási bevételek | N2: Működési célú átvett pénzeszközök | O2: Felhalmozási célú átvett pénzeszközök | P2: Hitel-, kölcsönfelvétel áht-n kívülről | Q2: Maradvány igénybevétele | R2: Egyéb finanszírozási bevétel
A3: 1 | C3: Önkormányzat
A4: 1 | B4: 1 | C4: Szakosztályok
A5: 1 | B5: 12 | C5: Szociális és igazgatási feladatok
C6: 011130 Önkorm. és önkorm. hivatal. jogalk. és ált.ig.tev.
C7: - Egerszeg kártya értékesítés | D7: 221 902 | E7: 9906 | F7: 9906 | G7: 7127 | H7: =G7/F7*100 -> 71.946295 | L7: 7127
C8: - Igazgatási bírság | D8: 121602 | G8: 436 | K8: 436
C9: 107060 Egyéb szociális pénzbeli ellátások, támogatások
C10: - jogtalanul felvett segélyek visszafizetése | D10: 121126 | G10: =SUM(I10:R10) -> 13 | L10: 13
C11: - köztemetés | D11: 121203 | G11: 2233 | L11: 2233
C12: 061030 Lakáshoz jutást segítő támogatások
C13: - az ideiglenesen nehéz helyzetbe került zeg-i polgárok számára (Lakásalapból) nyújtott kamatmentes kölcsön törlesztése | D13: 121402 | G13: 65 | O13: 65
C14: 084031 Civil szervezetek műk. támogatása
C15: - Eü. és szoc. ágazatipályázati kerete | D15: 128901 | G15: 1 | N15: 1
C16: Szociális és igazgatási feladatok összesen: | E16: =SUM(E5:E13) -> 9906 | F16: =SUM(F5:F13) -> 9906 | G16: =SUM(G5:G13) -> 9874 | H16: =G16/F16*100 -> 99.676963 | I16: =SUM(I5:I13) -> 0 | J16: =SUM(J5:J13) -> 0 | K16: =SUM(K5:K13) -> 436 | L16: =SUM(L5:L13) -> 9373 | M16: =SUM(M5:M13) -> 0 | N16: =SUM(N5:N13) -> 0 | O16: =SUM(O5:O13) -> 65 | P16: =SUM(P5:P13) -> 0 | ... R16: =SUM(R5:R13) -> 0
A17: 1 | B17: 13 | C17: Humánigazgatási feladatok
C18: 098010 Oktatás igazgatása
C19: - Szakképzési ösztöndíj fel nem használt összegének visszautalása | D19: 131112 | G19: 111 | I19: 111
C20: 072112 Háziorvosi ügyeleti ellátás
C21: - körzeti orvosi ügyelet fenntartásához községek hozzájárulása | D21: 131705 | E21: 36078 | F21: 36078 | G21: 22023 | H21: =G21/F21*100 -> 61.042741 | I21: 22023
C22: 101211 Fogyatékossággal élők tartós bentlakásos ellátása
C23: - Református Egyház által fizetendő bérleti díj | D23: 131703 | E23: 5444 | F23: 5444 | G23: 2798 | H23: =G23/F23*100 -> 51.396032 | L23: 2798
C24: - Idősek Otthona bérleti díj (Kolping OSZISZ) | D24: 131711 | E24: 1524 | F24: 762 | G24: 635 | H24: =G24/F24*100 -> 83.333333 | L24: 635
C25: 013350 Önk-i vagyonnal való gazdálkodáshoz kapcs. fa.
C26: - Ebergényi u.45. Hrsz: 4581/5 alatti lőtér rekonstrukciós munkái pályázati támogatás | D26: 162663 | E26: 22000 | F26: 22000 | G26: 22000 | H26: =G26/F26*100 -> 100 | J26: 22000
C27: 082091 Közművelődés - közösségi és társ. részvétel fejleszt.
C28: - Zala Megyei Népművészeti Egyesület kölcsön törlesztés | D28: 131407 | E28: 4500 | F28: 4500 | G28: =SUM(I28:R28) -> 0 | H28: =G28/F28*100 -> 0
C29: 084031 Civil szervezetek működési támogatása
C30: - intézmények és civil szervezetek támogatásának elszámolási különbözete | D30: 131119 | G30: =SUM(I30:R30) -> 301 | J30: 2 | N30: 299
C31: Humánigazgatási feladatok összesen: | E31: =SUM(E21:E30) -> 69546 | F31: =SUM(F21:F30) -> 68784 | G31: =SUM(G19:G30) -> 47868 | H31: =G31/F31*100 -> 69.591766 | I31: =SUM(I19:I30) -> 22134 | J31: =SUM(J19:J30) -> 22002 | K31: =SUM(K19:K30) -> 0 | L31: =SUM(L19:L30) -> 3433 | M31: =SUM(M19:M30) -> 0 | N31: =SUM(N19:N30) -> 299 | O31: =SUM(O19:O30) -> 0 | P31: =SUM(P19:P30) -> 0 | ... R31: =SUM(R19:R30) -> 0
A32: 1 | B32: 14 | C32: Főépítészi feladatok
C33: 013350 Önk-i vagyonnal való gazdálkodáshoz kapcs.fa.
C34: - belterületbe vonással kapcsolatos bevétel | D34: 171967 | E34: 5080 | F34: 5311 | G34: 497 | H34: =G34/F34*100 -> 9.3579364 | L34: 497
C35: Főépítészi feladatok összesen: | E35: =SUM(E34:E34) -> 5080 | F35: =SUM(F34:F34) -> 5311 | G35: =SUM(G34:G34) -> 497 | H35: =G35/F35*100 -> 9.3579364 | I35: =SUM(I34:I34) -> 0 | J35: =SUM(J34:J34) -> 0 | K35: =SUM(K34:K34) -> 0 | L35: =SUM(L34:L34) -> 497 | M35: =SUM(M34:M34) -> 0 | N35: =SUM(N34:N34) -> 0 | O35: =SUM(O34:O34) -> 0 | P35: =SUM(P34:P34) -> 0 | ... R35: =SUM(R34:R34) -> 0
A36: 1 | B36: 15 | C36: Városüzemelési feladatok
C37: 081061 Szabadidős park, fürdő és strandszolgáltatás
C38: - Gébárti fürdő lét. üzemelt. (Termál és Tóstrand) | D38: 151906 | E38: 33937 | F38: 33937 | G38: =SUM(I38:R38) -> 0 | H38: =G38/F38*100 -> 0
C39: - Aquapark üzemeltetés | D39: 151 907 | E39: 175260 | F39: 175260 | G39: 21626 | H39: =G39/F39*100 -> 12.339381 | L39: 21626
C40: - ZG3 kút üzemeltetése | D40: 151 915 | E40: 2667 | F40: 2667 | G40: 1334 | H40: =G40/F40*100 -> 50.018748 | L40: 1334
C41: - Gébárti kemping földhasználat, fedett fürdő földhasználat | D41: 151909 | G41: 2401 | L41: 2401
C42: 066010 Zöldterület kezelés
C43: - fa értékesítés bevétele | D43: 152 908 | E43: 5080 | F43: 5080 | G43: 3370 | H43: =G43/F43*100 -> 66.338583 | L43: 3370
C44: - haszonbérleti szerződések, kishaszonbérlet | D44: 151506 | E44: 10270 | F44: 10270 | G44: 88 | H44: =G44/F44*100 -> 0.85686465 | L44: 88
C45: - közműnyilvántartásból származó bevétel | D45: 151634 | G45: 3 | L45: 3
C46: 013350 Önk-i vagyonnal való gazdálkodáshoz kapcs. fa.
C47: - közművesítési hozzájárulás | D47: 151611 | F47: 763 | G47: 14282 | H47: =G47/F47*100 -> 1871.8218 | L47: 14282
C48: 066020 Város-, községgazdálkodási egyéb szolgáltatás
C49: - Zalai Közszolgáltató Nonprofit Kft. bérleti díj eszközpark használata után | D49: 151701 | E49: 4318 | F49: 4318 | G49: =SUM(I49:R49) -> 0 | H49: =G49/F49*100 -> 0
C50: - 2018. évi Vis maior pályázatból áthúzódó bevétel | D50: 152920 | E50: 18382 | F50: 18382 | G50: =SUM(I50:R50) -> 0 | H50: =G50/F50*100 -> 0
C51: - "Botfai köztemetőben lévő fa kopjafák felújítása" pályázat | D51: 154812 | F51: 1000 | G51: 1000 | H51: =G51/F51*100 -> 100 | J51: 1000
C52: - "Zalaegerszeg 4815/9 hrsz.területén lévőillegális hulladéklerakó felszámolása" pályázat | D52: 151637 | F52: 2757 | G52: 2757 | H52: =G52/F52*100 -> 100 | I52: 2757
C53: - egyéb város és községgazd. | D53: 151601 | G53: 608 | L53: 608
C54: 045120 Út, autópálya építése
C55: -Magánerős útépítések támogatásához lakossági bfizetés | D55: 154485 | G55: 1100 | O55: 1100
C56: - helyi utak, hidak fenntartása | D56: 151401 | G56: 333 | L56: 333
C57: 066020 Város-, községgazdálkodási egyéb szolgáltatás
C58: - telephehy engedély | D58: 151636 | G58: 15 | L58: 15
C59: - környezetvédelmi bírság | D59: 151607 | G59: 967 | K59: 967
C60: - kéményseprési díj | D60: 151633 | G60: 205 | L60: 205
C61: 064010 Közvilágítás
C62: - villamos energia díj visszatérítés | D62: 151201 | G62: 4462 | L62: 4462
C63: 042180 Állat-egészségügy | D63: 151902 | G63: 881 | L63: 881
C64: 045170 Parkoló, garázs üzemeltetése, fenntartása
C65: - parkolási közszolgáltatási tevékenység ellátásával kapcsolatos bevétel | D65: 151 910 | E65: 248539 | F65: 248539 | G65: 107323 | H65: =G65/F65*100 -> 43.181553 | L65: 107323
C66: - parkolómegváltás bevétele | D66: 152442 | G66: 1270 | L66: 1270
C67: Városüzemelési feladatok összesen: | E67: =SUM(E37:E65) -> 498453 | F67: =SUM(F37:F65) -> 502973 | G67: =SUM(G37:G66) -> 164025 | H67: =G67/F67*100 -> 32.611094 | I67: =SUM(I37:I66) -> 2757 | J67: =SUM(J37:J66) -> 1000 | K67: =SUM(K37:K66) -> 967 | L67: =SUM(L37:L66) -> 158201 | M67: =SUM(M37:M66) -> 0 | N67: =SUM(N37:N66) -> 0 | O67: =SUM(O37:O66) -> 1100 | P67: =SUM(P37:P66) -> 0 | ... R67: =SUM(R37:R66) -> 0
A68: 1 | B68: 16. | C68: Városépítészeti feladatok
C69: 052020 Szennyvíz gyűjtése, tisztítása, elhelyezése
C70: - ZALAVÍZ Zrt. nem viziközmű után fizetendő bérleti díj | D70: 161909 | E70: 35418 | F70: 35418 | G70: =SUM(I70:R70) -> 0 | H70: =G70/F70*100 -> 0
C71: - szennyvíz vagyon használati díja | D71: 164106 | E71: 420521 | F71: 439036 | G71: 52793 | H71: =G71/F71*100 -> 12.024754 | L71: 52793
C72: - ivóvíz vagyon használati díja | D72: 164204 | E72: 168506 | F72: 176450 | G72: 45151 | H72: =G72/F72*100 -> 25.588552 | L72: 45151
C73: - Zalaegerszeg keleti vízbázisról ellátott települések ívóvízminőségének javítása KEHOP projekt | D73: 164205 | E73: 2112173 | F73: 2632873 | G73: 1633209 | H73: =G73/F73*100 -> 62.031439 | J73: 1633209
C74: 045110 Közúti közlekedés igazgatása és támogatása
C75: - SHAREPLACE Interreg Central Europe projekt pályázati támogatás | D75: 163700 | E75: 41155 | F75: 41155 | G75: 4498 | H75: =G75/F75*100 -> 10.929413 | I75: 4498
C76: 013350 Önk-i vagyonnal való gazdálkodáshoz kapcs. fa.
C77: - TOP-6.4.1-15-ZL1-2016-00001 Gyalogos és kerékpárosbarát belváros közlekedési feltételeinek megteremtése Zalaegerszegen hivatásforgalmi kerékpárutak fejlesztésével és a Kosztolányi Dezső út kétirányúsításával | D77: 163607 | G77: 36 | L77: 36
C78: - TOP 6.5.15-ZL1-2016-00003 Zalaegerszegi Ady Endre Általános Iskola, Gimnázium és Alapfokú Művészeti Iskola - többletenergiát az oktatásra | D78: 163622 | E78: 2862 | F78: 2862 | G78: =SUM(I78:R78) -> 0 | H78: =G78/F78*100 -> 0
C79: - TOP 6.5.1-15-ZL1-2016-0004 Landorhegyi Sportiskolai Általános Iskola energetikai korszerűsítése | D79: 163623 | E79: 2908 | F79: 2908 | G79: =SUM(I79:R79) -> 0 | H79: =G79/F79*100 -> 0
C80: -TOP-6.1.1-16 Zalaegerszegi Logisztikai Központ létrehozása | D80: 163625 | E80: 1088000 | F80: 1088000 | G80: =SUM(I80:R80) -> 0 | H80: =G80/F80*100 -> 0
C81: - TOP-6.1.2-16-ZL1-2017-00001 Inkubátorház bővítés Zalaegerszegen-III.ütem | D81: 163626 | E81: 82084 | F81: 82084 | G81: 338 | H81: =G81/F81*100 -> 0.41177331 | L81: 338
C82: - TOP-6.1.4--16-ZL1-2017-00002 Göcseji Múzeum épületének felújítása és kiállító tereinek fejlesztése | D82: 163627 | E82: 736422 | F82: 736422 | G82: =SUM(I82:R82) -> 0 | H82: =G82/F82*100 -> 0
C83: - TOP 6.1.4-16-ZL1-2017-00001 Alsóerdő komplex turisztikai fejlesztése | D83: 163629 | E83: 360470 | F83: 360470 | G83: =SUM(I83:R83) -> 0 | H83: =G83/F83*100 -> 0
C84: - TOP-6.1.1-16-ZL1-2017-00001 Üzemcsarnok építés a Zalaegerszeg 4815/6 hrsz-ú ingatlanon | D84: 163628 | E84: 153551 | F84: 165971 | G84: 1134 | H84: =G84/F84*100 -> 0.68325189 | L84: 1134
C85: - TOP-6.3.2-15-ZL1-2016-00001 Zöld Zala Part - Zala holtág revitalizációja és rekreációs célú vízparti sétány | D85: 163610 | E85: 12700 | F85: 12700 | H85: =G85/F85*100 -> 0
C86: - TOP-6.1.1-15-ZL1-2016-00001 Zalaegerszeg Északi Ipari Park feltárása és közművekkel való ellátása (részben nettó) | D86: 163612 | E86: 56035 | F86: 1092706 | G86: 959002 | H86: =G86/F86*100 -> 87.763955 | J86: 930381 | L86: 28621 | S86: 75550 előző évi maradványból lett rátéve ezen felül
C87: - TOP-6.1.3 -15-ZL1-2016-00001 Helyi termelői és kézműves piac kialakítása Zalaegerszegen ( nettó finansz.) | D87: 163613 | E87: 44170 | F87: 44170 | G87: 297 | H87: =G87/F87*100 -> 0.67240208 | L87: 297
C88: - TOP-6.1.4-16-ZL1-2017-00003 Helyi termelői és kézműves piac kialakítása Zalaegerszegen - Göcsej Tudásközpont (nettó finansz.) | D88: 163637 | E88: 358585 | F88: 358585 | G88: =SUM(I88:R88) -> 0 | H88: =G88/F88*100 -> 0
C89: - Mindszenty Múzeum és Zarándokközpont fejlesztése, zalaegerszegi "Mindszenty Út" megvalósítása MVP | D89: 163621 | E89: 65858 | F89: 66742 | G89: 17576 | H89: =G89/F89*100 -> 26.334242 | L89: 17576 | S89: 52217 előző évi maradványból lett rátéve ezen felül
C90: - Uszoda tervezés és megvalósítás MVP támogatásból | D90: 162687 | E90: 3658136 | F90: 3658136 | G90: 2163562 | H90: =G90/F90*100 -> 59.143837 | I90: 18976 | J90: 2144194 | L90: 392 | S90: 261305 előző évi maradványból lett rátéve ezen felül
C91: - Alsóerdei Sport- és Rekreációs Központ fejlesztése MVP támogatással | D91: 163702 | E91: 351997 | F91: 351997 | G91: 11900 | H91: =G91/F91*100 -> 3.3807106 | L91: 11900
C92: - Hevesi Sándor Színház felújítás és korszerűsítés előkészítése MVP | D92: 163641 | E92: 255358 | F92: 255358 | G92: =SUM(I92:R92) -> 0 | H92: =G92/F92*100 -> 0
C93: - "Infrastrukturális fejlesztések Zalaegerszegen" projekt | D93: 162630 | E93: 200000 | F93: 209050 | G93: 201788 | H93: =G93/F93*100 -> 96.52619 | J93: 200000 | L93: 1788
C94: - Munkaerő-piaci mobilitást elősegítő munkásszállás építése | D94: 162944 | E94: 117588 | F94: 117588 | G94: 117560 | H94: =G94/F94*100 -> 99.976188 | L94: 117560
C95: -Gébárti Kézművesek Háza regionális célú népi kézműves alkotóházzá fejlesztése EFOP-4.1.7-16-2017-00031 | D95: 162606 | E95: 47030 | F95: 47030 | G95: 47030 | H95: =G95/F95*100 -> 100 | I95: 28785 | J95: 18245
C96: - KEHOP-5.4.1-16-2016-00433 Szemléletformálási programok | D96: 163643 | E96: 4982 | F96: 4982 | G96: =SUM(I96:R96) -> 0 | H96: =G96/F96*100 -> 0
C97: - ELENA programhoz önerő és bérfedezet megtérülése | D97: 162695 | F97: 3200 | G97: =SUM(I97:R97) -> 0 | H97: =G97/F97*100 -> 0
C98: - TOP-7.1.1-16-H-ERFA-2019-00089 Art mozi közösségi és rendezvény térré alakítása | D98: 163636 | F98: 137508 | G98: =SUM(I98:R98) -> 0 | H98: =G98/F98*100 -> 0
C99: - Hotelfejlesztés engedélyes és kiviteli terveinek elkészítéséhez támogatás | D99: 162640 | F99: 190500 | G99: =SUM(I99:R99) -> 0 | H99: =G99/F99*100 -> 0
C100: - TOP és egyéb pályázatok előkészítése és önerő biztosítása | D100: 162633 | G100: 20 | L100: 20
...

Sheet 6
A1: Cím szám | B1: Alcím szám | C1: Megnevezés | D1: Előirányzat | F1: Teljesítés | H1: Költségvetési kiadások | P1: Finanszírozási kiadások
D2: Eredeti | E2: Módosított | F2: Összege | G2: %-a | H2: Személyi juttatások | I2: Munkaadókat terhelő járulékok és szociális hj.adó | J2: Dologi kiadások | K2: Ellátottak pénzbeli juttatásai | L2: Egyéb működési célú kiadások | M2: Beruházások | N2: Felújítások | O2: Egyéb felhalmo-zási célú kiadások | P2: Hitel-, kölcsöntör-lesztés áht-n kívülre | Q2: Egyéb finanszírozási kiadás
A3: 1 | C3: Önkormányzat
A4: 1 | B4: 1 | C4: Szakosztályok
B5: 12 | C5: Szociális és igazgatási feladatok | D5: 173311 | E5: 165437 | F5: =SUM(H5:Q5) -> 62183 | G5: =F5/E5*100 -> 37.587118 | H5: ='6.a'!K46 -> 0 | I5: ='6.a'!L46 -> 3043 | J5: ='6.a'!M46 -> 13989 | K5: ='6.a'!N46 -> 38516 | L5: ='6.a'!O46 -> 1500 | M5: ='6.a'!P46 -> 635 | N5: ='6.a'!Q46 -> 0 | O5: ='6.a'!R46 -> 4500 | ... Q5: ='6.a'!T46 -> 0
B6: 13 | C6: Humánigazgatási feladatok | D6: 791671 | E6: 776647 | F6: =SUM(H6:Q6) -> 399502 | G6: =F6/E6*100 -> 51.439328 | H6: ='6.a'!K214 -> 911 | I6: ='6.a'!L214 -> 343 | J6: ='6.a'!M214 -> 28457 | K6: ='6.a'!N214 -> 2325 | L6: ='6.a'!O214 -> 341435 | M6: ='6.a'!P214 -> 2621 | N6: ='6.a'!Q214 -> 422 | O6: ='6.a'!R214 -> 22988 | ... Q6: ='6.a'!T214 -> 0
B7: 14 | C7: Főépítészi feladatok | D7: 27535 | E7: 27766 | F7: =SUM(H7:Q7) -> 3365 | G7: =F7/E7*100 -> 12.119139 | H7: ='6.a'!K227 -> 0 | I7: ='6.a'!L227 -> 0 | J7: ='6.a'!M227 -> 958 | K7: ='6.a'!N227 -> 0 | L7: ='6.a'!O227 -> 0 | M7: ='6.a'!P227 -> 2407 | N7: ='6.a'!Q227 -> 0 | O7: ='6.a'!R227 -> 0 | ... Q7: ='6.a'!T227 -> 0
B8: 15 | C8: Városüzemelési feladatok | D8: 2200401 | E8: 2224271 | F8: =SUM(H8:Q8) -> 656195 | G8: =F8/E8*100 -> 29.501576 | H8: ='6.a'!K473 -> 3651 | I8: ='6.a'!L473 -> 767 | J8: ='6.a'!M473 -> 490645 | K8: ='6.a'!N473 -> 0 | L8: ='6.a'!O473 -> 99593 | M8: ='6.a'!P473 -> 29854 | N8: ='6.a'!Q473 -> 29385 | O8: ='6.a'!R473 -> 2300 | ... Q8: ='6.a'!T473 -> 0
B9: 16 | C9: Városépítészeti feladatok | D9: 28476887 | E9: 30548307 | F9: =SUM(H9:Q9) -> 2525265 | G9: =F9/E9*100 -> 8.2664647 | H9: ='6.a'!K639 -> 415 | I9: ='6.a'!L639 -> 58 | J9: ='6.a'!M639 -> 369119 | K9: ='6.a'!N639 -> 0 | L9: ='6.a'!O639 -> 33616 | M9: ='6.a'!P639 -> 1441158 | N9: ='6.a'!Q639 -> 360595 | O9: ='6.a'!R639 -> 320304 | ... Q9: ='6.a'!T639 -> 0
B10: 17 | C10: Vagyonkezelési feladatok | D10: 242474 | E10: 242532 | F10: =SUM(H10:Q10) -> 55469 | G10: =F10/E10*100 -> 22.870796 | H10: ='6.a'!K664 -> 0 | I10: ='6.a'!L664 -> 0 | J10: ='6.a'!M664 -> 37447 | K10: ='6.a'!N664 -> 0 | L10: ='6.a'!O664 -> 0 | M10: ='6.a'!P664 -> 17248 | N10: ='6.a'!Q664 -> 774 | O10: ='6.a'!R664 -> 0 | ... Q10: ='6.a'!T664 -> 0
B11: 18 | C11: Jogi és közig.feladatok | D11: 237699 | E11: 267699 | F11: =SUM(H11:Q11) -> 103033 | G11: =F11/E11*100 -> 38.488377 | H11: ='6.a'!K686 -> 55281 | I11: ='6.a'!L686 -> 10137 | J11: ='6.a'!M686 -> 30732 | K11: ='6.a'!N686 -> 0 | L11: ='6.a'!O686 -> 4100 | M11: ='6.a'!P686 -> 2783 | N11: ='6.a'!Q686 -> 0 | O11: ='6.a'!R686 -> 0 | ... Q11: ='6.a'!T686 -> 0
B12: 19 | C12: Pénzügyi lebonyolítás | D12: 3020118 | E12: 3885582 | F12: =SUM(H12:Q12) -> 2535801 | G12: =F12/E12*100 -> 65.261806 | H12: ='6.a'!K716 -> 0 | I12: ='6.a'!L716 -> 0 | J12: ='6.a'!M716 -> 172609 | K12: ='6.a'!N716 -> 0 | L12: ='6.a'!O716 -> 239444 | M12: ='6.a'!P716 -> 0 | N12: ='6.a'!Q716 -> 0 | O12: ='6.a'!R716 -> 2700 | ... Q12: ='6.a'!T716 -> 2089022
B13: 20 | C13: Építéshatósági feladatok
B14: 21 | C14: Polgármesteri Kabinet kiadásai | D14: 441560 | E14: 487078 | F14: =SUM(H14:Q14) -> 217469 | G14: =F14/E14*100 -> 44.647674 | H14: ='6.a'!K764 -> 9509 | I14: ='6.a'!L764 -> 5367 | J14: ='6.a'!M764 -> 56572 | K14: ='6.a'!N764 -> 0 | L14: ='6.a'!O764 -> 140622 | M14: ='6.a'!P764 -> 449 | N14: ='6.a'!Q764 -> 0 | O14: ='6.a'!R764 -> 4950 | ... Q14: ='6.a'!T764 -> 0
B15: 30 | C15: Tartalékok | D15: 312213 | E15: 271222 | F15: =SUM(H15:Q15) -> 0 | G15: =F15/E15*100 -> 0 | H15: ='6.a'!K780 -> 0 | I15: ='6.a'!L780 -> 0 | J15: ='6.a'!M780 -> 0 | K15: ='6.a'!N780 -> 0 | L15: ='6.a'!O780 -> 0 | M15: ='6.a'!P780 -> 0 | N15: ='6.a'!Q780 -> 0 | O15: ='6.a'!R780 -> 0 | ... Q15: ='6.a'!T780 -> 0
C16: Önkormányzat összesen költségvetési szervek nélkül | D16: =SUM(D5:D15) -> 35923869 | E16: =SUM(E5:E15) -> 38896541 | F16: =SUM(F5:F15) -> 6558282 | G16: =F16/E16*100 -> 16.860836 | H16: =SUM(H3:H15) -> 69767 | I16: =SUM(I3:I15) -> 19715 | J16: =SUM(J5:J15) -> 1200528 | K16: =SUM(K5:K15) -> 40841 | L16: =SUM(L5:L15) -> 860310 | M16: =SUM(M5:M15) -> 1497155 | N16: =SUM(N5:N15) -> 391176 | O16: =SUM(O5:O15) -> 357742 | P16: =SUM(P5:P15) -> 32026 | Q16: =SUM(Q5:Q15) -> 2089022
A17: 2 | C17: Költségvetési szervek | D17: 7160437 | E17: 7588778 | F17: =SUM(H17:Q17) -> 3660031 | G17: =F17/E17*100 -> 48.229517 | H17: ='6.a'!K782 -> 1897956 | I17: ='6.a'!L782 -> 400084 | J17: ='6.a'!M782 -> 1256636 | K17: ='6.a'!N782 -> 400 | L17: ='6.a'!O782 -> 31355 | M17: ='6.a'!P782 -> 66902 | N17: ='6.a'!Q782 -> 6698 | O17: ='6.a'!R782 -> 0 | ... Q17: ='6.a'!T782 -> 0
C18: Önkormányzat összesen: | D18: =SUM(D16:D17) -> 43084306 | E18: =SUM(E16:E17) -> 46485319 | F18: =SUM(F16:F17) -> 10218313 | G18: =F18/E18*100 -> 21.981807 | H18: =SUM(H16:H17) -> 1967723 | I18: =SUM(I16:I17) -> 419799 | J18: =SUM(J16:J17) -> 2457164 | K18: =SUM(K16:K17) -> 41241 | L18: =SUM(L16:L17) -> 891665 | M18: =SUM(M16:M17) -> 1564057 | N18: =SUM(N16:N17) -> 397874 | O18: =SUM(O16:O17) -> 357742 | ... Q18: =SUM(Q16:Q17) -> 2089022

Sheet 6.a
A1: Cím szám | B1: Alcím szám | C1: Sorszám | D1: Megnevezés | E1: feladat jellege | F1: Tervezési alapegység | G1: Előirányzat | I1: Teljesítés | K1: Költségvetési kiadások | S1: Finanszírozási kiadások
G2: Eredeti | H2: Módosított | I2: Összege | J2: %-a | K2: Személyi juttatások | L2: Munkaadókat terhelő járulékok és szociális hj.adó | M2: Dologi kiadások | N2: Ellátottak pénzbeli juttatásai | O2: Egyéb működési célú kiadások | P2: Beruházások | Q2: Felújítások | R2: Egyéb felhalmo-zási célú kiadások | S2: Hitel-, kölcsöntör-lesztés áht-n kívülre | T2: Egyéb finanszírozási kiadás
A3: 1 | D3: Önkormányzat
A4: 1 | B4: 1 | D4: Szakosztályok
A5: 1 | B5: 12 | D5: Szociális és igazgatási feladatok
D6: 105010 Munkanélküli aktív korúak ellátásai
D7: - megélhetési támogatás | E7: 2 | F7: 121103 | G7: 6200 | H7: 6200 | I7: 2985 | J7: =I7/H7*100 -> 48.145161 | N7: 2985
D8: 106020 Lakásfenntartással, lakhatással összefüggő ellátások
D9: - lakásfenntartási segély | E9: 2 | F9: 121104 | G9: 22000 | H9: 22000 | I9: 11172 | J9: =I9/H9*100 -> 50.781818 | N9: 11172
D10: - önkormányzati bérlakásban élők lakásfenntartási segélye Lakásalapból | E10: 2 | F10: 121117 | G10: 7200 | H10: 7200 | I10: 3833 | J10: =I10/H10*100 -> 53.236111 | N10: 3833
D11: 107060 Egyéb szociális pénzbeli ellátások, támogatások
D12: - gyermekétkeztetési támogatás | E12: 2 | F12: 121111 | G12: 3000 | H12: 3000 | I12: 1529 | J12: =I12/H12*100 -> 50.966667 | N12: 1529
D13: - átmeneti segély | E13: 2 | F13: 121127 | G13: 4000 | H13: 4000 | I13: 1624 | J13: =I13/H13*100 -> 40.6 | N13: 1624
D14: - egyszeri nevelési támogatás | F14: 121115 | G14: 100 | H14: 100 | I14: =SUM(K14:T14) -> 0 | J14: =I14/H14*100 -> 0
D15: - méltányossági segély | E15: 2 | F15: 121128 | G15: 1000 | H15: 1000 | I15: 110 | J15: =I15/H15*100 -> 11 | N15: 110
D16: - szociális krízis alap | E16: 2 | F16: 121129 | G16: 4000 | H16: 4000 | I16: 1934 | J16: =I16/H16*100 -> 48.35 | N16: 1934
D17: - tüzifa támogatás | E17: 2 | F17: 121106 | G17: 2000 | H17: 2000 | I17: 487 | J17: =I17/H17*100 -> 24.35 | N17: 487
D18: - téli rezsicsökkentésben korábban nem részesült háztartások egyszeri támogatása | E18: 1 | F18: 121133 | G18: 5280 | H18: 5280 | I18: 1257 | J18: =I18/H18*100 -> 23.806818 | M18: 1257
D19: 103010 Elhunyt személyek hátramaradottainak pénzbeli ellátása
D20: - temetési segély | E20: 2 | F20: 121131 | G20: 2300 | H20: 2300 | I20: 940 | J20: =I20/H20*100 -> 40.869565 | N20: 940
D21: 106020 Lakásfenntartással, lakhatással összefüggő ellátások
D22: - lakhatási krízis alap Lakásalapból | E22: 2 | F22: 121130 | G22: 2000 | H22: 2000 | I22: =SUM(K22:T22) -> 0 | J22: =I22/H22*100 -> 0
D23: 107060 Egyéb szociális pénzbeli ellátások, támogatások
D24: - gyógyszertámogatás | E24: 1 | F24: 121204 | G24: 12000 | H24: 12000 | I24: 5627 | J24: =I24/H24*100 -> 46.891667 | N24: 5627
D25: - gyógyászati segédeszköz támogatás | E25: 1 | F25: 121132 | G25: 250 | H25: 250 | I25: 16 | J25: =I25/H25*100 -> 6.4 | N25: 16
D26: - köztemetés | E26: 1 | F26: 121203 | G26: 4200 | H26: 4200 | I26: 2509 | J26: =I26/H26*100 -> 59.738095 | M26: 527 | N26: 1982
D27: 094260 Hallgatói és oktatói ösztöndíjak, egyéb juttatások
D28: - Bursa Hungarica ösztöndíj | E28: 2 | F28: 121504 | G28: 5000 | H28: 5000 | I28: 935 | J28: =I28/H28*100 -> 18.7 | N28: 935
D29: 061030 Lakáshoz jutást segítő támogatások
D30: - lakásgazdálkodási feladatokra | E30: 1 | F30: 121403 | G30: 50 | H30: 50 | I30: 2 | J30: =I30/H30*100 -> 4 | M30: 2
D31: 104042 Család- és gyermekjóléti szolgálat
D32: - Családsegítő Szolgálathoz krízissegélyezés | E32: 1 | F32: 121301 | G32: 2400
D33: 011130 Önkorm. és önkorm. hivatal. jogalk. és ált.ig.tev.
D34: - Egerszegkártya | E34: 2 | F34: 221902 | G34: 30802 | H34: 29628 | I34: 12773 | J34: =I34/H34*100 -> 43.111246 | M34: 12138 | P34: 635
D35: - Nemzedékek kézfogása | E35: 2 | F35: 22190** | G35: 20000 | H35: 20000 | I35: 8450 | J35: =I35/H35*100 -> 42.25 | L35: 3043 | M35: 65 | N35: 5342
D36: 032020 Tűz- és katasztrófavéd. tevékenység
D37: - helyi védelmi igazgatás | E37: 1 | F37: 121601 | G37: 500 | H37: 500 | I37: =SUM(K37:T37) -> 0 | J37: =I37/H37*100 -> 0
D38: 109010 Szociális szolgáltatás igazgatása
D39: - "Lakhatásért" Közalapítvány támogatása | E39: 2 | F39: 121517 | G39: 3000 | H39: 3000 | I39: 1500 | J39: =I39/H39*100 -> 50 | O39: 1500
D40: Szociális és igazgatási fa.működési kiadás összesen: | G40: =SUM(G7:G39) -> 137282 | H40: =SUM(H7:H39) -> 133708 | I40: =SUM(I7:I39) -> 57683 | J40: =I40/H40*100 -> 43.141024 | K40: =SUM(K7:K39) -> 0 | L40: =SUM(L7:L39) -> 3043 | M40: =SUM(M7:M39) -> 13989 | N40: =SUM(N7:N39) -> 38516 | O40: =SUM(O7:O39) -> 1500 | P40: =SUM(P7:P39) -> 635 | Q40: =SUM(Q7:Q39) -> 0 | R40: =SUM(R7:R39) -> 0 | ... T40: =SUM(T7:T39) -> 0
D41: Beruházási és felújítási kiadások:
C42: 1./1 | D42: Önkormányzat által nyújtott lakástámogatás első lakáshoz jutók részére (Lakásalapból) | F42: 121401 | G42: 14610 | H42: 14610 | I42: 1500 | J42: =I42/H42*100 -> 10.26694 | R42: 1500
D43: 2018. évről áthúzódó feladat
C44: 1.a/1 | D44: Családok otthonteremtési kedvezménye és utólagosan elszámolt Bébi kedvezmény (Lakásalap) | F44: 121405 | G44: 2400 | H44: 3300 | I44: 3000 | J44: =I44/H44*100 -> 90.909091 | R44: 3000
C45: 1.a/2 | D45: Kamatmentes kölcsön az ideiglenesen nehéz helyzetbe került zeg-i polgárok számára (Lakásalapból) | F45: 121402 | G45: 19019 | H45: 13819 | I45: =SUM(K45:T45) -> 0 | J45: =I45/H45*100 -> 0
D46: Szociális és igazgatási fa. kiadásai összesen: | G46: =SUM(G40:G45) -> 173311 | H46: =SUM(H40:H45) -> 165437 | I46: =SUM(I40:I45) -> 62183 | J46: =I46/H46*100 -> 37.587118 | K46: =SUM(K40:K45) -> 0 | L46: =SUM(L40:L45) -> 3043 | M46: =SUM(M40:M45) -> 13989 | N46: =SUM(N40:N45) -> 38516 | O46: =SUM(O40:O45) -> 1500 | P46: =SUM(P40:P45) -> 635 | Q46: =SUM(Q40:Q45) -> 0 | R46: =SUM(R40:R45) -> 4500 | ... T46: =SUM(T40:T45) -> 0
A47: 1 | B47: 13 | D47: Humánigazgatási feladatok
D48: Oktatási feladatok
D49: 098010 Oktatás igazgatása
D50: - Zalaegerszegi Szakképzési Centrum részére támogatás szakképzési ösztöndíj céljára | E50: 2 | F50: 131112 | G50: 12000 | H50: 12000 | I50: 6000 | J50: =I50/H50*100 -> 50 | O50: 6000
D51: - intézmények és civil szervezetek támogatása, rendezvényeik finanszírozása | E51: 2 | F51: 131123 | G51: 3000 | H51: 3000 | I51: 2582 | J51: =I51/H51*100 -> 86.066667 | O51: 2542 | R51: 40
D52: - díszokleveles pedagógusok ünnepsége és jutalmazása | E52: 2 | F52: 131122 | G52: 2000 | H52: 2250 | I52: =SUM(K52:T52) -> 0 | J52: =I52/H52*100 -> 0
D53: - Zeg.Felsőfokú Oktatásáért Közalapítvány támogatása | E53: 2 | F53: 131107 | G53: 50000 | H53: 50000 | I53: 25000 | J53: =I53/H53*100 -> 50 | O53: 25000
D54: - nyári táboroztatás | E54: 2 | F54: 131128 | G54: 7530
D55: Kulturális és ifjúsági feladatok
D56: 084070 A fiatalok társ. integrációját segítő struktúra, szakmai szolgált. fejlesztése, működtetése
D57: - ifjúsági rendezvények | E57: 2 | F57: 131201 | G57: 1500 | H57: 1500 | I57: 730 | J57: =I57/H57*100 -> 48.666667 | L57: 1 | M57: 609 | O57: 120
D58: - Zalaegerszegi Városi Diákönkormányzat | E58: 2 | F58: 131202 | G58: 1218 | H58: 1085 | I58: 510 | J58: =I58/H58*100 -> 47.004608 | K58: 213 | L58: 175 | M58: 122
D59: - Zalaegerszegi Városi Diáknapok | E59: 2 | F59: 131205 | G59: 1650 | H59: 1783 | I59: 1782 | J59: =I59/H59*100 -> 99.943915 | K59: 210 | L59: 20 | M59: 52 | O59: 1500
D60: - Zalaegerszegi Egyetemisták Egyesülete | E60: 2 | F60: 131206 | G60: 800 | H60: 800 | I60: =SUM(K60:T60) -> 0 | J60: =I60/H60*100 -> 0
D61: - Zalaegerszegi Ifjúsági Kerekasztal | E61: 2 | F61: 131209 | G61: 800 | H61: 800 | I61: 153 | J61: =I61/H61*100 -> 19.125 | K61: 95 | L61: 9 | M61: 49
D62: - UNICEF gyermekbarát település pályázat | E62: 2 | F62: 131211 | G62: 965 | H62: 965 | I62: =SUM(K62:T62) -> 0 | J62: =I62/H62*100 -> 0
D63: 094260 Hallgatói és oktatói ösztöndíjak, egyéb juttatások
D64: - felsőoktatási ösztöndíj és támogatás | E64: 2 | F64: 131101 | G64: 12325 | H64: 12325 | I64: 5688 | J64: =I64/H64*100 -> 46.150101 | N64: 2025 | O64: 3663
D65: 074052 Kábítószer megelőzés programja
D66: - Zalaegerszegi Kábítószerügyi Egyeztető Fórum | E66: 2 | F66: 131120 | G66: 178 | H66: 178 | I66: =SUM(K66:T66) -> 0 | J66: =I66/H66*100 -> 0
D67: 082091 Közművelődés - közösségi és társ. részvétel fejleszt. | I67: =SUM(K67:T67) -> 0
D68: - Magyar Kultúra Napja | E68: 2 | F68: 131346 | G68: 900 | H68: 900 | I68: 880 | J68: =I68/H68*100 -> 97.777778 | K68: 100 | L68: 43 | M68: 737
D69: - Fazekas-keramikus találkozó | E69: 2 | F69: 131305 | G69: 800 | H69: 800 | I69: 800 | J69: =I69/H69*100 -> 100 | O69: 800
D70: - Egerszeg Búcsú | E70: 2 | F70: 131306 | G70: 500 | H70: 500 | I70: =SUM(K70:T70) -> 0 | J70: =I70/H70*100 -> 0
D71: - Betlehem működtetése | E71: 2 | F71: 131325 | G71: 1228 | H71: 1228 | I71: 351 | J71: =I71/H71*100 -> 28.583062 | M71: 351
D72: - Egerszeg Sport és Turizmus Kft. által szervezett rendezvények | E72: 2 | F72: 131308 | G72: 5000 | H72: 5000 | I72: 2500 | J72: =I72/H72*100 -> 50 | O72: 2500
D73: - Kvártélyház támogatása | E73: 2 | F73: 131321 | G73: 70000 | H73: 70000 | I73: 50000 | J73: =I73/H73*100 -> 71.428571 | O73: 50000
D74: - Keresztury Emlékbizottság | E74: 2 | F74: 131501 | G74: 250 | H74: 250 | I74: =SUM(K74:T74) -> 0 | J74: =I74/H74*100 -> 0
D75: - Gébárti Művésztelep | E75: 2 | F75: 131307 | G75: 500 | H75: 500 | I75: =SUM(K75:T75) -> 0 | J75: =I75/H75*100 -> 0
D76: - Zegasztár | F76: 131326 | G76: 2000 | H76: 2000 | I76: 2000 | J76: =I76/H76*100 -> 100 | O76: 2000
D77: - Egerszegi füzetek | F77: 131331 | G77: 1500 | H77: 1500 | I77: =SUM(K77:T77) -> 0 | J77: =I77/H77*100 -> 0
D78: - kórus fesztivál | F78: 131314 | G78: 1500 | H78: 1500 | I78: 1500 | J78: =I78/H78*100 -> 100 | O78: 1500
D79: - táncház mozgalom | E79: 2 | F79: 131340 | G79: 400 | H79: 400 | I79: =SUM(K79:T79) -> 0 | J79: =I79/H79*100 -> 0
D80: - folk hétvége | E80: 2 | F80: 131343 | G80: 400 | H80: 400 | I80: =SUM(K80:T80) -> 0 | J80: =I80/H80*100 -> 0
D81: - komolyzenei hétvége | E81: 2 | F81: 131344 | G81: 500 | H81: 500 | I81: 500 | J81: =I81/H81*100 -> 100 | O81: 500
D82: - Zalaegerszegi Szimfonikus Zenekar támogatása | E82: 2 | F82: 131348 | G82: 5000 | H82: 5000 | I82: 2500 | J82: =I82/H82*100 -> 50 | O82: 2500
D83: - '47-es Honvéd Zászlóalj Hagyományőrző Egyesület támogatása | E83: 2 | F83: 131345 | G83: 400 | H83: 400 | I83: =SUM(K83:T83) -> 0 | J83: =I83/H83*100 -> 0
D84: - Népművészeti Országos konferencia | E84: 2 | F84: 131334 | G84: 500 | H84: 500 | I84: =SUM(K84:T84) -> 0 | J84: =I84/H84*100 -> 0
D85: - Andráshidai közösségi ház működtetés | E85: 2 | F85: 131327 | G85: 1500 | H85: 1500 | I85: =SUM(K85:T85) -> 0 | J85: =I85/H85*100 -> 0
D86: 084031 Civil szervezetek műk. támogatása
D87: - Zalai Civil Életért Közhasznú Egy.támogatása (Civil ház működtetése) | E87: 2 | F87: 131401 | G87: 1800 | H87: 1800 | I87: =SUM(K87:T87) -> 0 | J87: =I87/H87*100 -> 0
D88: - Pannon Tükör kulturális folyóirat támogatása | E88: 2 | F88: 131402 | G88: 5000 | H88: 5000 | I88: 2501 | J88: =I88/H88*100 -> 50.02 | O88: 2501
D89: - önálló kulturális egyesületek, együttesek | E89: 2 | F89: 131403 | G89: 10000 | H89: 10000 | I89: 5594 | J89: =I89/H89*100 -> 55.94 | O89: 5594
D90: - peremkerületek támogatása | E90: 2 | F90: 131404 | G90: 6500 | H90: 6050 | I90: 3402 | J90: =I90/H90*100 -> 56.231405 | O90: 3402
D91: - Zalai Táncegyüttes Egyesület támogatás | E91: 2 | F91: 131330 | G91: 3000 | H91: 3000 | I91: 1800 | J91: =I91/H91*100 -> 60 | O91: 1800
D92: - Zalegerszeg Kultúrájáért Közalapítvány támogatása | E92: 2 | F92: 131507 | G92: 2000 | H92: 2000 | I92: =SUM(K92:T92) -> 0 | J92: =I92/H92*100 -> 0
D93: - Zalaegerszegi Honvéd Klub támogatása | E93: 2 | F93: 171943 | G93: 400 | H93: 400 | I93: =SUM(K93:T93) -> 0 | J93: =I93/H93*100 -> 0
D94: - "Street Food" hétvége | E94: 2 | F94: 131409 | G94: 1000 | H94: 1000 | I94: 1000 | J94: =I94/H94*100 -> 100 | O94: 1000
D95: - városi farsang megrendezése | E95: 2 | F95: 131410 | G95: 200 | H95: 200 | I95: 200 | J95: =I95/H95*100 -> 100 | O95: 200
D96: 082030 Művészeti tevékenység
D97: - művészeti ösztöndíjak | E97: 2 | F97: 131502 | G97: 600 | H97: 600 | I97: 300 | J97: =I97/H97*100 -> 50 | N97: 300
D98: Egészségügyi és humánigazgatási feladatok
D99: 101211 Fogyatékosággal élők tartós bentlakásos ellátása
D100: -Fogyatékos Otthon működtetése | E100: 1 | F100: 131703 | G100: 10500 | H100: 10500 | I100: 5250 | J100: =I100/H100*100 -> 50 | M100: 5250
...

Sheet 7
A1: Címszám | B1: Költségvetési szerv megnevezése | C1: Előirányzat | E1: Teljesítés | G1: Költségvetési bevételek | N1: Finanszírozási bevételek
C2: Eredeti | D2: Módosított | E2: Összege | F2: %-a | G2: Működési célú támogatások áht-n belülről | H2: Felhalmozási célú támogatások áht-n belülről | I2: Közhatalmi bevételek | J2: Működési bevételek | K2: Felhalmozási bevételek | L2: Működési célú átvett pénzeszközök | M2: Felhalmozási célú átvett pénzeszközök | N2: Maradvány igénybevétele | O2: Központi, irányító szervi támogatás | P2: Egyéb finanszírozási bevétel
A3: 2 | B3: Polgármesteri Hivatal | C3: 1453348 | D3: 1519272 | E3: =SUM(G3:P3) -> 706276 | F3: =E3/D3*100 -> 46.487792 | G3: 13449 | J3: 9392 | N3: 86170 | O3: 597265
A4: 3 | B4: Zalaegerszegi Gazdasági Ellátó Szervezet | C4: 926875 | D4: 946838 | E4: =SUM(G4:P4) -> 526866 | F4: =E4/D4*100 -> 55.644788 | G4: 652 | J4: 196572 | L4: 200 | N4: 22260 | O4: 307182
A5: 4 | B5: Zalaegerszegi Egyesített Bölcsődék | C5: 569295 | D5: 609546 | E5: =SUM(G5:P5) -> 304513 | F5: =E5/D5*100 -> 49.957345 | G5: 695 | H5: 1600 | J5: 43412 | N5: 45971 | O5: 212835
A6: 5 | B6: Zalaegerszegi Egészségügyi Alapellátási Intézmény | C6: 374355 | D6: 436990 | E6: =SUM(G6:P6) -> 253537 | F6: =E6/D6*100 -> 58.018948 | G6: 138831 | J6: 788 | N6: 64581 | O6: 49337
A7: 6 | B7: Zalaegerszegi Család-és Gyermekjóléti Központ | C7: 174035 | D7: 221293 | E7: =SUM(G7:P7) -> 126467 | F7: =E7/D7*100 -> 57.149119 | G7: 200 | J7: 816 | N7: 39070 | O7: 86381
A8: 7 | B8: Zalaegerszegi Belvárosi I. számú Óvoda | C8: 345229 | D8: 351959 | E8: =SUM(G8:P8) -> 165447 | F8: =E8/D8*100 -> 47.007464 | G8: 150 | J8: 7205 | N8: 18848 | O8: 139244
A9: 8 | B9: Zalaegerszegi Belvárosi II. számú Óvoda | C9: 316367 | D9: 321921 | E9: =SUM(G9:P9) -> 155208 | F9: =E9/D9*100 -> 48.213071 | G9: 136 | H9: 2000 | J9: 9606 | N9: 5399 | O9: 138067
A10: 9 | B10: Zalaegerszegi Kertvárosi Óvoda | C10: 353512 | D10: 358163 | E10: =SUM(G10:P10) -> 166068 | F10: =E10/D10*100 -> 46.366598 | J10: 9617 | N10: 11045 | O10: 145406
A11: 10 | B11: Zalaegerszegi Landorhegyi Óvoda | C11: 323776 | D11: 330224 | E11: =SUM(G11:P11) -> 152388 | F11: =E11/D11*100 -> 46.146858 | G11: 500 | J11: 7879 | N11: 15814 | O11: 128195
A12: 11 | B12: Közgyűjteményi és Közművelődési GESZ | C12: 50164 | D12: 51153 | E12: =SUM(G12:P12) -> 27437 | F12: =E12/D12*100 -> 53.637128 | G12: 5989 | J12: 4 | N12: 1084 | O12: 20360
A13: 12 | B13: Keresztury Dezső VMK | C13: 364736 | D13: 427598 | E13: =SUM(G13:P13) -> 278069 | F13: =E13/D13*100 -> 65.030473 | G13: 21918 | H13: 6900 | J13: 42947 | L13: 120 | N13: 92086 | O13: 114098
A14: 13 | B14: Zalaegerszegi Turisztikai Hivatal és Információs Iroda | C14: 19981 | D14: 24376 | E14: =SUM(G14:P14) -> 12262 | F14: =E14/D14*100 -> 50.303577 | G14: 2000 | J14: 1028 | N14: 1395 | O14: 7839
A15: 14 | B15: Deák Ferenc Megyei és Városi Könyvtár | C15: 436593 | D15: 459680 | E15: =SUM(G15:P15) -> 331602 | F15: =E15/D15*100 -> 72.137574 | J15: 13966 | K15: 1950 | N15: 37625 | O15: 278061
A16: 15 | B16: Göcseji Múzeum | C16: 375339 | D16: 425029 | E16: =SUM(G16:P16) -> 235237 | F16: =E16/D16*100 -> 55.346106 | G16: 2336 | J16: 66056 | L16: 242 | N16: 71057 | O16: 95546
A17: 16 | B17: Hevesi Sándor Színház | C17: 711043 | D17: 723144 | E17: =SUM(G17:P17) -> 394848 | F17: =E17/D17*100 -> 54.601573 | J17: 64889 | K17: 450 | L17: 26358 | N17: 13652 | O17: 289499
A18: 17 | B18: Griff Bábszínház | C18: 130126 | D18: 130900 | E18: =SUM(G18:P18) -> 79487 | F18: =E18/D18*100 -> 60.723453 | J18: 7427 | L18: 10500 | N18: 5125 | O18: 56435
A19: 18 | B19: Városi Sportlétesítmény Gondnokság Intézménye | C19: 124833 | D19: 143881 | E19: =SUM(G19:P19) -> 80204 | F19: =E19/D19*100 -> 55.743288 | J19: 27971 | N19: 25020 | O19: 27213
A20: 19 | B20: Vásárcsarnok | C20: 110830 | D20: 106811 | E20: =SUM(G20:P20) -> 55452 | F20: =E20/D20*100 -> 51.916001 | G20: 40 | J20: 47510 | N20: 7897 | O20: 5
B21: Költségvetési szervek mindösszesen: | C21: =SUM(C3:C20) -> 7160437 | D21: =SUM(D3:D20) -> 7588778 | E21: =SUM(E3:E20) -> 4051368 | F21: =E21/D21*100 -> 53.386303 | G21: =SUM(G3:G20) -> 186896 | H21: =SUM(H3:H20) -> 10500 | I21: =SUM(I3:I20) -> 0 | J21: =SUM(J3:J20) -> 557085 | K21: =SUM(K3:K20) -> 2400 | L21: =SUM(L3:L20) -> 37420 | M21: =SUM(M3:M20) -> 0 | N21: =SUM(N3:N20) -> 564099 | ... P21: =SUM(P3:P20) -> 0

Sheet 8
A1: Címszám | B1: Költségvetési szerv megnevezése | C1: Előirányzat | E1: Teljesítés | G1: Költségvetési kiadások | O1: Finanszírozási kiadások
C2: Eredeti | D2: Módosított | E2: összege | F2: %-a | G2: Személyi juttatások | H2: Munkaadókat terhelő járulékok és szociális hozzájárulási adó | I2: Dologi kiadások | J2: Ellátottak pénzbeli juttatásai | K2: Egyéb működési célú kiadások | L2: Beruházások | M2: Felújítások | N2: Egyéb felhalmozási célú kiadások
A3: 2 | B3: Polgármesteri Hivatal | C3: 1453348 | D3: 1519272 | E3: =SUM(G3:O3) -> 703651 | F3: =E3/D3*100 -> 46.315011 | G3: 498957 | H3: 107185 | I3: 90185 | L3: 7324
A4: 3 | B4: Zalaegerszegi Gazdasági Ellátó Szervezet | C4: 926875 | D4: 946838 | E4: =SUM(G4:O4) -> 518732 | F4: =E4/D4*100 -> 54.785718 | G4: 61841 | H4: 12062 | I4: 441630 | K4: 3134 | L4: 65
A5: 4 | B5: Zalaegerszegi Egyesített Bölcsődék | C5: 569295 | D5: 609546 | E5: =SUM(G5:O5) -> 284302 | F5: =E5/D5*100 -> 46.641599 | G5: 181776 | H5: 39062 | I5: 58017 | K5: 97 | L5: 5350
A6: 5 | B6: Zalaegerszegi Egészségügyi Alapellátási Intézmény | C6: 374355 | D6: 436990 | E6: =SUM(G6:O6) -> 183623 | F6: =E6/D6*100 -> 42.019955 | G6: 95089 | H6: 20678 | I6: 67012 | L6: 844
A7: 6 | B7: Zalaegerszegi Család- és Gyermekjóléti Központ | C7: 174035 | D7: 221293 | E7: =SUM(G7:O7) -> 101385 | F7: =E7/D7*100 -> 45.814825 | G7: 74801 | H7: 14954 | I7: 10653 | J7: 400 | L7: 577
A8: 7 | B8: Zalaegerszegi Belvárosi I. számú Óvoda | C8: 345229 | D8: 351959 | E8: =SUM(G8:O8) -> 165394 | F8: =E8/D8*100 -> 46.992405 | G8: 113465 | H8: 23869 | I8: 27032 | K8: 54 | L8: 974
A9: 8 | B9: Zalaegerszegi Belvárosi II. számú Óvoda | C9: 316367 | D9: 321921 | E9: =SUM(G9:O9) -> 154988 | F9: =E9/D9*100 -> 48.144731 | G9: 91352 | H9: 20351 | I9: 43172 | L9: 113
A10: 9 | B10: Zalaegerszegi Kertvárosi Óvoda | C10: 353512 | D10: 358163 | E10: =SUM(G10:O10) -> 166056 | F10: =E10/D10*100 -> 46.363248 | G10: 101290 | H10: 21258 | I10: 42428 | L10: 80 | M10: 1000
A11: 10 | B11: Zalaegerszegi Landorhegyi Óvoda | C11: 323776 | D11: 330224 | E11: =SUM(G11:O11) -> 152352 | F11: =E11/D11*100 -> 46.135956 | G11: 101025 | H11: 22298 | I11: 28094 | L11: 935
A12: 11 | B12: Közgyűjteményi és Közművelődési GESZ | C12: 50164 | D12: 51153 | E12: =SUM(G12:O12) -> 24280 | F12: =E12/D12*100 -> 47.465447 | G12: 18947 | H12: 4014 | I12: 1137 | L12: 182
A13: 12 | B13: Keresztury Dezső VMK | C13: 364736 | D13: 427598 | E13: =SUM(G13:O13) -> 219705 | F13: =E13/D13*100 -> 51.381204 | G13: 92347 | H13: 18661 | I13: 89952 | K13: 8000 | L13: 5696 | M13: 5049
A14: 13 | B14: Zalaegerszegi Turisztikai Hivatal és Információs Iroda | C14: 19981 | D14: 24376 | E14: =SUM(G14:O14) -> 10900 | F14: =E14/D14*100 -> 44.716114 | G14: 6771 | H14: 1481 | I14: 2605 | L14: 43
A15: 14 | B15: Deák Ferenc Megyei és Városi Könyvtár | C15: 436593 | D15: 459680 | E15: =SUM(G15:O15) -> 217371 | F15: =E15/D15*100 -> 47.287461 | G15: 88295 | H15: 17712 | I15: 68230 | K15: 12000 | L15: 30485 | M15: 649
A16: 15 | B16: Göcseji Múzeum | C16: 375339 | D16: 425029 | E16: =SUM(G16:O16) -> 207308 | F16: =E16/D16*100 -> 48.775025 | G16: 89520 | H16: 19121 | I16: 77097 | K16: 8036 | L16: 13534
A17: 16 | B17: Hevesi Sándor Színház | C17: 711043 | D17: 723144 | E17: =SUM(G17:O17) -> 364905 | F17: =E17/D17*100 -> 50.460904 | G17: 206003 | H17: 42569 | I17: 115950 | L17: 383
A18: 17 | B18: Griff Bábszínház | C18: 130126 | D18: 130900 | E18: =SUM(G18:O18) -> 68937 | F18: =E18/D18*100 -> 52.663866 | G18: 34855 | H18: 6647 | I18: 27246 | L18: 189
A19: 18 | B19: Városi Sportlétesítmények Gondnoksága | C19: 124833 | D19: 143881 | E19: =SUM(G19:O19) -> 67852 | F19: =E19/D19*100 -> 47.158416 | G19: 25306 | H19: 4914 | I19: 37632
A20: 19 | B20: Vásárcsarnok | C20: 110830 | D20: 106811 | E20: =SUM(G20:O20) -> 48290 | F20: =E20/D20*100 -> 45.210699 | G20: 16316 | H20: 3248 | I20: 28564 | K20: 34 | L20: 128
B21: Költségvetési szervek mindösszesen: | C21: =SUM(C3:C20) -> 7160437 | D21: =SUM(D3:D20) -> 7588778 | E21: =SUM(E3:E20) -> 3660031 | F21: =E21/D21*100 -> 48.229517 | G21: =SUM(G3:G20) -> 1897956 | H21: =SUM(H3:H20) -> 400084 | I21: =SUM(I3:I20) -> 1256636 | J21: =SUM(J3:J20) -> 400 | K21: =SUM(K3:K20) -> 31355 | L21: =SUM(L3:L20) -> 66902 | M21: =SUM(M3:M20) -> 6698 | N21: =SUM(N3:N20) -> 0 | O21: =SUM(O3:O20) -> 0
