Workbook

Sheet Babosdöbréte
A1: Gördülő fejlesztési terv a 2022 - 2036 időszakra
A2: FELÚJÍTÁSOK ÉS PÓTLÁSOK ÖSSZEFOGLALÓ TÁBLÁZATA
A3: A tervet benyújtó szervezet megnevezése: | K3: BABOSDÖBRÉTE | R3: ellátásért felelős / ellátásért felelősök képviselője / víziközmű-szolgáltató *
A4: Víziközmű-szolgáltató megnevezése: | K4: ÉSZAK ZALAI VÍZ- ÉS CSATORNAMŰ ZÁRTKÖRŰEN MŰKÖDŐ RÉSZVÉNYTÁRSASÁG
A5: Víziközmű-szolgáltatási ágazat megnevezése: | K5: IVÓVÍZ ÁGAZAT
A6: Véleményeltérést megfogalmazó érintett fél megnevezése:
A7: Víziközmű-rendszer kódja: ** | K7: 11-32054-1-025-01-14 | R7: ZALAEGERSZEG-IV
A8: I. Felszín alatti vízkivétel
A9: Fontossági sorrend | B9: Felujítás és pótlás megnevezése | E9: Műszaki állapot felmérés, szükségességi indoklás | H9: Vízjogi létesítési/elvi engedély száma | I9: Az érintett ellátásért felelős(ök) megnevezése | J9: Tervezett nettó költség | K9: Forrás 2022 évre | L9: Megvalósítás időtartama | N9: Tervezett időtáv | O9: A beruházás ütemezése a tervezési időszak évei szerint
E10: Jelenlegi műszaki állapot | F10: Feladat szükségessége | G10: Megvalósítást követő várható műszaki állapot | J10: (eFt) | L10: Kezdés | M10: Befejezés | N10: (rövid / közép / hosszú) | O10: 1 | P10: 2 | Q10: 3 | R10: 4 | S10: 5 | T10: 6 | U10: 7 | V10: 8 | W10: 9 | X10: 10 | Y10: 11 | Z10: 12 | AA10: 13 | AB10: 14 | AC10: 15
B11: szakág | C11: Helyszín | D11: beruházás megnevezése
A12: 1 | C12: Babosdöbréte | D12: Rendkívüli helyzetből adódó azonnali feladatok (max. 15%) | F12: működőképeség biztosítása | I12: Babosdöbréte | J12: =SUM(O12:AC12) -> 2338.1 | L12: 44562 | M12: 50040 | O12: 152 | P12: =0.15*$C$67 -> 156.15 | Q12: =0.15*$C$67 -> 156.15 | R12: =0.15*$C$67 -> 156.15 | S12: =0.15*$C$67 -> 156.15 | T12: =0.15*$C$67 -> 156.15 | U12: =0.15*$C$67 -> 156.15 | V12: =0.15*$C$67 -> 156.15 | W12: =0.15*$C$67 -> 156.15 | ... AC12: =0.15*$C$67 -> 156.15
B13: MÉLYFÚRÁSÚ KÚT, HAGYOMÁNYOS ÁTMÉRŐVEL
B14: Épület, építmény
B16: Gép, berendezés
B18: Irányítástechnika, energiaellátás
B20: Összesen: | J20: =SUM(J12:J19) -> 2338.1
A21: III. Vízműtelep és vízkezelő létesítmények
C22: Helyszín | D22: beruházás megnevezése
B23: VÍZMŰTELEP
B24: Épület, építmény
B26: Gép, berendezés
B28: Irányítástechnika, energiaellátás
B30: VÍZKEZELŐ LÉTESÍTMÉNYEK
B31: Épület, építmény
B33: Gép, berendezés
B35: Irányítástechnika, energiaellátás
B37: Összesen | J37: =SUM(J25:J36) -> 0
A38: IV. Vízelosztás
C39: Helyszín | D39: beruházás megnevezése
B40: IVÓVÍZHÁLÓZAT
B41: Épület, építmény
A42: 31 | C42: Babosdöbréte | D42: vezeték kiváltás, rekonstrukció, felújítás | E42: A vezeték állapota anyaga, kora, minősége miatt nem megfelelő, elavult. | F42: A vezeték elavult műszaki állapota miatt gyakoriak a csőtörések. | G42: A vízvezeték kiváltás a vízigények figyelembevételével megfelelő átmérőjű és anyagú hálózatot kapunk. | I42: Babosdöbréte | J42: =SUM(O42:AC42) -> 3179 | L42: 44927 | M42: 46387 | N42: közép | P42: 1016 | R42: 1449 | S42: 714
C43: Babosdöbréte | D43: vezeték kiváltás, rekonstrukció, felújítás | E43: A vezeték állapota anyaga, kora, minősége miatt nem megfelelő, elavult. | F43: A vezeték elavult műszaki állapota miatt gyakoriak a csőtörések. | G43: A vízvezeték kiváltás a vízigények figyelembevételével megfelelő átmérőjű és anyagú hálózatot kapunk. | I43: Babosdöbréte | J43: =SUM(O43:AC43) -> 7430 | L43: 46388 | M43: 50040 | N43: hosszú | T43: 743 | U43: 743 | V43: 743 | W43: 743 | X43: 743 | Y43: 743 | Z43: 743 | AA43: 743 | AB43: 743 | AC43: 743
B44: Gép, berendezés
B46: Irányítástechnika, energiaellátás
B48: VÍZTÁROLÓK
B49: Épület, építmény
B51: Gép, berendezés
B53: Irányítástechnika, energiaellátás
...

Sheet Bagod
A1: Gördülő fejlesztési terv a 2022 - 2036 időszakra
A2: FELÚJÍTÁSOK ÉS PÓTLÁSOK ÖSSZEFOGLALÓ TÁBLÁZATA
A3: A tervet benyújtó szervezet megnevezése: | K3: BAGOD | R3: ellátásért felelős / ellátásért felelősök képviselője / víziközmű-szolgáltató *
A4: Víziközmű-szolgáltató megnevezése: | K4: ÉSZAK ZALAI VÍZ- ÉS CSATORNAMŰ ZÁRTKÖRŰEN MŰKÖDŐ RÉSZVÉNYTÁRSASÁG
A5: Víziközmű-szolgáltatási ágazat megnevezése: | K5: IVÓVÍZ ÁGAZAT
A6: Véleményeltérést megfogalmazó érintett fél megnevezése:
A7: Víziközmű-rendszer kódja: ** | K7: 11-32054-1-025-01-14 | R7: ZALAEGERSZEG-IV
A8: I. Felszín alatti vízkivétel
A9: Fontossági sorrend | B9: Felujítás és pótlás megnevezése | E9: Műszaki állapot felmérés, szükségességi indoklás | H9: Vízjogi létesítési/elvi engedély száma | I9: Az érintett ellátásért felelős(ök) megnevezése | J9: Tervezett nettó költség | K9: Forrás 2022 évre | L9: Megvalósítás időtartama | N9: Tervezett időtáv | O9: A beruházás ütemezése a tervezési időszak évei szerint
E10: Jelenlegi műszaki állapot | F10: Feladat szükségessége | G10: Megvalósítást követő várható műszaki állapot | J10: (eFt) | L10: Kezdés | M10: Befejezés | N10: (rövid / közép / hosszú) | O10: 1 | P10: 2 | Q10: 3 | R10: 4 | S10: 5 | T10: 6 | U10: 7 | V10: 8 | W10: 9 | X10: 10 | Y10: 11 | Z10: 12 | AA10: 13 | AB10: 14 | AC10: 15
B11: szakág | C11: Helyszín | D11: beruházás megnevezése
A12: 1 | C12: Bagod | D12: Rendkívüli helyzetből adódó azonnali feladatok (max. 15%) | F12: működőképeség biztosítása | I12: Bagod | J12: =SUM(O12:AC12) -> 9602.5 | L12: 44562 | M12: 50040 | O12: =0.2*$C$71 -> 835 | P12: =0.15*$C$71 -> 626.25 | Q12: =0.15*$C$71 -> 626.25 | R12: =0.15*$C$71 -> 626.25 | S12: =0.15*$C$71 -> 626.25 | T12: =0.15*$C$71 -> 626.25 | U12: =0.15*$C$71 -> 626.25 | V12: =0.15*$C$71 -> 626.25 | W12: =0.15*$C$71 -> 626.25 | ... AC12: =0.15*$C$71 -> 626.25
B13: MÉLYFÚRÁSÚ KÚT, HAGYOMÁNYOS ÁTMÉRŐVEL
B14: Épület, építmény
B16: Gép, berendezés
B18: Irányítástechnika, energiaellátás
B20: Összesen: | J20: =SUM(J12:J19) -> 9602.5
A21: III. Vízműtelep és vízkezelő létesítmények
C22: Helyszín | D22: beruházás megnevezése
B23: VÍZMŰTELEP
B24: Épület, építmény
B26: Gép, berendezés
B28: Irányítástechnika, energiaellátás
B30: VÍZKEZELŐ LÉTESÍTMÉNYEK
B31: Épület, építmény
B33: Gép, berendezés
B35: Irányítástechnika, energiaellátás
B37: Összesen | J37: =SUM(J25:J36) -> 0
A38: IV. Vízelosztás
C39: Helyszín | D39: beruházás megnevezése
B40: IVÓVÍZHÁLÓZAT
B41: Épület, építmény
C42: Bagod | D42: tűzcsap építés, csere | E42: A szerelvény állapota anyaga, kora, minősége miatt nem megfelelő, elavult. | F42: A vezeték elavult műszaki állapota miatt gyakoriak a csőtörések | G42: A szerelvény kiváltás, a vízigények figyelembevételével megfelelő átmérőjű és anyagú hálózatot kapunk. | H42: - | I42: Bagod | J42: =SUM(O42:AC42) -> 600 | L42: 45658 | M42: 46022 | N42: közép | R42: 600
C43: Bagod | D43: vezeték kiváltás, rekonstrukció, felújítás | E43: A vezeték állapota anyaga, kora, minősége miatt nem megfelelő, elavult. | F43: A vezeték elavult műszaki állapota miatt gyakoriak a csőtörések | G43: A vízvezeték kiváltás, a vízigények figyelembevételével megfelelő átmérőjű és anyagú hálózatot kapunk. | H43: - | I43: Bagod | J43: =SUM(O43:AC43) -> 1500 | L43: 45658 | M43: 46022 | N43: közép | R43: 1500
C44: Bagod | D44: bekötéscsere | E44: A vezeték állapota anyaga, kora, minősége miatt nem megfelelő, elavult. | F44: A vezeték elavult műszaki állapota miatt gyakoriak a csőtörések | G44: A vízvezeték kiváltás, a vízigények figyelembevételével megfelelő átmérőjű és anyagú hálózatot kapunk. | H44: - | I44: Bagod | J44: =SUM(O44:AC44) -> 1000 | L44: 45658 | M44: 46022 | N44: közép | R44: 1000
C45: Bagod Vitenyédi út | D45: gerincvezeték csere (d225 1210 fm) | E45: A vezeték állapota anyaga, kora, minősége miatt nem megfelelő, elavult. | F45: A vezeték elavult műszaki állapota miatt gyakoriak a csőtörések | G45: A vízvezeték kiváltás, a vízigények figyelembevételével megfelelő átmérőjű és anyagú hálózatot kapunk. | I45: Bagod | J45: =SUM(O45:AC45) -> 9600 | L45: 46023 | M45: 46387 | N45: közép | S45: 9600
C46: Bagod Vitenyédi út | D46: gerincvezeték csere (d225 1210 fm) | E46: A vezeték állapota anyaga, kora, minősége miatt nem megfelelő, elavult. | F46: A vezeték elavult műszaki állapota miatt gyakoriak a csőtörések | G46: A vízvezeték kiváltás, a vízigények figyelembevételével megfelelő átmérőjű és anyagú hálózatot kapunk. | I46: Bagod | J46: =SUM(O46:AC46) -> 38400 | L46: 46388 | M46: 47848 | N46: hosszú | T46: 9600 | U46: 9600 | V46: 9600 | W46: 9600
C47: Bagod | D47: vezeték kiváltás, rekonstrukció, felújítás | E47: A vezeték állapota anyaga, kora, minősége miatt nem megfelelő, elavult. | F47: A vezeték elavult műszaki állapota miatt gyakoriak a csőtörések | G47: A vízvezeték kiváltás, a vízigények figyelembevételével megfelelő átmérőjű és anyagú hálózatot kapunk. | H47: - | I47: Bagod | J47: =SUM(O47:AC47) -> 135210 | L47: 46388 | M47: 50040 | N47: hosszú | T47: 13521 | U47: 13521 | V47: 13521 | W47: 13521 | X47: 13521 | Y47: 13521 | Z47: 13521 | AA47: 13521 | AB47: 13521 | AC47: 13521
C48: Bagod Ady Endre utca | D48: gerincvezeték csere (d225 800 fm) | E48: A vezeték állapota anyaga, kora, minősége miatt nem megfelelő, elavult. | F48: A vezeték elavult műszaki állapota miatt gyakoriak a csőtörések | G48: A vízvezeték kiváltás, a vízigények figyelembevételével megfelelő átmérőjű és anyagú hálózatot kapunk. | H48: - | I48: Bagod | J48: =SUM(O48:AC48) -> 32500 | L48: 47849 | M48: 49674 | N48: hosszú | X48: 6500 | Y48: 6500 | Z48: 6500 | AA48: 6500 | AB48: 6500
B49: Gép, berendezés
...

Sheet Becsvölgye
A1: Gördülő fejlesztési terv a 2022 - 2036 időszakra
A2: FELÚJÍTÁSOK ÉS PÓTLÁSOK ÖSSZEFOGLALÓ TÁBLÁZATA
A3: A tervet benyújtó szervezet megnevezése: | K3: BECSVÖLGYE | R3: ellátásért felelős / ellátásért felelősök képviselője / víziközmű-szolgáltató *
A4: Víziközmű-szolgáltató megnevezése: | K4: ÉSZAK ZALAI VÍZ- ÉS CSATORNAMŰ ZÁRTKÖRŰEN MŰKÖDŐ RÉSZVÉNYTÁRSASÁG
A5: Víziközmű-szolgáltatási ágazat megnevezése: | K5: IVÓVÍZ ÁGAZAT
A6: Véleményeltérést megfogalmazó érintett fél megnevezése:
A7: Víziközmű-rendszer kódja: ** | K7: 11-32054-1-025-01-14 | R7: ZALAEGERSZEG-IV
A8: I. Felszín alatti vízkivétel
A9: Fontossági sorrend | B9: Felujítás és pótlás megnevezése | E9: Műszaki állapot felmérés, szükségességi indoklás | H9: Vízjogi létesítési/elvi engedély száma | I9: Az érintett ellátásért felelős(ök) megnevezése | J9: Tervezett nettó költség | K9: Forrás 2022 évre | L9: Megvalósítás időtartama | N9: Tervezett időtáv | O9: A beruházás ütemezése a tervezési időszak évei szerint
E10: Jelenlegi műszaki állapot | F10: Feladat szükségessége | G10: Megvalósítást követő várható műszaki állapot | J10: (eFt) | L10: Kezdés | M10: Befejezés | N10: (rövid / közép / hosszú) | O10: 1 | P10: 2 | Q10: 3 | R10: 4 | S10: 5 | T10: 6 | U10: 7 | V10: 8 | W10: 9 | X10: 10 | Y10: 11 | Z10: 12 | AA10: 13 | AB10: 14 | AC10: 15
B11: szakág | C11: Helyszín | D11: beruházás megnevezése
A12: 1 | C12: Becsvölgye | D12: Rendkívüli helyzetből adódó azonnali feladatok (max. 15%) | F12: működőképeség biztosítása | I12: Becsvölgye | J12: =SUM(O12:AC12) -> 4298.7 | L12: 44562 | M12: 50040 | O12: =0.2*$C$65 -> 373.8 | P12: =0.15*$C$65 -> 280.35 | Q12: =0.15*$C$65 -> 280.35 | R12: =0.15*$C$65 -> 280.35 | S12: =0.15*$C$65 -> 280.35 | T12: =0.15*$C$65 -> 280.35 | U12: =0.15*$C$65 -> 280.35 | V12: =0.15*$C$65 -> 280.35 | W12: =0.15*$C$65 -> 280.35 | ... AC12: =0.15*$C$65 -> 280.35
B13: MÉLYFÚRÁSÚ KÚT, HAGYOMÁNYOS ÁTMÉRŐVEL
B14: Épület, építmény
B16: Gép, berendezés
B18: Irányítástechnika, energiaellátás
B20: Összesen: | J20: =SUM(J12:J19) -> 4298.7
A21: III. Vízműtelep és vízkezelő létesítmények
C22: Helyszín | D22: beruházás megnevezése
B23: VÍZMŰTELEP
B24: Épület, építmény
B26: Gép, berendezés
B28: Irányítástechnika, energiaellátás
B30: VÍZKEZELŐ LÉTESÍTMÉNYEK
B31: Épület, építmény
B33: Gép, berendezés
B35: Irányítástechnika, energiaellátás
B37: Összesen | J37: =SUM(J25:J36) -> 0
A38: IV. Vízelosztás
C39: Helyszín | D39: beruházás megnevezése
B40: IVÓVÍZHÁLÓZAT
B41: Épület, építmény
B43: Gép, berendezés
B45: Irányítástechnika, energiaellátás
B47: VÍZTÁROLÓK
B48: Épület, építmény
B50: Gép, berendezés
C51: Kustánszeg víztorony | D51: közmű gépészet felújítása | E51: A technológia, szerelvények és vezetékek, műszaki állapota miatt fennáll a meghibásodás veszélye. | F51: A víztárolás gépészeti berendezései nem töltik be funkciójukat (nyitás-zárás). Az avultsági szint miatt fennáll a meghibásodás veszélye | G51: Megfelelő hatékonyságú technológia. A gépészeti funkciókat kifogástalanul ellátó szerelvények | I51: Becsvölgye osztatlan közös | J51: =SUM(O51:AC51) -> 2213 | L51: 45292 | M51: 46022 | N51: közép | Q51: 1080 | R51: 1133
B52: Irányítástechnika, energiaellátás
C53: Kustánszeg víztorony | D53: villamos és irányítástechnika felújítása | E53: Az elektromos, irányítástechnikai szerelvények és vezetékek, műszaki állapota miatt fennáll a meghibásodás veszélye. | F53: A víztárolók elektromos megtáplálása, a folyamatos távfelügyelet biztosítása. | G53: Az elektromos paramétereihez illeszkedő erős- és gyengeáramú vezérlőszekrény. | I53: Becsvölgye osztatlan közös | J53: =SUM(O53:AC53) -> 1824 | L53: 45292 | M53: 46022 | N53: közép | Q53: 1452 | R53: 372
...

Sheet Bocfölde
A1: Gördülő fejlesztési terv a 2022 - 2036 időszakra
A2: FELÚJÍTÁSOK ÉS PÓTLÁSOK ÖSSZEFOGLALÓ TÁBLÁZATA
A3: A tervet benyújtó szervezet megnevezése: | K3: BOCFÖLDE | R3: ellátásért felelős / ellátásért felelősök képviselője / víziközmű-szolgáltató *
A4: Víziközmű-szolgáltató megnevezése: | K4: ÉSZAK ZALAI VÍZ- ÉS CSATORNAMŰ ZÁRTKÖRŰEN MŰKÖDŐ RÉSZVÉNYTÁRSASÁG
A5: Víziközmű-szolgáltatási ágazat megnevezése: | K5: IVÓVÍZ ÁGAZAT
A6: Véleményeltérést megfogalmazó érintett fél megnevezése:
A7: Víziközmű-rendszer kódja: ** | K7: 11-32054-1-025-01-14 | R7: ZALAEGERSZEG-IV
A8: I. Felszín alatti vízkivétel
A9: Fontossági sorrend | B9: Felujítás és pótlás megnevezése | E9: Műszaki állapot felmérés, szükségességi indoklás | H9: Vízjogi létesítési/elvi engedély száma | I9: Az érintett ellátásért felelős(ök) megnevezése | J9: Tervezett nettó költség | K9: Forrás 2022 évre | L9: Megvalósítás időtartama | N9: Tervezett időtáv | O9: A beruházás ütemezése a tervezési időszak évei szerint
E10: Jelenlegi műszaki állapot | F10: Feladat szükségessége | G10: Megvalósítást követő várható műszaki állapot | J10: (eFt) | L10: Kezdés | M10: Befejezés | N10: (rövid / közép / hosszú) | O10: 1 | P10: 2 | Q10: 3 | R10: 4 | S10: 5 | T10: 6 | U10: 7 | V10: 8 | W10: 9 | X10: 10 | Y10: 11 | Z10: 12 | AA10: 13 | AB10: 14 | AC10: 15
B11: szakág | C11: Helyszín | D11: beruházás megnevezése
A12: 1 | C12: Bocfölde | D12: Rendkívüli helyzetből adódó azonnali feladatok (max. 15%) | F12: működőképeség biztosítása | I12: Bocfölde | J12: =SUM(O12:AC12) -> 9586.4 | L12: 44562 | M12: 50040 | O12: =0.2*$C$65 -> 833.6 | P12: =0.15*$C$65 -> 625.2 | Q12: =0.15*$C$65 -> 625.2 | R12: =0.15*$C$65 -> 625.2 | S12: =0.15*$C$65 -> 625.2 | T12: =0.15*$C$65 -> 625.2 | U12: =0.15*$C$65 -> 625.2 | V12: =0.15*$C$65 -> 625.2 | W12: =0.15*$C$65 -> 625.2 | ... AC12: =0.15*$C$65 -> 625.2
B13: MÉLYFÚRÁSÚ KÚT, HAGYOMÁNYOS ÁTMÉRŐVEL
B14: Épület, építmény
B16: Gép, berendezés
B18: Irányítástechnika, energiaellátás
B20: Összesen: | J20: =SUM(J12:J19) -> 9586.4
A21: III. Vízműtelep és vízkezelő létesítmények
C22: Helyszín | D22: beruházás megnevezése
B23: VÍZMŰTELEP
B24: Épület, építmény
B26: Gép, berendezés
B28: Irányítástechnika, energiaellátás
B30: VÍZKEZELŐ LÉTESÍTMÉNYEK
B31: Épület, építmény
B33: Gép, berendezés
B35: Irányítástechnika, energiaellátás
B37: Összesen | J37: =SUM(J25:J36) -> 0
A38: IV. Vízelosztás
C39: Helyszín | D39: beruházás megnevezése
B40: IVÓVÍZHÁLÓZAT
B41: Épület, építmény
B43: Gép, berendezés
B45: Irányítástechnika, energiaellátás
B47: VÍZTÁROLÓK
B48: Épület, építmény
A49: 20 | C49: Bocfölde magaslti tároló | D49: 2 db hátsó tároló belépő lapostető szigetelés felújítás | E49: Az objektum kora, műszaki állapota miatt fennáll a meghibásodás veszélye. | F49: A felhasználók folyamatos vízellátásának biztosítására | G49: Az elvárt vízigényeket kielégítő megfelelő műszaki állapotú vízbázis. | I49: Bocfölde | J49: =SUM(O49:AC49) -> 400 | L49: 44562 | M49: 44926 | N49: rövid | O49: 400
B50: Gép, berendezés
B52: Irányítástechnika, energiaellátás
B54: NYOMÁSFOKOZÓK
...

Sheet Boncodfölde
A1: Gördülő fejlesztési terv a 2022 - 2036 időszakra
A2: FELÚJÍTÁSOK ÉS PÓTLÁSOK ÖSSZEFOGLALÓ TÁBLÁZATA
A3: A tervet benyújtó szervezet megnevezése: | K3: BONCODFÖLDE | R3: ellátásért felelős / ellátásért felelősök képviselője / víziközmű-szolgáltató *
A4: Víziközmű-szolgáltató megnevezése: | K4: ÉSZAK ZALAI VÍZ- ÉS CSATORNAMŰ ZÁRTKÖRŰEN MŰKÖDŐ RÉSZVÉNYTÁRSASÁG
A5: Víziközmű-szolgáltatási ágazat megnevezése: | K5: IVÓVÍZ ÁGAZAT
A6: Véleményeltérést megfogalmazó érintett fél megnevezése:
A7: Víziközmű-rendszer kódja: ** | K7: 11-32054-1-025-01-14 | R7: ZALAEGERSZEG-IV
A8: I. Felszín alatti vízkivétel
A9: Fontossági sorrend | B9: Felujítás és pótlás megnevezése | E9: Műszaki állapot felmérés, szükségességi indoklás | H9: Vízjogi létesítési/elvi engedély száma | I9: Az érintett ellátásért felelős(ök) megnevezése | J9: Tervezett nettó költség | K9: Forrás 2022 évre | L9: Megvalósítás időtartama | N9: Tervezett időtáv | O9: A beruházás ütemezése a tervezési időszak évei szerint
E10: Jelenlegi műszaki állapot | F10: Feladat szükségessége | G10: Megvalósítást követő várható műszaki állapot | J10: (eFt) | L10: Kezdés | M10: Befejezés | N10: (rövid / közép / hosszú) | O10: 1 | P10: 2 | Q10: 3 | R10: 4 | S10: 5 | T10: 6 | U10: 7 | V10: 8 | W10: 9 | X10: 10 | Y10: 11 | Z10: 12 | AA10: 13 | AB10: 14 | AC10: 15
B11: szakág | C11: Helyszín | D11: beruházás megnevezése
A12: 1 | C12: Boncodfölde | D12: Rendkívüli helyzetből adódó azonnali feladatok (max. 15%) | F12: működőképeség biztosítása | I12: Boncodfölde | J12: =SUM(O12:AC12) -> 3797.3 | L12: 44562 | M12: 50040 | O12: =0.2*$C$65 -> 330.2 | P12: =0.15*$C$65 -> 247.65 | Q12: =0.15*$C$65 -> 247.65 | R12: =0.15*$C$65 -> 247.65 | S12: =0.15*$C$65 -> 247.65 | T12: =0.15*$C$65 -> 247.65 | U12: =0.15*$C$65 -> 247.65 | V12: =0.15*$C$65 -> 247.65 | W12: =0.15*$C$65 -> 247.65 | ... AC12: =0.15*$C$65 -> 247.65
B13: MÉLYFÚRÁSÚ KÚT, HAGYOMÁNYOS ÁTMÉRŐVEL
B14: Épület, építmény
B16: Gép, berendezés
B18: Irányítástechnika, energiaellátás
B20: Összesen: | J20: =SUM(J12:J19) -> 3797.3
A21: III. Vízműtelep és vízkezelő létesítmények
C22: Helyszín | D22: beruházás megnevezése
B23: VÍZMŰTELEP
B24: Épület, építmény
B26: Gép, berendezés
B28: Irányítástechnika, energiaellátás
B30: VÍZKEZELŐ LÉTESÍTMÉNYEK
B31: Épület, építmény
B33: Gép, berendezés
B35: Irányítástechnika, energiaellátás
B37: Összesen | J37: =SUM(J25:J36) -> 0
A38: IV. Vízelosztás
C39: Helyszín | D39: beruházás megnevezése
B40: IVÓVÍZHÁLÓZAT
B41: Épület, építmény
B43: Gép, berendezés
B45: Irányítástechnika, energiaellátás
B47: VÍZTÁROLÓK
B48: Épület, építmény
B50: Gép, berendezés
B52: Irányítástechnika, energiaellátás
B54: NYOMÁSFOKOZÓK
B55: Épület, építmény
...

Sheet Böde
A1: Gördülő fejlesztési terv a 2022 - 2036 időszakra
A2: FELÚJÍTÁSOK ÉS PÓTLÁSOK ÖSSZEFOGLALÓ TÁBLÁZATA
A3: A tervet benyújtó szervezet megnevezése: | K3: BÖDE | R3: ellátásért felelős / ellátásért felelősök képviselője / víziközmű-szolgáltató *
A4: Víziközmű-szolgáltató megnevezése: | K4: ÉSZAK ZALAI VÍZ- ÉS CSATORNAMŰ ZÁRTKÖRŰEN MŰKÖDŐ RÉSZVÉNYTÁRSASÁG
A5: Víziközmű-szolgáltatási ágazat megnevezése: | K5: IVÓVÍZ ÁGAZAT
A6: Véleményeltérést megfogalmazó érintett fél megnevezése:
A7: Víziközmű-rendszer kódja: ** | K7: 11-32054-1-025-01-14 | R7: ZLAEGERSZEG-IV
A8: I. Felszín alatti vízkivétel
A9: Fontossági sorrend | B9: Felujítás és pótlás megnevezése | E9: Műszaki állapot felmérés, szükségességi indoklás | H9: Vízjogi létesítési/elvi engedély száma | I9: Az érintett ellátásért felelős(ök) megnevezése | J9: Tervezett nettó költség | K9: Forrás 2022 évre | L9: Megvalósítás időtartama | N9: Tervezett időtáv | O9: A beruházás ütemezése a tervezési időszak évei szerint
E10: Jelenlegi műszaki állapot | F10: Feladat szükségessége | G10: Megvalósítást követő várható műszaki állapot | J10: (eFt) | L10: Kezdés | M10: Befejezés | N10: (rövid / közép / hosszú) | O10: 1 | P10: 2 | Q10: 3 | R10: 4 | S10: 5 | T10: 6 | U10: 7 | V10: 8 | W10: 9 | X10: 10 | Y10: 11 | Z10: 12 | AA10: 13 | AB10: 14 | AC10: 15
B11: szakág | C11: Helyszín | D11: beruházás megnevezése
A12: 1 | C12: Böde | D12: Rendkívüli helyzetből adódó azonnali feladatok (max. 15%) | F12: működőképeség biztosítása | I12: Böde | J12: =SUM(O12:AC12) -> 1379.5 | L12: 44562 | M12: 50040 | O12: =1*$C$65 -> 445 | P12: =0.15*$K$61 -> 66.75 | Q12: =0.15*$K$61 -> 66.75 | R12: =0.15*$K$61 -> 66.75 | S12: =0.15*$K$61 -> 66.75 | T12: =0.15*$K$61 -> 66.75 | U12: =0.15*$K$61 -> 66.75 | V12: =0.15*$K$61 -> 66.75 | W12: =0.15*$K$61 -> 66.75 | ... AC12: =0.15*$K$61 -> 66.75
B13: MÉLYFÚRÁSÚ KÚT, HAGYOMÁNYOS ÁTMÉRŐVEL
B14: Épület, építmény
B16: Gép, berendezés
B18: Irányítástechnika, energiaellátás
B20: Összesen: | J20: =SUM(J12:J19) -> 1379.5
A21: III. Vízműtelep és vízkezelő létesítmények
C22: Helyszín | D22: beruházás megnevezése
B23: VÍZMŰTELEP
B24: Épület, építmény
B26: Gép, berendezés
B28: Irányítástechnika, energiaellátás
B30: VÍZKEZELŐ LÉTESÍTMÉNYEK
B31: Épület, építmény
B33: Gép, berendezés
B35: Irányítástechnika, energiaellátás
B37: Összesen | J37: =SUM(J25:J36) -> 0
A38: IV. Vízelosztás
C39: Helyszín | D39: beruházás megnevezése
B40: IVÓVÍZHÁLÓZAT
B41: Épület, építmény
B43: Gép, berendezés
B45: Irányítástechnika, energiaellátás
B47: VÍZTÁROLÓK
B48: Épület, építmény
B50: Gép, berendezés
B52: Irányítástechnika, energiaellátás
B53: NYOMÁSFOKOZÓK
B54: Épület, építmény
...

Sheet Csatár
A1: Gördülő fejlesztési terv a 2022 - 2036 időszakra
A2: FELÚJÍTÁSOK ÉS PÓTLÁSOK ÖSSZEFOGLALÓ TÁBLÁZATA
A3: A tervet benyújtó szervezet megnevezése: | K3: CSATÁR | R3: ellátásért felelős / ellátásért felelősök képviselője / víziközmű-szolgáltató *
A4: Víziközmű-szolgáltató megnevezése: | K4: ÉSZAK ZALAI VÍZ- ÉS CSATORNAMŰ ZÁRTKÖRŰEN MŰKÖDŐ RÉSZVÉNYTÁRSASÁG
A5: Víziközmű-szolgáltatási ágazat megnevezése: | K5: IVÓVÍZ ÁGAZAT
A6: Véleményeltérést megfogalmazó érintett fél megnevezése:
A7: Víziközmű-rendszer kódja: ** | K7: 11-32054-1-025-01-14 | R7: ZALAEGERSZEG-IV
A8: I. Felszín alatti vízkivétel
A9: Fontossági sorrend | B9: Felujítás és pótlás megnevezése | E9: Műszaki állapot felmérés, szükségességi indoklás | H9: Vízjogi létesítési/elvi engedély száma | I9: Az érintett ellátásért felelős(ök) megnevezése | J9: Tervezett nettó költség | K9: Forrás 2022 évre | L9: Megvalósítás időtartama | N9: Tervezett időtáv | O9: A beruházás ütemezése a tervezési időszak évei szerint
E10: Jelenlegi műszaki állapot | F10: Feladat szükségessége | G10: Megvalósítást követő várható műszaki állapot | J10: (eFt) | L10: Kezdés | M10: Befejezés | N10: (rövid / közép / hosszú) | O10: 1 | P10: 2 | Q10: 3 | R10: 4 | S10: 5 | T10: 6 | U10: 7 | V10: 8 | W10: 9 | X10: 10 | Y10: 11 | Z10: 12 | AA10: 13 | AB10: 14 | AC10: 15
B11: szakág | C11: Helyszín | D11: beruházás megnevezése
A12: 1 | C12: Csatár | D12: Rendkívüli helyzetből adódó azonnali feladatok (max. 15%) | F12: működőképeség biztosítása | I12: Csatár | J12: =SUM(O12:AC12) -> 2845.1 | L12: 44562 | M12: 50040 | O12: =0.2*$C$66 -> 247.4 | P12: =0.15*$C$66 -> 185.55 | Q12: =0.15*$C$66 -> 185.55 | R12: =0.15*$C$66 -> 185.55 | S12: =0.15*$C$66 -> 185.55 | T12: =0.15*$C$66 -> 185.55 | U12: =0.15*$C$66 -> 185.55 | V12: =0.15*$C$66 -> 185.55 | W12: =0.15*$C$66 -> 185.55 | ... AC12: =0.15*$C$66 -> 185.55
B13: MÉLYFÚRÁSÚ KÚT, HAGYOMÁNYOS ÁTMÉRŐVEL
B14: Épület, építmény
B16: Gép, berendezés
B18: Irányítástechnika, energiaellátás
B20: Összesen: | J20: =SUM(J12:J19) -> 2845.1
A21: III. Vízműtelep és vízkezelő létesítmények
C22: Helyszín | D22: beruházás megnevezése
B23: VÍZMŰTELEP
B24: Épület, építmény
B26: Gép, berendezés
B28: Irányítástechnika, energiaellátás
B30: VÍZKEZELŐ LÉTESÍTMÉNYEK
B31: Épület, építmény
B33: Gép, berendezés
B35: Irányítástechnika, energiaellátás
B37: Összesen | J37: =SUM(J25:J36) -> 0
A38: IV. Vízelosztás
C39: Helyszín | D39: beruházás megnevezése
B40: IVÓVÍZHÁLÓZAT
B41: Épület, építmény
C42: Csatár Kossuth u. I. ütem | D42: vezeték kiváltás, rekonstrukció, felújítás | E42: A vezeték állapota anyaga, kora, minősége miatt nem megfelelő, elavult. | F42: A vezeték elavult műszaki állapota miatt gyakoriak a csőtörések | G42: A vízvezeték kiváltás, a vízigények figyelembevételével megfelelő átmérőjű és anyagú hálózatot kapunk. | I42: Csatár | J42: =SUM(O42:AC42) -> 3884 | L42: 44927 | M42: 46387 | N42: közép | P42: 971 | Q42: 971 | R42: 971 | S42: 971
C43: Csatár Kossuth u. II. ütem | D43: vezeték kiváltás, rekonstrukció, felújítás | E43: A vezeték állapota anyaga, kora, minősége miatt nem megfelelő, elavult. | F43: A vezeték elavult műszaki állapota miatt gyakoriak a csőtörések | G43: A vízvezeték kiváltás, a vízigények figyelembevételével megfelelő átmérőjű és anyagú hálózatot kapunk. | I43: Csatár | J43: =SUM(O43:AC43) -> 971 | L43: 46388 | M43: 46752 | N43: hosszú | T43: 971
B44: Gép, berendezés
B46: Irányítástechnika, energiaellátás
B48: VÍZTÁROLÓK
B49: Épület, építmény
B51: Gép, berendezés
B53: Irányítástechnika, energiaellátás
...

Sheet Csonkahegyhát
A1: Gördülő fejlesztési terv a 2022 - 2036 időszakra
A2: FELÚJÍTÁSOK ÉS PÓTLÁSOK ÖSSZEFOGLALÓ TÁBLÁZATA
A3: A tervet benyújtó szervezet megnevezése: | K3: CSONKAHEGYHÁT | R3: ellátásért felelős / ellátásért felelősök képviselője / víziközmű-szolgáltató *
A4: Víziközmű-szolgáltató megnevezése: | K4: ÉSZAK ZALAI VÍZ- ÉS CSATORNAMŰ ZÁRTKÖRŰEN MŰKÖDŐ RÉSZVÉNYTÁRSASÁG
A5: Víziközmű-szolgáltatási ágazat megnevezése: | K5: IVÓVÍZ ÁGAZAT
A6: Véleményeltérést megfogalmazó érintett fél megnevezése:
A7: Víziközmű-rendszer kódja: ** | K7: 11-32054-1-025-01-14 | R7: ZALAEGERSZEG-IV
A8: I. Felszín alatti vízkivétel
A9: Fontossági sorrend | B9: Felujítás és pótlás megnevezése | E9: Műszaki állapot felmérés, szükségességi indoklás | H9: Vízjogi létesítési/elvi engedély száma | I9: Az érintett ellátásért felelős(ök) megnevezése | J9: Tervezett nettó költség | K9: Forrás 2022 évre | L9: Megvalósítás időtartama | N9: Tervezett időtáv | O9: A beruházás ütemezése a tervezési időszak évei szerint
E10: Jelenlegi műszaki állapot | F10: Feladat szükségessége | G10: Megvalósítást követő várható műszaki állapot | J10: (eFt) | L10: Kezdés | M10: Befejezés | N10: (rövid / közép / hosszú) | O10: 1 | P10: 2 | Q10: 3 | R10: 4 | S10: 5 | T10: 6 | U10: 7 | V10: 8 | W10: 9 | X10: 10 | Y10: 11 | Z10: 12 | AA10: 13 | AB10: 14 | AC10: 15
B11: szakág | C11: Helyszín | D11: beruházás megnevezése
A12: 1 | C12: Csonkahegyhát | D12: Rendkívüli helyzetből adódó azonnali feladatok (max. 15%) | F12: működőképeség biztosítása | I12: Csonkahegyhát | J12: =SUM(O12:AC12) -> 1060.2 | L12: 44562 | M12: 50040 | O12: =1*$C$65 -> 342 | P12: =0.15*$C$65 -> 51.3 | Q12: =0.15*$C$65 -> 51.3 | R12: =0.15*$C$65 -> 51.3 | S12: =0.15*$C$65 -> 51.3 | T12: =0.15*$C$65 -> 51.3 | U12: =0.15*$C$65 -> 51.3 | V12: =0.15*$C$65 -> 51.3 | W12: =0.15*$C$65 -> 51.3 | ... AC12: =0.15*$C$65 -> 51.3
B13: MÉLYFÚRÁSÚ KÚT, HAGYOMÁNYOS ÁTMÉRŐVEL
B14: Épület, építmény
B16: Gép, berendezés
B18: Irányítástechnika, energiaellátás
B20: Összesen: | J20: =SUM(J12:J19) -> 1060.2
A21: III. Vízműtelep és vízkezelő létesítmények
C22: Helyszín | D22: beruházás megnevezése
B23: VÍZMŰTELEP
B24: Épület, építmény
B26: Gép, berendezés
B28: Irányítástechnika, energiaellátás
B30: VÍZKEZELŐ LÉTESÍTMÉNYEK
B31: Épület, építmény
B33: Gép, berendezés
B35: Irányítástechnika, energiaellátás
B37: Összesen | J37: =SUM(J25:J36) -> 0
A38: IV. Vízelosztás
C39: Helyszín | D39: beruházás megnevezése
B40: IVÓVÍZHÁLÓZAT
B41: Épület, építmény
B43: Gép, berendezés
B45: Irányítástechnika, energiaellátás
B47: VÍZTÁROLÓK
B48: Épület, építmény
B50: Gép, berendezés
B52: Irányítástechnika, energiaellátás
B54: NYOMÁSFOKOZÓK
B55: Épület, építmény
...

Sheet Dobronhegy
A1: Gördülő fejlesztési terv a 2022 - 2036 időszakra
A2: FELÚJÍTÁSOK ÉS PÓTLÁSOK ÖSSZEFOGLALÓ TÁBLÁZATA
A3: A tervet benyújtó szervezet megnevezése: | K3: DOBRONHEGY | R3: ellátásért felelős / ellátásért felelősök képviselője / víziközmű-szolgáltató *
A4: Víziközmű-szolgáltató megnevezése: | K4: ÉSZAK ZALAI VÍZ- ÉS CSATORNAMŰ ZÁRTKÖRŰEN MŰKÖDŐ RÉSZVÉNYTÁRSASÁG
A5: Víziközmű-szolgáltatási ágazat megnevezése: | K5: IVÓVÍZ ÁGAZAT
A6: Véleményeltérést megfogalmazó érintett fél megnevezése:
A7: Víziközmű-rendszer kódja: ** | K7: 11-32054-1-025-01-14 | R7: ZALAEGERSZEG-IV
A8: I. Felszín alatti vízkivétel
A9: Fontossági sorrend | B9: Felujítás és pótlás megnevezése | E9: Műszaki állapot felmérés, szükségességi indoklás | H9: Vízjogi létesítési/elvi engedély száma | I9: Az érintett ellátásért felelős(ök) megnevezése | J9: Tervezett nettó költség | K9: Forrás 2022 évre | L9: Megvalósítás időtartama | N9: Tervezett időtáv | O9: A beruházás ütemezése a tervezési időszak évei szerint
E10: Jelenlegi műszaki állapot | F10: Feladat szükségessége | G10: Megvalósítást követő várható műszaki állapot | J10: (eFt) | L10: Kezdés | M10: Befejezés | N10: (rövid / közép / hosszú) | O10: 1 | P10: 2 | Q10: 3 | R10: 4 | S10: 5 | T10: 6 | U10: 7 | V10: 8 | W10: 9 | X10: 10 | Y10: 11 | Z10: 12 | AA10: 13 | AB10: 14 | AC10: 15
B11: szakág | C11: Helyszín | D11: beruházás megnevezése
A12: 1 | C12: Dobronhegy | D12: Rendkívüli helyzetből adódó azonnali feladatok (max. 15%) | F12: működőképeség biztosítása | I12: Dobronhegy | J12: =SUM(O12:AC12) -> 468.1 | L12: 44562 | M12: 50040 | O12: =1*$C$65 -> 151 | P12: =0.15*$C$65 -> 22.65 | Q12: =0.15*$C$65 -> 22.65 | R12: =0.15*$C$65 -> 22.65 | S12: =0.15*$C$65 -> 22.65 | T12: =0.15*$C$65 -> 22.65 | U12: =0.15*$C$65 -> 22.65 | V12: =0.15*$C$65 -> 22.65 | W12: =0.15*$C$65 -> 22.65 | ... AC12: =0.15*$C$65 -> 22.65
B13: MÉLYFÚRÁSÚ KÚT, HAGYOMÁNYOS ÁTMÉRŐVEL
B14: Épület, építmény
B16: Gép, berendezés
B18: Irányítástechnika, energiaellátás
B20: Összesen: | J20: =SUM(J12:J19) -> 468.1
A21: III. Vízműtelep és vízkezelő létesítmények
C22: Helyszín | D22: beruházás megnevezése
B23: VÍZMŰTELEP
B24: Épület, építmény
B26: Gép, berendezés
B28: Irányítástechnika, energiaellátás
B30: VÍZKEZELŐ LÉTESÍTMÉNYEK
B31: Épület, építmény
B33: Gép, berendezés
B35: Irányítástechnika, energiaellátás
B37: Összesen | J37: =SUM(J25:J36) -> 0
A38: IV. Vízelosztás
C39: Helyszín | D39: beruházás megnevezése
B40: IVÓVÍZHÁLÓZAT
B41: Épület, építmény
C42: Dobronhegy Petőfi u. | D42: csőhíd csere (NA100 6 fm) | E42: A vezeték állapota anyaga, kora, minősége miatt nem megfelelő, elavult. | F42: A vezeték elavult műszaki állapota miatt gyakoriak a csőtörések | G42: A vízvezeték kiváltás, a vízigények figyelembevételével megfelelő átmérőjű és anyagú hálózatot kapunk. | H42: - | I42: Dobronhegy | J42: =SUM(O42:AC42) -> 400 | L42: 47484 | M42: 48944 | N42: hosszú | W42: 100 | X42: 100 | Y42: 100 | Z42: 100
B43: Gép, berendezés
B45: Irányítástechnika, energiaellátás
B47: VÍZTÁROLÓK
B48: Épület, építmény
B50: Gép, berendezés
B52: Irányítástechnika, energiaellátás
B54: NYOMÁSFOKOZÓK
...

Sheet Hagyárosbörönd
A1: Gördülő fejlesztési terv a 2022 - 2036 időszakra
A2: FELÚJÍTÁSOK ÉS PÓTLÁSOK ÖSSZEFOGLALÓ TÁBLÁZATA
A3: A tervet benyújtó szervezet megnevezése: | K3: HAGYÁROSBÖRÖND | R3: ellátásért felelős / ellátásért felelősök képviselője / víziközmű-szolgáltató *
A4: Víziközmű-szolgáltató megnevezése: | K4: ÉSZAK ZALAI VÍZ- ÉS CSATORNAMŰ ZÁRTKÖRŰEN MŰKÖDŐ RÉSZVÉNYTÁRSASÁG
A5: Víziközmű-szolgáltatási ágazat megnevezése: | K5: IVÓVÍZ ÁGAZAT
A6: Véleményeltérést megfogalmazó érintett fél megnevezése:
A7: Víziközmű-rendszer kódja: ** | K7: 11-32054-1-025-01-14 | R7: ZALAEGERSZEG-IV
A8: I. Felszín alatti vízkivétel
A9: Fontossági sorrend | B9: Felujítás és pótlás megnevezése | E9: Műszaki állapot felmérés, szükségességi indoklás | H9: Vízjogi létesítési/elvi engedély száma | I9: Az érintett ellátásért felelős(ök) megnevezése | J9: Tervezett nettó költség | K9: Forrás 2022 évre | L9: Megvalósítás időtartama | N9: Tervezett időtáv | O9: A beruházás ütemezése a tervezési időszak évei szerint
E10: Jelenlegi műszaki állapot | F10: Feladat szükségessége | G10: Megvalósítást követő várható műszaki állapot | J10: (eFt) | L10: Kezdés | M10: Befejezés | N10: (rövid / közép / hosszú) | O10: 1 | P10: 2 | Q10: 3 | R10: 4 | S10: 5 | T10: 6 | U10: 7 | V10: 8 | W10: 9 | X10: 10 | Y10: 11 | Z10: 12 | AA10: 13 | AB10: 14 | AC10: 15
B11: szakág | C11: Helyszín | D11: beruházás megnevezése
A12: 1 | C12: Hagyárosbörönd | D12: Rendkívüli helyzetből adódó azonnali feladatok (max. 15%) | F12: működőképeség biztosítása | I12: Hagyárosbörönd | J12: =SUM(O12:AC12) -> 1996.4 | L12: 44562 | M12: 50040 | O12: =1*$C$66 -> 644 | P12: =0.15*$C$66 -> 96.6 | Q12: =0.15*$C$66 -> 96.6 | R12: =0.15*$C$66 -> 96.6 | S12: =0.15*$C$66 -> 96.6 | T12: =0.15*$C$66 -> 96.6 | U12: =0.15*$C$66 -> 96.6 | V12: =0.15*$C$66 -> 96.6 | W12: =0.15*$C$66 -> 96.6 | ... AC12: =0.15*$C$66 -> 96.6
B13: MÉLYFÚRÁSÚ KÚT, HAGYOMÁNYOS ÁTMÉRŐVEL
B14: Épület, építmény
B16: Gép, berendezés
B18: Irányítástechnika, energiaellátás
B20: Összesen: | J20: =SUM(J12:J19) -> 1996.4
A21: III. Vízműtelep és vízkezelő létesítmények
C22: Helyszín | D22: beruházás megnevezése
B23: VÍZMŰTELEP
B24: Épület, építmény
B26: Gép, berendezés
B28: Irányítástechnika, energiaellátás
B30: VÍZKEZELŐ LÉTESÍTMÉNYEK
B31: Épület, építmény
B33: Gép, berendezés
B35: Irányítástechnika, energiaellátás
B37: Összesen | J37: =SUM(J25:J36) -> 0
A38: IV. Vízelosztás
C39: Helyszín | D39: beruházás megnevezése
B40: IVÓVÍZHÁLÓZAT
B41: Épület, építmény
C42: Hagyárosbörönd | D42: tűzcsap építés, csere | E42: A szerelvény állapota anyaga, kora, minősége miatt nem megfelelő, elavult. | F42: A vezeték elavult műszaki állapota miatt gyakoriak a csőtörések | G42: A szerelvény kiváltás, a vízigények figyelembevételével megfelelő átmérőjű és anyagú hálózatot kapunk. | H42: - | I42: Hagyárosbörönd | J42: =SUM(O42:AC42) -> 600 | L42: 44927 | M42: 45291 | N42: közép | P42: 600
B43: Gép, berendezés
B45: Irányítástechnika, energiaellátás
B47: VÍZTÁROLÓK
B48: Épület, építmény
B50: Gép, berendezés
B52: Irányítástechnika, energiaellátás
B54: NYOMÁSFOKOZÓK
...

Sheet Hottó
A1: Gördülő fejlesztési terv a 2022 - 2036 időszakra
A2: FELÚJÍTÁSOK ÉS PÓTLÁSOK ÖSSZEFOGLALÓ TÁBLÁZATA
A3: A tervet benyújtó szervezet megnevezése: | K3: HOTTÓ | R3: ellátásért felelős / ellátásért felelősök képviselője / víziközmű-szolgáltató *
A4: Víziközmű-szolgáltató megnevezése: | K4: ÉSZAK ZALAI VÍZ- ÉS CSATORNAMŰ ZÁRTKÖRŰEN MŰKÖDŐ RÉSZVÉNYTÁRSASÁG
A5: Víziközmű-szolgáltatási ágazat megnevezése: | K5: IVÓVÍZ ÁGAZAT
A6: Véleményeltérést megfogalmazó érintett fél megnevezése:
A7: Víziközmű-rendszer kódja: ** | K7: 11-32054-1-025-01-14 | R7: ZALAEGERSZEG-IV
A8: I. Felszín alatti vízkivétel
A9: Fontossági sorrend | B9: Felujítás és pótlás megnevezése | E9: Műszaki állapot felmérés, szükségességi indoklás | H9: Vízjogi létesítési/elvi engedély száma | I9: Az érintett ellátásért felelős(ök) megnevezése | J9: Tervezett nettó költség | K9: Forrás 2022 évre | L9: Megvalósítás időtartama | N9: Tervezett időtáv | O9: A beruházás ütemezése a tervezési időszak évei szerint
E10: Jelenlegi műszaki állapot | F10: Feladat szükségessége | G10: Megvalósítást követő várható műszaki állapot | J10: (eFt) | L10: Kezdés | M10: Befejezés | N10: (rövid / közép / hosszú) | O10: 1 | P10: 2 | Q10: 3 | R10: 4 | S10: 5 | T10: 6 | U10: 7 | V10: 8 | W10: 9 | X10: 10 | Y10: 11 | Z10: 12 | AA10: 13 | AB10: 14 | AC10: 15
B11: szakág | C11: Helyszín | D11: beruházás megnevezése
A12: 1 | C12: Hottó | D12: Rendkívüli helyzetből adódó azonnali feladatok (max. 15%) | F12: működőképeség biztosítása | I12: Hottó | J12: =SUM(O12:AC12) -> 2337.4 | L12: 44562 | M12: 50040 | O12: =1*$C$66 -> 754 | P12: =0.15*$C$66 -> 113.1 | Q12: =0.15*$C$66 -> 113.1 | R12: =0.15*$C$66 -> 113.1 | S12: =0.15*$C$66 -> 113.1 | T12: =0.15*$C$66 -> 113.1 | U12: =0.15*$C$66 -> 113.1 | V12: =0.15*$C$66 -> 113.1 | W12: =0.15*$C$66 -> 113.1 | ... AC12: =0.15*$C$66 -> 113.1
B13: MÉLYFÚRÁSÚ KÚT, HAGYOMÁNYOS ÁTMÉRŐVEL
B14: Épület, építmény
B16: Gép, berendezés
B18: Irányítástechnika, energiaellátás
B20: Összesen: | J20: =SUM(J12:J19) -> 2337.4
A21: III. Vízműtelep és vízkezelő létesítmények
C22: Helyszín | D22: beruházás megnevezése
B23: VÍZMŰTELEP
B24: Épület, építmény
B26: Gép, berendezés
B28: Irányítástechnika, energiaellátás
B30: VÍZKEZELŐ LÉTESÍTMÉNYEK
B31: Épület, építmény
B33: Gép, berendezés
B35: Irányítástechnika, energiaellátás
B37: Összesen | J37: =SUM(J25:J36) -> 0
A38: IV. Vízelosztás
C39: Helyszín | D39: beruházás megnevezése
B40: IVÓVÍZHÁLÓZAT
B41: Épület, építmény
C42: Hottó | D42: vezeték kiváltás, rekonstrukció, felújítás | E42: A vezeték állapota anyaga, kora, minősége miatt nem megfelelő, elavult. | F42: A vezeték elavult műszaki állapota miatt gyakoriak a csőtörések. | G42: A vízvezeték kiváltás a vízigények figyelembevételével megfelelő átmérőjű és anyagú hálózatot kapunk. | I42: Hottó | J42: =SUM(O42:AC42) -> 965 | L42: 44927 | M42: 45291 | N42: közép | P42: 965
B44: Gép, berendezés
B46: Irányítástechnika, energiaellátás
B48: VÍZTÁROLÓK
B49: Épület, építmény
B51: Gép, berendezés
B53: Irányítástechnika, energiaellátás
B54: NYOMÁSFOKOZÓK
...

Sheet Kávás
A1: Gördülő fejlesztési terv a 2022 - 2036 időszakra
A2: FELÚJÍTÁSOK ÉS PÓTLÁSOK ÖSSZEFOGLALÓ TÁBLÁZATA
A3: A tervet benyújtó szervezet megnevezése: | K3: KÁVÁS | R3: ellátásért felelős / ellátásért felelősök képviselője / víziközmű-szolgáltató *
A4: Víziközmű-szolgáltató megnevezése: | K4: ÉSZAK ZALAI VÍZ- ÉS CSATORNAMŰ ZÁRTKÖRŰEN MŰKÖDŐ RÉSZVÉNYTÁRSASÁG
A5: Víziközmű-szolgáltatási ágazat megnevezése: | K5: IVÓVÍZ ÁGAZAT
A6: Véleményeltérést megfogalmazó érintett fél megnevezése:
A7: Víziközmű-rendszer kódja: ** | K7: 11-32054-1-025-01-14 | R7: ZALAEGERSZEG-IV
A8: I. Felszín alatti vízkivétel
A9: Fontossági sorrend | B9: Felujítás és pótlás megnevezése | E9: Műszaki állapot felmérés, szükségességi indoklás | H9: Vízjogi létesítési/elvi engedély száma | I9: Az érintett ellátásért felelős(ök) megnevezése | J9: Tervezett nettó költség | K9: Forrás 2022 évre | L9: Megvalósítás időtartama | N9: Tervezett időtáv | O9: A beruházás ütemezése a tervezési időszak évei szerint
E10: Jelenlegi műszaki állapot | F10: Feladat szükségessége | G10: Megvalósítást követő várható műszaki állapot | J10: (eFt) | L10: Kezdés | M10: Befejezés | N10: (rövid / közép / hosszú) | O10: 1 | P10: 2 | Q10: 3 | R10: 4 | S10: 5 | T10: 6 | U10: 7 | V10: 8 | W10: 9 | X10: 10 | Y10: 11 | Z10: 12 | AA10: 13 | AB10: 14 | AC10: 15
B11: szakág | C11: Helyszín | D11: beruházás megnevezése
A12: 1 | C12: Kávás | D12: Rendkívüli helyzetből adódó azonnali feladatok (max.15%) | F12: működőképeség biztosítása | I12: Kávás | J12: =SUM(O12:AC12) -> 2191.7 | L12: 44562 | M12: 50040 | O12: =1*$C$66 -> 707 | P12: =0.15*$C$66 -> 106.05 | Q12: =0.15*$C$66 -> 106.05 | R12: =0.15*$C$66 -> 106.05 | S12: =0.15*$C$66 -> 106.05 | T12: =0.15*$C$66 -> 106.05 | U12: =0.15*$C$66 -> 106.05 | V12: =0.15*$C$66 -> 106.05 | W12: =0.15*$C$66 -> 106.05 | ... AC12: =0.15*$C$66 -> 106.05
B13: MÉLYFÚRÁSÚ KÚT, HAGYOMÁNYOS ÁTMÉRŐVEL
B14: Épület, építmény
B16: Gép, berendezés
B18: Irányítástechnika, energiaellátás
B20: Összesen: | J20: =SUM(J12:J19) -> 2191.7
A21: III. Vízműtelep és vízkezelő létesítmények
C22: Helyszín | D22: beruházás megnevezése
B23: VÍZMŰTELEP
B24: Épület, építmény
B26: Gép, berendezés
B28: Irányítástechnika, energiaellátás
B30: VÍZKEZELŐ LÉTESÍTMÉNYEK
B31: Épület, építmény
B33: Gép, berendezés
B35: Irányítástechnika, energiaellátás
B37: Összesen | J37: =SUM(J25:J36) -> 0
A38: IV. Vízelosztás
C39: Helyszín | D39: beruházás megnevezése
B40: IVÓVÍZHÁLÓZAT
B41: Épület, építmény
C42: Kávás | D42: tűzcsap építés, csere | E42: A szerelvény állapota anyaga, kora, minősége miatt nem megfelelő, elavult. | F42: A szerelvény elavult műszaki állapota miatt gyakoriak a csőtörések | G42: A szerelvény kiváltás, a vízigények figyelembevételével megfelelő átmérőjű és anyagú hálózatot kapunk. | I42: Kávás | J42: =SUM(O42:AC42) -> 762 | L42: 44927 | M42: 45291 | N42: közép | P42: 762
C43: Kávás | D43: vezeték kiváltás, rekonstrukció, felújítás | E43: A vezeték állapota anyaga, kora, minősége miatt nem megfelelő, elavult. | F43: A vezeték elavult műszaki állapota miatt gyakoriak a csőtörések | G43: A vízvezeték kiváltás, a vízigények figyelembevételével megfelelő átmérőjű és anyagú hálózatot kapunk. | I43: Kávás | J43: =SUM(O43:AC43) -> 83990 | L43: 46388 | M43: 50040 | N43: hosszú | T43: 8399 | U43: 8399 | V43: 8399 | W43: 8399 | X43: 8399 | Y43: 8399 | Z43: 8399 | AA43: 8399 | AB43: 8399 | AC43: 8399
B44: Gép, berendezés
B46: Irányítástechnika, energiaellátás
B48: VÍZTÁROLÓK
B49: Épület, építmény
B51: Gép, berendezés
B53: Irányítástechnika, energiaellátás
...

Sheet Kiskutas
A1: Gördülő fejlesztési terv a 2022 - 2036 időszakra
A2: FELÚJÍTÁSOK ÉS PÓTLÁSOK ÖSSZEFOGLALÓ TÁBLÁZATA
A3: A tervet benyújtó szervezet megnevezése: | K3: KISKUTAS | R3: ellátásért felelős / ellátásért felelősök képviselője / víziközmű-szolgáltató *
A4: Víziközmű-szolgáltató megnevezése: | K4: ÉSZAK ZALAI VÍZ- ÉS CSATORNAMŰ ZÁRTKÖRŰEN MŰKÖDŐ RÉSZVÉNYTÁRSASÁG
A5: Víziközmű-szolgáltatási ágazat megnevezése: | K5: IVÓVÍZ ÁGAZAT
A6: Véleményeltérést megfogalmazó érintett fél megnevezése:
A7: Víziközmű-rendszer kódja: ** | K7: 11-32054-1-025-01-14 | R7: ZALAEGERSZEG-IV
A8: I. Felszín alatti vízkivétel
A9: Fontossági sorrend | B9: Felujítás és pótlás megnevezése | E9: Műszaki állapot felmérés, szükségességi indoklás | H9: Vízjogi létesítési/elvi engedély száma | I9: Az érintett ellátásért felelős(ök) megnevezése | J9: Tervezett nettó költség | K9: Forrás 2022 évre | L9: Megvalósítás időtartama | N9: Tervezett időtáv | O9: A beruházás ütemezése a tervezési időszak évei szerint
E10: Jelenlegi műszaki állapot | F10: Feladat szükségessége | G10: Megvalósítást követő várható műszaki állapot | J10: (eFt) | L10: Kezdés | M10: Befejezés | N10: (rövid / közép / hosszú) | O10: 1 | P10: 2 | Q10: 3 | R10: 4 | S10: 5 | T10: 6 | U10: 7 | V10: 8 | W10: 9 | X10: 10 | Y10: 11 | Z10: 12 | AA10: 13 | AB10: 14 | AC10: 15
B11: szakág | C11: Helyszín | D11: beruházás megnevezése
A12: 1 | C12: Kiskutas | D12: Rendkívüli helyzetből adódó azonnali feladatok (max. 15%) | F12: működőképeség biztosítása | I12: Kiskutas | J12: =SUM(O12:AC12) -> 1391.9 | L12: 44562 | M12: 50040 | O12: =1*$C$66 -> 449 | P12: =0.15*$C$66 -> 67.35 | Q12: =0.15*$C$66 -> 67.35 | R12: =0.15*$C$66 -> 67.35 | S12: =0.15*$C$66 -> 67.35 | T12: =0.15*$C$66 -> 67.35 | U12: =0.15*$C$66 -> 67.35 | V12: =0.15*$C$66 -> 67.35 | W12: =0.15*$C$66 -> 67.35 | ... AC12: =0.15*$C$66 -> 67.35
B13: MÉLYFÚRÁSÚ KÚT, HAGYOMÁNYOS ÁTMÉRŐVEL
B14: Épület, építmény
B16: Gép, berendezés
B18: Irányítástechnika, energiaellátás
B20: Összesen: | J20: =SUM(J12:J19) -> 1391.9
A21: III. Vízműtelep és vízkezelő létesítmények
C22: Helyszín | D22: beruházás megnevezése
B23: VÍZMŰTELEP
B24: Épület, építmény
B26: Gép, berendezés
B28: Irányítástechnika, energiaellátás
B30: VÍZKEZELŐ LÉTESÍTMÉNYEK
B31: Épület, építmény
B33: Gép, berendezés
B35: Irányítástechnika, energiaellátás
B37: Összesen | J37: =SUM(J25:J36) -> 0
A38: IV. Vízelosztás
C39: Helyszín | D39: beruházás megnevezése
B40: IVÓVÍZHÁLÓZAT
B41: Épület, építmény
C42: Kiskutas átemelő és a település között | D42: gerincvezeték csere (D160 410 fm | E42: A vezeték állapota anyaga, kora, minősége miatt nem megfelelő, elavult. | F42: A vezeték elavult műszaki állapota miatt gyakoriak a csőtörések | G42: A vezeték kiváltás, a vízigények figyelembevételével megfelelő átmérőjű és anyagú hálózatot kapunk. | I42: Kiskutas | J42: =SUM(O42:AC42) -> 14350 | L42: 46388 | M42: 50040 | N42: hosszú | T42: 1435 | U42: 1435 | V42: 1435 | W42: 1435 | X42: 1435 | Y42: 1435 | Z42: 1435 | AA42: 1435 | AB42: 1435 | AC42: 1435
B43: Gép, berendezés
B45: Irányítástechnika, energiaellátás
B47: VÍZTÁROLÓK
B48: Épület, építmény
B50: Gép, berendezés
B52: Irányítástechnika, energiaellátás
B54: NYOMÁSFOKOZÓK
...

Sheet Kispáli
A1: Gördülő fejlesztési terv a 2022 - 2036 időszakra
A2: FELÚJÍTÁSOK ÉS PÓTLÁSOK ÖSSZEFOGLALÓ TÁBLÁZATA
A3: A tervet benyújtó szervezet megnevezése: | K3: KISPÁLI | R3: ellátásért felelős / ellátásért felelősök képviselője / víziközmű-szolgáltató *
A4: Víziközmű-szolgáltató megnevezése: | K4: ÉSZAK ZALAI VÍZ- ÉS CSATORNAMŰ ZÁRTKÖRŰEN MŰKÖDŐ RÉSZVÉNYTÁRSASÁG
A5: Víziközmű-szolgáltatási ágazat megnevezése: | K5: IVÓVÍZ ÁGAZAT
A6: Véleményeltérést megfogalmazó érintett fél megnevezése:
A7: Víziközmű-rendszer kódja: ** | K7: 11-32054-1-025-01-14 | R7: ZALAEGERSZEG-IV
A8: I. Felszín alatti vízkivétel
A9: Fontossági sorrend | B9: Felujítás és pótlás megnevezése | E9: Műszaki állapot felmérés, szükségességi indoklás | H9: Vízjogi létesítési/elvi engedély száma | I9: Az érintett ellátásért felelős(ök) megnevezése | J9: Tervezett nettó költség | K9: Forrás 2022 évre | L9: Megvalósítás időtartama | N9: Tervezett időtáv | O9: A beruházás ütemezése a tervezési időszak évei szerint
E10: Jelenlegi műszaki állapot | F10: Feladat szükségessége | G10: Megvalósítást követő várható műszaki állapot | J10: (eFt) | L10: Kezdés | M10: Befejezés | N10: (rövid / közép / hosszú) | O10: 1 | P10: 2 | Q10: 3 | R10: 4 | S10: 5 | T10: 6 | U10: 7 | V10: 8 | W10: 9 | X10: 10 | Y10: 11 | Z10: 12 | AA10: 13 | AB10: 14 | AC10: 15
B11: szakág | C11: Helyszín | D11: beruházás megnevezése
A12: 1 | C12: Kispáli | D12: Rendkívüli helyzetből adódó azonnali feladatok (max.15%) | F12: működőképeség biztosítása | I12: Kispáli | J12: =SUM(O12:AC12) -> 3870 | L12: 44562 | M12: 50040 | O12: =0.15*$C$69 -> 258 | P12: =0.15*$C$69 -> 258 | Q12: =0.15*$C$69 -> 258 | R12: =0.15*$C$69 -> 258 | S12: =0.15*$C$69 -> 258 | T12: =0.15*$C$69 -> 258 | U12: =0.15*$C$69 -> 258 | V12: =0.15*$C$69 -> 258 | ... AC12: =0.15*$C$69 -> 258
B13: MÉLYFÚRÁSÚ KÚT, HAGYOMÁNYOS ÁTMÉRŐVEL
B14: Épület, építmény
B16: Gép, berendezés
B18: Irányítástechnika, energiaellátás
B20: Összesen: | J20: =SUM(J12:J19) -> 3870
A21: III. Vízműtelep és vízkezelő létesítmények
C22: Helyszín | D22: beruházás megnevezése
B23: VÍZMŰTELEP
B24: Épület, építmény
B26: Gép, berendezés
B28: Irányítástechnika, energiaellátás
B30: VÍZKEZELŐ LÉTESÍTMÉNYEK
B31: Épület, építmény
B33: Gép, berendezés
B35: Irányítástechnika, energiaellátás
B37: Összesen | J37: =SUM(J25:J36) -> 0
A38: IV. Vízelosztás
C39: Helyszín | D39: beruházás megnevezése
B40: IVÓVÍZHÁLÓZAT
B41: Épület, építmény
A42: 13 | C42: Kispáli | D42: bekötéscsere | E42: A vezeték állapota anyaga, kora, minősége miatt nem megfelelő, elavult. | F42: A bekötővezeték anyaga vízbiztonsági kockázatot rejt magában, illetve nagyobb a valószínűsége a meghibásodásnak. | G42: A vízvezeték kiváltás, a vízigények figyelembevételével megfelelő átmérőjű és anyagú hálózatot kapunk. | H42: - | I42: Kispáli | J42: =SUM(O42:AC42) -> 1031 | L42: 44562 | M42: 44926 | N42: rövid | O42: 1031
C43: Kispáli | D43: bekötéscsere | E43: A vezeték állapota anyaga, kora, minősége miatt nem megfelelő, elavult. | F43: A bekötővezeték anyaga vízbiztonsági kockázatot rejt magában, illetve nagyobb a valószínűsége a meghibásodásnak. | G43: A vízvezeték kiváltás, a vízigények figyelembevételével megfelelő átmérőjű és anyagú hálózatot kapunk. | H43: - | I43: Kispáli | J43: =SUM(O43:AC43) -> 4124 | L43: 44927 | M43: 46387 | N43: közép | P43: 1031 | Q43: 1031 | R43: 1031 | S43: 1031
C44: Kispáli | D44: tűzcsap építés, csere | E44: A vezeték állapota anyaga, kora, minősége miatt nem megfelelő, elavult. | F44: A vezeték elavult műszaki állapota miatt gyakoriak a csőtörések. | G44: A vízvezeték kiváltás, a vízigények figyelembevételével megfelelő átmérőjű és anyagú hálózatot kapunk. | H44: - | I44: Kispáli | J44: =SUM(O44:AC44) -> 2062 | L44: 45292 | M44: 46022 | N44: közép | Q44: 1031 | R44: 1031
C45: Kispáli | D45: bekötéscsere | E45: A vezeték állapota anyaga, kora, minősége miatt nem megfelelő, elavult. | F45: A bekötővezeték anyaga vízbiztonsági kockázatot rejt magában, illetve nagyobb a valószínűsége a meghibásodásnak. | G45: A vízvezeték kiváltás, a vízigények figyelembevételével megfelelő átmérőjű és anyagú hálózatot kapunk. | H45: - | I45: Kispáli | J45: =SUM(O45:AC45) -> 10310 | L45: 46388 | M45: 50040 | N45: hosszú | T45: 1031 | U45: 1031 | V45: 1031 | W45: 1031 | X45: 1031 | Y45: 1031 | Z45: 1031 | AA45: 1031 | AB45: 1031 | AC45: 1031
B46: Gép, berendezés
B48: Irányítástechnika, energiaellátás
B50: VÍZTÁROLÓK
B51: Épület, építmény
...

Sheet Kustánszeg
A1: Gördülő fejlesztési terv a 2022 - 2036 időszakra
A2: FELÚJÍTÁSOK ÉS PÓTLÁSOK ÖSSZEFOGLALÓ TÁBLÁZATA
A3: A tervet benyújtó szervezet megnevezése: | K3: KUSTÁNSZEG | R3: ellátásért felelős / ellátásért felelősök képviselője / víziközmű-szolgáltató *
A4: Víziközmű-szolgáltató megnevezése: | K4: ÉSZAK ZALAI VÍZ- ÉS CSATORNAMŰ ZÁRTKÖRŰEN MŰKÖDŐ RÉSZVÉNYTÁRSASÁG
A5: Víziközmű-szolgáltatási ágazat megnevezése: | K5: IVÓVÍZ ÁGAZAT
A6: Véleményeltérést megfogalmazó érintett fél megnevezése:
A7: Víziközmű-rendszer kódja: ** | K7: 11-32054-1-025-01-14 | R7: ZALAEGERSZEG-IV
A8: I. Felszín alatti vízkivétel
A9: Fontossági sorrend | B9: Felujítás és pótlás megnevezése | E9: Műszaki állapot felmérés, szükségességi indoklás | H9: Vízjogi létesítési/elvi engedély száma | I9: Az érintett ellátásért felelős(ök) megnevezése | J9: Tervezett nettó költség | K9: Forrás 2022 évre | L9: Megvalósítás időtartama | N9: Tervezett időtáv | O9: A beruházás ütemezése a tervezési időszak évei szerint
E10: Jelenlegi műszaki állapot | F10: Feladat szükségessége | G10: Megvalósítást követő várható műszaki állapot | J10: (eFt) | L10: Kezdés | M10: Befejezés | N10: (rövid / közép / hosszú) | O10: 1 | P10: 2 | Q10: 3 | R10: 4 | S10: 5 | T10: 6 | U10: 7 | V10: 8 | W10: 9 | X10: 10 | Y10: 11 | Z10: 12 | AA10: 13 | AB10: 14 | AC10: 15
B11: szakág | C11: Helyszín | D11: beruházás megnevezése
A12: 1 | C12: Kustánszeg | D12: Rendkívüli helyzetből adódó azonnali feladatok (max. 5%) | F12: működőképeség biztosítása | I12: Kustánszeg | J12: =SUM(O12:AC12) -> 6356.25 | L12: 44562 | M12: 50040 | O12: =0.15*$C$65 -> 423.75 | P12: =0.15*$C$65 -> 423.75 | Q12: =0.15*$C$65 -> 423.75 | R12: =0.15*$C$65 -> 423.75 | S12: =0.15*$C$65 -> 423.75 | T12: =0.15*$C$65 -> 423.75 | U12: =0.15*$C$65 -> 423.75 | V12: =0.15*$C$65 -> 423.75 | ... AC12: =0.15*$C$65 -> 423.75
B13: MÉLYFÚRÁSÚ KÚT, HAGYOMÁNYOS ÁTMÉRŐVEL
B14: Épület, építmény
B16: Gép, berendezés
B18: Irányítástechnika, energiaellátás
B20: Összesen: | J20: =SUM(J12:J19) -> 6356.25
A21: III. Vízműtelep és vízkezelő létesítmények
C22: Helyszín | D22: beruházás megnevezése
B23: VÍZMŰTELEP
B24: Épület, építmény
B26: Gép, berendezés
B28: Irányítástechnika, energiaellátás
B30: VÍZKEZELŐ LÉTESÍTMÉNYEK
B31: Épület, építmény
B33: Gép, berendezés
B35: Irányítástechnika, energiaellátás
B37: Összesen | J37: =SUM(J25:J36) -> 0
A38: IV. Vízelosztás
C39: Helyszín | D39: beruházás megnevezése
B40: IVÓVÍZHÁLÓZAT
B41: Épület, építmény
B43: Gép, berendezés
B45: Irányítástechnika, energiaellátás
B47: VÍZTÁROLÓK
B48: Épület, építmény
B50: Gép, berendezés
C51: Kustánszeg víztorony | D51: közmű gépészet felújítása | E51: A technológia, szerelvények és vezetékek, műszaki állapota miatt fennáll a meghibásodás veszélye. | F51: A víztárolás gépészeti berendezései nem töltik be funkciójukat (nyitás-zárás). Az avultsági szint miatt fennáll a meghibásodás veszélye | G51: Megfelelő hatékonyságú technológia. A gépészeti funkciókat kifogástalanul ellátó szerelvények | I51: Becsvölgye osztatlan közös | J51: =SUM(O51:AC51) -> 1427 | L51: 45292 | M51: 46022 | N51: közép | Q51: 562 | R51: 865
B52: Irányítástechnika, energiaellátás
C53: Kustánszeg víztorony | D53: villamos és irányítástechnika felújítása | E53: Az elektromos, irányítástechnikai szerelvények és vezetékek, műszaki állapota miatt fennáll a meghibásodás veszélye. | F53: A víztárolók elektromos megtáplálása, a folyamatos távfelügyelet biztosítása. | G53: Az elektromos paramétereihez illeszkedő erős- és gyengeáramú vezérlőszekrény. | I53: Becsvölgye osztatlan közös | J53: =SUM(O53:AC53) -> 1176 | L53: 45658 | M53: 46022 | N53: közép | R53: 1176
...

Sheet Milejszeg
A1: Gördülő fejlesztési terv a 2022 - 2036 időszakra
A2: FELÚJÍTÁSOK ÉS PÓTLÁSOK ÖSSZEFOGLALÓ TÁBLÁZATA
A3: A tervet benyújtó szervezet megnevezése: | K3: MILEJSZEG | R3: ellátásért felelős / ellátásért felelősök képviselője / víziközmű-szolgáltató *
A4: Víziközmű-szolgáltató megnevezése: | K4: ÉSZAK ZALAI VÍZ- ÉS CSATORNAMŰ ZÁRTKÖRŰEN MŰKÖDŐ RÉSZVÉNYTÁRSASÁG
A5: Víziközmű-szolgáltatási ágazat megnevezése: | K5: IVÓVÍZ ÁGAZAT
A6: Véleményeltérést megfogalmazó érintett fél megnevezése:
A7: Víziközmű-rendszer kódja: ** | K7: 11-32054-1-025-01-14 | R7: ZALAEGERSZEG-IV
A8: I. Felszín alatti vízkivétel
A9: Fontossági sorrend | B9: Felujítás és pótlás megnevezése | E9: Műszaki állapot felmérés, szükségességi indoklás | H9: Vízjogi létesítési/elvi engedély száma | I9: Az érintett ellátásért felelős(ök) megnevezése | J9: Tervezett nettó költség | K9: Forrás 2022 évre | L9: Megvalósítás időtartama | N9: Tervezett időtáv | O9: A beruházás ütemezése a tervezési időszak évei szerint
E10: Jelenlegi műszaki állapot | F10: Feladat szükségessége | G10: Megvalósítást követő várható műszaki állapot | J10: (eFt) | L10: Kezdés | M10: Befejezés | N10: (rövid / közép / hosszú) | O10: 1 | P10: 2 | Q10: 3 | R10: 4 | S10: 5 | T10: 6 | U10: 7 | V10: 8 | W10: 9 | X10: 10 | Y10: 11 | Z10: 12 | AA10: 13 | AB10: 14 | AC10: 15
B11: szakág | C11: Helyszín | D11: beruházás megnevezése
A12: 1 | C12: Milejszeg | D12: Rendkívüli helyzetből adódó azonnali feladatok (max. 15%) | F12: működőképeség biztosítása | I12: Milejszeg | J12: =SUM(O12:AC12) -> 1174.9 | L12: 44562 | M12: 50040 | O12: =1*$C$66 -> 379 | P12: =0.15*$C$66 -> 56.85 | Q12: =0.15*$C$66 -> 56.85 | R12: =0.15*$C$66 -> 56.85 | S12: =0.15*$C$66 -> 56.85 | T12: =0.15*$C$66 -> 56.85 | U12: =0.15*$C$66 -> 56.85 | V12: =0.15*$C$66 -> 56.85 | W12: =0.15*$C$66 -> 56.85 | ... AC12: =0.15*$C$66 -> 56.85
B13: MÉLYFÚRÁSÚ KÚT, HAGYOMÁNYOS ÁTMÉRŐVEL
B14: Épület, építmény
B16: Gép, berendezés
B18: Irányítástechnika, energiaellátás
B20: Összesen: | J20: =SUM(J12:J19) -> 1174.9
A21: III. Vízműtelep és vízkezelő létesítmények
C22: Helyszín | D22: beruházás megnevezése
B23: VÍZMŰTELEP
B24: Épület, építmény
B26: Gép, berendezés
B28: Irányítástechnika, energiaellátás
B30: VÍZKEZELŐ LÉTESÍTMÉNYEK
B31: Épület, építmény
B33: Gép, berendezés
B35: Irányítástechnika, energiaellátás
B37: Összesen | J37: =SUM(J25:J36) -> 0
A38: IV. Vízelosztás
C39: Helyszín | D39: beruházás megnevezése
B40: IVÓVÍZHÁLÓZAT
B41: Épület, építmény
C42: Milejszeg - Pálfiszeg | D42: gerincvezeték csere (NA100 840 fm) | E42: A vezeték állapota anyaga, kora, minősége miatt nem megfelelő, elavult. | F42: A bekötővezeték anyaga vízbiztonsági kockázatot rejt magában, illetve nagyobb a valószínűsége a meghibásodásnak. | G42: A vízvezeték kiváltás, a vízigények figyelembevételével megfelelő átmérőjű és anyagú hálózatot kapunk. | H42: - | I42: Milejszeg | J42: =SUM(O42:AC42) -> 7200 | L42: 44927 | M42: 46387 | N42: közép | P42: 1800 | Q42: 1800 | R42: 1800 | S42: 1800
C43: Milejszeg - Pálfiszeg | D43: gerincvezeték csere (NA100 840 fm) | E43: A vezeték állapota anyaga, kora, minősége miatt nem megfelelő, elavult. | F43: A bekötővezeték anyaga vízbiztonsági kockázatot rejt magában, illetve nagyobb a valószínűsége a meghibásodásnak. | G43: A vízvezeték kiváltás, a vízigények figyelembevételével megfelelő átmérőjű és anyagú hálózatot kapunk. | H43: - | I43: Milejszeg | J43: =SUM(O43:AC43) -> 20000 | L43: 46388 | M43: 50040 | N43: hosszú | T43: 2000 | U43: 2000 | V43: 2000 | W43: 2000 | X43: 2000 | Y43: 2000 | Z43: 2000 | AA43: 2000 | AB43: 2000 | AC43: 2000
B44: Gép, berendezés
B46: Irányítástechnika, energiaellátás
B48: VÍZTÁROLÓK
B49: Épület, építmény
B51: Gép, berendezés
B53: Irányítástechnika, energiaellátás
...

Sheet Nagykutas
A1: Gördülő fejlesztési terv a 2022 - 2036 időszakra
A2: FELÚJÍTÁSOK ÉS PÓTLÁSOK ÖSSZEFOGLALÓ TÁBLÁZATA
A3: A tervet benyújtó szervezet megnevezése: | K3: NAGYKUTAS | R3: ellátásért felelős / ellátásért felelősök képviselője / víziközmű-szolgáltató *
A4: Víziközmű-szolgáltató megnevezése: | K4: ÉSZAK ZALAI VÍZ- ÉS CSATORNAMŰ ZÁRTKÖRŰEN MŰKÖDŐ RÉSZVÉNYTÁRSASÁG
A5: Víziközmű-szolgáltatási ágazat megnevezése: | K5: IVÓVÍZ ÁGAZAT
A6: Véleményeltérést megfogalmazó érintett fél megnevezése:
A7: Víziközmű-rendszer kódja: ** | K7: 11-32054-1-025-01-14 | R7: ZALAEGERSZEG-IV
A8: I. Felszín alatti vízkivétel
A9: Fontossági sorrend | B9: Felujítás és pótlás megnevezése | E9: Műszaki állapot felmérés, szükségességi indoklás | H9: Vízjogi létesítési/elvi engedély száma | I9: Az érintett ellátásért felelős(ök) megnevezése | J9: Tervezett nettó költség | K9: Forrás 2022 évre | L9: Megvalósítás időtartama | N9: Tervezett időtáv | O9: A beruházás ütemezése a tervezési időszak évei szerint
E10: Jelenlegi műszaki állapot | F10: Feladat szükségessége | G10: Megvalósítást követő várható műszaki állapot | J10: (eFt) | L10: Kezdés | M10: Befejezés | N10: (rövid / közép / hosszú) | O10: 1 | P10: 2 | Q10: 3 | R10: 4 | S10: 5 | T10: 6 | U10: 7 | V10: 8 | W10: 9 | X10: 10 | Y10: 11 | Z10: 12 | AA10: 13 | AB10: 14 | AC10: 15
B11: szakág | C11: Helyszín | D11: beruházás megnevezése
A12: 1 | C12: Nagykutas | D12: Rendkívüli helyzetből adódó azonnali feladatok (max. 15%) | F12: működőképeség biztosítása | I12: Nagykutas | J12: =SUM(O12:AC12) -> 2819.8 | L12: 44562 | M12: 50040 | O12: =0.2*$C$66 -> 245.2 | P12: =0.15*$C$66 -> 183.9 | Q12: =0.15*$C$66 -> 183.9 | R12: =0.15*$C$66 -> 183.9 | S12: =0.15*$C$66 -> 183.9 | T12: =0.15*$C$66 -> 183.9 | U12: =0.15*$C$66 -> 183.9 | V12: =0.15*$C$66 -> 183.9 | W12: =0.15*$C$66 -> 183.9 | ... AC12: =0.15*$C$66 -> 183.9
B13: MÉLYFÚRÁSÚ KÚT, HAGYOMÁNYOS ÁTMÉRŐVEL
B14: Épület, építmény
B16: Gép, berendezés
B18: Irányítástechnika, energiaellátás
B20: Összesen: | J20: =SUM(J12:J19) -> 2819.8
A21: III. Vízműtelep és vízkezelő létesítmények
C22: Helyszín | D22: beruházás megnevezése
B23: VÍZMŰTELEP
B24: Épület, építmény
B26: Gép, berendezés
B28: Irányítástechnika, energiaellátás
B30: VÍZKEZELŐ LÉTESÍTMÉNYEK
B31: Épület, építmény
B33: Gép, berendezés
B35: Irányítástechnika, energiaellátás
B37: Összesen | J37: =SUM(J25:J36) -> 0
A38: IV. Vízelosztás
C39: Helyszín | D39: beruházás megnevezése
B40: IVÓVÍZHÁLÓZAT
B41: Épület, építmény
B43: Gép, berendezés
B45: Irányítástechnika, energiaellátás
B47: VÍZTÁROLÓK
B48: Épület, építmény
B50: Gép, berendezés
B52: Irányítástechnika, energiaellátás
B54: NYOMÁSFOKOZÓK
B55: Épület, építmény
...

Sheet Nagypáli
A1: Gördülő fejlesztési terv a 2022 - 2036 időszakra
A2: FELÚJÍTÁSOK ÉS PÓTLÁSOK ÖSSZEFOGLALÓ TÁBLÁZATA
A3: A tervet benyújtó szervezet megnevezése: | K3: NAGYPÁLI | R3: ellátásért felelős / ellátásért felelősök képviselője / víziközmű-szolgáltató *
A4: Víziközmű-szolgáltató megnevezése: | K4: ÉSZAK ZALAI VÍZ- ÉS CSATORNAMŰ ZÁRTKÖRŰEN MŰKÖDŐ RÉSZVÉNYTÁRSASÁG
A5: Víziközmű-szolgáltatási ágazat megnevezése: | K5: IVÓVÍZ ÁGAZAT
A6: Véleményeltérést megfogalmazó érintett fél megnevezése:
A7: Víziközmű-rendszer kódja: ** | K7: 11-32054-1-025-01-14 | R7: ZALAEGERSZEG-IV
A8: I. Felszín alatti vízkivétel
A9: Fontossági sorrend | B9: Felujítás és pótlás megnevezése | E9: Műszaki állapot felmérés, szükségességi indoklás | H9: Vízjogi létesítési/elvi engedély száma | I9: Az érintett ellátásért felelős(ök) megnevezése | J9: Tervezett nettó költség | K9: Forrás 2022 évre | L9: Megvalósítás időtartama | N9: Tervezett időtáv | O9: A beruházás ütemezése a tervezési időszak évei szerint
E10: Jelenlegi műszaki állapot | F10: Feladat szükségessége | G10: Megvalósítást követő várható műszaki állapot | J10: (eFt) | L10: Kezdés | M10: Befejezés | N10: (rövid / közép / hosszú) | O10: 1 | P10: 2 | Q10: 3 | R10: 4 | S10: 5 | T10: 6 | U10: 7 | V10: 8 | W10: 9 | X10: 10 | Y10: 11 | Z10: 12 | AA10: 13 | AB10: 14 | AC10: 15
B11: szakág | C11: Helyszín | D11: beruházás megnevezése
