Workbook

Sheet Babosdöbréte
A1: Gördülő fejlesztési terv a 2022 - 2036 időszakra
A2: FELÚJÍTÁSOK ÉS PÓTLÁSOK ÖSSZEFOGLALÓ TÁBLÁZATA
A3: A tervet benyújtó szervezet megnevezése: | K3: BABOSDÖBRÉTE | R3: ellátásért felelős / ellátásért felelősök képviselője / víziközmű-szolgáltató *
A4: Víziközmű-szolgáltató megnevezése: | K4: ÉSZAK ZALAI VÍZ- ÉS CSATORNAMŰ ZÁRTKÖRŰEN MŰKÖDŐ RÉSZVÉNYTÁRSASÁG
A5: Víziközmű-szolgáltatási ágazat megnevezése: | K5: IVÓVÍZ ÁGAZAT
A6: Véleményeltérést megfogalmazó érintett fél megnevezése:
A7: Víziközmű-rendszer kódja: ** | K7: 11-32054-1-025-01-14 | R7: ZALAEGERSZEG-IV
A8: I. Felszín alatti vízkivétel
A9: Fontossági sorrend | B9: Felujítás és pótlás megnevezése | E9: Műszaki állapot felmérés, szükségességi indoklás | H9: Vízjogi létesítési/elvi engedély száma | I9: Az érintett ellátásért felelős(ök) megnevezése | J9: Tervezett nettó költség | K9: Forrás 2022 évre | L9: Megvalósítás időtartama | N9: Tervezett időtáv | O9: A beruházás ütemezése a tervezési időszak évei szerint
E10: Jelenlegi műszaki állapot | F10: Feladat szükségessége | G10: Megvalósítást követő várható műszaki állapot | J10: (eFt) | L10: Kezdés | M10: Befejezés | N10: (rövid / közép / hosszú) | O10: 1 | P10: 2 | Q10: 3 | R10: 4 | S10: 5 | T10: 6 | U10: 7 | V10: 8 | W10: 9 | X10: 10 | Y10: 11 | Z10: 12 | AA10: 13 | AB10: 14 | AC10: 15
B11: szakág | C11: Helyszín | D11: beruházás megnevezése
A12: 1 | C12: Babosdöbréte | D12: Rendkívüli helyzetből adódó azonnali feladatok (max. 15%) | F12: működőképeség biztosítása | I12: Babosdöbréte | J12: =SUM(O12:AC12) -> 2338.1 | L12: 44562 | M12: 50040 | O12: 152 | P12: =0.15*$C$67 -> 156.15 | Q12: =0.15*$C$67 -> 156.15 | R12: =0.15*$C$67 -> 156.15 | S12: =0.15*$C$67 -> 156.15 | T12: =0.15*$C$67 -> 156.15 | U12: =0.15*$C$67 -> 156.15 | V12: =0.15*$C$67 -> 156.15 | W12: =0.15*$C$67 -> 156.15 | ... AC12: =0.15*$C$67 -> 156.15
B13: MÉLYFÚRÁSÚ KÚT, HAGYOMÁNYOS ÁTMÉRŐVEL
B14: Épület, építmény
B16: Gép, berendezés
B18: Irányítástechnika, energiaellátás
B20: Összesen: | J20: =SUM(J12:J19) -> 2338.1
A21: III. Vízműtelep és vízkezelő létesítmények
C22: Helyszín | D22: beruházás megnevezése
B23: VÍZMŰTELEP
B24: Épület, építmény
B26: Gép, berendezés
B28: Irányítástechnika, energiaellátás
B30: VÍZKEZELŐ LÉTESÍTMÉNYEK
B31: Épület, építmény
B33: Gép, berendezés
B35: Irányítástechnika, energiaellátás
B37: Összesen | J37: =SUM(J25:J36) -> 0
A38: IV. Vízelosztás
C39: Helyszín | D39: beruházás megnevezése
B40: IVÓVÍZHÁLÓZAT
B41: Épület, építmény
A42: 31 | C42: Babosdöbréte | D42: vezeték kiváltás, rekonstrukció, felújítás | E42: A vezeték állapota anyaga, kora, minősége miatt nem megfelelő, elavult. | F42: A vezeték elavult műszaki állapota miatt gyakoriak a csőtörések. | G42: A vízvezeték kiváltás a vízigények figyelembevételével megfelelő átmérőjű és anyagú hálózatot kapunk. | I42: Babosdöbréte | J42: =SUM(O42:AC42) -> 3179 | L42: 44927 | M42: 46387 | N42: közép | P42: 1016 | R42: 1449 | S42: 714
C43: Babosdöbréte | D43: vezeték kiváltás, rekonstrukció, felújítás | E43: A vezeték állapota anyaga, kora, minősége miatt nem megfelelő, elavult. | F43: A vezeték elavult műszaki állapota miatt gyakoriak a csőtörések. | G43: A vízvezeték kiváltás a vízigények figyelembevételével megfelelő átmérőjű és anyagú hálózatot kapunk. | I43: Babosdöbréte | J43: =SUM(O43:AC43) -> 7430 | L43: 46388 | M43: 50040 | N43: hosszú | T43: 743 | U43: 743 | V43: 743 | W43: 743 | X43: 743 | Y43: 743 | Z43: 743 | AA43: 743 | AB43: 743 | AC43: 743
B44: Gép, berendezés
B46: Irányítástechnika, energiaellátás
B48: VÍZTÁROLÓK
B49: Épület, építmény
B51: Gép, berendezés
B53: Irányítástechnika, energiaellátás
B54: NYOMÁSFOKOZÓK
B55: Épület, építmény
B57: Gép, berendezés
A58: 21 | C58: Babosdöbréte Rám nyomásfokozó | D58: Szivattyú csere (EMU K64-6), teljes gépészeti rekonstrukció | E58: A szivattyú kora, műszaki állapota miatt fennáll a meghibásodás veszélye. Feladat szükségessége | F58: A folyamatos víztermelés biztosítása. | G58: A Q–H diagramhoz illeszkedő energiahatékony szivattyú üzemeltetése. | I58: Babosdöbréte | J58: =SUM(O58:AC58) -> 889 | L58: 44562 | M58: 44926 | N58: rövid | O58: 889
C59: Babosdöbréte Rám nyomásfokozó | D59: Szivattyú csere (EMU K64-6), teljes gépészeti rekonstrukció | E59: A szivattyú kora, műszaki állapota miatt fennáll a meghibásodás veszélye. Feladat szükségessége | F59: A folyamatos víztermelés biztosítása. | G59: A Q–H diagramhoz illeszkedő energiahatékony szivattyú üzemeltetése. | I59: Babosdöbréte | J59: =SUM(O59:AC59) -> 2667 | L59: 44927 | M59: 46022 | N59: közép | P59: 889 | Q59: 889 | R59: 889
B60: Irányítástechnika, energiaellátás
C61: Babosdöbréte Rám nyomásfokozó | D61: villamos és irányítéstechnika felújítása | E61: Az elektromos, irányítástechnikai szerelvények és vezetékek, műszaki állapota miatt fennáll a meghibásodás veszélye. | F61: A szivattyú elektromos megtáplálása, a folyamatos távfelügyelet biztosítása. | G61: A szivattyú elektromos paramétereihez illeszkedő erősáramú és vezérlőszekrény. | I61: Babosdöbréte | J61: =SUM(O61:AC61) -> 1016 | L61: 44927 | M61: 45291 | N61: közép | P61: 1016
B62: Összesen: | J62: =SUM(J42:J61) -> 15181
B63: Összesen: | J63: =J20+J37+J62 -> 17519.1 | K63: =SUM(C67:C67) -> 1041 | O63: =SUM(O11:O62) -> 1041 | P63: =SUM(P11:P62) -> 3077.15 | Q63: =SUM(Q11:Q62) -> 1045.15 | R63: =SUM(R11:R62) -> 2494.15 | S63: =SUM(S11:S62) -> 870.15 | T63: =SUM(T11:T62) -> 899.15 | U63: =SUM(U11:U62) -> 899.15 | V63: =SUM(V11:V62) -> 899.15 | ... AC63: =SUM(AC11:AC62) -> 899.15
K64: 2022 évre a fejlesztési forrás biztosított
B66: Tervezett feladatok nettó költsége a teljes ütem tekintetében (eFt) | C66: Rendelkezésre álló források számszerűsített értéke a teljes ütem tekintetében (eFt) | D66: Forrás megnevezése a teljes ütem tekintetében
A67: I. ütem | B67: =SUM(O63) -> 1041 | C67: 1041 | D67: Használati díj (2022)
A68: II. ütem | B68: =SUM(P63:S63) -> 7486.6 | C68: =C67*4 -> 4164 | D68: Használati díj (2023-2026)
A69: III. ütem | B69: =SUM(T63:AC63) -> 8991.5 | C69: =C67*10 -> 10410 | D69: Használati díj (2027-2036)

Sheet Bagod
A1: Gördülő fejlesztési terv a 2022 - 2036 időszakra
A2: FELÚJÍTÁSOK ÉS PÓTLÁSOK ÖSSZEFOGLALÓ TÁBLÁZATA
A3: A tervet benyújtó szervezet megnevezése: | K3: BAGOD | R3: ellátásért felelős / ellátásért felelősök képviselője / víziközmű-szolgáltató *
A4: Víziközmű-szolgáltató megnevezése: | K4: ÉSZAK ZALAI VÍZ- ÉS CSATORNAMŰ ZÁRTKÖRŰEN MŰKÖDŐ RÉSZVÉNYTÁRSASÁG
A5: Víziközmű-szolgáltatási ágazat megnevezése: | K5: IVÓVÍZ ÁGAZAT
A6: Véleményeltérést megfogalmazó érintett fél megnevezése:
A7: Víziközmű-rendszer kódja: ** | K7: 11-32054-1-025-01-14 | R7: ZALAEGERSZEG-IV
A8: I. Felszín alatti vízkivétel
A9: Fontossági sorrend | B9: Felujítás és pótlás megnevezése | E9: Műszaki állapot felmérés, szükségességi indoklás | H9: Vízjogi létesítési/elvi engedély száma | I9: Az érintett ellátásért felelős(ök) megnevezése | J9: Tervezett nettó költség | K9: Forrás 2022 évre | L9: Megvalósítás időtartama | N9: Tervezett időtáv | O9: A beruházás ütemezése a tervezési időszak évei szerint
E10: Jelenlegi műszaki állapot | F10: Feladat szükségessége | G10: Megvalósítást követő várható műszaki állapot | J10: (eFt) | L10: Kezdés | M10: Befejezés | N10: (rövid / közép / hosszú) | O10: 1 | P10: 2 | Q10: 3 | R10: 4 | S10: 5 | T10: 6 | U10: 7 | V10: 8 | W10: 9 | X10: 10 | Y10: 11 | Z10: 12 | AA10: 13 | AB10: 14 | AC10: 15
B11: szakág | C11: Helyszín | D11: beruházás megnevezése
A12: 1 | C12: Bagod | D12: Rendkívüli helyzetből adódó azonnali feladatok (max. 15%) | F12: működőképeség biztosítása | I12: Bagod | J12: =SUM(O12:AC12) -> 9602.5 | L12: 44562 | M12: 50040 | O12: =0.2*$C$71 -> 835 | P12: =0.15*$C$71 -> 626.25 | Q12: =0.15*$C$71 -> 626.25 | R12: =0.15*$C$71 -> 626.25 | S12: =0.15*$C$71 -> 626.25 | T12: =0.15*$C$71 -> 626.25 | U12: =0.15*$C$71 -> 626.25 | V12: =0.15*$C$71 -> 626.25 | W12: =0.15*$C$71 -> 626.25 | ... AC12: =0.15*$C$71 -> 626.25
B13: MÉLYFÚRÁSÚ KÚT, HAGYOMÁNYOS ÁTMÉRŐVEL
B14: Épület, építmény
B16: Gép, berendezés
B18: Irányítástechnika, energiaellátás
B20: Összesen: | J20: =SUM(J12:J19) -> 9602.5
A21: III. Vízműtelep és vízkezelő létesítmények
C22: Helyszín | D22: beruházás megnevezése
B23: VÍZMŰTELEP
B24: Épület, építmény
B26: Gép, berendezés
B28: Irányítástechnika, energiaellátás
B30: VÍZKEZELŐ LÉTESÍTMÉNYEK
B31: Épület, építmény
B33: Gép, berendezés
B35: Irányítástechnika, energiaellátás
B37: Összesen | J37: =SUM(J25:J36) -> 0
A38: IV. Vízelosztás
C39: Helyszín | D39: beruházás megnevezése
B40: IVÓVÍZHÁLÓZAT
B41: Épület, építmény
C42: Bagod | D42: tűzcsap építés, csere | E42: A szerelvény állapota anyaga, kora, minősége miatt nem megfelelő, elavult. | F42: A vezeték elavult műszaki állapota miatt gyakoriak a csőtörések | G42: A szerelvény kiváltás, a vízigények figyelembevételével megfelelő átmérőjű és anyagú hálózatot kapunk. | H42: - | I42: Bagod | J42: =SUM(O42:AC42) -> 600 | L42: 45658 | M42: 46022 | N42: közép | R42: 600
C43: Bagod | D43: vezeték kiváltás, rekonstrukció, felújítás | E43: A vezeték állapota anyaga, kora, minősége miatt nem megfelelő, elavult. | F43: A vezeték elavult műszaki állapota miatt gyakoriak a csőtörések | G43: A vízvezeték kiváltás, a vízigények figyelembevételével megfelelő átmérőjű és anyagú hálózatot kapunk. | H43: - | I43: Bagod | J43: =SUM(O43:AC43) -> 1500 | L43: 45658 | M43: 46022 | N43: közép | R43: 1500
C44: Bagod | D44: bekötéscsere | E44: A vezeték állapota anyaga, kora, minősége miatt nem megfelelő, elavult. | F44: A vezeték elavult műszaki állapota miatt gyakoriak a csőtörések | G44: A vízvezeték kiváltás, a vízigények figyelembevételével megfelelő átmérőjű és anyagú hálózatot kapunk. | H44: - | I44: Bagod | J44: =SUM(O44:AC44) -> 1000 | L44: 45658 | M44: 46022 | N44: közép | R44: 1000
C45: Bagod Vitenyédi út | D45: gerincvezeték csere (d225 1210 fm) | E45: A vezeték állapota anyaga, kora, minősége miatt nem megfelelő, elavult. | F45: A vezeték elavult műszaki állapota miatt gyakoriak a csőtörések | G45: A vízvezeték kiváltás, a vízigények figyelembevételével megfelelő átmérőjű és anyagú hálózatot kapunk. | I45: Bagod | J45: =SUM(O45:AC45) -> 9600 | L45: 46023 | M45: 46387 | N45: közép | S45: 9600
C46: Bagod Vitenyédi út | D46: gerincvezeték csere (d225 1210 fm) | E46: A vezeték állapota anyaga, kora, minősége miatt nem megfelelő, elavult. | F46: A vezeték elavult műszaki állapota miatt gyakoriak a csőtörések | G46: A vízvezeték kiváltás, a vízigények figyelembevételével megfelelő átmérőjű és anyagú hálózatot kapunk. | I46: Bagod | J46: =SUM(O46:AC46) -> 38400 | L46: 46388 | M46: 47848 | N46: hosszú | T46: 9600 | U46: 9600 | V46: 9600 | W46: 9600
C47: Bagod | D47: vezeték kiváltás, rekonstrukció, felújítás | E47: A vezeték állapota anyaga, kora, minősége miatt nem megfelelő, elavult. | F47: A vezeték elavult műszaki állapota miatt gyakoriak a csőtörések | G47: A vízvezeték kiváltás, a vízigények figyelembevételével megfelelő átmérőjű és anyagú hálózatot kapunk. | H47: - | I47: Bagod | J47: =SUM(O47:AC47) -> 135210 | L47: 46388 | M47: 50040 | N47: hosszú | T47: 13521 | U47: 13521 | V47: 13521 | W47: 13521 | X47: 13521 | Y47: 13521 | Z47: 13521 | AA47: 13521 | AB47: 13521 | AC47: 13521
C48: Bagod Ady Endre utca | D48: gerincvezeték csere (d225 800 fm) | E48: A vezeték állapota anyaga, kora, minősége miatt nem megfelelő, elavult. | F48: A vezeték elavult műszaki állapota miatt gyakoriak a csőtörések | G48: A vízvezeték kiváltás, a vízigények figyelembevételével megfelelő átmérőjű és anyagú hálózatot kapunk. | H48: - | I48: Bagod | J48: =SUM(O48:AC48) -> 32500 | L48: 47849 | M48: 49674 | N48: hosszú | X48: 6500 | Y48: 6500 | Z48: 6500 | AA48: 6500 | AB48: 6500
B49: Gép, berendezés
B51: Irányítástechnika, energiaellátás
B53: VÍZTÁROLÓK
B54: Épület, építmény
B56: Gép, berendezés
B58: Irányítástechnika, energiaellátás
B60: NYOMÁSFOKOZÓK
B61: Épület, építmény
B63: Gép, berendezés
C64: Bagod Szentpál nyomásfokozó | D64: Szivattyú csere (CRIE3-5 2 db; CR45-3) | E64: A szivattyú kora, műszaki állapota miatt fennáll a meghibásodás veszélye. | F64: A folyamatos víztermelés biztosítása | G64: A Q–H diagramhoz illeszkedő energiahatékony szivattyú üzemeltetése | I64: Bagod | J64: =SUM(O64:AC64) -> 1500 | L64: 47119 | M64: 47483 | N64: hosszú | V64: 1500
B65: Irányítástechnika, energiaellátás
B66: Összesen: | J66: =SUM(J42:J65) -> 220310
B67: Összesen: | J67: =J20+J37+J66 -> 229912.5 | K67: =C71 -> 4175 | O67: =SUM(O11:O66) -> 835 | P67: =SUM(P11:P66) -> 626.25 | Q67: =SUM(Q11:Q66) -> 626.25 | R67: =SUM(R11:R66) -> 3726.25 | S67: =SUM(S11:S66) -> 10226.25 | T67: =SUM(T11:T66) -> 23747.25 | U67: =SUM(U11:U66) -> 23747.25 | V67: =SUM(V11:V66) -> 25247.25 | ... AC67: =SUM(AC11:AC66) -> 14147.25
K68: 2022 évre a fejlesztési forrás biztosított
B70: Tervezett feladatok nettó költsége a teljes ütem tekintetében (eFt) | C70: Rendelkezésre álló források számszerűsített értéke a teljes ütem tekintetében (eFt) | D70: Forrás megnevezése a teljes ütem tekintetében
A71: I. ütem | B71: =SUM(O67) -> 835 | C71: 4175 | D71: Használati díj (2022)
A72: II. ütem | B72: =SUM(P67:S67) -> 15205 | C72: =C71*4 -> 16700 | D72: Használati díj (2023-2026)
A73: III. ütem | B73: =SUM(T67:AC67) -> 213872.5 | C73: =C71*10 -> 41750 | D73: Használati díj (2027-2036)

Sheet Becsvölgye
A1: Gördülő fejlesztési terv a 2022 - 2036 időszakra
A2: FELÚJÍTÁSOK ÉS PÓTLÁSOK ÖSSZEFOGLALÓ TÁBLÁZATA
A3: A tervet benyújtó szervezet megnevezése: | K3: BECSVÖLGYE | R3: ellátásért felelős / ellátásért felelősök képviselője / víziközmű-szolgáltató *
A4: Víziközmű-szolgáltató megnevezése: | K4: ÉSZAK ZALAI VÍZ- ÉS CSATORNAMŰ ZÁRTKÖRŰEN MŰKÖDŐ RÉSZVÉNYTÁRSASÁG
A5: Víziközmű-szolgáltatási ágazat megnevezése: | K5: IVÓVÍZ ÁGAZAT
A6: Véleményeltérést megfogalmazó érintett fél megnevezése:
A7: Víziközmű-rendszer kódja: ** | K7: 11-32054-1-025-01-14 | R7: ZALAEGERSZEG-IV
A8: I. Felszín alatti vízkivétel
A9: Fontossági sorrend | B9: Felujítás és pótlás megnevezése | E9: Műszaki állapot felmérés, szükségességi indoklás | H9: Vízjogi létesítési/elvi engedély száma | I9: Az érintett ellátásért felelős(ök) megnevezése | J9: Tervezett nettó költség | K9: Forrás 2022 évre | L9: Megvalósítás időtartama | N9: Tervezett időtáv | O9: A beruházás ütemezése a tervezési időszak évei szerint
E10: Jelenlegi műszaki állapot | F10: Feladat szükségessége | G10: Megvalósítást követő várható műszaki állapot | J10: (eFt) | L10: Kezdés | M10: Befejezés | N10: (rövid / közép / hosszú) | O10: 1 | P10: 2 | Q10: 3 | R10: 4 | S10: 5 | T10: 6 | U10: 7 | V10: 8 | W10: 9 | X10: 10 | Y10: 11 | Z10: 12 | AA10: 13 | AB10: 14 | AC10: 15
B11: szakág | C11: Helyszín | D11: beruházás megnevezése
A12: 1 | C12: Becsvölgye | D12: Rendkívüli helyzetből adódó azonnali feladatok (max. 15%) | F12: működőképeség biztosítása | I12: Becsvölgye | J12: =SUM(O12:AC12) -> 4298.7 | L12: 44562 | M12: 50040 | O12: =0.2*$C$65 -> 373.8 | P12: =0.15*$C$65 -> 280.35 | Q12: =0.15*$C$65 -> 280.35 | R12: =0.15*$C$65 -> 280.35 | S12: =0.15*$C$65 -> 280.35 | T12: =0.15*$C$65 -> 280.35 | U12: =0.15*$C$65 -> 280.35 | V12: =0.15*$C$65 -> 280.35 | W12: =0.15*$C$65 -> 280.35 | ... AC12: =0.15*$C$65 -> 280.35
B13: MÉLYFÚRÁSÚ KÚT, HAGYOMÁNYOS ÁTMÉRŐVEL
B14: Épület, építmény
B16: Gép, berendezés
B18: Irányítástechnika, energiaellátás
B20: Összesen: | J20: =SUM(J12:J19) -> 4298.7
A21: III. Vízműtelep és vízkezelő létesítmények
C22: Helyszín | D22: beruházás megnevezése
B23: VÍZMŰTELEP
B24: Épület, építmény
B26: Gép, berendezés
B28: Irányítástechnika, energiaellátás
B30: VÍZKEZELŐ LÉTESÍTMÉNYEK
B31: Épület, építmény
B33: Gép, berendezés
B35: Irányítástechnika, energiaellátás
B37: Összesen | J37: =SUM(J25:J36) -> 0
A38: IV. Vízelosztás
C39: Helyszín | D39: beruházás megnevezése
B40: IVÓVÍZHÁLÓZAT
B41: Épület, építmény
B43: Gép, berendezés
B45: Irányítástechnika, energiaellátás
B47: VÍZTÁROLÓK
B48: Épület, építmény
B50: Gép, berendezés
C51: Kustánszeg víztorony | D51: közmű gépészet felújítása | E51: A technológia, szerelvények és vezetékek, műszaki állapota miatt fennáll a meghibásodás veszélye. | F51: A víztárolás gépészeti berendezései nem töltik be funkciójukat (nyitás-zárás). Az avultsági szint miatt fennáll a meghibásodás veszélye | G51: Megfelelő hatékonyságú technológia. A gépészeti funkciókat kifogástalanul ellátó szerelvények | I51: Becsvölgye osztatlan közös | J51: =SUM(O51:AC51) -> 2213 | L51: 45292 | M51: 46022 | N51: közép | Q51: 1080 | R51: 1133
B52: Irányítástechnika, energiaellátás
C53: Kustánszeg víztorony | D53: villamos és irányítástechnika felújítása | E53: Az elektromos, irányítástechnikai szerelvények és vezetékek, műszaki állapota miatt fennáll a meghibásodás veszélye. | F53: A víztárolók elektromos megtáplálása, a folyamatos távfelügyelet biztosítása. | G53: Az elektromos paramétereihez illeszkedő erős- és gyengeáramú vezérlőszekrény. | I53: Becsvölgye osztatlan közös | J53: =SUM(O53:AC53) -> 1824 | L53: 45292 | M53: 46022 | N53: közép | Q53: 1452 | R53: 372
B54: NYOMÁSFOKOZÓK
B55: Épület, építmény
B57: Gép, berendezés
B59: Irányítástechnika, energiaellátás
B60: Összesen: | J60: =SUM(J42:J59) -> 4037
B61: Összesen: | J61: =J20+J37+J60 -> 8335.7 | K61: =C65 -> 1869 | O61: =SUM(O11:O60) -> 373.8 | P61: =SUM(P11:P60) -> 280.35 | Q61: =SUM(Q11:Q60) -> 2812.35 | R61: =SUM(R11:R60) -> 1785.35 | S61: =SUM(S11:S60) -> 280.35 | T61: =SUM(T11:T60) -> 280.35 | U61: =SUM(U11:U60) -> 280.35 | V61: =SUM(V11:V60) -> 280.35 | ... AC61: =SUM(AC11:AC60) -> 280.35
K62: 2022 évre a fejlesztési forrás biztosított
B64: Tervezett feladatok nettó költsége a teljes ütem tekintetében (eFt) | C64: Rendelkezésre álló források számszerűsített értéke a teljes ütem tekintetében (eFt) | D64: Forrás megnevezése a teljes ütem tekintetében
A65: I. ütem | B65: =SUM(O61) -> 373.8 | C65: 1869 | D65: Használati díj (2022)
A66: II. ütem | B66: =SUM(P61:S61) -> 5158.4 | C66: =C65*4 -> 7476 | D66: Használati díj (2023-2026)
A67: III. ütem | B67: =SUM(T61:AC61) -> 2803.5 | C67: =C65*10 -> 18690 | D67: Használati díj (2027-2036)

Sheet Bocfölde
A1: Gördülő fejlesztési terv a 2022 - 2036 időszakra
A2: FELÚJÍTÁSOK ÉS PÓTLÁSOK ÖSSZEFOGLALÓ TÁBLÁZATA
A3: A tervet benyújtó szervezet megnevezése: | K3: BOCFÖLDE | R3: ellátásért felelős / ellátásért felelősök képviselője / víziközmű-szolgáltató *
A4: Víziközmű-szolgáltató megnevezése: | K4: ÉSZAK ZALAI VÍZ- ÉS CSATORNAMŰ ZÁRTKÖRŰEN MŰKÖDŐ RÉSZVÉNYTÁRSASÁG
A5: Víziközmű-szolgáltatási ágazat megnevezése: | K5: IVÓVÍZ ÁGAZAT
A6: Véleményeltérést megfogalmazó érintett fél megnevezése:
A7: Víziközmű-rendszer kódja: ** | K7: 11-32054-1-025-01-14 | R7: ZALAEGERSZEG-IV
A8: I. Felszín alatti vízkivétel
A9: Fontossági sorrend | B9: Felujítás és pótlás megnevezése | E9: Műszaki állapot felmérés, szükségességi indoklás | H9: Vízjogi létesítési/elvi engedély száma | I9: Az érintett ellátásért felelős(ök) megnevezése | J9: Tervezett nettó költség | K9: Forrás 2022 évre | L9: Megvalósítás időtartama | N9: Tervezett időtáv | O9: A beruházás ütemezése a tervezési időszak évei szerint
E10: Jelenlegi műszaki állapot | F10: Feladat szükségessége | G10: Megvalósítást követő várható műszaki állapot | J10: (eFt) | L10: Kezdés | M10: Befejezés | N10: (rövid / közép / hosszú) | O10: 1 | P10: 2 | Q10: 3 | R10: 4 | S10: 5 | T10: 6 | U10: 7 | V10: 8 | W10: 9 | X10: 10 | Y10: 11 | Z10: 12 | AA10: 13 | AB10: 14 | AC10: 15
B11: szakág | C11: Helyszín | D11: beruházás megnevezése
A12: 1 | C12: Bocfölde | D12: Rendkívüli helyzetből adódó azonnali feladatok (max. 15%) | F12: működőképeség biztosítása | I12: Bocfölde | J12: =SUM(O12:AC12) -> 9586.4 | L12: 44562 | M12: 50040 | O12: =0.2*$C$65 -> 833.6 | P12: =0.15*$C$65 -> 625.2 | Q12: =0.15*$C$65 -> 625.2 | R12: =0.15*$C$65 -> 625.2 | S12: =0.15*$C$65 -> 625.2 | T12: =0.15*$C$65 -> 625.2 | U12: =0.15*$C$65 -> 625.2 | V12: =0.15*$C$65 -> 625.2 | W12: =0.15*$C$65 -> 625.2 | ... AC12: =0.15*$C$65 -> 625.2
B13: MÉLYFÚRÁSÚ KÚT, HAGYOMÁNYOS ÁTMÉRŐVEL
B14: Épület, építmény
B16: Gép, berendezés
B18: Irányítástechnika, energiaellátás
B20: Összesen: | J20: =SUM(J12:J19) -> 9586.4
A21: III. Vízműtelep és vízkezelő létesítmények
C22: Helyszín | D22: beruházás megnevezése
B23: VÍZMŰTELEP
B24: Épület, építmény
B26: Gép, berendezés
B28: Irányítástechnika, energiaellátás
B30: VÍZKEZELŐ LÉTESÍTMÉNYEK
B31: Épület, építmény
B33: Gép, berendezés
B35: Irányítástechnika, energiaellátás
B37: Összesen | J37: =SUM(J25:J36) -> 0
A38: IV. Vízelosztás
C39: Helyszín | D39: beruházás megnevezése
B40: IVÓVÍZHÁLÓZAT
B41: Épület, építmény
B43: Gép, berendezés
B45: Irányítástechnika, energiaellátás
B47: VÍZTÁROLÓK
B48: Épület, építmény
A49: 20 | C49: Bocfölde magaslti tároló | D49: 2 db hátsó tároló belépő lapostető szigetelés felújítás | E49: Az objektum kora, műszaki állapota miatt fennáll a meghibásodás veszélye. | F49: A felhasználók folyamatos vízellátásának biztosítására | G49: Az elvárt vízigényeket kielégítő megfelelő műszaki állapotú vízbázis. | I49: Bocfölde | J49: =SUM(O49:AC49) -> 400 | L49: 44562 | M49: 44926 | N49: rövid | O49: 400
B50: Gép, berendezés
B52: Irányítástechnika, energiaellátás
B54: NYOMÁSFOKOZÓK
B55: Épület, építmény
B57: Gép, berendezés
B59: Irányítástechnika, energiaellátás
B60: Összesen: | J60: =SUM(J42:J59) -> 400
B61: Összesen: | J61: =J20+J37+J60 -> 9986.4 | K61: =C65 -> 4168 | O61: =SUM(O12:O60) -> 1233.6 | P61: =SUM(P12:P60) -> 625.2 | Q61: =SUM(Q12:Q60) -> 625.2 | R61: =SUM(R12:R60) -> 625.2 | S61: =SUM(S12:S60) -> 625.2 | T61: =SUM(T12:T60) -> 625.2 | U61: =SUM(U12:U60) -> 625.2 | V61: =SUM(V12:V60) -> 625.2 | ... AC61: =SUM(AC12:AC60) -> 625.2
K62: 2022 évre a fejlesztési forrás biztosított
B64: Tervezett feladatok nettó költsége a teljes ütem tekintetében (eFt) | C64: Rendelkezésre álló források számszerűsített értéke a teljes ütem tekintetében (eFt) | D64: Forrás megnevezése a teljes ütem tekintetében
A65: I. ütem | B65: =SUM(O61) -> 1233.6 | C65: 4168 | D65: Használati díj (2022)
A66: II. ütem | B66: =SUM(P61:S61) -> 2500.8 | C66: =C65*4 -> 16672 | D66: Használati díj (2023-2026)
A67: III. ütem | B67: =SUM(T61:AC61) -> 6252 | C67: =C65*10 -> 41680 | D67: Használati díj (2027-2036)

Sheet Boncodfölde
A1: Gördülő fejlesztési terv a 2022 - 2036 időszakra
A2: FELÚJÍTÁSOK ÉS PÓTLÁSOK ÖSSZEFOGLALÓ TÁBLÁZATA
A3: A tervet benyújtó szervezet megnevezése: | K3: BONCODFÖLDE | R3: ellátásért felelős / ellátásért felelősök képviselője / víziközmű-szolgáltató *
A4: Víziközmű-szolgáltató megnevezése: | K4: ÉSZAK ZALAI VÍZ- ÉS CSATORNAMŰ ZÁRTKÖRŰEN MŰKÖDŐ RÉSZVÉNYTÁRSASÁG
A5: Víziközmű-szolgáltatási ágazat megnevezése: | K5: IVÓVÍZ ÁGAZAT
A6: Véleményeltérést megfogalmazó érintett fél megnevezése:
A7: Víziközmű-rendszer kódja: ** | K7: 11-32054-1-025-01-14 | R7: ZALAEGERSZEG-IV
A8: I. Felszín alatti vízkivétel
A9: Fontossági sorrend | B9: Felujítás és pótlás megnevezése | E9: Műszaki állapot felmérés, szükségességi indoklás | H9: Vízjogi létesítési/elvi engedély száma | I9: Az érintett ellátásért felelős(ök) megnevezése | J9: Tervezett nettó költség | K9: Forrás 2022 évre | L9: Megvalósítás időtartama | N9: Tervezett időtáv | O9: A beruházás ütemezése a tervezési időszak évei szerint
E10: Jelenlegi műszaki állapot | F10: Feladat szükségessége | G10: Megvalósítást követő várható műszaki állapot | J10: (eFt) | L10: Kezdés | M10: Befejezés | N10: (rövid / közép / hosszú) | O10: 1 | P10: 2 | Q10: 3 | R10: 4 | S10: 5 | T10: 6 | U10: 7 | V10: 8 | W10: 9 | X10: 10 | Y10: 11 | Z10: 12 | AA10: 13 | AB10: 14 | AC10: 15
B11: szakág | C11: Helyszín | D11: beruházás megnevezése
A12: 1 | C12: Boncodfölde | D12: Rendkívüli helyzetből adódó azonnali feladatok (max. 15%) | F12: működőképeség biztosítása | I12: Boncodfölde | J12: =SUM(O12:AC12) -> 3797.3 | L12: 44562 | M12: 50040 | O12: =0.2*$C$65 -> 330.2 | P12: =0.15*$C$65 -> 247.65 | Q12: =0.15*$C$65 -> 247.65 | R12: =0.15*$C$65 -> 247.65 | S12: =0.15*$C$65 -> 247.65 | T12: =0.15*$C$65 -> 247.65 | U12: =0.15*$C$65 -> 247.65 | V12: =0.15*$C$65 -> 247.65 | W12: =0.15*$C$65 -> 247.65 | ... AC12: =0.15*$C$65 -> 247.65
B13: MÉLYFÚRÁSÚ KÚT, HAGYOMÁNYOS ÁTMÉRŐVEL
B14: Épület, építmény
B16: Gép, berendezés
B18: Irányítástechnika, energiaellátás
B20: Összesen: | J20: =SUM(J12:J19) -> 3797.3
A21: III. Vízműtelep és vízkezelő létesítmények
C22: Helyszín | D22: beruházás megnevezése
B23: VÍZMŰTELEP
B24: Épület, építmény
B26: Gép, berendezés
B28: Irányítástechnika, energiaellátás
B30: VÍZKEZELŐ LÉTESÍTMÉNYEK
B31: Épület, építmény
B33: Gép, berendezés
B35: Irányítástechnika, energiaellátás
B37: Összesen | J37: =SUM(J25:J36) -> 0
A38: IV. Vízelosztás
C39: Helyszín | D39: beruházás megnevezése
B40: IVÓVÍZHÁLÓZAT
B41: Épület, építmény
B43: Gép, berendezés
B45: Irányítástechnika, energiaellátás
B47: VÍZTÁROLÓK
B48: Épület, építmény
B50: Gép, berendezés
B52: Irányítástechnika, energiaellátás
B54: NYOMÁSFOKOZÓK
B55: Épület, építmény
B57: Gép, berendezés
B59: Irányítástechnika, energiaellátás
B60: Összesen: | J60: =SUM(J42:J59) -> 0
B61: Összesen: | J61: =J20+J37+J60 -> 3797.3 | K61: =C65 -> 1651 | O61: =SUM(O12:O60) -> 330.2 | P61: =SUM(P12:P60) -> 247.65 | Q61: =SUM(Q12:Q60) -> 247.65 | R61: =SUM(R12:R60) -> 247.65 | S61: =SUM(S12:S60) -> 247.65 | T61: =SUM(T12:T60) -> 247.65 | U61: =SUM(U12:U60) -> 247.65 | V61: =SUM(V12:V60) -> 247.65 | ... AC61: =SUM(AC12:AC60) -> 247.65
K62: 2022 évre a fejlesztési forrás biztosított
B64: Tervezett feladatok nettó költsége a teljes ütem tekintetében (eFt) | C64: Rendelkezésre álló források számszerűsített értéke a teljes ütem tekintetében (eFt) | D64: Forrás megnevezése a teljes ütem tekintetében
A65: I. ütem | B65: =SUM(O61) -> 330.2 | C65: 1651 | D65: Használati díj (2022)
A66: II. ütem | B66: =SUM(P61:S61) -> 990.6 | C66: =C65*4 -> 6604 | D66: Használati díj (2023-2026)
A67: III. ütem | B67: =SUM(T61:AC61) -> 2476.5 | C67: =C65*10 -> 16510 | D67: Használati díj (2027-2036)

Sheet Böde
A1: Gördülő fejlesztési terv a 2022 - 2036 időszakra
A2: FELÚJÍTÁSOK ÉS PÓTLÁSOK ÖSSZEFOGLALÓ TÁBLÁZATA
A3: A tervet benyújtó szervezet megnevezése: | K3: BÖDE | R3: ellátásért felelős / ellátásért felelősök képviselője / víziközmű-szolgáltató *
A4: Víziközmű-szolgáltató megnevezése: | K4: ÉSZAK ZALAI VÍZ- ÉS CSATORNAMŰ ZÁRTKÖRŰEN MŰKÖDŐ RÉSZVÉNYTÁRSASÁG
A5: Víziközmű-szolgáltatási ágazat megnevezése: | K5: IVÓVÍZ ÁGAZAT
A6: Véleményeltérést megfogalmazó érintett fél megnevezése:
A7: Víziközmű-rendszer kódja: ** | K7: 11-32054-1-025-01-14 | R7: ZLAEGERSZEG-IV
A8: I. Felszín alatti vízkivétel
A9: Fontossági sorrend | B9: Felujítás és pótlás megnevezése | E9: Műszaki állapot felmérés, szükségességi indoklás | H9: Vízjogi létesítési/elvi engedély száma | I9: Az érintett ellátásért felelős(ök) megnevezése | J9: Tervezett nettó költség | K9: Forrás 2022 évre | L9: Megvalósítás időtartama | N9: Tervezett időtáv | O9: A beruházás ütemezése a tervezési időszak évei szerint
E10: Jelenlegi műszaki állapot | F10: Feladat szükségessége | G10: Megvalósítást követő várható műszaki állapot | J10: (eFt) | L10: Kezdés | M10: Befejezés | N10: (rövid / közép / hosszú) | O10: 1 | P10: 2 | Q10: 3 | R10: 4 | S10: 5 | T10: 6 | U10: 7 | V10: 8 | W10: 9 | X10: 10 | Y10: 11 | Z10: 12 | AA10: 13 | AB10: 14 | AC10: 15
B11: szakág | C11: Helyszín | D11: beruházás megnevezése
A12: 1 | C12: Böde | D12: Rendkívüli helyzetből adódó azonnali feladatok (max. 15%) | F12: működőképeség biztosítása | I12: Böde | J12: =SUM(O12:AC12) -> 1379.5 | L12: 44562 | M12: 50040 | O12: =1*$C$65 -> 445 | P12: =0.15*$K$61 -> 66.75 | Q12: =0.15*$K$61 -> 66.75 | R12: =0.15*$K$61 -> 66.75 | S12: =0.15*$K$61 -> 66.75 | T12: =0.15*$K$61 -> 66.75 | U12: =0.15*$K$61 -> 66.75 | V12: =0.15*$K$61 -> 66.75 | W12: =0.15*$K$61 -> 66.75 | ... AC12: =0.15*$K$61 -> 66.75
B13: MÉLYFÚRÁSÚ KÚT, HAGYOMÁNYOS ÁTMÉRŐVEL
B14: Épület, építmény
B16: Gép, berendezés
B18: Irányítástechnika, energiaellátás
B20: Összesen: | J20: =SUM(J12:J19) -> 1379.5
A21: III. Vízműtelep és vízkezelő létesítmények
C22: Helyszín | D22: beruházás megnevezése
B23: VÍZMŰTELEP
B24: Épület, építmény
B26: Gép, berendezés
B28: Irányítástechnika, energiaellátás
B30: VÍZKEZELŐ LÉTESÍTMÉNYEK
B31: Épület, építmény
B33: Gép, berendezés
B35: Irányítástechnika, energiaellátás
B37: Összesen | J37: =SUM(J25:J36) -> 0
A38: IV. Vízelosztás
C39: Helyszín | D39: beruházás megnevezése
B40: IVÓVÍZHÁLÓZAT
B41: Épület, építmény
B43: Gép, berendezés
B45: Irányítástechnika, energiaellátás
B47: VÍZTÁROLÓK
B48: Épület, építmény
B50: Gép, berendezés
B52: Irányítástechnika, energiaellátás
B53: NYOMÁSFOKOZÓK
B54: Épület, építmény
B56: Gép, berendezés
B58: Irányítástechnika, energiaellátás
B60: Összesen: | J60: =SUM(J42:J59) -> 0
B61: Összesen: | J61: =J20+J37+J60 -> 1379.5 | K61: =SUM(C65:C65) -> 445 | O61: =SUM(O12:O60) -> 445 | P61: =SUM(P12:P60) -> 66.75 | Q61: =SUM(Q12:Q60) -> 66.75 | R61: =SUM(R12:R60) -> 66.75 | S61: =SUM(S12:S60) -> 66.75 | T61: =SUM(T12:T60) -> 66.75 | U61: =SUM(U12:U60) -> 66.75 | V61: =SUM(V12:V60) -> 66.75 | ... AC61: =SUM(AC12:AC60) -> 66.75
K62: 2022 évre a fejlesztési forrás biztosított
B64: Tervezett feladatok nettó költsége a teljes ütem tekintetében (eFt) | C64: Rendelkezésre álló források számszerűsített értéke a teljes ütem tekintetében (eFt) | D64: Forrás megnevezése a teljes ütem tekintetében
A65: I. ütem | B65: =SUM(O61) -> 445 | C65: 445 | D65: Használati díj (2022)
A66: II. ütem | B66: =SUM(P61:S61) -> 267 | C66: =C65*4 -> 1780 | D66: Használati díj (2023-2026)
A67: III. ütem | B67: =SUM(T61:AC61) -> 667.5 | C67: =C65*10 -> 4450 | D67: Használati díj (2027-2036)

Sheet Csatár
A1: Gördülő fejlesztési terv a 2022 - 2036 időszakra
A2: FELÚJÍTÁSOK ÉS PÓTLÁSOK ÖSSZEFOGLALÓ TÁBLÁZATA
A3: A tervet benyújtó szervezet megnevezése: | K3: CSATÁR | R3: ellátásért felelős / ellátásért felelősök képviselője / víziközmű-szolgáltató *
A4: Víziközmű-szolgáltató megnevezése: | K4: ÉSZAK ZALAI VÍZ- ÉS CSATORNAMŰ ZÁRTKÖRŰEN MŰKÖDŐ RÉSZVÉNYTÁRSASÁG
A5: Víziközmű-szolgáltatási ágazat megnevezése: | K5: IVÓVÍZ ÁGAZAT
A6: Véleményeltérést megfogalmazó érintett fél megnevezése:
A7: Víziközmű-rendszer kódja: ** | K7: 11-32054-1-025-01-14 | R7: ZALAEGERSZEG-IV
A8: I. Felszín alatti vízkivétel
A9: Fontossági sorrend | B9: Felujítás és pótlás megnevezése | E9: Műszaki állapot felmérés, szükségességi indoklás | H9: Vízjogi létesítési/elvi engedély száma | I9: Az érintett ellátásért felelős(ök) megnevezése | J9: Tervezett nettó költség | K9: Forrás 2022 évre | L9: Megvalósítás időtartama | N9: Tervezett időtáv | O9: A beruházás ütemezése a tervezési időszak évei szerint
E10: Jelenlegi műszaki állapot | F10: Feladat szükségessége | G10: Megvalósítást követő várható műszaki állapot | J10: (eFt) | L10: Kezdés | M10: Befejezés | N10: (rövid / közép / hosszú) | O10: 1 | P10: 2 | Q10: 3 | R10: 4 | S10: 5 | T10: 6 | U10: 7 | V10: 8 | W10: 9 | X10: 10 | Y10: 11 | Z10: 12 | AA10: 13 | AB10: 14 | AC10: 15
B11: szakág | C11: Helyszín | D11: beruházás megnevezése
A12: 1 | C12: Csatár | D12: Rendkívüli helyzetből adódó azonnali feladatok (max. 15%) | F12: működőképeség biztosítása | I12: Csatár | J12: =SUM(O12:AC12) -> 2845.1 | L12: 44562 | M12: 50040 | O12: =0.2*$C$66 -> 247.4 | P12: =0.15*$C$66 -> 185.55 | Q12: =0.15*$C$66 -> 185.55 | R12: =0.15*$C$66 -> 185.55 | S12: =0.15*$C$66 -> 185.55 | T12: =0.15*$C$66 -> 185.55 | U12: =0.15*$C$66 -> 185.55 | V12: =0.15*$C$66 -> 185.55 | W12: =0.15*$C$66 -> 185.55 | ... AC12: =0.15*$C$66 -> 185.55
B13: MÉLYFÚRÁSÚ KÚT, HAGYOMÁNYOS ÁTMÉRŐVEL
B14: Épület, építmény
B16: Gép, berendezés
B18: Irányítástechnika, energiaellátás
B20: Összesen: | J20: =SUM(J12:J19) -> 2845.1
A21: III. Vízműtelep és vízkezelő létesítmények
C22: Helyszín | D22: beruházás megnevezése
B23: VÍZMŰTELEP
B24: Épület, építmény
B26: Gép, berendezés
B28: Irányítástechnika, energiaellátás
B30: VÍZKEZELŐ LÉTESÍTMÉNYEK
B31: Épület, építmény
B33: Gép, berendezés
B35: Irányítástechnika, energiaellátás
B37: Összesen | J37: =SUM(J25:J36) -> 0
A38: IV. Vízelosztás
C39: Helyszín | D39: beruházás megnevezése
B40: IVÓVÍZHÁLÓZAT
B41: Épület, építmény
C42: Csatár Kossuth u. I. ütem | D42: vezeték kiváltás, rekonstrukció, felújítás | E42: A vezeték állapota anyaga, kora, minősége miatt nem megfelelő, elavult. | F42: A vezeték elavult műszaki állapota miatt gyakoriak a csőtörések | G42: A vízvezeték kiváltás, a vízigények figyelembevételével megfelelő átmérőjű és anyagú hálózatot kapunk. | I42: Csatár | J42: =SUM(O42:AC42) -> 3884 | L42: 44927 | M42: 46387 | N42: közép | P42: 971 | Q42: 971 | R42: 971 | S42: 971
C43: Csatár Kossuth u. II. ütem | D43: vezeték kiváltás, rekonstrukció, felújítás | E43: A vezeték állapota anyaga, kora, minősége miatt nem megfelelő, elavult. | F43: A vezeték elavult műszaki állapota miatt gyakoriak a csőtörések | G43: A vízvezeték kiváltás, a vízigények figyelembevételével megfelelő átmérőjű és anyagú hálózatot kapunk. | I43: Csatár | J43: =SUM(O43:AC43) -> 971 | L43: 46388 | M43: 46752 | N43: hosszú | T43: 971
B44: Gép, berendezés
B46: Irányítástechnika, energiaellátás
B48: VÍZTÁROLÓK
B49: Épület, építmény
B51: Gép, berendezés
B53: Irányítástechnika, energiaellátás
B55: NYOMÁSFOKOZÓK
B56: Épület, építmény
B58: Gép, berendezés
B60: Irányítástechnika, energiaellátás
B61: Összesen: | J61: =SUM(J42:J60) -> 4855
B62: Összesen: | J62: =J20+J37+J61 -> 7700.1 | K62: =C66 -> 1237 | O62: =SUM(O12:O61) -> 247.4 | P62: =SUM(P12:P61) -> 1156.55 | Q62: =SUM(Q12:Q61) -> 1156.55 | R62: =SUM(R12:R61) -> 1156.55 | S62: =SUM(S12:S61) -> 1156.55 | T62: =SUM(T12:T61) -> 1156.55 | U62: =SUM(U12:U61) -> 185.55 | V62: =SUM(V12:V61) -> 185.55 | ... AC62: =SUM(AC12:AC61) -> 185.55
K63: 2022 évre a fejlesztési forrás biztosított
B65: Tervezett feladatok nettó költsége a teljes ütem tekintetében (eFt) | C65: Rendelkezésre álló források számszerűsített értéke a teljes ütem tekintetében (eFt) | D65: Forrás megnevezése a teljes ütem tekintetében
A66: I. ütem | B66: =SUM(O62) -> 247.4 | C66: 1237 | D66: Használati díj (2022)
A67: II. ütem | B67: =SUM(P62:S62) -> 4626.2 | C67: =C66*4 -> 4948 | D67: Használati díj (2023-2026)
A68: III. ütem | B68: =SUM(T62:AC62) -> 2826.5 | C68: =C66*10 -> 12370 | D68: Használati díj (2027-2036)

Sheet Csonkahegyhát
A1: Gördülő fejlesztési terv a 2022 - 2036 időszakra
A2: FELÚJÍTÁSOK ÉS PÓTLÁSOK ÖSSZEFOGLALÓ TÁBLÁZATA
A3: A tervet benyújtó szervezet megnevezése: | K3: CSONKAHEGYHÁT | R3: ellátásért felelős / ellátásért felelősök képviselője / víziközmű-szolgáltató *
A4: Víziközmű-szolgáltató megnevezése: | K4: ÉSZAK ZALAI VÍZ- ÉS CSATORNAMŰ ZÁRTKÖRŰEN MŰKÖDŐ RÉSZVÉNYTÁRSASÁG
A5: Víziközmű-szolgáltatási ágazat megnevezése: | K5: IVÓVÍZ ÁGAZAT
A6: Véleményeltérést megfogalmazó érintett fél megnevezése:
A7: Víziközmű-rendszer kódja: ** | K7: 11-32054-1-025-01-14 | R7: ZALAEGERSZEG-IV
A8: I. Felszín alatti vízkivétel
A9: Fontossági sorrend | B9: Felujítás és pótlás megnevezése | E9: Műszaki állapot felmérés, szükségességi indoklás | H9: Vízjogi létesítési/elvi engedély száma | I9: Az érintett ellátásért felelős(ök) megnevezése | J9: Tervezett nettó költség | K9: Forrás 2022 évre | L9: Megvalósítás időtartama | N9: Tervezett időtáv | O9: A beruházás ütemezése a tervezési időszak évei szerint
E10: Jelenlegi műszaki állapot | F10: Feladat szükségessége | G10: Megvalósítást követő várható műszaki állapot | J10: (eFt) | L10: Kezdés | M10: Befejezés | N10: (rövid / közép / hosszú) | O10: 1 | P10: 2 | Q10: 3 | R10: 4 | S10: 5 | T10: 6 | U10: 7 | V10: 8 | W10: 9 | X10: 10 | Y10: 11 | Z10: 12 | AA10: 13 | AB10: 14 | AC10: 15
B11: szakág | C11: Helyszín | D11: beruházás megnevezése
A12: 1 | C12: Csonkahegyhát | D12: Rendkívüli helyzetből adódó azonnali feladatok (max. 15%) | F12: működőképeség biztosítása | I12: Csonkahegyhát | J12: =SUM(O12:AC12) -> 1060.2 | L12: 44562 | M12: 50040 | O12: =1*$C$65 -> 342 | P12: =0.15*$C$65 -> 51.3 | Q12: =0.15*$C$65 -> 51.3 | R12: =0.15*$C$65 -> 51.3 | S12: =0.15*$C$65 -> 51.3 | T12: =0.15*$C$65 -> 51.3 | U12: =0.15*$C$65 -> 51.3 | V12: =0.15*$C$65 -> 51.3 | W12: =0.15*$C$65 -> 51.3 | ... AC12: =0.15*$C$65 -> 51.3
B13: MÉLYFÚRÁSÚ KÚT, HAGYOMÁNYOS ÁTMÉRŐVEL
B14: Épület, építmény
B16: Gép, berendezés
B18: Irányítástechnika, energiaellátás
B20: Összesen: | J20: =SUM(J12:J19) -> 1060.2
A21: III. Vízműtelep és vízkezelő létesítmények
C22: Helyszín | D22: beruházás megnevezése
B23: VÍZMŰTELEP
B24: Épület, építmény
B26: Gép, berendezés
B28: Irányítástechnika, energiaellátás
B30: VÍZKEZELŐ LÉTESÍTMÉNYEK
B31: Épület, építmény
B33: Gép, berendezés
B35: Irányítástechnika, energiaellátás
B37: Összesen | J37: =SUM(J25:J36) -> 0
A38: IV. Vízelosztás
C39: Helyszín | D39: beruházás megnevezése
B40: IVÓVÍZHÁLÓZAT
B41: Épület, építmény
B43: Gép, berendezés
B45: Irányítástechnika, energiaellátás
B47: VÍZTÁROLÓK
B48: Épület, építmény
B50: Gép, berendezés
B52: Irányítástechnika, energiaellátás
B54: NYOMÁSFOKOZÓK
B55: Épület, építmény
B57: Gép, berendezés
B59: Irányítástechnika, energiaellátás
J60: =SUM(J40:J59) -> 0
B61: Összesen: | J61: =J20+J37 -> 1060.2 | K61: =C65 -> 342 | O61: =SUM(O11:O60) -> 342 | P61: =SUM(P11:P60) -> 51.3 | Q61: =SUM(Q11:Q60) -> 51.3 | R61: =SUM(R11:R60) -> 51.3 | S61: =SUM(S11:S60) -> 51.3 | T61: =SUM(T11:T60) -> 51.3 | U61: =SUM(U11:U60) -> 51.3 | V61: =SUM(V11:V60) -> 51.3 | ... AC61: =SUM(AC11:AC60) -> 51.3
K62: 2022 évre a fejlesztési forrás biztosított
B64: Tervezett feladatok nettó költsége a teljes ütem tekintetében (eFt) | C64: Rendelkezésre álló források számszerűsített értéke a teljes ütem tekintetében (eFt) | D64: Forrás megnevezése a teljes ütem tekintetében
A65: I. ütem | B65: =SUM(O61) -> 342 | C65: 342 | D65: Használati díj (2022)
A66: II. ütem | B66: =SUM(P61:S61) -> 205.2 | C66: =C65*4 -> 1368 | D66: Használati díj (2023-2026)
A67: III. ütem | B67: =SUM(T61:AC61) -> 513 | C67: =C65*10 -> 3420 | D67: Használati díj (2027-2036)

Sheet Dobronhegy
A1: Gördülő fejlesztési terv a 2022 - 2036 időszakra
A2: FELÚJÍTÁSOK ÉS PÓTLÁSOK ÖSSZEFOGLALÓ TÁBLÁZATA
A3: A tervet benyújtó szervezet megnevezése: | K3: DOBRONHEGY | R3: ellátásért felelős / ellátásért felelősök képviselője / víziközmű-szolgáltató *
A4: Víziközmű-szolgáltató megnevezése: | K4: ÉSZAK ZALAI VÍZ- ÉS CSATORNAMŰ ZÁRTKÖRŰEN MŰKÖDŐ RÉSZVÉNYTÁRSASÁG
A5: Víziközmű-szolgáltatási ágazat megnevezése: | K5: IVÓVÍZ ÁGAZAT
A6: Véleményeltérést megfogalmazó érintett fél megnevezése:
A7: Víziközmű-rendszer kódja: ** | K7: 11-32054-1-025-01-14 | R7: ZALAEGERSZEG-IV
A8: I. Felszín alatti vízkivétel
A9: Fontossági sorrend | B9: Felujítás és pótlás megnevezése | E9: Műszaki állapot felmérés, szükségességi indoklás | H9: Vízjogi létesítési/elvi engedély száma | I9: Az érintett ellátásért felelős(ök) megnevezése | J9: Tervezett nettó költség | K9: Forrás 2022 évre | L9: Megvalósítás időtartama | N9: Tervezett időtáv | O9: A beruházás ütemezése a tervezési időszak évei szerint
E10: Jelenlegi műszaki állapot | F10: Feladat szükségessége | G10: Megvalósítást követő várható műszaki állapot | J10: (eFt) | L10: Kezdés | M10: Befejezés | N10: (rövid / közép / hosszú) | O10: 1 | P10: 2 | Q10: 3 | R10: 4 | S10: 5 | T10: 6 | U10: 7 | V10: 8 | W10: 9 | X10: 10 | Y10: 11 | Z10: 12 | AA10: 13 | AB10: 14 | AC10: 15
B11: szakág | C11: Helyszín | D11: beruházás megnevezése
A12: 1 | C12: Dobronhegy | D12: Rendkívüli helyzetből adódó azonnali feladatok (max. 15%) | F12: működőképeség biztosítása | I12: Dobronhegy | J12: =SUM(O12:AC12) -> 468.1 | L12: 44562 | M12: 50040 | O12: =1*$C$65 -> 151 | P12: =0.15*$C$65 -> 22.65 | Q12: =0.15*$C$65 -> 22.65 | R12: =0.15*$C$65 -> 22.65 | S12: =0.15*$C$65 -> 22.65 | T12: =0.15*$C$65 -> 22.65 | U12: =0.15*$C$65 -> 22.65 | V12: =0.15*$C$65 -> 22.65 | W12: =0.15*$C$65 -> 22.65 | ... AC12: =0.15*$C$65 -> 22.65
B13: MÉLYFÚRÁSÚ KÚT, HAGYOMÁNYOS ÁTMÉRŐVEL
B14: Épület, építmény
B16: Gép, berendezés
B18: Irányítástechnika, energiaellátás
B20: Összesen: | J20: =SUM(J12:J19) -> 468.1
A21: III. Vízműtelep és vízkezelő létesítmények
C22: Helyszín | D22: beruházás megnevezése
B23: VÍZMŰTELEP
B24: Épület, építmény
B26: Gép, berendezés
B28: Irányítástechnika, energiaellátás
B30: VÍZKEZELŐ LÉTESÍTMÉNYEK
B31: Épület, építmény
B33: Gép, berendezés
B35: Irányítástechnika, energiaellátás
B37: Összesen | J37: =SUM(J25:J36) -> 0
A38: IV. Vízelosztás
C39: Helyszín | D39: beruházás megnevezése
B40: IVÓVÍZHÁLÓZAT
B41: Épület, építmény
C42: Dobronhegy Petőfi u. | D42: csőhíd csere (NA100 6 fm) | E42: A vezeték állapota anyaga, kora, minősége miatt nem megfelelő, elavult. | F42: A vezeték elavult műszaki állapota miatt gyakoriak a csőtörések | G42: A vízvezeték kiváltás, a vízigények figyelembevételével megfelelő átmérőjű és anyagú hálózatot kapunk. | H42: - | I42: Dobronhegy | J42: =SUM(O42:AC42) -> 400 | L42: 47484 | M42: 48944 | N42: hosszú | W42: 100 | X42: 100 | Y42: 100 | Z42: 100
B43: Gép, berendezés
B45: Irányítástechnika, energiaellátás
B47: VÍZTÁROLÓK
B48: Épület, építmény
B50: Gép, berendezés
B52: Irányítástechnika, energiaellátás
B54: NYOMÁSFOKOZÓK
B55: Épület, építmény
B57: Gép, berendezés
B59: Irányítástechnika, energiaellátás
B60: Összesen: | J60: =SUM(J42:J59) -> 400
B61: Összesen: | J61: =J20+J37+J60 -> 868.1 | K61: =C65 -> 151 | O61: =SUM(O12:O60) -> 151 | P61: =SUM(P12:P60) -> 22.65 | Q61: =SUM(Q12:Q60) -> 22.65 | R61: =SUM(R12:R60) -> 22.65 | S61: =SUM(S12:S60) -> 22.65 | T61: =SUM(T12:T60) -> 22.65 | U61: =SUM(U12:U60) -> 22.65 | V61: =SUM(V12:V60) -> 22.65 | ... AC61: =SUM(AC12:AC60) -> 22.65
K62: 2022 évre a fejlesztési forrás biztosított
B64: Tervezett feladatok nettó költsége a teljes ütem tekintetében (eFt) | C64: Rendelkezésre álló források számszerűsített értéke a teljes ütem tekintetében (eFt) | D64: Forrás megnevezése a teljes ütem tekintetében
A65: I. ütem | B65: =SUM(O61) -> 151 | C65: 151 | D65: Használati díj (2022)
A66: II. ütem | B66: =SUM(P61:S61) -> 90.6 | C66: =C65*4 -> 604 | D66: Használati díj (2023-2026)
A67: III. ütem | B67: =SUM(T61:AC61) -> 626.5 | C67: =C65*10 -> 1510 | D67: Használati díj (2027-2036)

Sheet Hagyárosbörönd
A1: Gördülő fejlesztési terv a 2022 - 2036 időszakra
A2: FELÚJÍTÁSOK ÉS PÓTLÁSOK ÖSSZEFOGLALÓ TÁBLÁZATA
A3: A tervet benyújtó szervezet megnevezése: | K3: HAGYÁROSBÖRÖND | R3: ellátásért felelős / ellátásért felelősök képviselője / víziközmű-szolgáltató *
A4: Víziközmű-szolgáltató megnevezése: | K4: ÉSZAK ZALAI VÍZ- ÉS CSATORNAMŰ ZÁRTKÖRŰEN MŰKÖDŐ RÉSZVÉNYTÁRSASÁG
A5: Víziközmű-szolgáltatási ágazat megnevezése: | K5: IVÓVÍZ ÁGAZAT
A6: Véleményeltérést megfogalmazó érintett fél megnevezése:
A7: Víziközmű-rendszer kódja: ** | K7: 11-32054-1-025-01-14 | R7: ZALAEGERSZEG-IV
A8: I. Felszín alatti vízkivétel
A9: Fontossági sorrend | B9: Felujítás és pótlás megnevezése | E9: Műszaki állapot felmérés, szükségességi indoklás | H9: Vízjogi létesítési/elvi engedély száma | I9: Az érintett ellátásért felelős(ök) megnevezése | J9: Tervezett nettó költség | K9: Forrás 2022 évre | L9: Megvalósítás időtartama | N9: Tervezett időtáv | O9: A beruházás ütemezése a tervezési időszak évei szerint
E10: Jelenlegi műszaki állapot | F10: Feladat szükségessége | G10: Megvalósítást követő várható műszaki állapot | J10: (eFt) | L10: Kezdés | M10: Befejezés | N10: (rövid / közép / hosszú) | O10: 1 | P10: 2 | Q10: 3 | R10: 4 | S10: 5 | T10: 6 | U10: 7 | V10: 8 | W10: 9 | X10: 10 | Y10: 11 | Z10: 12 | AA10: 13 | AB10: 14 | AC10: 15
B11: szakág | C11: Helyszín | D11: beruházás megnevezése
A12: 1 | C12: Hagyárosbörönd | D12: Rendkívüli helyzetből adódó azonnali feladatok (max. 15%) | F12: működőképeség biztosítása | I12: Hagyárosbörönd | J12: =SUM(O12:AC12) -> 1996.4 | L12: 44562 | M12: 50040 | O12: =1*$C$66 -> 644 | P12: =0.15*$C$66 -> 96.6 | Q12: =0.15*$C$66 -> 96.6 | R12: =0.15*$C$66 -> 96.6 | S12: =0.15*$C$66 -> 96.6 | T12: =0.15*$C$66 -> 96.6 | U12: =0.15*$C$66 -> 96.6 | V12: =0.15*$C$66 -> 96.6 | W12: =0.15*$C$66 -> 96.6 | ... AC12: =0.15*$C$66 -> 96.6
B13: MÉLYFÚRÁSÚ KÚT, HAGYOMÁNYOS ÁTMÉRŐVEL
B14: Épület, építmény
B16: Gép, berendezés
B18: Irányítástechnika, energiaellátás
B20: Összesen: | J20: =SUM(J12:J19) -> 1996.4
A21: III. Vízműtelep és vízkezelő létesítmények
C22: Helyszín | D22: beruházás megnevezése
B23: VÍZMŰTELEP
B24: Épület, építmény
B26: Gép, berendezés
B28: Irányítástechnika, energiaellátás
B30: VÍZKEZELŐ LÉTESÍTMÉNYEK
B31: Épület, építmény
B33: Gép, berendezés
B35: Irányítástechnika, energiaellátás
B37: Összesen | J37: =SUM(J25:J36) -> 0
A38: IV. Vízelosztás
C39: Helyszín | D39: beruházás megnevezése
B40: IVÓVÍZHÁLÓZAT
B41: Épület, építmény
C42: Hagyárosbörönd | D42: tűzcsap építés, csere | E42: A szerelvény állapota anyaga, kora, minősége miatt nem megfelelő, elavult. | F42: A vezeték elavult műszaki állapota miatt gyakoriak a csőtörések | G42: A szerelvény kiváltás, a vízigények figyelembevételével megfelelő átmérőjű és anyagú hálózatot kapunk. | H42: - | I42: Hagyárosbörönd | J42: =SUM(O42:AC42) -> 600 | L42: 44927 | M42: 45291 | N42: közép | P42: 600
B43: Gép, berendezés
B45: Irányítástechnika, energiaellátás
B47: VÍZTÁROLÓK
B48: Épület, építmény
B50: Gép, berendezés
B52: Irányítástechnika, energiaellátás
B54: NYOMÁSFOKOZÓK
B55: Épület, építmény
B57: Gép, berendezés
C58: Hagyárosbörönd nyomásfokozó | D58: Szivattyú csere (CRIE5-9 2 db; CR45-6) | E58: A szivattyú kora, műszaki állapota miatt fennáll a meghibásodás veszélye. | F58: A folyamatos víztermelés biztosítása | G58: A Q–H diagramhoz illeszkedő energiahatékony szivattyú üzemeltetése | I58: Hagyárosbörönd | J58: =SUM(O58:AC58) -> 1500 | L58: 47484 | M58: 48579 | N58: hosszú | W58: 254 | X58: 674 | Y58: 572
B59: Irányítástechnika, energiaellátás
B61: Összesen: | J61: =SUM(J42:J60) -> 2100
B62: Összesen: | J62: =J20+J37+J61 -> 4096.4 | K62: =C66 -> 644 | O62: =SUM(O12:O61) -> 644 | P62: =SUM(P12:P61) -> 696.6 | Q62: =SUM(Q12:Q61) -> 96.6 | R62: =SUM(R12:R61) -> 96.6 | S62: =SUM(S12:S61) -> 96.6 | T62: =SUM(T12:T61) -> 96.6 | U62: =SUM(U12:U61) -> 96.6 | V62: =SUM(V12:V61) -> 96.6 | ... AC62: =SUM(AC12:AC61) -> 96.6
K63: 2022 évre a fejlesztési forrás biztosított
B65: Tervezett feladatok nettó költsége a teljes ütem tekintetében (eFt) | C65: Rendelkezésre álló források számszerűsített értéke a teljes ütem tekintetében (eFt) | D65: Forrás megnevezése a teljes ütem tekintetében
A66: I. ütem | B66: =SUM(O62) -> 644 | C66: 644 | D66: Használati díj (2022)
A67: II. ütem | B67: =SUM(P62:S62) -> 986.4 | C67: =C66*4 -> 2576 | D67: Használati díj (2023-2026)
A68: III. ütem | B68: =SUM(T62:AC62) -> 2466 | C68: =C66*10 -> 6440 | D68: Használati díj (2027-2036)

Sheet Hottó
A1: Gördülő fejlesztési terv a 2022 - 2036 időszakra
A2: FELÚJÍTÁSOK ÉS PÓTLÁSOK ÖSSZEFOGLALÓ TÁBLÁZATA
A3: A tervet benyújtó szervezet megnevezése: | K3: HOTTÓ | R3: ellátásért felelős / ellátásért felelősök képviselője / víziközmű-szolgáltató *
A4: Víziközmű-szolgáltató megnevezése: | K4: ÉSZAK ZALAI VÍZ- ÉS CSATORNAMŰ ZÁRTKÖRŰEN MŰKÖDŐ RÉSZVÉNYTÁRSASÁG
A5: Víziközmű-szolgáltatási ágazat megnevezése: | K5: IVÓVÍZ ÁGAZAT
A6: Véleményeltérést megfogalmazó érintett fél megnevezése:
A7: Víziközmű-rendszer kódja: ** | K7: 11-32054-1-025-01-14 | R7: ZALAEGERSZEG-IV
A8: I. Felszín alatti vízkivétel
A9: Fontossági sorrend | B9: Felujítás és pótlás megnevezése | E9: Műszaki állapot felmérés, szükségességi indoklás | H9: Vízjogi létesítési/elvi engedély száma | I9: Az érintett ellátásért felelős(ök) megnevezése | J9: Tervezett nettó költség | K9: Forrás 2022 évre | L9: Megvalósítás időtartama | N9: Tervezett időtáv | O9: A beruházás ütemezése a tervezési időszak évei szerint
E10: Jelenlegi műszaki állapot | F10: Feladat szükségessége | G10: Megvalósítást követő várható műszaki állapot | J10: (eFt) | L10: Kezdés | M10: Befejezés | N10: (rövid / közép / hosszú) | O10: 1 | P10: 2 | Q10: 3 | R10: 4 | S10: 5 | T10: 6 | U10: 7 | V10: 8 | W10: 9 | X10: 10 | Y10: 11 | Z10: 12 | AA10: 13 | AB10: 14 | AC10: 15
B11: szakág | C11: Helyszín | D11: beruházás megnevezése
A12: 1 | C12: Hottó | D12: Rendkívüli helyzetből adódó azonnali feladatok (max. 15%) | F12: működőképeség biztosítása | I12: Hottó | J12: =SUM(O12:AC12) -> 2337.4 | L12: 44562 | M12: 50040 | O12: =1*$C$66 -> 754 | P12: =0.15*$C$66 -> 113.1 | Q12: =0.15*$C$66 -> 113.1 | R12: =0.15*$C$66 -> 113.1 | S12: =0.15*$C$66 -> 113.1 | T12: =0.15*$C$66 -> 113.1 | U12: =0.15*$C$66 -> 113.1 | V12: =0.15*$C$66 -> 113.1 | W12: =0.15*$C$66 -> 113.1 | ... AC12: =0.15*$C$66 -> 113.1
B13: MÉLYFÚRÁSÚ KÚT, HAGYOMÁNYOS ÁTMÉRŐVEL
B14: Épület, építmény
B16: Gép, berendezés
B18: Irányítástechnika, energiaellátás
B20: Összesen: | J20: =SUM(J12:J19) -> 2337.4
A21: III. Vízműtelep és vízkezelő létesítmények
C22: Helyszín | D22: beruházás megnevezése
B23: VÍZMŰTELEP
B24: Épület, építmény
B26: Gép, berendezés
B28: Irányítástechnika, energiaellátás
B30: VÍZKEZELŐ LÉTESÍTMÉNYEK
B31: Épület, építmény
B33: Gép, berendezés
B35: Irányítástechnika, energiaellátás
B37: Összesen | J37: =SUM(J25:J36) -> 0
A38: IV. Vízelosztás
C39: Helyszín | D39: beruházás megnevezése
B40: IVÓVÍZHÁLÓZAT
B41: Épület, építmény
C42: Hottó | D42: vezeték kiváltás, rekonstrukció, felújítás | E42: A vezeték állapota anyaga, kora, minősége miatt nem megfelelő, elavult. | F42: A vezeték elavult műszaki állapota miatt gyakoriak a csőtörések. | G42: A vízvezeték kiváltás a vízigények figyelembevételével megfelelő átmérőjű és anyagú hálózatot kapunk. | I42: Hottó | J42: =SUM(O42:AC42) -> 965 | L42: 44927 | M42: 45291 | N42: közép | P42: 965
B44: Gép, berendezés
B46: Irányítástechnika, energiaellátás
B48: VÍZTÁROLÓK
B49: Épület, építmény
B51: Gép, berendezés
B53: Irányítástechnika, energiaellátás
B54: NYOMÁSFOKOZÓK
B55: Épület, építmény
B57: Gép, berendezés
B59: Irányítástechnika, energiaellátás
B61: Összesen: | J61: =SUM(J42:J60) -> 965
B62: Összesen: | J62: =J20+J37+J61 -> 3302.4 | K62: =SUM(C66:C66) -> 754 | O62: =SUM(O12:O61) -> 754 | P62: =SUM(P12:P61) -> 1078.1 | Q62: =SUM(Q12:Q61) -> 113.1 | R62: =SUM(R12:R61) -> 113.1 | S62: =SUM(S12:S61) -> 113.1 | T62: =SUM(T12:T61) -> 113.1 | U62: =SUM(U12:U61) -> 113.1 | V62: =SUM(V12:V61) -> 113.1 | ... AC62: =SUM(AC12:AC61) -> 113.1
K63: 2022 évre a fejlesztési forrás biztosított
B65: Tervezett feladatok nettó költsége a teljes ütem tekintetében (eFt) | C65: Rendelkezésre álló források számszerűsített értéke a teljes ütem tekintetében (eFt) | D65: Forrás megnevezése a teljes ütem tekintetében
A66: I. ütem | B66: =SUM(O62) -> 754 | C66: 754 | D66: Használati díj (2021)
A67: II. ütem | B67: =SUM(P62:S62) -> 1417.4 | C67: =C66*4 -> 3016 | D67: Használati díj (2022-2025)
A68: III. ütem | B68: =SUM(T62:AC62) -> 1131 | C68: =C66*10 -> 7540 | D68: Használati díj (2026-2035)

Sheet Kávás
A1: Gördülő fejlesztési terv a 2022 - 2036 időszakra
A2: FELÚJÍTÁSOK ÉS PÓTLÁSOK ÖSSZEFOGLALÓ TÁBLÁZATA
A3: A tervet benyújtó szervezet megnevezése: | K3: KÁVÁS | R3: ellátásért felelős / ellátásért felelősök képviselője / víziközmű-szolgáltató *
A4: Víziközmű-szolgáltató megnevezése: | K4: ÉSZAK ZALAI VÍZ- ÉS CSATORNAMŰ ZÁRTKÖRŰEN MŰKÖDŐ RÉSZVÉNYTÁRSASÁG
A5: Víziközmű-szolgáltatási ágazat megnevezése: | K5: IVÓVÍZ ÁGAZAT
A6: Véleményeltérést megfogalmazó érintett fél megnevezése:
A7: Víziközmű-rendszer kódja: ** | K7: 11-32054-1-025-01-14 | R7: ZALAEGERSZEG-IV
A8: I. Felszín alatti vízkivétel
A9: Fontossági sorrend | B9: Felujítás és pótlás megnevezése | E9: Műszaki állapot felmérés, szükségességi indoklás | H9: Vízjogi létesítési/elvi engedély száma | I9: Az érintett ellátásért felelős(ök) megnevezése | J9: Tervezett nettó költség | K9: Forrás 2022 évre | L9: Megvalósítás időtartama | N9: Tervezett időtáv | O9: A beruházás ütemezése a tervezési időszak évei szerint
E10: Jelenlegi műszaki állapot | F10: Feladat szükségessége | G10: Megvalósítást követő várható műszaki állapot | J10: (eFt) | L10: Kezdés | M10: Befejezés | N10: (rövid / közép / hosszú) | O10: 1 | P10: 2 | Q10: 3 | R10: 4 | S10: 5 | T10: 6 | U10: 7 | V10: 8 | W10: 9 | X10: 10 | Y10: 11 | Z10: 12 | AA10: 13 | AB10: 14 | AC10: 15
B11: szakág | C11: Helyszín | D11: beruházás megnevezése
A12: 1 | C12: Kávás | D12: Rendkívüli helyzetből adódó azonnali feladatok (max.15%) | F12: működőképeség biztosítása | I12: Kávás | J12: =SUM(O12:AC12) -> 2191.7 | L12: 44562 | M12: 50040 | O12: =1*$C$66 -> 707 | P12: =0.15*$C$66 -> 106.05 | Q12: =0.15*$C$66 -> 106.05 | R12: =0.15*$C$66 -> 106.05 | S12: =0.15*$C$66 -> 106.05 | T12: =0.15*$C$66 -> 106.05 | U12: =0.15*$C$66 -> 106.05 | V12: =0.15*$C$66 -> 106.05 | W12: =0.15*$C$66 -> 106.05 | ... AC12: =0.15*$C$66 -> 106.05
B13: MÉLYFÚRÁSÚ KÚT, HAGYOMÁNYOS ÁTMÉRŐVEL
B14: Épület, építmény
B16: Gép, berendezés
B18: Irányítástechnika, energiaellátás
B20: Összesen: | J20: =SUM(J12:J19) -> 2191.7
A21: III. Vízműtelep és vízkezelő létesítmények
C22: Helyszín | D22: beruházás megnevezése
B23: VÍZMŰTELEP
B24: Épület, építmény
B26: Gép, berendezés
B28: Irányítástechnika, energiaellátás
B30: VÍZKEZELŐ LÉTESÍTMÉNYEK
B31: Épület, építmény
B33: Gép, berendezés
B35: Irányítástechnika, energiaellátás
B37: Összesen | J37: =SUM(J25:J36) -> 0
A38: IV. Vízelosztás
C39: Helyszín | D39: beruházás megnevezése
B40: IVÓVÍZHÁLÓZAT
B41: Épület, építmény
C42: Kávás | D42: tűzcsap építés, csere | E42: A szerelvény állapota anyaga, kora, minősége miatt nem megfelelő, elavult. | F42: A szerelvény elavult műszaki állapota miatt gyakoriak a csőtörések | G42: A szerelvény kiváltás, a vízigények figyelembevételével megfelelő átmérőjű és anyagú hálózatot kapunk. | I42: Kávás | J42: =SUM(O42:AC42) -> 762 | L42: 44927 | M42: 45291 | N42: közép | P42: 762
C43: Kávás | D43: vezeték kiváltás, rekonstrukció, felújítás | E43: A vezeték állapota anyaga, kora, minősége miatt nem megfelelő, elavult. | F43: A vezeték elavult műszaki állapota miatt gyakoriak a csőtörések | G43: A vízvezeték kiváltás, a vízigények figyelembevételével megfelelő átmérőjű és anyagú hálózatot kapunk. | I43: Kávás | J43: =SUM(O43:AC43) -> 83990 | L43: 46388 | M43: 50040 | N43: hosszú | T43: 8399 | U43: 8399 | V43: 8399 | W43: 8399 | X43: 8399 | Y43: 8399 | Z43: 8399 | AA43: 8399 | AB43: 8399 | AC43: 8399
B44: Gép, berendezés
B46: Irányítástechnika, energiaellátás
B48: VÍZTÁROLÓK
B49: Épület, építmény
B51: Gép, berendezés
B53: Irányítástechnika, energiaellátás
B55: NYOMÁSFOKOZÓK
B56: Épület, építmény
B58: Gép, berendezés
C59: Kávás Öreghegy nyomásfokozó | D59: Szivattyú csere (CRIE3-8 2 db) | E59: A szivattyú kora, műszaki állapota miatt fennáll a meghibásodás veszélye. | F59: A folyamatos víztermelés biztosítása | G59: A Q–H diagramhoz illeszkedő energiahatékony szivattyú üzemeltetése | I59: Kávás | J59: =SUM(O59:AC59) -> 637 | L59: 47119 | M59: 47848 | N59: hosszú | V59: 394 | W59: 243
B60: Irányítástechnika, energiaellátás
B61: Összesen: | J61: =SUM(J42:J60) -> 85389
B62: Összesen: | J62: =J20+J37+J61 -> 87580.7 | K62: =C66 -> 707 | O62: =SUM(O12:O61) -> 707 | P62: =SUM(P12:P61) -> 868.05 | Q62: =SUM(Q12:Q61) -> 106.05 | R62: =SUM(R12:R61) -> 106.05 | S62: =SUM(S12:S61) -> 106.05 | T62: =SUM(T12:T61) -> 8505.05 | U62: =SUM(U12:U61) -> 8505.05 | V62: =SUM(V12:V61) -> 8899.05 | ... AC62: =SUM(AC12:AC61) -> 8505.05
K63: 2022 évre a fejlesztési forrás biztosított
B65: Tervezett feladatok nettó költsége a teljes ütem tekintetében (eFt) | C65: Rendelkezésre álló források számszerűsített értéke a teljes ütem tekintetében (eFt) | D65: Forrás megnevezése a teljes ütem tekintetében
A66: I. ütem | B66: =SUM(O62) -> 707 | C66: 707 | D66: Használati díj (2022)
A67: II. ütem | B67: =SUM(P62:S62) -> 1186.2 | C67: =C66*4 -> 2828 | D67: Használati díj (2023-2026)
A68: III. ütem | B68: =SUM(T62:AC62) -> 85687.5 | C68: =C66*10 -> 7070 | D68: Használati díj (2027-2036)

Sheet Kiskutas
A1: Gördülő fejlesztési terv a 2022 - 2036 időszakra
A2: FELÚJÍTÁSOK ÉS PÓTLÁSOK ÖSSZEFOGLALÓ TÁBLÁZATA
A3: A tervet benyújtó szervezet megnevezése: | K3: KISKUTAS | R3: ellátásért felelős / ellátásért felelősök képviselője / víziközmű-szolgáltató *
A4: Víziközmű-szolgáltató megnevezése: | K4: ÉSZAK ZALAI VÍZ- ÉS CSATORNAMŰ ZÁRTKÖRŰEN MŰKÖDŐ RÉSZVÉNYTÁRSASÁG
A5: Víziközmű-szolgáltatási ágazat megnevezése: | K5: IVÓVÍZ ÁGAZAT
A6: Véleményeltérést megfogalmazó érintett fél megnevezése:
A7: Víziközmű-rendszer kódja: ** | K7: 11-32054-1-025-01-14 | R7: ZALAEGERSZEG-IV
A8: I. Felszín alatti vízkivétel
A9: Fontossági sorrend | B9: Felujítás és pótlás megnevezése | E9: Műszaki állapot felmérés, szükségességi indoklás | H9: Vízjogi létesítési/elvi engedély száma | I9: Az érintett ellátásért felelős(ök) megnevezése | J9: Tervezett nettó költség | K9: Forrás 2022 évre | L9: Megvalósítás időtartama | N9: Tervezett időtáv | O9: A beruházás ütemezése a tervezési időszak évei szerint
E10: Jelenlegi műszaki állapot | F10: Feladat szükségessége | G10: Megvalósítást követő várható műszaki állapot | J10: (eFt) | L10: Kezdés | M10: Befejezés | N10: (rövid / közép / hosszú) | O10: 1 | P10: 2 | Q10: 3 | R10: 4 | S10: 5 | T10: 6 | U10: 7 | V10: 8 | W10: 9 | X10: 10 | Y10: 11 | Z10: 12 | AA10: 13 | AB10: 14 | AC10: 15
B11: szakág | C11: Helyszín | D11: beruházás megnevezése
A12: 1 | C12: Kiskutas | D12: Rendkívüli helyzetből adódó azonnali feladatok (max. 15%) | F12: működőképeség biztosítása | I12: Kiskutas | J12: =SUM(O12:AC12) -> 1391.9 | L12: 44562 | M12: 50040 | O12: =1*$C$66 -> 449 | P12: =0.15*$C$66 -> 67.35 | Q12: =0.15*$C$66 -> 67.35 | R12: =0.15*$C$66 -> 67.35 | S12: =0.15*$C$66 -> 67.35 | T12: =0.15*$C$66 -> 67.35 | U12: =0.15*$C$66 -> 67.35 | V12: =0.15*$C$66 -> 67.35 | W12: =0.15*$C$66 -> 67.35 | ... AC12: =0.15*$C$66 -> 67.35
B13: MÉLYFÚRÁSÚ KÚT, HAGYOMÁNYOS ÁTMÉRŐVEL
B14: Épület, építmény
B16: Gép, berendezés
B18: Irányítástechnika, energiaellátás
B20: Összesen: | J20: =SUM(J12:J19) -> 1391.9
A21: III. Vízműtelep és vízkezelő létesítmények
C22: Helyszín | D22: beruházás megnevezése
B23: VÍZMŰTELEP
B24: Épület, építmény
B26: Gép, berendezés
B28: Irányítástechnika, energiaellátás
B30: VÍZKEZELŐ LÉTESÍTMÉNYEK
B31: Épület, építmény
B33: Gép, berendezés
B35: Irányítástechnika, energiaellátás
B37: Összesen | J37: =SUM(J25:J36) -> 0
A38: IV. Vízelosztás
C39: Helyszín | D39: beruházás megnevezése
B40: IVÓVÍZHÁLÓZAT
B41: Épület, építmény
C42: Kiskutas átemelő és a település között | D42: gerincvezeték csere (D160 410 fm | E42: A vezeték állapota anyaga, kora, minősége miatt nem megfelelő, elavult. | F42: A vezeték elavult műszaki állapota miatt gyakoriak a csőtörések | G42: A vezeték kiváltás, a vízigények figyelembevételével megfelelő átmérőjű és anyagú hálózatot kapunk. | I42: Kiskutas | J42: =SUM(O42:AC42) -> 14350 | L42: 46388 | M42: 50040 | N42: hosszú | T42: 1435 | U42: 1435 | V42: 1435 | W42: 1435 | X42: 1435 | Y42: 1435 | Z42: 1435 | AA42: 1435 | AB42: 1435 | AC42: 1435
B43: Gép, berendezés
B45: Irányítástechnika, energiaellátás
B47: VÍZTÁROLÓK
B48: Épület, építmény
B50: Gép, berendezés
B52: Irányítástechnika, energiaellátás
B54: NYOMÁSFOKOZÓK
B55: Épület, építmény
B57: Gép, berendezés
C58: Nagykutasi átemelő | D58: Szivattyú csere (WILO MVIL 906-16/E/3-400-50-2/IE3 3 db) | E58: A szivattyú kora, műszaki állapota miatt fennáll a meghibásodás veszélye. Feladat szükségessége | F58: A folyamatos víztermelés biztosítása. | G58: A Q–H diagramhoz illeszkedő energiahatékony szivattyú üzemeltetése. | I58: Nagykutas osztatlan közös | J58: =SUM(O58:AC58) -> 456 | L58: 48945 | M58: 49309 | N58: hosszú | AA58: 456
B59: Irányítástechnika, energiaellátás
C60: Nagykutas átemelő | D60: villamos és irányítástechnika felújítása | E60: Az elektromos, irányítástechnikai szerelvények és vezetékek, műszaki állapota miatt fennáll a meghibásodás veszélye. | F60: A szivattyú elektromos megtáplálása, a folyamatos távfelügyelet biztosítása. | G60: A szivattyú elektromos paramétereihez illeszkedő erősáramú és vezérlőszekrény. | I60: Nagykutas osztatlan közös | J60: =SUM(O60:AC60) -> 456 | L60: 46753 | M60: 47118 | N60: hosszú | U60: 456
B61: Összesen: | J61: =SUM(J42:J60) -> 15262
B62: Összesen: | J62: =J20+J37+J61 -> 16653.9 | K62: =C66 -> 449 | O62: =SUM(O12:O61) -> 449 | P62: =SUM(P12:P61) -> 67.35 | Q62: =SUM(Q12:Q61) -> 67.35 | R62: =SUM(R12:R61) -> 67.35 | S62: =SUM(S12:S61) -> 67.35 | T62: =SUM(T12:T61) -> 1502.35 | U62: =SUM(U12:U61) -> 1958.35 | V62: =SUM(V12:V61) -> 1502.35 | ... AC62: =SUM(AC12:AC61) -> 1502.35
K63: 2022 évre a fejlesztési forrás biztosított
B65: Tervezett feladatok nettó költsége a teljes ütem tekintetében (eFt) | C65: Rendelkezésre álló források számszerűsített értéke a teljes ütem tekintetében (eFt) | D65: Forrás megnevezése a teljes ütem tekintetében
A66: I. ütem | B66: =SUM(O62) -> 449 | C66: 449 | D66: Használati díj (2022)
A67: II. ütem | B67: =SUM(P62:S62) -> 269.4 | C67: =C66*4 -> 1796 | D67: Használati díj (2023-2026)
A68: III. ütem | B68: =SUM(T62:AC62) -> 15935.5 | C68: =C66*10 -> 4490 | D68: Használati díj (2027-2036)

Sheet Kispáli
A1: Gördülő fejlesztési terv a 2022 - 2036 időszakra
A2: FELÚJÍTÁSOK ÉS PÓTLÁSOK ÖSSZEFOGLALÓ TÁBLÁZATA
A3: A tervet benyújtó szervezet megnevezése: | K3: KISPÁLI | R3: ellátásért felelős / ellátásért felelősök képviselője / víziközmű-szolgáltató *
A4: Víziközmű-szolgáltató megnevezése: | K4: ÉSZAK ZALAI VÍZ- ÉS CSATORNAMŰ ZÁRTKÖRŰEN MŰKÖDŐ RÉSZVÉNYTÁRSASÁG
A5: Víziközmű-szolgáltatási ágazat megnevezése: | K5: IVÓVÍZ ÁGAZAT
A6: Véleményeltérést megfogalmazó érintett fél megnevezése:
A7: Víziközmű-rendszer kódja: ** | K7: 11-32054-1-025-01-14 | R7: ZALAEGERSZEG-IV
A8: I. Felszín alatti vízkivétel
A9: Fontossági sorrend | B9: Felujítás és pótlás megnevezése | E9: Műszaki állapot felmérés, szükségességi indoklás | H9: Vízjogi létesítési/elvi engedély száma | I9: Az érintett ellátásért felelős(ök) megnevezése | J9: Tervezett nettó költség | K9: Forrás 2022 évre | L9: Megvalósítás időtartama | N9: Tervezett időtáv | O9: A beruházás ütemezése a tervezési időszak évei szerint
E10: Jelenlegi műszaki állapot | F10: Feladat szükségessége | G10: Megvalósítást követő várható műszaki állapot | J10: (eFt) | L10: Kezdés | M10: Befejezés | N10: (rövid / közép / hosszú) | O10: 1 | P10: 2 | Q10: 3 | R10: 4 | S10: 5 | T10: 6 | U10: 7 | V10: 8 | W10: 9 | X10: 10 | Y10: 11 | Z10: 12 | AA10: 13 | AB10: 14 | AC10: 15
B11: szakág | C11: Helyszín | D11: beruházás megnevezése
A12: 1 | C12: Kispáli | D12: Rendkívüli helyzetből adódó azonnali feladatok (max.15%) | F12: működőképeség biztosítása | I12: Kispáli | J12: =SUM(O12:AC12) -> 3870 | L12: 44562 | M12: 50040 | O12: =0.15*$C$69 -> 258 | P12: =0.15*$C$69 -> 258 | Q12: =0.15*$C$69 -> 258 | R12: =0.15*$C$69 -> 258 | S12: =0.15*$C$69 -> 258 | T12: =0.15*$C$69 -> 258 | U12: =0.15*$C$69 -> 258 | V12: =0.15*$C$69 -> 258 | ... AC12: =0.15*$C$69 -> 258
B13: MÉLYFÚRÁSÚ KÚT, HAGYOMÁNYOS ÁTMÉRŐVEL
B14: Épület, építmény
B16: Gép, berendezés
B18: Irányítástechnika, energiaellátás
B20: Összesen: | J20: =SUM(J12:J19) -> 3870
A21: III. Vízműtelep és vízkezelő létesítmények
C22: Helyszín | D22: beruházás megnevezése
B23: VÍZMŰTELEP
B24: Épület, építmény
B26: Gép, berendezés
B28: Irányítástechnika, energiaellátás
B30: VÍZKEZELŐ LÉTESÍTMÉNYEK
B31: Épület, építmény
B33: Gép, berendezés
B35: Irányítástechnika, energiaellátás
B37: Összesen | J37: =SUM(J25:J36) -> 0
A38: IV. Vízelosztás
C39: Helyszín | D39: beruházás megnevezése
B40: IVÓVÍZHÁLÓZAT
B41: Épület, építmény
A42: 13 | C42: Kispáli | D42: bekötéscsere | E42: A vezeték állapota anyaga, kora, minősége miatt nem megfelelő, elavult. | F42: A bekötővezeték anyaga vízbiztonsági kockázatot rejt magában, illetve nagyobb a valószínűsége a meghibásodásnak. | G42: A vízvezeték kiváltás, a vízigények figyelembevételével megfelelő átmérőjű és anyagú hálózatot kapunk. | H42: - | I42: Kispáli | J42: =SUM(O42:AC42) -> 1031 | L42: 44562 | M42: 44926 | N42: rövid | O42: 1031
C43: Kispáli | D43: bekötéscsere | E43: A vezeték állapota anyaga, kora, minősége miatt nem megfelelő, elavult. | F43: A bekötővezeték anyaga vízbiztonsági kockázatot rejt magában, illetve nagyobb a valószínűsége a meghibásodásnak. | G43: A vízvezeték kiváltás, a vízigények figyelembevételével megfelelő átmérőjű és anyagú hálózatot kapunk. | H43: - | I43: Kispáli | J43: =SUM(O43:AC43) -> 4124 | L43: 44927 | M43: 46387 | N43: közép | P43: 1031 | Q43: 1031 | R43: 1031 | S43: 1031
C44: Kispáli | D44: tűzcsap építés, csere | E44: A vezeték állapota anyaga, kora, minősége miatt nem megfelelő, elavult. | F44: A vezeték elavult műszaki állapota miatt gyakoriak a csőtörések. | G44: A vízvezeték kiváltás, a vízigények figyelembevételével megfelelő átmérőjű és anyagú hálózatot kapunk. | H44: - | I44: Kispáli | J44: =SUM(O44:AC44) -> 2062 | L44: 45292 | M44: 46022 | N44: közép | Q44: 1031 | R44: 1031
C45: Kispáli | D45: bekötéscsere | E45: A vezeték állapota anyaga, kora, minősége miatt nem megfelelő, elavult. | F45: A bekötővezeték anyaga vízbiztonsági kockázatot rejt magában, illetve nagyobb a valószínűsége a meghibásodásnak. | G45: A vízvezeték kiváltás, a vízigények figyelembevételével megfelelő átmérőjű és anyagú hálózatot kapunk. | H45: - | I45: Kispáli | J45: =SUM(O45:AC45) -> 10310 | L45: 46388 | M45: 50040 | N45: hosszú | T45: 1031 | U45: 1031 | V45: 1031 | W45: 1031 | X45: 1031 | Y45: 1031 | Z45: 1031 | AA45: 1031 | AB45: 1031 | AC45: 1031
B46: Gép, berendezés
B48: Irányítástechnika, energiaellátás
B50: VÍZTÁROLÓK
B51: Épület, építmény
B53: Gép, berendezés
B55: Irányítástechnika, energiaellátás
B57: NYOMÁSFOKOZÓK
B58: Épület, építmény
B60: Gép, berendezés
C61: Nagykutasi átemelő | D61: Szivattyú csere (WILO MVIL 906-16/E/3-400-50-2/IE3 3 db) | E61: A szivattyú kora, műszaki állapota miatt fennáll a meghibásodás veszélye. Feladat szükségessége | F61: A folyamatos víztermelés biztosítása. | G61: A Q–H diagramhoz illeszkedő energiahatékony szivattyú üzemeltetése. | I61: Nagykutas osztatlan közös | J61: =SUM(O61:AC61) -> 974 | L61: 48945 | M61: 49309 | N61: hosszú | AA61: 974
B62: Irányítástechnika, energiaellátás
C63: Nagykutas átemelő | D63: villamos és irányítástechnika felújítása | E63: Az elektromos, irányítástechnikai szerelvények és vezetékek, műszaki állapota miatt fennáll a meghibásodás veszélye. | F63: A szivattyú elektromos megtáplálása, a folyamatos távfelügyelet biztosítása. | G63: A szivattyú elektromos paramétereihez illeszkedő erősáramú és vezérlőszekrény. | I63: Nagykutas osztatlan közös | J63: =SUM(O63:AC63) -> 974 | L63: 46753 | M63: 47118 | N63: hosszú | U63: 974
B64: Összesen: | J64: =SUM(J42:J63) -> 19475
B65: Összesen: | J65: =J20+J37+J64 -> 23345 | K65: =C69 -> 1720 | O65: =SUM(O11:O64) -> 1289 | P65: =SUM(P11:P64) -> 1289 | Q65: =SUM(Q11:Q64) -> 2320 | R65: =SUM(R11:R64) -> 2320 | S65: =SUM(S11:S64) -> 1289 | T65: =SUM(T11:T64) -> 1289 | U65: =SUM(U11:U64) -> 2263 | V65: =SUM(V11:V64) -> 1289 | ... AC65: =SUM(AC11:AC64) -> 1289
K66: 2022 évre a fejlesztési forrás biztosított
B68: Tervezett feladatok nettó költsége a teljes ütem tekintetében (eFt) | C68: Rendelkezésre álló források számszerűsített értéke a teljes ütem tekintetében (eFt) | D68: Forrás megnevezése a teljes ütem tekintetében
A69: I. ütem | B69: =SUM(O65) -> 1289 | C69: 1720 | D69: Használati díj (2022)
A70: II. ütem | B70: =SUM(P65:S65) -> 7218 | C70: =C69*4 -> 6880 | D70: Használati díj (2023-2026)
A71: III. ütem | B71: =SUM(T65:AC65) -> 14838 | C71: =C69*10 -> 17200 | D71: Használati díj (2027-2036)

Sheet Kustánszeg
A1: Gördülő fejlesztési terv a 2022 - 2036 időszakra
A2: FELÚJÍTÁSOK ÉS PÓTLÁSOK ÖSSZEFOGLALÓ TÁBLÁZATA
A3: A tervet benyújtó szervezet megnevezése: | K3: KUSTÁNSZEG | R3: ellátásért felelős / ellátásért felelősök képviselője / víziközmű-szolgáltató *
A4: Víziközmű-szolgáltató megnevezése: | K4: ÉSZAK ZALAI VÍZ- ÉS CSATORNAMŰ ZÁRTKÖRŰEN MŰKÖDŐ RÉSZVÉNYTÁRSASÁG
A5: Víziközmű-szolgáltatási ágazat megnevezése: | K5: IVÓVÍZ ÁGAZAT
A6: Véleményeltérést megfogalmazó érintett fél megnevezése:
A7: Víziközmű-rendszer kódja: ** | K7: 11-32054-1-025-01-14 | R7: ZALAEGERSZEG-IV
A8: I. Felszín alatti vízkivétel
A9: Fontossági sorrend | B9: Felujítás és pótlás megnevezése | E9: Műszaki állapot felmérés, szükségességi indoklás | H9: Vízjogi létesítési/elvi engedély száma | I9: Az érintett ellátásért felelős(ök) megnevezése | J9: Tervezett nettó költség | K9: Forrás 2022 évre | L9: Megvalósítás időtartama | N9: Tervezett időtáv | O9: A beruházás ütemezése a tervezési időszak évei szerint
E10: Jelenlegi műszaki állapot | F10: Feladat szükségessége | G10: Megvalósítást követő várható műszaki állapot | J10: (eFt) | L10: Kezdés | M10: Befejezés | N10: (rövid / közép / hosszú) | O10: 1 | P10: 2 | Q10: 3 | R10: 4 | S10: 5 | T10: 6 | U10: 7 | V10: 8 | W10: 9 | X10: 10 | Y10: 11 | Z10: 12 | AA10: 13 | AB10: 14 | AC10: 15
B11: szakág | C11: Helyszín | D11: beruházás megnevezése
A12: 1 | C12: Kustánszeg | D12: Rendkívüli helyzetből adódó azonnali feladatok (max. 5%) | F12: működőképeség biztosítása | I12: Kustánszeg | J12: =SUM(O12:AC12) -> 6356.25 | L12: 44562 | M12: 50040 | O12: =0.15*$C$65 -> 423.75 | P12: =0.15*$C$65 -> 423.75 | Q12: =0.15*$C$65 -> 423.75 | R12: =0.15*$C$65 -> 423.75 | S12: =0.15*$C$65 -> 423.75 | T12: =0.15*$C$65 -> 423.75 | U12: =0.15*$C$65 -> 423.75 | V12: =0.15*$C$65 -> 423.75 | ... AC12: =0.15*$C$65 -> 423.75
B13: MÉLYFÚRÁSÚ KÚT, HAGYOMÁNYOS ÁTMÉRŐVEL
B14: Épület, építmény
B16: Gép, berendezés
B18: Irányítástechnika, energiaellátás
B20: Összesen: | J20: =SUM(J12:J19) -> 6356.25
A21: III. Vízműtelep és vízkezelő létesítmények
C22: Helyszín | D22: beruházás megnevezése
B23: VÍZMŰTELEP
B24: Épület, építmény
B26: Gép, berendezés
B28: Irányítástechnika, energiaellátás
B30: VÍZKEZELŐ LÉTESÍTMÉNYEK
B31: Épület, építmény
B33: Gép, berendezés
B35: Irányítástechnika, energiaellátás
B37: Összesen | J37: =SUM(J25:J36) -> 0
A38: IV. Vízelosztás
C39: Helyszín | D39: beruházás megnevezése
B40: IVÓVÍZHÁLÓZAT
B41: Épület, építmény
B43: Gép, berendezés
B45: Irányítástechnika, energiaellátás
B47: VÍZTÁROLÓK
B48: Épület, építmény
B50: Gép, berendezés
C51: Kustánszeg víztorony | D51: közmű gépészet felújítása | E51: A technológia, szerelvények és vezetékek, műszaki állapota miatt fennáll a meghibásodás veszélye. | F51: A víztárolás gépészeti berendezései nem töltik be funkciójukat (nyitás-zárás). Az avultsági szint miatt fennáll a meghibásodás veszélye | G51: Megfelelő hatékonyságú technológia. A gépészeti funkciókat kifogástalanul ellátó szerelvények | I51: Becsvölgye osztatlan közös | J51: =SUM(O51:AC51) -> 1427 | L51: 45292 | M51: 46022 | N51: közép | Q51: 562 | R51: 865
B52: Irányítástechnika, energiaellátás
C53: Kustánszeg víztorony | D53: villamos és irányítástechnika felújítása | E53: Az elektromos, irányítástechnikai szerelvények és vezetékek, műszaki állapota miatt fennáll a meghibásodás veszélye. | F53: A víztárolók elektromos megtáplálása, a folyamatos távfelügyelet biztosítása. | G53: Az elektromos paramétereihez illeszkedő erős- és gyengeáramú vezérlőszekrény. | I53: Becsvölgye osztatlan közös | J53: =SUM(O53:AC53) -> 1176 | L53: 45658 | M53: 46022 | N53: közép | R53: 1176
B54: NYOMÁSFOKOZÓK
B55: Épület, építmény
B57: Gép, berendezés
B59: Irányítástechnika, energiaellátás
B60: Összesen: | J60: =SUM(J42:J59) -> 2603
B61: Összesen: | J61: =J20+J37+J60 -> 8959.25 | K61: =C65 -> 2825 | O61: =SUM(O12:O60) -> 423.75 | P61: =SUM(P12:P60) -> 423.75 | Q61: =SUM(Q12:Q60) -> 985.75 | R61: =SUM(R12:R60) -> 2464.75 | S61: =SUM(S12:S60) -> 423.75 | T61: =SUM(T12:T60) -> 423.75 | U61: =SUM(U12:U60) -> 423.75 | V61: =SUM(V12:V60) -> 423.75 | ... AC61: =SUM(AC12:AC60) -> 423.75
K62: 2022 évre a fejlesztési forrás biztosított
B64: Tervezett feladatok nettó költsége a teljes ütem tekintetében (eFt) | C64: Rendelkezésre álló források számszerűsített értéke a teljes ütem tekintetében (eFt) | D64: Forrás megnevezése a teljes ütem tekintetében
A65: I. ütem | B65: =SUM(O61) -> 423.75 | C65: 2825 | D65: Használati díj (2022)
A66: II. ütem | B66: =SUM(P61:S61) -> 4298 | C66: =C65*4 -> 11300 | D66: Használati díj (2023-2026)
A67: III. ütem | B67: =SUM(T61:AC61) -> 4237.5 | C67: =C65*10 -> 28250 | D67: Használati díj (2027-2036)

Sheet Milejszeg
A1: Gördülő fejlesztési terv a 2022 - 2036 időszakra
A2: FELÚJÍTÁSOK ÉS PÓTLÁSOK ÖSSZEFOGLALÓ TÁBLÁZATA
A3: A tervet benyújtó szervezet megnevezése: | K3: MILEJSZEG | R3: ellátásért felelős / ellátásért felelősök képviselője / víziközmű-szolgáltató *
A4: Víziközmű-szolgáltató megnevezése: | K4: ÉSZAK ZALAI VÍZ- ÉS CSATORNAMŰ ZÁRTKÖRŰEN MŰKÖDŐ RÉSZVÉNYTÁRSASÁG
A5: Víziközmű-szolgáltatási ágazat megnevezése: | K5: IVÓVÍZ ÁGAZAT
A6: Véleményeltérést megfogalmazó érintett fél megnevezése:
A7: Víziközmű-rendszer kódja: ** | K7: 11-32054-1-025-01-14 | R7: ZALAEGERSZEG-IV
A8: I. Felszín alatti vízkivétel
A9: Fontossági sorrend | B9: Felujítás és pótlás megnevezése | E9: Műszaki állapot felmérés, szükségességi indoklás | H9: Vízjogi létesítési/elvi engedély száma | I9: Az érintett ellátásért felelős(ök) megnevezése | J9: Tervezett nettó költség | K9: Forrás 2022 évre | L9: Megvalósítás időtartama | N9: Tervezett időtáv | O9: A beruházás ütemezése a tervezési időszak évei szerint
E10: Jelenlegi műszaki állapot | F10: Feladat szükségessége | G10: Megvalósítást követő várható műszaki állapot | J10: (eFt) | L10: Kezdés | M10: Befejezés | N10: (rövid / közép / hosszú) | O10: 1 | P10: 2 | Q10: 3 | R10: 4 | S10: 5 | T10: 6 | U10: 7 | V10: 8 | W10: 9 | X10: 10 | Y10: 11 | Z10: 12 | AA10: 13 | AB10: 14 | AC10: 15
B11: szakág | C11: Helyszín | D11: beruházás megnevezése
A12: 1 | C12: Milejszeg | D12: Rendkívüli helyzetből adódó azonnali feladatok (max. 15%) | F12: működőképeség biztosítása | I12: Milejszeg | J12: =SUM(O12:AC12) -> 1174.9 | L12: 44562 | M12: 50040 | O12: =1*$C$66 -> 379 | P12: =0.15*$C$66 -> 56.85 | Q12: =0.15*$C$66 -> 56.85 | R12: =0.15*$C$66 -> 56.85 | S12: =0.15*$C$66 -> 56.85 | T12: =0.15*$C$66 -> 56.85 | U12: =0.15*$C$66 -> 56.85 | V12: =0.15*$C$66 -> 56.85 | W12: =0.15*$C$66 -> 56.85 | ... AC12: =0.15*$C$66 -> 56.85
B13: MÉLYFÚRÁSÚ KÚT, HAGYOMÁNYOS ÁTMÉRŐVEL
B14: Épület, építmény
B16: Gép, berendezés
B18: Irányítástechnika, energiaellátás
B20: Összesen: | J20: =SUM(J12:J19) -> 1174.9
A21: III. Vízműtelep és vízkezelő létesítmények
C22: Helyszín | D22: beruházás megnevezése
B23: VÍZMŰTELEP
B24: Épület, építmény
B26: Gép, berendezés
B28: Irányítástechnika, energiaellátás
B30: VÍZKEZELŐ LÉTESÍTMÉNYEK
B31: Épület, építmény
B33: Gép, berendezés
B35: Irányítástechnika, energiaellátás
B37: Összesen | J37: =SUM(J25:J36) -> 0
A38: IV. Vízelosztás
C39: Helyszín | D39: beruházás megnevezése
B40: IVÓVÍZHÁLÓZAT
B41: Épület, építmény
C42: Milejszeg - Pálfiszeg | D42: gerincvezeték csere (NA100 840 fm) | E42: A vezeték állapota anyaga, kora, minősége miatt nem megfelelő, elavult. | F42: A bekötővezeték anyaga vízbiztonsági kockázatot rejt magában, illetve nagyobb a valószínűsége a meghibásodásnak. | G42: A vízvezeték kiváltás, a vízigények figyelembevételével megfelelő átmérőjű és anyagú hálózatot kapunk. | H42: - | I42: Milejszeg | J42: =SUM(O42:AC42) -> 7200 | L42: 44927 | M42: 46387 | N42: közép | P42: 1800 | Q42: 1800 | R42: 1800 | S42: 1800
C43: Milejszeg - Pálfiszeg | D43: gerincvezeték csere (NA100 840 fm) | E43: A vezeték állapota anyaga, kora, minősége miatt nem megfelelő, elavult. | F43: A bekötővezeték anyaga vízbiztonsági kockázatot rejt magában, illetve nagyobb a valószínűsége a meghibásodásnak. | G43: A vízvezeték kiváltás, a vízigények figyelembevételével megfelelő átmérőjű és anyagú hálózatot kapunk. | H43: - | I43: Milejszeg | J43: =SUM(O43:AC43) -> 20000 | L43: 46388 | M43: 50040 | N43: hosszú | T43: 2000 | U43: 2000 | V43: 2000 | W43: 2000 | X43: 2000 | Y43: 2000 | Z43: 2000 | AA43: 2000 | AB43: 2000 | AC43: 2000
B44: Gép, berendezés
B46: Irányítástechnika, energiaellátás
B48: VÍZTÁROLÓK
B49: Épület, építmény
B51: Gép, berendezés
B53: Irányítástechnika, energiaellátás
B55: NYOMÁSFOKOZÓK
B56: Épület, építmény
B58: Gép, berendezés
B60: Irányítástechnika, energiaellátás
B61: Összesen: | J61: =SUM(J42:J60) -> 27200
B62: Összesen: | J62: =J20+J37+J61 -> 28374.9 | K62: =C66 -> 379 | O62: =SUM(O12:O61) -> 379 | P62: =SUM(P12:P61) -> 1856.85 | Q62: =SUM(Q12:Q61) -> 1856.85 | R62: =SUM(R12:R61) -> 1856.85 | S62: =SUM(S12:S61) -> 1856.85 | T62: =SUM(T12:T61) -> 2056.85 | U62: =SUM(U12:U61) -> 2056.85 | V62: =SUM(V12:V61) -> 2056.85 | ... AC62: =SUM(AC12:AC61) -> 2056.85
K63: 2022 évre a fejlesztési forrás biztosított
B65: Tervezett feladatok nettó költsége a teljes ütem tekintetében (eFt) | C65: Rendelkezésre álló források számszerűsített értéke a teljes ütem tekintetében (eFt) | D65: Forrás megnevezése a teljes ütem tekintetében
A66: I. ütem | B66: =SUM(O62) -> 379 | C66: 379 | D66: Használati díj (2022)
A67: II. ütem | B67: =SUM(P62:S62) -> 7427.4 | C67: =C66*4 -> 1516 | D67: Használati díj (2023-2026)
A68: III. ütem | B68: =SUM(T62:AC62) -> 20568.5 | C68: =C66*10 -> 3790 | D68: Használati díj (2027-2036)

Sheet Nagykutas
A1: Gördülő fejlesztési terv a 2022 - 2036 időszakra
A2: FELÚJÍTÁSOK ÉS PÓTLÁSOK ÖSSZEFOGLALÓ TÁBLÁZATA
A3: A tervet benyújtó szervezet megnevezése: | K3: NAGYKUTAS | R3: ellátásért felelős / ellátásért felelősök képviselője / víziközmű-szolgáltató *
A4: Víziközmű-szolgáltató megnevezése: | K4: ÉSZAK ZALAI VÍZ- ÉS CSATORNAMŰ ZÁRTKÖRŰEN MŰKÖDŐ RÉSZVÉNYTÁRSASÁG
A5: Víziközmű-szolgáltatási ágazat megnevezése: | K5: IVÓVÍZ ÁGAZAT
A6: Véleményeltérést megfogalmazó érintett fél megnevezése:
A7: Víziközmű-rendszer kódja: ** | K7: 11-32054-1-025-01-14 | R7: ZALAEGERSZEG-IV
A8: I. Felszín alatti vízkivétel
A9: Fontossági sorrend | B9: Felujítás és pótlás megnevezése | E9: Műszaki állapot felmérés, szükségességi indoklás | H9: Vízjogi létesítési/elvi engedély száma | I9: Az érintett ellátásért felelős(ök) megnevezése | J9: Tervezett nettó költség | K9: Forrás 2022 évre | L9: Megvalósítás időtartama | N9: Tervezett időtáv | O9: A beruházás ütemezése a tervezési időszak évei szerint
E10: Jelenlegi műszaki állapot | F10: Feladat szükségessége | G10: Megvalósítást követő várható műszaki állapot | J10: (eFt) | L10: Kezdés | M10: Befejezés | N10: (rövid / közép / hosszú) | O10: 1 | P10: 2 | Q10: 3 | R10: 4 | S10: 5 | T10: 6 | U10: 7 | V10: 8 | W10: 9 | X10: 10 | Y10: 11 | Z10: 12 | AA10: 13 | AB10: 14 | AC10: 15
B11: szakág | C11: Helyszín | D11: beruházás megnevezése
A12: 1 | C12: Nagykutas | D12: Rendkívüli helyzetből adódó azonnali feladatok (max. 15%) | F12: működőképeség biztosítása | I12: Nagykutas | J12: =SUM(O12:AC12) -> 2819.8 | L12: 44562 | M12: 50040 | O12: =0.2*$C$66 -> 245.2 | P12: =0.15*$C$66 -> 183.9 | Q12: =0.15*$C$66 -> 183.9 | R12: =0.15*$C$66 -> 183.9 | S12: =0.15*$C$66 -> 183.9 | T12: =0.15*$C$66 -> 183.9 | U12: =0.15*$C$66 -> 183.9 | V12: =0.15*$C$66 -> 183.9 | W12: =0.15*$C$66 -> 183.9 | ... AC12: =0.15*$C$66 -> 183.9
B13: MÉLYFÚRÁSÚ KÚT, HAGYOMÁNYOS ÁTMÉRŐVEL
B14: Épület, építmény
B16: Gép, berendezés
B18: Irányítástechnika, energiaellátás
B20: Összesen: | J20: =SUM(J12:J19) -> 2819.8
A21: III. Vízműtelep és vízkezelő létesítmények
C22: Helyszín | D22: beruházás megnevezése
B23: VÍZMŰTELEP
B24: Épület, építmény
B26: Gép, berendezés
B28: Irányítástechnika, energiaellátás
B30: VÍZKEZELŐ LÉTESÍTMÉNYEK
B31: Épület, építmény
B33: Gép, berendezés
B35: Irányítástechnika, energiaellátás
B37: Összesen | J37: =SUM(J25:J36) -> 0
A38: IV. Vízelosztás
C39: Helyszín | D39: beruházás megnevezése
B40: IVÓVÍZHÁLÓZAT
B41: Épület, építmény
B43: Gép, berendezés
B45: Irányítástechnika, energiaellátás
B47: VÍZTÁROLÓK
B48: Épület, építmény
B50: Gép, berendezés
B52: Irányítástechnika, energiaellátás
B54: NYOMÁSFOKOZÓK
B55: Épület, építmény
B57: Gép, berendezés
C58: Nagykutasi átemelő | D58: Szivattyú csere (WILO MVIL 906-16/E/3-400-50-2/IE3 3 db) | E58: A szivattyú kora, műszaki állapota miatt fennáll a meghibásodás veszélye. Feladat szükségessége | F58: A folyamatos víztermelés biztosítása. | G58: A Q–H diagramhoz illeszkedő energiahatékony szivattyú üzemeltetése. | I58: Nagykutas osztatlan közös | J58: =SUM(O58:AC58) -> 546 | L58: 48945 | M58: 49309 | N58: hosszú | AA58: 546
B59: Irányítástechnika, energiaellátás
C60: Nagykutas átemelő | D60: villamos és irányítástechnika felújítása | E60: Az elektromos, irányítástechnikai szerelvények és vezetékek, műszaki állapota miatt fennáll a meghibásodás veszélye. | F60: A szivattyú elektromos megtáplálása, a folyamatos távfelügyelet biztosítása. | G60: A szivattyú elektromos paramétereihez illeszkedő erősáramú és vezérlőszekrény. | I60: Nagykutas osztatlan közös | J60: =SUM(O60:AC60) -> 546 | L60: 46753 | M60: 47118 | N60: hosszú | U60: 546
B61: Összesen: | J61: =SUM(J42:J60) -> 1092
B62: Összesen: | J62: =J20+J37+J61 -> 3911.8 | K62: =C66 -> 1226 | O62: =SUM(O12:O61) -> 245.2 | P62: =SUM(P12:P61) -> 183.9 | Q62: =SUM(Q12:Q61) -> 183.9 | R62: =SUM(R12:R61) -> 183.9 | S62: =SUM(S12:S61) -> 183.9 | T62: =SUM(T12:T61) -> 183.9 | U62: =SUM(U12:U61) -> 729.9 | V62: =SUM(V12:V61) -> 183.9 | ... AC62: =SUM(AC12:AC61) -> 183.9
K63: 2022 évre a fejlesztési forrás biztosított
B65: Tervezett feladatok nettó költsége a teljes ütem tekintetében (eFt) | C65: Rendelkezésre álló források számszerűsített értéke a teljes ütem tekintetében (eFt) | D65: Forrás megnevezése a teljes ütem tekintetében
A66: I. ütem | B66: =SUM(O62) -> 245.2 | C66: 1226 | D66: Használati díj (2022)
A67: II. ütem | B67: =SUM(P62:S62) -> 735.6 | C67: =C66*4 -> 4904 | D67: Használati díj (2023-2026)
A68: III. ütem | B68: =SUM(T62:AC62) -> 2931 | C68: =C66*10 -> 12260 | D68: Használati díj (2027-2036)

Sheet Nagypáli
A1: Gördülő fejlesztési terv a 2022 - 2036 időszakra
A2: FELÚJÍTÁSOK ÉS PÓTLÁSOK ÖSSZEFOGLALÓ TÁBLÁZATA
A3: A tervet benyújtó szervezet megnevezése: | K3: NAGYPÁLI | R3: ellátásért felelős / ellátásért felelősök képviselője / víziközmű-szolgáltató *
A4: Víziközmű-szolgáltató megnevezése: | K4: ÉSZAK ZALAI VÍZ- ÉS CSATORNAMŰ ZÁRTKÖRŰEN MŰKÖDŐ RÉSZVÉNYTÁRSASÁG
A5: Víziközmű-szolgáltatási ágazat megnevezése: | K5: IVÓVÍZ ÁGAZAT
A6: Véleményeltérést megfogalmazó érintett fél megnevezése:
A7: Víziközmű-rendszer kódja: ** | K7: 11-32054-1-025-01-14 | R7: ZALAEGERSZEG-IV
A8: I. Felszín alatti vízkivétel
A9: Fontossági sorrend | B9: Felujítás és pótlás megnevezése | E9: Műszaki állapot felmérés, szükségességi indoklás | H9: Vízjogi létesítési/elvi engedély száma | I9: Az érintett ellátásért felelős(ök) megnevezése | J9: Tervezett nettó költség | K9: Forrás 2022 évre | L9: Megvalósítás időtartama | N9: Tervezett időtáv | O9: A beruházás ütemezése a tervezési időszak évei szerint
E10: Jelenlegi műszaki állapot | F10: Feladat szükségessége | G10: Megvalósítást követő várható műszaki állapot | J10: (eFt) | L10: Kezdés | M10: Befejezés | N10: (rövid / közép / hosszú) | O10: 1 | P10: 2 | Q10: 3 | R10: 4 | S10: 5 | T10: 6 | U10: 7 | V10: 8 | W10: 9 | X10: 10 | Y10: 11 | Z10: 12 | AA10: 13 | AB10: 14 | AC10: 15
B11: szakág | C11: Helyszín | D11: beruházás megnevezése
A12: 1 | C12: Nagypáli | D12: Rendkívüli helyzetből adódó azonnali feladatok (max. 15%) | F12: működőképeség biztosítása | I12: Nagypáli | J12: =SUM(O12:AC12) -> 4167 | L12: 44562 | M12: 50040 | O12: =0.15*$C$70 -> 277.8 | P12: =0.15*$C$70 -> 277.8 | Q12: =0.15*$C$70 -> 277.8 | R12: =0.15*$C$70 -> 277.8 | S12: =0.15*$C$70 -> 277.8 | T12: =0.15*$C$70 -> 277.8 | U12: =0.15*$C$70 -> 277.8 | V12: =0.15*$C$70 -> 277.8 | ... AC12: =0.15*$C$70 -> 277.8
B13: MÉLYFÚRÁSÚ KÚT, HAGYOMÁNYOS ÁTMÉRŐVEL
B14: Épület, építmény
B16: Gép, berendezés
B18: Irányítástechnika, energiaellátás
B20: Összesen: | J20: =SUM(J12:J19) -> 4167
A21: III. Vízműtelep és vízkezelő létesítmények
C22: Helyszín | D22: beruházás megnevezése
B23: VÍZMŰTELEP
B24: Épület, építmény
B26: Gép, berendezés
B28: Irányítástechnika, energiaellátás
B30: VÍZKEZELŐ LÉTESÍTMÉNYEK
B31: Épület, építmény
B33: Gép, berendezés
B35: Irányítástechnika, energiaellátás
B37: Összesen | J37: =SUM(J25:J36) -> 0
A38: IV. Vízelosztás
C39: Helyszín | D39: beruházás megnevezése
B40: IVÓVÍZHÁLÓZAT
B41: Épület, építmény
A42: 14 | C42: Nagypáli | D42: tűzcsap építés, csere | E42: A vezeték állapota anyaga, kora, minősége miatt nem megfelelő, elavult. | F42: A bekötővezeték anyaga vízbiztonsági kockázatot rejt magában, illetve nagyobb a valószínűsége a meghibásodásnak. | G42: A vízvezeték kiváltás, a vízigények figyelembevételével megfelelő átmérőjű és anyagú hálózatot kapunk. | H42: - | I42: Nagypáli | J42: =SUM(O42:AC42) -> 600 | L42: 44562 | M42: 44926 | N42: rövid | O42: 600
A43: 15 | C43: Nagypáli | D43: bekötéscsere | E43: A vezeték állapota anyaga, kora, minősége miatt nem megfelelő, elavult. | F43: A vezeték elavult műszaki állapota miatt gyakoriak a csőtörések. | G43: A vízvezeték kiváltás, a vízigények figyelembevételével megfelelő átmérőjű és anyagú hálózatot kapunk. | H43: - | I43: Nagypáli | J43: =SUM(O43:AC43) -> 597 | L43: 44562 | M43: 44926 | N43: rövid | O43: 597
C44: Nagypáli | D44: bekötéscsere | E44: A vezeték állapota anyaga, kora, minősége miatt nem megfelelő, elavult. | F44: A vezeték elavult műszaki állapota miatt gyakoriak a csőtörések. | G44: A vízvezeték kiváltás, a vízigények figyelembevételével megfelelő átmérőjű és anyagú hálózatot kapunk. | H44: - | I44: Nagypáli | J44: =SUM(O44:AC44) -> 2348 | L44: 44927 | M44: 46387 | N44: közép | P44: 587 | Q44: 587 | R44: 587 | S44: 587
C45: Nagypáli | D45: tűzcsap építés, csere | E45: A vezeték állapota anyaga, kora, minősége miatt nem megfelelő, elavult. | F45: A bekötővezeték anyaga vízbiztonsági kockázatot rejt magában, illetve nagyobb a valószínűsége a meghibásodásnak. | G45: A vízvezeték kiváltás, a vízigények figyelembevételével megfelelő átmérőjű és anyagú hálózatot kapunk. | H45: - | I45: Nagypáli | J45: =SUM(O45:AC45) -> 1200 | L45: 45292 | M45: 46387 | N45: közép | Q45: 600 | S45: 600
C46: Nagypáli | D46: vezeték kiváltás, rekonstrukció, felújítás | E46: A vezeték állapota anyaga, kora, minősége miatt nem megfelelő, elavult. | F46: A vezeték elavult műszaki állapota miatt gyakoriak a csőtörések. | G46: A vízvezeték kiváltás, a vízigények figyelembevételével megfelelő átmérőjű és anyagú hálózatot kapunk. | H46: - | I46: Nagypáli | J46: =SUM(O46:AC46) -> 88190 | L46: 46388 | M46: 50040 | N46: hosszú | T46: 8819 | U46: 8819 | V46: 8819 | W46: 8819 | X46: 8819 | Y46: 8819 | Z46: 8819 | AA46: 8819 | AB46: 8819 | AC46: 8819
B47: Gép, berendezés
B49: Irányítástechnika, energiaellátás
B51: VÍZTÁROLÓK
B52: Épület, építmény
B54: Gép, berendezés
B56: Irányítástechnika, energiaellátás
B58: NYOMÁSFOKOZÓK
B59: Épület, építmény
B61: Gép, berendezés
C62: Nagykutasi átemelő | D62: Szivattyú csere (WILO MVIL 906-16/E/3-400-50-2/IE3 3 db) | E62: A szivattyú kora, műszaki állapota miatt fennáll a meghibásodás veszélye. Feladat szükségessége | F62: A folyamatos víztermelés biztosítása. | G62: A Q–H diagramhoz illeszkedő energiahatékony szivattyú üzemeltetése. | I62: Nagykutas osztatlan közös | J62: =SUM(O62:AC62) -> 1024 | L62: 48945 | M62: 49309 | N62: hosszú | AA62: 1024
B63: Irányítástechnika, energiaellátás
C64: Nagykutas átemelő | D64: villamos és irányítástechnika felújítása | E64: Az elektromos, irányítástechnikai szerelvények és vezetékek, műszaki állapota miatt fennáll a meghibásodás veszélye. | F64: A szivattyú elektromos megtáplálása, a folyamatos távfelügyelet biztosítása. | G64: A szivattyú elektromos paramétereihez illeszkedő erősáramú és vezérlőszekrény. | I64: Nagykutas osztatlan közös | J64: =SUM(O64:AC64) -> 1024 | L64: 46753 | M64: 47118 | N64: hosszú | U64: 1024
B65: Összesen: | J65: =SUM(J42:J64) -> 94983
B66: Összesen: | J66: =J20+J37+J65 -> 99150 | K66: =C70 -> 1852 | O66: =SUM(O11:O65) -> 1474.8 | P66: =SUM(P11:P65) -> 864.8 | Q66: =SUM(Q11:Q65) -> 1464.8 | R66: =SUM(R11:R65) -> 864.8 | S66: =SUM(S11:S65) -> 1464.8 | T66: =SUM(T11:T65) -> 9096.8 | U66: =SUM(U11:U65) -> 10120.8 | V66: =SUM(V11:V65) -> 9096.8 | ... AC66: =SUM(AC11:AC65) -> 9096.8
K67: 2022 évre a fejlesztési forrás biztosított
B69: Tervezett feladatok nettó költsége a teljes ütem tekintetében (eFt) | C69: Rendelkezésre álló források számszerűsített értéke a teljes ütem tekintetében (eFt) | D69: Forrás megnevezése a teljes ütem tekintetében
A70: I. ütem | B70: =SUM(O66) -> 1474.8 | C70: 1852 | D70: Használati díj (2022)
A71: II. ütem | B71: =SUM(P66:S66) -> 4659.2 | C71: =C70*4 -> 7408 | D71: Használati díj (2023-2026)
A72: III. ütem | B72: =SUM(T66:AC66) -> 93016 | C72: =C70*10 -> 18520 | D72: Használati díj (2027-2036)

Sheet Németfalu
A1: Gördülő fejlesztési terv a 2022 - 2036 időszakra
A2: FELÚJÍTÁSOK ÉS PÓTLÁSOK ÖSSZEFOGLALÓ TÁBLÁZATA
A3: A tervet benyújtó szervezet megnevezése: | K3: NÉMETFALU | R3: ellátásért felelős / ellátásért felelősök képviselője / víziközmű-szolgáltató *
A4: Víziközmű-szolgáltató megnevezése: | K4: ÉSZAK ZALAI VÍZ- ÉS CSATORNAMŰ ZÁRTKÖRŰEN MŰKÖDŐ RÉSZVÉNYTÁRSASÁG
A5: Víziközmű-szolgáltatási ágazat megnevezése: | K5: IVÓVÍZ ÁGAZAT
A6: Véleményeltérést megfogalmazó érintett fél megnevezése:
A7: Víziközmű-rendszer kódja: ** | K7: 11-32054-1-025-01-14 | R7: ZALAEGERSZEG-IV
A8: I. Felszín alatti vízkivétel
A9: Fontossági sorrend | B9: Felujítás és pótlás megnevezése | E9: Műszaki állapot felmérés, szükségességi indoklás | H9: Vízjogi létesítési/elvi engedély száma | I9: Az érintett ellátásért felelős(ök) megnevezése | J9: Tervezett nettó költség | K9: Forrás 2022 évre | L9: Megvalósítás időtartama | N9: Tervezett időtáv | O9: A beruházás ütemezése a tervezési időszak évei szerint
E10: Jelenlegi műszaki állapot | F10: Feladat szükségessége | G10: Megvalósítást követő várható műszaki állapot | J10: (eFt) | L10: Kezdés | M10: Befejezés | N10: (rövid / közép / hosszú) | O10: 1 | P10: 2 | Q10: 3 | R10: 4 | S10: 5 | T10: 6 | U10: 7 | V10: 8 | W10: 9 | X10: 10 | Y10: 11 | Z10: 12 | AA10: 13 | AB10: 14 | AC10: 15
B11: szakág | C11: Helyszín | D11: beruházás megnevezése
A12: 1 | C12: Németfalu | D12: Rendkívüli helyzetből adódó azonnali feladatok (max. 15%) | F12: működőképeség biztosítása | I12: Németfalu | J12: =SUM(O12:AC12) -> 998.2 | L12: 44562 | M12: 50040 | O12: =1*C65 -> 322 | P12: =0.15*$C$65 -> 48.3 | Q12: =0.15*$C$65 -> 48.3 | R12: =0.15*$C$65 -> 48.3 | S12: =0.15*$C$65 -> 48.3 | T12: =0.15*$C$65 -> 48.3 | U12: =0.15*$C$65 -> 48.3 | V12: =0.15*$C$65 -> 48.3 | W12: =0.15*$C$65 -> 48.3 | ... AC12: =0.15*$C$65 -> 48.3
B13: MÉLYFÚRÁSÚ KÚT, HAGYOMÁNYOS ÁTMÉRŐVEL
B14: Épület, építmény
B16: Gép, berendezés
B18: Irányítástechnika, energiaellátás
B20: Összesen: | J20: =SUM(J12:J19) -> 998.2
A21: III. Vízműtelep és vízkezelő létesítmények
C22: Helyszín | D22: beruházás megnevezése
B23: VÍZMŰTELEP
B24: Épület, építmény
B26: Gép, berendezés
B28: Irányítástechnika, energiaellátás
B30: VÍZKEZELŐ LÉTESÍTMÉNYEK
B31: Épület, építmény
B33: Gép, berendezés
B35: Irányítástechnika, energiaellátás
B37: Összesen | J37: =SUM(J25:J36) -> 0
A38: IV. Vízelosztás
C39: Helyszín | D39: beruházás megnevezése
B40: IVÓVÍZHÁLÓZAT
B41: Épület, építmény
B43: Gép, berendezés
B45: Irányítástechnika, energiaellátás
B47: VÍZTÁROLÓK
B48: Épület, építmény
B50: Gép, berendezés
B52: Irányítástechnika, energiaellátás
B54: NYOMÁSFOKOZÓK
B55: Épület, építmény
B57: Gép, berendezés
B59: Irányítástechnika, energiaellátás
B60: Összesen: | J60: =SUM(J42:J59) -> 0
B61: Összesen: | J61: =J20+J37+J60 -> 998.2 | K61: =C65 -> 322 | O61: =SUM(O12:O60) -> 322 | P61: =SUM(P12:P60) -> 48.3 | Q61: =SUM(Q12:Q60) -> 48.3 | R61: =SUM(R12:R60) -> 48.3 | S61: =SUM(S12:S60) -> 48.3 | T61: =SUM(T12:T60) -> 48.3 | U61: =SUM(U12:U60) -> 48.3 | V61: =SUM(V12:V60) -> 48.3 | ... AC61: =SUM(AC12:AC60) -> 48.3
K62: 2022 évre a fejlesztési forrás biztosított
B64: Tervezett feladatok nettó költsége a teljes ütem tekintetében (eFt) | C64: Rendelkezésre álló források számszerűsített értéke a teljes ütem tekintetében (eFt) | D64: Forrás megnevezése a teljes ütem tekintetében
A65: I. ütem | B65: =SUM(O61) -> 322 | C65: 322 | D65: Használati díj (2022)
A66: II. ütem | B66: =SUM(P61:S61) -> 193.2 | C66: =C65*4 -> 1288 | D66: Használati díj (2023-2026)
A67: III. ütem | B67: =SUM(T61:AC61) -> 483 | C67: =C65*10 -> 3220 | D67: Használati díj (2027-2036)

Sheet Pálfiszeg
A1: Gördülő fejlesztési terv a 2022 - 2036 időszakra
A2: FELÚJÍTÁSOK ÉS PÓTLÁSOK ÖSSZEFOGLALÓ TÁBLÁZATA
A3: A tervet benyújtó szervezet megnevezése: | K3: PÁLFISZEG | R3: ellátásért felelős / ellátásért felelősök képviselője / víziközmű-szolgáltató *
A4: Víziközmű-szolgáltató megnevezése: | K4: ÉSZAK ZALAI VÍZ- ÉS CSATORNAMŰ ZÁRTKÖRŰEN MŰKÖDŐ RÉSZVÉNYTÁRSASÁG
A5: Víziközmű-szolgáltatási ágazat megnevezése: | K5: IVÓVÍZ ÁGAZAT
A6: Véleményeltérést megfogalmazó érintett fél megnevezése:
A7: Víziközmű-rendszer kódja: ** | K7: 11-32054-1-025-01-14 | R7: ZALAEGERSZEG-IV
A8: I. Felszín alatti vízkivétel
A9: Fontossági sorrend | B9: Felujítás és pótlás megnevezése | E9: Műszaki állapot felmérés, szükségességi indoklás | H9: Vízjogi létesítési/elvi engedély száma | I9: Az érintett ellátásért felelős(ök) megnevezése | J9: Tervezett nettó költség | K9: Forrás 2022 évre | L9: Megvalósítás időtartama | N9: Tervezett időtáv | O9: A beruházás ütemezése a tervezési időszak évei szerint
E10: Jelenlegi műszaki állapot | F10: Feladat szükségessége | G10: Megvalósítást követő várható műszaki állapot | J10: (eFt) | L10: Kezdés | M10: Befejezés | N10: (rövid / közép / hosszú) | O10: 1 | P10: 2 | Q10: 3 | R10: 4 | S10: 5 | T10: 6 | U10: 7 | V10: 8 | W10: 9 | X10: 10 | Y10: 11 | Z10: 12 | AA10: 13 | AB10: 14 | AC10: 15
B11: szakág | C11: Helyszín | D11: beruházás megnevezése
A12: 1 | C12: Pálfiszeg | D12: Rendkívüli helyzetből adódó azonnali feladatok (max. 15%) | F12: működőképeség biztosítása | I12: Pálfiszeg | J12: =SUM(O12:AC12) -> 508.4 | L12: 44562 | M12: 50040 | O12: =1*C65 -> 164 | P12: =0.15*$C$65 -> 24.6 | Q12: =0.15*$C$65 -> 24.6 | R12: =0.15*$C$65 -> 24.6 | S12: =0.15*$C$65 -> 24.6 | T12: =0.15*$C$65 -> 24.6 | U12: =0.15*$C$65 -> 24.6 | V12: =0.15*$C$65 -> 24.6 | W12: =0.15*$C$65 -> 24.6 | ... AC12: =0.15*$C$65 -> 24.6
B13: MÉLYFÚRÁSÚ KÚT, HAGYOMÁNYOS ÁTMÉRŐVEL
B14: Épület, építmény
B16: Gép, berendezés
B18: Irányítástechnika, energiaellátás
B20: Összesen: | J20: =SUM(J12:J19) -> 508.4
A21: III. Vízműtelep és vízkezelő létesítmények
C22: Helyszín | D22: beruházás megnevezése
B23: VÍZMŰTELEP
B24: Épület, építmény
B26: Gép, berendezés
B28: Irányítástechnika, energiaellátás
B30: VÍZKEZELŐ LÉTESÍTMÉNYEK
B31: Épület, építmény
B33: Gép, berendezés
B35: Irányítástechnika, energiaellátás
B37: Összesen | J37: =SUM(J25:J36) -> 0
A38: IV. Vízelosztás
C39: Helyszín | D39: beruházás megnevezése
B40: IVÓVÍZHÁLÓZAT
B41: Épület, építmény
B43: Gép, berendezés
B45: Irányítástechnika, energiaellátás
B47: VÍZTÁROLÓK
B48: Épület, építmény
B50: Gép, berendezés
B52: Irányítástechnika, energiaellátás
B54: NYOMÁSFOKOZÓK
B55: Épület, építmény
B57: Gép, berendezés
B59: Irányítástechnika, energiaellátás
B60: Összesen: | J60: =SUM(J42:J59) -> 0
B61: Összesen: | J61: =J20+J37+J60 -> 508.4 | K61: =C65 -> 164 | O61: =SUM(O12:O60) -> 164 | P61: =SUM(P12:P60) -> 24.6 | Q61: =SUM(Q12:Q60) -> 24.6 | R61: =SUM(R12:R60) -> 24.6 | S61: =SUM(S12:S60) -> 24.6 | T61: =SUM(T12:T60) -> 24.6 | U61: =SUM(U12:U60) -> 24.6 | V61: =SUM(V12:V60) -> 24.6 | ... AC61: =SUM(AC12:AC60) -> 24.6
K62: 2022 évre a fejlesztési forrás biztosított
B64: Tervezett feladatok nettó költsége a teljes ütem tekintetében (eFt) | C64: Rendelkezésre álló források számszerűsített értéke a teljes ütem tekintetében (eFt) | D64: Forrás megnevezése a teljes ütem tekintetében
A65: I. ütem | B65: =SUM(O61) -> 164 | C65: 164 | D65: Használati díj (2022)
A66: II. ütem | B66: =SUM(P61:S61) -> 98.4 | C66: =C65*4 -> 656 | D66: Használati díj (2023-2026)
A67: III. ütem | B67: =SUM(T61:AC61) -> 246 | C67: =C65*10 -> 1640 | D67: Használati díj (2027-2036)

Sheet Sárhida
A1: Gördülő fejlesztési terv a 2022 - 2036 időszakra
A2: FELÚJÍTÁSOK ÉS PÓTLÁSOK ÖSSZEFOGLALÓ TÁBLÁZATA
A3: A tervet benyújtó szervezet megnevezése: | K3: SÁRHIDA | R3: ellátásért felelős / ellátásért felelősök képviselője / víziközmű-szolgáltató *
A4: Víziközmű-szolgáltató megnevezése: | K4: ÉSZAK ZALAI VÍZ- ÉS CSATORNAMŰ ZÁRTKÖRŰEN MŰKÖDŐ RÉSZVÉNYTÁRSASÁG
A5: Víziközmű-szolgáltatási ágazat megnevezése: | K5: IVÓVÍZ ÁGAZAT
A6: Véleményeltérést megfogalmazó érintett fél megnevezése:
A7: Víziközmű-rendszer kódja: ** | K7: 11-32054-1-025-01-14 | R7: ZALAEGERSZEG-IV
A8: I. Felszín alatti vízkivétel
A9: Fontossági sorrend | B9: Felujítás és pótlás megnevezése | E9: Műszaki állapot felmérés, szükségességi indoklás | H9: Vízjogi létesítési/elvi engedély száma | I9: Az érintett ellátásért felelős(ök) megnevezése | J9: Tervezett nettó költség | K9: Forrás 2022 évre | L9: Megvalósítás időtartama | N9: Tervezett időtáv | O9: A beruházás ütemezése a tervezési időszak évei szerint
E10: Jelenlegi műszaki állapot | F10: Feladat szükségessége | G10: Megvalósítást követő várható műszaki állapot | J10: (eFt) | L10: Kezdés | M10: Befejezés | N10: (rövid / közép / hosszú) | O10: 1 | P10: 2 | Q10: 3 | R10: 4 | S10: 5 | T10: 6 | U10: 7 | V10: 8 | W10: 9 | X10: 10 | Y10: 11 | Z10: 12 | AA10: 13 | AB10: 14 | AC10: 15
B11: szakág | C11: Helyszín | D11: beruházás megnevezése
A12: 1 | C12: Sárhida | D12: Rendkívüli helyzetből adódó azonnali feladatok (max. 15%) | F12: működőképeség biztosítása | I12: Sárhida | J12: =SUM(O12:AC12) -> 2155.5 | L12: 44562 | M12: 50040 | O12: =0.15*$C$68 -> 143.7 | P12: =0.15*$C$68 -> 143.7 | Q12: =0.15*$C$68 -> 143.7 | R12: =0.15*$C$68 -> 143.7 | S12: =0.15*$C$68 -> 143.7 | T12: =0.15*$C$68 -> 143.7 | U12: =0.15*$C$68 -> 143.7 | V12: =0.15*$C$68 -> 143.7 | ... AC12: =0.15*$C$68 -> 143.7
B13: MÉLYFÚRÁSÚ KÚT, HAGYOMÁNYOS ÁTMÉRŐVEL
B14: Épület, építmény
B16: Gép, berendezés
B18: Irányítástechnika, energiaellátás
B20: Összesen: | J20: =SUM(J12:J19) -> 2155.5
A21: III. Vízműtelep és vízkezelő létesítmények
C22: Helyszín | D22: beruházás megnevezése
B23: VÍZMŰTELEP
B24: Épület, építmény
B26: Gép, berendezés
B28: Irányítástechnika, energiaellátás
B30: VÍZKEZELŐ LÉTESÍTMÉNYEK
B31: Épület, építmény
B33: Gép, berendezés
B35: Irányítástechnika, energiaellátás
B37: Összesen | J37: =SUM(J25:J36) -> 0
A38: IV. Vízelosztás
C39: Helyszín | D39: beruházás megnevezése
B40: IVÓVÍZHÁLÓZAT
B41: Épület, építmény
A42: 16 | C42: Sárhida | D42: bekötéscsere | E42: A vezeték állapota anyaga, kora, minősége miatt nem megfelelő, elavult. | F42: A bekötővezeték anyaga vízbiztonsági kockázatot rejt magában, illetve nagyobb a valószínűsége a meghibásodásnak. | G42: A vízvezeték kiváltás a vízigények figyelembevételével megfelelő átmérőjű és anyagú hálózatot kapunk. | I42: Sárhida | J42: =SUM(O42:AC42) -> 300 | L42: 44562 | M42: 44926 | N42: rövid | O42: 300
C43: Sárhida | D43: bekötéscsere | E43: A vezeték állapota anyaga, kora, minősége miatt nem megfelelő, elavult. | F43: A bekötővezeték anyaga vízbiztonsági kockázatot rejt magában, illetve nagyobb a valószínűsége a meghibásodásnak. | G43: A vízvezeték kiváltás a vízigények figyelembevételével megfelelő átmérőjű és anyagú hálózatot kapunk. | I43: Sárhida | J43: =SUM(O43:AC43) -> 2500 | L43: 44927 | M43: 46387 | N43: közép | P43: 600 | Q43: 600 | R43: 650 | S43: 650
C44: Sárhida | D44: vezeték kiváltás, rekonstrukció, felújítás | E44: A vezeték állapota anyaga, kora, minősége miatt nem megfelelő, elavult. | F44: A vezeték anyaga vízbiztonsági kockázatot rejt magában, illetve nagyobb a valószínűsége a meghibásodásnak. | G44: A vízvezeték kiváltás a vízigények figyelembevételével megfelelő átmérőjű és anyagú hálózatot kapunk. | I44: Sárhida | J44: =SUM(O44:AC44) -> 14744 | L44: 44927 | M44: 46387 | N44: közép | P44: 3686 | Q44: 3686 | R44: 3686 | S44: 3686
C45: Sárhida | D45: vezeték kiváltás, rekonstrukció, felújítás | E45: A vezeték állapota anyaga, kora, minősége miatt nem megfelelő, elavult. | F45: A vezeték anyaga vízbiztonsági kockázatot rejt magában, illetve nagyobb a valószínűsége a meghibásodásnak. | G45: A vízvezeték kiváltás a vízigények figyelembevételével megfelelő átmérőjű és anyagú hálózatot kapunk. | I45: Sárhida | J45: =SUM(O45:AC45) -> 71210 | L45: 46388 | M45: 50040 | N45: hosszú | T45: 7121 | U45: 7121 | V45: 7121 | W45: 7121 | X45: 7121 | Y45: 7121 | Z45: 7121 | AA45: 7121 | AB45: 7121 | AC45: 7121
B46: Gép, berendezés
B48: Irányítástechnika, energiaellátás
B50: VÍZTÁROLÓK
B51: Épület, építmény
B53: Gép, berendezés
B55: Irányítástechnika, energiaellátás
B57: NYOMÁSFOKOZÓK
B58: Épület, építmény
B60: Gép, berendezés
B62: Irányítástechnika, energiaellátás
B63: Összesen: | J63: =SUM(J42:J62) -> 88754
B64: Összesen: | J64: =J20+J37+J63 -> 90909.5 | K64: =C68 -> 958 | O64: =SUM(O12:O63) -> 443.7 | P64: =SUM(P12:P63) -> 4429.7 | Q64: =SUM(Q12:Q63) -> 4429.7 | R64: =SUM(R12:R63) -> 4479.7 | S64: =SUM(S12:S63) -> 4479.7 | T64: =SUM(T12:T63) -> 7264.7 | U64: =SUM(U12:U63) -> 7264.7 | V64: =SUM(V12:V63) -> 7264.7 | ... AC64: =SUM(AC12:AC63) -> 7264.7
K65: 2022 évre a fejlesztési forrás biztosított
B67: Tervezett feladatok nettó költsége a teljes ütem tekintetében (eFt) | C67: Rendelkezésre álló források számszerűsített értéke a teljes ütem tekintetében (eFt) | D67: Forrás megnevezése a teljes ütem tekintetében
A68: I. ütem | B68: =SUM(O64) -> 443.7 | C68: 958 | D68: Használati díj (2022)
A69: II. ütem | B69: =SUM(P64:S64) -> 17818.8 | C69: =C68*4 -> 3832 | D69: Használati díj (2023-2026)
A70: III. ütem | B70: =SUM(T64:AC64) -> 72647 | C70: =C68*10 -> 9580 | D70: Használati díj (2027-2036)

Sheet Teskánd
A1: Gördülő fejlesztési terv a 2022 - 2036 időszakra
A2: FELÚJÍTÁSOK ÉS PÓTLÁSOK ÖSSZEFOGLALÓ TÁBLÁZATA
A3: A tervet benyújtó szervezet megnevezése: | K3: TESKÁND | R3: ellátásért felelős / ellátásért felelősök képviselője / víziközmű-szolgáltató *
A4: Víziközmű-szolgáltató megnevezése: | K4: ÉSZAK ZALAI VÍZ- ÉS CSATORNAMŰ ZÁRTKÖRŰEN MŰKÖDŐ RÉSZVÉNYTÁRSASÁG
A5: Víziközmű-szolgáltatási ágazat megnevezése: | K5: IVÓVÍZ ÁGAZAT
A6: Véleményeltérést megfogalmazó érintett fél megnevezése:
A7: Víziközmű-rendszer kódja: ** | K7: 11-32054-1-025-01-14 | R7: ZALAEGERSZEG-IV
A8: I. Felszín alatti vízkivétel
A9: Fontossági sorrend | B9: Felujítás és pótlás megnevezése | E9: Műszaki állapot felmérés, szükségességi indoklás | H9: Vízjogi létesítési/elvi engedély száma | I9: Az érintett ellátásért felelős(ök) megnevezése | J9: Tervezett nettó költség | K9: Forrás 2022 évre | L9: Megvalósítás időtartama | N9: Tervezett időtáv | O9: A beruházás ütemezése a tervezési időszak évei szerint
E10: Jelenlegi műszaki állapot | F10: Feladat szükségessége | G10: Megvalósítást követő várható műszaki állapot | J10: (eFt) | L10: Kezdés | M10: Befejezés | N10: (rövid / közép / hosszú) | O10: 1 | P10: 2 | Q10: 3 | R10: 4 | S10: 5 | T10: 6 | U10: 7 | V10: 8 | W10: 9 | X10: 10 | Y10: 11 | Z10: 12 | AA10: 13 | AB10: 14 | AC10: 15
B11: szakág | C11: Helyszín | D11: beruházás megnevezése
A12: 1 | C12: Teskánd | D12: Rendkívüli helyzetből adódó azonnali feladatok (max. 15%) | F12: működőképeség biztosítása | I12: Teskánd | J12: =SUM(O12:AC12) -> 6522.75 | L12: 44562 | M12: 50040 | O12: =0.15*$C$69 -> 434.85 | P12: =0.15*$C$69 -> 434.85 | Q12: =0.15*$C$69 -> 434.85 | R12: =0.15*$C$69 -> 434.85 | S12: =0.15*$C$69 -> 434.85 | T12: =0.15*$C$69 -> 434.85 | U12: =0.15*$C$69 -> 434.85 | V12: =0.15*$C$69 -> 434.85 | ... AC12: =0.15*$C$69 -> 434.85
B13: MÉLYFÚRÁSÚ KÚT, HAGYOMÁNYOS ÁTMÉRŐVEL
B14: Épület, építmény
B16: Gép, berendezés
B18: Irányítástechnika, energiaellátás
B20: Összesen: | J20: =SUM(J12:J19) -> 6522.75
A21: III. Vízműtelep és vízkezelő létesítmények
C22: Helyszín | D22: beruházás megnevezése
B23: VÍZMŰTELEP
B24: Épület, építmény
B26: Gép, berendezés
B28: Irányítástechnika, energiaellátás
B30: VÍZKEZELŐ LÉTESÍTMÉNYEK
B31: Épület, építmény
B33: Gép, berendezés
B35: Irányítástechnika, energiaellátás
B37: Összesen | J37: =SUM(J25:J36) -> 0
A38: IV. Vízelosztás
C39: Helyszín | D39: beruházás megnevezése
B40: IVÓVÍZHÁLÓZAT
B41: Épület, építmény
A42: 17 | C42: Teskánd | D42: bekötéscsere | E42: A vezeték állapota anyaga, kora, minősége miatt nem megfelelő, elavult. | F42: A bekötővezeték anyaga vízbiztonsági kockázatot rejt magában, illetve nagyobb a valószínűsége a meghibásodásnak. | G42: A vízvezeték kiváltás a vízigények figyelembevételével megfelelő átmérőjű és anyagú hálózatot kapunk. | I42: Teskánd | J42: =SUM(O42:AC42) -> 1299 | L42: 44562 | M42: 44926 | N42: rövid | O42: 1299
A43: 18 | C43: Teskánd | D43: tűzcsap építés, csere | E43: A szerelvény állapota anyaga, kora, minősége miatt nem megfelelő, elavult. | F43: A szerelvény elavult műszaki állapota miatt gyakoriak a csőtörések. | G43: A szerelvény kiváltás a vízigények figyelembevételével megfelelő átmérőjű és anyagú hálózatot kapunk. | I43: Teskánd | J43: =SUM(O43:AC43) -> 600 | L43: 44562 | M43: 44926 | N43: rövid | O43: 600
C44: Teskánd | D44: bekötéscsere | E44: A vezeték állapota anyaga, kora, minősége miatt nem megfelelő, elavult. | F44: A bekötővezeték anyaga vízbiztonsági kockázatot rejt magában, illetve nagyobb a valószínűsége a meghibásodásnak. | G44: A vízvezeték kiváltás a vízigények figyelembevételével megfelelő átmérőjű és anyagú hálózatot kapunk. | I44: Teskánd | J44: =SUM(O44:AC44) -> 3932 | L44: 44927 | M44: 46022 | N44: közép | P44: 1299 | Q44: 1330 | R44: 1303
C45: Teskánd | D45: tűzcsap építés, csere | E45: A szerelvény állapota anyaga, kora, minősége miatt nem megfelelő, elavult. | F45: A szerelvény elavult műszaki állapota miatt gyakoriak a csőtörések. | G45: A szerelvény kiváltás a vízigények figyelembevételével megfelelő átmérőjű és anyagú hálózatot kapunk. | I45: Teskánd | J45: =SUM(O45:AC45) -> 1800 | L45: 44927 | M45: 46022 | N45: közép | P45: 600 | Q45: 600 | R45: 600
C46: Teskánd | D46: vezeték kiváltás, rekonstrukció, felújítás | E46: A vezeték állapota anyaga, kora, minősége miatt nem megfelelő, elavult. | F46: A vezeték elavult műszaki állapota miatt gyakoriak a csőtörések. | G46: A vízvezeték kiváltás a vízigények figyelembevételével megfelelő átmérőjű és anyagú hálózatot kapunk. | I46: Teskánd | J46: =SUM(O46:AC46) -> 173750 | L46: 46388 | M46: 50040 | N46: hosszú | T46: 17375 | U46: 17375 | V46: 17375 | W46: 17375 | X46: 17375 | Y46: 17375 | Z46: 17375 | AA46: 17375 | AB46: 17375 | AC46: 17375
B47: Gép, berendezés
B49: Irányítástechnika, energiaellátás
B51: VÍZTÁROLÓK
B52: Épület, építmény
B54: Gép, berendezés
B56: Irányítástechnika, energiaellátás
B58: NYOMÁSFOKOZÓK
B59: Épület, építmény
B61: Gép, berendezés
B63: Irányítástechnika, energiaellátás
B64: Összesen: | J64: =SUM(J42:J63) -> 181381
B65: Összesen: | J65: =J20+J37+J64 -> 187903.75 | K65: =C69 -> 2899 | O65: =SUM(O12:O64) -> 2333.85 | P65: =SUM(P12:P64) -> 2333.85 | Q65: =SUM(Q12:Q64) -> 2364.85 | R65: =SUM(R12:R64) -> 2337.85 | S65: =SUM(S12:S64) -> 434.85 | T65: =SUM(T12:T64) -> 17809.85 | U65: =SUM(U12:U64) -> 17809.85 | V65: =SUM(V12:V64) -> 17809.85 | ... AC65: =SUM(AC12:AC64) -> 17809.85
K66: 2022 évre a fejlesztési forrás biztosított
B68: Tervezett feladatok nettó költsége a teljes ütem tekintetében (eFt) | C68: Rendelkezésre álló források számszerűsített értéke a teljes ütem tekintetében (eFt) | D68: Forrás megnevezése a teljes ütem tekintetében
A69: I. ütem | B69: =SUM(O65) -> 2333.85 | C69: 2899 | D69: Használati díj (2022)
A70: II. ütem | B70: =SUM(P65:S65) -> 7471.4 | C70: =C69*4 -> 11596 | D70: Használati díj (2023-2026)
A71: III. ütem | B71: =SUM(T65:AC65) -> 178098.5 | C71: =C69*10 -> 28990 | D71: Használati díj (2027-2036)

Sheet Zalaboldogfa
A1: Gördülő fejlesztési terv a 2022 - 2036 időszakra
A2: FELÚJÍTÁSOK ÉS PÓTLÁSOK ÖSSZEFOGLALÓ TÁBLÁZATA
A3: A tervet benyújtó szervezet megnevezése: | K3: ZALABOLDOGFA | R3: ellátásért felelős / ellátásért felelősök képviselője / víziközmű-szolgáltató *
A4: Víziközmű-szolgáltató megnevezése: | K4: ÉSZAK ZALAI VÍZ- ÉS CSATORNAMŰ ZÁRTKÖRŰEN MŰKÖDŐ RÉSZVÉNYTÁRSASÁG
A5: Víziközmű-szolgáltatási ágazat megnevezése: | K5: IVÓVÍZ ÁGAZAT
A6: Véleményeltérést megfogalmazó érintett fél megnevezése:
A7: Víziközmű-rendszer kódja: ** | K7: 11-32054-1-025-01-14 | R7: ZALAEGERSZEG-IV
A8: I. Felszín alatti vízkivétel
A9: Fontossági sorrend | B9: Felujítás és pótlás megnevezése | E9: Műszaki állapot felmérés, szükségességi indoklás | H9: Vízjogi létesítési/elvi engedély száma | I9: Az érintett ellátásért felelős(ök) megnevezése | J9: Tervezett nettó költség | K9: Forrás 2022 évre | L9: Megvalósítás időtartama | N9: Tervezett időtáv | O9: A beruházás ütemezése a tervezési időszak évei szerint
E10: Jelenlegi műszaki állapot | F10: Feladat szükségessége | G10: Megvalósítást követő várható műszaki állapot | J10: (eFt) | L10: Kezdés | M10: Befejezés | N10: (rövid / közép / hosszú) | O10: 1 | P10: 2 | Q10: 3 | R10: 4 | S10: 5 | T10: 6 | U10: 7 | V10: 8 | W10: 9 | X10: 10 | Y10: 11 | Z10: 12 | AA10: 13 | AB10: 14 | AC10: 15
B11: szakág | C11: Helyszín | D11: beruházás megnevezése
A12: 1 | C12: Zalaboldogfa | D12: Rendkívüli helyzetből adódó azonnali feladatok (max. 15%) | F12: működőképeség biztosítása | I12: Zalaboldogfa | J12: =SUM(O12:AC12) -> 3243 | L12: 44562 | M12: 50040 | O12: =0.2*$C$66 -> 282 | P12: =0.15*$C$66 -> 211.5 | Q12: =0.15*$C$66 -> 211.5 | R12: =0.15*$C$66 -> 211.5 | S12: =0.15*$C$66 -> 211.5 | T12: =0.15*$C$66 -> 211.5 | U12: =0.15*$C$66 -> 211.5 | V12: =0.15*$C$66 -> 211.5 | W12: =0.15*$C$66 -> 211.5 | ... AC12: =0.15*$C$66 -> 211.5
B13: MÉLYFÚRÁSÚ KÚT, HAGYOMÁNYOS ÁTMÉRŐVEL
B14: Épület, építmény
B16: Gép, berendezés
B18: Irányítástechnika, energiaellátás
B20: Összesen: | J20: =SUM(J12:J19) -> 3243
A21: III. Vízműtelep és vízkezelő létesítmények
C22: Helyszín | D22: beruházás megnevezése
B23: VÍZMŰTELEP
B24: Épület, építmény
B26: Gép, berendezés
B28: Irányítástechnika, energiaellátás
B30: VÍZKEZELŐ LÉTESÍTMÉNYEK
B31: Épület, építmény
B33: Gép, berendezés
B35: Irányítástechnika, energiaellátás
B37: Összesen | J37: =SUM(J25:J36) -> 0
A38: IV. Vízelosztás
C39: Helyszín | D39: beruházás megnevezése
B40: IVÓVÍZHÁLÓZAT
B41: Épület, építmény
A42: 43 | C42: Zalaboldogfa | D42: tűzcsap építés, csere | E42: A szerelvény állapota anyaga, kora, minősége miatt nem megfelelő, elavult. | F42: A vezeték elavult műszaki állapota miatt gyakoriak a csőtörések | G42: A szerelvény kiváltás, a vízigények figyelembevételével megfelelő átmérőjű és anyagú hálózatot kapunk. | H42: - | I42: Zalaboldogfa | J42: =SUM(O42:AC42) -> 762 | L42: 44927 | M42: 45291 | N42: közép | P42: 762
C43: Zalaboldogfa | D43: vezeték kiváltás, rekonstrukció, felújítás | E43: A vezeték állapota anyaga, kora, minősége miatt nem megfelelő, elavult. | F43: A vezeték elavult műszaki állapota miatt gyakoriak a csőtörések | G43: A vízvezeték kiváltás, a vízigények figyelembevételével megfelelő átmérőjű és anyagú hálózatot kapunk. | H43: - | I43: Zalaboldogfa | J43: =SUM(O43:AC43) -> 128830 | L43: 46388 | M43: 50040 | N43: hosszú | T43: 12883 | U43: 12883 | V43: 12883 | W43: 12883 | X43: 12883 | Y43: 12883 | Z43: 12883 | AA43: 12883 | AB43: 12883 | AC43: 12883
B44: Gép, berendezés
B46: Irányítástechnika, energiaellátás
B48: VÍZTÁROLÓK
B49: Épület, építmény
B51: Gép, berendezés
B53: Irányítástechnika, energiaellátás
B55: NYOMÁSFOKOZÓK
B56: Épület, építmény
B58: Gép, berendezés
C59: Zalaboldogfa nyomásfokozó | D59: Szivattyú csere (CRIE3-5 2 db; CR45-3) | E59: A szivattyú kora, műszaki állapota miatt fennáll a meghibásodás veszélye. | F59: A folyamatos víztermelés biztosítása | G59: A Q–H diagramhoz illeszkedő energiahatékony szivattyú üzemeltetése | I59: Zalaboldogfa | J59: =SUM(O59:AC59) -> 1524 | L59: 47484 | M59: 48213 | N59: hosszú | W59: 1057 | X59: 467
B60: Irányítástechnika, energiaellátás
B61: Összesen: | J61: =SUM(J42:J60) -> 131116
B62: Összesen: | J62: =J20+J37+J61 -> 134359 | K62: =C66 -> 1410 | O62: =SUM(O12:O61) -> 282 | P62: =SUM(P12:P61) -> 973.5 | Q62: =SUM(Q12:Q61) -> 211.5 | R62: =SUM(R12:R61) -> 211.5 | S62: =SUM(S12:S61) -> 211.5 | T62: =SUM(T12:T61) -> 13094.5 | U62: =SUM(U12:U61) -> 13094.5 | V62: =SUM(V12:V61) -> 13094.5 | ... AC62: =SUM(AC12:AC61) -> 13094.5
K63: 2022 évre a fejlesztési forrás biztosított
B65: Tervezett feladatok nettó költsége a teljes ütem tekintetében (eFt) | C65: Rendelkezésre álló források számszerűsített értéke a teljes ütem tekintetében (eFt) | D65: Forrás megnevezése a teljes ütem tekintetében
A66: I. ütem | B66: =SUM(O62) -> 282 | C66: 1410 | D66: Használati díj (2022)
A67: II. ütem | B67: =SUM(P62:S62) -> 1608 | C67: =C66*4 -> 5640 | D67: Használati díj (2023-2026)
A68: III. ütem | B68: =SUM(T62:AC62) -> 132469 | C68: =C66*10 -> 14100 | D68: Használati díj (2027-2036)

Sheet Zalaegerszeg
A1: Gördülő fejlesztési terv a 2022 - 2036 időszakra
A2: FELÚJÍTÁSOK ÉS PÓTLÁSOK ÖSSZEFOGLALÓ TÁBLÁZATA
A3: A tervet benyújtó szervezet megnevezése: | K3: ZALAEGERSZEG | R3: ellátásért felelős / ellátásért felelősök képviselője / víziközmű-szolgáltató *
A4: Víziközmű-szolgáltató megnevezése: | K4: ÉSZAK ZALAI VÍZ- ÉS CSATORNAMŰ ZÁRTKÖRŰEN MŰKÖDŐ RÉSZVÉNYTÁRSASÁG
A5: Víziközmű-szolgáltatási ágazat megnevezése: | K5: IVÓVÍZ ÁGAZAT
A6: Véleményeltérést megfogalmazó érintett fél megnevezése:
A7: Víziközmű-rendszer kódja: ** | K7: 11-32054-1-025-01-14 | R7: ZALAEGERSZEG-IV
A8: I. Felszín alatti vízkivétel
A9: Fontossági sorrend | B9: Felujítás és pótlás megnevezése | E9: Műszaki állapot felmérés, szükségességi indoklás | H9: Vízjogi létesítési/elvi engedély száma | I9: Az érintett ellátásért felelős(ök) megnevezése | J9: Tervezett nettó költség | K9: Forrás 2022 évre | L9: Megvalósítás időtartama | N9: Tervezett időtáv | O9: A beruházás ütemezése a tervezési időszak évei szerint
E10: Jelenlegi műszaki állapot | F10: Feladat szükségessége | G10: Megvalósítást követő várható műszaki állapot | J10: (eFt) | L10: Kezdés | M10: Befejezés | N10: (rövid / közép / hosszú) | O10: 1 | P10: 2 | Q10: 3 | R10: 4 | S10: 5 | T10: 6 | U10: 7 | V10: 8 | W10: 9 | X10: 10 | Y10: 11 | Z10: 12 | AA10: 13 | AB10: 14 | AC10: 15
B11: szakág | C11: Helyszín | D11: beruházás megnevezése
A12: 1 | C12: Zalaegerszeg | D12: Rendkívüli helyzetből adódó azonnali feladatok (max. 15%) | F12: működőképeség biztosítása | I12: Zalaegerszeg | J12: =SUM(O12:AC12) -> 277000 | L12: 44562 | M12: 50040 | O12: =0.2*C136 -> 23300 | P12: 22000 | Q12: 22000 | R12: =0.15*$C$136 -> 17475 | S12: =0.15*$C$136 -> 17475 | T12: =0.15*$C$136 -> 17475 | U12: =0.15*$C$136 -> 17475 | V12: =0.15*$C$136 -> 17475 | W12: =0.15*$C$136 -> 17475 | X12: =0.15*$C$136 -> 17475 | Y12: =0.15*$C$136 -> 17475 | ... AC12: =0.15*$C$136 -> 17475
A13: 2 | C13: Zalaegerszeg | D13: MEKH igazgatási díjak | I13: Zalaegerszeg | J13: =SUM(O13:AC13) -> 400 | L13: 44562 | M13: 44926 | O13: 400
C14: Zalaegerszeg | D14: MEKH igazgatási díjak | I14: Zalaegerszeg | J14: =SUM(O14:AC14) -> 800 | L14: 44927 | M14: 45657 | P14: 400 | Q14: 400
B15: MÉLYFÚRÁSÚ KÚT, HAGYOMÁNYOS ÁTMÉRŐVEL
B16: Épület, építmény
C17: Zalaegerszeg … kút | D17: melléfúrásos kútrekonstrukció (4 db) tervezés | E17: Az objektum kora, műszaki állapota miatt fennáll a meghibásodás veszélye. Feladat szükségessége | F17: A felhasználók folyamatos vízellátásának biztosítására | G17: Az elvárt vízigényeket kielégítő megfelelő műszaki állapotú vízbázis. | I17: Zalaegerszeg | J17: =SUM(O17:AC17) -> 1500 | L17: 45658 | M17: 46022 | N17: közép | R17: 1500
C18: Teskánd T1 kút | D18: eltömedékelés | E18: Az objektum kora, műszaki állapota miatt fennáll a meghibásodás veszélye. Feladat szükségessége | F18: A felhasználók folyamatos vízellátásának biztosítására | G18: Az elvárt vízigényeket kielégítő megfelelő műszaki állapotú vízbázis. | H18: 0 | I18: Zalaegerszeg | J18: =SUM(O18:AC18) -> 1500 | L18: 45658 | M18: 46022 | N18: közép | R18: 1500
C19: Zalaegerszeg D1 kút | D19: eltömedékelés | E19: Az objektum kora, műszaki állapota miatt fennáll a meghibásodás veszélye. Feladat szükségessége | F19: A felhasználók folyamatos vízellátásának biztosítására | G19: Az elvárt vízigényeket kielégítő megfelelő műszaki állapotú vízbázis. | I19: Zalaegerszeg | J19: =SUM(O19:AC19) -> 1500 | L19: 45658 | M19: 46022 | N19: közép | R19: 1500
C20: Zalaegerszeg … kút | D20: melléfúrásos kútrekonstrukció (4 db) | E20: Az objektum kora, műszaki állapota miatt fennáll a meghibásodás veszélye. Feladat szükségessége | F20: A felhasználók folyamatos vízellátásának biztosítására | G20: Az elvárt vízigényeket kielégítő megfelelő műszaki állapotú vízbázis. | I20: Zalaegerszeg | J20: =SUM(O20:AC20) -> 70000 | L20: 46023 | M20: 46387 | N20: közép | S20: 70000
C21: Zalaegerszeg … kút | D21: melléfúrásos kútrekonstrukció (4 db) | E21: Az objektum kora, műszaki állapota miatt fennáll a meghibásodás veszélye. Feladat szükségessége | F21: A felhasználók folyamatos vízellátásának biztosítására | G21: Az elvárt vízigényeket kielégítő megfelelő műszaki állapotú vízbázis. | I21: Zalaegerszeg | J21: =SUM(O21:AC21) -> 70000 | L21: 46388 | M21: 46752 | N21: hosszú | T21: 70000
C22: Zalaegerszeg … kút | D22: kútfelújítás | E22: Az objektum kora, műszaki állapota miatt fennáll a meghibásodás veszélye. Feladat szükségessége | F22: A felhasználók folyamatos vízellátásának biztosítására | G22: Az elvárt vízigényeket kielégítő megfelelő műszaki állapotú vízbázis. | I22: Zalaegerszeg | J22: =SUM(O22:AC22) -> 6000 | L22: 46023 | M22: 46387 | N22: közép | S22: 6000
C23: Teskánd 16/A kút | D23: eltömedékelés | E23: Az objektum kora, műszaki állapota miatt fennáll a meghibásodás veszélye. Feladat szükségessége | F23: A felhasználók folyamatos vízellátásának biztosítására | G23: Az elvárt vízigényeket kielégítő megfelelő műszaki állapotú vízbázis. | H23: 0 | I23: Zalaegerszeg | J23: =SUM(O23:AC23) -> 1700 | L23: 46388 | M23: 46752 | N23: hosszú | T23: 1700
C24: Zalaegerszeg … kút | D24: kútfelújítás | E24: Az objektum kora, műszaki állapota miatt fennáll a meghibásodás veszélye. Feladat szükségessége | F24: A felhasználók folyamatos vízellátásának biztosítására | G24: Az elvárt vízigényeket kielégítő megfelelő műszaki állapotú vízbázis. | I24: Zalaegerszeg | J24: =SUM(O24:AC24) -> 12000 | L24: 47119 | M24: 49309 | N24: hosszú | V24: 6000 | AA24: 6000
B25: Gép, berendezés
C26: Zalaegerszeg … kút | D26: közmű gépészet felújítása (4 db) | E26: A szivattyú kora, műszaki állapota miatt fennáll a meghibásodás veszélye. | F26: A folyamatos víztermelés biztosítása. | G26: A Q–H diagramhoz illeszkedő energiahatékony szivattyú üzemeltetése. | I26: Zalaegerszeg | J26: =SUM(O26:AC26) -> 4000 | L26: 46023 | M26: 46387 | N26: közép | S26: 4000
C27: Zalaegerszeg … kút | D27: közmű gépészet felújítása (4 db) | E27: A szivattyú kora, műszaki állapota miatt fennáll a meghibásodás veszélye. | F27: A folyamatos víztermelés biztosítása. | G27: A Q–H diagramhoz illeszkedő energiahatékony szivattyú üzemeltetése. | I27: Zalaegerszeg | J27: =SUM(O27:AC27) -> 4000 | L27: 46388 | M27: 46752 | N27: hosszú | T27: 4000
C28: Zalaegerszeg … kút | D28: szivattyú javítás és csere | E28: A szivattyú kora, műszaki állapota miatt fennáll a meghibásodás veszélye. | F28: A folyamatos víztermelés biztosítása. | G28: A Q–H diagramhoz illeszkedő energiahatékony szivattyú üzemeltetése. | I28: Zalaegerszeg | J28: =SUM(O28:AC28) -> 601 | L28: 46388 | M28: 46752 | N28: hosszú | T28: 601
C29: Zalaegerszeg … kút | D29: közmű gépészet felújítása | E29: A szerelvények és vezetékek, műszaki állapota miatt fennáll a meghibásodás veszélye. | F29: A folyamatos víztermelés biztosítása. | G29: A gépészeti funkciókat kifogástalanul ellátó szerelvények. | I29: Zalaegerszeg | J29: =SUM(O29:AC29) -> 2000 | L29: 46388 | M29: 46752 | N29: hosszú | T29: 2000
C30: Zalaegerszeg … kút | D30: szivattyú javítás és csere | E30: A szivattyú kora, műszaki állapota miatt fennáll a meghibásodás veszélye. | F30: A folyamatos víztermelés biztosítása. | G30: A Q–H diagramhoz illeszkedő energiahatékony szivattyú üzemeltetése. | I30: Zalaegerszeg | J30: =SUM(O30:AC30) -> 601 | L30: 46753 | M30: 47118 | N30: hosszú | U30: 601
C31: Zalaegerszeg … kút | D31: közmű gépészet felújítása | E31: A szerelvények és vezetékek, műszaki állapota miatt fennáll a meghibásodás veszélye. | F31: A folyamatos víztermelés biztosítása. | G31: A gépészeti funkciókat kifogástalanul ellátó szerelvények. | I31: Zalaegerszeg | J31: =SUM(O31:AC31) -> 2000 | L31: 46753 | M31: 47118 | N31: hosszú | U31: 2000
C32: Zalaegerszeg … kút | D32: szivattyú javítás és csere | E32: A szivattyú kora, műszaki állapota miatt fennáll a meghibásodás veszélye. | F32: A folyamatos víztermelés biztosítása. | G32: A Q–H diagramhoz illeszkedő energiahatékony szivattyú üzemeltetése. | I32: Zalaegerszeg | J32: =SUM(O32:AC32) -> 601 | L32: 47119 | M32: 47483 | N32: hosszú | V32: 601
C33: Zalaegerszeg … kút | D33: közmű gépészet felújítása | E33: A szerelvények és vezetékek, műszaki állapota miatt fennáll a meghibásodás veszélye. | F33: A folyamatos víztermelés biztosítása. | G33: A gépészeti funkciókat kifogástalanul ellátó szerelvények. | I33: Zalaegerszeg | J33: =SUM(O33:AC33) -> 2000 | L33: 47119 | M33: 47483 | N33: hosszú | V33: 2000
C34: Zalaegerszeg … kút | D34: szivattyú javítás és csere | E34: A szivattyú kora, műszaki állapota miatt fennáll a meghibásodás veszélye. | F34: A folyamatos víztermelés biztosítása. | G34: A Q–H diagramhoz illeszkedő energiahatékony szivattyú üzemeltetése. | I34: Zalaegerszeg | J34: =SUM(O34:AC34) -> 601 | L34: 47484 | M34: 47848 | N34: hosszú | W34: 601
C35: Zalaegerszeg … kút | D35: közmű gépészet felújítása | E35: A szerelvények és vezetékek, műszaki állapota miatt fennáll a meghibásodás veszélye. | F35: A folyamatos víztermelés biztosítása. | G35: A gépészeti funkciókat kifogástalanul ellátó szerelvények. | I35: Zalaegerszeg | J35: =SUM(O35:AC35) -> 2000 | L35: 47484 | M35: 47848 | N35: hosszú | W35: 2000
C36: Zalaegerszeg … kút | D36: szivattyú javítás és csere | E36: A szivattyú kora, műszaki állapota miatt fennáll a meghibásodás veszélye. | F36: A folyamatos víztermelés biztosítása. | G36: A Q–H diagramhoz illeszkedő energiahatékony szivattyú üzemeltetése. | I36: Zalaegerszeg | J36: =SUM(O36:AC36) -> 601 | L36: 47849 | M36: 48213 | N36: hosszú | X36: 601
C37: Zalaegerszeg … kút | D37: közmű gépészet felújítása | E37: A szerelvények és vezetékek, műszaki állapota miatt fennáll a meghibásodás veszélye. | F37: A folyamatos víztermelés biztosítása. | G37: A gépészeti funkciókat kifogástalanul ellátó szerelvények. | I37: Zalaegerszeg | J37: =SUM(O37:AC37) -> 2000 | L37: 47849 | M37: 48213 | N37: hosszú | X37: 2000
C38: Zalaegerszeg … kút | D38: szivattyú javítás és csere | E38: A szivattyú kora, műszaki állapota miatt fennáll a meghibásodás veszélye. | F38: A folyamatos víztermelés biztosítása. | G38: A Q–H diagramhoz illeszkedő energiahatékony szivattyú üzemeltetése. | I38: Zalaegerszeg | J38: =SUM(O38:AC38) -> 601 | L38: 48214 | M38: 48579 | N38: hosszú | Y38: 601
C39: Zalaegerszeg … kút | D39: közmű gépészet felújítása | E39: A szerelvények és vezetékek, műszaki állapota miatt fennáll a meghibásodás veszélye. | F39: A folyamatos víztermelés biztosítása. | G39: A gépészeti funkciókat kifogástalanul ellátó szerelvények. | I39: Zalaegerszeg | J39: =SUM(O39:AC39) -> 2000 | L39: 48214 | M39: 48579 | N39: hosszú | Y39: 2000
C40: Zalaegerszeg … kút | D40: szivattyú javítás és csere | E40: A szivattyú kora, műszaki állapota miatt fennáll a meghibásodás veszélye. | F40: A folyamatos víztermelés biztosítása. | G40: A Q–H diagramhoz illeszkedő energiahatékony szivattyú üzemeltetése. | I40: Zalaegerszeg | J40: =SUM(O40:AC40) -> 601 | L40: 48580 | M40: 48944 | N40: hosszú | Z40: 601
C41: Zalaegerszeg … kút | D41: közmű gépészet felújítása | E41: A szerelvények és vezetékek, műszaki állapota miatt fennáll a meghibásodás veszélye. | F41: A folyamatos víztermelés biztosítása. | G41: A gépészeti funkciókat kifogástalanul ellátó szerelvények. | I41: Zalaegerszeg | J41: =SUM(O41:AC41) -> 2000 | L41: 48580 | M41: 48944 | N41: hosszú | Z41: 2000
C42: Zalaegerszeg … kút | D42: szivattyú javítás és csere | E42: A szivattyú kora, műszaki állapota miatt fennáll a meghibásodás veszélye. | F42: A folyamatos víztermelés biztosítása. | G42: A Q–H diagramhoz illeszkedő energiahatékony szivattyú üzemeltetése. | I42: Zalaegerszeg | J42: =SUM(O42:AC42) -> 601 | L42: 48945 | M42: 49309 | N42: hosszú | AA42: 601
C43: Zalaegerszeg … kút | D43: közmű gépészet felújítása | E43: A szerelvények és vezetékek, műszaki állapota miatt fennáll a meghibásodás veszélye. | F43: A folyamatos víztermelés biztosítása. | G43: A gépészeti funkciókat kifogástalanul ellátó szerelvények. | I43: Zalaegerszeg | J43: =SUM(O43:AC43) -> 2000 | L43: 48945 | M43: 49309 | N43: hosszú | AA43: 2000
C44: Zalaegerszeg … kút | D44: szivattyú javítás és csere | E44: A szivattyú kora, műszaki állapota miatt fennáll a meghibásodás veszélye. | F44: A folyamatos víztermelés biztosítása. | G44: A Q–H diagramhoz illeszkedő energiahatékony szivattyú üzemeltetése. | I44: Zalaegerszeg | J44: =SUM(O44:AC44) -> 601 | L44: 49310 | M44: 49674 | N44: hosszú | AB44: 601
C45: Zalaegerszeg … kút | D45: közmű gépészet felújítása | E45: A szerelvények és vezetékek, műszaki állapota miatt fennáll a meghibásodás veszélye. | F45: A folyamatos víztermelés biztosítása. | G45: A gépészeti funkciókat kifogástalanul ellátó szerelvények. | I45: Zalaegerszeg | J45: =SUM(O45:AC45) -> 2000 | L45: 49310 | M45: 49674 | N45: hosszú | AB45: 2000
C46: Zalaegerszeg … kút | D46: szivattyú javítás és csere | E46: A szivattyú kora, műszaki állapota miatt fennáll a meghibásodás veszélye. | F46: A folyamatos víztermelés biztosítása. | G46: A Q–H diagramhoz illeszkedő energiahatékony szivattyú üzemeltetése. | I46: Zalaegerszeg | J46: =SUM(O46:AC46) -> 601 | L46: 49675 | M46: 50040 | N46: hosszú | AC46: 601
C47: Zalaegerszeg … kút | D47: közmű gépészet felújítása | E47: A szerelvények és vezetékek, műszaki állapota miatt fennáll a meghibásodás veszélye. | F47: A folyamatos víztermelés biztosítása. | G47: A gépészeti funkciókat kifogástalanul ellátó szerelvények. | I47: Zalaegerszeg | J47: =SUM(O47:AC47) -> 2000 | L47: 49675 | M47: 50040 | N47: hosszú | AC47: 2000
B48: Irányítástechnika, energiaellátás
C49: Zalaegerszeg 19-21 kútcsoport | D49: OTR állomás rekonstrukció, ESZI szekrény csere | E49: Az elektromos, irányítástechnikai szerelvények és vezetékek, műszaki állapota miatt fennáll a meghibásodás veszélye. | F49: A folyamatos víztermelés biztosítása. | G49: A villamos funkciókat kifogástalanul ellátó szerelvények. | I49: Zalaegerszeg | J49: =SUM(O49:AC49) -> 9960 | L49: 45658 | M49: 46022 | N49: közép | R49: 9960
C50: Zalaegerszeg … kút | D50: elektromos és irányítástechnikai szekrény csere (4 db) | E50: Az elektromos, irányítástechnikai szerelvények és vezetékek, műszaki állapota miatt fennáll a meghibásodás veszélye. | F50: A búvárszivattyú elektromos megtáplálása, a folyamatos távfelügyelet biztosítása. | G50: A búvárszivattyú elektromos paramétereihez illeszkedő erősáramú és vezérlőszekrény. | I50: Zalaegerszeg | J50: =SUM(O50:AC50) -> 22000 | L50: 45658 | M50: 46387 | N50: közép | R50: 11000 | S50: 11000
C51: Zalaegerszeg … kút | D51: elektromos és irányítástechnikai szekrény csere (2 db) | E51: Az elektromos, irányítástechnikai szerelvények és vezetékek, műszaki állapota miatt fennáll a meghibásodás veszélye. | F51: A búvárszivattyú elektromos megtáplálása, a folyamatos távfelügyelet biztosítása. | G51: A búvárszivattyú elektromos paramétereihez illeszkedő erősáramú és vezérlőszekrény. | I51: Zalaegerszeg | J51: =SUM(O51:AC51) -> 6000 | L51: 46388 | M51: 46752 | N51: hosszú | T51: 6000
C52: Zalaegerszeg … kút | D52: elektromos és irányítástechnikai szekrény csere (2 db) | E52: Az elektromos, irányítástechnikai szerelvények és vezetékek, műszaki állapota miatt fennáll a meghibásodás veszélye. | F52: A búvárszivattyú elektromos megtáplálása, a folyamatos távfelügyelet biztosítása. | G52: A búvárszivattyú elektromos paramétereihez illeszkedő erősáramú és vezérlőszekrény. | I52: Zalaegerszeg | J52: =SUM(O52:AC52) -> 6000 | L52: 46753 | M52: 47118 | N52: hosszú | U52: 6000
C53: Zalaegerszeg … kút | D53: elektromos és irányítástechnikai szekrény csere (2 db) | E53: Az elektromos, irányítástechnikai szerelvények és vezetékek, műszaki állapota miatt fennáll a meghibásodás veszélye. | F53: A búvárszivattyú elektromos megtáplálása, a folyamatos távfelügyelet biztosítása. | G53: A búvárszivattyú elektromos paramétereihez illeszkedő erősáramú és vezérlőszekrény. | I53: Zalaegerszeg | J53: =SUM(O53:AC53) -> 6000 | L53: 47119 | M53: 47483 | N53: hosszú | V53: 6000
C54: Zalaegerszeg … kút | D54: elektromos és irányítástechnikai szekrény csere (2 db) | E54: Az elektromos, irányítástechnikai szerelvények és vezetékek, műszaki állapota miatt fennáll a meghibásodás veszélye. | F54: A búvárszivattyú elektromos megtáplálása, a folyamatos távfelügyelet biztosítása. | G54: A búvárszivattyú elektromos paramétereihez illeszkedő erősáramú és vezérlőszekrény. | I54: Zalaegerszeg | J54: =SUM(O54:AC54) -> 6000 | L54: 47484 | M54: 47848 | N54: hosszú | W54: 6000
C55: Zalaegerszeg … kút | D55: elektromos és irányítástechnikai szekrény csere (2 db) | E55: Az elektromos, irányítástechnikai szerelvények és vezetékek, műszaki állapota miatt fennáll a meghibásodás veszélye. | F55: A búvárszivattyú elektromos megtáplálása, a folyamatos távfelügyelet biztosítása. | G55: A búvárszivattyú elektromos paramétereihez illeszkedő erősáramú és vezérlőszekrény. | I55: Zalaegerszeg | J55: =SUM(O55:AC55) -> 6000 | L55: 47849 | M55: 48213 | N55: hosszú | X55: 6000
C56: Zalaegerszeg … kút | D56: elektromos és irányítástechnikai szekrény csere (2 db) | E56: Az elektromos, irányítástechnikai szerelvények és vezetékek, műszaki állapota miatt fennáll a meghibásodás veszélye. | F56: A búvárszivattyú elektromos megtáplálása, a folyamatos távfelügyelet biztosítása. | G56: A búvárszivattyú elektromos paramétereihez illeszkedő erősáramú és vezérlőszekrény. | I56: Zalaegerszeg | J56: =SUM(O56:AC56) -> 6000 | L56: 48214 | M56: 48579 | N56: hosszú | Y56: 6000
C57: Zalaegerszeg … kút | D57: elektromos és irányítástechnikai szekrény csere (2 db) | E57: Az elektromos, irányítástechnikai szerelvények és vezetékek, műszaki állapota miatt fennáll a meghibásodás veszélye. | F57: A búvárszivattyú elektromos megtáplálása, a folyamatos távfelügyelet biztosítása. | G57: A búvárszivattyú elektromos paramétereihez illeszkedő erősáramú és vezérlőszekrény. | I57: Zalaegerszeg | J57: =SUM(O57:AC57) -> 6000 | L57: 48580 | M57: 48944 | N57: hosszú | Z57: 6000
C58: Zalaegerszeg … kút | D58: elektromos és irányítástechnikai szekrény csere (2 db) | E58: Az elektromos, irányítástechnikai szerelvények és vezetékek, műszaki állapota miatt fennáll a meghibásodás veszélye. | F58: A búvárszivattyú elektromos megtáplálása, a folyamatos távfelügyelet biztosítása. | G58: A búvárszivattyú elektromos paramétereihez illeszkedő erősáramú és vezérlőszekrény. | I58: Zalaegerszeg | J58: =SUM(O58:AC58) -> 6000 | L58: 48945 | M58: 49309 | N58: hosszú | AA58: 6000
C59: Zalaegerszeg … kút | D59: elektromos és irányítástechnikai szekrény csere (2 db) | E59: Az elektromos, irányítástechnikai szerelvények és vezetékek, műszaki állapota miatt fennáll a meghibásodás veszélye. | F59: A búvárszivattyú elektromos megtáplálása, a folyamatos távfelügyelet biztosítása. | G59: A búvárszivattyú elektromos paramétereihez illeszkedő erősáramú és vezérlőszekrény. | I59: Zalaegerszeg | J59: =SUM(O59:AC59) -> 6000 | L59: 49310 | M59: 49674 | N59: hosszú | AB59: 6000
C60: Zalaegerszeg … kút | D60: elektromos és irányítástechnikai szekrény csere (2 db) | E60: Az elektromos, irányítástechnikai szerelvények és vezetékek, műszaki állapota miatt fennáll a meghibásodás veszélye. | F60: A búvárszivattyú elektromos megtáplálása, a folyamatos távfelügyelet biztosítása. | G60: A búvárszivattyú elektromos paramétereihez illeszkedő erősáramú és vezérlőszekrény. | I60: Zalaegerszeg | J60: =SUM(O60:AC60) -> 6000 | L60: 49675 | M60: 50040 | N60: hosszú | AC60: 6000
B61: Összesen: | J61: =SUM(J12:J59) -> 562370
A62: III. Vízműtelep és vízkezelő létesítmények
C63: Helyszín | D63: beruházás megnevezése
B64: VÍZMŰTELEP
B65: Épület, építmény
B67: Gép, berendezés
B69: Irányítástechnika, energiaellátás
C70: Zalaegerszeg Nyugati vízműtelep | D70: 20 KV-os főelosztó felújítása, feszültségváltó, megszakító csere mindkét betáp oldalon | E70: Az elektromos, irányítástechnikai szerelvények és vezetékek, műszaki állapota miatt fennáll a meghibásodás veszélye | F70: A vízműtelep elektromos megtáplálása, a folyamatos távfelügyelet biztosítása. | G70: Az elektromos paramétereihez illeszkedő erős- és gyengeáramú vezérlőszekrény. | I70: Zalaegerszeg | J70: =SUM(O70:AC70) -> 36000 | L70: 46023 | M70: 46387 | N70: közép | S70: 36000
B71: VÍZKEZELŐ LÉTESÍTMÉNYEK
B72: Épület, építmény
B74: Gép, berendezés
B76: Irányítástechnika, energiaellátás
B78: Összesen | J78: =SUM(J66:J77) -> 36000
A79: IV. Vízelosztás
C80: Helyszín | D80: beruházás megnevezése
B81: IVÓVÍZHÁLÓZAT
B82: Épület, építmény
A83: 3 | C83: Zalaegerszeg Püspöki Grácián II. ütem | D83: vezeték kiváltás, rekonstrukció, felújítás ~360 fm gerincvezeték kiváltás, bekötés-cserecsomópont rekonstrukciók | E83: A vezeték állapota anyaga, kora, minősége miatt nem megfelelő, elavult. | F83: A vezeték elavult műszaki állapota miatt gyakoriak a csőtörések. | G83: A vízvezeték kiváltás a vízigények figyelembevételével megfelelő átmérőjű és anyagú hálózatot kapunk. | I83: Zalaegerszeg | J83: =SUM(O83:AC83) -> 26000 | L83: 44562 | M83: 44926 | N83: rövid | O83: 26000
A84: 4 | C84: Zalaegerszeg Pózva II ütem | D84: bekötés csere | E84: A vezeték állapota anyaga, kora, minősége miatt nem megfelelő, elavult. | F84: A bekötővezeték anyaga vízbiztonsági kockázatot rejt magában, illetve nagyobb a valószínűsége a meghibásodásnak. | G84: A vízvezeték kiváltás a vízigények figyelembevételével megfelelő átmérőjű és anyagú hálózatot kapunk. | I84: Zalaegerszeg | J84: =SUM(O84:AC84) -> 13000 | L84: 44562 | M84: 44926 | N84: rövid | O84: 13000
A85: 5 | C85: Zalaegerszeg | D85: bekötéscsere | E85: A vezeték állapota anyaga, kora, minősége miatt nem megfelelő, elavult. | F85: A bekötővezeték anyaga vízbiztonsági kockázatot rejt magában, illetve nagyobb a valószínűsége a meghibásodásnak. | G85: A vízvezeték kiváltás a vízigények figyelembevételével megfelelő átmérőjű és anyagú hálózatot kapunk. | I85: Zalaegerszeg | J85: =SUM(O85:AC85) -> 13623 | L85: 44562 | M85: 44926 | N85: rövid | O85: 13623
A86: 6 | C86: Zalaegerszeg | D86: tűzcsap építés, csere | E86: A szerelvény állapota anyaga, kora, minősége miatt nem megfelelő, elavult. | F86: A szerelvény elavult műszaki állapota miatt gyakoriak a csőtörések. | G86: A szerelvény kiváltás a vízigények figyelembevételével megfelelő átmérőjű és anyagú hálózatot kapunk. | I86: Zalaegerszeg | J86: =SUM(O86:AC86) -> 7000 | L86: 44562 | M86: 44926 | N86: rövid | O86: 7000
A87: 7 | C87: Zalaegerszeg | D87: vezeték kiváltás, rekonstrukció, felújítás | E87: A vezeték állapota anyaga, kora, minősége miatt nem megfelelő, elavult. | F87: A vezeték elavult műszaki állapota miatt gyakoriak a csőtörések. | G87: A vízvezeték kiváltás a vízigények figyelembevételével megfelelő átmérőjű és anyagú hálózatot kapunk. | I87: Zalaegerszeg | J87: =SUM(O87:AC87) -> 17000 | L87: 44562 | M87: 44926 | N87: rövid | O87: 17000
A88: 8 | C88: Zalaegerszeg, Kaszaházi fennsík | D88: nyomásövezeti rekonstrukció [magasabb nyomásövezetbe történő átkötés] | E88: A vezeték állapota anyaga, kora, minősége miatt nem megfelelő, elavult. | F88: A vezeték elavult műszaki állapota miatt gyakoriak a csőtörések. | G88: A vízvezeték kiváltás a vízigények figyelembevételével megfelelő átmérőjű és anyagú hálózatot kapunk. | I88: Zalaegerszeg | J88: =SUM(O88:AC88) -> 45500 | L88: 44562 | M88: 44926 | N88: rövid | O88: 45500
A89: 9 | C89: Zalaegerszeg, Vizslaparki út 7. - Kisfaludy utca | D89: vezeték kiváltás, rekonstrukció, felújítás D110 KPE ~110fm + 7 db bekötéscsere + csomóponti rekonstrukció | E89: A vezeték állapota anyaga, kora, minősége miatt nem megfelelő, elavult. | F89: A vezeték elavult műszaki állapota miatt gyakoriak a csőtörések. | G89: A vízvezeték kiváltás a vízigények figyelembevételével megfelelő átmérőjű és anyagú hálózatot kapunk. | I89: Zalaegerszeg | J89: =SUM(O89:AC89) -> 16900 | L89: 44562 | M89: 44926 | N89: rövid | O89: 16900
A90: 10 | C90: Zalaegerszeg Iskola u. | D90: vezeték kiváltás, rekonstrukció, felújítás | E90: A vezeték állapota anyaga, kora, minősége miatt nem megfelelő, elavult. | F90: A vezeték elavult műszaki állapota miatt gyakoriak a csőtörések. | G90: A vízvezeték kiváltás a vízigények figyelembevételével megfelelő átmérőjű és anyagú hálózatot kapunk. | I90: Zalaegerszeg | J90: =SUM(O90:AC90) -> 26000 | L90: 44562 | M90: 44926 | N90: rövid | O90: 26000
A91: 11 | C91: Zalaegerszeg Leander u. – Galagonya u. | D91: vezeték kiváltás, rekonstrukció, felújítás [~700 fm gerincvezeték + 23 db bekötés + tűzcsapok] | E91: A vezeték állapota anyaga, kora, minősége miatt nem megfelelő, elavult. | F91: A vezeték elavult műszaki állapota miatt gyakoriak a csőtörések. | G91: A vízvezeték kiváltás a vízigények figyelembevételével megfelelő átmérőjű és anyagú hálózatot kapunk. | I91: Zalaegerszeg | J91: =SUM(O91:AC91) -> 39000 | L91: 44562 | M91: 44926 | N91: rövid | O91: 39000
A92: 12 | C92: Zalaegerszeg Bor u. | D92: vezeték kiváltás, rekonstrukció, felújítás [250 fm gerincvezeték + 6 db bekötés + 1 db tűzcsap] | E92: A vezeték állapota anyaga, kora, minősége miatt nem megfelelő, elavult. | F92: A vezeték elavult műszaki állapota miatt gyakoriak a csőtörések. | G92: A vízvezeték kiváltás a vízigények figyelembevételével megfelelő átmérőjű és anyagú hálózatot kapunk. | I92: Zalaegerszeg | J92: =SUM(O92:AC92) -> 9100 | L92: 44562 | M92: 44926 | N92: rövid | O92: 9100
C93: Zalaegerszeg Csertán - Landorhegyi - Űrhajós - Déryné utcák között | D93: ivóvízvezeték rekonstrukció (d110 1077 fm) | E93: A bekötővezeték anyaga vízbiztonsági kockázatot rejt magában, illetve nagyobb a valószínűsége a meghibásodásnak. | F93: A vízvezeték kiváltás, a vízigények figyelembevételével megfelelő átmérőjű és anyagú hálózatot kapunk. | G93: új kialakítású | I93: Zalaegerszeg | J93: =SUM(O93:AC93) -> 27300 | L93: 44927 | M93: 45291 | N93: közép | P93: 27300
C94: Zalaegerszeg Dózsa iskola régi szennyvíztelep között | D94: gerincvezeték csere (D355 520 fm) | E94: A vezeték állapota anyaga, kora, minősége miatt nem megfelelő, elavult. | F94: A vezeték elavult műszaki állapota miatt gyakoriak a csőtörések. | G94: A vízvezeték kiváltás a vízigények figyelembevételével megfelelő átmérőjű és anyagú hálózatot kapunk. | I94: Zalaegerszeg | J94: =SUM(O94:AC94) -> 26741 | L94: 44927 | M94: 45291 | N94: közép | P94: 26741
C95: Zalaegerszeg Vadrózsa u. | D95: vezeték kiváltás, rekonstrukció, felújítás [D110 KPE ~300fm + D63 KPE ~100fm + 11 db vízóraakna + 1 db csomópont] | E95: A vezeték állapota anyaga, kora, minősége miatt nem megfelelő, elavult. | F95: A vezeték elavult műszaki állapota miatt gyakoriak a csőtörések. | G95: A vízvezeték kiváltás a vízigények figyelembevételével megfelelő átmérőjű és anyagú hálózatot kapunk. | I95: Zalaegerszeg | J95: =SUM(O95:AC95) -> 19500 | L95: 44927 | M95: 45291 | N95: közép | P95: 19500
C96: Bocfölde tároló töltő vezeték | D96: gerincvezeték csere (D250 1600 fm) I. ütem | E96: A vezeték állapota anyaga, kora, minősége miatt nem megfelelő, elavult. | F96: A vezeték elavult műszaki állapota miatt gyakoriak a csőtörések. | G96: A vízvezeték kiváltás a vízigények figyelembevételével megfelelő átmérőjű és anyagú hálózatot kapunk. | I96: Zalaegerszeg | J96: =SUM(O96:AC96) -> 68900 | L96: 44927 | M96: 45291 | N96: közép | P96: 68900
C97: Zalaegerszeg | D97: Páterdombi nyomásövezet kialakítása | E97: A vezeték állapota anyaga, kora, minősége miatt nem megfelelő, elavult. | F97: A vezeték elavult műszaki állapota miatt gyakoriak a csőtörések. | G97: A vízvezeték kiváltás a vízigények figyelembevételével megfelelő átmérőjű és anyagú hálózatot kapunk. | I97: Zalaegerszeg | J97: =SUM(O97:AC97) -> 195000 | L97: 44927 | M97: 45291 | N97: közép | P97: 195000
C98: Zalaegerszeg | D98: bekötéscsere | E98: A vezeték állapota anyaga, kora, minősége miatt nem megfelelő, elavult. | F98: A bekötővezeték anyaga vízbiztonsági kockázatot rejt magában, illetve nagyobb a valószínűsége a meghibásodásnak. | G98: A vízvezeték kiváltás a vízigények figyelembevételével megfelelő átmérőjű és anyagú hálózatot kapunk. | I98: Zalaegerszeg | J98: =SUM(O98:AC98) -> 45000 | L98: 44927 | M98: 46387 | N98: közép | P98: 14500 | Q98: 14500 | R98: 8000 | S98: 8000
C99: Zalaegerszeg | D99: tűzcsap építés, csere | E99: A szerelvény állapota anyaga, kora, minősége miatt nem megfelelő, elavult. | F99: A szerelvény elavult műszaki állapota miatt gyakoriak a csőtörések. | G99: A szerelvény kiváltás a vízigények figyelembevételével megfelelő átmérőjű és anyagú hálózatot kapunk. | I99: Zalaegerszeg | J99: =SUM(O99:AC99) -> 25350 | L99: 44927 | M99: 46387 | N99: közép | P99: 7000 | Q99: 7000 | R99: 5675 | S99: 5675
C100: Zalaegerszeg | D100: vezeték kiváltás, rekonstrukció, felújítás | E100: A vezeték állapota anyaga, kora, minősége miatt nem megfelelő, elavult. | F100: A vezeték elavult műszaki állapota miatt gyakoriak a csőtörések. | G100: A vízvezeték kiváltás a vízigények figyelembevételével megfelelő átmérőjű és anyagú hálózatot kapunk. | I100: Zalaegerszeg | J100: =SUM(O100:AC100) -> 677734 | L100: 44927 | M100: 46387 | N100: közép | P100: 17000 | Q100: 17000 | R100: 321867 | S100: 321867
C101: Zalaegerszeg | D101: mechanikai tisztítási csomópontok kiépítése | E101: A meglévő szerelvényekkel korlátozott korlátozottak a hálózattisztítási lehetőségek. | F101: Rendszeres hálózatisztítás végrehajtása a jövőben. | G101: A tisztítási csomópontok kialakításával lehetőség nyílik a rendszeres hálózattisztítások elvégzésére. | I101: Zalaegerszeg | J101: =SUM(O101:AC101) -> 13000 | L101: 45658 | M101: 46022 | N101: közép | R101: 13000
C102: Zalaegerszeg | D102: vezeték kiváltás, rekonstrukció, felújítás | E102: A vezeték állapota anyaga, kora, minősége miatt nem megfelelő, elavult. | F102: A vezeték anyaga vízbiztonsági kockázatot rejt magában, illetve nagyobb a valószínűsége a meghibásodásnak. | G102: A vízvezeték kiváltás a vízigények figyelembevételével megfelelő átmérőjű és anyagú hálózatot kapunk. | I102: Zalaegerszeg | J102: =SUM(O102:AC102) -> 3490520 | L102: 46388 | M102: 50040 | N102: hosszú | T102: 349052 | U102: 349052 | V102: 349052 | W102: 349052 | X102: 349052 | Y102: 349052 | Z102: 349052 | AA102: 349052 | AB102: 349052 | AC102: 349052
C103: Zalaegerszeg | D103: tűzcsap építés, csere | E103: A szerelvény állapota anyaga, kora, minősége miatt nem megfelelő, elavult. | F103: A szerelvény elavult műszaki állapota miatt gyakoriak a csőtörések. | G103: A szerelvény kiváltás a vízigények figyelembevételével megfelelő átmérőjű és anyagú hálózatot kapunk. | I103: Zalaegerszeg | J103: =SUM(O103:AC103) -> 56750 | L103: 46388 | M103: 50040 | N103: hosszú | T103: 5675 | U103: 5675 | V103: 5675 | W103: 5675 | X103: 5675 | Y103: 5675 | Z103: 5675 | AA103: 5675 | AB103: 5675 | AC103: 5675
C104: Zalaegerszeg | D104: gerincvezeték csere | E104: A vezeték állapota anyaga, kora, minősége miatt nem megfelelő, elavult. | F104: A vezeték elavult műszaki állapota miatt gyakoriak a csőtörések. | G104: A vízvezeték kiváltás a vízigények figyelembevételével megfelelő átmérőjű és anyagú hálózatot kapunk. | I104: Zalaegerszeg | J104: =SUM(O104:AC104) -> 313475 | L104: 46388 | M104: 50040 | N104: hosszú | T104: 27140 | U104: 29945 | V104: 29945 | W104: 31815 | X104: 24335 | Y104: 50515 | Z104: 29945 | AA104: 29945 | AB104: 29945 | AC104: 29945
C105: Zalaegerszeg | D105: mechanikai tisztítási csomópontok kiépítése | E105: A meglévő szerelvényekkel korlátozott korlátozottak a hálózattisztítási lehetőségek. | F105: Rendszeres hálózatisztítás végrehajtása a jövőben. | G105: A tisztítási csomópontok kialakításával lehetőség nyílik a rendszeres hálózattisztítások elvégzésére. | I105: Zalaegerszeg | J105: =SUM(O105:AC105) -> 80000 | L105: 46388 | M105: 50040 | N105: hosszú | T105: 8000 | U105: 8000 | V105: 8000 | W105: 8000 | X105: 8000 | Y105: 8000 | Z105: 8000 | AA105: 8000 | AB105: 8000 | AC105: 8000
...

Sheet Zalaszentgyörgy
A1: Gördülő fejlesztési terv a 2022 - 2036 időszakra
A2: FELÚJÍTÁSOK ÉS PÓTLÁSOK ÖSSZEFOGLALÓ TÁBLÁZATA
A3: A tervet benyújtó szervezet megnevezése: | K3: ZALASZENTGYÖRGY | R3: ellátásért felelős / ellátásért felelősök képviselője / víziközmű-szolgáltató *
A4: Víziközmű-szolgáltató megnevezése: | K4: ÉSZAK ZALAI VÍZ- ÉS CSATORNAMŰ ZÁRTKÖRŰEN MŰKÖDŐ RÉSZVÉNYTÁRSASÁG
A5: Víziközmű-szolgáltatási ágazat megnevezése: | K5: IVÓVÍZ ÁGAZAT
A6: Véleményeltérést megfogalmazó érintett fél megnevezése:
A7: Víziközmű-rendszer kódja: ** | K7: 11-32054-1-025-01-14 | R7: ZALAEGERSZEG-IV
A8: I. Felszín alatti vízkivétel
A9: Fontossági sorrend | B9: Felujítás és pótlás megnevezése | E9: Műszaki állapot felmérés, szükségességi indoklás | H9: Vízjogi létesítési/elvi engedély száma | I9: Az érintett ellátásért felelős(ök) megnevezése | J9: Tervezett nettó költség | K9: Forrás 2022 évre | L9: Megvalósítás időtartama | N9: Tervezett időtáv | O9: A beruházás ütemezése a tervezési időszak évei szerint
E10: Jelenlegi műszaki állapot | F10: Feladat szükségessége | G10: Megvalósítást követő várható műszaki állapot | J10: (eFt) | L10: Kezdés | M10: Befejezés | N10: (rövid / közép / hosszú) | O10: 1 | P10: 2 | Q10: 3 | R10: 4 | S10: 5 | T10: 6 | U10: 7 | V10: 8 | W10: 9 | X10: 10 | Y10: 11 | Z10: 12 | AA10: 13 | AB10: 14 | AC10: 15
B11: szakág | C11: Helyszín | D11: beruházás megnevezése
A12: 1 | C12: Zalaszentgyörgy | D12: Rendkívüli helyzetből adódó azonnali feladatok (max. 15%) | F12: működőképeség biztosítása | I12: Zalaszentgyörgy | J12: =SUM(O12:AC12) -> 2277 | L12: 44562 | M12: 50040 | O12: =0.2*$C$69 -> 198 | P12: =0.15*$C$69 -> 148.5 | Q12: =0.15*$C$69 -> 148.5 | R12: =0.15*$C$69 -> 148.5 | S12: =0.15*$C$69 -> 148.5 | T12: =0.15*$C$69 -> 148.5 | U12: =0.15*$C$69 -> 148.5 | V12: =0.15*$C$69 -> 148.5 | W12: =0.15*$C$69 -> 148.5 | ... AC12: =0.15*$C$69 -> 148.5
B13: MÉLYFÚRÁSÚ KÚT, HAGYOMÁNYOS ÁTMÉRŐVEL
B14: Épület, építmény
B16: Gép, berendezés
B18: Irányítástechnika, energiaellátás
B20: Összesen: | J20: =SUM(J12:J19) -> 2277
A21: III. Vízműtelep és vízkezelő létesítmények
C22: Helyszín | D22: beruházás megnevezése
B23: VÍZMŰTELEP
B24: Épület, építmény
B26: Gép, berendezés
B28: Irányítástechnika, energiaellátás
B30: VÍZKEZELŐ LÉTESÍTMÉNYEK
B31: Épület, építmény
B33: Gép, berendezés
B35: Irányítástechnika, energiaellátás
B37: Összesen | J37: =SUM(J25:J36) -> 0
A38: IV. Vízelosztás
C39: Helyszín | D39: beruházás megnevezése
B40: IVÓVÍZHÁLÓZAT
B41: Épület, építmény
A42: 19 | C42: Zalaszentgyörgy - Kávás | D42: gerincvezeték csere (d160 260 fm) I. ütem tervezés | E42: A vezeték állapota anyaga, kora, minősége miatt nem megfelelő, elavult. | F42: A vezeték elavult műszaki állapota miatt gyakoriak a csőtörések | G42: A vízvezeték kiváltás, a vízigények figyelembevételével megfelelő átmérőjű és anyagú hálózatot kapunk. | I42: Zalaszentgyörgy | J42: =SUM(O42:AC42) -> 1143 | L42: 44562 | M42: 44925 | N42: rövid | O42: 1143
C43: Zalaszentgyörgy - Kávás | D43: gerincvezeték csere (d160 260 fm) I. ütem | E43: A vezeték állapota anyaga, kora, minősége miatt nem megfelelő, elavult. | F43: A vezeték elavult műszaki állapota miatt gyakoriak a csőtörések | G43: A vízvezeték kiváltás, a vízigények figyelembevételével megfelelő átmérőjű és anyagú hálózatot kapunk. | I43: Zalaszentgyörgy | J43: =SUM(O43:AC43) -> 11557 | L43: 44927 | M43: 45291 | N43: közép | P43: 11557
C44: Zalaszentgyörgy | D44: tűzcsap építés, csere | E44: A szerelvény állapota anyaga, kora, minősége miatt nem megfelelő, elavult. | F44: A vezeték elavult műszaki állapota miatt gyakoriak a csőtörések | G44: A szerelvény kiváltás, a vízigények figyelembevételével megfelelő átmérőjű és anyagú hálózatot kapunk. | I44: Zalaszentgyörgy | J44: =SUM(O44:AC44) -> 762 | L44: 44927 | M44: 45291 | N44: közép | P44: 762
C45: Zalaszentgyörgy | D45: ivóvízhálózat rekonstrukció | E45: A vezeték állapota anyaga, kora, minősége miatt nem megfelelő, elavult. | F45: A vezeték elavult műszaki állapota miatt gyakoriak a csőtörések | G45: A vízvezeték kiváltás, a vízigények figyelembevételével megfelelő átmérőjű és anyagú hálózatot kapunk. | I45: Zalaszentgyörgy | J45: =SUM(O45:AC45) -> 130280 | L45: 46388 | M45: 50040 | N45: hosszú | T45: 13028 | U45: 13028 | V45: 13028 | W45: 13028 | X45: 13028 | Y45: 13028 | Z45: 13028 | AA45: 13028 | AB45: 13028 | AC45: 13028
C46: Zalaszentgyörgy | D46: tűzcsap építés, csere | E46: A szerelvény állapota anyaga, kora, minősége miatt nem megfelelő, elavult. | F46: A vezeték elavult műszaki állapota miatt gyakoriak a csőtörések | G46: A szerelvény kiváltás, a vízigények figyelembevételével megfelelő átmérőjű és anyagú hálózatot kapunk. | I46: Zalaszentgyörgy | J46: =SUM(O46:AC46) -> 635 | L46: 47119 | M46: 47483 | N46: hosszú | V46: 635
B47: Gép, berendezés
B49: Irányítástechnika, energiaellátás
B51: VÍZTÁROLÓK
B52: Épület, építmény
B54: Gép, berendezés
B56: Irányítástechnika, energiaellátás
B58: NYOMÁSFOKOZÓK
B59: Épület, építmény
B61: Gép, berendezés
B63: Irányítástechnika, energiaellátás
B64: Összesen: | J64: =SUM(J42:J63) -> 144377
B65: Összesen: | J65: =J20+J37+J64 -> 146654 | K65: =SUM(C69:C70) -> 1341 | O65: =SUM(O12:O64) -> 1341 | P65: =SUM(P12:P64) -> 12467.5 | Q65: =SUM(Q12:Q64) -> 148.5 | R65: =SUM(R12:R64) -> 148.5 | S65: =SUM(S12:S64) -> 148.5 | T65: =SUM(T12:T64) -> 13176.5 | U65: =SUM(U12:U64) -> 13176.5 | V65: =SUM(V12:V64) -> 13811.5 | ... AC65: =SUM(AC12:AC64) -> 13176.5
K66: 2022 évre a fejlesztési forrás biztosított
B68: Tervezett feladatok nettó költsége a teljes ütem tekintetében (eFt) | C68: Rendelkezésre álló források számszerűsített értéke a teljes ütem tekintetében (eFt) | D68: Forrás megnevezése a teljes ütem tekintetében
A69: I. ütem | B69: =SUM(O65) -> 1341 | C69: 990 | D69: Használati díj (2022)
A70: I. ütem | C70: =B69-C69 -> 351 | D70: KPA
A71: II. ütem | B71: =SUM(P65:S65) -> 12913 | C71: =C69*4 -> 3960 | D71: Használati díj (2023-2026)
A72: III. ütem | B72: =SUM(T65:AC65) -> 132400 | C72: =C69*10 -> 9900 | D72: Használati díj (2027-2036)

Sheet VKR_összesítő
A1: Gördülő fejlesztési terv a 2022 - 2036 időszakra
A2: FELÚJÍTÁSOK ÉS PÓTLÁSOK ÖSSZEFOGLALÓ TÁBLÁZATA
A3: A tervet benyújtó szervezet megnevezése: | K3: BABOSDÖBRÉTE, BOCFÖLDE, BÖDE, CSATÁR, HOTTÓ, KISKUTAS, NAGYKUTAS, SÁRHIDA, TESKÁND, ZALAEGERSZEG, BAGOD, BONCODFÖLDE, HAGYÁROSBÖRÖND, KÁVÁS, ZALABOLDOGFA, ZALASZENTGYÖRGY, CSONKAHEGYHÁT, DOBRONHEGY, MILEJSZEG, NÉMETFALU, PÁLFISZEG, BECSVÖLGYE, KUSTÁNSZEG, KISPÁLI, NAGYPÁLI | R3: ellátásért felelős / ellátásért felelősök képviselője / víziközmű-szolgáltató *
A4: Víziközmű-szolgáltató megnevezése: | K4: ÉSZAK ZALAI VÍZ- ÉS CSATORNAMŰ ZÁRTKÖRŰEN MŰKÖDŐ RÉSZVÉNYTÁRSASÁG
A5: Víziközmű-szolgáltatási ágazat megnevezése: | K5: IVÓVÍZ ÁGAZAT
A6: Véleményeltérést megfogalmazó érintett fél megnevezése:
A7: Víziközmű-rendszer kódja: ** | K7: 11-32054-1-025-01-14 | R7: ZALAEGERSZEG-IV
A8: I. Felszín alatti vízkivétel
A9: Fontossági sorrend | B9: Felujítás és pótlás megnevezése | E9: Műszaki állapot felmérés, szükségességi indoklás | H9: Vízjogi létesítési/elvi engedély száma | I9: Az érintett ellátásért felelős(ök) megnevezése | J9: Tervezett nettó költség | K9: Forrás 2022 évre | L9: Megvalósítás időtartama | N9: Tervezett időtáv | O9: A beruházás ütemezése a tervezési időszak évei szerint
E10: Jelenlegi műszaki állapot | F10: Feladat szükségessége | G10: Megvalósítást követő várható műszaki állapot | J10: (eFt) | L10: Kezdés | M10: Befejezés | N10: (rövid / közép / hosszú) | O10: 1 | P10: 2 | Q10: 3 | R10: 4 | S10: 5 | T10: 6 | U10: 7 | V10: 8 | W10: 9 | X10: 10 | Y10: 11 | Z10: 12 | AA10: 13 | AB10: 14 | AC10: 15
B11: szakág | C11: Helyszín | D11: beruházás megnevezése
A12: =Babosdöbréte!A12 -> 1 | C12: =Babosdöbréte!C12 -> Babosdöbréte | D12: =Babosdöbréte!D12 -> Rendkívüli helyzetből adódó azonnali feladatok (max. 15%) | F12: =Babosdöbréte!F12 -> működőképeség biztosítása | I12: =Babosdöbréte!I12 -> Babosdöbréte | J12: =SUM(O12:AC12) -> 2338.1 | L12: =Babosdöbréte!L12 -> 44562 | M12: =Babosdöbréte!M12 -> 50040 | O12: =Babosdöbréte!O12 -> 152 | P12: =Babosdöbréte!P12 -> 156.15 | Q12: =Babosdöbréte!Q12 -> 156.15 | R12: =Babosdöbréte!R12 -> 156.15 | S12: =Babosdöbréte!S12 -> 156.15 | T12: =Babosdöbréte!T12 -> 156.15 | U12: =Babosdöbréte!U12 -> 156.15 | V12: =Babosdöbréte!V12 -> 156.15 | ... AC12: =Babosdöbréte!AC12 -> 156.15
A13: =Becsvölgye!A12 -> 1 | C13: =Becsvölgye!C12 -> Becsvölgye | D13: =Becsvölgye!D12 -> Rendkívüli helyzetből adódó azonnali feladatok (max. 15%) | F13: =Becsvölgye!F12 -> működőképeség biztosítása | I13: =Becsvölgye!I12 -> Becsvölgye | J13: =SUM(O13:AC13) -> 4298.7 | L13: =Becsvölgye!L12 -> 44562 | M13: =Becsvölgye!M12 -> 50040 | O13: =Becsvölgye!O12 -> 373.8 | P13: =Becsvölgye!P12 -> 280.35 | Q13: =Becsvölgye!Q12 -> 280.35 | R13: =Becsvölgye!R12 -> 280.35 | S13: =Becsvölgye!S12 -> 280.35 | T13: =Becsvölgye!T12 -> 280.35 | U13: =Becsvölgye!U12 -> 280.35 | V13: =Becsvölgye!V12 -> 280.35 | ... AC13: =Becsvölgye!AC12 -> 280.35
A14: =Bocfölde!A12 -> 1 | C14: =Bocfölde!C12 -> Bocfölde | D14: =Bocfölde!D12 -> Rendkívüli helyzetből adódó azonnali feladatok (max. 15%) | F14: =Bocfölde!F12 -> működőképeség biztosítása | I14: =Bocfölde!I12 -> Bocfölde | J14: =SUM(O14:AC14) -> 9586.4 | L14: =Bocfölde!L12 -> 44562 | M14: =Bocfölde!M12 -> 50040 | O14: =Bocfölde!O12 -> 833.6 | P14: =Bocfölde!P12 -> 625.2 | Q14: =Bocfölde!Q12 -> 625.2 | R14: =Bocfölde!R12 -> 625.2 | S14: =Bocfölde!S12 -> 625.2 | T14: =Bocfölde!T12 -> 625.2 | U14: =Bocfölde!U12 -> 625.2 | V14: =Bocfölde!V12 -> 625.2 | ... AC14: =Bocfölde!AC12 -> 625.2
A15: =Böde!A12 -> 1 | C15: =Böde!C12 -> Böde | D15: =Böde!D12 -> Rendkívüli helyzetből adódó azonnali feladatok (max. 15%) | F15: =Böde!F12 -> működőképeség biztosítása | I15: =Böde!I12 -> Böde | J15: =SUM(O15:AC15) -> 1379.5 | L15: =Böde!L12 -> 44562 | M15: =Böde!M12 -> 50040 | O15: =Böde!O12 -> 445 | P15: =Böde!P12 -> 66.75 | Q15: =Böde!Q12 -> 66.75 | R15: =Böde!R12 -> 66.75 | S15: =Böde!S12 -> 66.75 | T15: =Böde!T12 -> 66.75 | U15: =Böde!U12 -> 66.75 | V15: =Böde!V12 -> 66.75 | ... AC15: =Böde!AC12 -> 66.75
A16: =Csatár!A12 -> 1 | C16: =Csatár!C12 -> Csatár | D16: =Csatár!D12 -> Rendkívüli helyzetből adódó azonnali feladatok (max. 15%) | F16: =Csatár!F12 -> működőképeség biztosítása | I16: =Csatár!I12 -> Csatár | J16: =SUM(O16:AC16) -> 2845.1 | L16: =Csatár!L12 -> 44562 | M16: =Csatár!M12 -> 50040 | O16: =Csatár!O12 -> 247.4 | P16: =Csatár!P12 -> 185.55 | Q16: =Csatár!Q12 -> 185.55 | R16: =Csatár!R12 -> 185.55 | S16: =Csatár!S12 -> 185.55 | T16: =Csatár!T12 -> 185.55 | U16: =Csatár!U12 -> 185.55 | V16: =Csatár!V12 -> 185.55 | ... AC16: =Csatár!AC12 -> 185.55
A17: =Hottó!A12 -> 1 | C17: =Hottó!C12 -> Hottó | D17: =Hottó!D12 -> Rendkívüli helyzetből adódó azonnali feladatok (max. 15%) | F17: =Hottó!F12 -> működőképeség biztosítása | I17: =Hottó!I12 -> Hottó | J17: =SUM(O17:AC17) -> 2337.4 | L17: =Hottó!L12 -> 44562 | M17: =Hottó!M12 -> 50040 | O17: =Hottó!O12 -> 754 | P17: =Hottó!P12 -> 113.1 | Q17: =Hottó!Q12 -> 113.1 | R17: =Hottó!R12 -> 113.1 | S17: =Hottó!S12 -> 113.1 | T17: =Hottó!T12 -> 113.1 | U17: =Hottó!U12 -> 113.1 | V17: =Hottó!V12 -> 113.1 | ... AC17: =Hottó!AC12 -> 113.1
A18: =Kiskutas!A12 -> 1 | C18: =Kiskutas!C12 -> Kiskutas | D18: =Kiskutas!D12 -> Rendkívüli helyzetből adódó azonnali feladatok (max. 15%) | F18: =Kiskutas!F12 -> működőképeség biztosítása | I18: =Kiskutas!I12 -> Kiskutas | J18: =SUM(O18:AC18) -> 1391.9 | L18: =Kiskutas!L12 -> 44562 | M18: =Kiskutas!M12 -> 50040 | O18: =Kiskutas!O12 -> 449 | P18: =Kiskutas!P12 -> 67.35 | Q18: =Kiskutas!Q12 -> 67.35 | R18: =Kiskutas!R12 -> 67.35 | S18: =Kiskutas!S12 -> 67.35 | T18: =Kiskutas!T12 -> 67.35 | U18: =Kiskutas!U12 -> 67.35 | V18: =Kiskutas!V12 -> 67.35 | ... AC18: =Kiskutas!AC12 -> 67.35
A19: =Nagykutas!A12 -> 1 | C19: =Nagykutas!C12 -> Nagykutas | D19: =Nagykutas!D12 -> Rendkívüli helyzetből adódó azonnali feladatok (max. 15%) | F19: =Nagykutas!F12 -> működőképeség biztosítása | I19: =Nagykutas!I12 -> Nagykutas | J19: =SUM(O19:AC19) -> 2819.8 | L19: =Nagykutas!L12 -> 44562 | M19: =Nagykutas!M12 -> 50040 | O19: =Nagykutas!O12 -> 245.2 | P19: =Nagykutas!P12 -> 183.9 | Q19: =Nagykutas!Q12 -> 183.9 | R19: =Nagykutas!R12 -> 183.9 | S19: =Nagykutas!S12 -> 183.9 | T19: =Nagykutas!T12 -> 183.9 | U19: =Nagykutas!U12 -> 183.9 | V19: =Nagykutas!V12 -> 183.9 | ... AC19: =Nagykutas!AC12 -> 183.9
A20: =Sárhida!A12 -> 1 | C20: =Sárhida!C12 -> Sárhida | D20: =Sárhida!D12 -> Rendkívüli helyzetből adódó azonnali feladatok (max. 15%) | F20: =Sárhida!F12 -> működőképeség biztosítása | I20: =Sárhida!I12 -> Sárhida | J20: =SUM(O20:AC20) -> 2155.5 | L20: =Sárhida!L12 -> 44562 | M20: =Sárhida!M12 -> 50040 | O20: =Sárhida!O12 -> 143.7 | P20: =Sárhida!P12 -> 143.7 | Q20: =Sárhida!Q12 -> 143.7 | R20: =Sárhida!R12 -> 143.7 | S20: =Sárhida!S12 -> 143.7 | T20: =Sárhida!T12 -> 143.7 | U20: =Sárhida!U12 -> 143.7 | V20: =Sárhida!V12 -> 143.7 | ... AC20: =Sárhida!AC12 -> 143.7
A21: =Teskánd!A12 -> 1 | C21: =Teskánd!C12 -> Teskánd | D21: =Teskánd!D12 -> Rendkívüli helyzetből adódó azonnali feladatok (max. 15%) | F21: =Teskánd!F12 -> működőképeség biztosítása | I21: =Teskánd!I12 -> Teskánd | J21: =SUM(O21:AC21) -> 6522.75 | L21: =Teskánd!L12 -> 44562 | M21: =Teskánd!M12 -> 50040 | O21: =Teskánd!O12 -> 434.85 | P21: =Teskánd!P12 -> 434.85 | Q21: =Teskánd!Q12 -> 434.85 | R21: =Teskánd!R12 -> 434.85 | S21: =Teskánd!S12 -> 434.85 | T21: =Teskánd!T12 -> 434.85 | U21: =Teskánd!U12 -> 434.85 | V21: =Teskánd!V12 -> 434.85 | ... AC21: =Teskánd!AC12 -> 434.85
A22: =Bagod!A12 -> 1 | C22: =Bagod!C12 -> Bagod | D22: =Bagod!D12 -> Rendkívüli helyzetből adódó azonnali feladatok (max. 15%) | F22: =Bagod!F12 -> működőképeség biztosítása | I22: =Bagod!I12 -> Bagod | J22: =SUM(O22:AC22) -> 9602.5 | L22: =Bagod!L12 -> 44562 | M22: =Bagod!M12 -> 50040 | O22: =Bagod!O12 -> 835 | P22: =Bagod!P12 -> 626.25 | Q22: =Bagod!Q12 -> 626.25 | R22: =Bagod!R12 -> 626.25 | S22: =Bagod!S12 -> 626.25 | T22: =Bagod!T12 -> 626.25 | U22: =Bagod!U12 -> 626.25 | V22: =Bagod!V12 -> 626.25 | ... AC22: =Bagod!AC12 -> 626.25
A23: =Boncodfölde!A12 -> 1 | C23: =Boncodfölde!C12 -> Boncodfölde | D23: =Boncodfölde!D12 -> Rendkívüli helyzetből adódó azonnali feladatok (max. 15%) | F23: =Boncodfölde!F12 -> működőképeség biztosítása | I23: =Boncodfölde!I12 -> Boncodfölde | J23: =SUM(O23:AC23) -> 3797.3 | L23: =Boncodfölde!L12 -> 44562 | M23: =Boncodfölde!M12 -> 50040 | O23: =Boncodfölde!O12 -> 330.2 | P23: =Boncodfölde!P12 -> 247.65 | Q23: =Boncodfölde!Q12 -> 247.65 | R23: =Boncodfölde!R12 -> 247.65 | S23: =Boncodfölde!S12 -> 247.65 | T23: =Boncodfölde!T12 -> 247.65 | U23: =Boncodfölde!U12 -> 247.65 | V23: =Boncodfölde!V12 -> 247.65 | ... AC23: =Boncodfölde!AC12 -> 247.65
A24: =Hagyárosbörönd!A12 -> 1 | C24: =Hagyárosbörönd!C12 -> Hagyárosbörönd | D24: =Hagyárosbörönd!D12 -> Rendkívüli helyzetből adódó azonnali feladatok (max. 15%) | F24: =Hagyárosbörönd!F12 -> működőképeség biztosítása | I24: =Hagyárosbörönd!I12 -> Hagyárosbörönd | J24: =SUM(O24:AC24) -> 1996.4 | L24: =Hagyárosbörönd!L12 -> 44562 | M24: =Hagyárosbörönd!M12 -> 50040 | O24: =Hagyárosbörönd!O12 -> 644 | P24: =Hagyárosbörönd!P12 -> 96.6 | Q24: =Hagyárosbörönd!Q12 -> 96.6 | R24: =Hagyárosbörönd!R12 -> 96.6 | S24: =Hagyárosbörönd!S12 -> 96.6 | T24: =Hagyárosbörönd!T12 -> 96.6 | U24: =Hagyárosbörönd!U12 -> 96.6 | V24: =Hagyárosbörönd!V12 -> 96.6 | ... AC24: =Hagyárosbörönd!AC12 -> 96.6
A25: =Kávás!A12 -> 1 | C25: =Kávás!C12 -> Kávás | D25: =Kávás!D12 -> Rendkívüli helyzetből adódó azonnali feladatok (max.15%) | F25: =Kávás!F12 -> működőképeség biztosítása | I25: =Kávás!I12 -> Kávás | J25: =SUM(O25:AC25) -> 2191.7 | L25: =Kávás!L12 -> 44562 | M25: =Kávás!M12 -> 50040 | O25: =Kávás!O12 -> 707 | P25: =Kávás!P12 -> 106.05 | Q25: =Kávás!Q12 -> 106.05 | R25: =Kávás!R12 -> 106.05 | S25: =Kávás!S12 -> 106.05 | T25: =Kávás!T12 -> 106.05 | U25: =Kávás!U12 -> 106.05 | V25: =Kávás!V12 -> 106.05 | ... AC25: =Kávás!AC12 -> 106.05
A26: =Zalaboldogfa!A12 -> 1 | C26: =Zalaboldogfa!C12 -> Zalaboldogfa | D26: =Zalaboldogfa!D12 -> Rendkívüli helyzetből adódó azonnali feladatok (max. 15%) | F26: =Zalaboldogfa!F12 -> működőképeség biztosítása | I26: =Zalaboldogfa!I12 -> Zalaboldogfa | J26: =SUM(O26:AC26) -> 3243 | L26: =Zalaboldogfa!L12 -> 44562 | M26: =Zalaboldogfa!M12 -> 50040 | O26: =Zalaboldogfa!O12 -> 282 | P26: =Zalaboldogfa!P12 -> 211.5 | Q26: =Zalaboldogfa!Q12 -> 211.5 | R26: =Zalaboldogfa!R12 -> 211.5 | S26: =Zalaboldogfa!S12 -> 211.5 | T26: =Zalaboldogfa!T12 -> 211.5 | U26: =Zalaboldogfa!U12 -> 211.5 | V26: =Zalaboldogfa!V12 -> 211.5 | ... AC26: =Zalaboldogfa!AC12 -> 211.5
A27: =Zalaszentgyörgy!A12 -> 1 | C27: =Zalaszentgyörgy!C12 -> Zalaszentgyörgy | D27: =Zalaszentgyörgy!D12 -> Rendkívüli helyzetből adódó azonnali feladatok (max. 15%) | F27: =Zalaszentgyörgy!F12 -> működőképeség biztosítása | I27: =Zalaszentgyörgy!I12 -> Zalaszentgyörgy | J27: =SUM(O27:AC27) -> 2277 | L27: =Zalaszentgyörgy!L12 -> 44562 | M27: =Zalaszentgyörgy!M12 -> 50040 | O27: =Zalaszentgyörgy!O12 -> 198 | P27: =Zalaszentgyörgy!P12 -> 148.5 | Q27: =Zalaszentgyörgy!Q12 -> 148.5 | R27: =Zalaszentgyörgy!R12 -> 148.5 | S27: =Zalaszentgyörgy!S12 -> 148.5 | T27: =Zalaszentgyörgy!T12 -> 148.5 | U27: =Zalaszentgyörgy!U12 -> 148.5 | V27: =Zalaszentgyörgy!V12 -> 148.5 | ... AC27: =Zalaszentgyörgy!AC12 -> 148.5
A28: =Csonkahegyhát!A12 -> 1 | C28: =Csonkahegyhát!C12 -> Csonkahegyhát | D28: =Csonkahegyhát!D12 -> Rendkívüli helyzetből adódó azonnali feladatok (max. 15%) | F28: =Csonkahegyhát!F12 -> működőképeség biztosítása | I28: =Csonkahegyhát!I12 -> Csonkahegyhát | J28: =SUM(O28:AC28) -> 1060.2 | L28: =Csonkahegyhát!L12 -> 44562 | M28: =Csonkahegyhát!M12 -> 50040 | O28: =Csonkahegyhát!O12 -> 342 | P28: =Csonkahegyhát!P12 -> 51.3 | Q28: =Csonkahegyhát!Q12 -> 51.3 | R28: =Csonkahegyhát!R12 -> 51.3 | S28: =Csonkahegyhát!S12 -> 51.3 | T28: =Csonkahegyhát!T12 -> 51.3 | U28: =Csonkahegyhát!U12 -> 51.3 | V28: =Csonkahegyhát!V12 -> 51.3 | ... AC28: =Csonkahegyhát!AC12 -> 51.3
A29: =Dobronhegy!A12 -> 1 | C29: =Dobronhegy!C12 -> Dobronhegy | D29: =Dobronhegy!D12 -> Rendkívüli helyzetből adódó azonnali feladatok (max. 15%) | F29: =Dobronhegy!F12 -> működőképeség biztosítása | I29: =Dobronhegy!I12 -> Dobronhegy | J29: =SUM(O29:AC29) -> 468.1 | L29: =Dobronhegy!L12 -> 44562 | M29: =Dobronhegy!M12 -> 50040 | O29: =Dobronhegy!O12 -> 151 | P29: =Dobronhegy!P12 -> 22.65 | Q29: =Dobronhegy!Q12 -> 22.65 | R29: =Dobronhegy!R12 -> 22.65 | S29: =Dobronhegy!S12 -> 22.65 | T29: =Dobronhegy!T12 -> 22.65 | U29: =Dobronhegy!U12 -> 22.65 | V29: =Dobronhegy!V12 -> 22.65 | ... AC29: =Dobronhegy!AC12 -> 22.65
A30: =Milejszeg!A12 -> 1 | C30: =Milejszeg!C12 -> Milejszeg | D30: =Milejszeg!D12 -> Rendkívüli helyzetből adódó azonnali feladatok (max. 15%) | F30: =Milejszeg!F12 -> működőképeség biztosítása | I30: =Milejszeg!I12 -> Milejszeg | J30: =SUM(O30:AC30) -> 1174.9 | L30: =Milejszeg!L12 -> 44562 | M30: =Milejszeg!M12 -> 50040 | O30: =Milejszeg!O12 -> 379 | P30: =Milejszeg!P12 -> 56.85 | Q30: =Milejszeg!Q12 -> 56.85 | R30: =Milejszeg!R12 -> 56.85 | S30: =Milejszeg!S12 -> 56.85 | T30: =Milejszeg!T12 -> 56.85 | U30: =Milejszeg!U12 -> 56.85 | V30: =Milejszeg!V12 -> 56.85 | ... AC30: =Milejszeg!AC12 -> 56.85
A31: =Németfalu!A12 -> 1 | C31: =Németfalu!C12 -> Németfalu | D31: =Németfalu!D12 -> Rendkívüli helyzetből adódó azonnali feladatok (max. 15%) | F31: =Németfalu!F12 -> működőképeség biztosítása | I31: =Németfalu!I12 -> Németfalu | J31: =SUM(O31:AC31) -> 998.2 | L31: =Németfalu!L12 -> 44562 | M31: =Németfalu!M12 -> 50040 | O31: =Németfalu!O12 -> 322 | P31: =Németfalu!P12 -> 48.3 | Q31: =Németfalu!Q12 -> 48.3 | R31: =Németfalu!R12 -> 48.3 | S31: =Németfalu!S12 -> 48.3 | T31: =Németfalu!T12 -> 48.3 | U31: =Németfalu!U12 -> 48.3 | V31: =Németfalu!V12 -> 48.3 | ... AC31: =Németfalu!AC12 -> 48.3
A32: =Pálfiszeg!A12 -> 1 | C32: =Pálfiszeg!C12 -> Pálfiszeg | D32: =Pálfiszeg!D12 -> Rendkívüli helyzetből adódó azonnali feladatok (max. 15%) | F32: =Pálfiszeg!F12 -> működőképeség biztosítása | I32: =Pálfiszeg!I12 -> Pálfiszeg | J32: =SUM(O32:AC32) -> 508.4 | L32: =Pálfiszeg!L12 -> 44562 | M32: =Pálfiszeg!M12 -> 50040 | O32: =Pálfiszeg!O12 -> 164 | P32: =Pálfiszeg!P12 -> 24.6 | Q32: =Pálfiszeg!Q12 -> 24.6 | R32: =Pálfiszeg!R12 -> 24.6 | S32: =Pálfiszeg!S12 -> 24.6 | T32: =Pálfiszeg!T12 -> 24.6 | U32: =Pálfiszeg!U12 -> 24.6 | V32: =Pálfiszeg!V12 -> 24.6 | ... AC32: =Pálfiszeg!AC12 -> 24.6
A33: =Kustánszeg!A12 -> 1 | C33: =Kustánszeg!C12 -> Kustánszeg | D33: =Kustánszeg!D12 -> Rendkívüli helyzetből adódó azonnali feladatok (max. 5%) | F33: =Kustánszeg!F12 -> működőképeség biztosítása | I33: =Kustánszeg!I12 -> Kustánszeg | J33: =SUM(O33:AC33) -> 6356.25 | L33: =Kustánszeg!L12 -> 44562 | M33: =Kustánszeg!M12 -> 50040 | O33: =Kustánszeg!O12 -> 423.75 | P33: =Kustánszeg!P12 -> 423.75 | Q33: =Kustánszeg!Q12 -> 423.75 | R33: =Kustánszeg!R12 -> 423.75 | S33: =Kustánszeg!S12 -> 423.75 | T33: =Kustánszeg!T12 -> 423.75 | U33: =Kustánszeg!U12 -> 423.75 | V33: =Kustánszeg!V12 -> 423.75 | ... AC33: =Kustánszeg!AC12 -> 423.75
A34: =Nagypáli!A12 -> 1 | C34: =Nagypáli!C12 -> Nagypáli | D34: =Nagypáli!D12 -> Rendkívüli helyzetből adódó azonnali feladatok (max. 15%) | F34: =Nagypáli!F12 -> működőképeség biztosítása | I34: =Nagypáli!I12 -> Nagypáli | J34: =SUM(O34:AC34) -> 4167 | L34: =Nagypáli!L12 -> 44562 | M34: =Nagypáli!M12 -> 50040 | O34: =Nagypáli!O12 -> 277.8 | P34: =Nagypáli!P12 -> 277.8 | Q34: =Nagypáli!Q12 -> 277.8 | R34: =Nagypáli!R12 -> 277.8 | S34: =Nagypáli!S12 -> 277.8 | T34: =Nagypáli!T12 -> 277.8 | U34: =Nagypáli!U12 -> 277.8 | V34: =Nagypáli!V12 -> 277.8 | ... AC34: =Nagypáli!AC12 -> 277.8
A35: =Kispáli!A12 -> 1 | C35: =Kispáli!C12 -> Kispáli | D35: =Kispáli!D12 -> Rendkívüli helyzetből adódó azonnali feladatok (max.15%) | F35: =Kispáli!F12 -> működőképeség biztosítása | I35: =Kispáli!I12 -> Kispáli | J35: =SUM(O35:AC35) -> 3870 | L35: =Kispáli!L12 -> 44562 | M35: =Kispáli!M12 -> 50040 | O35: =Kispáli!O12 -> 258 | P35: =Kispáli!P12 -> 258 | Q35: =Kispáli!Q12 -> 258 | R35: =Kispáli!R12 -> 258 | S35: =Kispáli!S12 -> 258 | T35: =Kispáli!T12 -> 258 | U35: =Kispáli!U12 -> 258 | V35: =Kispáli!V12 -> 258 | ... AC35: =Kispáli!AC12 -> 258
A36: =Zalaegerszeg!A12 -> 1 | C36: =Zalaegerszeg!C12 -> Zalaegerszeg | D36: =Zalaegerszeg!D12 -> Rendkívüli helyzetből adódó azonnali feladatok (max. 15%) | F36: =Zalaegerszeg!F12 -> működőképeség biztosítása | I36: =Zalaegerszeg!I12 -> Zalaegerszeg | J36: =SUM(O36:AC36) -> 277000 | L36: =Zalaegerszeg!L12 -> 44562 | M36: =Zalaegerszeg!M12 -> 50040 | O36: =Zalaegerszeg!O12 -> 23300 | P36: =Zalaegerszeg!P12 -> 22000 | Q36: =Zalaegerszeg!Q12 -> 22000 | R36: =Zalaegerszeg!R12 -> 17475 | S36: =Zalaegerszeg!S12 -> 17475 | T36: =Zalaegerszeg!T12 -> 17475 | U36: =Zalaegerszeg!U12 -> 17475 | V36: =Zalaegerszeg!V12 -> 17475 | ... AC36: =Zalaegerszeg!AC12 -> 17475
A37: =Zalaegerszeg!A13 -> 2 | C37: =Zalaegerszeg!C13 -> Zalaegerszeg | D37: =Zalaegerszeg!D13 -> MEKH igazgatási díjak | I37: =Zalaegerszeg!I13 -> Zalaegerszeg | J37: =SUM(O37:AC37) -> 400 | L37: =Zalaegerszeg!L13 -> 44562 | M37: =Zalaegerszeg!M13 -> 44926 | O37: =Zalaegerszeg!O13 -> 400
C38: =Zalaegerszeg!C14 -> Zalaegerszeg | D38: =Zalaegerszeg!D14 -> MEKH igazgatási díjak | I38: =Zalaegerszeg!I14 -> Zalaegerszeg | J38: =SUM(O38:AC38) -> 800 | L38: =Zalaegerszeg!L14 -> 44927 | M38: =Zalaegerszeg!M14 -> 45657 | P38: =Zalaegerszeg!P14 -> 400 | Q38: =Zalaegerszeg!Q14 -> 400
B39: MÉLYFÚRÁSÚ KÚT, HAGYOMÁNYOS ÁTMÉRŐVEL
B40: Épület, építmény
A41: =Zalaegerszeg!A17 -> 0 | C41: =Zalaegerszeg!C17 -> Zalaegerszeg … kút | D41: =Zalaegerszeg!D17 -> melléfúrásos kútrekonstrukció (4 db) tervezés | E41: =Zalaegerszeg!E17 -> Az objektum kora, műszaki állapota miatt fennáll a meghibásodás veszélye. Feladat szükségessége | F41: =Zalaegerszeg!F17 -> A felhasználók folyamatos vízellátásának biztosítására | G41: =Zalaegerszeg!G17 -> Az elvárt vízigényeket kielégítő megfelelő műszaki állapotú vízbázis. | I41: =Zalaegerszeg!I17 -> Zalaegerszeg | J41: =SUM(O41:AC41) -> 1500 | L41: =Zalaegerszeg!L17 -> 45658 | M41: =Zalaegerszeg!M17 -> 46022 | N41: =Zalaegerszeg!N17 -> közép | R41: =Zalaegerszeg!R17 -> 1500
A42: =Zalaegerszeg!A18 -> 0 | C42: =Zalaegerszeg!C18 -> Teskánd T1 kút | D42: =Zalaegerszeg!D18 -> eltömedékelés | E42: =Zalaegerszeg!E18 -> Az objektum kora, műszaki állapota miatt fennáll a meghibásodás veszélye. Feladat szükségessége | F42: =Zalaegerszeg!F18 -> A felhasználók folyamatos vízellátásának biztosítására | G42: =Zalaegerszeg!G18 -> Az elvárt vízigényeket kielégítő megfelelő műszaki állapotú vízbázis. | I42: =Zalaegerszeg!I18 -> Zalaegerszeg | J42: =SUM(O42:AC42) -> 1500 | L42: =Zalaegerszeg!L18 -> 45658 | M42: =Zalaegerszeg!M18 -> 46022 | N42: =Zalaegerszeg!N18 -> közép | R42: =Zalaegerszeg!R18 -> 1500
A43: =Zalaegerszeg!A19 -> 0 | C43: =Zalaegerszeg!C19 -> Zalaegerszeg D1 kút | D43: =Zalaegerszeg!D19 -> eltömedékelés | E43: =Zalaegerszeg!E19 -> Az objektum kora, műszaki állapota miatt fennáll a meghibásodás veszélye. Feladat szükségessége | F43: =Zalaegerszeg!F19 -> A felhasználók folyamatos vízellátásának biztosítására | G43: =Zalaegerszeg!G19 -> Az elvárt vízigényeket kielégítő megfelelő műszaki állapotú vízbázis. | I43: =Zalaegerszeg!I19 -> Zalaegerszeg | J43: =SUM(O43:AC43) -> 1500 | L43: =Zalaegerszeg!L19 -> 45658 | M43: =Zalaegerszeg!M19 -> 46022 | N43: =Zalaegerszeg!N19 -> közép | R43: =Zalaegerszeg!R19 -> 1500
A44: =Zalaegerszeg!A20 -> 0 | C44: =Zalaegerszeg!C20 -> Zalaegerszeg … kút | D44: =Zalaegerszeg!D20 -> melléfúrásos kútrekonstrukció (4 db) | E44: =Zalaegerszeg!E20 -> Az objektum kora, műszaki állapota miatt fennáll a meghibásodás veszélye. Feladat szükségessége | F44: =Zalaegerszeg!F20 -> A felhasználók folyamatos vízellátásának biztosítására | G44: =Zalaegerszeg!G20 -> Az elvárt vízigényeket kielégítő megfelelő műszaki állapotú vízbázis. | I44: =Zalaegerszeg!I20 -> Zalaegerszeg | J44: =SUM(O44:AC44) -> 70000 | L44: =Zalaegerszeg!L20 -> 46023 | M44: =Zalaegerszeg!M20 -> 46387 | N44: =Zalaegerszeg!N20 -> közép | S44: =Zalaegerszeg!S20 -> 70000
C45: =Zalaegerszeg!C21 -> Zalaegerszeg … kút | D45: =Zalaegerszeg!D21 -> melléfúrásos kútrekonstrukció (4 db) | E45: =Zalaegerszeg!E21 -> Az objektum kora, műszaki állapota miatt fennáll a meghibásodás veszélye. Feladat szükségessége | F45: =Zalaegerszeg!F21 -> A felhasználók folyamatos vízellátásának biztosítására | G45: =Zalaegerszeg!G21 -> Az elvárt vízigényeket kielégítő megfelelő műszaki állapotú vízbázis. | I45: =Zalaegerszeg!I21 -> Zalaegerszeg | J45: =SUM(O45:AC45) -> 70000 | L45: =Zalaegerszeg!L21 -> 46388 | M45: =Zalaegerszeg!M21 -> 46752 | N45: =Zalaegerszeg!N21 -> hosszú | T45: =Zalaegerszeg!T21 -> 70000
A46: =Zalaegerszeg!A22 -> 0 | C46: =Zalaegerszeg!C22 -> Zalaegerszeg … kút | D46: =Zalaegerszeg!D22 -> kútfelújítás | E46: =Zalaegerszeg!E22 -> Az objektum kora, műszaki állapota miatt fennáll a meghibásodás veszélye. Feladat szükségessége | F46: =Zalaegerszeg!F22 -> A felhasználók folyamatos vízellátásának biztosítására | G46: =Zalaegerszeg!G22 -> Az elvárt vízigényeket kielégítő megfelelő műszaki állapotú vízbázis. | I46: =Zalaegerszeg!I22 -> Zalaegerszeg | J46: =SUM(O46:AC46) -> 6000 | L46: =Zalaegerszeg!L22 -> 46023 | M46: =Zalaegerszeg!M22 -> 46387 | N46: =Zalaegerszeg!N22 -> közép | S46: =Zalaegerszeg!S22 -> 6000
A47: =Zalaegerszeg!A23 -> 0 | C47: =Zalaegerszeg!C23 -> Teskánd 16/A kút | D47: =Zalaegerszeg!D23 -> eltömedékelés | E47: =Zalaegerszeg!E23 -> Az objektum kora, műszaki állapota miatt fennáll a meghibásodás veszélye. Feladat szükségessége | F47: =Zalaegerszeg!F23 -> A felhasználók folyamatos vízellátásának biztosítására | G47: =Zalaegerszeg!G23 -> Az elvárt vízigényeket kielégítő megfelelő műszaki állapotú vízbázis. | I47: =Zalaegerszeg!I23 -> Zalaegerszeg | J47: =SUM(O47:AC47) -> 1700 | L47: =Zalaegerszeg!L23 -> 46388 | M47: =Zalaegerszeg!M23 -> 46752 | N47: =Zalaegerszeg!N23 -> hosszú | T47: =Zalaegerszeg!T23 -> 1700
A48: =Zalaegerszeg!A24 -> 0 | C48: =Zalaegerszeg!C24 -> Zalaegerszeg … kút | D48: =Zalaegerszeg!D24 -> kútfelújítás | E48: =Zalaegerszeg!E24 -> Az objektum kora, műszaki állapota miatt fennáll a meghibásodás veszélye. Feladat szükségessége | F48: =Zalaegerszeg!F24 -> A felhasználók folyamatos vízellátásának biztosítására | G48: =Zalaegerszeg!G24 -> Az elvárt vízigényeket kielégítő megfelelő műszaki állapotú vízbázis. | I48: =Zalaegerszeg!I24 -> Zalaegerszeg | J48: =SUM(O48:AC48) -> 12000 | L48: =Zalaegerszeg!L24 -> 47119 | M48: =Zalaegerszeg!M24 -> 49309 | N48: =Zalaegerszeg!N24 -> hosszú | V48: =Zalaegerszeg!V24 -> 6000 | AA48: =Zalaegerszeg!AA24 -> 6000
B49: Gép, berendezés
A50: =Zalaegerszeg!A26 -> 0 | C50: =Zalaegerszeg!C26 -> Zalaegerszeg … kút | D50: =Zalaegerszeg!D26 -> közmű gépészet felújítása (4 db) | E50: =Zalaegerszeg!E26 -> A szivattyú kora, műszaki állapota miatt fennáll a meghibásodás veszélye. | F50: =Zalaegerszeg!F26 -> A folyamatos víztermelés biztosítása. | G50: =Zalaegerszeg!G26 -> A Q–H diagramhoz illeszkedő energiahatékony szivattyú üzemeltetése. | I50: =Zalaegerszeg!I26 -> Zalaegerszeg | J50: =SUM(O50:AC50) -> 4000 | L50: =Zalaegerszeg!L26 -> 46023 | M50: =Zalaegerszeg!M26 -> 46387 | N50: =Zalaegerszeg!N26 -> közép | S50: =Zalaegerszeg!S26 -> 4000
C51: =Zalaegerszeg!C27 -> Zalaegerszeg … kút | D51: =Zalaegerszeg!D27 -> közmű gépészet felújítása (4 db) | E51: =Zalaegerszeg!E27 -> A szivattyú kora, műszaki állapota miatt fennáll a meghibásodás veszélye. | F51: =Zalaegerszeg!F27 -> A folyamatos víztermelés biztosítása. | G51: =Zalaegerszeg!G27 -> A Q–H diagramhoz illeszkedő energiahatékony szivattyú üzemeltetése. | I51: =Zalaegerszeg!I27 -> Zalaegerszeg | J51: =SUM(O51:AC51) -> 4000 | L51: =Zalaegerszeg!L27 -> 46388 | M51: =Zalaegerszeg!M27 -> 46752 | N51: =Zalaegerszeg!N27 -> hosszú | T51: =Zalaegerszeg!T27 -> 4000
A52: =Zalaegerszeg!A28 -> 0 | C52: =Zalaegerszeg!C28 -> Zalaegerszeg … kút | D52: =Zalaegerszeg!D28 -> szivattyú javítás és csere | E52: =Zalaegerszeg!E28 -> A szivattyú kora, műszaki állapota miatt fennáll a meghibásodás veszélye. | F52: =Zalaegerszeg!F28 -> A folyamatos víztermelés biztosítása. | G52: =Zalaegerszeg!G28 -> A Q–H diagramhoz illeszkedő energiahatékony szivattyú üzemeltetése. | I52: =Zalaegerszeg!I28 -> Zalaegerszeg | J52: =SUM(O52:AC52) -> 601 | L52: =Zalaegerszeg!L28 -> 46388 | M52: =Zalaegerszeg!M28 -> 46752 | N52: =Zalaegerszeg!N28 -> hosszú | T52: =Zalaegerszeg!T28 -> 601
C53: =Zalaegerszeg!C29 -> Zalaegerszeg … kút | D53: =Zalaegerszeg!D29 -> közmű gépészet felújítása | E53: =Zalaegerszeg!E29 -> A szerelvények és vezetékek, műszaki állapota miatt fennáll a meghibásodás veszélye. | F53: =Zalaegerszeg!F29 -> A folyamatos víztermelés biztosítása. | G53: =Zalaegerszeg!G29 -> A gépészeti funkciókat kifogástalanul ellátó szerelvények. | I53: =Zalaegerszeg!I29 -> Zalaegerszeg | J53: =SUM(O53:AC53) -> 2000 | L53: =Zalaegerszeg!L29 -> 46388 | M53: =Zalaegerszeg!M29 -> 46752 | N53: =Zalaegerszeg!N29 -> hosszú | T53: =Zalaegerszeg!T29 -> 2000
A54: =Zalaegerszeg!A30 -> 0 | C54: =Zalaegerszeg!C30 -> Zalaegerszeg … kút | D54: =Zalaegerszeg!D30 -> szivattyú javítás és csere | E54: =Zalaegerszeg!E30 -> A szivattyú kora, műszaki állapota miatt fennáll a meghibásodás veszélye. | F54: =Zalaegerszeg!F30 -> A folyamatos víztermelés biztosítása. | G54: =Zalaegerszeg!G30 -> A Q–H diagramhoz illeszkedő energiahatékony szivattyú üzemeltetése. | I54: =Zalaegerszeg!I30 -> Zalaegerszeg | J54: =SUM(O54:AC54) -> 601 | L54: =Zalaegerszeg!L30 -> 46753 | M54: =Zalaegerszeg!M30 -> 47118 | N54: =Zalaegerszeg!N30 -> hosszú | U54: =Zalaegerszeg!U30 -> 601
C55: =Zalaegerszeg!C31 -> Zalaegerszeg … kút | D55: =Zalaegerszeg!D31 -> közmű gépészet felújítása | E55: =Zalaegerszeg!E31 -> A szerelvények és vezetékek, műszaki állapota miatt fennáll a meghibásodás veszélye. | F55: =Zalaegerszeg!F31 -> A folyamatos víztermelés biztosítása. | G55: =Zalaegerszeg!G31 -> A gépészeti funkciókat kifogástalanul ellátó szerelvények. | I55: =Zalaegerszeg!I31 -> Zalaegerszeg | J55: =SUM(O55:AC55) -> 2000 | L55: =Zalaegerszeg!L31 -> 46753 | M55: =Zalaegerszeg!M31 -> 47118 | N55: =Zalaegerszeg!N31 -> hosszú | U55: =Zalaegerszeg!U31 -> 2000
A56: =Zalaegerszeg!A32 -> 0 | C56: =Zalaegerszeg!C32 -> Zalaegerszeg … kút | D56: =Zalaegerszeg!D32 -> szivattyú javítás és csere | E56: =Zalaegerszeg!E32 -> A szivattyú kora, műszaki állapota miatt fennáll a meghibásodás veszélye. | F56: =Zalaegerszeg!F32 -> A folyamatos víztermelés biztosítása. | G56: =Zalaegerszeg!G32 -> A Q–H diagramhoz illeszkedő energiahatékony szivattyú üzemeltetése. | I56: =Zalaegerszeg!I32 -> Zalaegerszeg | J56: =SUM(O56:AC56) -> 601 | L56: =Zalaegerszeg!L32 -> 47119 | M56: =Zalaegerszeg!M32 -> 47483 | N56: =Zalaegerszeg!N32 -> hosszú | V56: =Zalaegerszeg!V32 -> 601
C57: =Zalaegerszeg!C33 -> Zalaegerszeg … kút | D57: =Zalaegerszeg!D33 -> közmű gépészet felújítása | E57: =Zalaegerszeg!E33 -> A szerelvények és vezetékek, műszaki állapota miatt fennáll a meghibásodás veszélye. | F57: =Zalaegerszeg!F33 -> A folyamatos víztermelés biztosítása. | G57: =Zalaegerszeg!G33 -> A gépészeti funkciókat kifogástalanul ellátó szerelvények. | I57: =Zalaegerszeg!I33 -> Zalaegerszeg | J57: =SUM(O57:AC57) -> 2000 | L57: =Zalaegerszeg!L33 -> 47119 | M57: =Zalaegerszeg!M33 -> 47483 | N57: =Zalaegerszeg!N33 -> hosszú | V57: =Zalaegerszeg!V33 -> 2000
A58: =Zalaegerszeg!A34 -> 0 | C58: =Zalaegerszeg!C34 -> Zalaegerszeg … kút | D58: =Zalaegerszeg!D34 -> szivattyú javítás és csere | E58: =Zalaegerszeg!E34 -> A szivattyú kora, műszaki állapota miatt fennáll a meghibásodás veszélye. | F58: =Zalaegerszeg!F34 -> A folyamatos víztermelés biztosítása. | G58: =Zalaegerszeg!G34 -> A Q–H diagramhoz illeszkedő energiahatékony szivattyú üzemeltetése. | I58: =Zalaegerszeg!I34 -> Zalaegerszeg | J58: =SUM(O58:AC58) -> 601 | L58: =Zalaegerszeg!L34 -> 47484 | M58: =Zalaegerszeg!M34 -> 47848 | N58: =Zalaegerszeg!N34 -> hosszú | W58: =Zalaegerszeg!W34 -> 601
C59: =Zalaegerszeg!C35 -> Zalaegerszeg … kút | D59: =Zalaegerszeg!D35 -> közmű gépészet felújítása | E59: =Zalaegerszeg!E35 -> A szerelvények és vezetékek, műszaki állapota miatt fennáll a meghibásodás veszélye. | F59: =Zalaegerszeg!F35 -> A folyamatos víztermelés biztosítása. | G59: =Zalaegerszeg!G35 -> A gépészeti funkciókat kifogástalanul ellátó szerelvények. | I59: =Zalaegerszeg!I35 -> Zalaegerszeg | J59: =SUM(O59:AC59) -> 2000 | L59: =Zalaegerszeg!L35 -> 47484 | M59: =Zalaegerszeg!M35 -> 47848 | N59: =Zalaegerszeg!N35 -> hosszú | W59: =Zalaegerszeg!W35 -> 2000
A60: =Zalaegerszeg!A36 -> 0 | C60: =Zalaegerszeg!C36 -> Zalaegerszeg … kút | D60: =Zalaegerszeg!D36 -> szivattyú javítás és csere | E60: =Zalaegerszeg!E36 -> A szivattyú kora, műszaki állapota miatt fennáll a meghibásodás veszélye. | F60: =Zalaegerszeg!F36 -> A folyamatos víztermelés biztosítása. | G60: =Zalaegerszeg!G36 -> A Q–H diagramhoz illeszkedő energiahatékony szivattyú üzemeltetése. | I60: =Zalaegerszeg!I36 -> Zalaegerszeg | J60: =SUM(O60:AC60) -> 601 | L60: =Zalaegerszeg!L36 -> 47849 | M60: =Zalaegerszeg!M36 -> 48213 | N60: =Zalaegerszeg!N36 -> hosszú | X60: =Zalaegerszeg!X36 -> 601
C61: =Zalaegerszeg!C37 -> Zalaegerszeg … kút | D61: =Zalaegerszeg!D37 -> közmű gépészet felújítása | E61: =Zalaegerszeg!E37 -> A szerelvények és vezetékek, műszaki állapota miatt fennáll a meghibásodás veszélye. | F61: =Zalaegerszeg!F37 -> A folyamatos víztermelés biztosítása. | G61: =Zalaegerszeg!G37 -> A gépészeti funkciókat kifogástalanul ellátó szerelvények. | I61: =Zalaegerszeg!I37 -> Zalaegerszeg | J61: =SUM(O61:AC61) -> 2000 | L61: =Zalaegerszeg!L37 -> 47849 | M61: =Zalaegerszeg!M37 -> 48213 | N61: =Zalaegerszeg!N37 -> hosszú | X61: =Zalaegerszeg!X37 -> 2000
A62: =Zalaegerszeg!A38 -> 0 | C62: =Zalaegerszeg!C38 -> Zalaegerszeg … kút | D62: =Zalaegerszeg!D38 -> szivattyú javítás és csere | E62: =Zalaegerszeg!E38 -> A szivattyú kora, műszaki állapota miatt fennáll a meghibásodás veszélye. | F62: =Zalaegerszeg!F38 -> A folyamatos víztermelés biztosítása. | G62: =Zalaegerszeg!G38 -> A Q–H diagramhoz illeszkedő energiahatékony szivattyú üzemeltetése. | I62: =Zalaegerszeg!I38 -> Zalaegerszeg | J62: =SUM(O62:AC62) -> 601 | L62: =Zalaegerszeg!L38 -> 48214 | M62: =Zalaegerszeg!M38 -> 48579 | N62: =Zalaegerszeg!N38 -> hosszú | Y62: =Zalaegerszeg!Y38 -> 601
C63: =Zalaegerszeg!C39 -> Zalaegerszeg … kút | D63: =Zalaegerszeg!D39 -> közmű gépészet felújítása | E63: =Zalaegerszeg!E39 -> A szerelvények és vezetékek, műszaki állapota miatt fennáll a meghibásodás veszélye. | F63: =Zalaegerszeg!F39 -> A folyamatos víztermelés biztosítása. | G63: =Zalaegerszeg!G39 -> A gépészeti funkciókat kifogástalanul ellátó szerelvények. | I63: =Zalaegerszeg!I39 -> Zalaegerszeg | J63: =SUM(O63:AC63) -> 2000 | L63: =Zalaegerszeg!L39 -> 48214 | M63: =Zalaegerszeg!M39 -> 48579 | N63: =Zalaegerszeg!N39 -> hosszú | Y63: =Zalaegerszeg!Y39 -> 2000
A64: =Zalaegerszeg!A40 -> 0 | C64: =Zalaegerszeg!C40 -> Zalaegerszeg … kút | D64: =Zalaegerszeg!D40 -> szivattyú javítás és csere | E64: =Zalaegerszeg!E40 -> A szivattyú kora, műszaki állapota miatt fennáll a meghibásodás veszélye. | F64: =Zalaegerszeg!F40 -> A folyamatos víztermelés biztosítása. | G64: =Zalaegerszeg!G40 -> A Q–H diagramhoz illeszkedő energiahatékony szivattyú üzemeltetése. | I64: =Zalaegerszeg!I40 -> Zalaegerszeg | J64: =SUM(O64:AC64) -> 601 | L64: =Zalaegerszeg!L40 -> 48580 | M64: =Zalaegerszeg!M40 -> 48944 | N64: =Zalaegerszeg!N40 -> hosszú | Z64: =Zalaegerszeg!Z40 -> 601
C65: =Zalaegerszeg!C41 -> Zalaegerszeg … kút | D65: =Zalaegerszeg!D41 -> közmű gépészet felújítása | E65: =Zalaegerszeg!E41 -> A szerelvények és vezetékek, műszaki állapota miatt fennáll a meghibásodás veszélye. | F65: =Zalaegerszeg!F41 -> A folyamatos víztermelés biztosítása. | G65: =Zalaegerszeg!G41 -> A gépészeti funkciókat kifogástalanul ellátó szerelvények. | I65: =Zalaegerszeg!I41 -> Zalaegerszeg | J65: =SUM(O65:AC65) -> 2000 | L65: =Zalaegerszeg!L41 -> 48580 | M65: =Zalaegerszeg!M41 -> 48944 | N65: =Zalaegerszeg!N41 -> hosszú | Z65: =Zalaegerszeg!Z41 -> 2000
A66: =Zalaegerszeg!A42 -> 0 | C66: =Zalaegerszeg!C42 -> Zalaegerszeg … kút | D66: =Zalaegerszeg!D42 -> szivattyú javítás és csere | E66: =Zalaegerszeg!E42 -> A szivattyú kora, műszaki állapota miatt fennáll a meghibásodás veszélye. | F66: =Zalaegerszeg!F42 -> A folyamatos víztermelés biztosítása. | G66: =Zalaegerszeg!G42 -> A Q–H diagramhoz illeszkedő energiahatékony szivattyú üzemeltetése. | I66: =Zalaegerszeg!I42 -> Zalaegerszeg | J66: =SUM(O66:AC66) -> 601 | L66: =Zalaegerszeg!L42 -> 48945 | M66: =Zalaegerszeg!M42 -> 49309 | N66: =Zalaegerszeg!N42 -> hosszú | AA66: =Zalaegerszeg!AA42 -> 601
C67: =Zalaegerszeg!C43 -> Zalaegerszeg … kút | D67: =Zalaegerszeg!D43 -> közmű gépészet felújítása | E67: =Zalaegerszeg!E43 -> A szerelvények és vezetékek, műszaki állapota miatt fennáll a meghibásodás veszélye. | F67: =Zalaegerszeg!F43 -> A folyamatos víztermelés biztosítása. | G67: =Zalaegerszeg!G43 -> A gépészeti funkciókat kifogástalanul ellátó szerelvények. | I67: =Zalaegerszeg!I43 -> Zalaegerszeg | J67: =SUM(O67:AC67) -> 2000 | L67: =Zalaegerszeg!L43 -> 48945 | M67: =Zalaegerszeg!M43 -> 49309 | N67: =Zalaegerszeg!N43 -> hosszú | AA67: =Zalaegerszeg!AA43 -> 2000
A68: =Zalaegerszeg!A44 -> 0 | C68: =Zalaegerszeg!C44 -> Zalaegerszeg … kút | D68: =Zalaegerszeg!D44 -> szivattyú javítás és csere | E68: =Zalaegerszeg!E44 -> A szivattyú kora, műszaki állapota miatt fennáll a meghibásodás veszélye. | F68: =Zalaegerszeg!F44 -> A folyamatos víztermelés biztosítása. | G68: =Zalaegerszeg!G44 -> A Q–H diagramhoz illeszkedő energiahatékony szivattyú üzemeltetése. | I68: =Zalaegerszeg!I44 -> Zalaegerszeg | J68: =SUM(O68:AC68) -> 601 | L68: =Zalaegerszeg!L44 -> 49310 | M68: =Zalaegerszeg!M44 -> 49674 | N68: =Zalaegerszeg!N44 -> hosszú | AB68: =Zalaegerszeg!AB44 -> 601
C69: =Zalaegerszeg!C45 -> Zalaegerszeg … kút | D69: =Zalaegerszeg!D45 -> közmű gépészet felújítása | E69: =Zalaegerszeg!E45 -> A szerelvények és vezetékek, műszaki állapota miatt fennáll a meghibásodás veszélye. | F69: =Zalaegerszeg!F45 -> A folyamatos víztermelés biztosítása. | G69: =Zalaegerszeg!G45 -> A gépészeti funkciókat kifogástalanul ellátó szerelvények. | I69: =Zalaegerszeg!I45 -> Zalaegerszeg | J69: =SUM(O69:AC69) -> 2000 | L69: =Zalaegerszeg!L45 -> 49310 | M69: =Zalaegerszeg!M45 -> 49674 | N69: =Zalaegerszeg!N45 -> hosszú | AB69: =Zalaegerszeg!AB45 -> 2000
A70: =Zalaegerszeg!A46 -> 0 | C70: =Zalaegerszeg!C46 -> Zalaegerszeg … kút | D70: =Zalaegerszeg!D46 -> szivattyú javítás és csere | E70: =Zalaegerszeg!E46 -> A szivattyú kora, műszaki állapota miatt fennáll a meghibásodás veszélye. | F70: =Zalaegerszeg!F46 -> A folyamatos víztermelés biztosítása. | G70: =Zalaegerszeg!G46 -> A Q–H diagramhoz illeszkedő energiahatékony szivattyú üzemeltetése. | I70: =Zalaegerszeg!I46 -> Zalaegerszeg | J70: =SUM(O70:AC70) -> 601 | L70: =Zalaegerszeg!L46 -> 49675 | M70: =Zalaegerszeg!M46 -> 50040 | N70: =Zalaegerszeg!N46 -> hosszú | AC70: =Zalaegerszeg!AC46 -> 601
C71: =Zalaegerszeg!C47 -> Zalaegerszeg … kút | D71: =Zalaegerszeg!D47 -> közmű gépészet felújítása | E71: =Zalaegerszeg!E47 -> A szerelvények és vezetékek, műszaki állapota miatt fennáll a meghibásodás veszélye. | F71: =Zalaegerszeg!F47 -> A folyamatos víztermelés biztosítása. | G71: =Zalaegerszeg!G47 -> A gépészeti funkciókat kifogástalanul ellátó szerelvények. | I71: =Zalaegerszeg!I47 -> Zalaegerszeg | J71: =SUM(O71:AC71) -> 2000 | L71: =Zalaegerszeg!L47 -> 49675 | M71: =Zalaegerszeg!M47 -> 50040 | N71: =Zalaegerszeg!N47 -> hosszú | AC71: =Zalaegerszeg!AC47 -> 2000
B72: Irányítástechnika, energiaellátás
A73: =Zalaegerszeg!A49 -> 0 | C73: =Zalaegerszeg!C49 -> Zalaegerszeg 19-21 kútcsoport | D73: =Zalaegerszeg!D49 -> OTR állomás rekonstrukció, ESZI szekrény csere | E73: =Zalaegerszeg!E49 -> Az elektromos, irányítástechnikai szerelvények és vezetékek, műszaki állapota miatt fennáll a meghibásodás veszélye. | F73: =Zalaegerszeg!F49 -> A folyamatos víztermelés biztosítása. | G73: =Zalaegerszeg!G49 -> A villamos funkciókat kifogástalanul ellátó szerelvények. | I73: =Zalaegerszeg!I49 -> Zalaegerszeg | J73: =SUM(O73:AC73) -> 9960 | L73: =Zalaegerszeg!L49 -> 45658 | M73: =Zalaegerszeg!M49 -> 46022 | N73: =Zalaegerszeg!N49 -> közép | R73: =Zalaegerszeg!R49 -> 9960
A74: =Zalaegerszeg!A50 -> 0 | C74: =Zalaegerszeg!C50 -> Zalaegerszeg … kút | D74: =Zalaegerszeg!D50 -> elektromos és irányítástechnikai szekrény csere (4 db) | E74: =Zalaegerszeg!E50 -> Az elektromos, irányítástechnikai szerelvények és vezetékek, műszaki állapota miatt fennáll a meghibásodás veszélye. | F74: =Zalaegerszeg!F50 -> A búvárszivattyú elektromos megtáplálása, a folyamatos távfelügyelet biztosítása. | G74: =Zalaegerszeg!G50 -> A búvárszivattyú elektromos paramétereihez illeszkedő erősáramú és vezérlőszekrény. | I74: =Zalaegerszeg!I50 -> Zalaegerszeg | J74: =SUM(O74:AC74) -> 22000 | L74: =Zalaegerszeg!L50 -> 45658 | M74: =Zalaegerszeg!M50 -> 46387 | N74: =Zalaegerszeg!N50 -> közép | R74: =Zalaegerszeg!R50 -> 11000 | S74: =Zalaegerszeg!S50 -> 11000
A75: =Zalaegerszeg!A51 -> 0 | C75: =Zalaegerszeg!C51 -> Zalaegerszeg … kút | D75: =Zalaegerszeg!D51 -> elektromos és irányítástechnikai szekrény csere (2 db) | E75: =Zalaegerszeg!E51 -> Az elektromos, irányítástechnikai szerelvények és vezetékek, műszaki állapota miatt fennáll a meghibásodás veszélye. | F75: =Zalaegerszeg!F51 -> A búvárszivattyú elektromos megtáplálása, a folyamatos távfelügyelet biztosítása. | G75: =Zalaegerszeg!G51 -> A búvárszivattyú elektromos paramétereihez illeszkedő erősáramú és vezérlőszekrény. | I75: =Zalaegerszeg!I51 -> Zalaegerszeg | J75: =SUM(O75:AC75) -> 6000 | L75: =Zalaegerszeg!L51 -> 46388 | M75: =Zalaegerszeg!M51 -> 46752 | N75: =Zalaegerszeg!N51 -> hosszú | T75: =Zalaegerszeg!T51 -> 6000
A76: =Zalaegerszeg!A52 -> 0 | C76: =Zalaegerszeg!C52 -> Zalaegerszeg … kút | D76: =Zalaegerszeg!D52 -> elektromos és irányítástechnikai szekrény csere (2 db) | E76: =Zalaegerszeg!E52 -> Az elektromos, irányítástechnikai szerelvények és vezetékek, műszaki állapota miatt fennáll a meghibásodás veszélye. | F76: =Zalaegerszeg!F52 -> A búvárszivattyú elektromos megtáplálása, a folyamatos távfelügyelet biztosítása. | G76: =Zalaegerszeg!G52 -> A búvárszivattyú elektromos paramétereihez illeszkedő erősáramú és vezérlőszekrény. | I76: =Zalaegerszeg!I52 -> Zalaegerszeg | J76: =SUM(O76:AC76) -> 6000 | L76: =Zalaegerszeg!L52 -> 46753 | M76: =Zalaegerszeg!M52 -> 47118 | N76: =Zalaegerszeg!N52 -> hosszú | U76: =Zalaegerszeg!U52 -> 6000
A77: =Zalaegerszeg!A53 -> 0 | C77: =Zalaegerszeg!C53 -> Zalaegerszeg … kút | D77: =Zalaegerszeg!D53 -> elektromos és irányítástechnikai szekrény csere (2 db) | E77: =Zalaegerszeg!E53 -> Az elektromos, irányítástechnikai szerelvények és vezetékek, műszaki állapota miatt fennáll a meghibásodás veszélye. | F77: =Zalaegerszeg!F53 -> A búvárszivattyú elektromos megtáplálása, a folyamatos távfelügyelet biztosítása. | G77: =Zalaegerszeg!G53 -> A búvárszivattyú elektromos paramétereihez illeszkedő erősáramú és vezérlőszekrény. | I77: =Zalaegerszeg!I53 -> Zalaegerszeg | J77: =SUM(O77:AC77) -> 6000 | L77: =Zalaegerszeg!L53 -> 47119 | M77: =Zalaegerszeg!M53 -> 47483 | N77: =Zalaegerszeg!N53 -> hosszú | V77: =Zalaegerszeg!V53 -> 6000
A78: =Zalaegerszeg!A54 -> 0 | C78: =Zalaegerszeg!C54 -> Zalaegerszeg … kút | D78: =Zalaegerszeg!D54 -> elektromos és irányítástechnikai szekrény csere (2 db) | E78: =Zalaegerszeg!E54 -> Az elektromos, irányítástechnikai szerelvények és vezetékek, műszaki állapota miatt fennáll a meghibásodás veszélye. | F78: =Zalaegerszeg!F54 -> A búvárszivattyú elektromos megtáplálása, a folyamatos távfelügyelet biztosítása. | G78: =Zalaegerszeg!G54 -> A búvárszivattyú elektromos paramétereihez illeszkedő erősáramú és vezérlőszekrény. | I78: =Zalaegerszeg!I54 -> Zalaegerszeg | J78: =SUM(O78:AC78) -> 6000 | L78: =Zalaegerszeg!L54 -> 47484 | M78: =Zalaegerszeg!M54 -> 47848 | N78: =Zalaegerszeg!N54 -> hosszú | W78: =Zalaegerszeg!W54 -> 6000
A79: =Zalaegerszeg!A55 -> 0 | C79: =Zalaegerszeg!C55 -> Zalaegerszeg … kút | D79: =Zalaegerszeg!D55 -> elektromos és irányítástechnikai szekrény csere (2 db) | E79: =Zalaegerszeg!E55 -> Az elektromos, irányítástechnikai szerelvények és vezetékek, műszaki állapota miatt fennáll a meghibásodás veszélye. | F79: =Zalaegerszeg!F55 -> A búvárszivattyú elektromos megtáplálása, a folyamatos távfelügyelet biztosítása. | G79: =Zalaegerszeg!G55 -> A búvárszivattyú elektromos paramétereihez illeszkedő erősáramú és vezérlőszekrény. | I79: =Zalaegerszeg!I55 -> Zalaegerszeg | J79: =SUM(O79:AC79) -> 6000 | L79: =Zalaegerszeg!L55 -> 47849 | M79: =Zalaegerszeg!M55 -> 48213 | N79: =Zalaegerszeg!N55 -> hosszú | X79: =Zalaegerszeg!X55 -> 6000
A80: =Zalaegerszeg!A56 -> 0 | C80: =Zalaegerszeg!C56 -> Zalaegerszeg … kút | D80: =Zalaegerszeg!D56 -> elektromos és irányítástechnikai szekrény csere (2 db) | E80: =Zalaegerszeg!E56 -> Az elektromos, irányítástechnikai szerelvények és vezetékek, műszaki állapota miatt fennáll a meghibásodás veszélye. | F80: =Zalaegerszeg!F56 -> A búvárszivattyú elektromos megtáplálása, a folyamatos távfelügyelet biztosítása. | G80: =Zalaegerszeg!G56 -> A búvárszivattyú elektromos paramétereihez illeszkedő erősáramú és vezérlőszekrény. | I80: =Zalaegerszeg!I56 -> Zalaegerszeg | J80: =SUM(O80:AC80) -> 6000 | L80: =Zalaegerszeg!L56 -> 48214 | M80: =Zalaegerszeg!M56 -> 48579 | N80: =Zalaegerszeg!N56 -> hosszú | Y80: =Zalaegerszeg!Y56 -> 6000
A81: =Zalaegerszeg!A57 -> 0 | C81: =Zalaegerszeg!C57 -> Zalaegerszeg … kút | D81: =Zalaegerszeg!D57 -> elektromos és irányítástechnikai szekrény csere (2 db) | E81: =Zalaegerszeg!E57 -> Az elektromos, irányítástechnikai szerelvények és vezetékek, műszaki állapota miatt fennáll a meghibásodás veszélye. | F81: =Zalaegerszeg!F57 -> A búvárszivattyú elektromos megtáplálása, a folyamatos távfelügyelet biztosítása. | G81: =Zalaegerszeg!G57 -> A búvárszivattyú elektromos paramétereihez illeszkedő erősáramú és vezérlőszekrény. | I81: =Zalaegerszeg!I57 -> Zalaegerszeg | J81: =SUM(O81:AC81) -> 6000 | L81: =Zalaegerszeg!L57 -> 48580 | M81: =Zalaegerszeg!M57 -> 48944 | N81: =Zalaegerszeg!N57 -> hosszú | Z81: =Zalaegerszeg!Z57 -> 6000
A82: =Zalaegerszeg!A58 -> 0 | C82: =Zalaegerszeg!C58 -> Zalaegerszeg … kút | D82: =Zalaegerszeg!D58 -> elektromos és irányítástechnikai szekrény csere (2 db) | E82: =Zalaegerszeg!E58 -> Az elektromos, irányítástechnikai szerelvények és vezetékek, műszaki állapota miatt fennáll a meghibásodás veszélye. | F82: =Zalaegerszeg!F58 -> A búvárszivattyú elektromos megtáplálása, a folyamatos távfelügyelet biztosítása. | G82: =Zalaegerszeg!G58 -> A búvárszivattyú elektromos paramétereihez illeszkedő erősáramú és vezérlőszekrény. | I82: =Zalaegerszeg!I58 -> Zalaegerszeg | J82: =SUM(O82:AC82) -> 6000 | L82: =Zalaegerszeg!L58 -> 48945 | M82: =Zalaegerszeg!M58 -> 49309 | N82: =Zalaegerszeg!N58 -> hosszú | AA82: =Zalaegerszeg!AA58 -> 6000
A83: =Zalaegerszeg!A59 -> 0 | C83: =Zalaegerszeg!C59 -> Zalaegerszeg … kút | D83: =Zalaegerszeg!D59 -> elektromos és irányítástechnikai szekrény csere (2 db) | E83: =Zalaegerszeg!E59 -> Az elektromos, irányítástechnikai szerelvények és vezetékek, műszaki állapota miatt fennáll a meghibásodás veszélye. | F83: =Zalaegerszeg!F59 -> A búvárszivattyú elektromos megtáplálása, a folyamatos távfelügyelet biztosítása. | G83: =Zalaegerszeg!G59 -> A búvárszivattyú elektromos paramétereihez illeszkedő erősáramú és vezérlőszekrény. | I83: =Zalaegerszeg!I59 -> Zalaegerszeg | J83: =SUM(O83:AC83) -> 6000 | L83: =Zalaegerszeg!L59 -> 49310 | M83: =Zalaegerszeg!M59 -> 49674 | N83: =Zalaegerszeg!N59 -> hosszú | AB83: =Zalaegerszeg!AB59 -> 6000
A84: =Zalaegerszeg!A60 -> 0 | C84: =Zalaegerszeg!C60 -> Zalaegerszeg … kút | D84: =Zalaegerszeg!D60 -> elektromos és irányítástechnikai szekrény csere (2 db) | E84: =Zalaegerszeg!E60 -> Az elektromos, irányítástechnikai szerelvények és vezetékek, műszaki állapota miatt fennáll a meghibásodás veszélye. | F84: =Zalaegerszeg!F60 -> A búvárszivattyú elektromos megtáplálása, a folyamatos távfelügyelet biztosítása. | G84: =Zalaegerszeg!G60 -> A búvárszivattyú elektromos paramétereihez illeszkedő erősáramú és vezérlőszekrény. | I84: =Zalaegerszeg!I60 -> Zalaegerszeg | J84: =Zalaegerszeg!J60 -> 6000 | L84: =Zalaegerszeg!L60 -> 49675 | M84: =Zalaegerszeg!M60 -> 50040 | N84: =Zalaegerszeg!N60 -> hosszú | AC84: =Zalaegerszeg!AC60 -> 6000
B85: Összesen: | J85: =SUM(J12:J83) -> 639756.1
A86: III. Vízműtelep és vízkezelő létesítmények
C87: Helyszín | D87: beruházás megnevezése
B88: VÍZMŰTELEP
B89: Épület, építmény
B91: Gép, berendezés
B93: Irányítástechnika, energiaellátás
A94: =Zalaegerszeg!A70 -> 0 | C94: =Zalaegerszeg!C70 -> Zalaegerszeg Nyugati vízműtelep | D94: =Zalaegerszeg!D70 -> 20 KV-os főelosztó felújítása, feszültségváltó, megszakító csere mindkét betáp oldalon | E94: =Zalaegerszeg!E70 -> Az elektromos, irányítástechnikai szerelvények és vezetékek, műszaki állapota miatt fennáll a meghibásodás veszélye | F94: =Zalaegerszeg!F70 -> A vízműtelep elektromos megtáplálása, a folyamatos távfelügyelet biztosítása. | G94: =Zalaegerszeg!G70 -> Az elektromos paramétereihez illeszkedő erős- és gyengeáramú vezérlőszekrény. | I94: =Zalaegerszeg!I70 -> Zalaegerszeg | J94: =SUM(O94:AC94) -> 36000 | L94: =Zalaegerszeg!L70 -> 46023 | M94: =Zalaegerszeg!M70 -> 46387 | N94: =Zalaegerszeg!N70 -> közép | S94: =Zalaegerszeg!S70 -> 36000
B95: VÍZKEZELŐ LÉTESÍTMÉNYEK
B96: Épület, építmény
B98: Gép, berendezés
B100: Irányítástechnika, energiaellátás
B102: Összesen | J102: =SUM(J90:J101) -> 36000
A103: IV. Vízelosztás
C104: Helyszín | D104: beruházás megnevezése
B105: IVÓVÍZHÁLÓZAT
...
