Workbook

Sheet Alibánfa
A1: Gördülő fejlesztési terv a 2019 - 2033 időszakra
A2: FELÚJÍTÁSOK ÉS PÓTLÁSOK ÖSSZEFOGLALÓ TÁBLÁZATA
A3: A tervet benyújtó szervezet megnevezése: | K3: ALIBÁNFA | R3: ellátásért felelős / ellátásért felelősök képviselője / víziközmű-szolgáltató *
A4: Víziközmű-szolgáltató megnevezése: | K4: ÉSZAK ZALAI VÍZ- ÉS CSATORNAMŰ ZÁRTKÖRŰEN MŰKÖDŐ RÉSZVÉNYTÁRSASÁG
A5: Víziközmű-szolgáltatási ágazat megnevezése: | K5: SZENNYVÍZ ÁGAZAT
A6: Véleményeltérést megfogalmazó érintett fél megnevezése:
A7: Víziközmű-rendszer kódja: ** | K7: 21-32054-1-048-01-10 | R7: ZALAEGERSZEG-SZV
A8: V. Szennyvízelvezetés
A9: Fontossági sorrend | B9: Felujítás és pótlás megnevezése | E9: Műszaki állapot felmérés, szükségességi indoklás | H9: Vízjogi létesítési/elvi engedély száma | I9: Az érintett ellátásért felelős(ök) megnevezése | J9: Tervezett nettó költség | K9: Forrás 2019 évre | L9: Megvalósítás időtartama | N9: Tervezett időtáv | O9: A beruházás ütemezése a tervezési időszak évei szerint
E10: Jelenlegi műszaki állapot | F10: Feladat szükségessége | G10: Megvalósítást követő várható műszaki állapot | J10: (eFt) | L10: Kezdés | M10: Befejezés | N10: (rövid / közép / hosszú) | O10: 1 | P10: 2 | Q10: 3 | R10: 4 | S10: 5 | T10: 6 | U10: 7 | V10: 8 | W10: 9 | X10: 10 | Y10: 11 | Z10: 12 | AA10: 13 | AB10: 14 | AC10: 15
B11: szakág | C11: Helyszín | D11: beruházás megnevezése
A12: 1 | D12: Rendkívüli helyzetből adódó azonnali feladatok (max. 15%) | F12: A rendszer zavartalan üzemének biztosítása érdekében szükséges a beavatkozás | I12: Alibánfa | J12: =SUM(O12:AC12) -> 5474.3 | L12: 43466 | M12: 48944 | O12: 365 | P12: =$K$37*0.15 -> 364.95 | Q12: =$K$37*0.15 -> 364.95 | R12: =$K$37*0.15 -> 364.95 | S12: =$K$37*0.15 -> 364.95 | T12: =$K$37*0.15 -> 364.95 | U12: =$K$37*0.15 -> 364.95 | V12: =$K$37*0.15 -> 364.95 | W12: =$K$37*0.15 -> 364.95 | ... AC12: =$K$37*0.15 -> 364.95
B13: SZENNYVÍZCSATORNA (GRAVITÁCIÓS)
B14: Épület, építmény
C15: Alibánfa | D15: Idegenvíz kizárása a csatornadiagnosztikai vizsgálat és a helyszíni ellenőrzés alapján¹ | E15: Az üzemelő viziközmű technológiailag elavult, üzemeltetése, és javítása már nem gazdaságos. Jelenleg a piacon magasabb műszaki tartalmak érhetőek el | F15: A viziközmű rendszer hatékonyságának növelése, az üzemeltetési költségek szinten tartása miatt szükséges | G15: A beavatkozás után egy hatékonyan működő viziközmű elemet kapunk, mely a kor elvárásainak megfelel. A rendszer üzembiztos, hatékony, és korszerű lesz | I15: Alibánfa | J15: =SUM(O15:AC15) -> 2000 | L15: 43831 | M15: 45291 | N15: közép | P15: 500 | Q15: 500 | R15: 500 | S15: 500
C16: Alibánfa | D16: Idegenvíz kizárása a csatornadiagnosztikai vizsgálat és a helyszíni ellenőrzés alapján¹ | E16: Az üzemelő viziközmű technológiailag elavult, üzemeltetése, és javítása már nem gazdaságos. Jelenleg a piacon magasabb műszaki tartalmak érhetőek el | F16: A viziközmű rendszer hatékonyságának növelése, az üzemeltetési költségek szinten tartása miatt szükséges | G16: A beavatkozás után egy hatékonyan működő viziközmű elemet kapunk, mely a kor elvárásainak megfelel. A rendszer üzembiztos, hatékony, és korszerű lesz | I16: Alibánfa | J16: =SUM(O16:AC16) -> 2900 | L16: 45292 | M16: 48944 | N16: hosszú | T16: 500 | U16: 500 | V16: 500 | W16: 200 | X16: 200 | Y16: 200 | Z16: 200 | AA16: 200 | AB16: 200 | AC16: 200
C17: Alibánfa | D17: Gravitációs csatorna NA 150 rekonstrukció | E17: Az üzemelő viziközmű technológiailag elavult, üzemeltetése, és javítása már nem gazdaságos. Jelenleg a piacon magasabb műszaki tartalmak érhetőek el | F17: A viziközmű rendszer hatékonyságának növelése, az üzemeltetési költségek szinten tartása miatt szükséges | G17: A beavatkozás után egy hatékonyan működő viziközmű elemet kapunk, mely a kor elvárásainak megfelel. A rendszer üzembiztos, hatékony, és korszerű lesz | I17: Alibánfa | J17: =SUM(O17:AC17) -> 4000 | L17: 43831 | M17: 45291 | N17: közép | P17: 2000 | S17: 2000
C18: Alibánfa | D18: Gravitációs csatorna NA 150 rekonstrukció | E18: Az üzemelő viziközmű technológiailag elavult, üzemeltetése, és javítása már nem gazdaságos. Jelenleg a piacon magasabb műszaki tartalmak érhetőek el | F18: A viziközmű rendszer hatékonyságának növelése, az üzemeltetési költségek szinten tartása miatt szükséges | G18: A beavatkozás után egy hatékonyan működő viziközmű elemet kapunk, mely a kor elvárásainak megfelel. A rendszer üzembiztos, hatékony, és korszerű lesz | I18: Alibánfa | J18: =SUM(O18:AC18) -> 4000 | L18: 46388 | M18: 48213 | N18: hosszú | W18: 2000 | AA18: 2000
C19: Alibánfa | D19: Gravitációs csatorna NA200 rekonstrukció | E19: Az üzemelő viziközmű technológiailag elavult, üzemeltetése, és javítása már nem gazdaságos. Jelenleg a piacon magasabb műszaki tartalmak érhetőek el | F19: A viziközmű rendszer hatékonyságának növelése, az üzemeltetési költségek szinten tartása miatt szükséges | G19: A beavatkozás után egy hatékonyan működő viziközmű elemet kapunk, mely a kor elvárásainak megfelel. A rendszer üzembiztos, hatékony, és korszerű lesz | I19: Alibánfa | J19: =SUM(O19:AC19) -> 5000 | L19: 43831 | M19: 44196 | N19: közép | P19: 5000
C20: Alibánfa | D20: Gravitációs csatorna NA200 rekonstrukció | E20: Az üzemelő viziközmű technológiailag elavult, üzemeltetése, és javítása már nem gazdaságos. Jelenleg a piacon magasabb műszaki tartalmak érhetőek el | F20: A viziközmű rendszer hatékonyságának növelése, az üzemeltetési költségek szinten tartása miatt szükséges | G20: A beavatkozás után egy hatékonyan működő viziközmű elemet kapunk, mely a kor elvárásainak megfelel. A rendszer üzembiztos, hatékony, és korszerű lesz | I20: Alibánfa | J20: =SUM(O20:AC20) -> 15000 | L20: 45292 | M20: 48579 | N20: hosszú | T20: 5000 | X20: 5000 | AB20: 5000
B21: SZENNYVÍZVEZETÉKEK (KÉNYSZERÁRAMOLTATÁSÚ)
C22: Alibánfa | D22: Nyomott vezeték NA100 rekonstrukció | E22: Az üzemelő viziközmű technológiailag elavult, üzemeltetése, és javítása már nem gazdaságos. Jelenleg a piacon magasabb műszaki tartalmak érhetőek el | F22: A kiépített rendszer működőképességének megóvása, a biztonságos üzemelés biztosítása miatt van szükség a munka elvégzésére | G22: A viziközmű elem állapota megközelíti az új elem berendezés állapotát. Az üzembiztonság jelentősen növekszik | I22: Alibánfa | J22: =SUM(O22:AC22) -> 6060 | L22: 43831 | M22: 45291 | N22: közép | P22: 3030 | S22: 3030
C23: Alibánfa | D23: Nyomott vezeték NA100 rekonstrukció | E23: Az üzemelő viziközmű technológiailag elavult, üzemeltetése, és javítása már nem gazdaságos. Jelenleg a piacon magasabb műszaki tartalmak érhetőek el | F23: A kiépített rendszer működőképességének megóvása, a biztonságos üzemelés biztosítása miatt van szükség a munka elvégzésére | G23: A viziközmű elem állapota megközelíti az új elem berendezés állapotát. Az üzembiztonság jelentősen növekszik | I23: Alibánfa | J23: =SUM(O23:AC23) -> 6060 | L23: 46388 | M23: 48213 | N23: hosszú | W23: 3030 | AA23: 3030
C24: Alibánfa | D24: Nyomott vezeték NA100 rekonstrukció | E24: Az üzemelő viziközmű technológiailag elavult, üzemeltetése, és javítása már nem gazdaságos. Jelenleg a piacon magasabb műszaki tartalmak érhetőek el | F24: A kiépített rendszer működőképességének megóvása, a biztonságos üzemelés biztosítása miatt van szükség a munka elvégzésére | G24: A viziközmű elem állapota megközelíti az új elem berendezés állapotát. Az üzembiztonság jelentősen növekszik | I24: Alibánfa | J24: =SUM(O24:AC24) -> 2200 | L24: 44197 | M24: 44561 | N24: közép | Q24: 2200
C25: Alibánfa | D25: Nyomott vezeték NA100 rekonstrukció | E25: Az üzemelő viziközmű technológiailag elavult, üzemeltetése, és javítása már nem gazdaságos. Jelenleg a piacon magasabb műszaki tartalmak érhetőek el | F25: A kiépített rendszer működőképességének megóvása, a biztonságos üzemelés biztosítása miatt van szükség a munka elvégzésére | G25: A viziközmű elem állapota megközelíti az új elem berendezés állapotát. Az üzembiztonság jelentősen növekszik | I25: Alibánfa | J25: =SUM(O25:AC25) -> 5500 | L25: 45292 | M25: 47848 | N25: hosszú | T25: 2200 | W25: 2200 | Z25: 1100
B26: SZENNYVÍZÁTEMELŐK
B27: Épület, építmény
C28: Alibánfa | D28: átemelő akna építészeti rekonstrukció | E28: A szennyvíz, és a belőle felszabaduló gázok hatására a felületek elkorrodálnak. Ezen elemek cseréje a A kiépített rendszer működőképességének megóvása, a biztonságos üzemelés biztosítása miatt van szükség a munka elvégzésérehez elengedhetetlen | F28: A kiépített rendszer működőképességének megóvása, a biztonságos üzemelés biztosítása miatt van szükség a munka elvégzésére | G28: A viziközmű elem állapota megközelíti az új elem berendezés állapotát. Az üzembiztonság jelentősen növekszik | I28: Alibánfa | J28: =SUM(O28:AC28) -> 264 | L28: 43831 | M28: 44196 | N28: közép | P28: 264
C29: Alibánfa | D29: átemelő akna építészeti rekonstrukció | E29: A szennyvíz, és a belőle felszabaduló gázok hatására a felületek elkorrodálnak. Ezen elemek cseréje a A kiépített rendszer működőképességének megóvása, a biztonságos üzemelés biztosítása miatt van szükség a munka elvégzésérehez elengedhetetlen | F29: A kiépített rendszer működőképességének megóvása, a biztonságos üzemelés biztosítása miatt van szükség a munka elvégzésére | G29: A viziközmű elem állapota megközelíti az új elem berendezés állapotát. Az üzembiztonság jelentősen növekszik | I29: Alibánfa | J29: =SUM(O29:AC29) -> 4570 | L29: 45658 | M29: 47848 | N29: hosszú | U29: 1200 | V29: 1200 | W29: 1200 | X29: 550 | Y29: 120 | Z29: 300
B30: Gép, berendezés
C31: Alibánfa | D31: szivattyú felújítások átemelőknél | E31: A szennyvíz, és a belőle felszabaduló gázok hatására a felületek elkorrodálnak. Ezen elemek cseréje a A kiépített rendszer működőképességének megóvása, a biztonságos üzemelés biztosítása miatt van szükség a munka elvégzésére.hez elengedhetetlen. | F31: A kiépített rendszer működőképességének megóvása, a biztonságos üzemelés biztosítása miatt van szükség a munka elvégzésére. | G31: A viziközmű elem állapota megközelíti az új elem berendezés állapotát. Az üzembiztonság jelentősen növekszik. | I31: Alibánfa | J31: =SUM(O31:AC31) -> 1100 | L31: 43466 | M31: 43830 | N31: rövid | O31: 1100
C32: Alibánfa | D32: gépészeti rekonstrukció (1-6) | E32: A viziközmű elem a napi üzemmenet során oly mértékig elhasználódott, hogy a normál karbantartási munkákkal már nem biztosítható az üzembiztos működése | F32: A rendszer zavartalan üzemének biztosítása érdekében szükséges a beavatkozás | G32: A beavatkozás után egy hatékonyan működő viziközmű elemet kapunk, mely a kor elvárásainak megfelel. A rendszer üzembiztos, hatékony, és korszerű lesz | I32: Alibánfa | J32: =SUM(O32:AC32) -> 1600 | L32: 43831 | M32: 44926 | N32: közép | P32: 800 | R32: 800
C33: Alibánfa | D33: gépészeti rekonstrukció (1-6) | E33: Az üzemelő viziközmű elem működése közben előforduló eseti meghibásodások fordulhatnak elő, melyek előre nem tervezhetők | F33: A rendszer zavartalan üzemének biztosítása érdekében szükséges a beavatkozás | G33: A beavatkozás után egy hatékonyan működő viziközmű elemet kapunk, mely a kor elvárásainak megfelel. A rendszer üzembiztos, hatékony, és korszerű lesz | I33: Alibánfa | J33: =SUM(O33:AC33) -> 7700 | L33: 45292 | M33: 47848 | N33: hosszú | T33: 800 | U33: 800 | W33: 4500 | Y33: 800 | Z33: 800
B34: Irányítástechnika, energiaellátás
C35: Alibánfa | D35: erősáramú és irányítástechnikai rekonstrukció | E35: A viziközmű elem a napi üzemmenet során oly mértékig elhasználódott, hogy a normál karbantartási munkákkal már nem biztosítható az üzembiztos működése | F35: A kiépített rendszer működőképességének megóvása, a biztonságos üzemelés biztosítása miatt van szükség a munka elvégzésére | G35: A viziközmű elem állapota megközelíti az új elem berendezés állapotát. Az üzembiztonság jelentősen növekszik | I35: Alibánfa | J35: =SUM(O35:AC35) -> 2000 | L35: 44561 | M35: 44561 | N35: közép | Q35: 2000
C36: Alibánfa | D36: erősáramú és irányítástechnikai rekonstrukció | E36: A viziközmű elem a napi üzemmenet során oly mértékig elhasználódott, hogy a normál karbantartási munkákkal már nem biztosítható az üzembiztos működése | F36: A kiépített rendszer működőképességének megóvása, a biztonságos üzemelés biztosítása miatt van szükség a munka elvégzésére | G36: A viziközmű elem állapota megközelíti az új elem berendezés állapotát. Az üzembiztonság jelentősen növekszik | I36: Alibánfa | J36: =SUM(O36:AC36) -> 2000 | L36: 46023 | M36: 46387 | N36: hosszú | V36: 2000
B37: Összesen: | J37: =SUM(J12:J36) -> 77428.3 | K37: =C41 -> 2433 | O37: =SUM(O12:O36) -> 1465 | P37: =SUM(P12:P36) -> 11958.95 | Q37: =SUM(Q12:Q36) -> 5064.95 | R37: =SUM(R12:R36) -> 1664.95 | S37: =SUM(S12:S36) -> 5894.95 | T37: =SUM(T12:T36) -> 8864.95 | U37: =SUM(U12:U36) -> 2864.95 | V37: =SUM(V12:V36) -> 4064.95 | ... AC37: =SUM(AC12:AC36) -> 564.95
K38: 2019 évre a fejlesztési forrás biztosított
B40: Rendelkezésre álló források megnevezése | C40: Rendelkezésre álló források számszerűsített értéke a teljes ütem tekintetében (eFt)
A41: I. ütem | B41: Használati díj (2019) | C41: 2433
...

Sheet Alsónemesapáti
A1: Gördülő fejlesztési terv a 2019 - 2033 időszakra
A2: FELÚJÍTÁSOK ÉS PÓTLÁSOK ÖSSZEFOGLALÓ TÁBLÁZATA
A3: A tervet benyújtó szervezet megnevezése: | K3: ALSÓNEMESAPÁTI | R3: ellátásért felelős / ellátásért felelősök képviselője / víziközmű-szolgáltató *
A4: Víziközmű-szolgáltató megnevezése: | K4: ÉSZAK ZALAI VÍZ- ÉS CSATORNAMŰ ZÁRTKÖRŰEN MŰKÖDŐ RÉSZVÉNYTÁRSASÁG
A5: Víziközmű-szolgáltatási ágazat megnevezése: | K5: SZENNYVÍZ ÁGAZAT
A6: Véleményeltérést megfogalmazó érintett fél megnevezése:
A7: Víziközmű-rendszer kódja: ** | K7: 21-32054-1-048-01-10 | R7: ZALAEGERSZEG-SZV
A8: V. Szennyvízelvezetés
A9: Fontossági sorrend | B9: Felujítás és pótlás megnevezése | E9: Műszaki állapot felmérés, szükségességi indoklás | H9: Vízjogi létesítési/elvi engedély száma | I9: Az érintett ellátásért felelős(ök) megnevezése | J9: Tervezett nettó költség | K9: Forrás 2019 évre | L9: Megvalósítás időtartama | N9: Tervezett időtáv | O9: A beruházás ütemezése a tervezési időszak évei szerint
E10: Jelenlegi műszaki állapot | F10: Feladat szükségessége | G10: Megvalósítást követő várható műszaki állapot | J10: (eFt) | L10: Kezdés | M10: Befejezés | N10: (rövid / közép / hosszú) | O10: 1 | P10: 2 | Q10: 3 | R10: 4 | S10: 5 | T10: 6 | U10: 7 | V10: 8 | W10: 9 | X10: 10 | Y10: 11 | Z10: 12 | AA10: 13 | AB10: 14 | AC10: 15
B11: szakág | C11: Helyszín | D11: beruházás megnevezése
A12: 1 | D12: Rendkívüli helyzetből adódó azonnali feladatok (max. 15%) | F12: A rendszer zavartalan üzemének biztosítása érdekében szükséges a beavatkozás | I12: Alsónemesapáti | J12: =SUM(O12:AC12) -> 4461.75 | L12: 43466 | M12: 48944 | O12: =$K$43*0.15 -> 297.45 | P12: =$K$43*0.15 -> 297.45 | Q12: =$K$43*0.15 -> 297.45 | R12: =$K$43*0.15 -> 297.45 | S12: =$K$43*0.15 -> 297.45 | T12: =$K$43*0.15 -> 297.45 | U12: =$K$43*0.15 -> 297.45 | V12: =$K$43*0.15 -> 297.45 | ... AC12: =$K$43*0.15 -> 297.45
B13: SZENNYVÍZCSATORNA (GRAVITÁCIÓS)
B14: Épület, építmény
C15: Alsónemesapáti | D15: Idegenvíz kizárása a csatornadiagnosztikai vizsgálat és a helyszíni ellenőrzés alapján¹ | E15: Az üzemelő viziközmű technológiailag elavult, üzemeltetése, és javítása már nem gazdaságos. Jelenleg a piacon magasabb műszaki tartalmak érhetőek el | F15: A viziközmű rendszer hatékonyságának növelése, az üzemeltetési költségek szinten tartása miatt szükséges | G15: A beavatkozás után egy hatékonyan működő viziközmű elemet kapunk, mely a kor elvárásainak megfelel. A rendszer üzembiztos, hatékony, és korszerű lesz | I15: Alsónemesapáti | J15: =SUM(O15:AC15) -> 2644 | L15: 43831 | M15: 45291 | N15: közép | P15: 661 | Q15: 661 | R15: 661 | S15: 661
C16: Alsónemesapáti | D16: Idegenvíz kizárása a csatornadiagnosztikai vizsgálat és a helyszíni ellenőrzés alapján¹ | E16: Az üzemelő viziközmű technológiailag elavult, üzemeltetése, és javítása már nem gazdaságos. Jelenleg a piacon magasabb műszaki tartalmak érhetőek el | F16: A viziközmű rendszer hatékonyságának növelése, az üzemeltetési költségek szinten tartása miatt szükséges | G16: A beavatkozás után egy hatékonyan működő viziközmű elemet kapunk, mely a kor elvárásainak megfelel. A rendszer üzembiztos, hatékony, és korszerű lesz | I16: Alsónemesapáti | J16: =SUM(O16:AC16) -> 4083 | L16: 45292 | M16: 48944 | N16: hosszú | T16: 661 | U16: 661 | V16: 661 | W16: 300 | X16: 300 | Y16: 300 | Z16: 300 | AA16: 300 | AB16: 300 | AC16: 300
C17: Alsónemesapáti | D17: Gravitációs csatorna NA 150 rekonstrukció | E17: Az üzemelő viziközmű technológiailag elavult, üzemeltetése, és javítása már nem gazdaságos. Jelenleg a piacon magasabb műszaki tartalmak érhetőek el | F17: A viziközmű rendszer hatékonyságának növelése, az üzemeltetési költségek szinten tartása miatt szükséges | G17: A beavatkozás után egy hatékonyan működő viziközmű elemet kapunk, mely a kor elvárásainak megfelel. A rendszer üzembiztos, hatékony, és korszerű lesz | I17: Alsónemesapáti | J17: =SUM(O17:AC17) -> 4800 | L17: 43831 | M17: 45291 | N17: közép | P17: 2400 | S17: 2400
C18: Alsónemesapáti | D18: Gravitációs csatorna NA 150 rekonstrukció | E18: Az üzemelő viziközmű technológiailag elavult, üzemeltetése, és javítása már nem gazdaságos. Jelenleg a piacon magasabb műszaki tartalmak érhetőek el | F18: A viziközmű rendszer hatékonyságának növelése, az üzemeltetési költségek szinten tartása miatt szükséges | G18: A beavatkozás után egy hatékonyan működő viziközmű elemet kapunk, mely a kor elvárásainak megfelel. A rendszer üzembiztos, hatékony, és korszerű lesz | I18: Alsónemesapáti | J18: =SUM(O18:AC18) -> 4800 | L18: 46388 | M18: 48213 | N18: hosszú | W18: 2400 | AA18: 2400
C19: Alsónemesapáti | D19: Gravitációs csatorna NA 150 rekonstrukció | E19: Az üzemelő viziközmű technológiailag elavult, üzemeltetése, és javítása már nem gazdaságos. Jelenleg a piacon magasabb műszaki tartalmak érhetőek el | F19: A viziközmű rendszer hatékonyságának növelése, az üzemeltetési költségek szinten tartása miatt szükséges | G19: A beavatkozás után egy hatékonyan működő viziközmű elemet kapunk, mely a kor elvárásainak megfelel. A rendszer üzembiztos, hatékony, és korszerű lesz | I19: Alsónemesapáti | J19: =SUM(O19:AC19) -> 4500 | L19: 44562 | M19: 44926 | N19: közép | R19: 4500
C20: Alsónemesapáti | D20: Gravitációs csatorna NA 150 rekonstrukció | E20: Az üzemelő viziközmű technológiailag elavult, üzemeltetése, és javítása már nem gazdaságos. Jelenleg a piacon magasabb műszaki tartalmak érhetőek el | F20: A viziközmű rendszer hatékonyságának növelése, az üzemeltetési költségek szinten tartása miatt szükséges | G20: A beavatkozás után egy hatékonyan működő viziközmű elemet kapunk, mely a kor elvárásainak megfelel. A rendszer üzembiztos, hatékony, és korszerű lesz | I20: Alsónemesapáti | J20: =SUM(O20:AC20) -> 8800 | L20: 46023 | M20: 47848 | N20: hosszú | V20: 4300 | Z20: 4500
B21: SZENNYVÍZVEZETÉKEK (KÉNYSZERÁRAMOLTATÁSÚ)
B22: Épület, építmény
C23: Alsónemesapáti | D23: nyomó/légtelenítő akna | E23: Az üzemelő viziközmű technológiailag elavult, üzemeltetése, és javítása már nem gazdaságos. Jelenleg a piacon magasabb műszaki tartalmak érhetőek el | F23: A kiépített rendszer működőképességének megóvása, a biztonságos üzemelés biztosítása miatt van szükség a munka elvégzésére | G23: A beavatkozás után egy hatékonyan működő viziközmű elemet kapunk, mely a kor elvárásainak megfelel. A rendszer üzembiztos, hatékony, és korszerű lesz | I23: Alsónemesapáti | J23: =SUM(O23:AC23) -> 360 | L23: 45292 | M23: 45657 | N23: hosszú | T23: 360
C24: Alsónemesapáti | D24: Nyomott vezeték NA80 rekonstrukció | E24: Az üzemelő viziközmű technológiailag elavult, üzemeltetése, és javítása már nem gazdaságos. Jelenleg a piacon magasabb műszaki tartalmak érhetőek el | F24: A kiépített rendszer működőképességének megóvása, a biztonságos üzemelés biztosítása miatt van szükség a munka elvégzésére | G24: A viziközmű elem állapota megközelíti az új elem berendezés állapotát. Az üzembiztonság jelentősen növekszik | I24: Alsónemesapáti | J24: =SUM(O24:AC24) -> 850 | L24: 47484 | M24: 47848 | N24: hosszú | Z24: 850
C25: Alsónemesapáti | D25: Nyomott vezeték NA125 rekonstrukció | E25: Az üzemelő viziközmű technológiailag elavult, üzemeltetése, és javítása már nem gazdaságos. Jelenleg a piacon magasabb műszaki tartalmak érhetőek el | F25: A kiépített rendszer működőképességének megóvása, a biztonságos üzemelés biztosítása miatt van szükség a munka elvégzésére | G25: A viziközmű elem állapota megközelíti az új elem berendezés állapotát. Az üzembiztonság jelentősen növekszik | I25: Alsónemesapáti | J25: =SUM(O25:AC25) -> 2200 | L25: 44197 | M25: 44561 | N25: közép | Q25: 2200
C26: Alsónemesapáti | D26: Nyomott vezeték NA125 rekonstrukció | E26: Az üzemelő viziközmű technológiailag elavult, üzemeltetése, és javítása már nem gazdaságos. Jelenleg a piacon magasabb műszaki tartalmak érhetőek el | F26: A kiépített rendszer működőképességének megóvása, a biztonságos üzemelés biztosítása miatt van szükség a munka elvégzésére | G26: A viziközmű elem állapota megközelíti az új elem berendezés állapotát. Az üzembiztonság jelentősen növekszik | I26: Alsónemesapáti | J26: =SUM(O26:AC26) -> 6900 | L26: 45292 | M26: 47848 | N26: hosszú | T26: 2300 | W26: 2300 | Z26: 2300
C27: Alsónemesapáti | D27: Nyomott vezeték NA150 rekonstrukció | E27: Az üzemelő viziközmű technológiailag elavult, üzemeltetése, és javítása már nem gazdaságos. Jelenleg a piacon magasabb műszaki tartalmak érhetőek el | F27: A kiépített rendszer működőképességének megóvása, a biztonságos üzemelés biztosítása miatt van szükség a munka elvégzésére | G27: A viziközmű elem állapota megközelíti az új elem berendezés állapotát. Az üzembiztonság jelentősen növekszik | I27: Alsónemesapáti | J27: =SUM(O27:AC27) -> 2200 | L27: 44197 | M27: 44561 | N27: közép | Q27: 2200
C28: Alsónemesapáti | D28: Nyomott vezeték NA150 rekonstrukció | E28: Az üzemelő viziközmű technológiailag elavult, üzemeltetése, és javítása már nem gazdaságos. Jelenleg a piacon magasabb műszaki tartalmak érhetőek el | F28: A kiépített rendszer működőképességének megóvása, a biztonságos üzemelés biztosítása miatt van szükség a munka elvégzésére | G28: A viziközmű elem állapota megközelíti az új elem berendezés állapotát. Az üzembiztonság jelentősen növekszik | I28: Alsónemesapáti | J28: =SUM(O28:AC28) -> 6600 | L28: 45292 | M28: 47848 | N28: hosszú | T28: 2200 | W28: 2200 | Z28: 2200
B29: SZENNYVÍZÁTEMELŐK
B30: Épület, építmény
C31: Alsónemesapáti | D31: átemelő akna építészeti rekonstrukció | E31: A szennyvíz, és a belőle felszabaduló gázok hatására a felületek elkorrodálnak. Ezen elemek cseréje a A kiépített rendszer működőképességének megóvása, a biztonságos üzemelés biztosítása miatt van szükség a munka elvégzésérehez elengedhetetlen | F31: Statikai stabilitás biztosítása | G31: A viziközmű elem állapota megközelíti az új elem berendezés állapotát. Az üzembiztonság jelentősen növekszik | I31: Alsónemesapáti | J31: =SUM(O31:AC31) -> 2200 | L31: 43831 | M31: 44561 | N31: közép | P31: 1100 | Q31: 1100
C32: Alsónemesapáti | D32: átemelő akna építészeti rekonstrukció | E32: A szennyvíz, és a belőle felszabaduló gázok hatására a felületek elkorrodálnak. Ezen elemek cseréje a A kiépített rendszer működőképességének megóvása, a biztonságos üzemelés biztosítása miatt van szükség a munka elvégzésérehez elengedhetetlen | F32: Statikai stabilitás biztosítása | G32: A viziközmű elem állapota megközelíti az új elem berendezés állapotát. Az üzembiztonság jelentősen növekszik | I32: Alsónemesapáti | J32: =SUM(O32:AC32) -> 9580 | L32: 45292 | M32: 48579 | N32: hosszú | T32: 1550 | U32: 1410 | V32: 2060 | W32: 810 | X32: 750 | Y32: 750 | Z32: 750 | AA32: 750 | AB32: 750
C33: Alsónemesapáti | D33: HBA akna építészeti rekonstrukció | E33: A szennyvíz, és a belőle felszabaduló gázok hatására a felületek elkorrodálnak. Ezen elemek cseréje a A kiépített rendszer működőképességének megóvása, a biztonságos üzemelés biztosítása miatt van szükség a munka elvégzésérehez elengedhetetlen | F33: Statikai stabilitás biztosítása | G33: A viziközmű elem állapota megközelíti az új elem berendezés állapotát. Az üzembiztonság jelentősen növekszik | I33: Alsónemesapáti | J33: =SUM(O33:AC33) -> 100 | L33: 44562 | M33: 44926 | N33: közép | R33: 100
C34: Alsónemesapáti | D34: HBA akna építészeti rekonstrukció | E34: A szennyvíz, és a belőle felszabaduló gázok hatására a felületek elkorrodálnak. Ezen elemek cseréje a A kiépített rendszer működőképességének megóvása, a biztonságos üzemelés biztosítása miatt van szükség a munka elvégzésérehez elengedhetetlen | F34: Statikai stabilitás biztosítása | G34: A viziközmű elem állapota megközelíti az új elem berendezés állapotát. Az üzembiztonság jelentősen növekszik | I34: Alsónemesapáti | J34: =SUM(O34:AC34) -> 200 | L34: 46023 | M34: 47848 | N34: hosszú | V34: 100 | Z34: 100
B35: Gép, berendezés
C36: Alsónemesapáti | D36: szivattyú felújítások átemelőknél | E36: A viziközmű elem a napi üzemmenet során oly mértékig elhasználódott, hogy a normál karbantartási munkákkal már nem biztosítható az üzembiztos működése | F36: A rendszer zavartalan üzemének biztosítása érdekében szükséges a beavatkozás | G36: A beavatkozás után egy hatékonyan működő viziközmű elemet kapunk, mely a kor elvárásainak megfelel. A rendszer üzembiztos, hatékony, és korszerű lesz | I36: Alsónemesapáti | J36: =SUM(O36:AC36) -> 900 | L36: 43466 | M36: 43830 | N36: rövid | O36: 900
C37: Alsónemesapáti | D37: gépészeti rekonstrukció (1-6) | E37: A viziközmű elem a napi üzemmenet során oly mértékig elhasználódott, hogy a normál karbantartási munkákkal már nem biztosítható az üzembiztos működése | F37: A rendszer zavartalan üzemének biztosítása érdekében szükséges a beavatkozás | G37: A beavatkozás után egy hatékonyan működő viziközmű elemet kapunk, mely a kor elvárásainak megfelel. A rendszer üzembiztos, hatékony, és korszerű lesz | I37: Alsónemesapáti | J37: =SUM(O37:AC37) -> 10800 | L37: 43831 | M37: 45291 | N37: közép | P37: 2500 | Q37: 7550 | R37: 450 | S37: 300
C38: Alsónemesapáti | D38: gépészeti rekonstrukció (1-6) | E38: Az üzemelő viziközmű elem működése közben előforduló eseti meghibásodások fordulhatnak elő, melyek előre nem tervezhetők | F38: A kiépített rendszer működőképességének megóvása, a biztonságos üzemelés biztosítása miatt van szükség a munka elvégzésére | G38: A beavatkozás után egy hatékonyan működő viziközmű elemet kapunk, mely a kor elvárásainak megfelel. A rendszer üzembiztos, hatékony, és korszerű lesz | I38: Alsónemesapáti | J38: =SUM(O38:AC38) -> 19950 | L38: 45292 | M38: 48944 | N38: hosszú | T38: 550 | U38: 250 | V38: 3750 | W38: 850 | X38: 550 | Y38: 1500 | Z38: 7100 | AA38: 1800 | AB38: 1800 | AC38: 1800
C39: Alsónemesapáti | D39: HBA gépészeti rekonstrukció (1-6) | E39: A viziközmű elem a napi üzemmenet során oly mértékig elhasználódott, hogy a normál karbantartási munkákkal már nem biztosítható az üzembiztos működése | F39: A rendszer zavartalan üzemének biztosítása érdekében szükséges a beavatkozás | G39: A beavatkozás után egy hatékonyan működő viziközmű elemet kapunk, mely a kor elvárásainak megfelel. A rendszer üzembiztos, hatékony, és korszerű lesz | I39: Alsónemesapáti | J39: =SUM(O39:AC39) -> 310 | L39: 43831 | M39: 45291 | N39: közép | P39: 65 | R39: 170 | S39: 75
C40: Alsónemesapáti | D40: HBA gépészeti rekonstrukció (1-6) | E40: Az üzemelő viziközmű elem működése közben előforduló eseti meghibásodások fordulhatnak elő, melyek előre nem tervezhetők | F40: A kiépített rendszer működőképességének megóvása, a biztonságos üzemelés biztosítása miatt van szükség a munka elvégzésére | G40: A beavatkozás után egy hatékonyan működő viziközmű elemet kapunk, mely a kor elvárásainak megfelel. A rendszer üzembiztos, hatékony, és korszerű lesz | I40: Alsónemesapáti | J40: =SUM(O40:AC40) -> 805 | L40: 45292 | M40: 48579 | N40: hosszú | T40: 70 | U40: 100 | W40: 70 | X40: 75 | Y40: 170 | Z40: 75 | AA40: 75 | AB40: 170
...

Sheet Babosdöbréte
A1: Gördülő fejlesztési terv a 2019 - 2033 időszakra
A2: FELÚJÍTÁSOK ÉS PÓTLÁSOK ÖSSZEFOGLALÓ TÁBLÁZATA
A3: A tervet benyújtó szervezet megnevezése: | K3: BABOSDÖBRÉTE | R3: ellátásért felelős / ellátásért felelősök képviselője / víziközmű-szolgáltató *
A4: Víziközmű-szolgáltató megnevezése: | K4: ÉSZAK ZALAI VÍZ- ÉS CSATORNAMŰ ZÁRTKÖRŰEN MŰKÖDŐ RÉSZVÉNYTÁRSASÁG
A5: Víziközmű-szolgáltatási ágazat megnevezése: | K5: SZENNYVÍZ ÁGAZAT
A6: Véleményeltérést megfogalmazó érintett fél megnevezése:
A7: Víziközmű-rendszer kódja: ** | K7: 21-32054-1-048-01-10 | R7: ZALAEGERSZEG-SZV
A8: V. Szennyvízelvezetés
A9: Fontossági sorrend | B9: Felujítás és pótlás megnevezése | E9: Műszaki állapot felmérés, szükségességi indoklás | H9: Vízjogi létesítési/elvi engedély száma | I9: Az érintett ellátásért felelős(ök) megnevezése | J9: Tervezett nettó költség | K9: Forrás 2019 évre | L9: Megvalósítás időtartama | N9: Tervezett időtáv | O9: A beruházás ütemezése a tervezési időszak évei szerint
E10: Jelenlegi műszaki állapot | F10: Feladat szükségessége | G10: Megvalósítást követő várható műszaki állapot | J10: (eFt) | L10: Kezdés | M10: Befejezés | N10: (rövid / közép / hosszú) | O10: 1 | P10: 2 | Q10: 3 | R10: 4 | S10: 5 | T10: 6 | U10: 7 | V10: 8 | W10: 9 | X10: 10 | Y10: 11 | Z10: 12 | AA10: 13 | AB10: 14 | AC10: 15
B11: szakág | C11: Helyszín | D11: beruházás megnevezése
A12: 1 | D12: Rendkívüli helyzetből adódó azonnali feladatok (max. 15%) | F12: A rendszer zavartalan üzemének biztosítása érdekében szükséges a beavatkozás | I12: Babosdöbréte | J12: =SUM(O12:AC12) -> 5731.4 | L12: 43466 | M12: 48944 | O12: 326 | P12: =$K$50*0.15 -> 386.1 | Q12: =$K$50*0.15 -> 386.1 | R12: =$K$50*0.15 -> 386.1 | S12: =$K$50*0.15 -> 386.1 | T12: =$K$50*0.15 -> 386.1 | U12: =$K$50*0.15 -> 386.1 | V12: =$K$50*0.15 -> 386.1 | W12: =$K$50*0.15 -> 386.1 | ... AC12: =$K$50*0.15 -> 386.1
B13: SZENNYVÍZCSATORNA (GRAVITÁCIÓS)
B14: Épület, építmény
C15: Babosdöbréte | D15: szennyvízcsatorna által okozott hibák helyreállítása (elkülönített forrás) | E15: Az üzemelő viziközmű technológiailag elavult, üzemeltetése, és javítása már nem gazdaságos. Jelenleg a piacon magasabb műszaki tartalmak érhetőek el | F15: A viziközmű rendszer hatékonyságának növelése, az üzemeltetési költségek szinten tartása miatt szükséges | G15: A beavatkozás után egy hatékonyan működő viziközmű elemet kapunk, mely a kor elvárásainak megfelel. A rendszer üzembiztos, hatékony, és korszerű lesz | I15: Babosdöbréte | J15: =SUM(O15:AC15) -> 401 | L15: 43466 | M15: 43830 | N15: rövid | O15: 401
C16: Babosdöbréte | D16: Idegenvíz kizárása a csatornadiagnosztikai vizsgálat és a helyszíni ellenőrzés alapján¹ | E16: Az üzemelő viziközmű technológiailag elavult, üzemeltetése, és javítása már nem gazdaságos. Jelenleg a piacon magasabb műszaki tartalmak érhetőek el | F16: A viziközmű rendszer hatékonyságának növelése, az üzemeltetési költségek szinten tartása miatt szükséges | G16: A beavatkozás után egy hatékonyan működő viziközmű elemet kapunk, mely a kor elvárásainak megfelel. A rendszer üzembiztos, hatékony, és korszerű lesz | I16: Babosdöbréte | J16: =SUM(O16:AC16) -> 1580 | L16: 43831 | M16: 45291 | N16: közép | P16: 395 | Q16: 395 | R16: 395 | S16: 395
C17: Babosdöbréte | D17: Idegenvíz kizárása a csatornadiagnosztikai vizsgálat és a helyszíni ellenőrzés alapján¹ | E17: Az üzemelő viziközmű technológiailag elavult, üzemeltetése, és javítása már nem gazdaságos. Jelenleg a piacon magasabb műszaki tartalmak érhetőek el | F17: A viziközmű rendszer hatékonyságának növelése, az üzemeltetési költségek szinten tartása miatt szükséges | G17: A beavatkozás után egy hatékonyan működő viziközmű elemet kapunk, mely a kor elvárásainak megfelel. A rendszer üzembiztos, hatékony, és korszerű lesz | I17: Babosdöbréte | J17: =SUM(O17:AC17) -> 2235 | L17: 45292 | M17: 48944 | N17: hosszú | T17: 395 | U17: 395 | V17: 395 | W17: 150 | X17: 150 | Y17: 150 | Z17: 150 | AA17: 150 | AB17: 150 | AC17: 150
C18: Babosdöbréte | D18: Gravitációs csatorna NA 150 rekonstrukció | E18: Az üzemelő viziközmű technológiailag elavult, üzemeltetése, és javítása már nem gazdaságos. Jelenleg a piacon magasabb műszaki tartalmak érhetőek el | F18: A viziközmű rendszer hatékonyságának növelése, az üzemeltetési költségek szinten tartása miatt szükséges | G18: A beavatkozás után egy hatékonyan működő viziközmű elemet kapunk, mely a kor elvárásainak megfelel. A rendszer üzembiztos, hatékony, és korszerű lesz | I18: Babosdöbréte | J18: =SUM(O18:AC18) -> 4600 | L18: 43831 | M18: 45291 | N18: közép | P18: 2300 | S18: 2300
C19: Babosdöbréte | D19: Gravitációs csatorna NA 150 rekonstrukció | E19: Az üzemelő viziközmű technológiailag elavult, üzemeltetése, és javítása már nem gazdaságos. Jelenleg a piacon magasabb műszaki tartalmak érhetőek el | F19: A viziközmű rendszer hatékonyságának növelése, az üzemeltetési költségek szinten tartása miatt szükséges | G19: A beavatkozás után egy hatékonyan működő viziközmű elemet kapunk, mely a kor elvárásainak megfelel. A rendszer üzembiztos, hatékony, és korszerű lesz | I19: Babosdöbréte | J19: =SUM(O19:AC19) -> 2300 | L19: 46388 | M19: 46752 | N19: hosszú | W19: 2300
C20: Babosdöbréte | D20: Gravitációs csatorna NA200 rekonstrukció | E20: Az üzemelő viziközmű technológiailag elavult, üzemeltetése, és javítása már nem gazdaságos. Jelenleg a piacon magasabb műszaki tartalmak érhetőek el | F20: A viziközmű rendszer hatékonyságának növelése, az üzemeltetési költségek szinten tartása miatt szükséges | G20: A beavatkozás után egy hatékonyan működő viziközmű elemet kapunk, mely a kor elvárásainak megfelel. A rendszer üzembiztos, hatékony, és korszerű lesz | I20: Babosdöbréte | J20: =SUM(O20:AC20) -> 7400 | L20: 43831 | M20: 44926 | N20: közép | P20: 3700 | R20: 3700
C21: Babosdöbréte | D21: Gravitációs csatorna NA200 rekonstrukció | E21: Az üzemelő viziközmű technológiailag elavult, üzemeltetése, és javítása már nem gazdaságos. Jelenleg a piacon magasabb műszaki tartalmak érhetőek el | F21: A viziközmű rendszer hatékonyságának növelése, az üzemeltetési költségek szinten tartása miatt szükséges | G21: A beavatkozás után egy hatékonyan működő viziközmű elemet kapunk, mely a kor elvárásainak megfelel. A rendszer üzembiztos, hatékony, és korszerű lesz | I21: Babosdöbréte | J21: =SUM(O21:AC21) -> 3700 | L21: 47484 | M21: 47848 | N21: hosszú | Z21: 3700
B22: SZENNYVÍZVEZETÉKEK (KÉNYSZERÁRAMOLTATÁSÚ)
C23: Babosdöbréte | D23: Nyomott vezeték NA50 rekonstrukció | E23: Az üzemelő viziközmű technológiailag elavult, üzemeltetése, és javítása már nem gazdaságos. Jelenleg a piacon magasabb műszaki tartalmak érhetőek el | F23: A kiépített rendszer működőképességének megóvása, a biztonságos üzemelés biztosítása miatt van szükség a munka elvégzésére | G23: A viziközmű elem állapota megközelíti az új elem berendezés állapotát. Az üzembiztonság jelentősen növekszik | I23: Babosdöbréte | J23: =SUM(O23:AC23) -> 4800 | L23: 43831 | M23: 44927 | N23: közép | P23: 2400 | S23: 2400
C24: Babosdöbréte | D24: Nyomott vezeték NA50 rekonstrukció | E24: Az üzemelő viziközmű technológiailag elavult, üzemeltetése, és javítása már nem gazdaságos. Jelenleg a piacon magasabb műszaki tartalmak érhetőek el | F24: A kiépített rendszer működőképességének megóvása, a biztonságos üzemelés biztosítása miatt van szükség a munka elvégzésére | G24: A viziközmű elem állapota megközelíti az új elem berendezés állapotát. Az üzembiztonság jelentősen növekszik | I24: Babosdöbréte | J24: =SUM(O24:AC24) -> 4800 | L24: 46388 | M24: 48213 | N24: hosszú | W24: 2400 | AA24: 2400
C25: Babosdöbréte | D25: Nyomott vezeték NA80 rekonstrukció | E25: Az üzemelő viziközmű technológiailag elavult, üzemeltetése, és javítása már nem gazdaságos. Jelenleg a piacon magasabb műszaki tartalmak érhetőek el | F25: A kiépített rendszer működőképességének megóvása, a biztonságos üzemelés biztosítása miatt van szükség a munka elvégzésére | G25: A viziközmű elem állapota megközelíti az új elem berendezés állapotát. Az üzembiztonság jelentősen növekszik | I25: Babosdöbréte | J25: =SUM(O25:AC25) -> 8100 | L25: 43831 | M25: 45291 | N25: közép | P25: 2700 | Q25: 2700 | S25: 2700
C26: Babosdöbréte | D26: Nyomott vezeték NA80 rekonstrukció | E26: Az üzemelő viziközmű technológiailag elavult, üzemeltetése, és javítása már nem gazdaságos. Jelenleg a piacon magasabb műszaki tartalmak érhetőek el | F26: A kiépített rendszer működőképességének megóvása, a biztonságos üzemelés biztosítása miatt van szükség a munka elvégzésére | G26: A viziközmű elem állapota megközelíti az új elem berendezés állapotát. Az üzembiztonság jelentősen növekszik | I26: Babosdöbréte | J26: =SUM(O26:AC26) -> 10800 | L26: 45658 | M26: 48213 | N26: hosszú | U26: 2700 | W26: 2700 | Y26: 2700 | AA26: 2700
C27: Babosdöbréte | D27: Nyomott vezeték NA100 rekonstrukció | E27: Az üzemelő viziközmű technológiailag elavult, üzemeltetése, és javítása már nem gazdaságos. Jelenleg a piacon magasabb műszaki tartalmak érhetőek el | F27: A kiépített rendszer működőképességének megóvása, a biztonságos üzemelés biztosítása miatt van szükség a munka elvégzésére | G27: A viziközmű elem állapota megközelíti az új elem berendezés állapotát. Az üzembiztonság jelentősen növekszik | I27: Babosdöbréte | J27: =SUM(O27:AC27) -> 2300 | L27: 44197 | M27: 44561 | N27: közép | Q27: 2300
C28: Babosdöbréte | D28: Nyomott vezeték NA100 rekonstrukció | E28: Az üzemelő viziközmű technológiailag elavult, üzemeltetése, és javítása már nem gazdaságos. Jelenleg a piacon magasabb műszaki tartalmak érhetőek el | F28: A kiépített rendszer működőképességének megóvása, a biztonságos üzemelés biztosítása miatt van szükség a munka elvégzésére | G28: A viziközmű elem állapota megközelíti az új elem berendezés állapotát. Az üzembiztonság jelentősen növekszik | I28: Babosdöbréte | J28: =SUM(O28:AC28) -> 6900 | L28: 45292 | M28: 47848 | N28: hosszú | T28: 2300 | W28: 2300 | Z28: 2300
C29: Babosdöbréte | D29: Nyomott vezeték NA150 rekonstrukció | E29: Az üzemelő viziközmű technológiailag elavult, üzemeltetése, és javítása már nem gazdaságos. Jelenleg a piacon magasabb műszaki tartalmak érhetőek el | F29: A kiépített rendszer működőképességének megóvása, a biztonságos üzemelés biztosítása miatt van szükség a munka elvégzésére | G29: A viziközmű elem állapota megközelíti az új elem berendezés állapotát. Az üzembiztonság jelentősen növekszik | I29: Babosdöbréte | J29: =SUM(O29:AC29) -> 720 | L29: 47484 | M29: 47848 | N29: hosszú | Z29: 720
C30: Babosdöbréte | D30: Nyomott vezeték NA200 rekonstrukció | E30: Az üzemelő viziközmű technológiailag elavult, üzemeltetése, és javítása már nem gazdaságos. Jelenleg a piacon magasabb műszaki tartalmak érhetőek el | F30: A kiépített rendszer működőképességének megóvása, a biztonságos üzemelés biztosítása miatt van szükség a munka elvégzésére | G30: A viziközmű elem állapota megközelíti az új elem berendezés állapotát. Az üzembiztonság jelentősen növekszik | I30: Babosdöbréte | J30: =SUM(O30:AC30) -> 1000 | L30: 47484 | M30: 47848 | N30: hosszú | Z30: 1000
B31: SZENNYVÍZÁTEMELŐK
B32: Épület, építmény
C33: Babosdöbréte I. átemelő | D33: gépészeti akna vízzárózása: mélysége: 1.8 méter, szélessége 2 méter x 2 méter | E33: A szennyvíz, és a belőle felszabaduló gázok hatására a felületek elkorrodálnak. Ezen elemek cseréje a A kiépített rendszer működőképességének megóvása, a biztonságos üzemelés biztosítása miatt van szükség a munka elvégzésérehez elengedhetetlen | F33: Statikai stabilitás biztosítása | G33: A viziközmű elem állapota megközelíti az új elem berendezés állapotát. Az üzembiztonság jelentősen növekszik | I33: Babosdöbréte | J33: =SUM(O33:AC33) -> 150 | L33: 43466 | M33: 43830 | N33: rövid | O33: 150
C34: Babosdöbréte | D34: átemelő akna építészeti rekonstrukció | E34: A szennyvíz, és a belőle felszabaduló gázok hatására a felületek elkorrodálnak. Ezen elemek cseréje a A kiépített rendszer működőképességének megóvása, a biztonságos üzemelés biztosítása miatt van szükség a munka elvégzésérehez elengedhetetlen | F34: Statikai stabilitás biztosítása | G34: A viziközmű elem állapota megközelíti az új elem berendezés állapotát. Az üzembiztonság jelentősen növekszik | I34: Babosdöbréte | J34: =SUM(O34:AC34) -> 4750 | L34: 43831 | M34: 44926 | N34: közép | P34: 1150 | Q34: 2250 | R34: 1350
C35: Babosdöbréte | D35: átemelő akna építészeti rekonstrukció | E35: A szennyvíz, és a belőle felszabaduló gázok hatására a felületek elkorrodálnak. Ezen elemek cseréje a A kiépített rendszer működőképességének megóvása, a biztonságos üzemelés biztosítása miatt van szükség a munka elvégzésérehez elengedhetetlen | F35: Statikai stabilitás biztosítása | G35: A viziközmű elem állapota megközelíti az új elem berendezés állapotát. Az üzembiztonság jelentősen növekszik | I35: Babosdöbréte | J35: =SUM(O35:AC35) -> 9100 | L35: 45292 | M35: 48579 | N35: hosszú | T35: 1460 | U35: 1720 | V35: 2260 | W35: 500 | X35: 210 | Y35: 600 | Z35: 1150 | AA35: 600 | AB35: 600
C36: Babosdöbréte | D36: HBA akna építészeti rekonstrukció | E36: A szennyvíz, és a belőle felszabaduló gázok hatására a felületek elkorrodálnak. Ezen elemek cseréje a A kiépített rendszer működőképességének megóvása, a biztonságos üzemelés biztosítása miatt van szükség a munka elvégzésérehez elengedhetetlen | F36: Statikai stabilitás biztosítása | G36: A viziközmű elem állapota megközelíti az új elem berendezés állapotát. Az üzembiztonság jelentősen növekszik | I36: Babosdöbréte | J36: =SUM(O36:AC36) -> 200 | L36: 43831 | M36: 44926 | N36: közép | P36: 100 | R36: 100
C37: Babosdöbréte | D37: HBA akna építészeti rekonstrukció | E37: A szennyvíz, és a belőle felszabaduló gázok hatására a felületek elkorrodálnak. Ezen elemek cseréje a A kiépített rendszer működőképességének megóvása, a biztonságos üzemelés biztosítása miatt van szükség a munka elvégzésérehez elengedhetetlen | F37: Statikai stabilitás biztosítása | G37: A viziközmű elem állapota megközelíti az új elem berendezés állapotát. Az üzembiztonság jelentősen növekszik | I37: Babosdöbréte | J37: =SUM(O37:AC37) -> 300 | L37: 45292 | M37: 47848 | N37: hosszú | T37: 100 | W37: 100 | Z37: 100
B38: Gép, berendezés
C39: Babosdöbréte | D39: szivattyú felújítások átemelőknél | E39: A viziközmű elem a napi üzemmenet során oly mértékig elhasználódott, hogy a normál karbantartási munkákkal már nem biztosítható az üzembiztos működése | F39: A rendszer zavartalan üzemének biztosítása érdekében szükséges a beavatkozás | G39: A beavatkozás után egy hatékonyan működő viziközmű elemet kapunk, mely a kor elvárásainak megfelel. A rendszer üzembiztos, hatékony, és korszerű lesz | I39: Babosdöbréte | J39: =SUM(O39:AC39) -> 700 | L39: 43466 | M39: 43830 | N39: rövid | O39: 700
C40: Babosdöbréte | D40: gépészeti rekonstrukció (1-6) | E40: Az üzemelő viziközmű elem működése közben előforduló eseti meghibásodások fordulhatnak elő, melyek előre nem tervezhetők | F40: A kiépített rendszer működőképességének megóvása, a biztonságos üzemelés biztosítása miatt van szükség a munka elvégzésére | G40: A beavatkozás után egy hatékonyan működő viziközmű elemet kapunk, mely a kor elvárásainak megfelel. A rendszer üzembiztos, hatékony, és korszerű lesz | I40: Babosdöbréte | J40: =SUM(O40:AC40) -> 10350 | L40: 43831 | M40: 45291 | N40: közép | P40: 3650 | Q40: 3400 | R40: 3050 | S40: 250
...

Sheet Bagod
A1: Gördülő fejlesztési terv a 2019 - 2033 időszakra
A2: FELÚJÍTÁSOK ÉS PÓTLÁSOK ÖSSZEFOGLALÓ TÁBLÁZATA
A3: A tervet benyújtó szervezet megnevezése: | K3: BAGOD | R3: ellátásért felelős / ellátásért felelősök képviselője / víziközmű-szolgáltató *
A4: Víziközmű-szolgáltató megnevezése: | K4: ÉSZAK ZALAI VÍZ- ÉS CSATORNAMŰ ZÁRTKÖRŰEN MŰKÖDŐ RÉSZVÉNYTÁRSASÁG
A5: Víziközmű-szolgáltatási ágazat megnevezése: | K5: SZENNYVÍZ ÁGAZAT
A6: Véleményeltérést megfogalmazó érintett fél megnevezése:
A7: Víziközmű-rendszer kódja: ** | K7: 21-32054-1-048-01-10 | R7: ZALAEGERSZEG-SZV
A8: V. Szennyvízelvezetés
A9: Fontossági sorrend | B9: Felujítás és pótlás megnevezése | E9: Műszaki állapot felmérés, szükségességi indoklás | H9: Vízjogi létesítési/elvi engedély száma | I9: Az érintett ellátásért felelős(ök) megnevezése | J9: Tervezett nettó költség | K9: Forrás 2019 évre | L9: Megvalósítás időtartama | N9: Tervezett időtáv | O9: A beruházás ütemezése a tervezési időszak évei szerint
E10: Jelenlegi műszaki állapot | F10: Feladat szükségessége | G10: Megvalósítást követő várható műszaki állapot | J10: (eFt) | L10: Kezdés | M10: Befejezés | N10: (rövid / közép / hosszú) | O10: 1 | P10: 2 | Q10: 3 | R10: 4 | S10: 5 | T10: 6 | U10: 7 | V10: 8 | W10: 9 | X10: 10 | Y10: 11 | Z10: 12 | AA10: 13 | AB10: 14 | AC10: 15
B11: szakág | C11: Helyszín | D11: beruházás megnevezése
A12: 1 | D12: Rendkívüli helyzetből adódó azonnali feladatok (max. 15%) | F12: A rendszer zavartalan üzemének biztosítása érdekében szükséges a beavatkozás | I12: Bagod | J12: =SUM(O12:AC12) -> 14582.1 | L12: 43466 | M12: 48944 | O12: 972 | P12: =$K$45*0.15 -> 972.15 | Q12: =$K$45*0.15 -> 972.15 | R12: =$K$45*0.15 -> 972.15 | S12: =$K$45*0.15 -> 972.15 | T12: =$K$45*0.15 -> 972.15 | U12: =$K$45*0.15 -> 972.15 | V12: =$K$45*0.15 -> 972.15 | W12: =$K$45*0.15 -> 972.15 | ... AC12: =$K$45*0.15 -> 972.15
B13: SZENNYVÍZCSATORNA (GRAVITÁCIÓS)
B14: Épület, építmény
C15: Bagod | D15: Idegenvíz kizárása a csatornadiagnosztikai vizsgálat és a helyszíni ellenőrzés alapján¹ | E15: Az üzemelő viziközmű technológiailag elavult, üzemeltetése, és javítása már nem gazdaságos. Jelenleg a piacon magasabb műszaki tartalmak érhetőek el | F15: A viziközmű rendszer hatékonyságának növelése, az üzemeltetési költségek szinten tartása miatt szükséges | G15: A beavatkozás után egy hatékonyan működő viziközmű elemet kapunk, mely a kor elvárásainak megfelel. A rendszer üzembiztos, hatékony, és korszerű lesz | I15: Bagod | J15: =SUM(O15:AC15) -> 1200 | L15: 43831 | M15: 45291 | N15: közép | P15: 300 | Q15: 300 | R15: 300 | S15: 300
C16: Bagod | D16: Idegenvíz kizárása a csatornadiagnosztikai vizsgálat és a helyszíni ellenőrzés alapján¹ | E16: Az üzemelő viziközmű technológiailag elavult, üzemeltetése, és javítása már nem gazdaságos. Jelenleg a piacon magasabb műszaki tartalmak érhetőek el | F16: A viziközmű rendszer hatékonyságának növelése, az üzemeltetési költségek szinten tartása miatt szükséges | G16: A beavatkozás után egy hatékonyan működő viziközmű elemet kapunk, mely a kor elvárásainak megfelel. A rendszer üzembiztos, hatékony, és korszerű lesz | I16: Bagod | J16: =SUM(O16:AC16) -> 3000 | L16: 45292 | M16: 48944 | N16: hosszú | T16: 300 | U16: 300 | V16: 300 | W16: 300 | X16: 300 | Y16: 300 | Z16: 300 | AA16: 300 | AB16: 300 | AC16: 300
C17: Bagod | D17: Gravitációs csatorna NA200 rekonstrukció | E17: Az üzemelő viziközmű technológiailag elavult, üzemeltetése, és javítása már nem gazdaságos. Jelenleg a piacon magasabb műszaki tartalmak érhetőek el | F17: A viziközmű rendszer hatékonyságának növelése, az üzemeltetési költségek szinten tartása miatt szükséges | G17: A beavatkozás után egy hatékonyan működő viziközmű elemet kapunk, mely a kor elvárásainak megfelel. A rendszer üzembiztos, hatékony, és korszerű lesz | I17: Bagod | J17: =SUM(O17:AC17) -> 9200 | L17: 43831 | M17: 44926 | N17: közép | P17: 4600 | R17: 4600
C18: Bagod | D18: Gravitációs csatorna NA200 rekonstrukció | E18: Az üzemelő viziközmű technológiailag elavult, üzemeltetése, és javítása már nem gazdaságos. Jelenleg a piacon magasabb műszaki tartalmak érhetőek el | F18: A viziközmű rendszer hatékonyságának növelése, az üzemeltetési költségek szinten tartása miatt szükséges | G18: A beavatkozás után egy hatékonyan működő viziközmű elemet kapunk, mely a kor elvárásainak megfelel. A rendszer üzembiztos, hatékony, és korszerű lesz | I18: Bagod | J18: =SUM(O18:AC18) -> 18400 | L18: 45658 | M18: 48213 | N18: hosszú | U18: 4600 | W18: 4600 | Y18: 4600 | AA18: 4600
B19: SZENNYVÍZVEZETÉKEK (KÉNYSZERÁRAMOLTATÁSÚ)
C20: Bagod | D20: Nyomott vezeték NA50 rekonstrukció | E20: Az üzemelő viziközmű technológiailag elavult, üzemeltetése, és javítása már nem gazdaságos. Jelenleg a piacon magasabb műszaki tartalmak érhetőek el | F20: A kiépített rendszer működőképességének megóvása, a biztonságos üzemelés biztosítása miatt van szükség a munka elvégzésére | G20: A viziközmű elem állapota megközelíti az új elem berendezés állapotát. Az üzembiztonság jelentősen növekszik | I20: Bagod | J20: =SUM(O20:AC20) -> 9300 | L20: 43831 | M20: 45291 | N20: közép | P20: 3100 | Q20: 3100 | S20: 3100
C21: Bagod | D21: Nyomott vezeték NA50 rekonstrukció | E21: Az üzemelő viziközmű technológiailag elavult, üzemeltetése, és javítása már nem gazdaságos. Jelenleg a piacon magasabb műszaki tartalmak érhetőek el | F21: A kiépített rendszer működőképességének megóvása, a biztonságos üzemelés biztosítása miatt van szükség a munka elvégzésére | G21: A viziközmű elem állapota megközelíti az új elem berendezés állapotát. Az üzembiztonság jelentősen növekszik | I21: Bagod | J21: =SUM(O21:AC21) -> 9300 | L21: 46023 | M21: 48579 | N21: hosszú | V21: 3100 | Y21: 3100 | AB21: 3100
C22: Bagod | D22: Nyomott vezeték NA80 rekonstrukció | E22: Az üzemelő viziközmű technológiailag elavult, üzemeltetése, és javítása már nem gazdaságos. Jelenleg a piacon magasabb műszaki tartalmak érhetőek el | F22: A kiépített rendszer működőképességének megóvása, a biztonságos üzemelés biztosítása miatt van szükség a munka elvégzésére | G22: A viziközmű elem állapota megközelíti az új elem berendezés állapotát. Az üzembiztonság jelentősen növekszik | I22: Bagod | J22: =SUM(O22:AC22) -> 2100 | L22: 44197 | M22: 44561 | N22: közép | Q22: 2100
C23: Bagod | D23: Nyomott vezeték NA80 rekonstrukció | E23: Az üzemelő viziközmű technológiailag elavult, üzemeltetése, és javítása már nem gazdaságos. Jelenleg a piacon magasabb műszaki tartalmak érhetőek el | F23: A kiépített rendszer működőképességének megóvása, a biztonságos üzemelés biztosítása miatt van szükség a munka elvégzésére | G23: A viziközmű elem állapota megközelíti az új elem berendezés állapotát. Az üzembiztonság jelentősen növekszik | I23: Bagod | J23: =SUM(O23:AC23) -> 6300 | L23: 45292 | M23: 47848 | N23: hosszú | T23: 2100 | W23: 2100 | Z23: 2100
C24: Bagod | D24: Nyomott vezeték NA100 rekonstrukció | E24: Az üzemelő viziközmű technológiailag elavult, üzemeltetése, és javítása már nem gazdaságos. Jelenleg a piacon magasabb műszaki tartalmak érhetőek el | F24: A kiépített rendszer működőképességének megóvása, a biztonságos üzemelés biztosítása miatt van szükség a munka elvégzésére | G24: A viziközmű elem állapota megközelíti az új elem berendezés állapotát. Az üzembiztonság jelentősen növekszik | I24: Bagod | J24: =SUM(O24:AC24) -> 4600 | L24: 43831 | M24: 45291 | N24: közép | P24: 2300 | S24: 2300
C25: Bagod | D25: Nyomott vezeték NA100 rekonstrukció | E25: Az üzemelő viziközmű technológiailag elavult, üzemeltetése, és javítása már nem gazdaságos. Jelenleg a piacon magasabb műszaki tartalmak érhetőek el | F25: A kiépített rendszer működőképességének megóvása, a biztonságos üzemelés biztosítása miatt van szükség a munka elvégzésére | G25: A viziközmű elem állapota megközelíti az új elem berendezés állapotát. Az üzembiztonság jelentősen növekszik | I25: Bagod | J25: =SUM(O25:AC25) -> 2300 | L25: 46388 | M25: 46752 | N25: hosszú | W25: 2300
C26: Bagod | D26: Nyomott vezeték NA150 rekonstrukció | E26: Az üzemelő viziközmű technológiailag elavult, üzemeltetése, és javítása már nem gazdaságos. Jelenleg a piacon magasabb műszaki tartalmak érhetőek el | F26: A kiépített rendszer működőképességének megóvása, a biztonságos üzemelés biztosítása miatt van szükség a munka elvégzésére | G26: A viziközmű elem állapota megközelíti az új elem berendezés állapotát. Az üzembiztonság jelentősen növekszik | I26: Bagod | J26: =SUM(O26:AC26) -> 10200 | L26: 43831 | M26: 45291 | N26: közép | P26: 3400 | Q26: 3400 | S26: 3400
C27: Bagod | D27: Nyomott vezeték NA150 rekonstrukció | E27: Az üzemelő viziközmű technológiailag elavult, üzemeltetése, és javítása már nem gazdaságos. Jelenleg a piacon magasabb műszaki tartalmak érhetőek el | F27: A kiépített rendszer működőképességének megóvása, a biztonságos üzemelés biztosítása miatt van szükség a munka elvégzésére | G27: A viziközmű elem állapota megközelíti az új elem berendezés állapotát. Az üzembiztonság jelentősen növekszik | I27: Bagod | J27: =SUM(O27:AC27) -> 10200 | L27: 45658 | M27: 47848 | N27: hosszú | U27: 3400 | X27: 3400 | Z27: 3400
B28: SZENNYVÍZÁTEMELŐK
B29: Épület, építmény
C30: Bagod | D30: átemelő akna építészeti rekonstrukció | E30: A szennyvíz, és a belőle felszabaduló gázok hatására a felületek elkorrodálnak. Ezen elemek cseréje a A kiépített rendszer működőképességének megóvása, a biztonságos üzemelés biztosítása miatt van szükség a munka elvégzésérehez elengedhetetlen | F30: Statikai stabilitás biztosítása | G30: A viziközmű elem állapota megközelíti az új elem berendezés állapotát. Az üzembiztonság jelentősen növekszik | I30: Bagod | J30: =SUM(O30:AC30) -> 1100 | L30: 43831 | M30: 45291 | N30: közép | P30: 300 | Q30: 250 | R30: 300 | S30: 250
C31: Bagod | D31: átemelő akna építészeti rekonstrukció | E31: A szennyvíz, és a belőle felszabaduló gázok hatására a felületek elkorrodálnak. Ezen elemek cseréje a A kiépített rendszer működőképességének megóvása, a biztonságos üzemelés biztosítása miatt van szükség a munka elvégzésérehez elengedhetetlen | F31: Statikai stabilitás biztosítása | G31: A viziközmű elem állapota megközelíti az új elem berendezés állapotát. Az üzembiztonság jelentősen növekszik | I31: Bagod | J31: =SUM(O31:AC31) -> 4260 | L31: 45292 | M31: 48944 | N31: hosszú | T31: 1950 | V31: 60 | X31: 250 | Y31: 400 | Z31: 400 | AA31: 400 | AB31: 400 | AC31: 400
C32: Bagod | D32: HBA akna építészeti rekonstrukció | E32: Az üzemelő viziközmű technológiailag elavult, üzemeltetése, és javítása már nem gazdaságos. Jelenleg a piacon magasabb műszaki tartalmak érhetőek el | F32: A kiépített rendszer működőképességének megóvása, a biztonságos üzemelés biztosítása miatt van szükség a munka elvégzésére | G32: A viziközmű elem állapota megközelíti az új elem berendezés állapotát. Az üzembiztonság jelentősen növekszik | I32: Bagod | J32: =SUM(O32:AC32) -> 1200 | L32: 43831 | M32: 45291 | N32: közép | P32: 300 | Q32: 300 | R32: 300 | S32: 300
C33: Bagod | D33: HBA akna építészeti rekonstrukció | E33: Az üzemelő viziközmű technológiailag elavult, üzemeltetése, és javítása már nem gazdaságos. Jelenleg a piacon magasabb műszaki tartalmak érhetőek el | F33: A kiépített rendszer működőképességének megóvása, a biztonságos üzemelés biztosítása miatt van szükség a munka elvégzésére | G33: A viziközmű elem állapota megközelíti az új elem berendezés állapotát. Az üzembiztonság jelentősen növekszik | I33: Bagod | J33: =SUM(O33:AC33) -> 3000 | L33: 45292 | M33: 48944 | N33: hosszú | T33: 300 | U33: 300 | V33: 300 | W33: 300 | X33: 300 | Y33: 300 | Z33: 300 | AA33: 300 | AB33: 300 | AC33: 300
B34: Gép, berendezés
C35: Bagod | D35: HBA szivattyú cserék | E35: Az üzemelő viziközmű elem működése közben előforduló eseti meghibásodások fordulhatnak elő, melyek előre nem tervezhetők | F35: A kiépített rendszer működőképességének megóvása, a biztonságos üzemelés biztosítása miatt van szükség a munka elvégzésére | G35: A beavatkozás után egy hatékonyan működő viziközmű elemet kapunk, mely a kor elvárásainak megfelel. A rendszer üzembiztos, hatékony, és korszerű lesz | I35: Bagod | J35: =SUM(O35:AC35) -> 3000 | L35: 43466 | M35: 43830 | N35: rövid | O35: 3000
C36: Bagod | D36: szivattyú felújítások átemelőknél | E36: Az üzemelő viziközmű elem működése közben előforduló eseti meghibásodások fordulhatnak elő, melyek előre nem tervezhetők | F36: A kiépített rendszer működőképességének megóvása, a biztonságos üzemelés biztosítása miatt van szükség a munka elvégzésére | G36: A beavatkozás után egy hatékonyan működő viziközmű elemet kapunk, mely a kor elvárásainak megfelel. A rendszer üzembiztos, hatékony, és korszerű lesz | I36: Bagod | J36: =SUM(O36:AC36) -> 2500 | L36: 43466 | M36: 43830 | N36: rövid | O36: 2500
C37: Bagod | D37: gépészeti rekonstrukció (1-6) | E37: A viziközmű elem a napi üzemmenet során oly mértékig elhasználódott, hogy a normál karbantartási munkákkal már nem biztosítható az üzembiztos működése | F37: A rendszer zavartalan üzemének biztosítása érdekében szükséges a beavatkozás | G37: A beavatkozás után egy hatékonyan működő viziközmű elemet kapunk, mely a kor elvárásainak megfelel. A rendszer üzembiztos, hatékony, és korszerű lesz | I37: Bagod | J37: =SUM(O37:AC37) -> 10000 | L37: 43831 | M37: 45291 | N37: közép | P37: 2200 | Q37: 200 | S37: 7600
C38: Bagod | D38: gépészeti rekonstrukció (1-6) | E38: Az üzemelő viziközmű elem működése közben előforduló eseti meghibásodások fordulhatnak elő, melyek előre nem tervezhetők | F38: A kiépített rendszer működőképességének megóvása, a biztonságos üzemelés biztosítása miatt van szükség a munka elvégzésére | G38: A beavatkozás után egy hatékonyan működő viziközmű elemet kapunk, mely a kor elvárásainak megfelel. A rendszer üzembiztos, hatékony, és korszerű lesz | I38: Bagod | J38: =SUM(O38:AC38) -> 3300 | L38: 45292 | M38: 48213 | N38: hosszú | T38: 2500 | U38: 200 | W38: 200 | Y38: 200 | AA38: 200
C39: Bagod | D39: HBA gépészeti rekonstrukció (1-6) | E39: Az üzemelő viziközmű elem működése közben előforduló eseti meghibásodások fordulhatnak elő, melyek előre nem tervezhetők | F39: A kiépített rendszer működőképességének megóvása, a biztonságos üzemelés biztosítása miatt van szükség a munka elvégzésére | G39: A beavatkozás után egy hatékonyan működő viziközmű elemet kapunk, mely a kor elvárásainak megfelel. A rendszer üzembiztos, hatékony, és korszerű lesz | I39: Bagod | J39: =SUM(O39:AC39) -> 5600 | L39: 43831 | M39: 45291 | N39: közép | P39: 1400 | Q39: 1400 | R39: 1400 | S39: 1400
C40: Bagod | D40: HBA gépészeti rekonstrukció (1-6) | E40: A viziközmű elem a napi üzemmenet során oly mértékig elhasználódott, hogy a normál karbantartási munkákkal már nem biztosítható az üzembiztos működése | F40: A rendszer zavartalan üzemének biztosítása érdekében szükséges a beavatkozás | G40: A viziközmű elem állapota megközelíti az új elem berendezés állapotát. Az üzembiztonság jelentősen növekszik | I40: Bagod | J40: =SUM(O40:AC40) -> 14000 | L40: 45292 | M40: 48944 | N40: hosszú | T40: 1400 | U40: 1400 | V40: 1400 | W40: 1400 | X40: 1400 | Y40: 1400 | Z40: 1400 | AA40: 1400 | AB40: 1400 | AC40: 1400
...

Sheet Bak
A1: Gördülő fejlesztési terv a 2019 - 2033 időszakra
A2: FELÚJÍTÁSOK ÉS PÓTLÁSOK ÖSSZEFOGLALÓ TÁBLÁZATA
A3: A tervet benyújtó szervezet megnevezése: | K3: BAK | R3: ellátásért felelős / ellátásért felelősök képviselője / víziközmű-szolgáltató *
A4: Víziközmű-szolgáltató megnevezése: | K4: ÉSZAK ZALAI VÍZ- ÉS CSATORNAMŰ ZÁRTKÖRŰEN MŰKÖDŐ RÉSZVÉNYTÁRSASÁG
A5: Víziközmű-szolgáltatási ágazat megnevezése: | K5: SZENNYVÍZ ÁGAZAT
A6: Véleményeltérést megfogalmazó érintett fél megnevezése:
A7: Víziközmű-rendszer kódja: ** | K7: 21-32054-1-048-01-10 | R7: ZALAEGERSZEG-SZV
A8: V. Szennyvízelvezetés
A9: Fontossági sorrend | B9: Felujítás és pótlás megnevezése | E9: Műszaki állapot felmérés, szükségességi indoklás | H9: Vízjogi létesítési/elvi engedély száma | I9: Az érintett ellátásért felelős(ök) megnevezése | J9: Tervezett nettó költség | K9: Forrás 2019 évre | L9: Megvalósítás időtartama | N9: Tervezett időtáv | O9: A beruházás ütemezése a tervezési időszak évei szerint
E10: Jelenlegi műszaki állapot | F10: Feladat szükségessége | G10: Megvalósítást követő várható műszaki állapot | J10: (eFt) | L10: Kezdés | M10: Befejezés | N10: (rövid / közép / hosszú) | O10: 1 | P10: 2 | Q10: 3 | R10: 4 | S10: 5 | T10: 6 | U10: 7 | V10: 8 | W10: 9 | X10: 10 | Y10: 11 | Z10: 12 | AA10: 13 | AB10: 14 | AC10: 15
B11: szakág | C11: Helyszín | D11: beruházás megnevezése
