Workbook

Sheet Alibánfa
A1: Gördülő fejlesztési terv a 2019 - 2033 időszakra
A2: FELÚJÍTÁSOK ÉS PÓTLÁSOK ÖSSZEFOGLALÓ TÁBLÁZATA
A3: A tervet benyújtó szervezet megnevezése: | K3: ALIBÁNFA | R3: ellátásért felelős / ellátásért felelősök képviselője / víziközmű-szolgáltató *
A4: Víziközmű-szolgáltató megnevezése: | K4: ÉSZAK ZALAI VÍZ- ÉS CSATORNAMŰ ZÁRTKÖRŰEN MŰKÖDŐ RÉSZVÉNYTÁRSASÁG
A5: Víziközmű-szolgáltatási ágazat megnevezése: | K5: SZENNYVÍZ ÁGAZAT
A6: Véleményeltérést megfogalmazó érintett fél megnevezése:
A7: Víziközmű-rendszer kódja: ** | K7: 21-32054-1-048-01-10 | R7: ZALAEGERSZEG-SZV
A8: V. Szennyvízelvezetés
A9: Fontossági sorrend | B9: Felujítás és pótlás megnevezése | E9: Műszaki állapot felmérés, szükségességi indoklás | H9: Vízjogi létesítési/elvi engedély száma | I9: Az érintett ellátásért felelős(ök) megnevezése | J9: Tervezett nettó költség | K9: Forrás 2019 évre | L9: Megvalósítás időtartama | N9: Tervezett időtáv | O9: A beruházás ütemezése a tervezési időszak évei szerint
E10: Jelenlegi műszaki állapot | F10: Feladat szükségessége | G10: Megvalósítást követő várható műszaki állapot | J10: (eFt) | L10: Kezdés | M10: Befejezés | N10: (rövid / közép / hosszú) | O10: 1 | P10: 2 | Q10: 3 | R10: 4 | S10: 5 | T10: 6 | U10: 7 | V10: 8 | W10: 9 | X10: 10 | Y10: 11 | Z10: 12 | AA10: 13 | AB10: 14 | AC10: 15
B11: szakág | C11: Helyszín | D11: beruházás megnevezése
A12: 1 | D12: Rendkívüli helyzetből adódó azonnali feladatok (max. 15%) | F12: A rendszer zavartalan üzemének biztosítása érdekében szükséges a beavatkozás | I12: Alibánfa | J12: =SUM(O12:AC12) -> 5474.3 | L12: 43466 | M12: 48944 | O12: 365 | P12: =$K$37*0.15 -> 364.95 | Q12: =$K$37*0.15 -> 364.95 | R12: =$K$37*0.15 -> 364.95 | S12: =$K$37*0.15 -> 364.95 | T12: =$K$37*0.15 -> 364.95 | U12: =$K$37*0.15 -> 364.95 | V12: =$K$37*0.15 -> 364.95 | W12: =$K$37*0.15 -> 364.95 | ... AC12: =$K$37*0.15 -> 364.95
B13: SZENNYVÍZCSATORNA (GRAVITÁCIÓS)
B14: Épület, építmény
C15: Alibánfa | D15: Idegenvíz kizárása a csatornadiagnosztikai vizsgálat és a helyszíni ellenőrzés alapján¹ | E15: Az üzemelő viziközmű technológiailag elavult, üzemeltetése, és javítása már nem gazdaságos. Jelenleg a piacon magasabb műszaki tartalmak érhetőek el | F15: A viziközmű rendszer hatékonyságának növelése, az üzemeltetési költségek szinten tartása miatt szükséges | G15: A beavatkozás után egy hatékonyan működő viziközmű elemet kapunk, mely a kor elvárásainak megfelel. A rendszer üzembiztos, hatékony, és korszerű lesz | I15: Alibánfa | J15: =SUM(O15:AC15) -> 2000 | L15: 43831 | M15: 45291 | N15: közép | P15: 500 | Q15: 500 | R15: 500 | S15: 500
C16: Alibánfa | D16: Idegenvíz kizárása a csatornadiagnosztikai vizsgálat és a helyszíni ellenőrzés alapján¹ | E16: Az üzemelő viziközmű technológiailag elavult, üzemeltetése, és javítása már nem gazdaságos. Jelenleg a piacon magasabb műszaki tartalmak érhetőek el | F16: A viziközmű rendszer hatékonyságának növelése, az üzemeltetési költségek szinten tartása miatt szükséges | G16: A beavatkozás után egy hatékonyan működő viziközmű elemet kapunk, mely a kor elvárásainak megfelel. A rendszer üzembiztos, hatékony, és korszerű lesz | I16: Alibánfa | J16: =SUM(O16:AC16) -> 2900 | L16: 45292 | M16: 48944 | N16: hosszú | T16: 500 | U16: 500 | V16: 500 | W16: 200 | X16: 200 | Y16: 200 | Z16: 200 | AA16: 200 | AB16: 200 | AC16: 200
C17: Alibánfa | D17: Gravitációs csatorna NA 150 rekonstrukció | E17: Az üzemelő viziközmű technológiailag elavult, üzemeltetése, és javítása már nem gazdaságos. Jelenleg a piacon magasabb műszaki tartalmak érhetőek el | F17: A viziközmű rendszer hatékonyságának növelése, az üzemeltetési költségek szinten tartása miatt szükséges | G17: A beavatkozás után egy hatékonyan működő viziközmű elemet kapunk, mely a kor elvárásainak megfelel. A rendszer üzembiztos, hatékony, és korszerű lesz | I17: Alibánfa | J17: =SUM(O17:AC17) -> 4000 | L17: 43831 | M17: 45291 | N17: közép | P17: 2000 | S17: 2000
C18: Alibánfa | D18: Gravitációs csatorna NA 150 rekonstrukció | E18: Az üzemelő viziközmű technológiailag elavult, üzemeltetése, és javítása már nem gazdaságos. Jelenleg a piacon magasabb műszaki tartalmak érhetőek el | F18: A viziközmű rendszer hatékonyságának növelése, az üzemeltetési költségek szinten tartása miatt szükséges | G18: A beavatkozás után egy hatékonyan működő viziközmű elemet kapunk, mely a kor elvárásainak megfelel. A rendszer üzembiztos, hatékony, és korszerű lesz | I18: Alibánfa | J18: =SUM(O18:AC18) -> 4000 | L18: 46388 | M18: 48213 | N18: hosszú | W18: 2000 | AA18: 2000
C19: Alibánfa | D19: Gravitációs csatorna NA200 rekonstrukció | E19: Az üzemelő viziközmű technológiailag elavult, üzemeltetése, és javítása már nem gazdaságos. Jelenleg a piacon magasabb műszaki tartalmak érhetőek el | F19: A viziközmű rendszer hatékonyságának növelése, az üzemeltetési költségek szinten tartása miatt szükséges | G19: A beavatkozás után egy hatékonyan működő viziközmű elemet kapunk, mely a kor elvárásainak megfelel. A rendszer üzembiztos, hatékony, és korszerű lesz | I19: Alibánfa | J19: =SUM(O19:AC19) -> 5000 | L19: 43831 | M19: 44196 | N19: közép | P19: 5000
C20: Alibánfa | D20: Gravitációs csatorna NA200 rekonstrukció | E20: Az üzemelő viziközmű technológiailag elavult, üzemeltetése, és javítása már nem gazdaságos. Jelenleg a piacon magasabb műszaki tartalmak érhetőek el | F20: A viziközmű rendszer hatékonyságának növelése, az üzemeltetési költségek szinten tartása miatt szükséges | G20: A beavatkozás után egy hatékonyan működő viziközmű elemet kapunk, mely a kor elvárásainak megfelel. A rendszer üzembiztos, hatékony, és korszerű lesz | I20: Alibánfa | J20: =SUM(O20:AC20) -> 15000 | L20: 45292 | M20: 48579 | N20: hosszú | T20: 5000 | X20: 5000 | AB20: 5000
B21: SZENNYVÍZVEZETÉKEK (KÉNYSZERÁRAMOLTATÁSÚ)
C22: Alibánfa | D22: Nyomott vezeték NA100 rekonstrukció | E22: Az üzemelő viziközmű technológiailag elavult, üzemeltetése, és javítása már nem gazdaságos. Jelenleg a piacon magasabb műszaki tartalmak érhetőek el | F22: A kiépített rendszer működőképességének megóvása, a biztonságos üzemelés biztosítása miatt van szükség a munka elvégzésére | G22: A viziközmű elem állapota megközelíti az új elem berendezés állapotát. Az üzembiztonság jelentősen növekszik | I22: Alibánfa | J22: =SUM(O22:AC22) -> 6060 | L22: 43831 | M22: 45291 | N22: közép | P22: 3030 | S22: 3030
C23: Alibánfa | D23: Nyomott vezeték NA100 rekonstrukció | E23: Az üzemelő viziközmű technológiailag elavult, üzemeltetése, és javítása már nem gazdaságos. Jelenleg a piacon magasabb műszaki tartalmak érhetőek el | F23: A kiépített rendszer működőképességének megóvása, a biztonságos üzemelés biztosítása miatt van szükség a munka elvégzésére | G23: A viziközmű elem állapota megközelíti az új elem berendezés állapotát. Az üzembiztonság jelentősen növekszik | I23: Alibánfa | J23: =SUM(O23:AC23) -> 6060 | L23: 46388 | M23: 48213 | N23: hosszú | W23: 3030 | AA23: 3030
C24: Alibánfa | D24: Nyomott vezeték NA100 rekonstrukció | E24: Az üzemelő viziközmű technológiailag elavult, üzemeltetése, és javítása már nem gazdaságos. Jelenleg a piacon magasabb műszaki tartalmak érhetőek el | F24: A kiépített rendszer működőképességének megóvása, a biztonságos üzemelés biztosítása miatt van szükség a munka elvégzésére | G24: A viziközmű elem állapota megközelíti az új elem berendezés állapotát. Az üzembiztonság jelentősen növekszik | I24: Alibánfa | J24: =SUM(O24:AC24) -> 2200 | L24: 44197 | M24: 44561 | N24: közép | Q24: 2200
C25: Alibánfa | D25: Nyomott vezeték NA100 rekonstrukció | E25: Az üzemelő viziközmű technológiailag elavult, üzemeltetése, és javítása már nem gazdaságos. Jelenleg a piacon magasabb műszaki tartalmak érhetőek el | F25: A kiépített rendszer működőképességének megóvása, a biztonságos üzemelés biztosítása miatt van szükség a munka elvégzésére | G25: A viziközmű elem állapota megközelíti az új elem berendezés állapotát. Az üzembiztonság jelentősen növekszik | I25: Alibánfa | J25: =SUM(O25:AC25) -> 5500 | L25: 45292 | M25: 47848 | N25: hosszú | T25: 2200 | W25: 2200 | Z25: 1100
B26: SZENNYVÍZÁTEMELŐK
B27: Épület, építmény
C28: Alibánfa | D28: átemelő akna építészeti rekonstrukció | E28: A szennyvíz, és a belőle felszabaduló gázok hatására a felületek elkorrodálnak. Ezen elemek cseréje a A kiépített rendszer működőképességének megóvása, a biztonságos üzemelés biztosítása miatt van szükség a munka elvégzésérehez elengedhetetlen | F28: A kiépített rendszer működőképességének megóvása, a biztonságos üzemelés biztosítása miatt van szükség a munka elvégzésére | G28: A viziközmű elem állapota megközelíti az új elem berendezés állapotát. Az üzembiztonság jelentősen növekszik | I28: Alibánfa | J28: =SUM(O28:AC28) -> 264 | L28: 43831 | M28: 44196 | N28: közép | P28: 264
C29: Alibánfa | D29: átemelő akna építészeti rekonstrukció | E29: A szennyvíz, és a belőle felszabaduló gázok hatására a felületek elkorrodálnak. Ezen elemek cseréje a A kiépített rendszer működőképességének megóvása, a biztonságos üzemelés biztosítása miatt van szükség a munka elvégzésérehez elengedhetetlen | F29: A kiépített rendszer működőképességének megóvása, a biztonságos üzemelés biztosítása miatt van szükség a munka elvégzésére | G29: A viziközmű elem állapota megközelíti az új elem berendezés állapotát. Az üzembiztonság jelentősen növekszik | I29: Alibánfa | J29: =SUM(O29:AC29) -> 4570 | L29: 45658 | M29: 47848 | N29: hosszú | U29: 1200 | V29: 1200 | W29: 1200 | X29: 550 | Y29: 120 | Z29: 300
B30: Gép, berendezés
C31: Alibánfa | D31: szivattyú felújítások átemelőknél | E31: A szennyvíz, és a belőle felszabaduló gázok hatására a felületek elkorrodálnak. Ezen elemek cseréje a A kiépített rendszer működőképességének megóvása, a biztonságos üzemelés biztosítása miatt van szükség a munka elvégzésére.hez elengedhetetlen. | F31: A kiépített rendszer működőképességének megóvása, a biztonságos üzemelés biztosítása miatt van szükség a munka elvégzésére. | G31: A viziközmű elem állapota megközelíti az új elem berendezés állapotát. Az üzembiztonság jelentősen növekszik. | I31: Alibánfa | J31: =SUM(O31:AC31) -> 1100 | L31: 43466 | M31: 43830 | N31: rövid | O31: 1100
C32: Alibánfa | D32: gépészeti rekonstrukció (1-6) | E32: A viziközmű elem a napi üzemmenet során oly mértékig elhasználódott, hogy a normál karbantartási munkákkal már nem biztosítható az üzembiztos működése | F32: A rendszer zavartalan üzemének biztosítása érdekében szükséges a beavatkozás | G32: A beavatkozás után egy hatékonyan működő viziközmű elemet kapunk, mely a kor elvárásainak megfelel. A rendszer üzembiztos, hatékony, és korszerű lesz | I32: Alibánfa | J32: =SUM(O32:AC32) -> 1600 | L32: 43831 | M32: 44926 | N32: közép | P32: 800 | R32: 800
C33: Alibánfa | D33: gépészeti rekonstrukció (1-6) | E33: Az üzemelő viziközmű elem működése közben előforduló eseti meghibásodások fordulhatnak elő, melyek előre nem tervezhetők | F33: A rendszer zavartalan üzemének biztosítása érdekében szükséges a beavatkozás | G33: A beavatkozás után egy hatékonyan működő viziközmű elemet kapunk, mely a kor elvárásainak megfelel. A rendszer üzembiztos, hatékony, és korszerű lesz | I33: Alibánfa | J33: =SUM(O33:AC33) -> 7700 | L33: 45292 | M33: 47848 | N33: hosszú | T33: 800 | U33: 800 | W33: 4500 | Y33: 800 | Z33: 800
B34: Irányítástechnika, energiaellátás
C35: Alibánfa | D35: erősáramú és irányítástechnikai rekonstrukció | E35: A viziközmű elem a napi üzemmenet során oly mértékig elhasználódott, hogy a normál karbantartási munkákkal már nem biztosítható az üzembiztos működése | F35: A kiépített rendszer működőképességének megóvása, a biztonságos üzemelés biztosítása miatt van szükség a munka elvégzésére | G35: A viziközmű elem állapota megközelíti az új elem berendezés állapotát. Az üzembiztonság jelentősen növekszik | I35: Alibánfa | J35: =SUM(O35:AC35) -> 2000 | L35: 44561 | M35: 44561 | N35: közép | Q35: 2000
C36: Alibánfa | D36: erősáramú és irányítástechnikai rekonstrukció | E36: A viziközmű elem a napi üzemmenet során oly mértékig elhasználódott, hogy a normál karbantartási munkákkal már nem biztosítható az üzembiztos működése | F36: A kiépített rendszer működőképességének megóvása, a biztonságos üzemelés biztosítása miatt van szükség a munka elvégzésére | G36: A viziközmű elem állapota megközelíti az új elem berendezés állapotát. Az üzembiztonság jelentősen növekszik | I36: Alibánfa | J36: =SUM(O36:AC36) -> 2000 | L36: 46023 | M36: 46387 | N36: hosszú | V36: 2000
B37: Összesen: | J37: =SUM(J12:J36) -> 77428.3 | K37: =C41 -> 2433 | O37: =SUM(O12:O36) -> 1465 | P37: =SUM(P12:P36) -> 11958.95 | Q37: =SUM(Q12:Q36) -> 5064.95 | R37: =SUM(R12:R36) -> 1664.95 | S37: =SUM(S12:S36) -> 5894.95 | T37: =SUM(T12:T36) -> 8864.95 | U37: =SUM(U12:U36) -> 2864.95 | V37: =SUM(V12:V36) -> 4064.95 | ... AC37: =SUM(AC12:AC36) -> 564.95
K38: 2019 évre a fejlesztési forrás biztosított
B40: Rendelkezésre álló források megnevezése | C40: Rendelkezésre álló források számszerűsített értéke a teljes ütem tekintetében (eFt)
A41: I. ütem | B41: Használati díj (2019) | C41: 2433
A42: II. ütem | B42: Használati díj (2020-2023) | C42: =C41*4 -> 9732
A43: III. ütem | B43: Használati díj (2024-2033) | C43: =C41*10 -> 24330
B47: ¹ Idegenvíz kizárás munkafolyamatai
B48: 1. Törött szerkezeti elemek cseréje, aknában bekötések körbekenése, folyásfenék újra betonozása, hézag pótlása (vízbetörés javítás)
B49: 2. Vízzáró réteg készítés, hosszútávú korrozíó és szerkezeti védelem (Szulfátálló réteg készítése)
B50: 3. Fedlap és szűkítő csere DN 600 mm, terhelésnek megfelelően, üzemeltető előírása szerint
B51: 4. Pontszerű hibahelyek javítása gerincvezetéken, és bekötésen
B53: ²Gépészeti felújítás
B54: 1. szivattyú talpidon csere
B55: 2. nyomócső csere
B56: 3. nadrágidom csere
B57: 4. visszacsapó szelep csere
B58: 5. tolózár csere
B59: 6. vezetőcső csere
... B64: 3. aszfaltozás

Sheet Alsónemesapáti
A1: Gördülő fejlesztési terv a 2019 - 2033 időszakra
A2: FELÚJÍTÁSOK ÉS PÓTLÁSOK ÖSSZEFOGLALÓ TÁBLÁZATA
A3: A tervet benyújtó szervezet megnevezése: | K3: ALSÓNEMESAPÁTI | R3: ellátásért felelős / ellátásért felelősök képviselője / víziközmű-szolgáltató *
A4: Víziközmű-szolgáltató megnevezése: | K4: ÉSZAK ZALAI VÍZ- ÉS CSATORNAMŰ ZÁRTKÖRŰEN MŰKÖDŐ RÉSZVÉNYTÁRSASÁG
A5: Víziközmű-szolgáltatási ágazat megnevezése: | K5: SZENNYVÍZ ÁGAZAT
A6: Véleményeltérést megfogalmazó érintett fél megnevezése:
A7: Víziközmű-rendszer kódja: ** | K7: 21-32054-1-048-01-10 | R7: ZALAEGERSZEG-SZV
A8: V. Szennyvízelvezetés
A9: Fontossági sorrend | B9: Felujítás és pótlás megnevezése | E9: Műszaki állapot felmérés, szükségességi indoklás | H9: Vízjogi létesítési/elvi engedély száma | I9: Az érintett ellátásért felelős(ök) megnevezése | J9: Tervezett nettó költség | K9: Forrás 2019 évre | L9: Megvalósítás időtartama | N9: Tervezett időtáv | O9: A beruházás ütemezése a tervezési időszak évei szerint
E10: Jelenlegi műszaki állapot | F10: Feladat szükségessége | G10: Megvalósítást követő várható műszaki állapot | J10: (eFt) | L10: Kezdés | M10: Befejezés | N10: (rövid / közép / hosszú) | O10: 1 | P10: 2 | Q10: 3 | R10: 4 | S10: 5 | T10: 6 | U10: 7 | V10: 8 | W10: 9 | X10: 10 | Y10: 11 | Z10: 12 | AA10: 13 | AB10: 14 | AC10: 15
B11: szakág | C11: Helyszín | D11: beruházás megnevezése
A12: 1 | D12: Rendkívüli helyzetből adódó azonnali feladatok (max. 15%) | F12: A rendszer zavartalan üzemének biztosítása érdekében szükséges a beavatkozás | I12: Alsónemesapáti | J12: =SUM(O12:AC12) -> 4461.75 | L12: 43466 | M12: 48944 | O12: =$K$43*0.15 -> 297.45 | P12: =$K$43*0.15 -> 297.45 | Q12: =$K$43*0.15 -> 297.45 | R12: =$K$43*0.15 -> 297.45 | S12: =$K$43*0.15 -> 297.45 | T12: =$K$43*0.15 -> 297.45 | U12: =$K$43*0.15 -> 297.45 | V12: =$K$43*0.15 -> 297.45 | ... AC12: =$K$43*0.15 -> 297.45
B13: SZENNYVÍZCSATORNA (GRAVITÁCIÓS)
B14: Épület, építmény
C15: Alsónemesapáti | D15: Idegenvíz kizárása a csatornadiagnosztikai vizsgálat és a helyszíni ellenőrzés alapján¹ | E15: Az üzemelő viziközmű technológiailag elavult, üzemeltetése, és javítása már nem gazdaságos. Jelenleg a piacon magasabb műszaki tartalmak érhetőek el | F15: A viziközmű rendszer hatékonyságának növelése, az üzemeltetési költségek szinten tartása miatt szükséges | G15: A beavatkozás után egy hatékonyan működő viziközmű elemet kapunk, mely a kor elvárásainak megfelel. A rendszer üzembiztos, hatékony, és korszerű lesz | I15: Alsónemesapáti | J15: =SUM(O15:AC15) -> 2644 | L15: 43831 | M15: 45291 | N15: közép | P15: 661 | Q15: 661 | R15: 661 | S15: 661
C16: Alsónemesapáti | D16: Idegenvíz kizárása a csatornadiagnosztikai vizsgálat és a helyszíni ellenőrzés alapján¹ | E16: Az üzemelő viziközmű technológiailag elavult, üzemeltetése, és javítása már nem gazdaságos. Jelenleg a piacon magasabb műszaki tartalmak érhetőek el | F16: A viziközmű rendszer hatékonyságának növelése, az üzemeltetési költségek szinten tartása miatt szükséges | G16: A beavatkozás után egy hatékonyan működő viziközmű elemet kapunk, mely a kor elvárásainak megfelel. A rendszer üzembiztos, hatékony, és korszerű lesz | I16: Alsónemesapáti | J16: =SUM(O16:AC16) -> 4083 | L16: 45292 | M16: 48944 | N16: hosszú | T16: 661 | U16: 661 | V16: 661 | W16: 300 | X16: 300 | Y16: 300 | Z16: 300 | AA16: 300 | AB16: 300 | AC16: 300
C17: Alsónemesapáti | D17: Gravitációs csatorna NA 150 rekonstrukció | E17: Az üzemelő viziközmű technológiailag elavult, üzemeltetése, és javítása már nem gazdaságos. Jelenleg a piacon magasabb műszaki tartalmak érhetőek el | F17: A viziközmű rendszer hatékonyságának növelése, az üzemeltetési költségek szinten tartása miatt szükséges | G17: A beavatkozás után egy hatékonyan működő viziközmű elemet kapunk, mely a kor elvárásainak megfelel. A rendszer üzembiztos, hatékony, és korszerű lesz | I17: Alsónemesapáti | J17: =SUM(O17:AC17) -> 4800 | L17: 43831 | M17: 45291 | N17: közép | P17: 2400 | S17: 2400
C18: Alsónemesapáti | D18: Gravitációs csatorna NA 150 rekonstrukció | E18: Az üzemelő viziközmű technológiailag elavult, üzemeltetése, és javítása már nem gazdaságos. Jelenleg a piacon magasabb műszaki tartalmak érhetőek el | F18: A viziközmű rendszer hatékonyságának növelése, az üzemeltetési költségek szinten tartása miatt szükséges | G18: A beavatkozás után egy hatékonyan működő viziközmű elemet kapunk, mely a kor elvárásainak megfelel. A rendszer üzembiztos, hatékony, és korszerű lesz | I18: Alsónemesapáti | J18: =SUM(O18:AC18) -> 4800 | L18: 46388 | M18: 48213 | N18: hosszú | W18: 2400 | AA18: 2400
C19: Alsónemesapáti | D19: Gravitációs csatorna NA 150 rekonstrukció | E19: Az üzemelő viziközmű technológiailag elavult, üzemeltetése, és javítása már nem gazdaságos. Jelenleg a piacon magasabb műszaki tartalmak érhetőek el | F19: A viziközmű rendszer hatékonyságának növelése, az üzemeltetési költségek szinten tartása miatt szükséges | G19: A beavatkozás után egy hatékonyan működő viziközmű elemet kapunk, mely a kor elvárásainak megfelel. A rendszer üzembiztos, hatékony, és korszerű lesz | I19: Alsónemesapáti | J19: =SUM(O19:AC19) -> 4500 | L19: 44562 | M19: 44926 | N19: közép | R19: 4500
C20: Alsónemesapáti | D20: Gravitációs csatorna NA 150 rekonstrukció | E20: Az üzemelő viziközmű technológiailag elavult, üzemeltetése, és javítása már nem gazdaságos. Jelenleg a piacon magasabb műszaki tartalmak érhetőek el | F20: A viziközmű rendszer hatékonyságának növelése, az üzemeltetési költségek szinten tartása miatt szükséges | G20: A beavatkozás után egy hatékonyan működő viziközmű elemet kapunk, mely a kor elvárásainak megfelel. A rendszer üzembiztos, hatékony, és korszerű lesz | I20: Alsónemesapáti | J20: =SUM(O20:AC20) -> 8800 | L20: 46023 | M20: 47848 | N20: hosszú | V20: 4300 | Z20: 4500
B21: SZENNYVÍZVEZETÉKEK (KÉNYSZERÁRAMOLTATÁSÚ)
B22: Épület, építmény
C23: Alsónemesapáti | D23: nyomó/légtelenítő akna | E23: Az üzemelő viziközmű technológiailag elavult, üzemeltetése, és javítása már nem gazdaságos. Jelenleg a piacon magasabb műszaki tartalmak érhetőek el | F23: A kiépített rendszer működőképességének megóvása, a biztonságos üzemelés biztosítása miatt van szükség a munka elvégzésére | G23: A beavatkozás után egy hatékonyan működő viziközmű elemet kapunk, mely a kor elvárásainak megfelel. A rendszer üzembiztos, hatékony, és korszerű lesz | I23: Alsónemesapáti | J23: =SUM(O23:AC23) -> 360 | L23: 45292 | M23: 45657 | N23: hosszú | T23: 360
C24: Alsónemesapáti | D24: Nyomott vezeték NA80 rekonstrukció | E24: Az üzemelő viziközmű technológiailag elavult, üzemeltetése, és javítása már nem gazdaságos. Jelenleg a piacon magasabb műszaki tartalmak érhetőek el | F24: A kiépített rendszer működőképességének megóvása, a biztonságos üzemelés biztosítása miatt van szükség a munka elvégzésére | G24: A viziközmű elem állapota megközelíti az új elem berendezés állapotát. Az üzembiztonság jelentősen növekszik | I24: Alsónemesapáti | J24: =SUM(O24:AC24) -> 850 | L24: 47484 | M24: 47848 | N24: hosszú | Z24: 850
C25: Alsónemesapáti | D25: Nyomott vezeték NA125 rekonstrukció | E25: Az üzemelő viziközmű technológiailag elavult, üzemeltetése, és javítása már nem gazdaságos. Jelenleg a piacon magasabb műszaki tartalmak érhetőek el | F25: A kiépített rendszer működőképességének megóvása, a biztonságos üzemelés biztosítása miatt van szükség a munka elvégzésére | G25: A viziközmű elem állapota megközelíti az új elem berendezés állapotát. Az üzembiztonság jelentősen növekszik | I25: Alsónemesapáti | J25: =SUM(O25:AC25) -> 2200 | L25: 44197 | M25: 44561 | N25: közép | Q25: 2200
C26: Alsónemesapáti | D26: Nyomott vezeték NA125 rekonstrukció | E26: Az üzemelő viziközmű technológiailag elavult, üzemeltetése, és javítása már nem gazdaságos. Jelenleg a piacon magasabb műszaki tartalmak érhetőek el | F26: A kiépített rendszer működőképességének megóvása, a biztonságos üzemelés biztosítása miatt van szükség a munka elvégzésére | G26: A viziközmű elem állapota megközelíti az új elem berendezés állapotát. Az üzembiztonság jelentősen növekszik | I26: Alsónemesapáti | J26: =SUM(O26:AC26) -> 6900 | L26: 45292 | M26: 47848 | N26: hosszú | T26: 2300 | W26: 2300 | Z26: 2300
C27: Alsónemesapáti | D27: Nyomott vezeték NA150 rekonstrukció | E27: Az üzemelő viziközmű technológiailag elavult, üzemeltetése, és javítása már nem gazdaságos. Jelenleg a piacon magasabb műszaki tartalmak érhetőek el | F27: A kiépített rendszer működőképességének megóvása, a biztonságos üzemelés biztosítása miatt van szükség a munka elvégzésére | G27: A viziközmű elem állapota megközelíti az új elem berendezés állapotát. Az üzembiztonság jelentősen növekszik | I27: Alsónemesapáti | J27: =SUM(O27:AC27) -> 2200 | L27: 44197 | M27: 44561 | N27: közép | Q27: 2200
C28: Alsónemesapáti | D28: Nyomott vezeték NA150 rekonstrukció | E28: Az üzemelő viziközmű technológiailag elavult, üzemeltetése, és javítása már nem gazdaságos. Jelenleg a piacon magasabb műszaki tartalmak érhetőek el | F28: A kiépített rendszer működőképességének megóvása, a biztonságos üzemelés biztosítása miatt van szükség a munka elvégzésére | G28: A viziközmű elem állapota megközelíti az új elem berendezés állapotát. Az üzembiztonság jelentősen növekszik | I28: Alsónemesapáti | J28: =SUM(O28:AC28) -> 6600 | L28: 45292 | M28: 47848 | N28: hosszú | T28: 2200 | W28: 2200 | Z28: 2200
B29: SZENNYVÍZÁTEMELŐK
B30: Épület, építmény
C31: Alsónemesapáti | D31: átemelő akna építészeti rekonstrukció | E31: A szennyvíz, és a belőle felszabaduló gázok hatására a felületek elkorrodálnak. Ezen elemek cseréje a A kiépített rendszer működőképességének megóvása, a biztonságos üzemelés biztosítása miatt van szükség a munka elvégzésérehez elengedhetetlen | F31: Statikai stabilitás biztosítása | G31: A viziközmű elem állapota megközelíti az új elem berendezés állapotát. Az üzembiztonság jelentősen növekszik | I31: Alsónemesapáti | J31: =SUM(O31:AC31) -> 2200 | L31: 43831 | M31: 44561 | N31: közép | P31: 1100 | Q31: 1100
C32: Alsónemesapáti | D32: átemelő akna építészeti rekonstrukció | E32: A szennyvíz, és a belőle felszabaduló gázok hatására a felületek elkorrodálnak. Ezen elemek cseréje a A kiépített rendszer működőképességének megóvása, a biztonságos üzemelés biztosítása miatt van szükség a munka elvégzésérehez elengedhetetlen | F32: Statikai stabilitás biztosítása | G32: A viziközmű elem állapota megközelíti az új elem berendezés állapotát. Az üzembiztonság jelentősen növekszik | I32: Alsónemesapáti | J32: =SUM(O32:AC32) -> 9580 | L32: 45292 | M32: 48579 | N32: hosszú | T32: 1550 | U32: 1410 | V32: 2060 | W32: 810 | X32: 750 | Y32: 750 | Z32: 750 | AA32: 750 | AB32: 750
C33: Alsónemesapáti | D33: HBA akna építészeti rekonstrukció | E33: A szennyvíz, és a belőle felszabaduló gázok hatására a felületek elkorrodálnak. Ezen elemek cseréje a A kiépített rendszer működőképességének megóvása, a biztonságos üzemelés biztosítása miatt van szükség a munka elvégzésérehez elengedhetetlen | F33: Statikai stabilitás biztosítása | G33: A viziközmű elem állapota megközelíti az új elem berendezés állapotát. Az üzembiztonság jelentősen növekszik | I33: Alsónemesapáti | J33: =SUM(O33:AC33) -> 100 | L33: 44562 | M33: 44926 | N33: közép | R33: 100
C34: Alsónemesapáti | D34: HBA akna építészeti rekonstrukció | E34: A szennyvíz, és a belőle felszabaduló gázok hatására a felületek elkorrodálnak. Ezen elemek cseréje a A kiépített rendszer működőképességének megóvása, a biztonságos üzemelés biztosítása miatt van szükség a munka elvégzésérehez elengedhetetlen | F34: Statikai stabilitás biztosítása | G34: A viziközmű elem állapota megközelíti az új elem berendezés állapotát. Az üzembiztonság jelentősen növekszik | I34: Alsónemesapáti | J34: =SUM(O34:AC34) -> 200 | L34: 46023 | M34: 47848 | N34: hosszú | V34: 100 | Z34: 100
B35: Gép, berendezés
C36: Alsónemesapáti | D36: szivattyú felújítások átemelőknél | E36: A viziközmű elem a napi üzemmenet során oly mértékig elhasználódott, hogy a normál karbantartási munkákkal már nem biztosítható az üzembiztos működése | F36: A rendszer zavartalan üzemének biztosítása érdekében szükséges a beavatkozás | G36: A beavatkozás után egy hatékonyan működő viziközmű elemet kapunk, mely a kor elvárásainak megfelel. A rendszer üzembiztos, hatékony, és korszerű lesz | I36: Alsónemesapáti | J36: =SUM(O36:AC36) -> 900 | L36: 43466 | M36: 43830 | N36: rövid | O36: 900
C37: Alsónemesapáti | D37: gépészeti rekonstrukció (1-6) | E37: A viziközmű elem a napi üzemmenet során oly mértékig elhasználódott, hogy a normál karbantartási munkákkal már nem biztosítható az üzembiztos működése | F37: A rendszer zavartalan üzemének biztosítása érdekében szükséges a beavatkozás | G37: A beavatkozás után egy hatékonyan működő viziközmű elemet kapunk, mely a kor elvárásainak megfelel. A rendszer üzembiztos, hatékony, és korszerű lesz | I37: Alsónemesapáti | J37: =SUM(O37:AC37) -> 10800 | L37: 43831 | M37: 45291 | N37: közép | P37: 2500 | Q37: 7550 | R37: 450 | S37: 300
C38: Alsónemesapáti | D38: gépészeti rekonstrukció (1-6) | E38: Az üzemelő viziközmű elem működése közben előforduló eseti meghibásodások fordulhatnak elő, melyek előre nem tervezhetők | F38: A kiépített rendszer működőképességének megóvása, a biztonságos üzemelés biztosítása miatt van szükség a munka elvégzésére | G38: A beavatkozás után egy hatékonyan működő viziközmű elemet kapunk, mely a kor elvárásainak megfelel. A rendszer üzembiztos, hatékony, és korszerű lesz | I38: Alsónemesapáti | J38: =SUM(O38:AC38) -> 19950 | L38: 45292 | M38: 48944 | N38: hosszú | T38: 550 | U38: 250 | V38: 3750 | W38: 850 | X38: 550 | Y38: 1500 | Z38: 7100 | AA38: 1800 | AB38: 1800 | AC38: 1800
C39: Alsónemesapáti | D39: HBA gépészeti rekonstrukció (1-6) | E39: A viziközmű elem a napi üzemmenet során oly mértékig elhasználódott, hogy a normál karbantartási munkákkal már nem biztosítható az üzembiztos működése | F39: A rendszer zavartalan üzemének biztosítása érdekében szükséges a beavatkozás | G39: A beavatkozás után egy hatékonyan működő viziközmű elemet kapunk, mely a kor elvárásainak megfelel. A rendszer üzembiztos, hatékony, és korszerű lesz | I39: Alsónemesapáti | J39: =SUM(O39:AC39) -> 310 | L39: 43831 | M39: 45291 | N39: közép | P39: 65 | R39: 170 | S39: 75
C40: Alsónemesapáti | D40: HBA gépészeti rekonstrukció (1-6) | E40: Az üzemelő viziközmű elem működése közben előforduló eseti meghibásodások fordulhatnak elő, melyek előre nem tervezhetők | F40: A kiépített rendszer működőképességének megóvása, a biztonságos üzemelés biztosítása miatt van szükség a munka elvégzésére | G40: A beavatkozás után egy hatékonyan működő viziközmű elemet kapunk, mely a kor elvárásainak megfelel. A rendszer üzembiztos, hatékony, és korszerű lesz | I40: Alsónemesapáti | J40: =SUM(O40:AC40) -> 805 | L40: 45292 | M40: 48579 | N40: hosszú | T40: 70 | U40: 100 | W40: 70 | X40: 75 | Y40: 170 | Z40: 75 | AA40: 75 | AB40: 170
B41: Irányítástechnika, energiaellátás
C42: Alsónemesapáti | D42: erősáramú és irányítástechnikai rekonstrukció | E42: A viziközmű elem a napi üzemmenet során oly mértékig elhasználódott, hogy a normál karbantartási munkákkal már nem biztosítható az üzembiztos működése | F42: A kiépített rendszer működőképességének megóvása, a biztonságos üzemelés biztosítása miatt van szükség a munka elvégzésére | G42: A viziközmű elem állapota megközelíti az új elem berendezés állapotát. Az üzembiztonság jelentősen növekszik | I42: Alsónemesapáti | J42: =SUM(O42:AC42) -> 12500 | L42: 44197 | M42: 44561 | N42: közép | Q42: 12500
B43: Összesen: | J43: =SUM(J12:J42) -> 110543.75 | K43: 1983 | O43: =SUM(O12:O42) -> 1197.45 | P43: =SUM(P12:P42) -> 7023.45 | Q43: =SUM(Q12:Q42) -> 26508.45 | R43: =SUM(R12:R42) -> 6178.45 | S43: =SUM(S12:S42) -> 3733.45 | T43: =SUM(T12:T42) -> 7988.45 | U43: =SUM(U12:U42) -> 2718.45 | V43: =SUM(V12:V42) -> 11168.45 | ... AC43: =SUM(AC12:AC42) -> 2397.45
K44: 2019 évre a fejlesztési forrás biztosított
B46: Rendelkezésre álló források megnevezése | C46: Rendelkezésre álló források számszerűsített értéke a teljes ütem tekintetében (eFt)
A47: I. ütem | B47: Használati díj (2019) | C47: =K43 -> 1983
A48: II. ütem | B48: Használati díj (2020-2023) | C48: =C47*4 -> 7932
A49: III. ütem | B49: Használati díj (2024-2033) | C49: =C47*10 -> 19830
B52: ¹ Idegenvíz kizárás munkafolyamatai
B53: 1. Törött szerkezeti elemek cseréje, aknában bekötések körbekenése, folyásfenék újra betonozása, hézag pótlása (vízbetörés javítás)
B54: 2. Vízzáró réteg készítés, hosszútávú korrozíó és szerkezeti védelem (Szulfátálló réteg készítése)
B55: 3. Fedlap és szűkítő csere DN 600 mm, terhelésnek megfelelően, üzemeltető előírása szerint
B56: 4. Pontszerű hibahelyek javítása gerincvezetéken, és bekötésen
B58: ²Gépészeti felújítás
B59: 1. szivattyú talpidon csere
B60: 2. nyomócső csere
B61: 3. nadrágidom csere
B62: 4. visszacsapó szelep csere
B63: 5. tolózár csere
B64: 6. vezetőcső csere
... B69: 3. aszfaltozás

Sheet Babosdöbréte
A1: Gördülő fejlesztési terv a 2019 - 2033 időszakra
A2: FELÚJÍTÁSOK ÉS PÓTLÁSOK ÖSSZEFOGLALÓ TÁBLÁZATA
A3: A tervet benyújtó szervezet megnevezése: | K3: BABOSDÖBRÉTE | R3: ellátásért felelős / ellátásért felelősök képviselője / víziközmű-szolgáltató *
A4: Víziközmű-szolgáltató megnevezése: | K4: ÉSZAK ZALAI VÍZ- ÉS CSATORNAMŰ ZÁRTKÖRŰEN MŰKÖDŐ RÉSZVÉNYTÁRSASÁG
A5: Víziközmű-szolgáltatási ágazat megnevezése: | K5: SZENNYVÍZ ÁGAZAT
A6: Véleményeltérést megfogalmazó érintett fél megnevezése:
A7: Víziközmű-rendszer kódja: ** | K7: 21-32054-1-048-01-10 | R7: ZALAEGERSZEG-SZV
A8: V. Szennyvízelvezetés
A9: Fontossági sorrend | B9: Felujítás és pótlás megnevezése | E9: Műszaki állapot felmérés, szükségességi indoklás | H9: Vízjogi létesítési/elvi engedély száma | I9: Az érintett ellátásért felelős(ök) megnevezése | J9: Tervezett nettó költség | K9: Forrás 2019 évre | L9: Megvalósítás időtartama | N9: Tervezett időtáv | O9: A beruházás ütemezése a tervezési időszak évei szerint
E10: Jelenlegi műszaki állapot | F10: Feladat szükségessége | G10: Megvalósítást követő várható műszaki állapot | J10: (eFt) | L10: Kezdés | M10: Befejezés | N10: (rövid / közép / hosszú) | O10: 1 | P10: 2 | Q10: 3 | R10: 4 | S10: 5 | T10: 6 | U10: 7 | V10: 8 | W10: 9 | X10: 10 | Y10: 11 | Z10: 12 | AA10: 13 | AB10: 14 | AC10: 15
B11: szakág | C11: Helyszín | D11: beruházás megnevezése
A12: 1 | D12: Rendkívüli helyzetből adódó azonnali feladatok (max. 15%) | F12: A rendszer zavartalan üzemének biztosítása érdekében szükséges a beavatkozás | I12: Babosdöbréte | J12: =SUM(O12:AC12) -> 5731.4 | L12: 43466 | M12: 48944 | O12: 326 | P12: =$K$50*0.15 -> 386.1 | Q12: =$K$50*0.15 -> 386.1 | R12: =$K$50*0.15 -> 386.1 | S12: =$K$50*0.15 -> 386.1 | T12: =$K$50*0.15 -> 386.1 | U12: =$K$50*0.15 -> 386.1 | V12: =$K$50*0.15 -> 386.1 | W12: =$K$50*0.15 -> 386.1 | ... AC12: =$K$50*0.15 -> 386.1
B13: SZENNYVÍZCSATORNA (GRAVITÁCIÓS)
B14: Épület, építmény
C15: Babosdöbréte | D15: szennyvízcsatorna által okozott hibák helyreállítása (elkülönített forrás) | E15: Az üzemelő viziközmű technológiailag elavult, üzemeltetése, és javítása már nem gazdaságos. Jelenleg a piacon magasabb műszaki tartalmak érhetőek el | F15: A viziközmű rendszer hatékonyságának növelése, az üzemeltetési költségek szinten tartása miatt szükséges | G15: A beavatkozás után egy hatékonyan működő viziközmű elemet kapunk, mely a kor elvárásainak megfelel. A rendszer üzembiztos, hatékony, és korszerű lesz | I15: Babosdöbréte | J15: =SUM(O15:AC15) -> 401 | L15: 43466 | M15: 43830 | N15: rövid | O15: 401
C16: Babosdöbréte | D16: Idegenvíz kizárása a csatornadiagnosztikai vizsgálat és a helyszíni ellenőrzés alapján¹ | E16: Az üzemelő viziközmű technológiailag elavult, üzemeltetése, és javítása már nem gazdaságos. Jelenleg a piacon magasabb műszaki tartalmak érhetőek el | F16: A viziközmű rendszer hatékonyságának növelése, az üzemeltetési költségek szinten tartása miatt szükséges | G16: A beavatkozás után egy hatékonyan működő viziközmű elemet kapunk, mely a kor elvárásainak megfelel. A rendszer üzembiztos, hatékony, és korszerű lesz | I16: Babosdöbréte | J16: =SUM(O16:AC16) -> 1580 | L16: 43831 | M16: 45291 | N16: közép | P16: 395 | Q16: 395 | R16: 395 | S16: 395
C17: Babosdöbréte | D17: Idegenvíz kizárása a csatornadiagnosztikai vizsgálat és a helyszíni ellenőrzés alapján¹ | E17: Az üzemelő viziközmű technológiailag elavult, üzemeltetése, és javítása már nem gazdaságos. Jelenleg a piacon magasabb műszaki tartalmak érhetőek el | F17: A viziközmű rendszer hatékonyságának növelése, az üzemeltetési költségek szinten tartása miatt szükséges | G17: A beavatkozás után egy hatékonyan működő viziközmű elemet kapunk, mely a kor elvárásainak megfelel. A rendszer üzembiztos, hatékony, és korszerű lesz | I17: Babosdöbréte | J17: =SUM(O17:AC17) -> 2235 | L17: 45292 | M17: 48944 | N17: hosszú | T17: 395 | U17: 395 | V17: 395 | W17: 150 | X17: 150 | Y17: 150 | Z17: 150 | AA17: 150 | AB17: 150 | AC17: 150
C18: Babosdöbréte | D18: Gravitációs csatorna NA 150 rekonstrukció | E18: Az üzemelő viziközmű technológiailag elavult, üzemeltetése, és javítása már nem gazdaságos. Jelenleg a piacon magasabb műszaki tartalmak érhetőek el | F18: A viziközmű rendszer hatékonyságának növelése, az üzemeltetési költségek szinten tartása miatt szükséges | G18: A beavatkozás után egy hatékonyan működő viziközmű elemet kapunk, mely a kor elvárásainak megfelel. A rendszer üzembiztos, hatékony, és korszerű lesz | I18: Babosdöbréte | J18: =SUM(O18:AC18) -> 4600 | L18: 43831 | M18: 45291 | N18: közép | P18: 2300 | S18: 2300
C19: Babosdöbréte | D19: Gravitációs csatorna NA 150 rekonstrukció | E19: Az üzemelő viziközmű technológiailag elavult, üzemeltetése, és javítása már nem gazdaságos. Jelenleg a piacon magasabb műszaki tartalmak érhetőek el | F19: A viziközmű rendszer hatékonyságának növelése, az üzemeltetési költségek szinten tartása miatt szükséges | G19: A beavatkozás után egy hatékonyan működő viziközmű elemet kapunk, mely a kor elvárásainak megfelel. A rendszer üzembiztos, hatékony, és korszerű lesz | I19: Babosdöbréte | J19: =SUM(O19:AC19) -> 2300 | L19: 46388 | M19: 46752 | N19: hosszú | W19: 2300
C20: Babosdöbréte | D20: Gravitációs csatorna NA200 rekonstrukció | E20: Az üzemelő viziközmű technológiailag elavult, üzemeltetése, és javítása már nem gazdaságos. Jelenleg a piacon magasabb műszaki tartalmak érhetőek el | F20: A viziközmű rendszer hatékonyságának növelése, az üzemeltetési költségek szinten tartása miatt szükséges | G20: A beavatkozás után egy hatékonyan működő viziközmű elemet kapunk, mely a kor elvárásainak megfelel. A rendszer üzembiztos, hatékony, és korszerű lesz | I20: Babosdöbréte | J20: =SUM(O20:AC20) -> 7400 | L20: 43831 | M20: 44926 | N20: közép | P20: 3700 | R20: 3700
C21: Babosdöbréte | D21: Gravitációs csatorna NA200 rekonstrukció | E21: Az üzemelő viziközmű technológiailag elavult, üzemeltetése, és javítása már nem gazdaságos. Jelenleg a piacon magasabb műszaki tartalmak érhetőek el | F21: A viziközmű rendszer hatékonyságának növelése, az üzemeltetési költségek szinten tartása miatt szükséges | G21: A beavatkozás után egy hatékonyan működő viziközmű elemet kapunk, mely a kor elvárásainak megfelel. A rendszer üzembiztos, hatékony, és korszerű lesz | I21: Babosdöbréte | J21: =SUM(O21:AC21) -> 3700 | L21: 47484 | M21: 47848 | N21: hosszú | Z21: 3700
B22: SZENNYVÍZVEZETÉKEK (KÉNYSZERÁRAMOLTATÁSÚ)
C23: Babosdöbréte | D23: Nyomott vezeték NA50 rekonstrukció | E23: Az üzemelő viziközmű technológiailag elavult, üzemeltetése, és javítása már nem gazdaságos. Jelenleg a piacon magasabb műszaki tartalmak érhetőek el | F23: A kiépített rendszer működőképességének megóvása, a biztonságos üzemelés biztosítása miatt van szükség a munka elvégzésére | G23: A viziközmű elem állapota megközelíti az új elem berendezés állapotát. Az üzembiztonság jelentősen növekszik | I23: Babosdöbréte | J23: =SUM(O23:AC23) -> 4800 | L23: 43831 | M23: 44927 | N23: közép | P23: 2400 | S23: 2400
C24: Babosdöbréte | D24: Nyomott vezeték NA50 rekonstrukció | E24: Az üzemelő viziközmű technológiailag elavult, üzemeltetése, és javítása már nem gazdaságos. Jelenleg a piacon magasabb műszaki tartalmak érhetőek el | F24: A kiépített rendszer működőképességének megóvása, a biztonságos üzemelés biztosítása miatt van szükség a munka elvégzésére | G24: A viziközmű elem állapota megközelíti az új elem berendezés állapotát. Az üzembiztonság jelentősen növekszik | I24: Babosdöbréte | J24: =SUM(O24:AC24) -> 4800 | L24: 46388 | M24: 48213 | N24: hosszú | W24: 2400 | AA24: 2400
C25: Babosdöbréte | D25: Nyomott vezeték NA80 rekonstrukció | E25: Az üzemelő viziközmű technológiailag elavult, üzemeltetése, és javítása már nem gazdaságos. Jelenleg a piacon magasabb műszaki tartalmak érhetőek el | F25: A kiépített rendszer működőképességének megóvása, a biztonságos üzemelés biztosítása miatt van szükség a munka elvégzésére | G25: A viziközmű elem állapota megközelíti az új elem berendezés állapotát. Az üzembiztonság jelentősen növekszik | I25: Babosdöbréte | J25: =SUM(O25:AC25) -> 8100 | L25: 43831 | M25: 45291 | N25: közép | P25: 2700 | Q25: 2700 | S25: 2700
C26: Babosdöbréte | D26: Nyomott vezeték NA80 rekonstrukció | E26: Az üzemelő viziközmű technológiailag elavult, üzemeltetése, és javítása már nem gazdaságos. Jelenleg a piacon magasabb műszaki tartalmak érhetőek el | F26: A kiépített rendszer működőképességének megóvása, a biztonságos üzemelés biztosítása miatt van szükség a munka elvégzésére | G26: A viziközmű elem állapota megközelíti az új elem berendezés állapotát. Az üzembiztonság jelentősen növekszik | I26: Babosdöbréte | J26: =SUM(O26:AC26) -> 10800 | L26: 45658 | M26: 48213 | N26: hosszú | U26: 2700 | W26: 2700 | Y26: 2700 | AA26: 2700
C27: Babosdöbréte | D27: Nyomott vezeték NA100 rekonstrukció | E27: Az üzemelő viziközmű technológiailag elavult, üzemeltetése, és javítása már nem gazdaságos. Jelenleg a piacon magasabb műszaki tartalmak érhetőek el | F27: A kiépített rendszer működőképességének megóvása, a biztonságos üzemelés biztosítása miatt van szükség a munka elvégzésére | G27: A viziközmű elem állapota megközelíti az új elem berendezés állapotát. Az üzembiztonság jelentősen növekszik | I27: Babosdöbréte | J27: =SUM(O27:AC27) -> 2300 | L27: 44197 | M27: 44561 | N27: közép | Q27: 2300
C28: Babosdöbréte | D28: Nyomott vezeték NA100 rekonstrukció | E28: Az üzemelő viziközmű technológiailag elavult, üzemeltetése, és javítása már nem gazdaságos. Jelenleg a piacon magasabb műszaki tartalmak érhetőek el | F28: A kiépített rendszer működőképességének megóvása, a biztonságos üzemelés biztosítása miatt van szükség a munka elvégzésére | G28: A viziközmű elem állapota megközelíti az új elem berendezés állapotát. Az üzembiztonság jelentősen növekszik | I28: Babosdöbréte | J28: =SUM(O28:AC28) -> 6900 | L28: 45292 | M28: 47848 | N28: hosszú | T28: 2300 | W28: 2300 | Z28: 2300
C29: Babosdöbréte | D29: Nyomott vezeték NA150 rekonstrukció | E29: Az üzemelő viziközmű technológiailag elavult, üzemeltetése, és javítása már nem gazdaságos. Jelenleg a piacon magasabb műszaki tartalmak érhetőek el | F29: A kiépített rendszer működőképességének megóvása, a biztonságos üzemelés biztosítása miatt van szükség a munka elvégzésére | G29: A viziközmű elem állapota megközelíti az új elem berendezés állapotát. Az üzembiztonság jelentősen növekszik | I29: Babosdöbréte | J29: =SUM(O29:AC29) -> 720 | L29: 47484 | M29: 47848 | N29: hosszú | Z29: 720
C30: Babosdöbréte | D30: Nyomott vezeték NA200 rekonstrukció | E30: Az üzemelő viziközmű technológiailag elavult, üzemeltetése, és javítása már nem gazdaságos. Jelenleg a piacon magasabb műszaki tartalmak érhetőek el | F30: A kiépített rendszer működőképességének megóvása, a biztonságos üzemelés biztosítása miatt van szükség a munka elvégzésére | G30: A viziközmű elem állapota megközelíti az új elem berendezés állapotát. Az üzembiztonság jelentősen növekszik | I30: Babosdöbréte | J30: =SUM(O30:AC30) -> 1000 | L30: 47484 | M30: 47848 | N30: hosszú | Z30: 1000
B31: SZENNYVÍZÁTEMELŐK
B32: Épület, építmény
C33: Babosdöbréte I. átemelő | D33: gépészeti akna vízzárózása: mélysége: 1.8 méter, szélessége 2 méter x 2 méter | E33: A szennyvíz, és a belőle felszabaduló gázok hatására a felületek elkorrodálnak. Ezen elemek cseréje a A kiépített rendszer működőképességének megóvása, a biztonságos üzemelés biztosítása miatt van szükség a munka elvégzésérehez elengedhetetlen | F33: Statikai stabilitás biztosítása | G33: A viziközmű elem állapota megközelíti az új elem berendezés állapotát. Az üzembiztonság jelentősen növekszik | I33: Babosdöbréte | J33: =SUM(O33:AC33) -> 150 | L33: 43466 | M33: 43830 | N33: rövid | O33: 150
C34: Babosdöbréte | D34: átemelő akna építészeti rekonstrukció | E34: A szennyvíz, és a belőle felszabaduló gázok hatására a felületek elkorrodálnak. Ezen elemek cseréje a A kiépített rendszer működőképességének megóvása, a biztonságos üzemelés biztosítása miatt van szükség a munka elvégzésérehez elengedhetetlen | F34: Statikai stabilitás biztosítása | G34: A viziközmű elem állapota megközelíti az új elem berendezés állapotát. Az üzembiztonság jelentősen növekszik | I34: Babosdöbréte | J34: =SUM(O34:AC34) -> 4750 | L34: 43831 | M34: 44926 | N34: közép | P34: 1150 | Q34: 2250 | R34: 1350
C35: Babosdöbréte | D35: átemelő akna építészeti rekonstrukció | E35: A szennyvíz, és a belőle felszabaduló gázok hatására a felületek elkorrodálnak. Ezen elemek cseréje a A kiépített rendszer működőképességének megóvása, a biztonságos üzemelés biztosítása miatt van szükség a munka elvégzésérehez elengedhetetlen | F35: Statikai stabilitás biztosítása | G35: A viziközmű elem állapota megközelíti az új elem berendezés állapotát. Az üzembiztonság jelentősen növekszik | I35: Babosdöbréte | J35: =SUM(O35:AC35) -> 9100 | L35: 45292 | M35: 48579 | N35: hosszú | T35: 1460 | U35: 1720 | V35: 2260 | W35: 500 | X35: 210 | Y35: 600 | Z35: 1150 | AA35: 600 | AB35: 600
C36: Babosdöbréte | D36: HBA akna építészeti rekonstrukció | E36: A szennyvíz, és a belőle felszabaduló gázok hatására a felületek elkorrodálnak. Ezen elemek cseréje a A kiépített rendszer működőképességének megóvása, a biztonságos üzemelés biztosítása miatt van szükség a munka elvégzésérehez elengedhetetlen | F36: Statikai stabilitás biztosítása | G36: A viziközmű elem állapota megközelíti az új elem berendezés állapotát. Az üzembiztonság jelentősen növekszik | I36: Babosdöbréte | J36: =SUM(O36:AC36) -> 200 | L36: 43831 | M36: 44926 | N36: közép | P36: 100 | R36: 100
C37: Babosdöbréte | D37: HBA akna építészeti rekonstrukció | E37: A szennyvíz, és a belőle felszabaduló gázok hatására a felületek elkorrodálnak. Ezen elemek cseréje a A kiépített rendszer működőképességének megóvása, a biztonságos üzemelés biztosítása miatt van szükség a munka elvégzésérehez elengedhetetlen | F37: Statikai stabilitás biztosítása | G37: A viziközmű elem állapota megközelíti az új elem berendezés állapotát. Az üzembiztonság jelentősen növekszik | I37: Babosdöbréte | J37: =SUM(O37:AC37) -> 300 | L37: 45292 | M37: 47848 | N37: hosszú | T37: 100 | W37: 100 | Z37: 100
B38: Gép, berendezés
C39: Babosdöbréte | D39: szivattyú felújítások átemelőknél | E39: A viziközmű elem a napi üzemmenet során oly mértékig elhasználódott, hogy a normál karbantartási munkákkal már nem biztosítható az üzembiztos működése | F39: A rendszer zavartalan üzemének biztosítása érdekében szükséges a beavatkozás | G39: A beavatkozás után egy hatékonyan működő viziközmű elemet kapunk, mely a kor elvárásainak megfelel. A rendszer üzembiztos, hatékony, és korszerű lesz | I39: Babosdöbréte | J39: =SUM(O39:AC39) -> 700 | L39: 43466 | M39: 43830 | N39: rövid | O39: 700
C40: Babosdöbréte | D40: gépészeti rekonstrukció (1-6) | E40: Az üzemelő viziközmű elem működése közben előforduló eseti meghibásodások fordulhatnak elő, melyek előre nem tervezhetők | F40: A kiépített rendszer működőképességének megóvása, a biztonságos üzemelés biztosítása miatt van szükség a munka elvégzésére | G40: A beavatkozás után egy hatékonyan működő viziközmű elemet kapunk, mely a kor elvárásainak megfelel. A rendszer üzembiztos, hatékony, és korszerű lesz | I40: Babosdöbréte | J40: =SUM(O40:AC40) -> 10350 | L40: 43831 | M40: 45291 | N40: közép | P40: 3650 | Q40: 3400 | R40: 3050 | S40: 250
C41: Babosdöbréte | D41: gépészeti rekonstrukció (1-6) | E41: Az üzemelő viziközmű elem működése közben előforduló eseti meghibásodások fordulhatnak elő, melyek előre nem tervezhetők | F41: A kiépített rendszer működőképességének megóvása, a biztonságos üzemelés biztosítása miatt van szükség a munka elvégzésére | G41: A beavatkozás után egy hatékonyan működő viziközmű elemet kapunk, mely a kor elvárásainak megfelel. A rendszer üzembiztos, hatékony, és korszerű lesz | I41: Babosdöbréte | J41: =SUM(O41:AC41) -> 24450 | L41: 45292 | M41: 48944 | N41: hosszú | T41: 600 | U41: 3450 | V41: 1250 | W41: 250 | X41: 8200 | Y41: 2050 | Z41: 2150 | AA41: 2500 | AB41: 2000 | AC41: 2000
C42: Babosdöbréte | D42: HBA gépészeti rekonstrukció (1-6) | E42: Az üzemelő viziközmű elem működése közben előforduló eseti meghibásodások fordulhatnak elő, melyek előre nem tervezhetők | F42: A kiépített rendszer működőképességének megóvása, a biztonságos üzemelés biztosítása miatt van szükség a munka elvégzésére | G42: A beavatkozás után egy hatékonyan működő viziközmű elemet kapunk, mely a kor elvárásainak megfelel. A rendszer üzembiztos, hatékony, és korszerű lesz | I42: Babosdöbréte | J42: =SUM(O42:AC42) -> 940 | L42: 43831 | M42: 45291 | N42: közép | P42: 405 | Q42: 65 | R42: 315 | S42: 155
C43: Babosdöbréte | D43: HBA gépészeti rekonstrukció (1-6) | E43: Az üzemelő viziközmű elem működése közben előforduló eseti meghibásodások fordulhatnak elő, melyek előre nem tervezhetők | F43: A kiépített rendszer működőképességének megóvása, a biztonságos üzemelés biztosítása miatt van szükség a munka elvégzésére | G43: A beavatkozás után egy hatékonyan működő viziközmű elemet kapunk, mely a kor elvárásainak megfelel. A rendszer üzembiztos, hatékony, és korszerű lesz | I43: Babosdöbréte | J43: =SUM(O43:AC43) -> 2420 | L43: 45292 | M43: 48944 | N43: hosszú | T43: 315 | U43: 65 | V43: 405 | W43: 65 | X43: 405 | Y43: 65 | Z43: 315 | AA43: 405 | AB43: 65 | AC43: 315
B44: Irányítástechnika, energiaellátás
C45: Babosdöbréte Kökényesmindszent K-1. átemelő | D45: teljesítménybővítés 3x10A-ról 3x25A-re | E45: A viziközmű elem a napi üzemmenet során oly mértékig elhasználódott, hogy a normál karbantartási munkákkal már nem biztosítható az üzembiztos működése | F45: A rendszer zavartalan üzemének biztosítása érdekében szükséges a beavatkozás | G45: A beavatkozás után egy hatékonyan működő viziközmű elemet kapunk, mely a kor elvárásainak megfelel. A rendszer üzembiztos, hatékony, és korszerű lesz | I45: Babosdöbréte | J45: =SUM(O45:AC45) -> 154 | L45: 43466 | M45: 43830 | N45: rövid | O45: 154
C46: Babosdöbréte Kökényesmindszent K-1. átemelő | D46: fogyasztásmérő alatti kábel fogadó csatlakozó szekrény csere, aggregátoros csatlakozás felújítás | E46: A viziközmű elem a napi üzemmenet során oly mértékig elhasználódott, hogy a normál karbantartási munkákkal már nem biztosítható az üzembiztos működése | F46: A rendszer zavartalan üzemének biztosítása érdekében szükséges a beavatkozás | G46: A beavatkozás után egy hatékonyan működő viziközmű elemet kapunk, mely a kor elvárásainak megfelel. A rendszer üzembiztos, hatékony, és korszerű lesz | I46: Babosdöbréte | J46: =SUM(O46:AC46) -> 90 | L46: 43466 | M46: 43830 | N46: rövid | O46: 90
C47: Babosdöbréte | D47: erősáramú és irányítástechnikai rekonstrukció | E47: A viziközmű elem a napi üzemmenet során oly mértékig elhasználódott, hogy a normál karbantartási munkákkal már nem biztosítható az üzembiztos működése | F47: A kiépített rendszer működőképességének megóvása, a biztonságos üzemelés biztosítása miatt van szükség a munka elvégzésére | G47: A viziközmű elem állapota megközelíti az új elem berendezés állapotát. Az üzembiztonság jelentősen növekszik | I47: Babosdöbréte | J47: =SUM(O47:AC47) -> 21000 | L47: 44197 | M47: 44561 | N47: közép | Q47: 21000
C48: Babosdöbréte | D48: HBA vezérlőszekrény és műszerezés cseréje | E48: A viziközmű elem a napi üzemmenet során oly mértékig elhasználódott, hogy a normál karbantartási munkákkal már nem biztosítható az üzembiztos működése | F48: A kiépített rendszer működőképességének megóvása, a biztonságos üzemelés biztosítása miatt van szükség a munka elvégzésére | G48: A viziközmű elem állapota megközelíti az új elem berendezés állapotát. Az üzembiztonság jelentősen növekszik | I48: Babosdöbréte | J48: =SUM(O48:AC48) -> 120 | L48: 43831 | M48: 44926 | N48: közép | P48: 60 | R48: 60
C49: Babosdöbréte | D49: HBA vezérlőszekrény és műszerezés cseréje | E49: A viziközmű elem a napi üzemmenet során oly mértékig elhasználódott, hogy a normál karbantartási munkákkal már nem biztosítható az üzembiztos működése | F49: A kiépített rendszer működőképességének megóvása, a biztonságos üzemelés biztosítása miatt van szükség a munka elvégzésére | G49: A viziközmű elem állapota megközelíti az új elem berendezés állapotát. Az üzembiztonság jelentősen növekszik | I49: Babosdöbréte | J49: =SUM(O49:AC49) -> 360 | L49: 45292 | M49: 47848 | N49: hosszú | T49: 60 | U49: 60 | W49: 60 | X49: 60 | Y49: 60 | Z49: 60
B50: Összesen: | J50: =SUM(J12:J49) -> 142451.4 | K50: =C54+C55 -> 2574 | O50: =SUM(O12:O49) -> 1821 | P50: =SUM(P12:P49) -> 17246.1 | Q50: =SUM(Q12:Q49) -> 32496.1 | R50: =SUM(R12:R49) -> 9356.1 | S50: =SUM(S12:S49) -> 8586.1 | T50: =SUM(T12:T49) -> 5616.1 | U50: =SUM(U12:U49) -> 8776.1 | V50: =SUM(V12:V49) -> 4696.1 | ... AC50: =SUM(AC12:AC49) -> 2851.1
K51: 2019 évre a fejlesztési forrás biztosított
B53: Rendelkezésre álló források megnevezése | C53: Rendelkezésre álló források számszerűsített értéke a teljes ütem tekintetében (eFt)
A54: I. ütem | B54: Használati díj (2019) | C54: 2173
B55: Elkülönített forrás | C55: 401
A56: II. ütem | B56: Használati díj (2020-2023) | C56: =C54*4 -> 8692
A57: III. ütem | B57: Használati díj (2024-2033) | C57: =C54*10 -> 21730
B61: ¹ Idegenvíz kizárás munkafolyamatai
B62: 1. Törött szerkezeti elemek cseréje, aknában bekötések körbekenése, folyásfenék újra betonozása, hézag pótlása (vízbetörés javítás)
B63: 2. Vízzáró réteg készítés, hosszútávú korrozíó és szerkezeti védelem (Szulfátálló réteg készítése)
B64: 3. Fedlap és szűkítő csere DN 600 mm, terhelésnek megfelelően, üzemeltető előírása szerint
B65: 4. Pontszerű hibahelyek javítása gerincvezetéken, és bekötésen
B67: ²Gépészeti felújítás
B68: 1. szivattyú talpidon csere
B69: 2. nyomócső csere
B70: 3. nadrágidom csere
B71: 4. visszacsapó szelep csere
B72: 5. tolózár csere
B73: 6. vezetőcső csere
... B78: 3. aszfaltozás

Sheet Bagod
A1: Gördülő fejlesztési terv a 2019 - 2033 időszakra
A2: FELÚJÍTÁSOK ÉS PÓTLÁSOK ÖSSZEFOGLALÓ TÁBLÁZATA
A3: A tervet benyújtó szervezet megnevezése: | K3: BAGOD | R3: ellátásért felelős / ellátásért felelősök képviselője / víziközmű-szolgáltató *
A4: Víziközmű-szolgáltató megnevezése: | K4: ÉSZAK ZALAI VÍZ- ÉS CSATORNAMŰ ZÁRTKÖRŰEN MŰKÖDŐ RÉSZVÉNYTÁRSASÁG
A5: Víziközmű-szolgáltatási ágazat megnevezése: | K5: SZENNYVÍZ ÁGAZAT
A6: Véleményeltérést megfogalmazó érintett fél megnevezése:
A7: Víziközmű-rendszer kódja: ** | K7: 21-32054-1-048-01-10 | R7: ZALAEGERSZEG-SZV
A8: V. Szennyvízelvezetés
A9: Fontossági sorrend | B9: Felujítás és pótlás megnevezése | E9: Műszaki állapot felmérés, szükségességi indoklás | H9: Vízjogi létesítési/elvi engedély száma | I9: Az érintett ellátásért felelős(ök) megnevezése | J9: Tervezett nettó költség | K9: Forrás 2019 évre | L9: Megvalósítás időtartama | N9: Tervezett időtáv | O9: A beruházás ütemezése a tervezési időszak évei szerint
E10: Jelenlegi műszaki állapot | F10: Feladat szükségessége | G10: Megvalósítást követő várható műszaki állapot | J10: (eFt) | L10: Kezdés | M10: Befejezés | N10: (rövid / közép / hosszú) | O10: 1 | P10: 2 | Q10: 3 | R10: 4 | S10: 5 | T10: 6 | U10: 7 | V10: 8 | W10: 9 | X10: 10 | Y10: 11 | Z10: 12 | AA10: 13 | AB10: 14 | AC10: 15
B11: szakág | C11: Helyszín | D11: beruházás megnevezése
A12: 1 | D12: Rendkívüli helyzetből adódó azonnali feladatok (max. 15%) | F12: A rendszer zavartalan üzemének biztosítása érdekében szükséges a beavatkozás | I12: Bagod | J12: =SUM(O12:AC12) -> 14582.1 | L12: 43466 | M12: 48944 | O12: 972 | P12: =$K$45*0.15 -> 972.15 | Q12: =$K$45*0.15 -> 972.15 | R12: =$K$45*0.15 -> 972.15 | S12: =$K$45*0.15 -> 972.15 | T12: =$K$45*0.15 -> 972.15 | U12: =$K$45*0.15 -> 972.15 | V12: =$K$45*0.15 -> 972.15 | W12: =$K$45*0.15 -> 972.15 | ... AC12: =$K$45*0.15 -> 972.15
B13: SZENNYVÍZCSATORNA (GRAVITÁCIÓS)
B14: Épület, építmény
C15: Bagod | D15: Idegenvíz kizárása a csatornadiagnosztikai vizsgálat és a helyszíni ellenőrzés alapján¹ | E15: Az üzemelő viziközmű technológiailag elavult, üzemeltetése, és javítása már nem gazdaságos. Jelenleg a piacon magasabb műszaki tartalmak érhetőek el | F15: A viziközmű rendszer hatékonyságának növelése, az üzemeltetési költségek szinten tartása miatt szükséges | G15: A beavatkozás után egy hatékonyan működő viziközmű elemet kapunk, mely a kor elvárásainak megfelel. A rendszer üzembiztos, hatékony, és korszerű lesz | I15: Bagod | J15: =SUM(O15:AC15) -> 1200 | L15: 43831 | M15: 45291 | N15: közép | P15: 300 | Q15: 300 | R15: 300 | S15: 300
C16: Bagod | D16: Idegenvíz kizárása a csatornadiagnosztikai vizsgálat és a helyszíni ellenőrzés alapján¹ | E16: Az üzemelő viziközmű technológiailag elavult, üzemeltetése, és javítása már nem gazdaságos. Jelenleg a piacon magasabb műszaki tartalmak érhetőek el | F16: A viziközmű rendszer hatékonyságának növelése, az üzemeltetési költségek szinten tartása miatt szükséges | G16: A beavatkozás után egy hatékonyan működő viziközmű elemet kapunk, mely a kor elvárásainak megfelel. A rendszer üzembiztos, hatékony, és korszerű lesz | I16: Bagod | J16: =SUM(O16:AC16) -> 3000 | L16: 45292 | M16: 48944 | N16: hosszú | T16: 300 | U16: 300 | V16: 300 | W16: 300 | X16: 300 | Y16: 300 | Z16: 300 | AA16: 300 | AB16: 300 | AC16: 300
C17: Bagod | D17: Gravitációs csatorna NA200 rekonstrukció | E17: Az üzemelő viziközmű technológiailag elavult, üzemeltetése, és javítása már nem gazdaságos. Jelenleg a piacon magasabb műszaki tartalmak érhetőek el | F17: A viziközmű rendszer hatékonyságának növelése, az üzemeltetési költségek szinten tartása miatt szükséges | G17: A beavatkozás után egy hatékonyan működő viziközmű elemet kapunk, mely a kor elvárásainak megfelel. A rendszer üzembiztos, hatékony, és korszerű lesz | I17: Bagod | J17: =SUM(O17:AC17) -> 9200 | L17: 43831 | M17: 44926 | N17: közép | P17: 4600 | R17: 4600
C18: Bagod | D18: Gravitációs csatorna NA200 rekonstrukció | E18: Az üzemelő viziközmű technológiailag elavult, üzemeltetése, és javítása már nem gazdaságos. Jelenleg a piacon magasabb műszaki tartalmak érhetőek el | F18: A viziközmű rendszer hatékonyságának növelése, az üzemeltetési költségek szinten tartása miatt szükséges | G18: A beavatkozás után egy hatékonyan működő viziközmű elemet kapunk, mely a kor elvárásainak megfelel. A rendszer üzembiztos, hatékony, és korszerű lesz | I18: Bagod | J18: =SUM(O18:AC18) -> 18400 | L18: 45658 | M18: 48213 | N18: hosszú | U18: 4600 | W18: 4600 | Y18: 4600 | AA18: 4600
B19: SZENNYVÍZVEZETÉKEK (KÉNYSZERÁRAMOLTATÁSÚ)
C20: Bagod | D20: Nyomott vezeték NA50 rekonstrukció | E20: Az üzemelő viziközmű technológiailag elavult, üzemeltetése, és javítása már nem gazdaságos. Jelenleg a piacon magasabb műszaki tartalmak érhetőek el | F20: A kiépített rendszer működőképességének megóvása, a biztonságos üzemelés biztosítása miatt van szükség a munka elvégzésére | G20: A viziközmű elem állapota megközelíti az új elem berendezés állapotát. Az üzembiztonság jelentősen növekszik | I20: Bagod | J20: =SUM(O20:AC20) -> 9300 | L20: 43831 | M20: 45291 | N20: közép | P20: 3100 | Q20: 3100 | S20: 3100
C21: Bagod | D21: Nyomott vezeték NA50 rekonstrukció | E21: Az üzemelő viziközmű technológiailag elavult, üzemeltetése, és javítása már nem gazdaságos. Jelenleg a piacon magasabb műszaki tartalmak érhetőek el | F21: A kiépített rendszer működőképességének megóvása, a biztonságos üzemelés biztosítása miatt van szükség a munka elvégzésére | G21: A viziközmű elem állapota megközelíti az új elem berendezés állapotát. Az üzembiztonság jelentősen növekszik | I21: Bagod | J21: =SUM(O21:AC21) -> 9300 | L21: 46023 | M21: 48579 | N21: hosszú | V21: 3100 | Y21: 3100 | AB21: 3100
C22: Bagod | D22: Nyomott vezeték NA80 rekonstrukció | E22: Az üzemelő viziközmű technológiailag elavult, üzemeltetése, és javítása már nem gazdaságos. Jelenleg a piacon magasabb műszaki tartalmak érhetőek el | F22: A kiépített rendszer működőképességének megóvása, a biztonságos üzemelés biztosítása miatt van szükség a munka elvégzésére | G22: A viziközmű elem állapota megközelíti az új elem berendezés állapotát. Az üzembiztonság jelentősen növekszik | I22: Bagod | J22: =SUM(O22:AC22) -> 2100 | L22: 44197 | M22: 44561 | N22: közép | Q22: 2100
C23: Bagod | D23: Nyomott vezeték NA80 rekonstrukció | E23: Az üzemelő viziközmű technológiailag elavult, üzemeltetése, és javítása már nem gazdaságos. Jelenleg a piacon magasabb műszaki tartalmak érhetőek el | F23: A kiépített rendszer működőképességének megóvása, a biztonságos üzemelés biztosítása miatt van szükség a munka elvégzésére | G23: A viziközmű elem állapota megközelíti az új elem berendezés állapotát. Az üzembiztonság jelentősen növekszik | I23: Bagod | J23: =SUM(O23:AC23) -> 6300 | L23: 45292 | M23: 47848 | N23: hosszú | T23: 2100 | W23: 2100 | Z23: 2100
C24: Bagod | D24: Nyomott vezeték NA100 rekonstrukció | E24: Az üzemelő viziközmű technológiailag elavult, üzemeltetése, és javítása már nem gazdaságos. Jelenleg a piacon magasabb műszaki tartalmak érhetőek el | F24: A kiépített rendszer működőképességének megóvása, a biztonságos üzemelés biztosítása miatt van szükség a munka elvégzésére | G24: A viziközmű elem állapota megközelíti az új elem berendezés állapotát. Az üzembiztonság jelentősen növekszik | I24: Bagod | J24: =SUM(O24:AC24) -> 4600 | L24: 43831 | M24: 45291 | N24: közép | P24: 2300 | S24: 2300
C25: Bagod | D25: Nyomott vezeték NA100 rekonstrukció | E25: Az üzemelő viziközmű technológiailag elavult, üzemeltetése, és javítása már nem gazdaságos. Jelenleg a piacon magasabb műszaki tartalmak érhetőek el | F25: A kiépített rendszer működőképességének megóvása, a biztonságos üzemelés biztosítása miatt van szükség a munka elvégzésére | G25: A viziközmű elem állapota megközelíti az új elem berendezés állapotát. Az üzembiztonság jelentősen növekszik | I25: Bagod | J25: =SUM(O25:AC25) -> 2300 | L25: 46388 | M25: 46752 | N25: hosszú | W25: 2300
C26: Bagod | D26: Nyomott vezeték NA150 rekonstrukció | E26: Az üzemelő viziközmű technológiailag elavult, üzemeltetése, és javítása már nem gazdaságos. Jelenleg a piacon magasabb műszaki tartalmak érhetőek el | F26: A kiépített rendszer működőképességének megóvása, a biztonságos üzemelés biztosítása miatt van szükség a munka elvégzésére | G26: A viziközmű elem állapota megközelíti az új elem berendezés állapotát. Az üzembiztonság jelentősen növekszik | I26: Bagod | J26: =SUM(O26:AC26) -> 10200 | L26: 43831 | M26: 45291 | N26: közép | P26: 3400 | Q26: 3400 | S26: 3400
C27: Bagod | D27: Nyomott vezeték NA150 rekonstrukció | E27: Az üzemelő viziközmű technológiailag elavult, üzemeltetése, és javítása már nem gazdaságos. Jelenleg a piacon magasabb műszaki tartalmak érhetőek el | F27: A kiépített rendszer működőképességének megóvása, a biztonságos üzemelés biztosítása miatt van szükség a munka elvégzésére | G27: A viziközmű elem állapota megközelíti az új elem berendezés állapotát. Az üzembiztonság jelentősen növekszik | I27: Bagod | J27: =SUM(O27:AC27) -> 10200 | L27: 45658 | M27: 47848 | N27: hosszú | U27: 3400 | X27: 3400 | Z27: 3400
B28: SZENNYVÍZÁTEMELŐK
B29: Épület, építmény
C30: Bagod | D30: átemelő akna építészeti rekonstrukció | E30: A szennyvíz, és a belőle felszabaduló gázok hatására a felületek elkorrodálnak. Ezen elemek cseréje a A kiépített rendszer működőképességének megóvása, a biztonságos üzemelés biztosítása miatt van szükség a munka elvégzésérehez elengedhetetlen | F30: Statikai stabilitás biztosítása | G30: A viziközmű elem állapota megközelíti az új elem berendezés állapotát. Az üzembiztonság jelentősen növekszik | I30: Bagod | J30: =SUM(O30:AC30) -> 1100 | L30: 43831 | M30: 45291 | N30: közép | P30: 300 | Q30: 250 | R30: 300 | S30: 250
C31: Bagod | D31: átemelő akna építészeti rekonstrukció | E31: A szennyvíz, és a belőle felszabaduló gázok hatására a felületek elkorrodálnak. Ezen elemek cseréje a A kiépített rendszer működőképességének megóvása, a biztonságos üzemelés biztosítása miatt van szükség a munka elvégzésérehez elengedhetetlen | F31: Statikai stabilitás biztosítása | G31: A viziközmű elem állapota megközelíti az új elem berendezés állapotát. Az üzembiztonság jelentősen növekszik | I31: Bagod | J31: =SUM(O31:AC31) -> 4260 | L31: 45292 | M31: 48944 | N31: hosszú | T31: 1950 | V31: 60 | X31: 250 | Y31: 400 | Z31: 400 | AA31: 400 | AB31: 400 | AC31: 400
C32: Bagod | D32: HBA akna építészeti rekonstrukció | E32: Az üzemelő viziközmű technológiailag elavult, üzemeltetése, és javítása már nem gazdaságos. Jelenleg a piacon magasabb műszaki tartalmak érhetőek el | F32: A kiépített rendszer működőképességének megóvása, a biztonságos üzemelés biztosítása miatt van szükség a munka elvégzésére | G32: A viziközmű elem állapota megközelíti az új elem berendezés állapotát. Az üzembiztonság jelentősen növekszik | I32: Bagod | J32: =SUM(O32:AC32) -> 1200 | L32: 43831 | M32: 45291 | N32: közép | P32: 300 | Q32: 300 | R32: 300 | S32: 300
C33: Bagod | D33: HBA akna építészeti rekonstrukció | E33: Az üzemelő viziközmű technológiailag elavult, üzemeltetése, és javítása már nem gazdaságos. Jelenleg a piacon magasabb műszaki tartalmak érhetőek el | F33: A kiépített rendszer működőképességének megóvása, a biztonságos üzemelés biztosítása miatt van szükség a munka elvégzésére | G33: A viziközmű elem állapota megközelíti az új elem berendezés állapotát. Az üzembiztonság jelentősen növekszik | I33: Bagod | J33: =SUM(O33:AC33) -> 3000 | L33: 45292 | M33: 48944 | N33: hosszú | T33: 300 | U33: 300 | V33: 300 | W33: 300 | X33: 300 | Y33: 300 | Z33: 300 | AA33: 300 | AB33: 300 | AC33: 300
B34: Gép, berendezés
C35: Bagod | D35: HBA szivattyú cserék | E35: Az üzemelő viziközmű elem működése közben előforduló eseti meghibásodások fordulhatnak elő, melyek előre nem tervezhetők | F35: A kiépített rendszer működőképességének megóvása, a biztonságos üzemelés biztosítása miatt van szükség a munka elvégzésére | G35: A beavatkozás után egy hatékonyan működő viziközmű elemet kapunk, mely a kor elvárásainak megfelel. A rendszer üzembiztos, hatékony, és korszerű lesz | I35: Bagod | J35: =SUM(O35:AC35) -> 3000 | L35: 43466 | M35: 43830 | N35: rövid | O35: 3000
C36: Bagod | D36: szivattyú felújítások átemelőknél | E36: Az üzemelő viziközmű elem működése közben előforduló eseti meghibásodások fordulhatnak elő, melyek előre nem tervezhetők | F36: A kiépített rendszer működőképességének megóvása, a biztonságos üzemelés biztosítása miatt van szükség a munka elvégzésére | G36: A beavatkozás után egy hatékonyan működő viziközmű elemet kapunk, mely a kor elvárásainak megfelel. A rendszer üzembiztos, hatékony, és korszerű lesz | I36: Bagod | J36: =SUM(O36:AC36) -> 2500 | L36: 43466 | M36: 43830 | N36: rövid | O36: 2500
C37: Bagod | D37: gépészeti rekonstrukció (1-6) | E37: A viziközmű elem a napi üzemmenet során oly mértékig elhasználódott, hogy a normál karbantartási munkákkal már nem biztosítható az üzembiztos működése | F37: A rendszer zavartalan üzemének biztosítása érdekében szükséges a beavatkozás | G37: A beavatkozás után egy hatékonyan működő viziközmű elemet kapunk, mely a kor elvárásainak megfelel. A rendszer üzembiztos, hatékony, és korszerű lesz | I37: Bagod | J37: =SUM(O37:AC37) -> 10000 | L37: 43831 | M37: 45291 | N37: közép | P37: 2200 | Q37: 200 | S37: 7600
C38: Bagod | D38: gépészeti rekonstrukció (1-6) | E38: Az üzemelő viziközmű elem működése közben előforduló eseti meghibásodások fordulhatnak elő, melyek előre nem tervezhetők | F38: A kiépített rendszer működőképességének megóvása, a biztonságos üzemelés biztosítása miatt van szükség a munka elvégzésére | G38: A beavatkozás után egy hatékonyan működő viziközmű elemet kapunk, mely a kor elvárásainak megfelel. A rendszer üzembiztos, hatékony, és korszerű lesz | I38: Bagod | J38: =SUM(O38:AC38) -> 3300 | L38: 45292 | M38: 48213 | N38: hosszú | T38: 2500 | U38: 200 | W38: 200 | Y38: 200 | AA38: 200
C39: Bagod | D39: HBA gépészeti rekonstrukció (1-6) | E39: Az üzemelő viziközmű elem működése közben előforduló eseti meghibásodások fordulhatnak elő, melyek előre nem tervezhetők | F39: A kiépített rendszer működőképességének megóvása, a biztonságos üzemelés biztosítása miatt van szükség a munka elvégzésére | G39: A beavatkozás után egy hatékonyan működő viziközmű elemet kapunk, mely a kor elvárásainak megfelel. A rendszer üzembiztos, hatékony, és korszerű lesz | I39: Bagod | J39: =SUM(O39:AC39) -> 5600 | L39: 43831 | M39: 45291 | N39: közép | P39: 1400 | Q39: 1400 | R39: 1400 | S39: 1400
C40: Bagod | D40: HBA gépészeti rekonstrukció (1-6) | E40: A viziközmű elem a napi üzemmenet során oly mértékig elhasználódott, hogy a normál karbantartási munkákkal már nem biztosítható az üzembiztos működése | F40: A rendszer zavartalan üzemének biztosítása érdekében szükséges a beavatkozás | G40: A viziközmű elem állapota megközelíti az új elem berendezés állapotát. Az üzembiztonság jelentősen növekszik | I40: Bagod | J40: =SUM(O40:AC40) -> 14000 | L40: 45292 | M40: 48944 | N40: hosszú | T40: 1400 | U40: 1400 | V40: 1400 | W40: 1400 | X40: 1400 | Y40: 1400 | Z40: 1400 | AA40: 1400 | AB40: 1400 | AC40: 1400
B41: Irányítástechnika, energiaellátás
C42: Bagod | D42: erősáramú és irányítástechnikai rekonstrukció | E42: A viziközmű elem a napi üzemmenet során oly mértékig elhasználódott, hogy a normál karbantartási munkákkal már nem biztosítható az üzembiztos működése | F42: A rendszer zavartalan üzemének biztosítása érdekében szükséges a beavatkozás | G42: A beavatkozás után egy hatékonyan működő viziközmű elemet kapunk, mely a kor elvárásainak megfelel. A rendszer üzembiztos, hatékony, és korszerű lesz | I42: Bagod | J42: =SUM(O42:AC42) -> 6000 | L42: 44197 | M42: 44561 | N42: közép | Q42: 6000
C43: Bagod | D43: HBA vezérlőszekrény és műszerezés cseréje | E43: A viziközmű elem a napi üzemmenet során oly mértékig elhasználódott, hogy a normál karbantartási munkákkal már nem biztosítható az üzembiztos működése | F43: A rendszer zavartalan üzemének biztosítása érdekében szükséges a beavatkozás | G43: A beavatkozás után egy hatékonyan működő viziközmű elemet kapunk, mely a kor elvárásainak megfelel. A rendszer üzembiztos, hatékony, és korszerű lesz | I43: Bagod | J43: =SUM(O43:AC43) -> 2000 | L43: 43831 | M43: 45291 | N43: közép | P43: 500 | Q43: 500 | R43: 500 | S43: 500
C44: Bagod | D44: HBA vezérlőszekrény és műszerezés cseréje | E44: A viziközmű elem a napi üzemmenet során oly mértékig elhasználódott, hogy a normál karbantartási munkákkal már nem biztosítható az üzembiztos működése | F44: A rendszer zavartalan üzemének biztosítása érdekében szükséges a beavatkozás | G44: A beavatkozás után egy hatékonyan működő viziközmű elemet kapunk, mely a kor elvárásainak megfelel. A rendszer üzembiztos, hatékony, és korszerű lesz | I44: Bagod | J44: =SUM(O44:AC44) -> 5000 | L44: 45292 | M44: 48944 | N44: hosszú | T44: 500 | U44: 500 | V44: 500 | W44: 500 | X44: 500 | Y44: 500 | Z44: 500 | AA44: 500 | AB44: 500 | AC44: 500
B45: Összesen: | J45: =SUM(J12:J44) -> 161642.1 | K45: =C49 -> 6481 | O45: =SUM(O12:O44) -> 6472 | P45: =SUM(P12:P44) -> 19372.15 | Q45: =SUM(Q12:Q44) -> 18522.15 | R45: =SUM(R12:R44) -> 8372.15 | S45: =SUM(S12:S44) -> 20122.15 | T45: =SUM(T12:T44) -> 10022.15 | U45: =SUM(U12:U44) -> 11672.15 | V45: =SUM(V12:V44) -> 6632.15 | ... AC45: =SUM(AC12:AC44) -> 3872.15
K46: 2019 évre a fejlesztési forrás biztosított
B48: Rendelkezésre álló források megnevezése | C48: Rendelkezésre álló források számszerűsített értéke a teljes ütem tekintetében (eFt)
A49: I. ütem | B49: Használati díj (2019) | C49: 6481
A50: II. ütem | B50: Használati díj (2020-2023) | C50: =C49*4 -> 25924
A51: III. ütem | B51: Használati díj (2024-2033) | C51: =C49*10 -> 64810
B55: ¹ Idegenvíz kizárás munkafolyamatai
B56: 1. Törött szerkezeti elemek cseréje, aknában bekötések körbekenése, folyásfenék újra betonozása, hézag pótlása (vízbetörés javítás)
B57: 2. Vízzáró réteg készítés, hosszútávú korrozíó és szerkezeti védelem (Szulfátálló réteg készítése)
B58: 3. Fedlap és szűkítő csere DN 600 mm, terhelésnek megfelelően, üzemeltető előírása szerint
B59: 4. Pontszerű hibahelyek javítása gerincvezetéken, és bekötésen
B61: ²Gépészeti felújítás
B62: 1. szivattyú talpidon csere
B63: 2. nyomócső csere
B64: 3. nadrágidom csere
B65: 4. visszacsapó szelep csere
B66: 5. tolózár csere
B67: 6. vezetőcső csere
... B72: 3. aszfaltozás

Sheet Bak
A1: Gördülő fejlesztési terv a 2019 - 2033 időszakra
A2: FELÚJÍTÁSOK ÉS PÓTLÁSOK ÖSSZEFOGLALÓ TÁBLÁZATA
A3: A tervet benyújtó szervezet megnevezése: | K3: BAK | R3: ellátásért felelős / ellátásért felelősök képviselője / víziközmű-szolgáltató *
A4: Víziközmű-szolgáltató megnevezése: | K4: ÉSZAK ZALAI VÍZ- ÉS CSATORNAMŰ ZÁRTKÖRŰEN MŰKÖDŐ RÉSZVÉNYTÁRSASÁG
A5: Víziközmű-szolgáltatási ágazat megnevezése: | K5: SZENNYVÍZ ÁGAZAT
A6: Véleményeltérést megfogalmazó érintett fél megnevezése:
A7: Víziközmű-rendszer kódja: ** | K7: 21-32054-1-048-01-10 | R7: ZALAEGERSZEG-SZV
A8: V. Szennyvízelvezetés
A9: Fontossági sorrend | B9: Felujítás és pótlás megnevezése | E9: Műszaki állapot felmérés, szükségességi indoklás | H9: Vízjogi létesítési/elvi engedély száma | I9: Az érintett ellátásért felelős(ök) megnevezése | J9: Tervezett nettó költség | K9: Forrás 2019 évre | L9: Megvalósítás időtartama | N9: Tervezett időtáv | O9: A beruházás ütemezése a tervezési időszak évei szerint
E10: Jelenlegi műszaki állapot | F10: Feladat szükségessége | G10: Megvalósítást követő várható műszaki állapot | J10: (eFt) | L10: Kezdés | M10: Befejezés | N10: (rövid / közép / hosszú) | O10: 1 | P10: 2 | Q10: 3 | R10: 4 | S10: 5 | T10: 6 | U10: 7 | V10: 8 | W10: 9 | X10: 10 | Y10: 11 | Z10: 12 | AA10: 13 | AB10: 14 | AC10: 15
B11: szakág | C11: Helyszín | D11: beruházás megnevezése
A12: 1 | D12: Rendkívüli helyzetből adódó azonnali feladatok (max. 15%) | F12: A rendszer zavartalan üzemének biztosítása érdekében szükséges a beavatkozás | I12: Bak | J12: =SUM(O12:AC12) -> 10684.9 | L12: 43466 | M12: 48944 | O12: 712 | P12: =$K$42*0.15 -> 712.35 | Q12: =$K$42*0.15 -> 712.35 | R12: =$K$42*0.15 -> 712.35 | S12: =$K$42*0.15 -> 712.35 | T12: =$K$42*0.15 -> 712.35 | U12: =$K$42*0.15 -> 712.35 | V12: =$K$42*0.15 -> 712.35 | W12: =$K$42*0.15 -> 712.35 | ... AC12: =$K$42*0.15 -> 712.35
B13: SZENNYVÍZCSATORNA (GRAVITÁCIÓS)
B14: Épület, építmény
C15: Bak | D15: Idegenvíz kizárása a csatornadiagnosztikai vizsgálat és a helyszíni ellenőrzés alapján¹ | E15: Az üzemelő viziközmű technológiailag elavult, üzemeltetése, és javítása már nem gazdaságos. Jelenleg a piacon magasabb műszaki tartalmak érhetőek el | F15: A viziközmű rendszer hatékonyságának növelése, az üzemeltetési költségek szinten tartása miatt szükséges | G15: A beavatkozás után egy hatékonyan működő viziközmű elemet kapunk, mely a kor elvárásainak megfelel. A rendszer üzembiztos, hatékony, és korszerű lesz | I15: Bak | J15: =SUM(O15:AC15) -> 2200 | L15: 43831 | M15: 45291 | N15: közép | P15: 550 | Q15: 550 | R15: 550 | S15: 550
C16: Bak | D16: Idegenvíz kizárása a csatornadiagnosztikai vizsgálat és a helyszíni ellenőrzés alapján¹ | E16: Az üzemelő viziközmű technológiailag elavult, üzemeltetése, és javítása már nem gazdaságos. Jelenleg a piacon magasabb műszaki tartalmak érhetőek el | F16: A viziközmű rendszer hatékonyságának növelése, az üzemeltetési költségek szinten tartása miatt szükséges | G16: A beavatkozás után egy hatékonyan működő viziközmű elemet kapunk, mely a kor elvárásainak megfelel. A rendszer üzembiztos, hatékony, és korszerű lesz | I16: Bak | J16: =SUM(O16:AC16) -> 3400 | L16: 45292 | M16: 48944 | N16: hosszú | T16: 550 | U16: 550 | V16: 550 | W16: 250 | X16: 250 | Y16: 250 | Z16: 250 | AA16: 250 | AB16: 250 | AC16: 250
C17: Bak | D17: Gravitációs csatorna NA 150 rekonstrukció | E17: Az üzemelő viziközmű technológiailag elavult, üzemeltetése, és javítása már nem gazdaságos. Jelenleg a piacon magasabb műszaki tartalmak érhetőek el | F17: A viziközmű rendszer hatékonyságának növelése, az üzemeltetési költségek szinten tartása miatt szükséges | G17: A beavatkozás után egy hatékonyan működő viziközmű elemet kapunk, mely a kor elvárásainak megfelel. A rendszer üzembiztos, hatékony, és korszerű lesz | I17: Bak | J17: =SUM(O17:AC17) -> 5100 | L17: 43831 | M17: 45291 | N17: közép | P17: 1500 | Q17: 1800 | S17: 1800
C18: Bak | D18: Gravitációs csatorna NA 150 rekonstrukció | E18: Az üzemelő viziközmű technológiailag elavult, üzemeltetése, és javítása már nem gazdaságos. Jelenleg a piacon magasabb műszaki tartalmak érhetőek el | F18: A viziközmű rendszer hatékonyságának növelése, az üzemeltetési költségek szinten tartása miatt szükséges | G18: A beavatkozás után egy hatékonyan működő viziközmű elemet kapunk, mely a kor elvárásainak megfelel. A rendszer üzembiztos, hatékony, és korszerű lesz | I18: Bak | J18: =SUM(O18:AC18) -> 7200 | L18: 45658 | M18: 48213 | N18: hosszú | U18: 1800 | W18: 1800 | Y18: 1800 | AA18: 1800
C19: Bak | D19: Gravitációs csatorna NA200 rekonstrukció | E19: Az üzemelő viziközmű technológiailag elavult, üzemeltetése, és javítása már nem gazdaságos. Jelenleg a piacon magasabb műszaki tartalmak érhetőek el | F19: A viziközmű rendszer hatékonyságának növelése, az üzemeltetési költségek szinten tartása miatt szükséges | G19: A beavatkozás után egy hatékonyan működő viziközmű elemet kapunk, mely a kor elvárásainak megfelel. A rendszer üzembiztos, hatékony, és korszerű lesz | I19: Bak | J19: =SUM(O19:AC19) -> 4000 | L19: 43831 | M19: 44926 | N19: közép | P19: 1500 | R19: 2500
C20: Bak | D20: Gravitációs csatorna NA200 rekonstrukció | E20: Az üzemelő viziközmű technológiailag elavult, üzemeltetése, és javítása már nem gazdaságos. Jelenleg a piacon magasabb műszaki tartalmak érhetőek el | F20: A viziközmű rendszer hatékonyságának növelése, az üzemeltetési költségek szinten tartása miatt szükséges | G20: A beavatkozás után egy hatékonyan működő viziközmű elemet kapunk, mely a kor elvárásainak megfelel. A rendszer üzembiztos, hatékony, és korszerű lesz | I20: Bak | J20: =SUM(O20:AC20) -> 6500 | L20: 47119 | M20: 47483 | N20: hosszú | Y20: 6500
B21: SZENNYVÍZVEZETÉKEK (KÉNYSZERÁRAMOLTATÁSÚ)
C22: Bak | D22: Nyomott vezeték NA100 rekonstrukció | E22: Az üzemelő viziközmű technológiailag elavult, üzemeltetése, és javítása már nem gazdaságos. Jelenleg a piacon magasabb műszaki tartalmak érhetőek el | F22: A kiépített rendszer működőképességének megóvása, a biztonságos üzemelés biztosítása miatt van szükség a munka elvégzésére | G22: A viziközmű elem állapota megközelíti az új elem berendezés állapotát. Az üzembiztonság jelentősen növekszik | I22: Bak | J22: =SUM(O22:AC22) -> 2000 | L22: 44197 | M22: 44561 | N22: közép | Q22: 2000
C23: Bak | D23: Nyomott vezeték NA100 rekonstrukció | E23: Az üzemelő viziközmű technológiailag elavult, üzemeltetése, és javítása már nem gazdaságos. Jelenleg a piacon magasabb műszaki tartalmak érhetőek el | F23: A kiépített rendszer működőképességének megóvása, a biztonságos üzemelés biztosítása miatt van szükség a munka elvégzésére | G23: A viziközmű elem állapota megközelíti az új elem berendezés állapotát. Az üzembiztonság jelentősen növekszik | I23: Bak | J23: =SUM(O23:AC23) -> 6000 | L23: 45292 | M23: 47848 | N23: hosszú | T23: 2000 | W23: 2000 | Z23: 2000
C24: Bak | D24: Nyomott vezeték NA125 rekonstrukció | E24: Az üzemelő viziközmű technológiailag elavult, üzemeltetése, és javítása már nem gazdaságos. Jelenleg a piacon magasabb műszaki tartalmak érhetőek el | F24: A kiépített rendszer működőképességének megóvása, a biztonságos üzemelés biztosítása miatt van szükség a munka elvégzésére | G24: A viziközmű elem állapota megközelíti az új elem berendezés állapotát. Az üzembiztonság jelentősen növekszik | I24: Bak | J24: =SUM(O24:AC24) -> 2200 | L24: 44197 | M24: 44561 | N24: közép | Q24: 2200
C25: Bak | D25: Nyomott vezeték NA125 rekonstrukció | E25: Az üzemelő viziközmű technológiailag elavult, üzemeltetése, és javítása már nem gazdaságos. Jelenleg a piacon magasabb műszaki tartalmak érhetőek el | F25: A kiépített rendszer működőképességének megóvása, a biztonságos üzemelés biztosítása miatt van szükség a munka elvégzésére | G25: A viziközmű elem állapota megközelíti az új elem berendezés állapotát. Az üzembiztonság jelentősen növekszik | I25: Bak | J25: =SUM(O25:AC25) -> 2200 | L25: 46388 | M25: 46752 | N25: hosszú | W25: 2200
C26: Bak | D26: Nyomott vezeték NA150 rekonstrukció | E26: Az üzemelő viziközmű technológiailag elavult, üzemeltetése, és javítása már nem gazdaságos. Jelenleg a piacon magasabb műszaki tartalmak érhetőek el | F26: A kiépített rendszer működőképességének megóvása, a biztonságos üzemelés biztosítása miatt van szükség a munka elvégzésére | G26: A viziközmű elem állapota megközelíti az új elem berendezés állapotát. Az üzembiztonság jelentősen növekszik | I26: Bak | J26: =SUM(O26:AC26) -> 920 | L26: 44562 | M26: 44926 | N26: közép | R26: 920
C27: Bak | D27: Nyomott vezeték NA150 rekonstrukció | E27: Az üzemelő viziközmű technológiailag elavult, üzemeltetése, és javítása már nem gazdaságos. Jelenleg a piacon magasabb műszaki tartalmak érhetőek el | F27: A kiépített rendszer működőképességének megóvása, a biztonságos üzemelés biztosítása miatt van szükség a munka elvégzésére | G27: A viziközmű elem állapota megközelíti az új elem berendezés állapotát. Az üzembiztonság jelentősen növekszik | I27: Bak | J27: =SUM(O27:AC27) -> 920 | L27: 47484 | M27: 47848 | N27: hosszú | Z27: 920
B28: SZENNYVÍZÁTEMELŐK
B29: Épület, építmény
C30: Bak | D30: átemelő akna építészeti rekonstrukció | E30: A szennyvíz, és a belőle felszabaduló gázok hatására a felületek elkorrodálnak. Ezen elemek cseréje a A kiépített rendszer működőképességének megóvása, a biztonságos üzemelés biztosítása miatt van szükség a munka elvégzésérehez elengedhetetlen | F30: Statikai stabilitás biztosítása | G30: A viziközmű elem állapota megközelíti az új elem berendezés állapotát. Az üzembiztonság jelentősen növekszik | I30: Bak | J30: =SUM(O30:AC30) -> 4940 | L30: 43831 | M30: 45291 | N30: közép | P30: 470 | Q30: 1300 | R30: 1910 | S30: 1260
C31: Bak | D31: átemelő akna építészeti rekonstrukció | E31: A szennyvíz, és a belőle felszabaduló gázok hatására a felületek elkorrodálnak. Ezen elemek cseréje a A kiépített rendszer működőképességének megóvása, a biztonságos üzemelés biztosítása miatt van szükség a munka elvégzésérehez elengedhetetlen | F31: Statikai stabilitás biztosítása | G31: A viziközmű elem állapota megközelíti az új elem berendezés állapotát. Az üzembiztonság jelentősen növekszik | I31: Bak | J31: =SUM(O31:AC31) -> 8390 | L31: 45292 | M31: 48944 | N31: hosszú | T31: 1200 | U31: 1350 | X31: 250 | Y31: 1010 | Z31: 2370 | AA31: 210 | AB31: 1000 | AC31: 1000
C32: Bak | D32: HBA akna építészeti rekonstrukció | E32: Az üzemelő viziközmű technológiailag elavult, üzemeltetése, és javítása már nem gazdaságos. Jelenleg a piacon magasabb műszaki tartalmak érhetőek el | F32: A kiépített rendszer működőképességének megóvása, a biztonságos üzemelés biztosítása miatt van szükség a munka elvégzésére | G32: A viziközmű elem állapota megközelíti az új elem berendezés állapotát. Az üzembiztonság jelentősen növekszik | I32: Bak | J32: =SUM(O32:AC32) -> 300 | L32: 44562 | M32: 44926 | N32: közép | R32: 300
C33: Bak | D33: HBA akna építészeti rekonstrukció | E33: Az üzemelő viziközmű technológiailag elavult, üzemeltetése, és javítása már nem gazdaságos. Jelenleg a piacon magasabb műszaki tartalmak érhetőek el | F33: A kiépített rendszer működőképességének megóvása, a biztonságos üzemelés biztosítása miatt van szükség a munka elvégzésére | G33: A viziközmű elem állapota megközelíti az új elem berendezés állapotát. Az üzembiztonság jelentősen növekszik | I33: Bak | J33: =SUM(O33:AC33) -> 240 | L33: 46023 | M33: 47848 | N33: hosszú | V33: 120 | Z33: 120
B34: Gép, berendezés
C35: Bak | D35: szivattyú felújítások átemelőknél | E35: Az üzemelő viziközmű elem működése közben előforduló eseti meghibásodások fordulhatnak elő, melyek előre nem tervezhetők | F35: A kiépített rendszer működőképességének megóvása, a biztonságos üzemelés biztosítása miatt van szükség a munka elvégzésére | G35: A beavatkozás után egy hatékonyan működő viziközmű elemet kapunk, mely a kor elvárásainak megfelel. A rendszer üzembiztos, hatékony, és korszerű lesz | I35: Bak | J35: =SUM(O35:AC35) -> 1800 | L35: 43466 | M35: 43830 | N35: rövid | O35: 1800
C36: Bak | D36: gépészeti rekonstrukció (1-6) | E36: Az üzemelő viziközmű elem működése közben előforduló eseti meghibásodások fordulhatnak elő, melyek előre nem tervezhetők | F36: A kiépített rendszer működőképességének megóvása, a biztonságos üzemelés biztosítása miatt van szükség a munka elvégzésére | G36: A beavatkozás után egy hatékonyan működő viziközmű elemet kapunk, mely a kor elvárásainak megfelel. A rendszer üzembiztos, hatékony, és korszerű lesz | I36: Bak | J36: =SUM(O36:AC36) -> 15900 | L36: 43831 | M36: 45291 | N36: közép | P36: 400 | Q36: 4800 | R36: 7100 | S36: 3600
C37: Bak | D37: gépészeti rekonstrukció (1-6) | E37: Az üzemelő viziközmű elem működése közben előforduló eseti meghibásodások fordulhatnak elő, melyek előre nem tervezhetők | F37: A kiépített rendszer működőképességének megóvása, a biztonságos üzemelés biztosítása miatt van szükség a munka elvégzésére | G37: A beavatkozás után egy hatékonyan működő viziközmű elemet kapunk, mely a kor elvárásainak megfelel. A rendszer üzembiztos, hatékony, és korszerű lesz | I37: Bak | J37: =SUM(O37:AC37) -> 21700 | L37: 45292 | M37: 48944 | N37: hosszú | T37: 1000 | U37: 1100 | V37: 2800 | W37: 400 | X37: 300 | Y37: 400 | Z37: 4400 | AA37: 7300 | AB37: 2000 | AC37: 2000
C38: Bak | D38: HBA gépészeti rekonstrukció (1-6) | E38: Az üzemelő viziközmű elem működése közben előforduló eseti meghibásodások fordulhatnak elő, melyek előre nem tervezhetők | F38: A kiépített rendszer működőképességének megóvása, a biztonságos üzemelés biztosítása miatt van szükség a munka elvégzésére | G38: A beavatkozás után egy hatékonyan működő viziközmű elemet kapunk, mely a kor elvárásainak megfelel. A rendszer üzembiztos, hatékony, és korszerű lesz | I38: Bak | J38: =SUM(O38:AC38) -> 430 | L38: 43831 | M38: 44926 | N38: közép | P38: 65 | Q38: 300 | R38: 65
C39: Bak | D39: HBA gépészeti rekonstrukció (1-6) | E39: Az üzemelő viziközmű elem működése közben előforduló eseti meghibásodások fordulhatnak elő, melyek előre nem tervezhetők | F39: A kiépített rendszer működőképességének megóvása, a biztonságos üzemelés biztosítása miatt van szükség a munka elvégzésére | G39: A beavatkozás után egy hatékonyan működő viziközmű elemet kapunk, mely a kor elvárásainak megfelel. A rendszer üzembiztos, hatékony, és korszerű lesz | I39: Bak | J39: =SUM(O39:AC39) -> 1275 | L39: 45292 | M39: 48579 | N39: közép | T39: 65 | W39: 185 | X39: 300 | Y39: 65 | Z39: 420 | AA39: 120 | AB39: 120
B40: Irányítástechnika, energiaellátás
C41: Bak | D41: erősáramú és irányítástechnikai rekonstrukció | E41: A viziközmű elem a napi üzemmenet során oly mértékig elhasználódott, hogy a normál karbantartási munkákkal már nem biztosítható az üzembiztos működése | F41: A rendszer zavartalan üzemének biztosítása érdekében szükséges a beavatkozás | G41: A beavatkozás után egy hatékonyan működő viziközmű elemet kapunk, mely a kor elvárásainak megfelel. A rendszer üzembiztos, hatékony, és korszerű lesz | I41: Bak | J41: =SUM(O41:AC41) -> 17500 | L41: 44197 | M41: 44197 | N41: közép | Q41: 17500
B42: Összesen: | J42: =SUM(J12:J41) -> 125799.9 | K42: =C46 -> 4749 | O42: =SUM(O12:O41) -> 2512 | P42: =SUM(P12:P41) -> 5197.35 | Q42: =SUM(Q12:Q41) -> 31162.35 | R42: =SUM(R12:R41) -> 14057.35 | S42: =SUM(S12:S41) -> 7922.35 | T42: =SUM(T12:T41) -> 5527.35 | U42: =SUM(U12:U41) -> 5512.35 | V42: =SUM(V12:V41) -> 4182.35 | ... AC42: =SUM(AC12:AC41) -> 3962.35
K43: 2019 évre a fejlesztési forrás biztosított
B45: Rendelkezésre álló források megnevezése | C45: Rendelkezésre álló források számszerűsített értéke a teljes ütem tekintetében (eFt)
A46: I. ütem | B46: Használati díj (2019) | C46: 4749
A47: II. ütem | B47: Használati díj (2020-2023) | C47: =C46*4 -> 18996
A48: III. ütem | B48: Használati díj (2024-2033) | C48: =C46*10 -> 47490
B51: ¹ Idegenvíz kizárás munkafolyamatai
B52: 1. Törött szerkezeti elemek cseréje, aknában bekötések körbekenése, folyásfenék újra betonozása, hézag pótlása (vízbetörés javítás)
B53: 2. Vízzáró réteg készítés, hosszútávú korrozíó és szerkezeti védelem (Szulfátálló réteg készítése)
B54: 3. Fedlap és szűkítő csere DN 600 mm, terhelésnek megfelelően, üzemeltető előírása szerint
B55: 4. Pontszerű hibahelyek javítása gerincvezetéken, és bekötésen
B57: ²Gépészeti felújítás
B58: 1. szivattyú talpidon csere
B59: 2. nyomócső csere
B60: 3. nadrágidom csere
B61: 4. visszacsapó szelep csere
B62: 5. tolózár csere
B63: 6. vezetőcső csere
... B68: 3. aszfaltozás

Sheet Bocfölde
A1: Gördülő fejlesztési terv a 2019 - 2033 időszakra
A2: FELÚJÍTÁSOK ÉS PÓTLÁSOK ÖSSZEFOGLALÓ TÁBLÁZATA
A3: A tervet benyújtó szervezet megnevezése: | K3: BOCFÖLDE | R3: ellátásért felelős / ellátásért felelősök képviselője / víziközmű-szolgáltató *
A4: Víziközmű-szolgáltató megnevezése: | K4: ÉSZAK ZALAI VÍZ- ÉS CSATORNAMŰ ZÁRTKÖRŰEN MŰKÖDŐ RÉSZVÉNYTÁRSASÁG
A5: Víziközmű-szolgáltatási ágazat megnevezése: | K5: SZENNYVÍZ ÁGAZAT
A6: Véleményeltérést megfogalmazó érintett fél megnevezése:
A7: Víziközmű-rendszer kódja: ** | K7: 21-32054-1-048-01-10 | R7: ZALAEGERSZEG-SZV
A8: V. Szennyvízelvezetés
A9: Fontossági sorrend | B9: Felujítás és pótlás megnevezése | E9: Műszaki állapot felmérés, szükségességi indoklás | H9: Vízjogi létesítési/elvi engedély száma | I9: Az érintett ellátásért felelős(ök) megnevezése | J9: Tervezett nettó költség | K9: Forrás 2019 évre | L9: Megvalósítás időtartama | N9: Tervezett időtáv | O9: A beruházás ütemezése a tervezési időszak évei szerint
E10: Jelenlegi műszaki állapot | F10: Feladat szükségessége | G10: Megvalósítást követő várható műszaki állapot | J10: (eFt) | L10: Kezdés | M10: Befejezés | N10: (rövid / közép / hosszú) | O10: 1 | P10: 2 | Q10: 3 | R10: 4 | S10: 5 | T10: 6 | U10: 7 | V10: 8 | W10: 9 | X10: 10 | Y10: 11 | Z10: 12 | AA10: 13 | AB10: 14 | AC10: 15
B11: szakág | C11: Helyszín | D11: beruházás megnevezése
A12: 1 | D12: Rendkívüli helyzetből adódó azonnali feladatok (max. 15%) | F12: A rendszer zavartalan üzemének biztosítása érdekében szükséges a beavatkozás | I12: Bocfölde | J12: =SUM(O12:AC12) -> 13693.5 | L12: 43466 | M12: 48944 | O12: 558 | P12: =$K$42*0.15 -> 938.25 | Q12: =$K$42*0.15 -> 938.25 | R12: =$K$42*0.15 -> 938.25 | S12: =$K$42*0.15 -> 938.25 | T12: =$K$42*0.15 -> 938.25 | U12: =$K$42*0.15 -> 938.25 | V12: =$K$42*0.15 -> 938.25 | W12: =$K$42*0.15 -> 938.25 | ... AC12: =$K$42*0.15 -> 938.25
B13: SZENNYVÍZCSATORNA (GRAVITÁCIÓS)
B14: Épület, építmény
C15: Bocfölde | D15: Idegenvíz kizárása a csatornadiagnosztikai vizsgálat és a helyszíni ellenőrzés alapján¹ | E15: Az üzemelő viziközmű technológiailag elavult, üzemeltetése, és javítása már nem gazdaságos. Jelenleg a piacon magasabb műszaki tartalmak érhetőek el | F15: A viziközmű rendszer hatékonyságának növelése, az üzemeltetési költségek szinten tartása miatt szükséges | G15: A beavatkozás után egy hatékonyan működő viziközmű elemet kapunk, mely a kor elvárásainak megfelel. A rendszer üzembiztos, hatékony, és korszerű lesz | I15: Bocfölde | J15: =SUM(O15:AC15) -> 1000 | L15: 43831 | M15: 45291 | N15: közép | P15: 250 | Q15: 250 | R15: 250 | S15: 250
C16: Bocfölde | D16: Idegenvíz kizárása a csatornadiagnosztikai vizsgálat és a helyszíni ellenőrzés alapján¹ | E16: Az üzemelő viziközmű technológiailag elavult, üzemeltetése, és javítása már nem gazdaságos. Jelenleg a piacon magasabb műszaki tartalmak érhetőek el | F16: A viziközmű rendszer hatékonyságának növelése, az üzemeltetési költségek szinten tartása miatt szükséges | G16: A beavatkozás után egy hatékonyan működő viziközmű elemet kapunk, mely a kor elvárásainak megfelel. A rendszer üzembiztos, hatékony, és korszerű lesz | I16: Bocfölde | J16: =SUM(O16:AC16) -> 2500 | L16: 45292 | M16: 48944 | N16: hosszú | T16: 250 | U16: 250 | V16: 250 | W16: 250 | X16: 250 | Y16: 250 | Z16: 250 | AA16: 250 | AB16: 250 | AC16: 250
C17: Bocfölde | D17: Gravitációs csatorna NA 150 rekonstrukció | E17: Az üzemelő viziközmű technológiailag elavult, üzemeltetése, és javítása már nem gazdaságos. Jelenleg a piacon magasabb műszaki tartalmak érhetőek el | F17: A viziközmű rendszer hatékonyságának növelése, az üzemeltetési költségek szinten tartása miatt szükséges | G17: A beavatkozás után egy hatékonyan működő viziközmű elemet kapunk, mely a kor elvárásainak megfelel. A rendszer üzembiztos, hatékony, és korszerű lesz | I17: Bocfölde | J17: =SUM(O17:AC17) -> 3700 | L17: 43831 | M17: 45291 | N17: közép | P17: 500 | Q17: 1600 | S17: 1600
C18: Bocfölde | D18: Gravitációs csatorna NA 150 rekonstrukció | E18: Az üzemelő viziközmű technológiailag elavult, üzemeltetése, és javítása már nem gazdaságos. Jelenleg a piacon magasabb műszaki tartalmak érhetőek el | F18: A viziközmű rendszer hatékonyságának növelése, az üzemeltetési költségek szinten tartása miatt szükséges | G18: A beavatkozás után egy hatékonyan működő viziközmű elemet kapunk, mely a kor elvárásainak megfelel. A rendszer üzembiztos, hatékony, és korszerű lesz | I18: Bocfölde | J18: =SUM(O18:AC18) -> 5600 | L18: 45658 | M18: 47848 | N18: hosszú | U18: 2600 | Z18: 3000
C19: Bocfölde | D19: Gravitációs csatorna NA200 rekonstrukció | E19: Az üzemelő viziközmű technológiailag elavult, üzemeltetése, és javítása már nem gazdaságos. Jelenleg a piacon magasabb műszaki tartalmak érhetőek el | F19: A viziközmű rendszer hatékonyságának növelése, az üzemeltetési költségek szinten tartása miatt szükséges | G19: A beavatkozás után egy hatékonyan működő viziközmű elemet kapunk, mely a kor elvárásainak megfelel. A rendszer üzembiztos, hatékony, és korszerű lesz | I19: Bocfölde | J19: =SUM(O19:AC19) -> 8700 | L19: 43831 | M19: 44926 | N19: közép | P19: 2000 | R19: 6700
C20: Bocfölde | D20: Gravitációs csatorna NA200 rekonstrukció | E20: Az üzemelő viziközmű technológiailag elavult, üzemeltetése, és javítása már nem gazdaságos. Jelenleg a piacon magasabb műszaki tartalmak érhetőek el | F20: A viziközmű rendszer hatékonyságának növelése, az üzemeltetési költségek szinten tartása miatt szükséges | G20: A beavatkozás után egy hatékonyan működő viziközmű elemet kapunk, mely a kor elvárásainak megfelel. A rendszer üzembiztos, hatékony, és korszerű lesz | I20: Bocfölde | J20: =SUM(O20:AC20) -> 13400 | L20: 46023 | M20: 47848 | N20: hosszú | V20: 6700 | Z20: 6700
B21: SZENNYVÍZVEZETÉKEK (KÉNYSZERÁRAMOLTATÁSÚ)
C22: Bocfölde | D22: Nyomott vezeték NA50 rekonstrukció | E22: Az üzemelő viziközmű technológiailag elavult, üzemeltetése, és javítása már nem gazdaságos. Jelenleg a piacon magasabb műszaki tartalmak érhetőek el | F22: A kiépített rendszer működőképességének megóvása, a biztonságos üzemelés biztosítása miatt van szükség a munka elvégzésére | G22: A viziközmű elem állapota megközelíti az új elem berendezés állapotát. Az üzembiztonság jelentősen növekszik | I22: Bocfölde | J22: =SUM(O22:AC22) -> 1000 | L22: 47484 | M22: 47848 | N22: hosszú | Z22: 1000
C23: Bocfölde | D23: Nyomott vezeték NA100 rekonstrukció | E23: Az üzemelő viziközmű technológiailag elavult, üzemeltetése, és javítása már nem gazdaságos. Jelenleg a piacon magasabb műszaki tartalmak érhetőek el | F23: A kiépített rendszer működőképességének megóvása, a biztonságos üzemelés biztosítása miatt van szükség a munka elvégzésére | G23: A viziközmű elem állapota megközelíti az új elem berendezés állapotát. Az üzembiztonság jelentősen növekszik | I23: Bocfölde | J23: =SUM(O23:AC23) -> 2100 | L23: 46753 | M23: 47118 | N23: hosszú | X23: 2100
C24: Bocfölde | D24: Nyomott vezeték NA150 rekonstrukció | E24: Az üzemelő viziközmű technológiailag elavult, üzemeltetése, és javítása már nem gazdaságos. Jelenleg a piacon magasabb műszaki tartalmak érhetőek el | F24: A kiépített rendszer működőképességének megóvása, a biztonságos üzemelés biztosítása miatt van szükség a munka elvégzésére | G24: A viziközmű elem állapota megközelíti az új elem berendezés állapotát. Az üzembiztonság jelentősen növekszik | I24: Bocfölde | J24: =SUM(O24:AC24) -> 6600 | L24: 43831 | M24: 45291 | N24: közép | P24: 2200 | Q24: 2200 | S24: 2200
C25: Bocfölde | D25: Nyomott vezeték NA150 rekonstrukció | E25: Az üzemelő viziközmű technológiailag elavult, üzemeltetése, és javítása már nem gazdaságos. Jelenleg a piacon magasabb műszaki tartalmak érhetőek el | F25: A kiépített rendszer működőképességének megóvása, a biztonságos üzemelés biztosítása miatt van szükség a munka elvégzésére | G25: A viziközmű elem állapota megközelíti az új elem berendezés állapotát. Az üzembiztonság jelentősen növekszik | I25: Bocfölde | J25: =SUM(O25:AC25) -> 8800 | L25: 45658 | M25: 48213 | N25: hosszú | U25: 2200 | W25: 2200 | Y25: 2200 | AA25: 2200
B26: SZENNYVÍZÁTEMELŐK
B27: Épület, építmény
C28: Bocfölde II. átemelő | D28: II-es átemelő előtti gravitációs vezeték rekonstrukciója aknák kiépítésével. (kb 50 fm hosszban) (elkülönített forrás) | E28: Az üzemelő viziközmű technológiailag elavult, üzemeltetése, és javítása már nem gazdaságos. Jelenleg a piacon magasabb műszaki tartalmak érhetőek el | F28: A kiépített rendszer működőképességének megóvása, a biztonságos üzemelés biztosítása miatt van szükség a munka elvégzésére | G28: A viziközmű elem állapota megközelíti az új elem berendezés állapotát. Az üzembiztonság jelentősen növekszik | I28: Bocfölde | J28: =SUM(O28:AC28) -> 2533 | L28: 43466 | M28: 43830 | N28: rövid | O28: 2533
C29: Bocfölde I. átemelő | D29: bejáró út felújítása | E29: Az üzemelő viziközmű technológiailag elavult, üzemeltetése, és javítása már nem gazdaságos. Jelenleg a piacon magasabb műszaki tartalmak érhetőek el | F29: A kiépített rendszer működőképességének megóvása, a biztonságos üzemelés biztosítása miatt van szükség a munka elvégzésére | G29: A viziközmű elem állapota megközelíti az új elem berendezés állapotát. Az üzembiztonság jelentősen növekszik | I29: Bocfölde | J29: =SUM(O29:AC29) -> 500 | L29: 43831 | M29: 44196 | N29: közép | P29: 500
C30: Bocfölde | D30: átemelő akna építészeti rekonstrukció | E30: A szennyvíz, és a belőle felszabaduló gázok hatására a felületek elkorrodálnak. Ezen elemek cseréje a A kiépített rendszer működőképességének megóvása, a biztonságos üzemelés biztosítása miatt van szükség a munka elvégzésérehez elengedhetetlen | F30: Statikai stabilitás biztosítása | G30: A viziközmű elem állapota megközelíti az új elem berendezés állapotát. Az üzembiztonság jelentősen növekszik | I30: Bocfölde | J30: =SUM(O30:AC30) -> 1500 | L30: 43831 | M30: 45291 | N30: közép | P30: 200 | Q30: 550 | R30: 200 | S30: 550
C31: Bocfölde | D31: átemelő akna építészeti rekonstrukció | E31: A szennyvíz, és a belőle felszabaduló gázok hatására a felületek elkorrodálnak. Ezen elemek cseréje a A kiépített rendszer működőképességének megóvása, a biztonságos üzemelés biztosítása miatt van szükség a munka elvégzésérehez elengedhetetlen | F31: Statikai stabilitás biztosítása | G31: A viziközmű elem állapota megközelíti az új elem berendezés állapotát. Az üzembiztonság jelentősen növekszik | I31: Bocfölde | J31: =SUM(O31:AC31) -> 6470 | L31: 45292 | M31: 48944 | N31: hosszú | T31: 1400 | W31: 420 | X31: 350 | Y31: 1500 | AB31: 1400 | AC31: 1400
C32: Bocfölde | D32: HBA akna építészeti rekonstrukció | E32: Az üzemelő viziközmű technológiailag elavult, üzemeltetése, és javítása már nem gazdaságos. Jelenleg a piacon magasabb műszaki tartalmak érhetőek el | F32: A kiépített rendszer működőképességének megóvása, a biztonságos üzemelés biztosítása miatt van szükség a munka elvégzésére | G32: A viziközmű elem állapota megközelíti az új elem berendezés állapotát. Az üzembiztonság jelentősen növekszik | I32: Bocfölde | J32: =SUM(O32:AC32) -> 240 | L32: 45658 | M32: 47483 | N32: hosszú | U32: 120 | Y32: 120
B33: Gép, berendezés
C34: Bocfölde | D34: szivattyú felújítások átemelőknél | E34: A szennyvíz, és a belőle felszabaduló gázok hatására a felületek elkorrodálnak. Ezen elemek cseréje a A kiépített rendszer működőképességének megóvása, a biztonságos üzemelés biztosítása miatt van szükség a munka elvégzésére.hez elengedhetetlen. | F34: A kiépített rendszer működőképességének megóvása, a biztonságos üzemelés biztosítása miatt van szükség a munka elvégzésére. | G34: A viziközmű elem állapota megközelíti az új elem berendezés állapotát. Az üzembiztonság jelentősen növekszik. | I34: Bocfölde | J34: =SUM(O34:AC34) -> 1000 | L34: 43466 | M34: 43830 | N34: rövid | O34: 1000
C35: Bocfölde | D35: gépészeti rekonstrukció (1-6) | E35: Az üzemelő viziközmű elem működése közben előforduló eseti meghibásodások fordulhatnak elő, melyek előre nem tervezhetők | F35: A kiépített rendszer működőképességének megóvása, a biztonságos üzemelés biztosítása miatt van szükség a munka elvégzésére | G35: A beavatkozás után egy hatékonyan működő viziközmű elemet kapunk, mely a kor elvárásainak megfelel. A rendszer üzembiztos, hatékony, és korszerű lesz | I35: Bocfölde | J35: =SUM(O35:AC35) -> 8350 | L35: 43831 | M35: 45291 | N35: közép | P35: 350 | Q35: 2000 | R35: 5200 | S35: 800
C36: Bocfölde | D36: gépészeti rekonstrukció (1-6) | E36: Az üzemelő viziközmű elem működése közben előforduló eseti meghibásodások fordulhatnak elő, melyek előre nem tervezhetők | F36: A kiépített rendszer működőképességének megóvása, a biztonságos üzemelés biztosítása miatt van szükség a munka elvégzésére | G36: A beavatkozás után egy hatékonyan működő viziközmű elemet kapunk, mely a kor elvárásainak megfelel. A rendszer üzembiztos, hatékony, és korszerű lesz | I36: Bocfölde | J36: =SUM(O36:AC36) -> 13550 | L36: 45292 | M36: 48944 | N36: hosszú | T36: 1000 | U36: 150 | V36: 200 | W36: 150 | X36: 6200 | Y36: 150 | Z36: 200 | AA36: 5150 | AB36: 150 | AC36: 200
C37: Bocfölde | D37: HBA gépészeti rekonstrukció (1-6) | E37: Az üzemelő viziközmű elem működése közben előforduló eseti meghibásodások fordulhatnak elő, melyek előre nem tervezhetők | F37: A kiépített rendszer működőképességének megóvása, a biztonságos üzemelés biztosítása miatt van szükség a munka elvégzésére | G37: A beavatkozás után egy hatékonyan működő viziközmű elemet kapunk, mely a kor elvárásainak megfelel. A rendszer üzembiztos, hatékony, és korszerű lesz | I37: Bocfölde | J37: =SUM(O37:AC37) -> 500 | L37: 43831 | M37: 44926 | N37: közép | P37: 250 | Q37: 185 | R37: 65
C38: Bocfölde | D38: HBA gépészeti rekonstrukció (1-6) | E38: Az üzemelő viziközmű elem működése közben előforduló eseti meghibásodások fordulhatnak elő, melyek előre nem tervezhetők | F38: A kiépített rendszer működőképességének megóvása, a biztonságos üzemelés biztosítása miatt van szükség a munka elvégzésére | G38: A beavatkozás után egy hatékonyan működő viziközmű elemet kapunk, mely a kor elvárásainak megfelel. A rendszer üzembiztos, hatékony, és korszerű lesz | I38: Bocfölde | J38: =SUM(O38:AC38) -> 1315 | L38: 45292 | M38: 48579 | N38: hosszú | T38: 65 | U38: 250 | V38: 185 | W38: 250 | X38: 65 | Z38: 185 | AA38: 65 | AB38: 250
B39: Irányítástechnika, energiaellátás
C40: Bocfölde | D40: erősáramú és irányítástechnikai rekonstrukció | E40: A viziközmű elem a napi üzemmenet során oly mértékig elhasználódott, hogy a normál karbantartási munkákkal már nem biztosítható az üzembiztos működése | F40: A rendszer zavartalan üzemének biztosítása érdekében szükséges a beavatkozás | G40: A beavatkozás után egy hatékonyan működő viziközmű elemet kapunk, mely a kor elvárásainak megfelel. A rendszer üzembiztos, hatékony, és korszerű lesz | I40: Bocfölde | J40: =SUM(O40:AC40) -> 8000 | L40: 44561 | M40: 44561 | N40: közép | Q40: 8000
C41: Bocfölde | D41: HBA vezérlőszekrény és műszerezés cseréje | E41: A viziközmű elem a napi üzemmenet során oly mértékig elhasználódott, hogy a normál karbantartási munkákkal már nem biztosítható az üzembiztos működése | F41: A rendszer zavartalan üzemének biztosítása érdekében szükséges a beavatkozás | G41: A beavatkozás után egy hatékonyan működő viziközmű elemet kapunk, mely a kor elvárásainak megfelel. A rendszer üzembiztos, hatékony, és korszerű lesz | I41: Bocfölde | J41: =SUM(O41:AC41) -> 180 | L41: 46023 | M41: 46387 | N41: hosszú | V41: 180
B42: Összesen: | J42: =SUM(J12:J41) -> 111231.5 | K42: 6255 | O42: =SUM(O12:O41) -> 4091 | P42: =SUM(P12:P41) -> 7188.25 | Q42: =SUM(Q12:Q41) -> 15723.25 | R42: =SUM(R12:R41) -> 13353.25 | S42: =SUM(S12:S41) -> 6338.25 | T42: =SUM(T12:T41) -> 3653.25 | U42: =SUM(U12:U41) -> 6508.25 | V42: =SUM(V12:V41) -> 8453.25 | ... AC42: =SUM(AC12:AC41) -> 2788.25
K43: 2019 évre a fejlesztési forrás biztosított
B45: Rendelkezésre álló források megnevezése | C45: Rendelkezésre álló források számszerűsített értéke a teljes ütem tekintetében (eFt)
A46: I. ütem | B46: Használati díj (2019) | C46: 3722
B47: Elkülönített forrás | C47: 2533
A48: II. ütem | B48: Használati díj (2020-2023) | C48: =C46*4 -> 14888
A49: III. ütem | B49: Használati díj (2024-2033) | C49: =C46*10 -> 37220
B53: ¹ Idegenvíz kizárás munkafolyamatai
B54: 1. Törött szerkezeti elemek cseréje, aknában bekötések körbekenése, folyásfenék újra betonozása, hézag pótlása (vízbetörés javítás)
B55: 2. Vízzáró réteg készítés, hosszútávú korrozíó és szerkezeti védelem (Szulfátálló réteg készítése)
B56: 3. Fedlap és szűkítő csere DN 600 mm, terhelésnek megfelelően, üzemeltető előírása szerint
B57: 4. Pontszerű hibahelyek javítása gerincvezetéken, és bekötésen
B59: ²Gépészeti felújítás
B60: 1. szivattyú talpidon csere
B61: 2. nyomócső csere
B62: 3. nadrágidom csere
B63: 4. visszacsapó szelep csere
B64: 5. tolózár csere
B65: 6. vezetőcső csere
... B70: 3. aszfaltozás

Sheet Boncodfölde
A1: Gördülő fejlesztési terv a 2019 - 2033 időszakra
A2: FELÚJÍTÁSOK ÉS PÓTLÁSOK ÖSSZEFOGLALÓ TÁBLÁZATA
A3: A tervet benyújtó szervezet megnevezése: | K3: BONCODFÖLDE | R3: ellátásért felelős / ellátásért felelősök képviselője / víziközmű-szolgáltató *
A4: Víziközmű-szolgáltató megnevezése: | K4: ÉSZAK ZALAI VÍZ- ÉS CSATORNAMŰ ZÁRTKÖRŰEN MŰKÖDŐ RÉSZVÉNYTÁRSASÁG
A5: Víziközmű-szolgáltatási ágazat megnevezése: | K5: SZENNYVÍZ ÁGAZAT
A6: Véleményeltérést megfogalmazó érintett fél megnevezése:
A7: Víziközmű-rendszer kódja: ** | K7: 21-32054-1-048-01-10 | R7: ZALAEGERSZEG-SZV
A8: V. Szennyvízelvezetés
A9: Fontossági sorrend | B9: Felujítás és pótlás megnevezése | E9: Műszaki állapot felmérés, szükségességi indoklás | H9: Vízjogi létesítési/elvi engedély száma | I9: Az érintett ellátásért felelős(ök) megnevezése | J9: Tervezett nettó költség | K9: Forrás 2019 évre | L9: Megvalósítás időtartama | N9: Tervezett időtáv | O9: A beruházás ütemezése a tervezési időszak évei szerint
E10: Jelenlegi műszaki állapot | F10: Feladat szükségessége | G10: Megvalósítást követő várható műszaki állapot | J10: (eFt) | L10: Kezdés | M10: Befejezés | N10: (rövid / közép / hosszú) | O10: 1 | P10: 2 | Q10: 3 | R10: 4 | S10: 5 | T10: 6 | U10: 7 | V10: 8 | W10: 9 | X10: 10 | Y10: 11 | Z10: 12 | AA10: 13 | AB10: 14 | AC10: 15
B11: szakág | C11: Helyszín | D11: beruházás megnevezése
A12: 1 | D12: Rendkívüli helyzetből adódó azonnali feladatok (max. 15%) | F12: A rendszer zavartalan üzemének biztosítása érdekében szükséges a beavatkozás | I12: Boncodfölde | J12: =SUM(O12:AC12) -> 13969.3 | L12: 43466 | M12: 48944 | O12: 124 | P12: =$K$43*0.15 -> 988.95 | Q12: =$K$43*0.15 -> 988.95 | R12: =$K$43*0.15 -> 988.95 | S12: =$K$43*0.15 -> 988.95 | T12: =$K$43*0.15 -> 988.95 | U12: =$K$43*0.15 -> 988.95 | V12: =$K$43*0.15 -> 988.95 | W12: =$K$43*0.15 -> 988.95 | ... AC12: =$K$43*0.15 -> 988.95
B13: SZENNYVÍZCSATORNA (GRAVITÁCIÓS)
B14: Épület, építmény
C15: Boncodfölde | D15: Fedlap, szükség esetén szűkítő cserék (25db) (elkülönített forrás) | E15: Az üzemelő viziközmű technológiailag elavult, üzemeltetése, és javítása már nem gazdaságos. Jelenleg a piacon magasabb műszaki tartalmak érhetőek el | F15: A viziközmű rendszer hatékonyságának növelése, az üzemeltetési költségek szinten tartása miatt szükséges | G15: A beavatkozás után egy hatékonyan működő viziközmű elemet kapunk, mely a kor elvárásainak megfelel. A rendszer üzembiztos, hatékony, és korszerű lesz | I15: Boncodfölde | J15: =SUM(O15:AC15) -> 5000 | L15: 43466 | M15: 43830 | N15: rövid | O15: 5000
C16: Boncodfölde | D16: Idegenvíz kizárása a csatornadiagnosztikai vizsgálat és a helyszíni ellenőrzés alapján¹ | E16: Az üzemelő viziközmű technológiailag elavult, üzemeltetése, és javítása már nem gazdaságos. Jelenleg a piacon magasabb műszaki tartalmak érhetőek el | F16: A viziközmű rendszer hatékonyságának növelése, az üzemeltetési költségek szinten tartása miatt szükséges | G16: A beavatkozás után egy hatékonyan működő viziközmű elemet kapunk, mely a kor elvárásainak megfelel. A rendszer üzembiztos, hatékony, és korszerű lesz | I16: Boncodfölde | J16: =SUM(O16:AC16) -> 1700 | L16: 43831 | M16: 45291 | N16: közép | P16: 425 | Q16: 425 | R16: 425 | S16: 425
C17: Boncodfölde | D17: Idegenvíz kizárása a csatornadiagnosztikai vizsgálat és a helyszíni ellenőrzés alapján¹ | E17: Az üzemelő viziközmű technológiailag elavult, üzemeltetése, és javítása már nem gazdaságos. Jelenleg a piacon magasabb műszaki tartalmak érhetőek el | F17: A viziközmű rendszer hatékonyságának növelése, az üzemeltetési költségek szinten tartása miatt szükséges | G17: A beavatkozás után egy hatékonyan működő viziközmű elemet kapunk, mely a kor elvárásainak megfelel. A rendszer üzembiztos, hatékony, és korszerű lesz | I17: Boncodfölde | J17: =SUM(O17:AC17) -> 4250 | L17: 45292 | M17: 48944 | N17: hosszú | T17: 425 | U17: 425 | V17: 425 | W17: 425 | X17: 425 | Y17: 425 | Z17: 425 | AA17: 425 | AB17: 425 | AC17: 425
C18: Boncodfölde | D18: Gravitációs csatorna NA 150 rekonstrukció | E18: Az üzemelő viziközmű technológiailag elavult, üzemeltetése, és javítása már nem gazdaságos. Jelenleg a piacon magasabb műszaki tartalmak érhetőek el | F18: A viziközmű rendszer hatékonyságának növelése, az üzemeltetési költségek szinten tartása miatt szükséges | G18: A beavatkozás után egy hatékonyan működő viziközmű elemet kapunk, mely a kor elvárásainak megfelel. A rendszer üzembiztos, hatékony, és korszerű lesz | I18: Boncodfölde | J18: =SUM(O18:AC18) -> 2780 | L18: 43831 | M18: 44926 | N18: közép | P18: 390 | Q18: 390 | R18: 2000
C19: Boncodfölde | D19: Gravitációs csatorna NA 150 rekonstrukció | E19: Az üzemelő viziközmű technológiailag elavult, üzemeltetése, és javítása már nem gazdaságos. Jelenleg a piacon magasabb műszaki tartalmak érhetőek el | F19: A viziközmű rendszer hatékonyságának növelése, az üzemeltetési költségek szinten tartása miatt szükséges | G19: A beavatkozás után egy hatékonyan működő viziközmű elemet kapunk, mely a kor elvárásainak megfelel. A rendszer üzembiztos, hatékony, és korszerű lesz | I19: Boncodfölde | J19: =SUM(O19:AC19) -> 2000 | L19: 47119 | M19: 47483 | N19: hosszú | Y19: 2000
C20: Boncodfölde | D20: Gravitációs csatorna NA200 rekonstrukció | E20: Az üzemelő viziközmű technológiailag elavult, üzemeltetése, és javítása már nem gazdaságos. Jelenleg a piacon magasabb műszaki tartalmak érhetőek el | F20: A viziközmű rendszer hatékonyságának növelése, az üzemeltetési költségek szinten tartása miatt szükséges | G20: A beavatkozás után egy hatékonyan működő viziközmű elemet kapunk, mely a kor elvárásainak megfelel. A rendszer üzembiztos, hatékony, és korszerű lesz | I20: Boncodfölde | J20: =SUM(O20:AC20) -> 5900 | L20: 43831 | M20: 44926 | N20: közép | P20: 500 | Q20: 2700 | R20: 2700
C21: Boncodfölde | D21: Gravitációs csatorna NA200 rekonstrukció | E21: Az üzemelő viziközmű technológiailag elavult, üzemeltetése, és javítása már nem gazdaságos. Jelenleg a piacon magasabb műszaki tartalmak érhetőek el | F21: A viziközmű rendszer hatékonyságának növelése, az üzemeltetési költségek szinten tartása miatt szükséges | G21: A beavatkozás után egy hatékonyan működő viziközmű elemet kapunk, mely a kor elvárásainak megfelel. A rendszer üzembiztos, hatékony, és korszerű lesz | I21: Boncodfölde | J21: =SUM(O21:AC21) -> 8100 | L21: 45292 | M21: 47848 | N21: hosszú | T21: 2700 | W21: 2700 | Z21: 2700
B22: SZENNYVÍZVEZETÉKEK (KÉNYSZERÁRAMOLTATÁSÚ)
C23: Boncodfölde | D23: Nyomott vezeték NA50 rekonstrukció | E23: Az üzemelő viziközmű technológiailag elavult, üzemeltetése, és javítása már nem gazdaságos. Jelenleg a piacon magasabb műszaki tartalmak érhetőek el | F23: A kiépített rendszer működőképességének megóvása, a biztonságos üzemelés biztosítása miatt van szükség a munka elvégzésére | G23: A viziközmű elem állapota megközelíti az új elem berendezés állapotát. Az üzembiztonság jelentősen növekszik | I23: Boncodfölde | J23: =SUM(O23:AC23) -> 2000 | L23: 44927 | M23: 45291 | N23: közép | S23: 2000
C24: Boncodfölde | D24: Nyomott vezeték NA80 rekonstrukció | E24: Az üzemelő viziközmű technológiailag elavult, üzemeltetése, és javítása már nem gazdaságos. Jelenleg a piacon magasabb műszaki tartalmak érhetőek el | F24: A kiépített rendszer működőképességének megóvása, a biztonságos üzemelés biztosítása miatt van szükség a munka elvégzésére | G24: A viziközmű elem állapota megközelíti az új elem berendezés állapotát. Az üzembiztonság jelentősen növekszik | I24: Boncodfölde | J24: =SUM(O24:AC24) -> 84 | L24: 47484 | M24: 47848 | N24: hosszú | Z24: 84
C25: Boncodfölde | D25: Nyomott vezeték NA150 rekonstrukció | E25: Az üzemelő viziközmű technológiailag elavult, üzemeltetése, és javítása már nem gazdaságos. Jelenleg a piacon magasabb műszaki tartalmak érhetőek el | F25: A kiépített rendszer működőképességének megóvása, a biztonságos üzemelés biztosítása miatt van szükség a munka elvégzésére | G25: A viziközmű elem állapota megközelíti az új elem berendezés állapotát. Az üzembiztonság jelentősen növekszik | I25: Boncodfölde | J25: =SUM(O25:AC25) -> 2000 | L25: 46753 | M25: 47118 | N25: hosszú | X25: 2000
B26: SZENNYVÍZÁTEMELŐK
B27: Épület, építmény
C28: Boncodfölde | D28: átemelő akna építészeti rekonstrukció | E28: A szennyvíz, és a belőle felszabaduló gázok hatására a felületek elkorrodálnak. Ezen elemek cseréje a A kiépített rendszer működőképességének megóvása, a biztonságos üzemelés biztosítása miatt van szükség a munka elvégzésérehez elengedhetetlen | F28: Statikai stabilitás biztosítása | G28: A viziközmű elem állapota megközelíti az új elem berendezés állapotát. Az üzembiztonság jelentősen növekszik | I28: Boncodfölde | J28: =SUM(O28:AC28) -> 3270 | L28: 43831 | M28: 44926 | N28: közép | P28: 3000 | Q28: 150 | R28: 120
C29: Boncodfölde | D29: átemelő akna építészeti rekonstrukció | E29: A szennyvíz, és a belőle felszabaduló gázok hatására a felületek elkorrodálnak. Ezen elemek cseréje a A kiépített rendszer működőképességének megóvása, a biztonságos üzemelés biztosítása miatt van szükség a munka elvégzésérehez elengedhetetlen | F29: Statikai stabilitás biztosítása | G29: A viziközmű elem állapota megközelíti az új elem berendezés állapotát. Az üzembiztonság jelentősen növekszik | I29: Boncodfölde | J29: =SUM(O29:AC29) -> 7080 | L29: 45292 | M29: 48944 | N29: hosszú | T29: 1550 | U29: 1530 | V29: 450 | W29: 800 | X29: 600 | Y29: 150 | Z29: 450 | AA29: 800 | AB29: 600 | AC29: 150
C30: Boncodfölde | D30: HBA akna építészeti rekonstrukció | E30: Az üzemelő viziközmű technológiailag elavult, üzemeltetése, és javítása már nem gazdaságos. Jelenleg a piacon magasabb műszaki tartalmak érhetőek el | F30: A kiépített rendszer működőképességének megóvása, a biztonságos üzemelés biztosítása miatt van szükség a munka elvégzésére | G30: A viziközmű elem állapota megközelíti az új elem berendezés állapotát. Az üzembiztonság jelentősen növekszik | I30: Boncodfölde | J30: =SUM(O30:AC30) -> 70 | L30: 44197 | M30: 44561 | N30: közép | Q30: 70
C31: Boncodfölde | D31: HBA akna építészeti rekonstrukció | E31: Az üzemelő viziközmű technológiailag elavult, üzemeltetése, és javítása már nem gazdaságos. Jelenleg a piacon magasabb műszaki tartalmak érhetőek el | F31: A kiépített rendszer működőképességének megóvása, a biztonságos üzemelés biztosítása miatt van szükség a munka elvégzésére | G31: A viziközmű elem állapota megközelíti az új elem berendezés állapotát. Az üzembiztonság jelentősen növekszik | I31: Boncodfölde | J31: =SUM(O31:AC31) -> 280 | L31: 45292 | M31: 47848 | N31: hosszú | T31: 70 | V31: 70 | X31: 70 | Z31: 70
B32: Gép, berendezés
C33: Boncodfölde | D33: szivattyú felújítások átemelőknél | E33: Az üzemelő viziközmű elem működése közben előforduló eseti meghibásodások fordulhatnak elő, melyek előre nem tervezhetők | F33: A kiépített rendszer működőképességének megóvása, a biztonságos üzemelés biztosítása miatt van szükség a munka elvégzésére | G33: A beavatkozás után egy hatékonyan működő viziközmű elemet kapunk, mely a kor elvárásainak megfelel. A rendszer üzembiztos, hatékony, és korszerű lesz | I33: Boncodfölde | J33: =SUM(O33:AC33) -> 300 | L33: 43466 | M33: 43830 | N33: rövid | O33: 300
C34: Boncodfölde I. átemelő | D34: műtárgy és szivattyú felújítás (elkülönített forrás) | E34: Az üzemelő viziközmű elem működése közben előforduló eseti meghibásodások fordulhatnak elő, melyek előre nem tervezhetők | F34: A kiépített rendszer működőképességének megóvása, a biztonságos üzemelés biztosítása miatt van szükség a munka elvégzésére | G34: A beavatkozás után egy hatékonyan működő viziközmű elemet kapunk, mely a kor elvárásainak megfelel. A rendszer üzembiztos, hatékony, és korszerű lesz | I34: Boncodfölde | J34: =SUM(O34:AC34) -> 767 | L34: 43466 | M34: 43830 | N34: rövid | O34: 767
C35: Boncodfölde | D35: gépészeti rekonstrukció (1-6) | E35: Az üzemelő viziközmű elem működése közben előforduló eseti meghibásodások fordulhatnak elő, melyek előre nem tervezhetők | F35: A kiépített rendszer működőképességének megóvása, a biztonságos üzemelés biztosítása miatt van szükség a munka elvégzésére | G35: A beavatkozás után egy hatékonyan működő viziközmű elemet kapunk, mely a kor elvárásainak megfelel. A rendszer üzembiztos, hatékony, és korszerű lesz | I35: Boncodfölde | J35: =SUM(O35:AC35) -> 5700 | L35: 43831 | M35: 45291 | N35: közép | P35: 2000 | Q35: 3250 | R35: 300 | S35: 150
C36: Boncodfölde | D36: gépészeti rekonstrukció (1-6) | E36: Az üzemelő viziközmű elem működése közben előforduló eseti meghibásodások fordulhatnak elő, melyek előre nem tervezhetők | F36: A kiépített rendszer működőképességének megóvása, a biztonságos üzemelés biztosítása miatt van szükség a munka elvégzésére | G36: A beavatkozás után egy hatékonyan működő viziközmű elemet kapunk, mely a kor elvárásainak megfelel. A rendszer üzembiztos, hatékony, és korszerű lesz | I36: Boncodfölde | J36: =SUM(O36:AC36) -> 11000 | L36: 45292 | M36: 48944 | N36: hosszú | T36: 1100 | U36: 850 | V36: 300 | W36: 150 | X36: 1400 | Y36: 2050 | Z36: 2600 | AA36: 850 | AB36: 850 | AC36: 850
C37: Boncodfölde | D37: HBA gépészeti rekonstrukció (1-6) | E37: Az üzemelő viziközmű elem működése közben előforduló eseti meghibásodások fordulhatnak elő, melyek előre nem tervezhetők | F37: A kiépített rendszer működőképességének megóvása, a biztonságos üzemelés biztosítása miatt van szükség a munka elvégzésére | G37: A beavatkozás után egy hatékonyan működő viziközmű elemet kapunk, mely a kor elvárásainak megfelel. A rendszer üzembiztos, hatékony, és korszerű lesz | I37: Boncodfölde | J37: =SUM(O37:AC37) -> 750 | L37: 43831 | M37: 45291 | N37: közép | P37: 250 | Q37: 125 | R37: 250 | S37: 125
C38: Boncodfölde | D38: HBA gépészeti rekonstrukció (1-6) | E38: Az üzemelő viziközmű elem működése közben előforduló eseti meghibásodások fordulhatnak elő, melyek előre nem tervezhetők | F38: A kiépített rendszer működőképességének megóvása, a biztonságos üzemelés biztosítása miatt van szükség a munka elvégzésére | G38: A beavatkozás után egy hatékonyan működő viziközmű elemet kapunk, mely a kor elvárásainak megfelel. A rendszer üzembiztos, hatékony, és korszerű lesz | I38: Boncodfölde | J38: =SUM(O38:AC38) -> 1875 | L38: 45292 | M38: 48944 | N38: hosszú | T38: 250 | U38: 125 | V38: 250 | W38: 125 | X38: 250 | Y38: 125 | Z38: 250 | AA38: 125 | AB38: 250 | AC38: 125
B39: Irányítástechnika, energiaellátás
C40: Boncodfölde | D40: erősáramú és irányítástechnikai rekonstrukció | E40: A viziközmű elem a napi üzemmenet során oly mértékig elhasználódott, hogy a normál karbantartási munkákkal már nem biztosítható az üzembiztos működése | F40: A rendszer zavartalan üzemének biztosítása érdekében szükséges a beavatkozás | G40: A beavatkozás után egy hatékonyan működő viziközmű elemet kapunk, mely a kor elvárásainak megfelel. A rendszer üzembiztos, hatékony, és korszerű lesz | I40: Boncodfölde | J40: =SUM(O40:AC40) -> 10000 | L40: 44197 | M40: 44197 | N40: hosszú | Q40: 10000
C41: Boncodfölde | D41: HBA vezérlőszekrény és műszerezés cseréje | E41: A viziközmű elem a napi üzemmenet során oly mértékig elhasználódott, hogy a normál karbantartási munkákkal már nem biztosítható az üzembiztos működése | F41: A rendszer zavartalan üzemének biztosítása érdekében szükséges a beavatkozás | G41: A beavatkozás után egy hatékonyan működő viziközmű elemet kapunk, mely a kor elvárásainak megfelel. A rendszer üzembiztos, hatékony, és korszerű lesz | I41: Boncodfölde | J41: =SUM(O41:AC41) -> 100 | L41: 43831 | M41: 44926 | N41: közép | P41: 50 | R41: 50
C42: Boncodfölde | D42: HBA vezérlőszekrény és műszerezés cseréje | E42: A viziközmű elem a napi üzemmenet során oly mértékig elhasználódott, hogy a normál karbantartási munkákkal már nem biztosítható az üzembiztos működése | F42: A rendszer zavartalan üzemének biztosítása érdekében szükséges a beavatkozás | G42: A beavatkozás után egy hatékonyan működő viziközmű elemet kapunk, mely a kor elvárásainak megfelel. A rendszer üzembiztos, hatékony, és korszerű lesz | I42: Boncodfölde | J42: =SUM(O42:AC42) -> 100 | L42: 46023 | M42: 47483 | N42: hosszú | V42: 50 | Y42: 50
B43: Összesen: | J43: =SUM(J12:J42) -> 89075.3 | K43: =C47+C48 -> 6593 | O43: =SUM(O12:O42) -> 6191 | P43: =SUM(P12:P42) -> 7603.95 | Q43: =SUM(Q12:Q42) -> 18098.95 | R43: =SUM(R12:R42) -> 6833.95 | S43: =SUM(S12:S42) -> 3688.95 | T43: =SUM(T12:T42) -> 7083.95 | U43: =SUM(U12:U42) -> 3918.95 | V43: =SUM(V12:V42) -> 2533.95 | ... AC43: =SUM(AC12:AC42) -> 2538.95
K44: 2019 évre a fejlesztési forrás biztosított
B46: Rendelkezésre álló források megnevezése | C46: Rendelkezésre álló források számszerűsített értéke a teljes ütem tekintetében (eFt)
A47: I. ütem | B47: Használati díj (2019) | C47: 826
B48: Elkülönített forrás | C48: 5767
A49: II. ütem | B49: Használati díj (2020-2023) | C49: =C47*4 -> 3304
A50: III. ütem | B50: Használati díj (2024-2033) | C50: =C47*10 -> 8260
B54: ¹ Idegenvíz kizárás munkafolyamatai
B55: 1. Törött szerkezeti elemek cseréje, aknában bekötések körbekenése, folyásfenék újra betonozása, hézag pótlása (vízbetörés javítás)
B56: 2. Vízzáró réteg készítés, hosszútávú korrozíó és szerkezeti védelem (Szulfátálló réteg készítése)
B57: 3. Fedlap és szűkítő csere DN 600 mm, terhelésnek megfelelően, üzemeltető előírása szerint
B58: 4. Pontszerű hibahelyek javítása gerincvezetéken, és bekötésen
B60: ²Gépészeti felújítás
B61: 1. szivattyú talpidon csere
B62: 2. nyomócső csere
B63: 3. nadrágidom csere
B64: 4. visszacsapó szelep csere
B65: 5. tolózár csere
B66: 6. vezetőcső csere
... B71: 3. aszfaltozás

Sheet Böde
A1: Gördülő fejlesztési terv a 2019 - 2033 időszakra
A2: FELÚJÍTÁSOK ÉS PÓTLÁSOK ÖSSZEFOGLALÓ TÁBLÁZATA
A3: A tervet benyújtó szervezet megnevezése: | K3: BÖDE | R3: ellátásért felelős / ellátásért felelősök képviselője / víziközmű-szolgáltató *
A4: Víziközmű-szolgáltató megnevezése: | K4: ÉSZAK ZALAI VÍZ- ÉS CSATORNAMŰ ZÁRTKÖRŰEN MŰKÖDŐ RÉSZVÉNYTÁRSASÁG
A5: Víziközmű-szolgáltatási ágazat megnevezése: | K5: SZENNYVÍZ ÁGAZAT
A6: Véleményeltérést megfogalmazó érintett fél megnevezése:
A7: Víziközmű-rendszer kódja: ** | K7: 21-32054-1-048-01-10 | R7: ZALAEGERSZEG-SZV
A8: V. Szennyvízelvezetés
A9: Fontossági sorrend | B9: Felujítás és pótlás megnevezése | E9: Műszaki állapot felmérés, szükségességi indoklás | H9: Vízjogi létesítési/elvi engedély száma | I9: Az érintett ellátásért felelős(ök) megnevezése | J9: Tervezett nettó költség | K9: Forrás 2019 évre | L9: Megvalósítás időtartama | N9: Tervezett időtáv | O9: A beruházás ütemezése a tervezési időszak évei szerint
E10: Jelenlegi műszaki állapot | F10: Feladat szükségessége | G10: Megvalósítást követő várható műszaki állapot | J10: (eFt) | L10: Kezdés | M10: Befejezés | N10: (rövid / közép / hosszú) | O10: 1 | P10: 2 | Q10: 3 | R10: 4 | S10: 5 | T10: 6 | U10: 7 | V10: 8 | W10: 9 | X10: 10 | Y10: 11 | Z10: 12 | AA10: 13 | AB10: 14 | AC10: 15
B11: szakág | C11: Helyszín | D11: beruházás megnevezése
A12: 1 | D12: Rendkívüli helyzetből adódó azonnali feladatok (max. 15%) | F12: A rendszer zavartalan üzemének biztosítása érdekében szükséges a beavatkozás | I12: Böde | J12: =SUM(O12:AC12) -> 3024.2 | L12: 43466 | M12: 48944 | O12: 164 | P12: =$K$40*0.15 -> 204.3 | Q12: =$K$40*0.15 -> 204.3 | R12: =$K$40*0.15 -> 204.3 | S12: =$K$40*0.15 -> 204.3 | T12: =$K$40*0.15 -> 204.3 | U12: =$K$40*0.15 -> 204.3 | V12: =$K$40*0.15 -> 204.3 | W12: =$K$40*0.15 -> 204.3 | ... AC12: =$K$40*0.15 -> 204.3
B13: SZENNYVÍZCSATORNA (GRAVITÁCIÓS)
B14: Épület, építmény
C15: Böde 46.hrsz út | D15: Szennyvízcsatorna hibás szakaszának felújítása és helyreállítása (elkülönített forrás) | E15: Az üzemelő viziközmű technológiailag elavult, üzemeltetése, és javítása már nem gazdaságos. Jelenleg a piacon magasabb műszaki tartalmak érhetőek el | F15: A viziközmű rendszer hatékonyságának növelése, az üzemeltetési költségek szinten tartása miatt szükséges | G15: A beavatkozás után egy hatékonyan működő viziközmű elemet kapunk, mely a kor elvárásainak megfelel. A rendszer üzembiztos, hatékony, és korszerű lesz | I15: Böde | J15: =SUM(O15:AC15) -> 268 | L15: 43466 | M15: 43830 | N15: rövid | O15: 268
C16: Böde | D16: Idegenvíz kizárása a csatornadiagnosztikai vizsgálat és a helyszíni ellenőrzés alapján¹ | E16: Az üzemelő viziközmű technológiailag elavult, üzemeltetése, és javítása már nem gazdaságos. Jelenleg a piacon magasabb műszaki tartalmak érhetőek el | F16: A viziközmű rendszer hatékonyságának növelése, az üzemeltetési költségek szinten tartása miatt szükséges | G16: A beavatkozás után egy hatékonyan működő viziközmű elemet kapunk, mely a kor elvárásainak megfelel. A rendszer üzembiztos, hatékony, és korszerű lesz | I16: Böde | J16: =SUM(O16:AC16) -> 1750 | L16: 43831 | M16: 45291 | N16: közép | P16: 450 | Q16: 450 | R16: 450 | S16: 400
C17: Böde | D17: Idegenvíz kizárása a csatornadiagnosztikai vizsgálat és a helyszíni ellenőrzés alapján¹ | E17: Az üzemelő viziközmű technológiailag elavult, üzemeltetése, és javítása már nem gazdaságos. Jelenleg a piacon magasabb műszaki tartalmak érhetőek el | F17: A viziközmű rendszer hatékonyságának növelése, az üzemeltetési költségek szinten tartása miatt szükséges | G17: A beavatkozás után egy hatékonyan működő viziközmű elemet kapunk, mely a kor elvárásainak megfelel. A rendszer üzembiztos, hatékony, és korszerű lesz | I17: Böde | J17: =SUM(O17:AC17) -> 4000 | L17: 45292 | M17: 48944 | N17: hosszú | T17: 400 | U17: 400 | V17: 400 | W17: 400 | X17: 400 | Y17: 400 | Z17: 400 | AA17: 400 | AB17: 400 | AC17: 400
C18: Böde | D18: Gravitációs csatorna NA 150 rekonstrukció | E18: Az üzemelő viziközmű technológiailag elavult, üzemeltetése, és javítása már nem gazdaságos. Jelenleg a piacon magasabb műszaki tartalmak érhetőek el | F18: A viziközmű rendszer hatékonyságának növelése, az üzemeltetési költségek szinten tartása miatt szükséges | G18: A beavatkozás után egy hatékonyan működő viziközmű elemet kapunk, mely a kor elvárásainak megfelel. A rendszer üzembiztos, hatékony, és korszerű lesz | I18: Böde | J18: =SUM(O18:AC18) -> 2390 | L18: 43831 | M18: 44561 | N18: közép | P18: 390 | Q18: 2000
C19: Böde | D19: Gravitációs csatorna NA 150 rekonstrukció | E19: Az üzemelő viziközmű technológiailag elavult, üzemeltetése, és javítása már nem gazdaságos. Jelenleg a piacon magasabb műszaki tartalmak érhetőek el | F19: A viziközmű rendszer hatékonyságának növelése, az üzemeltetési költségek szinten tartása miatt szükséges | G19: A beavatkozás után egy hatékonyan működő viziközmű elemet kapunk, mely a kor elvárásainak megfelel. A rendszer üzembiztos, hatékony, és korszerű lesz | I19: Böde | J19: =SUM(O19:AC19) -> 2000 | L19: 46388 | M19: 46752 | N19: hosszú | W19: 2000
C20: Böde | D20: Gravitációs csatorna NA200 rekonstrukció | E20: Az üzemelő viziközmű technológiailag elavult, üzemeltetése, és javítása már nem gazdaságos. Jelenleg a piacon magasabb műszaki tartalmak érhetőek el | F20: A viziközmű rendszer hatékonyságának növelése, az üzemeltetési költségek szinten tartása miatt szükséges | G20: A beavatkozás után egy hatékonyan működő viziközmű elemet kapunk, mely a kor elvárásainak megfelel. A rendszer üzembiztos, hatékony, és korszerű lesz | I20: Böde | J20: =SUM(O20:AC20) -> 7000 | L20: 43831 | M20: 44926 | N20: közép | P20: 3500 | R20: 3500
C21: Böde | D21: Gravitációs csatorna NA200 rekonstrukció | E21: Az üzemelő viziközmű technológiailag elavult, üzemeltetése, és javítása már nem gazdaságos. Jelenleg a piacon magasabb műszaki tartalmak érhetőek el | F21: A viziközmű rendszer hatékonyságának növelése, az üzemeltetési költségek szinten tartása miatt szükséges | G21: A beavatkozás után egy hatékonyan működő viziközmű elemet kapunk, mely a kor elvárásainak megfelel. A rendszer üzembiztos, hatékony, és korszerű lesz | I21: Böde | J21: =SUM(O21:AC21) -> 17500 | L21: 45292 | M21: 48579 | N21: hosszú | T21: 3500 | V21: 3500 | X21: 3500 | Z21: 3500 | AB21: 3500
B22: SZENNYVÍZVEZETÉKEK (KÉNYSZERÁRAMOLTATÁSÚ)
C23: Böde | D23: Nyomott vezeték NA50 rekonstrukció | E23: Az üzemelő viziközmű technológiailag elavult, üzemeltetése, és javítása már nem gazdaságos. Jelenleg a piacon magasabb műszaki tartalmak érhetőek el | F23: A kiépített rendszer működőképességének megóvása, a biztonságos üzemelés biztosítása miatt van szükség a munka elvégzésére | G23: A viziközmű elem állapota megközelíti az új elem berendezés állapotát. Az üzembiztonság jelentősen növekszik | I23: Böde | J23: =SUM(O23:AC23) -> 2800 | L23: 44197 | M23: 44561 | N23: közép | Q23: 2800
C24: Böde | D24: Nyomott vezeték NA50 rekonstrukció | E24: Az üzemelő viziközmű technológiailag elavult, üzemeltetése, és javítása már nem gazdaságos. Jelenleg a piacon magasabb műszaki tartalmak érhetőek el | F24: A kiépített rendszer működőképességének megóvása, a biztonságos üzemelés biztosítása miatt van szükség a munka elvégzésére | G24: A viziközmű elem állapota megközelíti az új elem berendezés állapotát. Az üzembiztonság jelentősen növekszik | I24: Böde | J24: =SUM(O24:AC24) -> 8400 | L24: 45292 | M24: 47848 | N24: hosszú | T24: 2800 | W24: 2800 | Z24: 2800
B25: SZENNYVÍZÁTEMELŐK
B26: Épület, építmény
C27: Böde | D27: átemelő akna építészeti rekonstrukció | E27: A szennyvíz, és a belőle felszabaduló gázok hatására a felületek elkorrodálnak. Ezen elemek cseréje a A kiépített rendszer működőképességének megóvása, a biztonságos üzemelés biztosítása miatt van szükség a munka elvégzésérehez elengedhetetlen | F27: Statikai stabilitás biztosítása | G27: A viziközmű elem állapota megközelíti az új elem berendezés állapotát. Az üzembiztonság jelentősen növekszik | I27: Böde | J27: =SUM(O27:AC27) -> 1850 | L27: 43831 | M27: 45291 | N27: közép | P27: 200 | Q27: 300 | S27: 1350
C28: Böde | D28: átemelő akna építészeti rekonstrukció | E28: A szennyvíz, és a belőle felszabaduló gázok hatására a felületek elkorrodálnak. Ezen elemek cseréje a A kiépített rendszer működőképességének megóvása, a biztonságos üzemelés biztosítása miatt van szükség a munka elvégzésérehez elengedhetetlen | F28: Statikai stabilitás biztosítása | G28: A viziközmű elem állapota megközelíti az új elem berendezés állapotát. Az üzembiztonság jelentősen növekszik | I28: Böde | J28: =SUM(O28:AC28) -> 3670 | L28: 45292 | M28: 47848 | N28: hosszú | T28: 1350 | V28: 120 | W28: 300 | X28: 1300 | Z28: 600
C29: Böde | D29: HBA akna építészeti rekonstrukció | E29: Az üzemelő viziközmű technológiailag elavult, üzemeltetése, és javítása már nem gazdaságos. Jelenleg a piacon magasabb műszaki tartalmak érhetőek el | F29: A kiépített rendszer működőképességének megóvása, a biztonságos üzemelés biztosítása miatt van szükség a munka elvégzésére | G29: A viziközmű elem állapota megközelíti az új elem berendezés állapotát. Az üzembiztonság jelentősen növekszik | I29: Böde | J29: =SUM(O29:AC29) -> 120 | L29: 45292 | M29: 47483 | N29: hosszú | T29: 60 | Y29: 60
B30: Gép, berendezés
C31: Böde | D31: szivattyú felújítások átemelőknél | E31: Az üzemelő viziközmű elem működése közben előforduló eseti meghibásodások fordulhatnak elő, melyek előre nem tervezhetők | F31: A kiépített rendszer működőképességének megóvása, a biztonságos üzemelés biztosítása miatt van szükség a munka elvégzésére | G31: A beavatkozás után egy hatékonyan működő viziközmű elemet kapunk, mely a kor elvárásainak megfelel. A rendszer üzembiztos, hatékony, és korszerű lesz | I31: Böde | J31: =SUM(O31:AC31) -> 635 | L31: 43466 | M31: 43830 | N31: rövid | O31: 635
C32: Böde | D32: gépészeti rekonstrukció (1-6) | E32: Az üzemelő viziközmű elem működése közben előforduló eseti meghibásodások fordulhatnak elő, melyek előre nem tervezhetők | F32: A kiépített rendszer működőképességének megóvása, a biztonságos üzemelés biztosítása miatt van szükség a munka elvégzésére | G32: A beavatkozás után egy hatékonyan működő viziközmű elemet kapunk, mely a kor elvárásainak megfelel. A rendszer üzembiztos, hatékony, és korszerű lesz | I32: Böde | J32: =SUM(O32:AC32) -> 6600 | L32: 43831 | M32: 44926 | N32: közép | P32: 2150 | Q32: 2150 | R32: 2300
C33: Böde | D33: gépészeti rekonstrukció (1-6) | E33: Az üzemelő viziközmű elem működése közben előforduló eseti meghibásodások fordulhatnak elő, melyek előre nem tervezhetők | F33: A kiépített rendszer működőképességének megóvása, a biztonságos üzemelés biztosítása miatt van szükség a munka elvégzésére | G33: A beavatkozás után egy hatékonyan működő viziközmű elemet kapunk, mely a kor elvárásainak megfelel. A rendszer üzembiztos, hatékony, és korszerű lesz | I33: Böde | J33: =SUM(O33:AC33) -> 13300 | L33: 45292 | M33: 48944 | N33: hosszú | T33: 1050 | U33: 700 | V33: 350 | X33: 350 | Y33: 2500 | Z33: 2150 | AA33: 2200 | AB33: 2000 | AC33: 2000
C34: Böde | D34: HBA gépészeti rekonstrukció (1-6) | E34: Az üzemelő viziközmű elem működése közben előforduló eseti meghibásodások fordulhatnak elő, melyek előre nem tervezhetők | F34: A kiépített rendszer működőképességének megóvása, a biztonságos üzemelés biztosítása miatt van szükség a munka elvégzésére | G34: A beavatkozás után egy hatékonyan működő viziközmű elemet kapunk, mely a kor elvárásainak megfelel. A rendszer üzembiztos, hatékony, és korszerű lesz | I34: Böde | J34: =SUM(O34:AC34) -> 450 | L34: 43831 | M34: 45291 | N34: közép | P34: 70 | Q34: 65 | R34: 250 | S34: 65
C35: Böde | D35: HBA gépészeti rekonstrukció (1-6) | E35: Az üzemelő viziközmű elem működése közben előforduló eseti meghibásodások fordulhatnak elő, melyek előre nem tervezhetők | F35: A kiépített rendszer működőképességének megóvása, a biztonságos üzemelés biztosítása miatt van szükség a munka elvégzésére | G35: A beavatkozás után egy hatékonyan működő viziközmű elemet kapunk, mely a kor elvárásainak megfelel. A rendszer üzembiztos, hatékony, és korszerű lesz | I35: Böde | J35: =SUM(O35:AC35) -> 850 | L35: 45292 | M35: 48944 | N35: hosszú | T35: 250 | U35: 135 | W35: 65 | X35: 135 | Z35: 65 | AA35: 65 | AC35: 135
B36: Irányítástechnika, energiaellátás
C37: Böde | D37: erősáramú és irányítástechnikai rekonstrukció | E37: A viziközmű elem a napi üzemmenet során oly mértékig elhasználódott, hogy a normál karbantartási munkákkal már nem biztosítható az üzembiztos működése | F37: A rendszer zavartalan üzemének biztosítása érdekében szükséges a beavatkozás | G37: A beavatkozás után egy hatékonyan működő viziközmű elemet kapunk, mely a kor elvárásainak megfelel. A rendszer üzembiztos, hatékony, és korszerű lesz | I37: Böde | J37: =SUM(O37:AC37) -> 8000 | L37: 44197 | M37: 44561 | N37: közép | Q37: 8000
C38: Böde | D38: HBA vezérlőszekrény és műszerezés cseréje | E38: A viziközmű elem a napi üzemmenet során oly mértékig elhasználódott, hogy a normál karbantartási munkákkal már nem biztosítható az üzembiztos működése | F38: A rendszer zavartalan üzemének biztosítása érdekében szükséges a beavatkozás | G38: A beavatkozás után egy hatékonyan működő viziközmű elemet kapunk, mely a kor elvárásainak megfelel. A rendszer üzembiztos, hatékony, és korszerű lesz | I38: Böde | J38: =SUM(O38:AC38) -> 120 | L38: 43831 | M38: 44926 | N38: közép | P38: 60 | R38: 60
C39: Böde | D39: HBA vezérlőszekrény és műszerezés cseréje | E39: A viziközmű elem a napi üzemmenet során oly mértékig elhasználódott, hogy a normál karbantartási munkákkal már nem biztosítható az üzembiztos működése | F39: A rendszer zavartalan üzemének biztosítása érdekében szükséges a beavatkozás | G39: A beavatkozás után egy hatékonyan működő viziközmű elemet kapunk, mely a kor elvárásainak megfelel. A rendszer üzembiztos, hatékony, és korszerű lesz | I39: Böde | J39: =SUM(O39:AC39) -> 300 | L39: 45292 | M39: 48579 | N39: hosszú | T39: 60 | V39: 60 | X39: 60 | Z39: 60 | AB39: 60
B40: Összesen: | J40: =SUM(J12:J39) -> 85027.2 | K40: 1362 | O40: =SUM(O12:O39) -> 1067 | P40: =SUM(P12:P39) -> 7024.3 | Q40: =SUM(Q12:Q39) -> 15969.3 | R40: =SUM(R12:R39) -> 6764.3 | S40: =SUM(S12:S39) -> 2019.3 | T40: =SUM(T12:T39) -> 9674.3 | U40: =SUM(U12:U39) -> 1439.3 | V40: =SUM(V12:V39) -> 4634.3 | ... AC40: =SUM(AC12:AC39) -> 2739.3
K41: 2019 évre a fejlesztési forrás biztosított
B44: Rendelkezésre álló források megnevezése | C44: Rendelkezésre álló források számszerűsített értéke a teljes ütem tekintetében (eFt)
A45: I. ütem | B45: Használati díj (2019) | C45: 1094
B46: Elkülönített forrás | C46: 268
A47: II. ütem | B47: Használati díj (2020-2023) | C47: =C45*4 -> 4376
A48: III. ütem | B48: Használati díj (2024-2033) | C48: =C45*10 -> 10940
B51: ¹ Idegenvíz kizárás munkafolyamatai
B52: 1. Törött szerkezeti elemek cseréje, aknában bekötések körbekenése, folyásfenék újra betonozása, hézag pótlása (vízbetörés javítás)
B53: 2. Vízzáró réteg készítés, hosszútávú korrozíó és szerkezeti védelem (Szulfátálló réteg készítése)
B54: 3. Fedlap és szűkítő csere DN 600 mm, terhelésnek megfelelően, üzemeltető előírása szerint
B55: 4. Pontszerű hibahelyek javítása gerincvezetéken, és bekötésen
B57: ²Gépészeti felújítás
B58: 1. szivattyú talpidon csere
B59: 2. nyomócső csere
B60: 3. nadrágidom csere
B61: 4. visszacsapó szelep csere
B62: 5. tolózár csere
B63: 6. vezetőcső csere
... B68: 3. aszfaltozás

Sheet Búcsúszentlászló
A1: Gördülő fejlesztési terv a 2019 - 2033 időszakra
A2: FELÚJÍTÁSOK ÉS PÓTLÁSOK ÖSSZEFOGLALÓ TÁBLÁZATA
A3: A tervet benyújtó szervezet megnevezése: | K3: BÚCSÚSZENTLÁSZLÓ | R3: ellátásért felelős / ellátásért felelősök képviselője / víziközmű-szolgáltató *
A4: Víziközmű-szolgáltató megnevezése: | K4: ÉSZAK ZALAI VÍZ- ÉS CSATORNAMŰ ZÁRTKÖRŰEN MŰKÖDŐ RÉSZVÉNYTÁRSASÁG
A5: Víziközmű-szolgáltatási ágazat megnevezése: | K5: SZENNYVÍZ ÁGAZAT
A6: Véleményeltérést megfogalmazó érintett fél megnevezése:
A7: Víziközmű-rendszer kódja: ** | K7: 21-32054-1-048-01-10 | R7: ZALAEGERSZEG-SZV
A8: V. Szennyvízelvezetés
A9: Fontossági sorrend | B9: Felujítás és pótlás megnevezése | E9: Műszaki állapot felmérés, szükségességi indoklás | H9: Vízjogi létesítési/elvi engedély száma | I9: Az érintett ellátásért felelős(ök) megnevezése | J9: Tervezett nettó költség | K9: Forrás 2019 évre | L9: Megvalósítás időtartama | N9: Tervezett időtáv | O9: A beruházás ütemezése a tervezési időszak évei szerint
E10: Jelenlegi műszaki állapot | F10: Feladat szükségessége | G10: Megvalósítást követő várható műszaki állapot | J10: (eFt) | L10: Kezdés | M10: Befejezés | N10: (rövid / közép / hosszú) | O10: 1 | P10: 2 | Q10: 3 | R10: 4 | S10: 5 | T10: 6 | U10: 7 | V10: 8 | W10: 9 | X10: 10 | Y10: 11 | Z10: 12 | AA10: 13 | AB10: 14 | AC10: 15
B11: szakág | C11: Helyszín | D11: beruházás megnevezése
A12: 1 | D12: Rendkívüli helyzetből adódó azonnali feladatok (max. 15%) | F12: A rendszer zavartalan üzemének biztosítása érdekében szükséges a beavatkozás | I12: Búcsúszentlászló | J12: =SUM(O12:AC12) -> 15815.4 | L12: 43466 | M12: 48944 | O12: 918 | P12: =$K$43*0.15 -> 1064.1 | Q12: =$K$43*0.15 -> 1064.1 | R12: =$K$43*0.15 -> 1064.1 | S12: =$K$43*0.15 -> 1064.1 | T12: =$K$43*0.15 -> 1064.1 | U12: =$K$43*0.15 -> 1064.1 | V12: =$K$43*0.15 -> 1064.1 | W12: =$K$43*0.15 -> 1064.1 | ... AC12: =$K$43*0.15 -> 1064.1
B13: SZENNYVÍZCSATORNA (GRAVITÁCIÓS)
B14: Épület, építmény
C15: Búcsúszentlászló | D15: Fedlap, szükség esetén szűkítő cserék (2-3db) (elkülönített forrás) | E15: Az üzemelő viziközmű technológiailag elavult, üzemeltetése, és javítása már nem gazdaságos. Jelenleg a piacon magasabb műszaki tartalmak érhetőek el | F15: A viziközmű rendszer hatékonyságának növelése, az üzemeltetési költségek szinten tartása miatt szükséges | G15: A beavatkozás után egy hatékonyan működő viziközmű elemet kapunk, mely a kor elvárásainak megfelel. A rendszer üzembiztos, hatékony, és korszerű lesz | I15: Búcsúszentlászló | J15: =SUM(O15:AC15) -> 600 | L15: 43466 | M15: 43830 | N15: rövid | O15: 600
C16: Búcsúszentlászló | D16: Idegenvíz kizárása a csatornadiagnosztikai vizsgálat és a helyszíni ellenőrzés alapján¹ | E16: Az üzemelő viziközmű technológiailag elavult, üzemeltetése, és javítása már nem gazdaságos. Jelenleg a piacon magasabb műszaki tartalmak érhetőek el | F16: A viziközmű rendszer hatékonyságának növelése, az üzemeltetési költségek szinten tartása miatt szükséges | G16: A beavatkozás után egy hatékonyan működő viziközmű elemet kapunk, mely a kor elvárásainak megfelel. A rendszer üzembiztos, hatékony, és korszerű lesz | I16: Búcsúszentlászló | J16: =SUM(O16:AC16) -> 3002 | L16: 43831 | M16: 45291 | N16: közép | P16: 1112 | Q16: 630 | R16: 630 | S16: 630
C17: Búcsúszentlászló | D17: Idegenvíz kizárása a csatornadiagnosztikai vizsgálat és a helyszíni ellenőrzés alapján¹ | E17: Az üzemelő viziközmű technológiailag elavult, üzemeltetése, és javítása már nem gazdaságos. Jelenleg a piacon magasabb műszaki tartalmak érhetőek el | F17: A viziközmű rendszer hatékonyságának növelése, az üzemeltetési költségek szinten tartása miatt szükséges | G17: A beavatkozás után egy hatékonyan működő viziközmű elemet kapunk, mely a kor elvárásainak megfelel. A rendszer üzembiztos, hatékony, és korszerű lesz | I17: Búcsúszentlászló | J17: =SUM(O17:AC17) -> 4380 | L17: 45292 | M17: 48944 | N17: hosszú | T17: 630 | U17: 630 | V17: 390 | W17: 390 | X17: 390 | Y17: 390 | Z17: 390 | AA17: 390 | AB17: 390 | AC17: 390
C18: Búcsúszentlászló | D18: Gravitációs csatorna NA 150 rekonstrukció | E18: Az üzemelő viziközmű technológiailag elavult, üzemeltetése, és javítása már nem gazdaságos. Jelenleg a piacon magasabb műszaki tartalmak érhetőek el | F18: A viziközmű rendszer hatékonyságának növelése, az üzemeltetési költségek szinten tartása miatt szükséges | G18: A beavatkozás után egy hatékonyan működő viziközmű elemet kapunk, mely a kor elvárásainak megfelel. A rendszer üzembiztos, hatékony, és korszerű lesz | I18: Búcsúszentlászló | J18: =SUM(O18:AC18) -> 2800 | L18: 44197 | M18: 44561 | N18: közép | Q18: 2800
C19: Búcsúszentlászló | D19: Gravitációs csatorna NA 150 rekonstrukció | E19: Az üzemelő viziközmű technológiailag elavult, üzemeltetése, és javítása már nem gazdaságos. Jelenleg a piacon magasabb műszaki tartalmak érhetőek el | F19: A viziközmű rendszer hatékonyságának növelése, az üzemeltetési költségek szinten tartása miatt szükséges | G19: A beavatkozás után egy hatékonyan működő viziközmű elemet kapunk, mely a kor elvárásainak megfelel. A rendszer üzembiztos, hatékony, és korszerű lesz | I19: Búcsúszentlászló | J19: =SUM(O19:AC19) -> 8400 | L19: 45292 | M19: 47848 | N19: hosszú | T19: 2800 | W19: 2800 | Z19: 2800
C20: Búcsúszentlászló | D20: Gravitációs csatorna NA200 rekonstrukció | E20: Az üzemelő viziközmű technológiailag elavult, üzemeltetése, és javítása már nem gazdaságos. Jelenleg a piacon magasabb műszaki tartalmak érhetőek el | F20: A viziközmű rendszer hatékonyságának növelése, az üzemeltetési költségek szinten tartása miatt szükséges | G20: A beavatkozás után egy hatékonyan működő viziközmű elemet kapunk, mely a kor elvárásainak megfelel. A rendszer üzembiztos, hatékony, és korszerű lesz | I20: Búcsúszentlászló | J20: =SUM(O20:AC20) -> 9400 | L20: 43831 | M20: 44926 | N20: közép | P20: 4700 | R20: 4700
C21: Búcsúszentlászló | D21: Gravitációs csatorna NA200 rekonstrukció | E21: Az üzemelő viziközmű technológiailag elavult, üzemeltetése, és javítása már nem gazdaságos. Jelenleg a piacon magasabb műszaki tartalmak érhetőek el | F21: A viziközmű rendszer hatékonyságának növelése, az üzemeltetési költségek szinten tartása miatt szükséges | G21: A beavatkozás után egy hatékonyan működő viziközmű elemet kapunk, mely a kor elvárásainak megfelel. A rendszer üzembiztos, hatékony, és korszerű lesz | I21: Búcsúszentlászló | J21: =SUM(O21:AC21) -> 18800 | L21: 45292 | M21: 48579 | N21: hosszú | T21: 4700 | V21: 4700 | Y21: 4700 | AB21: 4700
B22: SZENNYVÍZVEZETÉKEK (KÉNYSZERÁRAMOLTATÁSÚ)
C23: Búcsúszentlászló | D23: Nyomott vezeték NA50 rekonstrukció | E23: Az üzemelő viziközmű technológiailag elavult, üzemeltetése, és javítása már nem gazdaságos. Jelenleg a piacon magasabb műszaki tartalmak érhetőek el | F23: A kiépített rendszer működőképességének megóvása, a biztonságos üzemelés biztosítása miatt van szükség a munka elvégzésére | G23: A viziközmű elem állapota megközelíti az új elem berendezés állapotát. Az üzembiztonság jelentősen növekszik | I23: Búcsúszentlászló | J23: =SUM(O23:AC23) -> 2000 | L23: 46753 | M23: 47118 | N23: hosszú | X23: 2000
C24: Búcsúszentlászló | D24: Nyomott vezeték NA80 rekonstrukció | E24: Az üzemelő viziközmű technológiailag elavult, üzemeltetése, és javítása már nem gazdaságos. Jelenleg a piacon magasabb műszaki tartalmak érhetőek el | F24: A kiépített rendszer működőképességének megóvása, a biztonságos üzemelés biztosítása miatt van szükség a munka elvégzésére | G24: A viziközmű elem állapota megközelíti az új elem berendezés állapotát. Az üzembiztonság jelentősen növekszik | I24: Búcsúszentlászló | J24: =SUM(O24:AC24) -> 2000 | L24: 47484 | M24: 47848 | N24: hosszú | Z24: 2000
C25: Búcsúszentlászló | D25: Nyomott vezeték NA125 rekonstrukció | E25: Az üzemelő viziközmű technológiailag elavult, üzemeltetése, és javítása már nem gazdaságos. Jelenleg a piacon magasabb műszaki tartalmak érhetőek el | F25: A kiépített rendszer működőképességének megóvása, a biztonságos üzemelés biztosítása miatt van szükség a munka elvégzésére | G25: A viziközmű elem állapota megközelíti az új elem berendezés állapotát. Az üzembiztonság jelentősen növekszik | I25: Búcsúszentlászló | J25: =SUM(O25:AC25) -> 4800 | L25: 43831 | M25: 45291 | N25: közép | P25: 2400 | S25: 2400
C26: Búcsúszentlászló | D26: Nyomott vezeték NA125 rekonstrukció | E26: Az üzemelő viziközmű technológiailag elavult, üzemeltetése, és javítása már nem gazdaságos. Jelenleg a piacon magasabb műszaki tartalmak érhetőek el | F26: A kiépített rendszer működőképességének megóvása, a biztonságos üzemelés biztosítása miatt van szükség a munka elvégzésére | G26: A viziközmű elem állapota megközelíti az új elem berendezés állapotát. Az üzembiztonság jelentősen növekszik | I26: Búcsúszentlászló | J26: =SUM(O26:AC26) -> 2400 | L26: 46388 | M26: 46752 | N26: hosszú | W26: 2400
C27: Búcsúszentlászló | D27: Nyomott vezeték NA150 rekonstrukció | E27: Az üzemelő viziközmű technológiailag elavult, üzemeltetése, és javítása már nem gazdaságos. Jelenleg a piacon magasabb műszaki tartalmak érhetőek el | F27: A kiépített rendszer működőképességének megóvása, a biztonságos üzemelés biztosítása miatt van szükség a munka elvégzésére | G27: A viziközmű elem állapota megközelíti az új elem berendezés állapotát. Az üzembiztonság jelentősen növekszik | I27: Búcsúszentlászló | J27: =SUM(O27:AC27) -> 1000 | L27: 47484 | M27: 47848 | N27: hosszú | Z27: 1000
B28: SZENNYVÍZÁTEMELŐK
B29: Épület, építmény
C30: Búcsúszentlászló | D30: átemelő akna építészeti rekonstrukció | E30: A szennyvíz, és a belőle felszabaduló gázok hatására a felületek elkorrodálnak. Ezen elemek cseréje a A kiépített rendszer működőképességének megóvása, a biztonságos üzemelés biztosítása miatt van szükség a munka elvégzésérehez elengedhetetlen | F30: Statikai stabilitás biztosítása | G30: A viziközmű elem állapota megközelíti az új elem berendezés állapotát. Az üzembiztonság jelentősen növekszik | I30: Búcsúszentlászló | J30: =SUM(O30:AC30) -> 6100 | L30: 43831 | M30: 45291 | N30: közép | P30: 2350 | R30: 2000 | S30: 1750
C31: Búcsúszentlászló | D31: átemelő akna építészeti rekonstrukció | E31: A szennyvíz, és a belőle felszabaduló gázok hatására a felületek elkorrodálnak. Ezen elemek cseréje a A kiépített rendszer működőképességének megóvása, a biztonságos üzemelés biztosítása miatt van szükség a munka elvégzésérehez elengedhetetlen | F31: Statikai stabilitás biztosítása | G31: A viziközmű elem állapota megközelíti az új elem berendezés állapotát. Az üzembiztonság jelentősen növekszik | I31: Búcsúszentlászló | J31: =SUM(O31:AC31) -> 15290 | L31: 45292 | M31: 48944 | N31: hosszú | T31: 1200 | U31: 1550 | V31: 4100 | W31: 150 | X31: 420 | Y31: 1620 | Z31: 1750 | AA31: 1500 | AB31: 1500 | AC31: 1500
C32: Búcsúszentlászló | D32: HBA átemelő akna vízzárózása | E32: Az üzemelő viziközmű technológiailag elavult, üzemeltetése, és javítása már nem gazdaságos. Jelenleg a piacon magasabb műszaki tartalmak érhetőek el | F32: A kiépített rendszer működőképességének megóvása, a biztonságos üzemelés biztosítása miatt van szükség a munka elvégzésére | G32: A viziközmű elem állapota megközelíti az új elem berendezés állapotát. Az üzembiztonság jelentősen növekszik | I32: Búcsúszentlászló | J32: =SUM(O32:AC32) -> 100 | L32: 44562 | M32: 44926 | N32: közép | R32: 100
C33: Búcsúszentlászló | D33: HBA akna építészeti rekonstrukció | E33: Az üzemelő viziközmű technológiailag elavult, üzemeltetése, és javítása már nem gazdaságos. Jelenleg a piacon magasabb műszaki tartalmak érhetőek el | F33: A kiépített rendszer működőképességének megóvása, a biztonságos üzemelés biztosítása miatt van szükség a munka elvégzésére | G33: A viziközmű elem állapota megközelíti az új elem berendezés állapotát. Az üzembiztonság jelentősen növekszik | I33: Búcsúszentlászló | J33: =SUM(O33:AC33) -> 200 | L33: 46023 | M33: 47848 | N33: hosszú | V33: 100 | Z33: 100
B34: Gép, berendezés
C35: Búcsúszentlászló | D35: szivattyú felújítások átemelőknél | E35: Az üzemelő viziközmű elem működése közben előforduló eseti meghibásodások fordulhatnak elő, melyek előre nem tervezhetők | F35: A kiépített rendszer működőképességének megóvása, a biztonságos üzemelés biztosítása miatt van szükség a munka elvégzésére | G35: A beavatkozás után egy hatékonyan működő viziközmű elemet kapunk, mely a kor elvárásainak megfelel. A rendszer üzembiztos, hatékony, és korszerű lesz | I35: Búcsúszentlászló | J35: =SUM(O35:AC35) -> 950 | L35: 43466 | M35: 43830 | N35: rövid | O35: 950
C36: Búcsúszentlászló reg. átemelő | D36: szivattyú felújítások (elkülönített forrás) | E36: Az üzemelő viziközmű elem működése közben előforduló eseti meghibásodások fordulhatnak elő, melyek előre nem tervezhetők | F36: A kiépített rendszer működőképességének megóvása, a biztonságos üzemelés biztosítása miatt van szükség a munka elvégzésére | G36: A beavatkozás után egy hatékonyan működő viziközmű elemet kapunk, mely a kor elvárásainak megfelel. A rendszer üzembiztos, hatékony, és korszerű lesz | I36: Búcsúszentlászló | J36: =SUM(O36:AC36) -> 377 | L36: 43466 | M36: 43830 | N36: rövid | O36: 377
C37: Búcsúszentlászló | D37: gépészeti rekonstrukció (1-6) | E37: Az üzemelő viziközmű elem működése közben előforduló eseti meghibásodások fordulhatnak elő, melyek előre nem tervezhetők | F37: A kiépített rendszer működőképességének megóvása, a biztonságos üzemelés biztosítása miatt van szükség a munka elvégzésére | G37: A beavatkozás után egy hatékonyan működő viziközmű elemet kapunk, mely a kor elvárásainak megfelel. A rendszer üzembiztos, hatékony, és korszerű lesz | I37: Búcsúszentlászló | J37: =SUM(O37:AC37) -> 13850 | L37: 43831 | M37: 45291 | N37: közép | P37: 2700 | Q37: 3100 | R37: 6300 | S37: 1750
C38: Búcsúszentlászló | D38: gépészeti rekonstrukció (1-6) | E38: Az üzemelő viziközmű elem működése közben előforduló eseti meghibásodások fordulhatnak elő, melyek előre nem tervezhetők | F38: A kiépített rendszer működőképességének megóvása, a biztonságos üzemelés biztosítása miatt van szükség a munka elvégzésére | G38: A beavatkozás után egy hatékonyan működő viziközmű elemet kapunk, mely a kor elvárásainak megfelel. A rendszer üzembiztos, hatékony, és korszerű lesz | I38: Búcsúszentlászló | J38: =SUM(O38:AC38) -> 22100 | L38: 45292 | M38: 48944 | N38: hosszú | T38: 700 | U38: 1750 | V38: 650 | W38: 1000 | Y38: 3500 | Z38: 2500 | AA38: 7000 | AB38: 2500 | AC38: 2500
C39: Búcsúszentlászló | D39: HBA gépészeti rekonstrukció (1-6) | E39: Az üzemelő viziközmű elem működése közben előforduló eseti meghibásodások fordulhatnak elő, melyek előre nem tervezhetők | F39: A kiépített rendszer működőképességének megóvása, a biztonságos üzemelés biztosítása miatt van szükség a munka elvégzésére | G39: A beavatkozás után egy hatékonyan működő viziközmű elemet kapunk, mely a kor elvárásainak megfelel. A rendszer üzembiztos, hatékony, és korszerű lesz | I39: Búcsúszentlászló | J39: =SUM(O39:AC39) -> 455 | L39: 43831 | M39: 45291 | N39: közép | P39: 250 | Q39: 65 | S39: 140
C40: Búcsúszentlászló | D40: HBA gépészeti rekonstrukció (1-6) | E40: Az üzemelő viziközmű elem működése közben előforduló eseti meghibásodások fordulhatnak elő, melyek előre nem tervezhetők | F40: A kiépített rendszer működőképességének megóvása, a biztonságos üzemelés biztosítása miatt van szükség a munka elvégzésére | G40: A beavatkozás után egy hatékonyan működő viziközmű elemet kapunk, mely a kor elvárásainak megfelel. A rendszer üzembiztos, hatékony, és korszerű lesz | I40: Búcsúszentlászló | J40: =SUM(O40:AC40) -> 1020 | L40: 45292 | M40: 48944 | N40: hosszú | T40: 250 | U40: 65 | V40: 75 | W40: 25 | X40: 65 | Y40: 95 | Z40: 65 | AA40: 250 | AB40: 65 | AC40: 65
B41: Irányítástechnika, energiaellátás
C42: Búcsúszentlászló | D42: erősáramú és irányítástechnikai rekonstrukció | E42: A viziközmű elem a napi üzemmenet során oly mértékig elhasználódott, hogy a normál karbantartási munkákkal már nem biztosítható az üzembiztos működése | F42: A rendszer zavartalan üzemének biztosítása érdekében szükséges a beavatkozás | G42: A beavatkozás után egy hatékonyan működő viziközmű elemet kapunk, mely a kor elvárásainak megfelel. A rendszer üzembiztos, hatékony, és korszerű lesz | I42: Búcsúszentlászló | J42: =SUM(O42:AC42) -> 4500 | L42: 44197 | M42: 44561 | N42: közép | Q42: 4500
B43: Összesen: | J43: =SUM(J12:J42) -> 140339.4 | K43: =C47+C48 -> 7094 | O43: =SUM(O12:O42) -> 2845 | P43: =SUM(P12:P42) -> 14576.1 | Q43: =SUM(Q12:Q42) -> 12159.1 | R43: =SUM(R12:R42) -> 14794.1 | S43: =SUM(S12:S42) -> 7734.1 | T43: =SUM(T12:T42) -> 11344.1 | U43: =SUM(U12:U42) -> 5059.1 | V43: =SUM(V12:V42) -> 11079.1 | ... AC43: =SUM(AC12:AC42) -> 5519.1
K44: 2019 évre a fejlesztési forrás biztosított
B46: Rendelkezésre álló források megnevezése | C46: Rendelkezésre álló források számszerűsített értéke a teljes ütem tekintetében (eFt)
A47: I. ütem | B47: Használati díj (2019) | C47: 6117
B48: Elkülönített forrás | C48: 977
A49: II. ütem | B49: Használati díj (2020-2023) | C49: =C47*4 -> 24468
A50: III. ütem | B50: Használati díj (2024-2033) | C50: =C47*10 -> 61170
B53: ¹ Idegenvíz kizárás munkafolyamatai
B54: 1. Törött szerkezeti elemek cseréje, aknában bekötések körbekenése, folyásfenék újra betonozása, hézag pótlása (vízbetörés javítás)
B55: 2. Vízzáró réteg készítés, hosszútávú korrozíó és szerkezeti védelem (Szulfátálló réteg készítése)
B56: 3. Fedlap és szűkítő csere DN 600 mm, terhelésnek megfelelően, üzemeltető előírása szerint
B57: 4. Pontszerű hibahelyek javítása gerincvezetéken, és bekötésen
B59: ²Gépészeti felújítás
B60: 1. szivattyú talpidon csere
B61: 2. nyomócső csere
B62: 3. nadrágidom csere
B63: 4. visszacsapó szelep csere
B64: 5. tolózár csere
B65: 6. vezetőcső csere
... B70: 3. aszfaltozás

Sheet Csatár
A1: Gördülő fejlesztési terv a 2019 - 2033 időszakra
A2: FELÚJÍTÁSOK ÉS PÓTLÁSOK ÖSSZEFOGLALÓ TÁBLÁZATA
A3: A tervet benyújtó szervezet megnevezése: | K3: CSATÁR | R3: ellátásért felelős / ellátásért felelősök képviselője / víziközmű-szolgáltató *
A4: Víziközmű-szolgáltató megnevezése: | K4: ÉSZAK ZALAI VÍZ- ÉS CSATORNAMŰ ZÁRTKÖRŰEN MŰKÖDŐ RÉSZVÉNYTÁRSASÁG
A5: Víziközmű-szolgáltatási ágazat megnevezése: | K5: SZENNYVÍZ ÁGAZAT
A6: Véleményeltérést megfogalmazó érintett fél megnevezése:
A7: Víziközmű-rendszer kódja: ** | K7: 21-32054-1-048-01-10 | R7: ZALAEGERSZEG-SZV
A8: V. Szennyvízelvezetés
A9: Fontossági sorrend | B9: Felujítás és pótlás megnevezése | E9: Műszaki állapot felmérés, szükségességi indoklás | H9: Vízjogi létesítési/elvi engedély száma | I9: Az érintett ellátásért felelős(ök) megnevezése | J9: Tervezett nettó költség | K9: Forrás 2019 évre | L9: Megvalósítás időtartama | N9: Tervezett időtáv | O9: A beruházás ütemezése a tervezési időszak évei szerint
E10: Jelenlegi műszaki állapot | F10: Feladat szükségessége | G10: Megvalósítást követő várható műszaki állapot | J10: (eFt) | L10: Kezdés | M10: Befejezés | N10: (rövid / közép / hosszú) | O10: 1 | P10: 2 | Q10: 3 | R10: 4 | S10: 5 | T10: 6 | U10: 7 | V10: 8 | W10: 9 | X10: 10 | Y10: 11 | Z10: 12 | AA10: 13 | AB10: 14 | AC10: 15
B11: szakág | C11: Helyszín | D11: beruházás megnevezése
A12: 1 | D12: Rendkívüli helyzetből adódó azonnali feladatok (max. 15%) | F12: A rendszer zavartalan üzemének biztosítása érdekében szükséges a beavatkozás | I12: Csatár | J12: =SUM(O12:AC12) -> 5499.6 | L12: 43466 | M12: 48944 | O12: 216 | P12: =$K$43*0.15 -> 377.4 | Q12: =$K$43*0.15 -> 377.4 | R12: =$K$43*0.15 -> 377.4 | S12: =$K$43*0.15 -> 377.4 | T12: =$K$43*0.15 -> 377.4 | U12: =$K$43*0.15 -> 377.4 | V12: =$K$43*0.15 -> 377.4 | W12: =$K$43*0.15 -> 377.4 | ... AC12: =$K$43*0.15 -> 377.4
B13: SZENNYVÍZCSATORNA (GRAVITÁCIÓS)
B14: Épület, építmény
C15: Csatár | D15: Fedlap, szükség esetén szűkítő cserék (2-3db) (elkülönített forrás) | E15: Az üzemelő viziközmű technológiailag elavult, üzemeltetése, és javítása már nem gazdaságos. Jelenleg a piacon magasabb műszaki tartalmak érhetőek el | F15: A viziközmű rendszer hatékonyságának növelése, az üzemeltetési költségek szinten tartása miatt szükséges | G15: A beavatkozás után egy hatékonyan működő viziközmű elemet kapunk, mely a kor elvárásainak megfelel. A rendszer üzembiztos, hatékony, és korszerű lesz | I15: Csatár | J15: =SUM(O15:AC15) -> 600 | L15: 43466 | M15: 43830 | N15: rövid | O15: 600
C16: Csatár | D16: törött bekötések javítása (elkülönített forrás) | E16: Az üzemelő viziközmű technológiailag elavult, üzemeltetése, és javítása már nem gazdaságos. Jelenleg a piacon magasabb műszaki tartalmak érhetőek el | F16: A viziközmű rendszer hatékonyságának növelése, az üzemeltetési költségek szinten tartása miatt szükséges | G16: A beavatkozás után egy hatékonyan működő viziközmű elemet kapunk, mely a kor elvárásainak megfelel. A rendszer üzembiztos, hatékony, és korszerű lesz | I16: Csatár | J16: =SUM(O16:AC16) -> 479 | L16: 43466 | M16: 43830 | N16: rövid | O16: 479
C17: Csatár | D17: Idegenvíz kizárása a csatornadiagnosztikai vizsgálat és a helyszíni ellenőrzés alapján¹ | E17: Az üzemelő viziközmű technológiailag elavult, üzemeltetése, és javítása már nem gazdaságos. Jelenleg a piacon magasabb műszaki tartalmak érhetőek el | F17: A viziközmű rendszer hatékonyságának növelése, az üzemeltetési költségek szinten tartása miatt szükséges | G17: A beavatkozás után egy hatékonyan működő viziközmű elemet kapunk, mely a kor elvárásainak megfelel. A rendszer üzembiztos, hatékony, és korszerű lesz | I17: Csatár | J17: =SUM(O17:AC17) -> 2328 | L17: 43831 | M17: 45291 | N17: közép | P17: 582 | Q17: 582 | R17: 582 | S17: 582
C18: Csatár | D18: Idegenvíz kizárása a csatornadiagnosztikai vizsgálat és a helyszíni ellenőrzés alapján¹ | E18: Az üzemelő viziközmű technológiailag elavult, üzemeltetése, és javítása már nem gazdaságos. Jelenleg a piacon magasabb műszaki tartalmak érhetőek el | F18: A viziközmű rendszer hatékonyságának növelése, az üzemeltetési költségek szinten tartása miatt szükséges | G18: A beavatkozás után egy hatékonyan működő viziközmű elemet kapunk, mely a kor elvárásainak megfelel. A rendszer üzembiztos, hatékony, és korszerű lesz | I18: Csatár | J18: =SUM(O18:AC18) -> 2910 | L18: 45658 | M18: 48579 | N18: hosszú | U18: 582 | W18: 582 | Y18: 582 | Z18: 582 | AB18: 582
C19: Csatár | D19: Gravitációs csatorna NA 150 rekonstrukció | E19: Az üzemelő viziközmű technológiailag elavult, üzemeltetése, és javítása már nem gazdaságos. Jelenleg a piacon magasabb műszaki tartalmak érhetőek el | F19: A viziközmű rendszer hatékonyságának növelése, az üzemeltetési költségek szinten tartása miatt szükséges | G19: A beavatkozás után egy hatékonyan működő viziközmű elemet kapunk, mely a kor elvárásainak megfelel. A rendszer üzembiztos, hatékony, és korszerű lesz | I19: Csatár | J19: =SUM(O19:AC19) -> 4390 | L19: 43831 | M19: 44926 | N19: közép | P19: 2000 | Q19: 390 | R19: 2000
C20: Csatár | D20: Gravitációs csatorna NA 150 rekonstrukció | E20: Az üzemelő viziközmű technológiailag elavult, üzemeltetése, és javítása már nem gazdaságos. Jelenleg a piacon magasabb műszaki tartalmak érhetőek el | F20: A viziközmű rendszer hatékonyságának növelése, az üzemeltetési költségek szinten tartása miatt szükséges | G20: A beavatkozás után egy hatékonyan működő viziközmű elemet kapunk, mely a kor elvárásainak megfelel. A rendszer üzembiztos, hatékony, és korszerű lesz | I20: Csatár | J20: =SUM(O20:AC20) -> 6390 | L20: 45292 | M20: 47848 | N20: hosszú | T20: 2390 | W20: 2000 | Z20: 2000
C21: Csatár | D21: Gravitációs csatorna NA200 rekonstrukció | E21: Az üzemelő viziközmű technológiailag elavult, üzemeltetése, és javítása már nem gazdaságos. Jelenleg a piacon magasabb műszaki tartalmak érhetőek el | F21: A viziközmű rendszer hatékonyságának növelése, az üzemeltetési költségek szinten tartása miatt szükséges | G21: A beavatkozás után egy hatékonyan működő viziközmű elemet kapunk, mely a kor elvárásainak megfelel. A rendszer üzembiztos, hatékony, és korszerű lesz | I21: Csatár | J21: =SUM(O21:AC21) -> 6400 | L21: 43831 | M21: 44926 | N21: közép | P21: 3200 | R21: 3200
C22: Csatár | D22: Gravitációs csatorna NA200 rekonstrukció | E22: Az üzemelő viziközmű technológiailag elavult, üzemeltetése, és javítása már nem gazdaságos. Jelenleg a piacon magasabb műszaki tartalmak érhetőek el | F22: A viziközmű rendszer hatékonyságának növelése, az üzemeltetési költségek szinten tartása miatt szükséges | G22: A beavatkozás után egy hatékonyan működő viziközmű elemet kapunk, mely a kor elvárásainak megfelel. A rendszer üzembiztos, hatékony, és korszerű lesz | I22: Csatár | J22: =SUM(O22:AC22) -> 12800 | L22: 45658 | M22: 48213 | N22: hosszú | U22: 3200 | W22: 3200 | Y22: 3200 | AA22: 3200
B23: SZENNYVÍZVEZETÉKEK (KÉNYSZERÁRAMOLTATÁSÚ)
C24: Csatár | D24: Nyomott vezeték NA50 rekonstrukció | E24: Az üzemelő viziközmű technológiailag elavult, üzemeltetése, és javítása már nem gazdaságos. Jelenleg a piacon magasabb műszaki tartalmak érhetőek el | F24: A kiépített rendszer működőképességének megóvása, a biztonságos üzemelés biztosítása miatt van szükség a munka elvégzésére | G24: A viziközmű elem állapota megközelíti az új elem berendezés állapotát. Az üzembiztonság jelentősen növekszik | I24: Csatár | J24: =SUM(O24:AC24) -> 600 | L24: 47484 | M24: 47848 | N24: hosszú | Z24: 600
C25: Csatár | D25: Nyomott vezeték NA100 rekonstrukció | E25: Az üzemelő viziközmű technológiailag elavult, üzemeltetése, és javítása már nem gazdaságos. Jelenleg a piacon magasabb műszaki tartalmak érhetőek el | F25: A kiépített rendszer működőképességének megóvása, a biztonságos üzemelés biztosítása miatt van szükség a munka elvégzésére | G25: A viziközmű elem állapota megközelíti az új elem berendezés állapotát. Az üzembiztonság jelentősen növekszik | I25: Csatár | J25: =SUM(O25:AC25) -> 2400 | L25: 43831 | M25: 44196 | N25: közép | P25: 2400
C26: Csatár | D26: Nyomott vezeték NA100 rekonstrukció | E26: Az üzemelő viziközmű technológiailag elavult, üzemeltetése, és javítása már nem gazdaságos. Jelenleg a piacon magasabb műszaki tartalmak érhetőek el | F26: A kiépített rendszer működőképességének megóvása, a biztonságos üzemelés biztosítása miatt van szükség a munka elvégzésére | G26: A viziközmű elem állapota megközelíti az új elem berendezés állapotát. Az üzembiztonság jelentősen növekszik | I26: Csatár | J26: =SUM(O26:AC26) -> 4800 | L26: 45658 | M26: 47848 | N26: hosszú | U26: 2400 | Z26: 2400
B27: SZENNYVÍZÁTEMELŐK
B28: Épület, építmény
C29: Csatár | D29: átemelő akna építészeti rekonstrukció | E29: A szennyvíz, és a belőle felszabaduló gázok hatására a felületek elkorrodálnak. Ezen elemek cseréje a A kiépített rendszer működőképességének megóvása, a biztonságos üzemelés biztosítása miatt van szükség a munka elvégzésérehez elengedhetetlen | F29: Statikai stabilitás biztosítása | G29: A viziközmű elem állapota megközelíti az új elem berendezés állapotát. Az üzembiztonság jelentősen növekszik | I29: Csatár | J29: =SUM(O29:AC29) -> 3150 | L29: 43831 | M29: 45291 | N29: közép | P29: 400 | Q29: 800 | R29: 650 | S29: 1300
C30: Csatár | D30: átemelő akna építészeti rekonstrukció | E30: A szennyvíz, és a belőle felszabaduló gázok hatására a felületek elkorrodálnak. Ezen elemek cseréje a A kiépített rendszer működőképességének megóvása, a biztonságos üzemelés biztosítása miatt van szükség a munka elvégzésérehez elengedhetetlen | F30: Statikai stabilitás biztosítása | G30: A viziközmű elem állapota megközelíti az új elem berendezés állapotát. Az üzembiztonság jelentősen növekszik | I30: Csatár | J30: =SUM(O30:AC30) -> 9330 | L30: 45292 | M30: 48944 | N30: hosszú | T30: 1300 | U30: 1400 | Y30: 630 | Z30: 1000 | AA30: 2000 | AB30: 1000 | AC30: 2000
C31: Csatár | D31: HBA akna építészeti rekonstrukció | E31: Az üzemelő viziközmű technológiailag elavult, üzemeltetése, és javítása már nem gazdaságos. Jelenleg a piacon magasabb műszaki tartalmak érhetőek el | F31: A kiépített rendszer működőképességének megóvása, a biztonságos üzemelés biztosítása miatt van szükség a munka elvégzésére | G31: A viziközmű elem állapota megközelíti az új elem berendezés állapotát. Az üzembiztonság jelentősen növekszik | I31: Csatár | J31: =SUM(O31:AC31) -> 240 | L31: 44197 | M31: 45291 | N31: közép | Q31: 120 | S31: 120
C32: Csatár | D32: HBA akna építészeti rekonstrukció | E32: Az üzemelő viziközmű technológiailag elavult, üzemeltetése, és javítása már nem gazdaságos. Jelenleg a piacon magasabb műszaki tartalmak érhetőek el | F32: A kiépített rendszer működőképességének megóvása, a biztonságos üzemelés biztosítása miatt van szükség a munka elvégzésére | G32: A viziközmű elem állapota megközelíti az új elem berendezés állapotát. Az üzembiztonság jelentősen növekszik | I32: Csatár | J32: =SUM(O32:AC32) -> 240 | L32: 46753 | M32: 47848 | N32: hosszú | X32: 120 | Z32: 120
B33: Gép, berendezés
C34: Csatár | D34: szivattyú felújítások átemelőknél | E34: Az üzemelő viziközmű elem működése közben előforduló eseti meghibásodások fordulhatnak elő, melyek előre nem tervezhetők | F34: A kiépített rendszer működőképességének megóvása, a biztonságos üzemelés biztosítása miatt van szükség a munka elvégzésére | G34: A beavatkozás után egy hatékonyan működő viziközmű elemet kapunk, mely a kor elvárásainak megfelel. A rendszer üzembiztos, hatékony, és korszerű lesz | I34: Csatár | J34: =SUM(O34:AC34) -> 620 | L34: 43466 | M34: 43830 | N34: rövid | O34: 620
C35: Csatár | D35: gépészeti rekonstrukció (1-6) | E35: Az üzemelő viziközmű elem működése közben előforduló eseti meghibásodások fordulhatnak elő, melyek előre nem tervezhetők | F35: A kiépített rendszer működőképességének megóvása, a biztonságos üzemelés biztosítása miatt van szükség a munka elvégzésére | G35: A beavatkozás után egy hatékonyan működő viziközmű elemet kapunk, mely a kor elvárásainak megfelel. A rendszer üzembiztos, hatékony, és korszerű lesz | I35: Csatár | J35: =SUM(O35:AC35) -> 9200 | L35: 43831 | M35: 45291 | N35: közép | P35: 1900 | Q35: 1800 | R35: 4400 | S35: 1100
C36: Csatár | D36: gépészeti rekonstrukció (1-6) | E36: Az üzemelő viziközmű elem működése közben előforduló eseti meghibásodások fordulhatnak elő, melyek előre nem tervezhetők | F36: A kiépített rendszer működőképességének megóvása, a biztonságos üzemelés biztosítása miatt van szükség a munka elvégzésére | G36: A beavatkozás után egy hatékonyan működő viziközmű elemet kapunk, mely a kor elvárásainak megfelel. A rendszer üzembiztos, hatékony, és korszerű lesz | I36: Csatár | J36: =SUM(O36:AC36) -> 11700 | L36: 45292 | M36: 48944 | N36: hosszú | T36: 700 | U36: 1200 | W36: 400 | Y36: 400 | Z36: 1500 | AA36: 4500 | AB36: 1500 | AC36: 1500
C37: Csatár | D37: HBA gépészeti rekonstrukció (1-6) | E37: Az üzemelő viziközmű elem működése közben előforduló eseti meghibásodások fordulhatnak elő, melyek előre nem tervezhetők | F37: A kiépített rendszer működőképességének megóvása, a biztonságos üzemelés biztosítása miatt van szükség a munka elvégzésére | G37: A beavatkozás után egy hatékonyan működő viziközmű elemet kapunk, mely a kor elvárásainak megfelel. A rendszer üzembiztos, hatékony, és korszerű lesz | I37: Csatár | J37: =SUM(O37:AC37) -> 340 | L37: 43831 | M37: 44926 | N37: közép | P37: 185 | Q37: 90 | R37: 65
C38: Csatár | D38: HBA gépészeti rekonstrukció (1-6) | E38: Az üzemelő viziközmű elem működése közben előforduló eseti meghibásodások fordulhatnak elő, melyek előre nem tervezhetők | F38: A kiépített rendszer működőképességének megóvása, a biztonságos üzemelés biztosítása miatt van szükség a munka elvégzésére | G38: A beavatkozás után egy hatékonyan működő viziközmű elemet kapunk, mely a kor elvárásainak megfelel. A rendszer üzembiztos, hatékony, és korszerű lesz | I38: Csatár | J38: =SUM(O38:AC38) -> 2065 | L38: 45292 | M38: 48579 | N38: hosszú | T38: 65 | V38: 275 | X38: 275 | Z38: 1175 | AB38: 275
B39: Irányítástechnika, energiaellátás
C40: Csatár | D40: erősáramú és irányítástechnikai rekonstrukció | E40: A viziközmű elem a napi üzemmenet során oly mértékig elhasználódott, hogy a normál karbantartási munkákkal már nem biztosítható az üzembiztos működése | F40: A rendszer zavartalan üzemének biztosítása érdekében szükséges a beavatkozás | G40: A beavatkozás után egy hatékonyan működő viziközmű elemet kapunk, mely a kor elvárásainak megfelel. A rendszer üzembiztos, hatékony, és korszerű lesz | I40: Csatár | J40: =SUM(O40:AC40) -> 12000 | L40: 44197 | M40: 44561 | N40: közép | Q40: 12000
C41: Csatár | D41: HBA vezérlőszekrény és műszerezés cseréje | E41: A viziközmű elem a napi üzemmenet során oly mértékig elhasználódott, hogy a normál karbantartási munkákkal már nem biztosítható az üzembiztos működése | F41: A rendszer zavartalan üzemének biztosítása érdekében szükséges a beavatkozás | G41: A beavatkozás után egy hatékonyan működő viziközmű elemet kapunk, mely a kor elvárásainak megfelel. A rendszer üzembiztos, hatékony, és korszerű lesz | I41: Csatár | J41: =SUM(O41:AC41) -> 180 | L41: 43831 | M41: 44561 | N41: közép | P41: 60 | Q41: 120
C42: Csatár | D42: HBA vezérlőszekrény és műszerezés cseréje | E42: A viziközmű elem a napi üzemmenet során oly mértékig elhasználódott, hogy a normál karbantartási munkákkal már nem biztosítható az üzembiztos működése | F42: A rendszer zavartalan üzemének biztosítása érdekében szükséges a beavatkozás | G42: A beavatkozás után egy hatékonyan működő viziközmű elemet kapunk, mely a kor elvárásainak megfelel. A rendszer üzembiztos, hatékony, és korszerű lesz | I42: Csatár | J42: =SUM(O42:AC42) -> 180 | L42: 46753 | M42: 47848 | N42: hosszú | X42: 120 | Z42: 60
B43: Összesen: | J43: =SUM(J12:J42) -> 98841.6 | K43: =C47+C48 -> 2516 | O43: =SUM(O12:O42) -> 1915 | P43: =SUM(P12:P42) -> 11104.4 | Q43: =SUM(Q12:Q42) -> 16279.4 | R43: =SUM(R12:R42) -> 11274.4 | S43: =SUM(S12:S42) -> 3479.4 | T43: =SUM(T12:T42) -> 4832.4 | U43: =SUM(U12:U42) -> 9159.4 | V43: =SUM(V12:V42) -> 652.4 | ... AC43: =SUM(AC12:AC42) -> 3877.4
K44: 2019 évre a fejlesztési forrás biztosított
B46: Rendelkezésre álló források megnevezése | C46: Rendelkezésre álló források számszerűsített értéke a teljes ütem tekintetében (eFt)
A47: I. ütem | B47: Használati díj (2019) | C47: 1437
B48: Elkülönített forrás | C48: 1079
A49: II. ütem | B49: Használati díj (2020-2023) | C49: =C47*4 -> 5748
A50: III. ütem | B50: Használati díj (2024-2033) | C50: =C47*10 -> 14370
B53: ¹ Idegenvíz kizárás munkafolyamatai
B54: 1. Törött szerkezeti elemek cseréje, aknában bekötések körbekenése, folyásfenék újra betonozása, hézag pótlása (vízbetörés javítás)
B55: 2. Vízzáró réteg készítés, hosszútávú korrozíó és szerkezeti védelem (Szulfátálló réteg készítése)
B56: 3. Fedlap és szűkítő csere DN 600 mm, terhelésnek megfelelően, üzemeltető előírása szerint
B57: 4. Pontszerű hibahelyek javítása gerincvezetéken, és bekötésen
B59: ²Gépészeti felújítás
B60: 1. szivattyú talpidon csere
B61: 2. nyomócső csere
B62: 3. nadrágidom csere
B63: 4. visszacsapó szelep csere
B64: 5. tolózár csere
B65: 6. vezetőcső csere
... B70: 3. aszfaltozás

Sheet Csonkahegyhát
A1: Gördülő fejlesztési terv a 2019 - 2033 időszakra
A2: FELÚJÍTÁSOK ÉS PÓTLÁSOK ÖSSZEFOGLALÓ TÁBLÁZATA
A3: A tervet benyújtó szervezet megnevezése: | K3: CSONKAHEGYHÁT | R3: ellátásért felelős / ellátásért felelősök képviselője / víziközmű-szolgáltató *
A4: Víziközmű-szolgáltató megnevezése: | K4: ÉSZAK ZALAI VÍZ- ÉS CSATORNAMŰ ZÁRTKÖRŰEN MŰKÖDŐ RÉSZVÉNYTÁRSASÁG
A5: Víziközmű-szolgáltatási ágazat megnevezése: | K5: SZENNYVÍZ ÁGAZAT
A6: Véleményeltérést megfogalmazó érintett fél megnevezése:
A7: Víziközmű-rendszer kódja: ** | K7: 21-32054-1-048-01-10 | R7: ZALAEGERSZEG-SZV
A8: V. Szennyvízelvezetés
A9: Fontossági sorrend | B9: Felujítás és pótlás megnevezése | E9: Műszaki állapot felmérés, szükségességi indoklás | H9: Vízjogi létesítési/elvi engedély száma | I9: Az érintett ellátásért felelős(ök) megnevezése | J9: Tervezett nettó költség | K9: Forrás 2019 évre | L9: Megvalósítás időtartama | N9: Tervezett időtáv | O9: A beruházás ütemezése a tervezési időszak évei szerint
E10: Jelenlegi műszaki állapot | F10: Feladat szükségessége | G10: Megvalósítást követő várható műszaki állapot | J10: (eFt) | L10: Kezdés | M10: Befejezés | N10: (rövid / közép / hosszú) | O10: 1 | P10: 2 | Q10: 3 | R10: 4 | S10: 5 | T10: 6 | U10: 7 | V10: 8 | W10: 9 | X10: 10 | Y10: 11 | Z10: 12 | AA10: 13 | AB10: 14 | AC10: 15
B11: szakág | C11: Helyszín | D11: beruházás megnevezése
A12: 1 | D12: Rendkívüli helyzetből adódó azonnali feladatok (max. 15%) | F12: A rendszer zavartalan üzemének biztosítása érdekében szükséges a beavatkozás | I12: Csonkahegyhát | J12: =SUM(O12:AC12) -> 2189.25 | L12: 43466 | M12: 48944 | O12: =$K$41*0.15 -> 145.95 | P12: =$K$41*0.15 -> 145.95 | Q12: =$K$41*0.15 -> 145.95 | R12: =$K$41*0.15 -> 145.95 | S12: =$K$41*0.15 -> 145.95 | T12: =$K$41*0.15 -> 145.95 | U12: =$K$41*0.15 -> 145.95 | V12: =$K$41*0.15 -> 145.95 | ... AC12: =$K$41*0.15 -> 145.95
B13: SZENNYVÍZCSATORNA (GRAVITÁCIÓS)
B14: Épület, építmény
C15: Csonkahegyhát | D15: Idegenvíz kizárása a csatornadiagnosztikai vizsgálat és a helyszíni ellenőrzés alapján¹ | E15: Az üzemelő viziközmű technológiailag elavult, üzemeltetése, és javítása már nem gazdaságos. Jelenleg a piacon magasabb műszaki tartalmak érhetőek el | F15: A viziközmű rendszer hatékonyságának növelése, az üzemeltetési költségek szinten tartása miatt szükséges | G15: A beavatkozás után egy hatékonyan működő viziközmű elemet kapunk, mely a kor elvárásainak megfelel. A rendszer üzembiztos, hatékony, és korszerű lesz | I15: Csonkahegyhát | J15: =SUM(O15:AC15) -> 480 | L15: 44197 | M15: 45291 | N15: közép | Q15: 240 | S15: 240
C16: Csonkahegyhát | D16: Idegenvíz kizárása a csatornadiagnosztikai vizsgálat és a helyszíni ellenőrzés alapján¹ | E16: Az üzemelő viziközmű technológiailag elavult, üzemeltetése, és javítása már nem gazdaságos. Jelenleg a piacon magasabb műszaki tartalmak érhetőek el | F16: A viziközmű rendszer hatékonyságának növelése, az üzemeltetési költségek szinten tartása miatt szükséges | G16: A beavatkozás után egy hatékonyan működő viziközmű elemet kapunk, mely a kor elvárásainak megfelel. A rendszer üzembiztos, hatékony, és korszerű lesz | I16: Csonkahegyhát | J16: =SUM(O16:AC16) -> 1440 | L16: 45292 | M16: 48579 | N16: hosszú | T16: 240 | V16: 240 | W16: 240 | Y16: 240 | Z16: 240 | AB16: 240
C17: Csonkahegyhát | D17: Gravitációs csatorna NA 150 rekonstrukció | E17: Az üzemelő viziközmű technológiailag elavult, üzemeltetése, és javítása már nem gazdaságos. Jelenleg a piacon magasabb műszaki tartalmak érhetőek el | F17: A viziközmű rendszer hatékonyságának növelése, az üzemeltetési költségek szinten tartása miatt szükséges | G17: A beavatkozás után egy hatékonyan működő viziközmű elemet kapunk, mely a kor elvárásainak megfelel. A rendszer üzembiztos, hatékony, és korszerű lesz | I17: Csonkahegyhát | J17: =SUM(O17:AC17) -> 1152 | L17: 43831 | M17: 45291 | N17: közép | P17: 390 | Q17: 390 | R17: 186 | S17: 186
C18: Csonkahegyhát | D18: Gravitációs csatorna NA 150 rekonstrukció | E18: Az üzemelő viziközmű technológiailag elavult, üzemeltetése, és javítása már nem gazdaságos. Jelenleg a piacon magasabb műszaki tartalmak érhetőek el | F18: A viziközmű rendszer hatékonyságának növelése, az üzemeltetési költségek szinten tartása miatt szükséges | G18: A beavatkozás után egy hatékonyan működő viziközmű elemet kapunk, mely a kor elvárásainak megfelel. A rendszer üzembiztos, hatékony, és korszerű lesz | I18: Csonkahegyhát | J18: =SUM(O18:AC18) -> 1860 | L18: 45292 | M18: 48944 | N18: hosszú | T18: 186 | U18: 186 | V18: 186 | W18: 186 | X18: 186 | Y18: 186 | Z18: 186 | AA18: 186 | AB18: 186 | AC18: 186
C19: Csonkahegyhát | D19: Gravitációs csatorna NA200 rekonstrukció | E19: Az üzemelő viziközmű technológiailag elavult, üzemeltetése, és javítása már nem gazdaságos. Jelenleg a piacon magasabb műszaki tartalmak érhetőek el | F19: A viziközmű rendszer hatékonyságának növelése, az üzemeltetési költségek szinten tartása miatt szükséges | G19: A beavatkozás után egy hatékonyan működő viziközmű elemet kapunk, mely a kor elvárásainak megfelel. A rendszer üzembiztos, hatékony, és korszerű lesz | I19: Csonkahegyhát | J19: =SUM(O19:AC19) -> 2500 | L19: 43831 | M19: 44561 | N19: közép | P19: 1000 | Q19: 1500
C20: Csonkahegyhát | D20: Gravitációs csatorna NA200 rekonstrukció | E20: Az üzemelő viziközmű technológiailag elavult, üzemeltetése, és javítása már nem gazdaságos. Jelenleg a piacon magasabb műszaki tartalmak érhetőek el | F20: A viziközmű rendszer hatékonyságának növelése, az üzemeltetési költségek szinten tartása miatt szükséges | G20: A beavatkozás után egy hatékonyan működő viziközmű elemet kapunk, mely a kor elvárásainak megfelel. A rendszer üzembiztos, hatékony, és korszerű lesz | I20: Csonkahegyhát | J20: =SUM(O20:AC20) -> 12000 | L20: 45658 | M20: 48213 | N20: hosszú | U20: 1500 | W20: 3500 | Y20: 3500 | AA20: 3500
B21: SZENNYVÍZVEZETÉKEK (KÉNYSZERÁRAMOLTATÁSÚ)
C22: Csonkahegyhát | D22: Nyomott vezeték NA50 rekonstrukció | E22: Az üzemelő viziközmű technológiailag elavult, üzemeltetése, és javítása már nem gazdaságos. Jelenleg a piacon magasabb műszaki tartalmak érhetőek el | F22: A kiépített rendszer működőképességének megóvása, a biztonságos üzemelés biztosítása miatt van szükség a munka elvégzésére | G22: A viziközmű elem állapota megközelíti az új elem berendezés állapotát. Az üzembiztonság jelentősen növekszik | I22: Csonkahegyhát | J22: =SUM(O22:AC22) -> 2200 | L22: 43831 | M22: 44196 | N22: közép | P22: 2200
C23: Csonkahegyhát | D23: Nyomott vezeték NA50 rekonstrukció | E23: Az üzemelő viziközmű technológiailag elavult, üzemeltetése, és javítása már nem gazdaságos. Jelenleg a piacon magasabb műszaki tartalmak érhetőek el | F23: A kiépített rendszer működőképességének megóvása, a biztonságos üzemelés biztosítása miatt van szükség a munka elvégzésére | G23: A viziközmű elem állapota megközelíti az új elem berendezés állapotát. Az üzembiztonság jelentősen növekszik | I23: Csonkahegyhát | J23: =SUM(O23:AC23) -> 4400 | L23: 45658 | M23: 47848 | N23: hosszú | U23: 2200 | Z23: 2200
B24: SZENNYVÍZÁTEMELŐK
B25: Épület, építmény
C26: Csonkahegyhát I. átemelő | D26: kőfogó bélelés: mélysége 2 méter, szélessége 1 méter | E26: A szennyvíz, és a belőle felszabaduló gázok hatására a felületek elkorrodálnak. Ezen elemek cseréje a A kiépített rendszer működőképességének megóvása, a biztonságos üzemelés biztosítása miatt van szükség a munka elvégzésérehez elengedhetetlen | F26: Statikai stabilitás biztosítása | G26: A viziközmű elem állapota megközelíti az új elem berendezés állapotát. Az üzembiztonság jelentősen növekszik | I26: Csonkahegyhát | J26: =SUM(O26:AC26) -> 450 | L26: 43466 | M26: 43830 | N26: rövid | O26: 450
C27: Csonkahegyhát I. átemelő | D27: gépészeti akna vízzárózása: mélysége 2 méter, szélessége 2 méter x 3 méter | E27: A szennyvíz, és a belőle felszabaduló gázok hatására a felületek elkorrodálnak. Ezen elemek cseréje a A kiépített rendszer működőképességének megóvása, a biztonságos üzemelés biztosítása miatt van szükség a munka elvégzésérehez elengedhetetlen | F27: Statikai stabilitás biztosítása | G27: A viziközmű elem állapota megközelíti az új elem berendezés állapotát. Az üzembiztonság jelentősen növekszik | I27: Csonkahegyhát | J27: =SUM(O27:AC27) -> 150 | L27: 43466 | M27: 43830 | N27: rövid | O27: 150
C28: Csonkahegyhát | D28: átemelő akna építészeti rekonstrukció | E28: A szennyvíz, és a belőle felszabaduló gázok hatására a felületek elkorrodálnak. Ezen elemek cseréje a A kiépített rendszer működőképességének megóvása, a biztonságos üzemelés biztosítása miatt van szükség a munka elvégzésérehez elengedhetetlen | F28: Statikai stabilitás biztosítása | G28: A viziközmű elem állapota megközelíti az új elem berendezés állapotát. Az üzembiztonság jelentősen növekszik | I28: Csonkahegyhát | J28: =SUM(O28:AC28) -> 6000 | L28: 43831 | M28: 44926 | N28: közép | P28: 3160 | Q28: 550 | R28: 2290
C29: Csonkahegyhát | D29: átemelő akna építészeti rekonstrukció | E29: A szennyvíz, és a belőle felszabaduló gázok hatására a felületek elkorrodálnak. Ezen elemek cseréje a A kiépített rendszer működőképességének megóvása, a biztonságos üzemelés biztosítása miatt van szükség a munka elvégzésérehez elengedhetetlen | F29: Statikai stabilitás biztosítása | G29: A viziközmű elem állapota megközelíti az új elem berendezés állapotát. Az üzembiztonság jelentősen növekszik | I29: Csonkahegyhát | J29: =SUM(O29:AC29) -> 7960 | L29: 46023 | M29: 48213 | N29: hosszú | V29: 1200 | Y29: 1600 | Z29: 1260 | AA29: 3900
C30: Csonkahegyhát | D30: HBA akna építészeti rekonstrukció | E30: Az üzemelő viziközmű technológiailag elavult, üzemeltetése, és javítása már nem gazdaságos. Jelenleg a piacon magasabb műszaki tartalmak érhetőek el | F30: A kiépített rendszer működőképességének megóvása, a biztonságos üzemelés biztosítása miatt van szükség a munka elvégzésére | G30: A viziközmű elem állapota megközelíti az új elem berendezés állapotát. Az üzembiztonság jelentősen növekszik | I30: Csonkahegyhát | J30: =SUM(O30:AC30) -> 60 | L30: 44562 | M30: 44926 | N30: közép | R30: 60
C31: Csonkahegyhát | D31: HBA akna építészeti rekonstrukció | E31: Az üzemelő viziközmű technológiailag elavult, üzemeltetése, és javítása már nem gazdaságos. Jelenleg a piacon magasabb műszaki tartalmak érhetőek el | F31: A kiépített rendszer működőképességének megóvása, a biztonságos üzemelés biztosítása miatt van szükség a munka elvégzésére | G31: A viziközmű elem állapota megközelíti az új elem berendezés állapotát. Az üzembiztonság jelentősen növekszik | I31: Csonkahegyhát | J31: =SUM(O31:AC31) -> 180 | L31: 45658 | M31: 48213 | N31: hosszú | U31: 60 | X31: 60 | AA31: 60
B32: Gép, berendezés
C33: Csonkahegyhát | D33: gépészeti rekonstrukció (1-6) | E33: Az üzemelő viziközmű elem működése közben előforduló eseti meghibásodások fordulhatnak elő, melyek előre nem tervezhetők | F33: A kiépített rendszer működőképességének megóvása, a biztonságos üzemelés biztosítása miatt van szükség a munka elvégzésére | G33: A beavatkozás után egy hatékonyan működő viziközmű elemet kapunk, mely a kor elvárásainak megfelel. A rendszer üzembiztos, hatékony, és korszerű lesz | I33: Csonkahegyhát | J33: =SUM(O33:AC33) -> 13200 | L33: 43831 | M33: 45291 | N33: közép | P33: 200 | Q33: 550 | R33: 11700 | S33: 750
C34: Csonkahegyhát | D34: gépészeti rekonstrukció (1-6) | E34: Az üzemelő viziközmű elem működése közben előforduló eseti meghibásodások fordulhatnak elő, melyek előre nem tervezhetők | F34: A kiépített rendszer működőképességének megóvása, a biztonságos üzemelés biztosítása miatt van szükség a munka elvégzésére | G34: A beavatkozás után egy hatékonyan működő viziközmű elemet kapunk, mely a kor elvárásainak megfelel. A rendszer üzembiztos, hatékony, és korszerű lesz | I34: Csonkahegyhát | J34: =SUM(O34:AC34) -> 20700 | L34: 45292 | M34: 48944 | N34: hosszú | T34: 1000 | U34: 2550 | V34: 1200 | W34: 1250 | Y34: 750 | AA34: 12450 | AB34: 750 | AC34: 750
C35: Csonkahegyhát | D35: HBA gépészeti rekonstrukció (1-6) | E35: Az üzemelő viziközmű elem működése közben előforduló eseti meghibásodások fordulhatnak elő, melyek előre nem tervezhetők | F35: A kiépített rendszer működőképességének megóvása, a biztonságos üzemelés biztosítása miatt van szükség a munka elvégzésére | G35: A beavatkozás után egy hatékonyan működő viziközmű elemet kapunk, mely a kor elvárásainak megfelel. A rendszer üzembiztos, hatékony, és korszerű lesz | I35: Csonkahegyhát | J35: =SUM(O35:AC35) -> 379 | L35: 44197 | M35: 45291 | N35: közép | Q35: 64 | R35: 250 | S35: 65
C36: Csonkahegyhát | D36: HBA gépészeti rekonstrukció (1-6) | E36: Az üzemelő viziközmű elem működése közben előforduló eseti meghibásodások fordulhatnak elő, melyek előre nem tervezhetők | F36: A kiépített rendszer működőképességének megóvása, a biztonságos üzemelés biztosítása miatt van szükség a munka elvégzésére | G36: A beavatkozás után egy hatékonyan működő viziközmű elemet kapunk, mely a kor elvárásainak megfelel. A rendszer üzembiztos, hatékony, és korszerű lesz | I36: Csonkahegyhát | J36: =SUM(O36:AC36) -> 1145 | L36: 45292 | M36: 48944 | N36: hosszú | T36: 80 | U36: 65 | V36: 250 | W36: 145 | X36: 250 | Y36: 65 | Z36: 80 | AA36: 65 | AB36: 80 | AC36: 65
B37: Irányítástechnika, energiaellátás
C38: Csonkahegyhát | D38: erősáramú és irányítástechnikai rekonstrukció | E38: A viziközmű elem a napi üzemmenet során oly mértékig elhasználódott, hogy a normál karbantartási munkákkal már nem biztosítható az üzembiztos működése | F38: A rendszer zavartalan üzemének biztosítása érdekében szükséges a beavatkozás | G38: A beavatkozás után egy hatékonyan működő viziközmű elemet kapunk, mely a kor elvárásainak megfelel. A rendszer üzembiztos, hatékony, és korszerű lesz | I38: Csonkahegyhát | J38: =SUM(O38:AC38) -> 18000 | L38: 44197 | M38: 44561 | N38: közép | Q38: 18000
C39: Csonkahegyhát | D39: HBA vezérlőszekrény és műszerezés cseréje | E39: A viziközmű elem a napi üzemmenet során oly mértékig elhasználódott, hogy a normál karbantartási munkákkal már nem biztosítható az üzembiztos működése | F39: A rendszer zavartalan üzemének biztosítása érdekében szükséges a beavatkozás | G39: A beavatkozás után egy hatékonyan működő viziközmű elemet kapunk, mely a kor elvárásainak megfelel. A rendszer üzembiztos, hatékony, és korszerű lesz | I39: Csonkahegyhát | J39: =SUM(O39:AC39) -> 180 | L39: 44562 | M39: 45291 | N39: közép | R39: 60 | S39: 120
C40: Csonkahegyhát | D40: HBA vezérlőszekrény és műszerezés cseréje | E40: A viziközmű elem a napi üzemmenet során oly mértékig elhasználódott, hogy a normál karbantartási munkákkal már nem biztosítható az üzembiztos működése | F40: A rendszer zavartalan üzemének biztosítása érdekében szükséges a beavatkozás | G40: A beavatkozás után egy hatékonyan működő viziközmű elemet kapunk, mely a kor elvárásainak megfelel. A rendszer üzembiztos, hatékony, és korszerű lesz | I40: Csonkahegyhát | J40: =SUM(O40:AC40) -> 120 | L40: 47484 | M40: 47848 | N40: hosszú | Z40: 120
B41: Összesen: | J41: =SUM(J12:J40) -> 96745.25 | K41: 973 | O41: =SUM(O12:O40) -> 745.95 | P41: =SUM(P12:P40) -> 7095.95 | Q41: =SUM(Q12:Q40) -> 21439.95 | R41: =SUM(R12:R40) -> 14691.95 | S41: =SUM(S12:S40) -> 1506.95 | T41: =SUM(T12:T40) -> 1651.95 | U41: =SUM(U12:U40) -> 6706.95 | V41: =SUM(V12:V40) -> 3221.95 | ... AC41: =SUM(AC12:AC40) -> 1146.95
K42: 2019 évre a fejlesztési forrás biztosított
B44: Rendelkezésre álló források megnevezése | C44: Rendelkezésre álló források számszerűsített értéke a teljes ütem tekintetében (eFt)
A45: I. ütem | B45: Használati díj (2019) | C45: =K41 -> 973
A46: II. ütem | B46: Használati díj (2020-2023) | C46: =C45*4 -> 3892
A47: III. ütem | B47: Használati díj (2024-2033) | C47: =C45*10 -> 9730
B50: ¹ Idegenvíz kizárás munkafolyamatai
B51: 1. Törött szerkezeti elemek cseréje, aknában bekötések körbekenése, folyásfenék újra betonozása, hézag pótlása (vízbetörés javítás)
B52: 2. Vízzáró réteg készítés, hosszútávú korrozíó és szerkezeti védelem (Szulfátálló réteg készítése)
B53: 3. Fedlap és szűkítő csere DN 600 mm, terhelésnek megfelelően, üzemeltető előírása szerint
B54: 4. Pontszerű hibahelyek javítása gerincvezetéken, és bekötésen
B56: ²Gépészeti felújítás
B57: 1. szivattyú talpidon csere
B58: 2. nyomócső csere
B59: 3. nadrágidom csere
B60: 4. visszacsapó szelep csere
B61: 5. tolózár csere
B62: 6. vezetőcső csere
... B67: 3. aszfaltozás

Sheet Dobronhegy
A1: Gördülő fejlesztési terv a 2019 - 2033 időszakra
A2: FELÚJÍTÁSOK ÉS PÓTLÁSOK ÖSSZEFOGLALÓ TÁBLÁZATA
A3: A tervet benyújtó szervezet megnevezése: | K3: DOBRONHEGY | R3: ellátásért felelős / ellátásért felelősök képviselője / víziközmű-szolgáltató *
A4: Víziközmű-szolgáltató megnevezése: | K4: ÉSZAK ZALAI VÍZ- ÉS CSATORNAMŰ ZÁRTKÖRŰEN MŰKÖDŐ RÉSZVÉNYTÁRSASÁG
A5: Víziközmű-szolgáltatási ágazat megnevezése: | K5: SZENNYVÍZ ÁGAZAT
A6: Véleményeltérést megfogalmazó érintett fél megnevezése:
A7: Víziközmű-rendszer kódja: ** | K7: 21-32054-1-048-01-10 | R7: ZALAEGERSZEG-SZV
A8: V. Szennyvízelvezetés
A9: Fontossági sorrend | B9: Felujítás és pótlás megnevezése | E9: Műszaki állapot felmérés, szükségességi indoklás | H9: Vízjogi létesítési/elvi engedély száma | I9: Az érintett ellátásért felelős(ök) megnevezése | J9: Tervezett nettó költség | K9: Forrás 2019 évre | L9: Megvalósítás időtartama | N9: Tervezett időtáv | O9: A beruházás ütemezése a tervezési időszak évei szerint
E10: Jelenlegi műszaki állapot | F10: Feladat szükségessége | G10: Megvalósítást követő várható műszaki állapot | J10: (eFt) | L10: Kezdés | M10: Befejezés | N10: (rövid / közép / hosszú) | O10: 1 | P10: 2 | Q10: 3 | R10: 4 | S10: 5 | T10: 6 | U10: 7 | V10: 8 | W10: 9 | X10: 10 | Y10: 11 | Z10: 12 | AA10: 13 | AB10: 14 | AC10: 15
B11: szakág | C11: Helyszín | D11: beruházás megnevezése
A12: 1 | D12: Rendkívüli helyzetből adódó azonnali feladatok (max. 15%) | F12: A rendszer zavartalan üzemének biztosítása érdekében szükséges a beavatkozás | I12: Dobronhegy | J12: =SUM(O12:AC12) -> 10805 | L12: 43466 | M12: 48579 | O12: 67 | P12: =$K$26 -> 767 | Q12: =$K$26 -> 767 | R12: =$K$26 -> 767 | S12: =$K$26 -> 767 | T12: =$K$26 -> 767 | U12: =$K$26 -> 767 | V12: =$K$26 -> 767 | W12: =$K$26 -> 767 | ... AC12: =$K$26 -> 767
B13: SZENNYVÍZCSATORNA (GRAVITÁCIÓS)
B14: Épület, építmény
B16: SZENNYVÍZVEZETÉKEK (KÉNYSZERÁRAMOLTATÁSÚ)
B18: SZENNYVÍZÁTEMELŐK
B19: Épület, építmény
C20: Dobronhegy II. átemelő | D20: kőfogó bélelés: mélysége 2.5 méter, szélessége 1 méter | E20: A szennyvíz, és a belőle felszabaduló gázok hatására a felületek elkorrodálnak. Ezen elemek cseréje a A kiépített rendszer működőképességének megóvása, a biztonságos üzemelés biztosítása miatt van szükség a munka elvégzésérehez elengedhetetlen | F20: Statikai stabilitás biztosítása | G20: A viziközmű elem állapota megközelíti az új elem berendezés állapotát. Az üzembiztonság jelentősen növekszik | I20: Dobronhegy | J20: =SUM(O20:AC20) -> 550 | L20: 43466 | M20: 43830 | N20: rövid | O20: 550
C21: Dobronhegy II. átemelő | D21: gépészeti akna vízzárózása: mélysége 2 méter, szélessége 2 méter x 3 méter | E21: A szennyvíz, és a belőle felszabaduló gázok hatására a felületek elkorrodálnak. Ezen elemek cseréje a A kiépített rendszer működőképességének megóvása, a biztonságos üzemelés biztosítása miatt van szükség a munka elvégzésérehez elengedhetetlen | F21: Statikai stabilitás biztosítása | G21: A viziközmű elem állapota megközelíti az új elem berendezés állapotát. Az üzembiztonság jelentősen növekszik | I21: Dobronhegy | J21: =SUM(O21:AC21) -> 150 | L21: 43466 | M21: 43830 | N21: rövid | O21: 150
B22: Gép, berendezés
B24: Irányítástechnika, energiaellátás
B26: Összesen: | J26: =SUM(J12:J25) -> 11505 | K26: 767 | O26: =SUM(O12:O25) -> 767 | P26: =SUM(P12:P25) -> 767 | Q26: =SUM(Q12:Q25) -> 767 | R26: =SUM(R12:R25) -> 767 | S26: =SUM(S12:S25) -> 767 | T26: =SUM(T12:T25) -> 767 | U26: =SUM(U12:U25) -> 767 | V26: =SUM(V12:V25) -> 767 | ... AC26: =SUM(AC12:AC25) -> 767
K27: 2019 évre a fejlesztési forrás biztosított
B29: Rendelkezésre álló források megnevezése | C29: Rendelkezésre álló források számszerűsített értéke a teljes ütem tekintetében (eFt)
A30: I. ütem | B30: Használati díj (2019) | C30: 445
B31: bankszámla egyenleg | C31: 322
A32: II. ütem | B32: Használati díj (2020-2023) | C32: =C30*4 -> 1780
A33: III. ütem | B33: Használati díj (2024-2033) | C33: =C30*10 -> 4450
B37: ¹ Idegenvíz kizárás munkafolyamatai
B38: 1. Törött szerkezeti elemek cseréje, aknában bekötések körbekenése, folyásfenék újra betonozása, hézag pótlása (vízbetörés javítás)
B39: 2. Vízzáró réteg készítés, hosszútávú korrozíó és szerkezeti védelem (Szulfátálló réteg készítése)
B40: 3. Fedlap és szűkítő csere DN 600 mm, terhelésnek megfelelően, üzemeltető előírása szerint
B41: 4. Pontszerű hibahelyek javítása gerincvezetéken, és bekötésen
B43: ²Gépészeti felújítás
B44: 1. szivattyú talpidon csere
B45: 2. nyomócső csere
B46: 3. nadrágidom csere
B47: 4. visszacsapó szelep csere
B48: 5. tolózár csere
B49: 6. vezetőcső csere
... B54: 3. aszfaltozás

Sheet Egervár
A1: Gördülő fejlesztési terv a 2019 - 2033 időszakra
A2: FELÚJÍTÁSOK ÉS PÓTLÁSOK ÖSSZEFOGLALÓ TÁBLÁZATA
A3: A tervet benyújtó szervezet megnevezése: | K3: EGERVÁR | R3: ellátásért felelős / ellátásért felelősök képviselője / víziközmű-szolgáltató *
A4: Víziközmű-szolgáltató megnevezése: | K4: ÉSZAK ZALAI VÍZ- ÉS CSATORNAMŰ ZÁRTKÖRŰEN MŰKÖDŐ RÉSZVÉNYTÁRSASÁG
A5: Víziközmű-szolgáltatási ágazat megnevezése: | K5: SZENNYVÍZ ÁGAZAT
A6: Véleményeltérést megfogalmazó érintett fél megnevezése:
A7: Víziközmű-rendszer kódja: ** | K7: 21-32054-1-048-01-10 | R7: ZALAEGERSZEG-SZV
A8: V. Szennyvízelvezetés
A9: Fontossági sorrend | B9: Felujítás és pótlás megnevezése | E9: Műszaki állapot felmérés, szükségességi indoklás | H9: Vízjogi létesítési/elvi engedély száma | I9: Az érintett ellátásért felelős(ök) megnevezése | J9: Tervezett nettó költség | K9: Forrás 2019 évre | L9: Megvalósítás időtartama | N9: Tervezett időtáv | O9: A beruházás ütemezése a tervezési időszak évei szerint
E10: Jelenlegi műszaki állapot | F10: Feladat szükségessége | G10: Megvalósítást követő várható műszaki állapot | J10: (eFt) | L10: Kezdés | M10: Befejezés | N10: (rövid / közép / hosszú) | O10: 1 | P10: 2 | Q10: 3 | R10: 4 | S10: 5 | T10: 6 | U10: 7 | V10: 8 | W10: 9 | X10: 10 | Y10: 11 | Z10: 12 | AA10: 13 | AB10: 14 | AC10: 15
B11: szakág | C11: Helyszín | D11: beruházás megnevezése
D12: Rendkívüli helyzetből adódó azonnali feladatok (max. 15%) | F12: A rendszer zavartalan üzemének biztosítása érdekében szükséges a beavatkozás | I12: Egervár | J12: =SUM(O12:AC12) -> 11538.3 | L12: 43466 | M12: 48944 | O12: 570 | P12: =$K$45*0.15 -> 783.45 | Q12: =$K$45*0.15 -> 783.45 | R12: =$K$45*0.15 -> 783.45 | S12: =$K$45*0.15 -> 783.45 | T12: =$K$45*0.15 -> 783.45 | U12: =$K$45*0.15 -> 783.45 | V12: =$K$45*0.15 -> 783.45 | W12: =$K$45*0.15 -> 783.45 | ... AC12: =$K$45*0.15 -> 783.45
B13: SZENNYVÍZCSATORNA (GRAVITÁCIÓS)
B14: Épület, építmény
C15: Egervár | D15: aknafedlap cserék 4db (elkülönített forrás) | E15: Az üzemelő viziközmű technológiailag elavult, üzemeltetése, és javítása már nem gazdaságos. Jelenleg a piacon magasabb műszaki tartalmak érhetőek el | F15: A viziközmű rendszer hatékonyságának növelése, az üzemeltetési költségek szinten tartása miatt szükséges | G15: A beavatkozás után egy hatékonyan működő viziközmű elemet kapunk, mely a kor elvárásainak megfelel. A rendszer üzembiztos, hatékony, és korszerű lesz | I15: Egervár | J15: =SUM(O15:AC15) -> 600 | L15: 43466 | M15: 43830 | N15: rövid | O15: 600
C16: Egervár | D16: törött bekötések javítása (elkülönített forrás) | E16: Az üzemelő viziközmű technológiailag elavult, üzemeltetése, és javítása már nem gazdaságos. Jelenleg a piacon magasabb műszaki tartalmak érhetőek el | F16: A viziközmű rendszer hatékonyságának növelése, az üzemeltetési költségek szinten tartása miatt szükséges | G16: A beavatkozás után egy hatékonyan működő viziközmű elemet kapunk, mely a kor elvárásainak megfelel. A rendszer üzembiztos, hatékony, és korszerű lesz | I16: Egervár | J16: =SUM(O16:AC16) -> 471 | L16: 43466 | M16: 43830 | N16: rövid | O16: 471
C17: Egervár | D17: Idegenvíz kizárása a csatornadiagnosztikai vizsgálat és a helyszíni ellenőrzés alapján¹ | E17: Az üzemelő viziközmű technológiailag elavult, üzemeltetése, és javítása már nem gazdaságos. Jelenleg a piacon magasabb műszaki tartalmak érhetőek el | F17: A viziközmű rendszer hatékonyságának növelése, az üzemeltetési költségek szinten tartása miatt szükséges | G17: A beavatkozás után egy hatékonyan működő viziközmű elemet kapunk, mely a kor elvárásainak megfelel. A rendszer üzembiztos, hatékony, és korszerű lesz | I17: Egervár | J17: =SUM(O17:AC17) -> 4500 | L17: 43831 | M17: 45291 | N17: közép | P17: 1125 | Q17: 1125 | R17: 1125 | S17: 1125
C18: Egervár | D18: Idegenvíz kizárása a csatornadiagnosztikai vizsgálat és a helyszíni ellenőrzés alapján¹ | E18: Az üzemelő viziközmű technológiailag elavult, üzemeltetése, és javítása már nem gazdaságos. Jelenleg a piacon magasabb műszaki tartalmak érhetőek el | F18: A viziközmű rendszer hatékonyságának növelése, az üzemeltetési költségek szinten tartása miatt szükséges | G18: A beavatkozás után egy hatékonyan működő viziközmű elemet kapunk, mely a kor elvárásainak megfelel. A rendszer üzembiztos, hatékony, és korszerű lesz | I18: Egervár | J18: =SUM(O18:AC18) -> 11250 | L18: 45292 | M18: 48944 | N18: hosszú | T18: 1125 | U18: 1125 | V18: 1125 | W18: 1125 | X18: 1125 | Y18: 1125 | Z18: 1125 | AA18: 1125 | AB18: 1125 | AC18: 1125
C19: Egervár | D19: Gravitációs csatorna NA 150 rekonstrukció | E19: Az üzemelő viziközmű technológiailag elavult, üzemeltetése, és javítása már nem gazdaságos. Jelenleg a piacon magasabb műszaki tartalmak érhetőek el | F19: A viziközmű rendszer hatékonyságának növelése, az üzemeltetési költségek szinten tartása miatt szükséges | G19: A beavatkozás után egy hatékonyan működő viziközmű elemet kapunk, mely a kor elvárásainak megfelel. A rendszer üzembiztos, hatékony, és korszerű lesz | I19: Egervár | J19: =SUM(O19:AC19) -> 7200 | L19: 43831 | M19: 45291 | N19: közép | P19: 2400 | Q19: 2400 | S19: 2400
C20: Egervár | D20: Gravitációs csatorna NA 150 rekonstrukció | E20: Az üzemelő viziközmű technológiailag elavult, üzemeltetése, és javítása már nem gazdaságos. Jelenleg a piacon magasabb műszaki tartalmak érhetőek el | F20: A viziközmű rendszer hatékonyságának növelése, az üzemeltetési költségek szinten tartása miatt szükséges | G20: A beavatkozás után egy hatékonyan működő viziközmű elemet kapunk, mely a kor elvárásainak megfelel. A rendszer üzembiztos, hatékony, és korszerű lesz | I20: Egervár | J20: =SUM(O20:AC20) -> 9600 | L20: 45658 | M20: 48579 | N20: hosszú | U20: 2400 | W20: 2400 | Y20: 2400 | AA20: 2400
C21: Egervár | D21: Gravitációs csatorna NA200 rekonstrukció | E21: Az üzemelő viziközmű technológiailag elavult, üzemeltetése, és javítása már nem gazdaságos. Jelenleg a piacon magasabb műszaki tartalmak érhetőek el | F21: A viziközmű rendszer hatékonyságának növelése, az üzemeltetési költségek szinten tartása miatt szükséges | G21: A beavatkozás után egy hatékonyan működő viziközmű elemet kapunk, mely a kor elvárásainak megfelel. A rendszer üzembiztos, hatékony, és korszerű lesz | I21: Egervár | J21: =SUM(O21:AC21) -> 10000 | L21: 43831 | M21: 44926 | N21: közép | P21: 5000 | R21: 5000
