Workbook
Name _GoBack: '2'!#REF!

Sheet 1
B1: 2021. évi eredeti előirányzat | C1: Módosítás összege | D1: 2021. évi módosított előirányzat | F1: Megnevezés | G1: 2021. évi eredeti előirányzat | H1: Módosítás összege | I1: 2021. évi módosított előirányzat
A2: I. Működési célú bevételek | F2: I. Működési célú kiadások
A3: 1.) Működési célú támogatások államháztartáson belülről | B3: 6090370 | C3: 1513862 | D3: =SUM(B3:C3) -> 7604232 | F3: 1.) Költségvetési szervek kiadásai | G3: 8235838 | H3: 365605 | I3: =SUM(G3:H3) -> 8601443
A4: 2.) Közhatalmi bevételek | B4: 4499747 | C4: 16000 | D4: =SUM(B4:C4) -> 4515747 | F4: 2.) Önkormányzat szakosztályainak kiadásai | G4: 8167142 | H4: 741013 | I4: =SUM(G4:H4) -> 8908155
A5: 3.) Működési bevételek | B5: 2392621 | C5: 92210 | D5: =SUM(B5:C5) -> 2484831 | F5: 3.Egyéb működési célú kiadások (költségvetési szervek és tartalék nélkül) | G5: 3145847 | H5: 287508 | I5: =SUM(G5:H5) -> 3433355
A6: 4.) Működési célú átvett pénzeszközök | C6: 49816 | D6: =SUM(B6:C6) -> 49816 | F6: 4.) Céltartalékból működésre | G6: 622263 | H6: 128901 | I6: =SUM(G6:H6) -> 751164
A7: Költségvetési műk. bevételei összesen: | B7: =SUM(B3+B4+B5+B6) -> 12982738 | C7: =SUM(C3+C4+C5+C6) -> 1671888 | D7: =SUM(B7:C7) -> 14654626 | F7: 5.) Általános tartalék | G7: 10000 | I7: =SUM(G7:H7) -> 10000
A8: Finanszírozási bevételek | D8: =SUM(B8:C8) -> 0 | F8: Költségvetési műk. kiadásai összesen: | G8: =SUM(G2:G7) -> 20181090 | H8: =SUM(H2:H7) -> 1523027 | I8: =SUM(G8:H8) -> 21704117
A9: 5.) Előző év költségvetési maradványának igénybevétele | B9: 7367381 | C9: -148861 | D9: =SUM(B9:C9) -> 7218520 | F9: 6.) Egyéb finanszírozási kiadás (államháztartáson belüli megelőlegezés visszafizetése) | G9: 169029 | I9: =SUM(G9:H9) -> 169029
A10: 6.) Államháztartáson belüli megelőlegezések | D10: =SUM(B10:C10) -> 0 | F10: 7.) Államháztartáson belüli megelőlegezés visszafizetése | I10: =SUM(G10:H10) -> 0
A11: MŰKÖDÉSI CÉLÚ BEVÉTELEK ÖSSZ: | B11: =SUM(B7:B10) -> 20350119 | C11: =SUM(C7:C10) -> 1523027 | D11: =SUM(B11:C11) -> 21873146 | F11: MŰKÖDÉSI CÉLÚ KIADÁSOK ÖSSZ.: | G11: =SUM(G8:G9) -> 20350119 | H11: =SUM(H8:H10) -> 1523027 | I11: =SUM(G11:H11) -> 21873146
A12: II. Felhalmozási célú bevételek | F12: II. Felhalmozási célú kiadások
A13: 1.) Felhalmozási célú támogatások államháztartáson belülről | B13: 10507163 | C13: 8154519 | D13: =SUM(B13:C13) -> 18661682 | F13: 1.) Egyéb felhalmozási célú kiadások | G13: 113334 | H13: 23919 | I13: =SUM(G13:H13) -> 137253
A14: 2.) Felhalmozási bevételek | B14: 200441 | C14: 110962 | D14: =SUM(B14:C14) -> 311403 | F14: 2.) Beruházás | G14: 28743625 | H14: 5728157 | I14: =SUM(G14:H14) -> 34471782
A15: 3.) Felhalmozási célú átvett pénzeszközök | B15: 134863 | C15: 81796 | D15: =SUM(B15:C15) -> 216659 | F15: ebből: költségvetési szervek | G15: 191139 | H15: 110204 | I15: =SUM(G15:H15) -> 301343
A16: 4.) Fejlesztéshez működési jellegű bevétel (HD, áfa visszaigénylés) | B16: 3423124 | C16: 139833 | D16: =SUM(B16:C16) -> 3562957 | F16: 3.) Felújítás | G16: 3618638 | H16: 2864539 | I16: =SUM(G16:H16) -> 6483177
A17: Költségvetési felhalm. bevételei összesen: | B17: =SUM(B13:B16) -> 14265591 | C17: =SUM(C13:C16) -> 8487110 | D17: =SUM(D13:D16) -> 22752701 | F17: ebből: költségvetési szervek | G17: 22485 | H17: 16260 | I17: =SUM(G17:H17) -> 38745
A18: Finanszírozási bevételek | F18: 4.) Céltartalék | G18: 29385 | H18: 631 | I18: =SUM(G18:H18) -> 30016
A19: 5.) Hitel felvétel | B19: 34841 | D19: =SUM(B19:C19) -> 34841 | F19: 5.)Fejlesztési hitel kamata | G19: 35142 | I19: =SUM(G19:H19) -> 35142
A20: 6.) Előző év költségvetési maradványának igénybevétele | B20: 3775789 | C20: 440136 | D20: =SUM(B20:C20) -> 4215925 | F20: Költségvetési felh.célú kiadásai összesen: | G20: =SUM(G13+G14+G16+G18+G19) -> 32540124 | H20: =SUM(H13+H14+H16+H18+H19) -> 8617246 | I20: =SUM(G20:H20) -> 41157370
A21: 7.) Forgatási célú értékpapír beváltás | B21: 14600437 | C21: 15000 | D21: =SUM(B21:C21) -> 14615437 | F21: Finanszírozási kiadások
F22: 6.) Hitel- és kölcsön törlesztések | G22: 111534 | I22: =SUM(G22:H22) -> 111534
F23: 7.) Lízing kötelezettség | G23: 25000 | H23: 325000 | I23: =SUM(G23:H23) -> 350000
A24: FELHALMOZÁSI CÉLÚ BEVÉTELEK ÖSSZESEN: | B24: =SUM(B17:B23) -> 32676658 | C24: =SUM(C17:C23) -> 8942246 | D24: =SUM(D17:D23) -> 41618904 | F24: FELHALMOZÁSI CÉLÚ KIADÁSOK ÖSSZESEN: | G24: =SUM(G20:G23) -> 32676658 | H24: =SUM(H20:H23) -> 8942246 | I24: =SUM(G24:H24) -> 41618904
A25: ÖNKORMÁNYZAT ÖSSZESEN: | B25: =SUM(B11+B24) -> 53026777 | C25: =SUM(C11+C24) -> 10465273 | D25: =SUM(B25:C25) -> 63492050 | F25: ÖNKORMÁNYZAT ÖSSZESEN: | G25: =SUM(G11+G24) -> 53026777 | H25: =SUM(H11+H24) -> 10465273 | I25: =SUM(G25:H25) -> 63492050
A26: 8.) Forgatási célú értékpapír beváltás projektekhez kapcsolódóan | B26: 10000000 | C26: 1500000 | D26: =SUM(B26:C26) -> 11500000 | F26: 8.) Forgatási célú értékpapír vásárlás hazai forrásból átmenetileg szabad pénzeszközökből | G26: 10000000 | H26: 1500000 | I26: =SUM(G26:H26) -> 11500000
A27: MINDÖSSZESEN: | B27: =SUM(B25:B26) -> 63026777 | C27: =SUM(C25:C26) -> 11965273 | D27: =SUM(B27:C27) -> 74992050 | F27: MINDÖSSZESEN: | G27: =SUM(G25:G26) -> 63026777 | H27: =SUM(H25:H26) -> 11965273 | I27: =SUM(G27:H27) -> 74992050

Sheet 2
A1: Rovat száma | B1: Megnevezés | C1: 2021. évi eredeti előirányzat | D1: Módosítás összege | E1: 2021. évi módosított előirányzat
A2: B | B2: BEVÉTELEK
A3: B1 | B3: Működési célú támogatások államháztartáson belülről
A4: B11 | B4: Helyi önkormányzatok általános működésének és ágazati feladatainak állami támogatása | C4: 4225717 | D4: 86462 | E4: =SUM(C4:D4) -> 4312179
A5: B12 | B5: Elvonások és befizetések | D5: 47257 | E5: =SUM(C5:D5) -> 47257
A6: B14 | B6: Működési célú visszatérítendő támogatások, kölcsönök visszatérülése államháztartáson belülről | C6: 43350 | E6: =SUM(C6:D6) -> 43350
A7: B16 | B7: Egyéb működési célú támogatások bevételei államháztartáson belülről | C7: 1821303 | D7: 1380143 | E7: =SUM(C7:D7) -> 3201446
B8: Működési célú támogatások államháztartáson belülről összesen | C8: =SUM(C4:C7) -> 6090370 | D8: =SUM(D4:D7) -> 1513862 | E8: =SUM(C8:D8) -> 7604232
A9: B2 | B9: Felhalmozási célú támogatások államháztartáson belülről
A10: B21 | B10: Felhalmozási célú önkormányzati támogatás | D10: 647918 | E10: =SUM(C10:D10) -> 647918
A11: B25 | B11: Egyéb felhalmozási célú támogatások bevételei államháztartáson belülről | C11: 10507163 | D11: 7506601 | E11: =SUM(C11:D11) -> 18013764
B12: Felhalmozási célú támogatások államháztartáson belülről összesen | C12: =SUM(C10:C11) -> 10507163 | D12: =SUM(D10:D11) -> 8154519 | E12: =SUM(C12:D12) -> 18661682
A13: B3 | B13: Közhatalmi bevételek
A14: B34 | B14: Vagyoni típusú adók (építményadó, magánszemélyek kommunális adója) | C14: 1091747 | E14: =SUM(C14:D14) -> 1091747
A15: B35 | B15: Termékek és szolgáltatások adói
A16: B351 | B16: Értékesítési és forgalmi adók (iparűzési adó) | C16: 3400000 | E16: =SUM(C16:D16) -> 3400000
A17: B355 | B17: Egyéb áruhasználati és szolgáltatási adók ( idegenforgalmi adó) | D17: 16000 | E17: =SUM(C17:D17) -> 16000
A18: B36 | B18: Egyéb közhatalmi bevételek (különféle bírságok, talajterhelési díj) | C18: 8000 | E18: =SUM(C18:D18) -> 8000
B19: Közhatalmi bevételek összesen | C19: =SUM(C13:C18) -> 4499747 | D19: =SUM(D13:D18) -> 16000 | E19: =SUM(C19:D19) -> 4515747
A20: B4 | B20: Működési bevételek | C20: 5815745 | D20: 232043 | E20: =SUM(C20:D20) -> 6047788
A21: B5 | B21: Felhalmozási bevételek
A22: B52 | B22: Ingatlanok értékesítése | C22: 200441 | D22: 110962 | E22: =SUM(C22:D22) -> 311403
A23: B53 | B23: Egyéb tárgyi eszközök értékesítése | E23: =SUM(C23:D23) -> 0
B24: Felhalmozási bevételek összesen | C24: =SUM(C22:C23) -> 200441 | D24: =SUM(D22:D23) -> 110962 | E24: =SUM(C24:D24) -> 311403
A25: B6 | B25: Működési célú átvett pénzeszközök | D25: 49816 | E25: =SUM(C25:D25) -> 49816
A26: B7 | B26: Felhalmozási célú átvett pénzeszközök
A27: B74 | B27: Felhalmozási célú visszatérítendő támogatások, kölcsönök visszatérülése államháztartáson kívülről | C27: 3000 | E27: =SUM(C27:D27) -> 3000
A28: B75 | B28: Egyéb felhalmozási célú átvett pénzeszközök | C28: 131863 | D28: 81796 | E28: =SUM(C28:D28) -> 213659
B29: Felhalmozási célú átvett pénzeszközök összesen | C29: =SUM(C27:C28) -> 134863 | D29: =SUM(D27:D28) -> 81796 | E29: =SUM(C29:D29) -> 216659
A30: B1-B7 | B30: Költségvetési bevételek | C30: =SUM(C8+C12+C19+C20+C24+C25+C29) -> 27248329 | D30: =SUM(D8+D12+D19+D20+D24+D25+D29) -> 10158998 | E30: =SUM(C30:D30) -> 37407327
A31: B8 | B31: Finanszírozási bevételek
A32: B81 | B32: Belföldi finanszírozás bevételei
A33: B811 | B33: Hitel-, kölcsönfelvétel államháztartáson kívülről | C33: 34841 | E33: =SUM(C33:D33) -> 34841
A34: B8121 | B34: Forgatási célú belföldi értékpapírok beváltása, értékesítése | C34: 24600437 | D34: 1515000 | E34: =SUM(C34:D34) -> 26115437
A35: B813 | B35: Maradvány igénybevétele | C35: 11143170 | D35: 291275 | E35: =SUM(C35:D35) -> 11434445
A36: B814 | B36: Államháztartáson belüli megelőlegezések | E36: =SUM(C36:D36) -> 0
B37: Finanszírozási bevételek összesen | C37: =SUM(C33:C35) -> 35778448 | D37: =SUM(D33:D36) -> 1806275 | E37: =SUM(E33:E36) -> 37584723
B38: BEVÉTELEK ÖSSZESEN: | C38: =SUM(C30+C37) -> 63026777 | D38: =SUM(D30+D37) -> 11965273 | E38: =SUM(C38:D38) -> 74992050

Sheet 3
B1: Mutató | D1: 2021. évi eredeti ei. | F1: Mutató | H1: 2021. évi módosított ei.
A2: Hozzájárulás jogcíme | B2: lakosságszám | C2: mutató | D2: Normatíva Ft/fő | E2: Hozzájárulás ezer Ft-ban | F2: lakosságszám | G2: mutató | H2: Normatíva Ft/fő | I2: Hozzájárulás ezer Ft-ban | J2: Forintban
A3: 2. melléklet szerinti jogcímek
A4: 1.1. Települési önkormányzatok működésének általános támogatása
A5: 1.1.1.1. önkormányzati hivatal működésének támogatása - elismert hivatali létszám alapján | C5: 130.56 | D5: 5475000 | E5: 714816 | G5: 130.56 | H5: 5492000 | I5: 717035 | J5: 717035520
A6: Település-üzemeltetéshez kapcsolódó feladataellátás támogatása
A7: 1.1.1.2. zöldterület-gazdálkodás támogatása (hektár) | C7: 2369.2 | D7: 25200 | E7: 59704 | G7: 2369.2 | H7: 25200 | I7: 59704 | J7: 59703840
A8: 1.1.1.3. közvilágítás támogatása (km) | C8: 402.8 | D8: 415000 | E8: 167162 | G8: 402.8 | H8: 415000 | I8: 167162 | J8: 167162000
A9: 1.1.1.4. köztemető támogatása (m²) | C9: 323446 | D9: 70 | E9: 22641 | G9: 323446 | H9: 70 | I9: 22641 | J9: 22641220
A10: 1.1.1.5. közutak támogatása (km) | C10: 219.19 | D10: 470000 | E10: 103022 | G10: 219.19 | H10: 480000 | I10: 105214 | J10: 105213601
A11: 1.1.1.6. egyéb önkormányzati feladatok támogatása | B11: 56959 | D11: 2700 | E11: 153789 | F11: 56959 | H11: 2700 | I11: 153789 | J11: 153789300
A12: 1.1.1.7. Lakott külterülettel kapcsolatos feladatok támogatása | B12: 4236 | D12: 2550 | E12: 10802 | F12: 4236 | H12: 2550 | I12: 10802 | J12: 10801800
A13: 1.1.2.Nem közművel összegyűjtött háztartási szennyvíz ártalmatlanítása (köbméter) | E13: 100 | I13: 100 | J13: 100000
A14: 1.2. Óvodaműködtetési támogatás
A15: 1.2.1.1. Óvodaműködtetési támogatás | C15: 1529.7 | D15: 97400 | E15: 148993 | G15: 1528.3 | H15: 97400 | I15: 148856 | J15: 148856420
A16: 1.2.2.1. Az óvodában foglalkoztatott pedagógusok átlagbéralapú támogatása | C16: 137.9 | D16: 4861500 | E16: 670401 | G16: 137.8 | H16: 4861500 | I16: 669915 | J16: 669914700
A17: 1.2.3. Kiegészítő támogatás az óvodapedagógusok minősítéséből adódó többletkiadásokhoz
A18: 1.2.3.1.1.1.1. Pedagógus II. kategóriába sorolt pedagógusok kiegészítő támogatása | C18: 39.3 | D18: 432000 | E18: 16977 | G18: 39.3 | H18: 432000 | I18: 16977 | J18: 16977600
A19: 1.2.3.1.1.1.2. Pedagógus II. kategóriába sorolt óvodapedagógusok kiegészítő támogatása, akik a minősítés 2021. jan-1-jei átsorolással szerezték meg | D19: 363642 | G19: 4 | H19: 363642 | I19: 1584 | J19: 1584000
A20: 1.2.3.1.1.1.2. Mesterpedagógus, kutatótanár kategóriába sorolt pedagógusok kiegészítő támogatása | C20: 2 | D20: 1611000 | E20: 3222 | G20: 2 | H20: 1611000 | I20: 3222 | J20: 3222000
A21: 1.2.5.1.1. Az óvodában foglalkoztatott pedagógusok nevelőmunkáját közvetlenük segítők átlagbéralapú támogatása | C21: 90 | D21: 2919000 | E21: 262710 | G21: 90 | H21: 3318000 | I21: 298620 | J21: 298620000
A22: 1.3.2.Szociális és gyermekjóléti alapszolgáltatás feladatai
A23: 1.3.2.1. Család és gyermekjóléti szolgálat | C23: 8.6 | D23: 4100000 | E23: 35260 | G23: 8.6 | H23: 4256200 | I23: 36603 | J23: 36603320
A24: 1.3.2.2. Család- és gyermekjóléti központ ( járáshoz tartozó összes településre) | C24: 23.1 | D24: 3650000 | E24: 84315 | G24: 23.1 | H24: 3828555 | I24: 88440 | J24: 88439621
A25: 1.3.2.3.2. Szociális étkeztetés - társulás által történő feladatellátás | C25: 325 | D25: 72996 | E25: 23724 | G25: 325 | H25: 74328 | I25: 24157 | J25: 24156600
A26: 1.3.2.4. Házi segítségnyújtás
A27: 1.3.2.4.1. Szociális segítés | C27: 2 | D27: 25000 | E27: 50 | G27: 2 | H27: 25000 | I27: 50 | J27: 50000
A28: 1.3.2.4.3. Személyi gondozás - társulás által történő feladatellátás | C28: 53 | D28: 471900 | E28: 25011 | G28: 53 | H28: 491550 | I28: 26052 | J28: 26052150
A29: 1.3.2.6. Időskorúak nappali intézményi ellátása társulás által történő feladatellátás | C29: 55 | D29: 325500 | E29: 17902 | G29: 55 | H29: 336285 | I29: 18496 | J29: 18495675
A30: 1.3.2.8.2. Demens személyek nappali intézményi ellátása - társulás által történő feladatellátás | C30: 4 | D30: 805200 | E30: 3221 | G30: 4 | H30: 821200 | I30: 3285 | J30: 3284800
A31: 1.3.2.9.2. Pszichiátriai betegek nappali intézményi ellátása - társulás által történő feladatellátás | C31: 19 | D31: 450000 | E31: 8550 | G31: 19 | H31: 458580 | I31: 8713 | J31: 8713020
A32: 1.3.2.10.2. Szenvedélybetegek nappali intézményi ellátása - társulás által történő feladatellátás | C32: 9 | D32: 450000 | E32: 4050 | G32: 9 | H32: 458580 | I32: 4127 | J32: 4127220
A33: 1.3.3. Bölcsőde, mini bölcsőde támogatása
A34: 1.3.3.1. Bölcsődei bértámogatás
A35: 1.3.3.1.1. Felsőfokú végzettségű kisgyermeknevelők, szaktanácsadók bértámogatása | C35: 25 | D35: 5100000 | E35: 127500 | G35: 25 | H35: 5100000 | I35: 127500 | J35: 127500000
A36: 1.3.3.1.2. Bölcsődei dajkák,középfokú végzettségű kisgyermeknevelők, szaktanácsadók bértámogatása | C36: 44.4 | D36: 4260000 | E36: 189144 | G36: 50 | H36: 4260000 | I36: 213000 | J36: 213000000
A37: 1.3.3.2. Bölcsődei üzemeltetési támogatás | E37: 86299 | I37: 47009 | J37: 47009000
A38: 1.3.4. A települési önk. által biztosított egyes szociális szakosított ellátások, valamint a gyermekek átmeneti gondozásával kapcsolatos feladataok támogatása
A39: 1.3.4.1 Bértámogatása | C39: 34.2 | D39: 4234040 | E39: 144804 | G39: 34.2 | H39: 4442000 | I39: 151916 | J39: 151916400
A40: 1.3.4.2. Intézmény üzemeltetési támogatás | E40: 22914 | I40: 24242 | J40: 24242000
A41: 1.4.1. Intézményi gyermekétkeztetés támogatása
A42: 1.4.1.1. Intézményi gyermekétkeztetés bértámogatás | C42: 110.1 | D42: 2376000 | E42: 261597 | G42: 89 | H42: 2430000 | I42: 216270 | J42: 216270000
A43: 1.4.1.2. Intézményi gyermekétkeztetés - üzemeltetési támogatás | E43: 327231 | I43: 321802 | J43: 321801721
A44: 1.4.2. Szünidei étkeztetés támogatása | C44: 1960 | D44: 285 | E44: 559 | G44: 1966 | H44: 285 | I44: 560 | J44: 560310
A45: 1.5. A települési önkormányzatok kulturális feladatainak támogatása
A46: 1.5.1. Megyei jogú városok közművelődési feladatainak támogatása | B46: 56959 | D46: 950 | E46: 54111 | F46: 56959 | H46: 961 | I46: 54738 | J46: 54737599
A47: 1.5.5. Megyei hatókörű városi könyvtár kistelepülési könyvtári célú kiegészítő támogatása | E47: 175476 | I47: 175476 | J47: 175476000
A48: 3. melléklet: Helyi önkormányzatok kiegészítő támogatásai
A49: 2. 2.22 Szociális ágazati összevont pótlék és egészségügyi kiegészítő pótlék | I49: 100961 | J49: 100960456
A50: 2.2.3. Óvodai és iskolai szociális segítő tevékenység támogatása | E50: 54460 | I50: 54460 | J50: 54460453
A51: 2.3.2.1. Megyei hatókörű városi múzeumok feladatainak támogatása ( Göcseji Múzeum) | E51: 110200 | I51: 110200 | J51: 110200000
A52: 2.3.2.2. Megyei hatáskörű városi könyvtárak feladatainak támogatása ( (Deák Ferenc Megyei és Városi Könyvtár) | E52: 135000 | I52: 135000 | J52: 135000000
A53: 2.3.2.4. Könyvtári célú érdekeltségnövelő támogatás | I53: 677 | J53: 677000
A54: 3.1. Vis maior támogatás | I54: 7901 | J54: 7901000
A55: Elszámolásból származó bevétel | I55: 40080 | J55: 40079730
A56: Önkormányzati feladatellátást szolgáló fejlesztése | I56: 10017 | J56: 10016933
A57: Kormányzati támogatás (HIPA ellentételezés) | I57: 630000 | J57: 630000000
A58: Állami hozzájárulás összesen: | E58: =SUM(E5:E57) -> 4225717 | I58: =SUM(I5:I57) -> 5007353 | J58: =SUM(J5:J57) -> 5007353009

Sheet 4
A1: Rovat száma | B1: Megnevezés | C1: 2021. évi eredeti előirányzat | D1: Módosítás összege | E1: 2021. évi módosított előirányzat
B2: Költségvetési kiadások
A3: K1 | B3: Személyi juttatások | C3: ='[1]6'!D17 -> 4845616 | D3: =171265+táj.2!G771 -> 239534 | E3: =SUM(C3:D3) -> 5085150
A4: K2 | B4: Munkaadókat terhelő járulékok és szociális hj. adó | C4: ='[1]6'!E17 -> 845508 | D4: =26350+táj.2!H771 -> 36985 | E4: =SUM(C4:D4) -> 882493
A5: K3 | B5: Dologi kiadások | C5: ='[1]6'!F17 -> 10577885 | D5: =239781+táj.2!I771 -> 730884 | E5: =SUM(C5:D5) -> 11308769
A6: K4 | B6: Ellátottak pénzbeli juttatásai | C6: ='[1]6'!G17 -> 99170 | D6: =492+táj.2!J771 -> -158 | E6: =SUM(C6:D6) -> 99012
A7: K5 | B7: Egyéb működési célú kiadások | C7: ='[1]6'!H17 -> 3848053 | D7: =431054+táj.2!K771 -> 515782 | E7: =SUM(C7:D7) -> 4363835
B8: Működési költségvetés összesen: | C8: =SUM(C3:C7) -> 20216232 | D8: =SUM(D3:D7) -> 1523027 | E8: =SUM(E3:E7) -> 21739259
A9: K6 | B9: Beruházások | C9: ='[1]6'!I17 -> 28753625 | D9: =-2397947+táj.2!L771 -> 5739442 | E9: =SUM(C9:D9) -> 34493067
A10: K7 | B10: Felújítások | C10: ='[1]6'!J17 -> 3638023 | D10: =2851416+táj.2!M771 -> 2853885 | E10: =SUM(C10:D10) -> 6491908
A11: K8 | B11: Egyéb felhalmozási célú kiadások | C11: ='[1]6'!K17 -> 113334 | D11: =16833+táj.2!N771 -> 23919 | E11: =SUM(C11:D11) -> 137253
B12: Felhalmozási költségvetés összesen: | C12: =SUM(C9:C11) -> 32504982 | D12: =SUM(D9:D11) -> 8617246 | E12: =SUM(C12:D12) -> 41122228
A13: K1-K8 | B13: Költségvetési kiadások összesen: | C13: =SUM(C8+C12) -> 52721214 | D13: =SUM(D8+D12) -> 10140273 | E13: =SUM(C13:D13) -> 62861487
A14: K9 | B14: Finanszírozási kiadások | C14: ='[1]6'!L17+'[1]6'!M17 -> 10305563 | D14: =1825000+táj.2!O771+táj.2!P771 -> 1825000 | E14: =SUM(C14:D14) -> 12130563
B15: Önkormányzat kiadásai összesen | C15: =SUM(C14+C13) -> 63026777 | D15: =SUM(D14+D13) -> 11965273 | E15: =SUM(C15:D15) -> 74992050

Sheet 5
A1: Cím szám | B1: Alcím szám | C1: Megnevezés | D1: Költségvetési bevételek | K1: Finanszírozási bevételek | N1: Összesen
D2: Működési célú támogatások áht-n belülről | E2: Felhalmozási célú támogatások áht-n belülről | F2: Közhatalmi bevételek | G2: Működési bevételek | H2: Felhalmozási bevételek | I2: Működési célú átvett pénzeszközök | J2: Felhalmozási célú átvett pénzeszközök | K2: Hitel-, kölcsönfelvétel áht-n kívülről | L2: Maradvány igénybevétele | M2: Egyéb finanszírozási bevétel
A3: 1 | C3: Önkormányzat
B4: 12 | C4: Szociális és igazgatási feladatok | D4: ='6'!E10 -> 0 | E4: ='6'!F10 -> 0 | F4: ='6'!G10 -> 0 | G4: ='6'!H10 -> 9906 | H4: ='6'!I10 -> 0 | I4: ='6'!J10 -> 243 | J4: ='6'!K10 -> 0 | K4: ='6'!L10 -> 0 | ... M4: ='6'!N10 -> 0 | N4: =SUM(D4:M4) -> 10149
B5: 13 | C5: Humánigazgatási feladatok | D5: ='6'!E34 -> 545726 | E5: ='6'!F34 -> 9000 | F5: ='6'!G34 -> 0 | G5: ='6'!H34 -> 6007 | H5: ='6'!I34 -> 0 | I5: ='6'!J34 -> 3611 | J5: ='6'!K34 -> 0 | K5: ='6'!L34 -> 0 | ... M5: ='6'!N34 -> 0 | N5: =SUM(D5:M5) -> 584299
B6: 14 | C6: Főépítészi feladatok | D6: ='6'!E39 -> 0 | E6: ='6'!F39 -> 0 | F6: ='6'!G39 -> 0 | G6: ='6'!H39 -> 5645 | H6: ='6'!I39 -> 0 | I6: ='6'!J39 -> 0 | J6: ='6'!K39 -> 0 | K6: ='6'!L39 -> 0 | ... M6: ='6'!N39 -> 0 | N6: =SUM(D6:M6) -> 12158
B7: 15 | C7: Városüzemelési felad. | D7: ='6'!E57 -> 0 | E7: ='6'!F57 -> 2499 | F7: ='6'!G57 -> 0 | G7: ='6'!H57 -> 393119 | H7: ='6'!I57 -> 0 | I7: ='6'!J57 -> 0 | J7: ='6'!K57 -> 2000 | K7: ='6'!L57 -> 0 | ... M7: ='6'!N57 -> 0 | N7: =SUM(D7:M7) -> 421485
B8: 16 | C8: Városépítészeti feladatok | D8: ='6'!E112 -> 1529464 | E8: ='6'!F112 -> 17937015 | F8: ='6'!G112 -> 0 | G8: ='6'!H112 -> 3742721 | H8: ='6'!I112 -> 8794 | I8: ='6'!J112 -> 0 | J8: ='6'!K112 -> 131863 | K8: ='6'!L112 -> 34841 | ... M8: ='6'!N112 -> 14019850 | N8: =SUM(D8:M8) -> 44793570
B9: 17 | C9: Vagyonkez. feladatok | D9: ='6'!E140 -> 0 | E9: ='6'!F140 -> 0 | F9: ='6'!G140 -> 0 | G9: ='6'!H140 -> 476264 | H9: ='6'!I140 -> 302609 | I9: ='6'!J140 -> 0 | J9: ='6'!K140 -> 3000 | K9: ='6'!L140 -> 0 | ... M9: ='6'!N140 -> 45587 | N9: =SUM(D9:M9) -> 925476
B10: 18 | C10: Jogi és közig. feladatok | D10: ='6'!E148 -> 0 | E10: ='6'!F148 -> 0 | F10: ='6'!G148 -> 3000 | G10: ='6'!H148 -> 77213 | H10: ='6'!I148 -> 0 | I10: ='6'!J148 -> 0 | J10: ='6'!K148 -> 0 | K10: ='6'!L148 -> 0 | ... M10: ='6'!N148 -> 0 | N10: =SUM(D10:M10) -> 80213
B11: 19 | C11: Pénzügyi lebonyolítás | D11: ='6'!E178 -> 4450193 | E11: ='6'!F178 -> 647918 | F11: ='6'!G178 -> 4512747 | G11: ='6'!H178 -> 106285 | H11: ='6'!I178 -> 0 | I11: ='6'!J178 -> 23400 | J11: ='6'!K178 -> 500 | K11: ='6'!L178 -> 0 | ... M11: ='6'!N178 -> 12050000 | N11: =SUM(D11:M11) -> 24865670
B12: 22 | C12: Polgármesteri Kabinet | D12: ='6'!E187 -> 190 | E12: ='6'!F187 -> 0 | F12: ='6'!G187 -> 0 | G12: ='6'!H187 -> 8 | H12: ='6'!I187 -> 0 | I12: ='6'!J187 -> 17564 | J12: ='6'!K187 -> 79046 | K12: ='6'!L187 -> 0 | ... M12: ='6'!N187 -> 0 | N12: =SUM(D12:M12) -> 96808
C13: Önkormányzat összesen költségvetési szervek nélkül | D13: =SUM(D4:D12) -> 6525573 | E13: =SUM(E4:E12) -> 18596432 | F13: =SUM(F4:F12) -> 4515747 | G13: =SUM(G4:G12) -> 4817168 | H13: =SUM(H4:H12) -> 311403 | I13: =SUM(I4:I12) -> 44818 | J13: =SUM(J4:J12) -> 216409 | K13: =SUM(K4:K12) -> 34841 | ... M13: =SUM(M4:M12) -> 26115437 | N13: =SUM(D13:M13) -> 71789828
A14: 2 | C14: Költségvetési szervek | D14: ='6'!E189 -> 1078659 | E14: ='6'!F189 -> 65250 | F14: ='6'!G189 -> 0 | G14: ='6'!H189 -> 1230620 | H14: ='6'!I189 -> 0 | I14: ='6'!J189 -> 4998 | J14: ='6'!K189 -> 250 | L14: ='6'!M189 -> 822445 | N14: =SUM(D14:M14) -> 3202222
C15: Önkormányzat összesen: | D15: =SUM(D13:D14) -> 7604232 | E15: =SUM(E13:E14) -> 18661682 | F15: =SUM(F13:F14) -> 4515747 | G15: =SUM(G13:G14) -> 6047788 | H15: =SUM(H13:H14) -> 311403 | I15: =SUM(I13:I14) -> 49816 | J15: =SUM(J13:J14) -> 216659 | K15: =SUM(K13:K14) -> 34841 | ... M15: =SUM(M13:M14) -> 26115437 | N15: =SUM(D15:M15) -> 74992050

Sheet 6
A1: Cím szám | B1: Alcím szám | C1: Megnevezés | D1: Tervezési alapegység | E1: Költségvetési bevételek | L1: Finanszírozási bevételek | O1: Összesen:
E2: Működési célú támogatások áht-n belülről | F2: Felhalmozási célú támogatások áht-n belülről | G2: Közhatalmi bevételek | H2: Működési bevételek | I2: Felhalmozási bevételek | J2: Működési célú átvett pénzeszközök | K2: Felhalmozási célú átvett pénzeszközök | L2: Hitel-, kölcsönfelvétel áht-n kívülről | M2: Maradvány igénybevétele | N2: Egyéb finanszírozási bevétel
A3: 1 | C3: Önkormányzat
A4: 1 | B4: 1 | C4: Szakosztályok
A5: 1 | B5: 12 | C5: Szociális és igazgatási feladatok
C6: 011130 Önkorm. és önkorm. hivatal. jogalk. és ált.ig.tev.
C7: - Egerszeg kártya értékesítés | D7: 221 902 | E7: =0+táj.1!E7 -> 0 | F7: =0+táj.1!F7 -> 0 | G7: =0+táj.1!G7 -> 0 | H7: =9906+táj.1!H7 -> 9906 | I7: =0+táj.1!I7 -> 0 | J7: =0+táj.1!J7 -> 0 | K7: =0+táj.1!K7 -> 0 | L7: =0+táj.1!L7 -> 0 | M7: =0+táj.1!M7 -> 0 | N7: =0+táj.1!N7 -> 0 | O7: =SUM(H7:N7) -> 9906
C8: 109010 Szociális szolgáltatás igazgatása
C9: - "Lakhatásért" Közalapítvány támogatása | D9: 121517 | E9: =0+táj.1!E9 -> 0 | F9: =0+táj.1!F9 -> 0 | G9: =0+táj.1!G9 -> 0 | H9: =0+táj.1!H9 -> 0 | I9: =0+táj.1!I9 -> 0 | J9: =243+táj.1!J9 -> 243 | K9: =0+táj.1!K9 -> 0 | L9: =0+táj.1!L9 -> 0 | M9: =0+táj.1!M9 -> 0 | N9: =0+táj.1!N9 -> 0 | O9: =SUM(H9:N9) -> 243
C10: Szociális és igazgatási feladatok összesen: | E10: =SUM(E5:E9) -> 0 | F10: =SUM(F5:F9) -> 0 | G10: =SUM(G5:G9) -> 0 | H10: =SUM(H5:H9) -> 9906 | I10: =SUM(I5:I9) -> 0 | J10: =SUM(J5:J9) -> 243 | K10: =SUM(K5:K9) -> 0 | L10: =SUM(L5:L9) -> 0 | ... O10: =SUM(O5:O9) -> 10149
A11: 1 | B11: 13 | C11: Humánigazgatási feladatok
C12: 072112 Háziorvosi ügyeleti ellátás
C13: - körzeti orvosi ügyelet fenntartásához községek hozzájárulása | D13: 131705 | E13: =41101+táj.1!E13 -> 41101 | F13: =0+táj.1!F13 -> 0 | G13: =0+táj.1!G13 -> 0 | H13: =0+táj.1!H13 -> 0 | I13: =0+táj.1!I13 -> 0 | J13: =0+táj.1!J13 -> 0 | K13: =0+táj.1!K13 -> 0 | L13: =0+táj.1!L13 -> 0 | M13: =0+táj.1!M13 -> 0 | N13: =0+táj.1!N13 -> 0 | O13: =SUM(E13:N13) -> 41101
C14: 013350 Önk-i vagyonnal való gazdálkodáshoz kapcs.fa.
C15: - Zalaegerszegi Tourinform Iroda felújítása | D15: 134939 | E15: =0+táj.1!E15 -> 0 | F15: =0+táj.1!F15 -> 0 | G15: =0+táj.1!G15 -> 0 | H15: =0+táj.1!H15 -> 0 | I15: =0+táj.1!I15 -> 0 | J15: =0+táj.1!J15 -> 0 | K15: =0+táj.1!K15 -> 0 | L15: =0+táj.1!L15 -> 0 | M15: =19955+táj.1!M15 -> 19955 | N15: =0+táj.1!N15 -> 0 | O15: =SUM(E15:N15) -> 19955
C16: - Mihály deák szobor Göcseji Múzeum előtt | D16: 132913 | E16: =0+táj.1!E16 -> 0 | F16: =0+táj.1!F16 -> 7000 | G16: =0+táj.1!G16 -> 0 | H16: =0+táj.1!H16 -> 0 | I16: =0+táj.1!I16 -> 0 | J16: =0+táj.1!J16 -> 0 | K16: =0+táj.1!K16 -> 0 | L16: =0+táj.1!L16 -> 0 | ... N16: =0+táj.1!N16 -> 0 | O16: =SUM(E16:N16) -> 7000
C17: 101211 Fogyatékossággal élők tartós bentlakásos ellátása
C18: - Református Egyház által fizetendő bérleti díj | D18: 131703 | E18: =0+táj.1!E18 -> 0 | F18: =0+táj.1!F18 -> 0 | G18: =0+táj.1!G18 -> 0 | H18: =6007+táj.1!H18 -> 6007 | I18: =0+táj.1!I18 -> 0 | J18: =0+táj.1!J18 -> 0 | K18: =0+táj.1!K18 -> 0 | L18: =0+táj.1!L18 -> 0 | M18: =0+táj.1!M18 -> 0 | N18: =0+táj.1!N18 -> 0 | O18: =SUM(E18:N18) -> 6007
C19: - Idősek Otthona férőhely megváltás | D19: 121319 | E19: =0+táj.1!E19 -> 0 | F19: =0+táj.1!F19 -> 0 | G19: =0+táj.1!G19 -> 0 | H19: =0+táj.1!H19 -> 0 | I19: =0+táj.1!I19 -> 0 | J19: =1318+táj.1!J19 -> 1318 | K19: =0+táj.1!K19 -> 0 | L19: =0+táj.1!L19 -> 0 | M19: =0+táj.1!M19 -> 0 | N19: =0+táj.1!N19 -> 0 | O19: =SUM(E19:N19) -> 1318
C20: 018030 Támogatási célú finanszírozási műveletek
C21: - Hevesi Sándor Színház társműködtetöi támogatás | D21: 131508 | E21: =288500+táj.1!E21 -> 288500 | F21: =0+táj.1!F21 -> 0 | G21: =0+táj.1!G21 -> 0 | H21: =0+táj.1!H21 -> 0 | I21: =0+táj.1!I21 -> 0 | J21: =0+táj.1!J21 -> 0 | K21: =0+táj.1!K21 -> 0 | L21: =0+táj.1!L21 -> 0 | M21: =0+táj.1!M21 -> 0 | N21: =0+táj.1!N21 -> 0 | O21: =SUM(E21:N21) -> 288500
C22: - Griff Bábszínház társműködtetöi támogatás | D22: 131509 | E22: =65000+táj.1!E22 -> 65000 | F22: =0+táj.1!F22 -> 0 | G22: =0+táj.1!G22 -> 0 | H22: =0+táj.1!H22 -> 0 | I22: =0+táj.1!I22 -> 0 | J22: =0+táj.1!J22 -> 0 | K22: =0+táj.1!K22 -> 0 | L22: =0+táj.1!L22 -> 0 | M22: =0+táj.1!M22 -> 0 | N22: =0+táj.1!N22 -> 0 | O22: =SUM(E22:N22) -> 65000
C23: 074040 Fertőző megbetegedések megelőzése,járványügyi ellátás
C24: - járványügyi védekezésre | D24: 131716 | E24: =0+táj.1!E24 -> 0 | F24: =0+táj.1!F24 -> 0 | G24: =0+táj.1!G24 -> 0 | H24: =0+táj.1!H24 -> 0 | I24: =0+táj.1!I24 -> 0 | J24: =293+táj.1!J24 -> 293 | K24: =0+táj.1!K24 -> 0 | L24: =0+táj.1!L24 -> 0 | M24: =0+táj.1!M24 -> 0 | N24: =0+táj.1!N24 -> 0 | O24: =SUM(E24:N24) -> 293
C25: 094260 Hallgatói és oktatói ösztöndíjak, egyéb juttatások
C26: - MOL adomány | D26: 131845 | E26: =0+táj.1!E26 -> 0 | F26: =0+táj.1!F26 -> 0 | G26: =0+táj.1!G26 -> 0 | H26: =0+táj.1!H26 -> 0 | I26: =0+táj.1!I26 -> 0 | J26: =2000+táj.1!J26 -> 2000 | K26: =0+táj.1!K26 -> 0 | L26: =0+táj.1!L26 -> 0 | M26: =0+táj.1!M26 -> 0 | N26: =0+táj.1!N26 -> 0 | O26: =SUM(E26:N26) -> 2000
C27: 082030 Művészeti tevékenységek
C28: - Térzenei koncertek EMT-TE-B-A-21-0515 | D28: 131304 | E28: =0+táj.1!E28 -> 7500 | F28: =0+táj.1!F28 -> 0 | G28: =0+táj.1!G28 -> 0 | H28: =0+táj.1!H28 -> 0 | I28: =0+táj.1!I28 -> 0 | J28: =0+táj.1!J28 -> 0 | K28: =0+táj.1!K28 -> 0 | L28: =0+táj.1!L28 -> 0 | ... N28: =0+táj.1!N28 -> 0 | O28: =SUM(E28:N28) -> 7500
C29: 016040 Nemzetpolitikai tevékenység igazgatása és támogatása
C30: - Székelykapu felállítása | D30: 132917 | E30: =0+táj.1!E30 -> 0 | F30: =0+táj.1!F30 -> 2000 | G30: =0+táj.1!G30 -> 0 | H30: =0+táj.1!H30 -> 0 | I30: =0+táj.1!I30 -> 0 | J30: =0+táj.1!J30 -> 0 | K30: =0+táj.1!K30 -> 0 | L30: =0+táj.1!L30 -> 0 | ... N30: =0+táj.1!N30 -> 0 | O30: =SUM(E30:N30) -> 2000
C31: 082091 Közművelődés - közösségi és társ. részvétel fejleszt.
C32: - kulturális intézményekben béremelés finanszírozása | D32: 131510 | E32: =0+táj.1!E32 -> 83625 | F32: =0+táj.1!F32 -> 0 | G32: =0+táj.1!G32 -> 0 | H32: =0+táj.1!H32 -> 0 | I32: =0+táj.1!I32 -> 0 | J32: =0+táj.1!J32 -> 0 | K32: =0+táj.1!K32 -> 0 | L32: =0+táj.1!L32 -> 0 | ... N32: =0+táj.1!N32 -> 0 | O32: =SUM(E32:N32) -> 83625
C33: - koronavírus járvány által okozott, kulturális ágazatot érintő károk enyhítése | D33: 131511 | E33: =0+táj.1!E33 -> 60000 | F33: =0+táj.1!F33 -> 0 | G33: =0+táj.1!G33 -> 0 | H33: =0+táj.1!H33 -> 0 | I33: =0+táj.1!I33 -> 0 | J33: =0+táj.1!J33 -> 0 | K33: =0+táj.1!K33 -> 0 | L33: =0+táj.1!L33 -> 0 | ... N33: =0+táj.1!N33 -> 0 | O33: =SUM(E33:N33) -> 60000
C34: Humánigazgatási feladatok összesen: | E34: =SUM(E13:E33) -> 545726 | F34: =SUM(F13:F33) -> 9000 | G34: =SUM(G13:G33) -> 0 | H34: =SUM(H13:H33) -> 6007 | I34: =SUM(I13:I33) -> 0 | J34: =SUM(J13:J33) -> 3611 | K34: =SUM(K13:K33) -> 0 | L34: =SUM(L13:L33) -> 0 | ... O34: =SUM(O13:O33) -> 584299
A35: 1 | B35: 14 | C35: Főépítészi feladatok
C36: 013350 Önk-i vagyonnal való gazdálkodáshoz kapcs.fa.
C37: - belterületbe vonással kapcsolatos bevétel | D37: 171967 | E37: =0+táj.1!E37 -> 0 | F37: =0+táj.1!F37 -> 0 | G37: =0+táj.1!G37 -> 0 | H37: =5535+táj.1!H37 -> 5645 | I37: =0+táj.1!I37 -> 0 | J37: =0+táj.1!J37 -> 0 | K37: =0+táj.1!K37 -> 0 | L37: =0+táj.1!L37 -> 0 | M37: =0+táj.1!M37 -> 0 | N37: =0+táj.1!N37 -> 0 | O37: =SUM(E37:N37) -> 5645
C38: - Helyi építészeti értékek védelme | D38: 164903 | E38: =0+táj.1!E38 -> 0 | F38: =0+táj.1!F38 -> 0 | G38: =0+táj.1!G38 -> 0 | H38: =0+táj.1!H38 -> 0 | I38: =0+táj.1!I38 -> 0 | J38: =0+táj.1!J38 -> 0 | K38: =0+táj.1!K38 -> 0 | L38: =0+táj.1!L38 -> 0 | M38: =6513+táj.1!M38 -> 6513 | N38: =0+táj.1!N38 -> 0 | O38: =SUM(E38:N38) -> 6513
C39: Főépítészi feladatok összesen: | H39: =SUM(H37:H38) -> 5645 | I39: =SUM(I37:I38) -> 0 | J39: =SUM(J37:J38) -> 0 | K39: =SUM(K37:K38) -> 0 | L39: =SUM(L37:L38) -> 0 | M39: =SUM(M37:M38) -> 6513 | N39: =SUM(N37:N38) -> 0 | O39: =SUM(O37:O38) -> 12158
A40: 1 | B40: 15 | C40: Városüzemelési feladatok
C41: 081061 Szabadidős park, fürdő és strandszolgáltatás
C42: - Gébárti fürdő lét. üzemelt. (Termál és Tóstrand) | D42: 151906 | E42: =0+táj.1!E42 -> 0 | F42: =0+táj.1!F42 -> 0 | G42: =0+táj.1!G42 -> 0 | H42: =37391+táj.1!H42 -> 37391 | I42: =0+táj.1!I42 -> 0 | J42: =0+táj.1!J42 -> 0 | K42: =0+táj.1!K42 -> 0 | L42: =0+táj.1!L42 -> 0 | M42: =0+táj.1!M42 -> 0 | N42: =0+táj.1!N42 -> 0 | O42: =SUM(E42:N42) -> 37391
C43: - Aquapark üzemeltetés | D43: 151 907 | E43: =0+táj.1!E43 -> 0 | F43: =0+táj.1!F43 -> 0 | G43: =0+táj.1!G43 -> 0 | H43: =175260+táj.1!H43 -> 175260 | I43: =0+táj.1!I43 -> 0 | J43: =0+táj.1!J43 -> 0 | K43: =0+táj.1!K43 -> 0 | L43: =0+táj.1!L43 -> 0 | M43: =0+táj.1!M43 -> 0 | N43: =0+táj.1!N43 -> 0 | O43: =SUM(E43:N43) -> 175260
C44: - ZG3 kút üzemeltetése | D44: 151 915 | E44: =0+táj.1!E44 -> 0 | F44: =0+táj.1!F44 -> 0 | G44: =0+táj.1!G44 -> 0 | H44: =2667+táj.1!H44 -> 2667 | I44: =0+táj.1!I44 -> 0 | J44: =0+táj.1!J44 -> 0 | K44: =0+táj.1!K44 -> 0 | L44: =0+táj.1!L44 -> 0 | M44: =0+táj.1!M44 -> 0 | N44: =0+táj.1!N44 -> 0 | O44: =SUM(E44:N44) -> 2667
C45: - Gébárti kemping földhasználat, fedett fürdő földhasználat | D45: 151909 | E45: =0+táj.1!E45 -> 0 | F45: =0+táj.1!F45 -> 0 | G45: =0+táj.1!G45 -> 0 | H45: =0+táj.1!H45 -> 2668 | I45: =0+táj.1!I45 -> 0 | J45: =0+táj.1!J45 -> 0 | K45: =0+táj.1!K45 -> 0 | L45: =0+táj.1!L45 -> 0 | ... N45: =0+táj.1!N45 -> 0 | O45: =SUM(E45:N45) -> 2668
C46: 066010 Zöldterület kezelés
C47: - fa értékesítés bevétele | D47: 152 908 | E47: =0+táj.1!E47 -> 0 | F47: =0+táj.1!F47 -> 0 | G47: =0+táj.1!G47 -> 0 | H47: =3810+táj.1!H47 -> 3810 | I47: =0+táj.1!I47 -> 0 | J47: =0+táj.1!J47 -> 0 | K47: =0+táj.1!K47 -> 0 | L47: =0+táj.1!L47 -> 0 | M47: =0+táj.1!M47 -> 0 | N47: =0+táj.1!N47 -> 0 | O47: =SUM(E47:N47) -> 3810
C48: - haszonbérleti szerződések, kishaszonbérlet | D48: 151506 | E48: =0+táj.1!E48 -> 0 | F48: =0+táj.1!F48 -> 0 | G48: =0+táj.1!G48 -> 0 | H48: =1905+táj.1!H48 -> 1905 | I48: =0+táj.1!I48 -> 0 | J48: =0+táj.1!J48 -> 0 | K48: =0+táj.1!K48 -> 0 | L48: =0+táj.1!L48 -> 0 | M48: =0+táj.1!M48 -> 0 | N48: =0+táj.1!N48 -> 0 | O48: =SUM(E48:N48) -> 1905
C49: 066020 Város-, községgazdálkodási egyéb szolgáltatás
C50: - Zalai Közszolgáltató Nonprofit Kft. bérleti díj eszközpark használata után | D50: 151701 | E50: =0+táj.1!E50 -> 0 | F50: =0+táj.1!F50 -> 0 | G50: =0+táj.1!G50 -> 0 | H50: =4318+táj.1!H50 -> 4318 | I50: =0+táj.1!I50 -> 0 | J50: =0+táj.1!J50 -> 0 | K50: =0+táj.1!K50 -> 0 | L50: =0+táj.1!L50 -> 0 | M50: =0+táj.1!M50 -> 0 | N50: =0+táj.1!N50 -> 0 | O50: =SUM(E50:N50) -> 4318
C51: - környezetvéd.alap feltöltése | D51: 151607 | E51: =0+táj.1!E51 -> 0 | F51: =0+táj.1!F51 -> 0 | G51: =0+táj.1!G51 -> 0 | H51: =0+táj.1!H51 -> 0 | I51: =0+táj.1!I51 -> 0 | J51: =0+táj.1!J51 -> 0 | K51: =0+táj.1!K51 -> 0 | L51: =0+táj.1!L51 -> 0 | M51: =23867+táj.1!M51 -> 23867 | N51: =0+táj.1!N51 -> 0 | O51: =SUM(E51:N51) -> 23867
C52: - közművesítési hozzájárulás | D52: 151611 | E52: =0+táj.1!E52 -> 0 | F52: =0+táj.1!F52 -> 0 | G52: =0+táj.1!G52 -> 0 | H52: =0+táj.1!H52 -> 12700 | I52: =0+táj.1!I52 -> 0 | J52: =0+táj.1!J52 -> 0 | K52: =0+táj.1!K52 -> 0 | L52: =0+táj.1!L52 -> 0 | ... N52: =0+táj.1!N52 -> 0 | O52: =SUM(E52:N52) -> 12700
C53: - Széna tér zártkerti fejlesztése | D53: 152946 | E53: =0+táj.1!E53 -> 0 | F53: =2499+táj.1!F53 -> 2499 | G53: =0+táj.1!G53 -> 0 | H53: =0+táj.1!H53 -> 0 | I53: =0+táj.1!I53 -> 0 | J53: =0+táj.1!J53 -> 0 | K53: =0+táj.1!K53 -> 0 | L53: =0+táj.1!L53 -> 0 | M53: =0+táj.1!M53 -> 0 | N53: =0+táj.1!N53 -> 0 | O53: =SUM(E53:N53) -> 2499
C54: - Cédrus u.felújításához lakossági befizetés | D54: 155443 | E54: =0+táj.1!E54 -> 0 | F54: =0+táj.1!F54 -> 0 | G54: =0+táj.1!G54 -> 0 | H54: =0+táj.1!H54 -> 0 | I54: =0+táj.1!I54 -> 0 | J54: =0+táj.1!J54 -> 0 | K54: =2000+táj.1!K54 -> 2000 | L54: =0+táj.1!L54 -> 0 | M54: =0+táj.1!M54 -> 0 | N54: =0+táj.1!N54 -> 0 | O54: =SUM(E54:N54) -> 2000
C55: 045170 Parkoló, garázs üzemeltetése, fenntartása
C56: - parkolási közszolgáltatási tevékenység ellátásával kapcsolatos bevétel | D56: 151 910 | E56: =0+táj.1!E56 -> 0 | F56: =0+táj.1!F56 -> 0 | G56: =0+táj.1!G56 -> 0 | H56: =152400+táj.1!H56 -> 152400 | I56: =0+táj.1!I56 -> 0 | J56: =0+táj.1!J56 -> 0 | L56: =0+táj.1!L56 -> 0 | M56: =0+táj.1!M56 -> 0 | N56: =0+táj.1!N56 -> 0 | O56: =SUM(E56:N56) -> 152400
C57: Városüzemelési feladatok összesen: | E57: =SUM(E41:E56) -> 0 | F57: =SUM(F41:F56) -> 2499 | G57: =SUM(G41:G56) -> 0 | H57: =SUM(H41:H56) -> 393119 | I57: =SUM(I41:I56) -> 0 | J57: =SUM(J41:J56) -> 0 | K57: =SUM(K41:K56) -> 2000 | L57: =SUM(L41:L56) -> 0 | ... O57: =SUM(O41:O56) -> 421485
A58: 1 | B58: 16. | C58: Városépítészeti feladatok
C59: 052020 Szennyvíz gyűjtése, tisztítása, elhelyezése
C60: - ZALAVÍZ Zrt. nem vÍziközmű után fizetendő bérleti díj | D60: 161909 | E60: =0+táj.1!E60 -> 0 | F60: =0+táj.1!F60 -> 0 | G60: =0+táj.1!G60 -> 0 | H60: =35742+táj.1!H60 -> 35742 | I60: =0+táj.1!I60 -> 0 | J60: =0+táj.1!J60 -> 0 | K60: =0+táj.1!K60 -> 0 | L60: =0+táj.1!L60 -> 0 | M60: =0+táj.1!M60 -> 0 | N60: =0+táj.1!N60 -> 0 | O60: =SUM(E60:N60) -> 35742
C61: - szennyvíz vagyon használati díja és Áfa visszaig. | D61: 164106 | E61: =0+táj.1!E61 -> 0 | F61: =0+táj.1!F61 -> 0 | G61: =0+táj.1!G61 -> 0 | H61: =532503+táj.1!H61 -> 532503 | I61: =0+táj.1!I61 -> 0 | J61: =0+táj.1!J61 -> 0 | K61: =0+táj.1!K61 -> 0 | L61: =0+táj.1!L61 -> 0 | M61: =65820+táj.1!M61 -> 65820 | N61: =0+táj.1!N61 -> 0 | O61: =SUM(E61:N61) -> 598323
C62: - ivóvíz vagyon használati díja és Áfa visszaig.+ KIEFO | D62: 164204 | E62: =0+táj.1!E62 -> 0 | F62: =0+táj.1!F62 -> 0 | G62: =0+táj.1!G62 -> 0 | H62: =199813+táj.1!H62 -> 199813 | I62: =0+táj.1!I62 -> 0 | J62: =0+táj.1!J62 -> 0 | K62: =0+táj.1!K62 -> 0 | L62: =0+táj.1!L62 -> 0 | M62: =30794+táj.1!M62 -> 30794 | N62: =0+táj.1!N62 -> 0 | O62: =SUM(E62:N62) -> 230607
C63: - Zalaegerszeg keleti vízbázisról ellátott települések ívóvízminőségének javítása KEHOP projekt | D63: 164205 | E63: =4455+táj.1!E63 -> 4455 | F63: =158267+táj.1!F63 -> 158267 | G63: =0+táj.1!G63 -> 0 | H63: =89083+táj.1!H63 -> 89083 | I63: =0+táj.1!I63 -> 0 | J63: =0+táj.1!J63 -> 0 | K63: =0+táj.1!K63 -> 0 | L63: =0+táj.1!L63 -> 0 | M63: =167215+táj.1!M63 -> 167215 | N63: =0+táj.1!N63 -> 0 | O63: =SUM(E63:N63) -> 419020
C64: - Zalaegerszeg nyugati vízbázisról ellátott települések ívóvízminőségének javítása KEHOP projekt | D64: 164206 | E64: =500+táj.1!E64 -> 500 | F64: =153316+táj.1!F64 -> 2316 | G64: =0+táj.1!G64 -> 0 | H64: =41530+táj.1!H64 -> 760 | I64: =0+táj.1!I64 -> 0 | J64: =0+táj.1!J64 -> 0 | K64: =0+táj.1!K64 -> 0 | L64: =0+táj.1!L64 -> 0 | M64: =0+táj.1!M64 -> 0 | N64: =0+táj.1!N64 -> 0 | O64: =SUM(E64:N64) -> 3576
C65: 013350 Önk-i vagyonnal való gazdálkodáshoz kapcs. fa.
C66: - ELENA programhoz önerő és bérfedezet megtérülése | D66: 162695 | E66: =4800+táj.1!E66 -> 4800 | F66: =0+táj.1!F66 -> 0 | G66: =0+táj.1!G66 -> 0 | H66: =0+táj.1!H66 -> 0 | I66: =0+táj.1!I66 -> 0 | J66: =0+táj.1!J66 -> 0 | K66: =0+táj.1!K66 -> 0 | L66: =0+táj.1!L66 -> 0 | M66: =0+táj.1!M66 -> 0 | N66: =0+táj.1!N66 -> 0 | O66: =SUM(E66:N66) -> 4800
C67: - EcoSmartCities Interreg HU-HR projekt | D67: 162607 | E67: =0+táj.1!E67 -> 0 | F67: =0+táj.1!F67 -> 0 | G67: =0+táj.1!G67 -> 0 | H67: =0+táj.1!H67 -> 0 | I67: =0+táj.1!I67 -> 0 | J67: =0+táj.1!J67 -> 0 | K67: =0+táj.1!K67 -> 0 | L67: =0+táj.1!L67 -> 0 | M67: =5058+táj.1!M67 -> 5058 | N67: =0+táj.1!N67 -> 0 | O67: =SUM(E67:N67) -> 5058
C68: - Hotelfejlesztés engedélyes és kiviteli terveinek elkészítéséhez támogatás | D68: 162640 | E68: =0+táj.1!E68 -> 0 | F68: =0+táj.1!F68 -> 0 | G68: =0+táj.1!G68 -> 0 | H68: =0+táj.1!H68 -> 0 | I68: =0+táj.1!I68 -> 0 | J68: =0+táj.1!J68 -> 0 | K68: =0+táj.1!K68 -> 0 | L68: =0+táj.1!L68 -> 0 | M68: =137601+táj.1!M68 -> 137601 | N68: =0+táj.1!N68 -> 0 | O68: =SUM(E68:N68) -> 137601
C69: - TOP-6.6.1-15-ZL1-2016-00001 Egészségügyi alapellátás infrastrukturális fejlesztése Zalaegerszegen | D69: 163603 | E69: =0+táj.1!E69 -> 0 | F69: =0+táj.1!F69 -> 0 | G69: =0+táj.1!G69 -> 0 | H69: =0+táj.1!H69 -> 0 | I69: =0+táj.1!I69 -> 0 | J69: =0+táj.1!J69 -> 0 | K69: =0+táj.1!K69 -> 0 | L69: =0+táj.1!L69 -> 0 | M69: =10113+táj.1!M69 -> 10113 | N69: =0+táj.1!N69 -> 0 | O69: =SUM(E69:N69) -> 10113
C70: - TOP-6.6.2-15- ZL1-2016-00001 Szociális Alapszolgáltatások fejlesztése Zalaegerszegen | D70: 163604 | E70: =0+táj.1!E70 -> 0 | F70: =0+táj.1!F70 -> 0 | G70: =0+táj.1!G70 -> 0 | H70: =0+táj.1!H70 -> 0 | I70: =0+táj.1!I70 -> 0 | J70: =0+táj.1!J70 -> 0 | K70: =0+táj.1!K70 -> 0 | L70: =0+táj.1!L70 -> 0 | M70: =4106+táj.1!M70 -> 4106 | N70: =0+táj.1!N70 -> 0 | O70: =SUM(E70:N70) -> 4106
C71: - TOP-6.1.4-15-ZL1-2016-00002 Zalaegerszegi Göcseji Falumúzeum fejlesztése | D71: 163606 | E71: =0+táj.1!E71 -> 0 | F71: =47786+táj.1!F71 -> 47786 | G71: =0+táj.1!G71 -> 0 | H71: =0+táj.1!H71 -> 0 | I71: =0+táj.1!I71 -> 0 | J71: =0+táj.1!J71 -> 0 | K71: =0+táj.1!K71 -> 0 | L71: =0+táj.1!L71 -> 0 | M71: =10778+táj.1!M71 -> 10778 | N71: =0+táj.1!N71 -> 0 | O71: =SUM(E71:N71) -> 58564
C72: - TOP-6.4.1-15-ZL1-2016-00001 Gyalogos és kerékpárosbarát belváros közlekedési feltételeinek megteremtése Zalaegerszegen hivatásforgalmi kerékpárutak fejlesztésével és a Kosztolányi Dezső út kétirányúsításával | D72: 163607 | E72: =0+táj.1!E72 -> 0 | F72: =0+táj.1!F72 -> 0 | G72: =0+táj.1!G72 -> 0 | H72: =0+táj.1!H72 -> 0 | I72: =0+táj.1!I72 -> 0 | J72: =0+táj.1!J72 -> 0 | K72: =0+táj.1!K72 -> 0 | L72: =0+táj.1!L72 -> 0 | M72: =944966+táj.1!M72 -> 944966 | N72: =0+táj.1!N72 -> 0 | O72: =SUM(E72:N72) -> 944966
C73: - TOP-6.1.4 -15-ZL1-2016-00003 Zöld Zala-part Turisztikai célú kerékpárút fejlesztés a Zala Mentén és Gébárton | D73: 163608 | E73: =0+táj.1!E73 -> 0 | F73: =0+táj.1!F73 -> 0 | G73: =0+táj.1!G73 -> 0 | H73: =0+táj.1!H73 -> 0 | I73: =0+táj.1!I73 -> 0 | J73: =0+táj.1!J73 -> 0 | K73: =0+táj.1!K73 -> 0 | L73: =0+táj.1!L73 -> 0 | M73: =471834+táj.1!M73 -> 471834 | N73: =0+táj.1!N73 -> 0 | O73: =SUM(E73:N73) -> 471834
C74: - TOP-6.1.5-15-ZL1-2016-00001 Ipari területeket feltáró utak kialakítása Zalaegerszegen | D74: 163609 | E74: =0+táj.1!E74 -> 0 | F74: =0+táj.1!F74 -> 0 | G74: =0+táj.1!G74 -> 0 | H74: =0+táj.1!H74 -> 0 | I74: =0+táj.1!I74 -> 0 | J74: =0+táj.1!J74 -> 0 | K74: =0+táj.1!K74 -> 0 | L74: =0+táj.1!L74 -> 0 | M74: =159568+táj.1!M74 -> 159568 | N74: =0+táj.1!N74 -> 0 | O74: =SUM(E74:N74) -> 159568
C75: - TOP-6.3.2-15-ZL1-2016-00002 Gébárti-tó és környékének rekreációs, szabadidős használatát elősegítő infrastruktúra kialakítása | D75: 163611 | E75: =0+táj.1!E75 -> 0 | F75: =0+táj.1!F75 -> 0 | G75: =0+táj.1!G75 -> 0 | H75: =0+táj.1!H75 -> 0 | I75: =0+táj.1!I75 -> 0 | J75: =0+táj.1!J75 -> 0 | K75: =0+táj.1!K75 -> 0 | L75: =0+táj.1!L75 -> 0 | M75: =159938+táj.1!M75 -> 159938 | N75: =0+táj.1!N75 -> 0 | O75: =SUM(E75:N75) -> 159938
C76: - TOP-6.1.1-15-ZL1-2016-00001 Zalaegerszeg Északi Ipari Park feltárása és közművekkel való ellátása (részben nettó) | D76: 163612 | E76: =0+táj.1!E76 -> 0 | F76: =0+táj.1!F76 -> 0 | G76: =0+táj.1!G76 -> 0 | H76: =32004+táj.1!H76 -> 32004 | I76: =0+táj.1!I76 -> 0 | J76: =0+táj.1!J76 -> 0 | K76: =0+táj.1!K76 -> 0 | L76: =0+táj.1!L76 -> 0 | M76: =57989+táj.1!M76 -> 57989 | N76: =0+táj.1!N76 -> 0 | O76: =SUM(E76:N76) -> 89993
C77: - TOP-6.1.3 -15-ZL1-2016-00001 Helyi termelői és kézműves piac kialakítása Zalaegerszegen ( nettó!) | D77: 163613 | E77: =0+táj.1!E77 -> 0 | F77: =89974+táj.1!F77 -> 89974 | G77: =0+táj.1!G77 -> 0 | H77: =72317+táj.1!H77 -> 72317 | I77: =0+táj.1!I77 -> 0 | J77: =0+táj.1!J77 -> 0 | K77: =0+táj.1!K77 -> 0 | L77: =0+táj.1!L77 -> 0 | M77: =113871+táj.1!M77 -> 113871 | N77: =0+táj.1!N77 -> 0 | O77: =SUM(E77:N77) -> 276162
C78: - TOP-6.1.4-15-ZL1-2016-00001 "Zalaegerszeg turisztikai vonzerejének növelése a " SMART City" eszközrendszerével" | D78: 163614 | E78: =0+táj.1!E78 -> 0 | F78: =0+táj.1!F78 -> 0 | G78: =0+táj.1!G78 -> 0 | H78: =0+táj.1!H78 -> 0 | I78: =0+táj.1!I78 -> 0 | J78: =0+táj.1!J78 -> 0 | K78: =0+táj.1!K78 -> 0 | L78: =0+táj.1!L78 -> 0 | M78: =88448+táj.1!M78 -> 88448 | N78: =0+táj.1!N78 -> 0 | O78: =SUM(E78:N78) -> 88448
C79: - TOP-6.8.2-15-ZL1-2016-00001 A vállalkozások igényeire alapuló foglalkoztatás-fejlesztési program Zalaegerszeg Megyei Jogú Városban (Foglalkoztatási paktum) | D79: 163615 | E79: =0+táj.1!E79 -> 0 | F79: =0+táj.1!F79 -> 0 | G79: =0+táj.1!G79 -> 0 | H79: =0+táj.1!H79 -> 0 | I79: =0+táj.1!I79 -> 0 | J79: =0+táj.1!J79 -> 0 | K79: =0+táj.1!K79 -> 0 | L79: =0+táj.1!L79 -> 0 | M79: =8687+táj.1!M79 -> 8687 | N79: =0+táj.1!N79 -> 0 | O79: =SUM(E79:N79) -> 8687
C80: - TOP-6.3.2-15-ZL1-2016-00003 Városi terek élhetőbbé tétele - Vizslapark rekonstrukció | D80: 163616 | E80: =0+táj.1!E80 -> 0 | F80: =0+táj.1!F80 -> 0 | G80: =0+táj.1!G80 -> 0 | H80: =0+táj.1!H80 -> 0 | I80: =0+táj.1!I80 -> 0 | J80: =0+táj.1!J80 -> 0 | K80: =0+táj.1!K80 -> 0 | L80: =0+táj.1!L80 -> 0 | M80: =31299+táj.1!M80 -> 31299 | N80: =0+táj.1!N80 -> 0 | O80: =SUM(E80:N80) -> 31299
C81: - TOP-6.2.1-15-ZL1-2016-00002 Zalaegerszegi Egyesített Bölcsődék Cseperedő Bölcsőde és a Zalaegerszegi Belvárosi II. számú Óvoda Petőfi utcai Tagóvodájának fejlesztése | D81: 163617 | E81: =0+táj.1!E81 -> 0 | F81: =0+táj.1!F81 -> 0 | G81: =0+táj.1!G81 -> 0 | H81: =0+táj.1!H81 -> 0 | I81: =0+táj.1!I81 -> 0 | J81: =0+táj.1!J81 -> 0 | K81: =0+táj.1!K81 -> 0 | L81: =0+táj.1!L81 -> 0 | M81: =1099+táj.1!M81 -> 1099 | N81: =0+táj.1!N81 -> 0 | O81: =SUM(E81:N81) -> 1099
C82: - TOP 6.5.1-15-ZL1-2016-0004 Landorhegyi Sportiskolai Általános Iskola energetikai korszerűsítése | D82: 163623 | E82: =2908+táj.1!E82 -> 2908 | F82: =0+táj.1!F82 -> 0 | G82: =0+táj.1!G82 -> 0 | H82: =0+táj.1!H82 -> 0 | I82: =0+táj.1!I82 -> 0 | J82: =0+táj.1!J82 -> 0 | K82: =0+táj.1!K82 -> 0 | L82: =0+táj.1!L82 -> 0 | M82: =0+táj.1!M82 -> 0 | N82: =0+táj.1!N82 -> 0 | O82: =SUM(E82:N82) -> 2908
C83: -TOP-6.1.1-16 Zalaegerszegi Logisztikai Központ létrehozása | D83: 163625 | E83: =0+táj.1!E83 -> 0 | F83: =1088000+táj.1!F83 -> 1088000 | G83: =0+táj.1!G83 -> 0 | H83: =0+táj.1!H83 -> 0 | I83: =0+táj.1!I83 -> 0 | J83: =0+táj.1!J83 -> 0 | K83: =0+táj.1!K83 -> 0 | L83: =0+táj.1!L83 -> 0 | M83: =0+táj.1!M83 -> 0 | N83: =0+táj.1!N83 -> 0 | O83: =SUM(E83:N83) -> 1088000
C84: - TOP-6.1.2-16-ZL1-2017-00001 Inkubátorház bővítés Zalaegerszegen-III.ütem | D84: 163626 | E84: =0+táj.1!E84 -> 0 | F84: =0+táj.1!F84 -> 0 | G84: =0+táj.1!G84 -> 0 | H84: =338+táj.1!H84 -> 338 | I84: =0+táj.1!I84 -> 0 | J84: =0+táj.1!J84 -> 0 | K84: =0+táj.1!K84 -> 0 | L84: =0+táj.1!L84 -> 0 | M84: =16176+táj.1!M84 -> 16176 | N84: =0+táj.1!N84 -> 0 | O84: =SUM(E84:N84) -> 16514
C85: - TOP-6.1.4--16-ZL1-2017-00002 Göcseji Múzeum épületének felújítása és kiállító tereinek fejlesztése | D85: 163627 | E85: =165110+táj.1!E85 -> 165110 | F85: =511120+táj.1!F85 -> 511120 | G85: =0+táj.1!G85 -> 0 | H85: =0+táj.1!H85 -> 0 | I85: =0+táj.1!I85 -> 0 | J85: =0+táj.1!J85 -> 0 | K85: =0+táj.1!K85 -> 0 | L85: =0+táj.1!L85 -> 0 | M85: =109745+táj.1!M85 -> 109745 | N85: =0+táj.1!N85 -> 0 | O85: =SUM(E85:N85) -> 785975
C86: - TOP-6.1.1-16-ZL1-2017-00001 Üzemcsarnok építés a Zalaegerszeg 4815/6 hrsz-ú ingatlanon | D86: 163628 | E86: =0+táj.1!E86 -> 0 | F86: =0+táj.1!F86 -> 7997 | G86: =0+táj.1!G86 -> 0 | H86: =7051+táj.1!H86 -> 9210 | I86: =0+táj.1!I87 -> 0 | J86: =0+táj.1!J87 -> 0 | K86: =0+táj.1!K87 -> 0 | L86: =0+táj.1!L87 -> 0 | M86: =26115+táj.1!M86 -> 26115 | N86: =0+táj.1!N87 -> 0 | O86: =SUM(E86:N86) -> 43322
C87: - TOP 6.1.4-16-ZL1-2017-00001 Alsóerdő komplex turisztikai fejlesztése | D87: 163629 | E87: =0+táj.1!E87 -> 0 | F87: =0+táj.1!F87 -> 0 | G87: =0+táj.1!G87 -> 0 | H87: =239922+táj.1!H87 -> 239922 | I87: =0+táj.1!I87 -> 0 | J87: =0+táj.1!J87 -> 0 | K87: =0+táj.1!K87 -> 0 | L87: =0+táj.1!L87 -> 0 | M87: =892656+táj.1!M87 -> 892656 | N87: =0+táj.1!N88 -> 0 | O87: =SUM(E87:N87) -> 1132578
C88: - TOP 6.9.2-16-ZL1-2017-00001 A helyi identitás és kohézió erősítésének megteremtése Zalaegerszegen | D88: 163633 | E88: =0+táj.1!E88 -> 0 | F88: =0+táj.1!F88 -> 0 | G88: =0+táj.1!G88 -> 0 | H88: =0+táj.1!H88 -> 0 | I88: =0+táj.1!I88 -> 0 | J88: =0+táj.1!J88 -> 0 | K88: =0+táj.1!K88 -> 0 | L88: =0+táj.1!L88 -> 0 | M88: =128636+táj.1!M88 -> 128636 | N88: =0+táj.1!N88 -> 0 | O88: =SUM(E88:N88) -> 128636
C89: - TOP-7.1.1-16-H-ERFA-2019-00167 Zalaegerszeg mobil applikáció projekt | D89: 163646 | E89: =0+táj.1!E89 -> 0 | F89: =0+táj.1!F89 -> 0 | G89: =0+táj.1!G89 -> 0 | H89: =0+táj.1!H89 -> 0 | I89: =0+táj.1!I89 -> 0 | J89: =0+táj.1!J89 -> 0 | K89: =0+táj.1!K89 -> 0 | L89: =0+táj.1!L89 -> 0 | M89: =13+táj.1!M89 -> 13 | N89: =0+táj.1!N89 -> 0 | O89: =SUM(E89:N89) -> 13
C90: - TOP-6.1.4-16-ZL1-2017-00003 Helyi termelői és kézműves piac kialakítása Zalaegerszegen - Göcsej Tudásközpont (nettó fiansz.) | D90: 163637 | E90: =0+táj.1!E90 -> 0 | F90: =145748+táj.1!F90 -> 145748 | G90: =0+táj.1!G90 -> 0 | H90: =110165+táj.1!H90 -> 110165 | I90: =0+táj.1!I90 -> 0 | J90: =0+táj.1!J90 -> 0 | K90: =0+táj.1!K90 -> 0 | L90: =0+táj.1!L90 -> 0 | M90: =177969+táj.1!M90 -> 177969 | N90: =0+táj.1!N90 -> 0 | O90: =SUM(E90:N90) -> 433882
C91: - TOP-6.5.1-16-ZL1-2017-00001 Liszt F.tagiskola energetikai korszerűsítése | D91: 163638 | E91: =0+táj.1!E91 -> 0 | F91: =0+táj.1!F91 -> 0 | G91: =0+táj.1!G91 -> 0 | H91: =0+táj.1!H91 -> 0 | I91: =0+táj.1!I91 -> 0 | J91: =0+táj.1!J91 -> 0 | K91: =0+táj.1!K91 -> 0 | L91: =0+táj.1!L91 -> 0 | M91: =4493+táj.1!M91 -> 4493 | N91: =0+táj.1!N91 -> 0 | O91: =SUM(E91:N91) -> 4493
C92: - TOP-6.5.1-16-ZL1-2017-00005 Petőfi S. Székhelyiskola energetikai korszerűsítése | D92: 163639 | E92: =0+táj.1!E92 -> 0 | F92: =0+táj.1!F92 -> 0 | G92: =0+táj.1!G92 -> 0 | H92: =0+táj.1!H92 -> 0 | I92: =0+táj.1!I92 -> 0 | J92: =0+táj.1!J92 -> 0 | K92: =0+táj.1!K92 -> 0 | L92: =34841+táj.1!L92 -> 34841 | M92: =52665+táj.1!M92 -> 52665 | N92: =0+táj.1!N92 -> 0 | O92: =SUM(E92:N92) -> 87506
C93: - TOP-6.5.1-16-ZL1-2017-00006 Dózsa Gy. tagiskola energetikai korszerűsítése | D93: 163640 | E93: =0+táj.1!E93 -> 0 | F93: =0+táj.1!F93 -> 0 | G93: =0+táj.1!G93 -> 0 | H93: =0+táj.1!H93 -> 0 | I93: =0+táj.1!I93 -> 0 | J93: =0+táj.1!J93 -> 0 | K93: =0+táj.1!K93 -> 0 | L93: =0+táj.1!L93 -> 0 | M93: =1661+táj.1!M93 -> 1661 | N93: =0+táj.1!N93 -> 0 | O93: =SUM(E93:N93) -> 1661
C94: -TOP-7.1.1-16-H-ESZA-2019-01185 Interaktív történelmi séták Zalaegerszegen | D94: 163648 | E94: =0+táj.1!E94 -> 0 | F94: =0+táj.1!F94 -> 0 | G94: =0+táj.1!G94 -> 0 | H94: =0+táj.1!H94 -> 0 | I94: =0+táj.1!I94 -> 0 | J94: =0+táj.1!J94 -> 0 | K94: =0+táj.1!K94 -> 0 | L94: =0+táj.1!L94 -> 0 | M94: =5000+táj.1!M94 -> 5000 | N94: =0+táj.1!N94 -> 0 | O94: =SUM(E94:N94) -> 5000
C95: - TOP-6.3.2-15-ZL1-2020-00004 "A Gébárti-tó és környékének rekreációs, szabadidős használatát elősegítő infrastruktúra kialakítása II. ütem " | D95: 163652 | E95: =26519+táj.1!E95 -> 26519 | F95: =242520+táj.1!F95 -> 242520 | G95: =0+táj.1!G95 -> 0 | H95: =0+táj.1!H95 -> 0 | I95: =0+táj.1!I95 -> 0 | J95: =0+táj.1!J95 -> 0 | K95: =0+táj.1!K95 -> 0 | L95: =0+táj.1!L95 -> 0 | M95: =0+táj.1!M95 -> 0 | N95: =0+táj.1!N95 -> 0 | O95: =SUM(E95:N95) -> 269039
C96: - TOP-6.4.1-15-ZL1-2020-00002 Fenntartható közlekedésfejlesztési beavatkozások a belváros keleti kapujában (Tesco körforgalom) | D96: 163653 | E96: =31579+táj.1!E96 -> 31579 | F96: =736710+táj.1!F96 -> 736710 | G96: =0+táj.1!G96 -> 0 | H96: =0+táj.1!H96 -> 0 | I96: =0+táj.1!I96 -> 0 | J96: =0+táj.1!J96 -> 0 | K96: =0+táj.1!K96 -> 0 | L96: =0+táj.1!L96 -> 0 | M96: =0+táj.1!M96 -> 0 | N96: =0+táj.1!N96 -> 0 | O96: =SUM(E96:N96) -> 768289
C97: - TOP-7.1.1-16-H-ERFA-2019-00089 TOP CLLD Art mozi közösségi és rendezvény térré alakítása | D97: 163636 | E97: =0+táj.1!E97 -> 0 | F97: =0+táj.1!F97 -> 492 | G97: =0+táj.1!G97 -> 0 | H97: =0+táj.1!H97 -> 0 | I97: =0+táj.1!I97 -> 0 | J97: =0+táj.1!J97 -> 0 | K97: =0+táj.1!K97 -> 0 | L97: =0+táj.1!L97 -> 0 | ... N97: =0+táj.1!N97 -> 0 | O97: =SUM(E97:N97) -> 492
C98: - Mindszenty Múzeum és Zarándokközpont fejlesztése, zalaegerszegi "Mindszenty Út" megvalósítása MVP | D98: 163621 | E98: =241818+táj.1!E98 -> 241818 | F98: =307860+táj.1!F98 -> 307860 | G98: =0+táj.1!G98 -> 0 | H98: =68168+táj.1!H98 -> 70519 | I98: =0+táj.1!I98 -> 0 | J98: =0+táj.1!J98 -> 0 | K98: =0+táj.1!K98 -> 0 | L98: =0+táj.1!L98 -> 0 | M98: =1240197+táj.1!M98 -> 1240197 | N98: =8289000+táj.1!N98 -> 8289000 | O98: =SUM(E98:N98) -> 10149394
C99: - Uszoda tervezés és megvalósítás MVP támogatásból | D99: 162687 | E99: =0+táj.1!E99 -> 0 | F99: =0+táj.1!F99 -> 0 | G99: =0+táj.1!G99 -> 0 | H99: =1421549+táj.1!H99 -> 1426354 | I99: =0+táj.1!I99 -> 0 | J99: =0+táj.1!J99 -> 0 | K99: =0+táj.1!K99 -> 0 | L99: =0+táj.1!L99 -> 0 | M99: =38346+táj.1!M99 -> 38346 | N99: =5130850+táj.1!N99 -> 5130850 | O99: =SUM(E99:N99) -> 6595550
C100: - Alsóerdei Sport- és Rekreációs Központ fejlesztése MVP támogatással | D100: 163702 | E100: =0+táj.1!E100 -> 0 | F100: =1500000+táj.1!F100 -> 1500000 | G100: =0+táj.1!G100 -> 0 | H100: =566676+táj.1!H100 -> 567795 | I100: =0+táj.1!I100 -> 0 | J100: =0+táj.1!J100 -> 0 | K100: =0+táj.1!K100 -> 0 | L100: =0+táj.1!L100 -> 0 | M100: =112812+táj.1!M100 -> 112812 | N100: =600000+táj.1!N100 -> 600000 | O100: =SUM(E100:N100) -> 2780607
...

Sheet 7
A1: Cím szám | B1: Alcím szám | C1: Megnevezés | D1: Költségvetési kiadások | L1: Finanszírozási kiadások | N1: Kiadások összesen
D2: Személyi juttatások | E2: Munkaadókat terhelő járulékok és szociális hj.adó | F2: Dologi kiadások | G2: Ellátottak pénzbeli juttatásai | H2: Egyéb működési célú kiadások | I2: Beruházások | J2: Felújítások | K2: Egyéb felhalmo-zási célú kiadások | L2: Hitel-, kölcsöntör-lesztés áht-n kívülre | M2: Egyéb finanszírozási kiadás
A3: 1 | C3: Önkormányzat
A4: 1 | B4: 1 | C4: Szakosztályok
B5: 12 | C5: Szociális és igazgatási feladatok | D5: ='8'!G46 -> 150 | E5: ='8'!H46 -> 4950 | F5: ='8'!I46 -> 32155 | G5: ='8'!J46 -> 88920 | H5: ='8'!K46 -> 3343 | I5: ='8'!L46 -> 0 | J5: ='8'!M46 -> 0 | K5: ='8'!N46 -> 21919 | ... M5: ='8'!P46 -> 0 | N5: =SUM(D5:M5) -> 151437
B6: 13 | C6: Humánigazgatási feladatok | D6: ='8'!G217 -> 3339 | E6: ='8'!H217 -> 1247 | F6: ='8'!I217 -> 40583 | G6: ='8'!J217 -> 6000 | H6: ='8'!K217 -> 935640 | I6: ='8'!L217 -> 109263 | J6: ='8'!M217 -> 122774 | K6: ='8'!N217 -> 35140 | ... M6: ='8'!P217 -> 0 | N6: =SUM(D6:M6) -> 1253986
B7: 14 | C7: Főépítészi feladatok | D7: ='8'!G229 -> 0 | E7: ='8'!H229 -> 0 | F7: ='8'!I229 -> 9377 | G7: ='8'!J229 -> 0 | H7: ='8'!K229 -> 0 | I7: ='8'!L229 -> 14062 | J7: ='8'!M229 -> 0 | K7: ='8'!N229 -> 6513 | ... M7: ='8'!P229 -> 0 | N7: =SUM(D7:M7) -> 29952
B8: 15 | C8: Városüzemelési feladatok | D8: ='8'!G479 -> 8253 | E8: ='8'!H479 -> 1208 | F8: ='8'!I479 -> 1837325 | G8: ='8'!J479 -> 0 | H8: ='8'!K479 -> 665199 | I8: ='8'!L479 -> 258533 | J8: ='8'!M479 -> 214005 | K8: ='8'!N479 -> 5000 | ... M8: ='8'!P479 -> 0 | N8: =SUM(D8:M8) -> 2989523
B9: 16 | C9: Városépítészeti feladatok | D9: ='8'!G623 -> 47035 | E9: ='8'!H623 -> 9310 | F9: ='8'!I623 -> 5973995 | G9: ='8'!J623 -> 0 | H9: ='8'!K623 -> 5704 | I9: ='8'!L623 -> 33371950 | J9: ='8'!M623 -> 6106105 | K9: ='8'!N623 -> 15514 | ... M9: ='8'!P623 -> 0 | N9: =SUM(D9:M9) -> 45529613
B10: 17 | C10: Vagyonkezelési feladatok | D10: ='8'!G646 -> 0 | E10: ='8'!H646 -> 0 | F10: ='8'!I646 -> 71028 | G10: ='8'!J646 -> 0 | H10: ='8'!K646 -> 0 | I10: ='8'!L646 -> 47149 | J10: ='8'!M646 -> 1548 | K10: ='8'!N646 -> 43806 | ... M10: ='8'!P646 -> 350000 | N10: =SUM(D10:M10) -> 513531
B11: 18 | C11: Jogi és közig.feladatok | D11: ='8'!G668 -> 148407 | E11: ='8'!H668 -> 23403 | F11: ='8'!I668 -> 77097 | G11: ='8'!J668 -> 0 | H11: ='8'!K668 -> 6500 | I11: ='8'!L668 -> 7500 | J11: ='8'!M668 -> 0 | K11: ='8'!N668 -> 0 | ... M11: ='8'!P668 -> 0 | N11: =SUM(D11:M11) -> 262907
B12: 19 | C12: Pénzügyi lebonyolítás | D12: ='8'!G702 -> 0 | E12: ='8'!H702 -> 0 | F12: ='8'!I702 -> 380962 | G12: ='8'!J702 -> 0 | H12: ='8'!K702 -> 1504423 | I12: ='8'!L702 -> 0 | J12: ='8'!M702 -> 0 | K12: ='8'!N702 -> 5965 | ... M12: ='8'!P702 -> 11669029 | N12: =SUM(D12:M12) -> 13671913
B13: 22 | C13: Polgármesteri Kabinet kiadásai | D13: ='8'!G748 -> 14901 | E13: ='8'!H748 -> 6342 | F13: ='8'!I748 -> 157310 | G13: ='8'!J748 -> 0 | H13: ='8'!K748 -> 312546 | I13: ='8'!L748 -> 361982 | J13: ='8'!M748 -> 0 | K13: ='8'!N748 -> 3096 | ... M13: ='8'!P748 -> 0 | N13: =SUM(D13:M13) -> 856177
B14: 30 | C14: Tartalékok | D14: ='8'!G768 -> 0 | E14: ='8'!H768 -> 0 | F14: ='8'!I768 -> 0 | G14: ='8'!J768 -> 0 | H14: ='8'!K768 -> 761164 | I14: ='8'!L768 -> 21285 | J14: ='8'!M768 -> 8731 | K14: ='8'!N768 -> 0 | ... M14: ='8'!P768 -> 0 | N14: =SUM(D14:M14) -> 791180
C15: Önkormányzat összesen költségvetési szervek nélkül | D15: =SUM(D3:D14) -> 222085 | E15: =SUM(E3:E14) -> 46460 | F15: =SUM(F5:F14) -> 8579832 | G15: =SUM(G5:G14) -> 94920 | H15: =SUM(H5:H14) -> 4194519 | I15: =SUM(I5:I14) -> 34191724 | J15: =SUM(J5:J14) -> 6453163 | K15: =SUM(K5:K14) -> 136953 | L15: =SUM(L5:L14) -> 111534 | M15: =SUM(M5:M14) -> 12019029 | N15: =SUM(N5:N14) -> 66050219
A16: 2 | C16: Költségvetési szervek | D16: ='10'!E21 -> 4863065 | E16: ='10'!F21 -> 836033 | F16: ='10'!G21 -> 2728937 | G16: ='10'!H21 -> 4092 | H16: ='10'!I21 -> 169316 | I16: ='10'!J21 -> 301343 | J16: ='10'!K21 -> 38745 | K16: ='10'!L21 -> 300 | N16: =SUM(D16:M16) -> 8941831
C17: Önkormányzat összesen: | D17: =SUM(D15:D16) -> 5085150 | E17: =SUM(E15:E16) -> 882493 | F17: =SUM(F15:F16) -> 11308769 | G17: =SUM(G15:G16) -> 99012 | H17: =SUM(H15:H16) -> 4363835 | I17: =SUM(I15:I16) -> 34493067 | J17: =SUM(J15:J16) -> 6491908 | K17: =SUM(K15:K16) -> 137253 | ... N17: =SUM(N15:N16) -> 74992050

Sheet 8
A1: Cím szám | B1: Alcím szám | C1: Sorszám | D1: Megnevezés | E1: feladat jellege | F1: Tervezési alapegység | G1: Költségvetési kiadások | O1: Finanszírozási kiadások | Q1: Kiadás összesen
G2: Személyi juttatások | H2: Munkaadókat terhelő járulékok és szociális hj.adó | I2: Dologi kiadások | J2: Ellátottak pénzbeli juttatásai | K2: Egyéb működési célú kiadások | L2: Beruházások | M2: Felújítások | N2: Egyéb felhalmo-zási célú kiadások | O2: Hitel-, kölcsöntör-lesztés áht-n kívülre | P2: Egyéb finanszírozási kiadás
A3: 1 | D3: Önkormányzat
A4: 1 | B4: 1 | D4: Szakosztályok
A5: 1 | B5: 12 | D5: Szociális és igazgatási feladatok
D6: 105010 Munkanélküli aktív korúak ellátásai
D7: - megélhetési támogatás | E7: 2 | F7: 121103 | G7: =0+táj.2!G7 -> 0 | H7: =0+táj.2!H7 -> 0 | I7: =0+táj.2!I7 -> 0 | J7: =6000+táj.2!J7 -> 6000 | K7: =0+táj.2!K7 -> 0 | L7: =0+táj.2!L7 -> 0 | M7: =0+táj.2!M7 -> 0 | N7: =0+táj.2!N7 -> 0 | O7: =0+táj.2!O7 -> 0 | P7: =0+táj.2!P7 -> 0 | Q7: =SUM(G7:P7) -> 6000
D8: 106020 Lakásfenntartással, lakhatással összefüggő ellátások
D9: - lakásfenntartási segély | E9: 2 | F9: 121104 | G9: =0+táj.2!G9 -> 0 | H9: =0+táj.2!H9 -> 0 | I9: =0+táj.2!I9 -> 0 | J9: =20000+táj.2!J9 -> 20000 | K9: =0+táj.2!K9 -> 0 | L9: =0+táj.2!L9 -> 0 | M9: =0+táj.2!M9 -> 0 | N9: =0+táj.2!N9 -> 0 | O9: =0+táj.2!O9 -> 0 | P9: =0+táj.2!P9 -> 0 | Q9: =SUM(G9:P9) -> 20000
D10: - önkormányzati bérlakásban élők lakásfenntartási segélye Lakásalapból | E10: 2 | F10: 121117 | G10: =0+táj.2!G10 -> 0 | H10: =0+táj.2!H10 -> 0 | I10: =0+táj.2!I10 -> 0 | J10: =8000+táj.2!J10 -> 8000 | K10: =0+táj.2!K10 -> 0 | L10: =0+táj.2!L10 -> 0 | M10: =0+táj.2!M10 -> 0 | N10: =0+táj.2!N10 -> 0 | O10: =0+táj.2!O10 -> 0 | P10: =0+táj.2!P10 -> 0 | Q10: =SUM(G10:P10) -> 8000
D11: 107060 Egyéb szociális pénzbeli ellátások, támogatások
D12: - gyermekétkeztetési támogatás | E12: 2 | F12: 121111 | G12: =0+táj.2!G12 -> 0 | H12: =0+táj.2!H12 -> 0 | I12: =0+táj.2!I12 -> 0 | J12: =1600+táj.2!J12 -> 1600 | K12: =0+táj.2!K12 -> 0 | L12: =0+táj.2!L12 -> 0 | M12: =0+táj.2!M12 -> 0 | N12: =0+táj.2!N12 -> 0 | O12: =0+táj.2!O12 -> 0 | P12: =0+táj.2!P12 -> 0 | Q12: =SUM(G12:P12) -> 1600
D13: - átmeneti segély | E13: 2 | F13: 121127 | G13: =0+táj.2!G13 -> 0 | H13: =0+táj.2!H13 -> 0 | I13: =0+táj.2!I13 -> 0 | J13: =4000+táj.2!J13 -> 4000 | K13: =0+táj.2!K13 -> 0 | L13: =0+táj.2!L13 -> 0 | M13: =0+táj.2!M13 -> 0 | N13: =0+táj.2!N13 -> 0 | O13: =0+táj.2!O13 -> 0 | P13: =0+táj.2!P13 -> 0 | Q13: =SUM(G13:P13) -> 4000
D14: - egyszeri nevelési támogatás | E14: 2 | F14: 121115 | G14: =0+táj.2!G14 -> 0 | H14: =0+táj.2!H14 -> 0 | I14: =0+táj.2!I14 -> 0 | J14: =700+táj.2!J14 -> 700 | K14: =0+táj.2!K14 -> 0 | L14: =0+táj.2!L14 -> 0 | M14: =0+táj.2!M14 -> 0 | N14: =0+táj.2!N14 -> 0 | O14: =0+táj.2!O14 -> 0 | P14: =0+táj.2!P14 -> 0 | Q14: =SUM(G14:P14) -> 700
D15: - szociális krízis alap | E15: 2 | F15: 121129 | G15: =0+táj.2!G15 -> 0 | H15: =0+táj.2!H15 -> 0 | I15: =0+táj.2!I15 -> 0 | J15: =3000+táj.2!J15 -> 3000 | K15: =0+táj.2!K15 -> 0 | L15: =0+táj.2!L15 -> 0 | M15: =0+táj.2!M15 -> 0 | N15: =0+táj.2!N15 -> 0 | O15: =0+táj.2!O15 -> 0 | P15: =0+táj.2!P15 -> 0 | Q15: =SUM(G15:P15) -> 3000
D16: - tüzifa támogatás | E16: 2 | F16: 121106 | G16: =0+táj.2!G16 -> 0 | H16: =0+táj.2!H16 -> 0 | I16: =0+táj.2!I16 -> 0 | J16: =2000+táj.2!J16 -> 2000 | K16: =0+táj.2!K16 -> 0 | L16: =0+táj.2!L16 -> 0 | M16: =0+táj.2!M16 -> 0 | N16: =0+táj.2!N16 -> 0 | O16: =0+táj.2!O16 -> 0 | P16: =0+táj.2!P16 -> 0 | Q16: =SUM(G16:P16) -> 2000
D17: 103010 Elhunyt személyek hátramaradottainak pénzbeli ellátása
D18: - temetési segély | E18: 2 | F18: 121131 | G18: =0+táj.2!G18 -> 0 | H18: =0+táj.2!H18 -> 0 | I18: =0+táj.2!I18 -> 0 | J18: =3000+táj.2!J18 -> 3000 | K18: =0+táj.2!K18 -> 0 | L18: =0+táj.2!L18 -> 0 | M18: =0+táj.2!M18 -> 0 | N18: =0+táj.2!N18 -> 0 | O18: =0+táj.2!O18 -> 0 | P18: =0+táj.2!P18 -> 0 | Q18: =SUM(G18:P18) -> 3000
D19: 106020 Lakásfenntartással, lakhatással összefüggő ellátások
D20: - lakhatási krízis alap Lakásalapból | E20: 2 | F20: 121130 | G20: =0+táj.2!G20 -> 0 | H20: =0+táj.2!H20 -> 0 | I20: =0+táj.2!I20 -> 0 | J20: =2000+táj.2!J20 -> 2000 | K20: =0+táj.2!K20 -> 0 | L20: =0+táj.2!L20 -> 0 | M20: =0+táj.2!M20 -> 0 | N20: =0+táj.2!N20 -> 0 | O20: =0+táj.2!O20 -> 0 | P20: =0+táj.2!P20 -> 0 | Q20: =SUM(G20:P20) -> 2000
D21: 107060 Egyéb szociális pénzbeli ellátások, támogatások
D22: - gyógyszertámogatás | E22: 1 | F22: 121204 | G22: =0+táj.2!G22 -> 0 | H22: =0+táj.2!H22 -> 0 | I22: =0+táj.2!I22 -> 0 | J22: =14000+táj.2!J22 -> 14000 | K22: =0+táj.2!K22 -> 0 | L22: =0+táj.2!L22 -> 0 | M22: =0+táj.2!M22 -> 0 | N22: =0+táj.2!N22 -> 0 | O22: =0+táj.2!O22 -> 0 | P22: =0+táj.2!P22 -> 0 | Q22: =SUM(G22:P22) -> 14000
D23: - gyógyászati segédeszköz támogatás | E23: 1 | F23: 121132 | G23: =0+táj.2!G23 -> 0 | H23: =0+táj.2!H23 -> 0 | I23: =0+táj.2!I23 -> 0 | J23: =250+táj.2!J23 -> 250 | K23: =0+táj.2!K23 -> 0 | L23: =0+táj.2!L23 -> 0 | M23: =0+táj.2!M23 -> 0 | N23: =0+táj.2!N23 -> 0 | O23: =0+táj.2!O23 -> 0 | P23: =0+táj.2!P23 -> 0 | Q23: =SUM(G23:P23) -> 250
D24: - köztemetés | E24: 1 | F24: 121203 | G24: =0+táj.2!G24 -> 0 | H24: =0+táj.2!H24 -> 0 | I24: =780+táj.2!I24 -> 1280 | J24: =5720+táj.2!J24 -> 5220 | K24: =0+táj.2!K24 -> 0 | L24: =0+táj.2!L24 -> 0 | M24: =0+táj.2!M24 -> 0 | N24: =0+táj.2!N24 -> 0 | O24: =0+táj.2!O24 -> 0 | P24: =0+táj.2!P24 -> 0 | Q24: =SUM(G24:P24) -> 6500
D25: 094260 Hallgatói és oktatói ösztöndíjak, egyéb juttatások
D26: - Bursa Hungarica ösztöndíj | E26: 2 | F26: 121504 | G26: =0+táj.2!G26 -> 0 | H26: =0+táj.2!H26 -> 0 | I26: =0+táj.2!I26 -> 0 | J26: =4400+táj.2!J26 -> 4400 | K26: =0+táj.2!K26 -> 0 | L26: =0+táj.2!L26 -> 0 | M26: =0+táj.2!M26 -> 0 | N26: =0+táj.2!N26 -> 0 | O26: =0+táj.2!O26 -> 0 | P26: =0+táj.2!P26 -> 0 | Q26: =SUM(G26:P26) -> 4400
D27: 061030 Lakáshoz jutást segítő támogatások
D28: - lakásgazdálkodási feladatokra | E28: 1 | F28: 121403 | G28: =0+táj.2!G28 -> 0 | H28: =0+táj.2!H28 -> 0 | I28: =50+táj.2!I28 -> 50 | J28: =0+táj.2!J28 -> 0 | K28: =0+táj.2!K28 -> 0 | L28: =0+táj.2!L28 -> 0 | M28: =0+táj.2!M28 -> 0 | N28: =0+táj.2!N28 -> 0 | O28: =0+táj.2!O28 -> 0 | P28: =0+táj.2!P28 -> 0 | Q28: =SUM(G28:P28) -> 50
D29: 104042 Család- és gyermekjóléti szolgálat
D30: - Családsegítő Szolgálathoz krízissegélyezés | E30: 1 | F30: 121301 | G30: =0+táj.2!G30 -> 0 | H30: =0+táj.2!H30 -> 0 | I30: =0+táj.2!I30 -> 0 | J30: =0+táj.2!J30 -> 0 | K30: =0+táj.2!K30 -> 0 | L30: =0+táj.2!L30 -> 0 | M30: =0+táj.2!M30 -> 0 | N30: =0+táj.2!N30 -> 0 | ... P30: =0+táj.2!P30 -> 0 | Q30: =SUM(G30:P30) -> 0
D31: 011130 Önkorm. és önkorm. hivatal. jogalk. és ált.ig.tev.
D32: - Egerszegkártya | E32: 2 | F32: 221902 | G32: =0+táj.2!G32 -> 0 | H32: =0+táj.2!H32 -> 0 | I32: =29775+táj.2!I32 -> 29775 | J32: =0+táj.2!J32 -> 0 | K32: =0+táj.2!K32 -> 0 | L32: =0+táj.2!L32 -> 0 | M32: =0+táj.2!M32 -> 0 | N32: =0+táj.2!N32 -> 0 | O32: =0+táj.2!O32 -> 0 | P32: =0+táj.2!P32 -> 0 | Q32: =SUM(G32:P32) -> 29775
D33: - Nemzedékek kézfogása | E33: 2 | F33: 22190** | G33: =0+táj.2!G33 -> 0 | H33: =4900+táj.2!H33 -> 4900 | I33: =200+táj.2!I33 -> 350 | J33: =14900+táj.2!J33 -> 14750 | K33: =0+táj.2!K33 -> 0 | L33: =0+táj.2!L33 -> 0 | M33: =0+táj.2!M33 -> 0 | N33: =0+táj.2!N33 -> 0 | O33: =0+táj.2!O33 -> 0 | P33: =0+táj.2!P33 -> 0 | Q33: =SUM(G33:P33) -> 20000
D34: - bírtokvédelmi költség megelőlegezés | E34: 1 | F34: 121118 | G34: =0+táj.2!G34 -> 0 | H34: =0+táj.2!H34 -> 0 | I34: =300+táj.2!I34 -> 300 | J34: =0+táj.2!J34 -> 0 | K34: =0+táj.2!K34 -> 0 | L34: =0+táj.2!L34 -> 0 | M34: =0+táj.2!M34 -> 0 | N34: =0+táj.2!N34 -> 0 | O34: =0+táj.2!O34 -> 0 | P34: =0+táj.2!P34 -> 0 | Q34: =SUM(G34:P34) -> 300
D35: - talált tárgyak felértékeltetése | E35: 1 | F35: 121515 | G35: =0+táj.2!G35 -> 0 | H35: =0+táj.2!H35 -> 0 | I35: =200+táj.2!I35 -> 200 | J35: =0+táj.2!J35 -> 0 | K35: =0+táj.2!K35 -> 0 | L35: =0+táj.2!L35 -> 0 | M35: =0+táj.2!M35 -> 0 | N35: =0+táj.2!N35 -> 0 | O35: =0+táj.2!O35 -> 0 | P35: =0+táj.2!P35 -> 0 | Q35: =SUM(G35:P35) -> 200
D36: 032020 Tűz- és katasztrófavéd. tevékenység
D37: - helyi védelmi igazgatás | E37: 1 | F37: 121601 | G37: =150+táj.2!G37 -> 150 | H37: =50+táj.2!H37 -> 50 | I37: =200+táj.2!I37 -> 200 | J37: =0+táj.2!J37 -> 0 | K37: =100+táj.2!K37 -> 100 | L37: =0+táj.2!L37 -> 0 | M37: =0+táj.2!M37 -> 0 | N37: =0+táj.2!N37 -> 0 | O37: =0+táj.2!O37 -> 0 | P37: =0+táj.2!P37 -> 0 | Q37: =SUM(G37:P37) -> 500
D38: 109010 Szociális szolgáltatás igazgatása
D39: - "Lakhatásért" Közalapítvány támogatása | E39: 2 | F39: 121517 | G39: =0+táj.2!G39 -> 0 | H39: =0+táj.2!H39 -> 0 | I39: =0+táj.2!I39 -> 0 | J39: =0+táj.2!J39 -> 0 | K39: =3243+táj.2!K39 -> 3243 | L39: =0+táj.2!L39 -> 0 | M39: =0+táj.2!M39 -> 0 | N39: =0+táj.2!N39 -> 0 | O39: =0+táj.2!O39 -> 0 | P39: =0+táj.2!P39 -> 0 | Q39: =SUM(G39:P39) -> 3243
D40: Szociális és igazgatási fa.működési kiadás összesen: | G40: =SUM(G7:G39) -> 150 | H40: =SUM(H7:H39) -> 4950 | I40: =SUM(I7:I39) -> 32155 | J40: =SUM(J7:J39) -> 88920 | K40: =SUM(K7:K39) -> 3343 | L40: =SUM(L7:L39) -> 0 | M40: =SUM(M7:M39) -> 0 | N40: =SUM(N7:N39) -> 0 | ... Q40: =SUM(Q7:Q39) -> 129518
D41: Beruházási és felújítási kiadások:
C42: 1./1 | D42: Önkormányzat által nyújtott lakástámogatás első lakáshoz jutók részére (Lakásalapból) | F42: 121401 | G42: =0+táj.2!G42 -> 0 | H42: =0+táj.2!H42 -> 0 | I42: =0+táj.2!I42 -> 0 | J42: =0+táj.2!J42 -> 0 | K42: =0+táj.2!K42 -> 0 | L42: =0+táj.2!L42 -> 0 | M42: =0+táj.2!M42 -> 0 | N42: =7200+táj.2!N42 -> 7200 | O42: =0+táj.2!O42 -> 0 | P42: =0+táj.2!P42 -> 0 | Q42: =SUM(G42:P42) -> 7200
D43: 2019. évről áthúzódó feladat
C44: 1.a/1 | D44: Családok otthonteremtési kedvezménye (Lakásalap) | F44: 121405 | G44: =0+táj.2!G44 -> 0 | H44: =0+táj.2!H44 -> 0 | I44: =0+táj.2!I44 -> 0 | J44: =0+táj.2!J44 -> 0 | K44: =0+táj.2!K44 -> 0 | L44: =0+táj.2!L44 -> 0 | M44: =0+táj.2!M44 -> 0 | N44: =900+táj.2!N44 -> 900 | O44: =0+táj.2!O44 -> 0 | P44: =0+táj.2!P44 -> 0 | Q44: =SUM(G44:P44) -> 900
C45: 1.a/2 | D45: Kamatmentes kölcsön az ideiglenesen nehéz helyzetbe került zeg-i polgárok számára (Lakásalapból) | F45: 121402 | G45: =0+táj.2!G45 -> 0 | H45: =0+táj.2!H45 -> 0 | I45: =0+táj.2!I45 -> 0 | J45: =0+táj.2!J45 -> 0 | K45: =0+táj.2!K45 -> 0 | L45: =0+táj.2!L45 -> 0 | M45: =0+táj.2!M45 -> 0 | N45: =13819+táj.2!N45 -> 13819 | O45: =0+táj.2!O45 -> 0 | P45: =0+táj.2!P45 -> 0 | Q45: =SUM(G45:P45) -> 13819
D46: Szociális és igazgatási fa. kiadásai összesen: | G46: =SUM(G40:G45) -> 150 | H46: =SUM(H40:H45) -> 4950 | I46: =SUM(I40:I45) -> 32155 | J46: =SUM(J40:J45) -> 88920 | K46: =SUM(K40:K45) -> 3343 | L46: =SUM(L40:L45) -> 0 | M46: =SUM(M40:M45) -> 0 | N46: =SUM(N40:N45) -> 21919 | ... Q46: =SUM(Q40:Q45) -> 151437
A47: 1 | B47: 13 | D47: Humánigazgatási feladatok
D48: Oktatási feladatok
D49: 098010 Oktatás igazgatása
D50: - Zalaegerszegi Szakképzési Centrum részére támogatás szakképzési ösztöndíj céljára | E50: 2 | F50: 131112 | G50: =0+táj.2!G50 -> 0 | H50: =0+táj.2!H50 -> 0 | I50: =0+táj.2!I50 -> 0 | J50: =0+táj.2!J50 -> 0 | K50: =12000+táj.2!K50 -> 12000 | L50: =0+táj.2!L50 -> 0 | M50: =0+táj.2!M50 -> 0 | N50: =0+táj.2!N50 -> 0 | O50: =0+táj.2!O50 -> 0 | P50: =0+táj.2!P50 -> 0 | Q50: =SUM(G50:P50) -> 12000
D51: - intézmények és civil szervezetek támogatása, rendezvényeik finanszírozása | E51: 2 | F51: 131123 | G51: =0+táj.2!G51 -> 0 | H51: =0+táj.2!H51 -> 0 | I51: =0+táj.2!I51 -> 0 | J51: =0+táj.2!J51 -> 0 | K51: =3000+táj.2!K51 -> 3000 | L51: =0+táj.2!L51 -> 0 | M51: =0+táj.2!M51 -> 0 | N51: =0+táj.2!N51 -> 0 | O51: =0+táj.2!O51 -> 0 | P51: =0+táj.2!P51 -> 0 | Q51: =SUM(G51:P51) -> 3000
D52: - díszokleveles pedagógusok ünnepsége és jutalmazása | E52: 2 | F52: 131122 | G52: =1180+táj.2!G52 -> 1180 | H52: =470+táj.2!H52 -> 470 | I52: =0+táj.2!I52 -> 0 | J52: =0+táj.2!J52 -> 0 | K52: =350+táj.2!K52 -> 350 | L52: =0+táj.2!L52 -> 0 | M52: =0+táj.2!M52 -> 0 | N52: =0+táj.2!N52 -> 0 | O52: =0+táj.2!O52 -> 0 | P52: =0+táj.2!P52 -> 0 | Q52: =SUM(G52:P52) -> 2000
D53: - angol nyelvű óvodai csoport dolgozói részére angol nyelvi felkészítő támogatása | E53: 2 | F53: 131124 | G53: =0+táj.2!G53 -> 0 | H53: =0+táj.2!H53 -> 0 | I53: =650+táj.2!I53 -> 650 | J53: =0+táj.2!J53 -> 0 | K53: =0+táj.2!K53 -> 0 | L53: =0+táj.2!L53 -> 0 | M53: =0+táj.2!M53 -> 0 | N53: =0+táj.2!N53 -> 0 | O53: =0+táj.2!O53 -> 0 | P53: =0+táj.2!P53 -> 0 | Q53: =SUM(G53:P53) -> 650
D54: - Zeg.Felsőfokú Oktatásáért Közalapítvány támogatása | E54: 2 | F54: 131107 | G54: =0+táj.2!G54 -> 0 | H54: =0+táj.2!H54 -> 0 | I54: =0+táj.2!I54 -> 0 | J54: =0+táj.2!J54 -> 0 | K54: =55000+táj.2!K54 -> 55000 | L54: =0+táj.2!L54 -> 0 | M54: =0+táj.2!M54 -> 0 | N54: =0+táj.2!N54 -> 0 | O54: =0+táj.2!O54 -> 0 | P54: =0+táj.2!P54 -> 0 | Q54: =SUM(G54:P54) -> 55000
D55: - nyári táboroztatás | E55: 2 | F55: 131128 | G55: =0+táj.2!G55 -> 0 | H55: =0+táj.2!H55 -> 0 | I55: =0+táj.2!I55 -> 0 | J55: =0+táj.2!J55 -> 0 | K55: =0+táj.2!K55 -> 0 | L55: =0+táj.2!L55 -> 0 | M55: =0+táj.2!M55 -> 0 | N55: =0+táj.2!N55 -> 0 | ... P55: =0+táj.2!P55 -> 0 | Q55: =SUM(G55:P55) -> 0
D56: - Pedagógus napi rendezvény szervezése | E56: 2 | F56: 131212 | G56: =141+táj.2!G56 -> 141 | H56: =22+táj.2!H56 -> 22 | I56: =9+táj.2!I56 -> 9 | J56: =0+táj.2!J56 -> 0 | K56: =0+táj.2!K56 -> 0 | L56: =0+táj.2!L56 -> 0 | M56: =0+táj.2!M56 -> 0 | N56: =0+táj.2!N56 -> 0 | O56: =0+táj.2!O56 -> 0 | P56: =0+táj.2!P56 -> 0 | Q56: =SUM(G56:P56) -> 172
D57: Kulturális és ifjúsági feladatok
D58: 084070 A fiatalok társ. integrációját segítő struktúra, szakmai szolgált. fejlesztése, működtetése
D59: - ifjúsági rendezvények | E59: 2 | F59: 131201 | G59: =100+táj.2!G59 -> 0 | H59: =40+táj.2!H59 -> 0 | I59: =210+táj.2!I59 -> 350 | J59: =0+táj.2!J59 -> 0 | K59: =0+táj.2!K59 -> 0 | L59: =0+táj.2!L59 -> 0 | M59: =0+táj.2!M59 -> 0 | N59: =0+táj.2!N59 -> 0 | O59: =0+táj.2!O59 -> 0 | P59: =0+táj.2!P59 -> 0 | Q59: =SUM(G59:P59) -> 350
D60: - Zalaegerszegi Városi Diákönkormányzat | E60: 2 | F60: 131202 | G60: =200+táj.2!G60 -> 200 | H60: =80+táj.2!H60 -> 80 | I60: =470+táj.2!I60 -> 470 | J60: =0+táj.2!J60 -> 0 | K60: =0+táj.2!K60 -> 0 | L60: =0+táj.2!L60 -> 0 | M60: =0+táj.2!M60 -> 0 | N60: =0+táj.2!N60 -> 0 | O60: =0+táj.2!O60 -> 0 | P60: =0+táj.2!P60 -> 0 | Q60: =SUM(G60:P60) -> 750
D61: - Zalaegerszegi Városi Diáknapok | E61: 2 | F61: 131205 | G61: =0+táj.2!G61 -> 0 | H61: =0+táj.2!H61 -> 0 | I61: =0+táj.2!I61 -> 0 | J61: =0+táj.2!J61 -> 0 | K61: =920+táj.2!K61 -> 0 | L61: =0+táj.2!L61 -> 0 | M61: =0+táj.2!M61 -> 0 | N61: =0+táj.2!N61 -> 0 | O61: =0+táj.2!O61 -> 0 | P61: =0+táj.2!P61 -> 0 | Q61: =SUM(G61:P61) -> 0
D62: - Zalaegerszegi Egyetemisták Egyesülete | E62: 2 | F62: 131206 | G62: =0+táj.2!G62 -> 0 | H62: =0+táj.2!H62 -> 0 | I62: =0+táj.2!I62 -> 0 | J62: =0+táj.2!J62 -> 0 | K62: =800+táj.2!K62 -> 800 | L62: =0+táj.2!L62 -> 0 | M62: =0+táj.2!M62 -> 0 | N62: =0+táj.2!N62 -> 0 | O62: =0+táj.2!O62 -> 0 | P62: =0+táj.2!P62 -> 0 | Q62: =SUM(G62:P62) -> 800
D63: - Zalaegerszegi Ifjúsági Kerekasztal | E63: 2 | F63: 131209 | G63: =150+táj.2!G63 -> 150 | H63: =61+táj.2!H63 -> 61 | I63: =317+táj.2!I63 -> 317 | J63: =0+táj.2!J63 -> 0 | K63: =0+táj.2!K63 -> 0 | L63: =0+táj.2!L63 -> 0 | M63: =0+táj.2!M63 -> 0 | N63: =0+táj.2!N63 -> 0 | O63: =0+táj.2!O63 -> 0 | P63: =0+táj.2!P63 -> 0 | Q63: =SUM(G63:P63) -> 528
D64: - UNICEF gyermekbarát település pályázat | E64: 2 | F64: 131211 | G64: =0+táj.2!G64 -> 0 | H64: =0+táj.2!H64 -> 0 | I64: =965+táj.2!I64 -> 965 | J64: =0+táj.2!J64 -> 0 | K64: =0+táj.2!K64 -> 0 | L64: =0+táj.2!L64 -> 0 | M64: =0+táj.2!M64 -> 0 | N64: =0+táj.2!N64 -> 0 | O64: =0+táj.2!O64 -> 0 | P64: =0+táj.2!P64 -> 0 | Q64: =SUM(G64:P64) -> 965
D65: 094260 Hallgatói és oktatói ösztöndíjak, egyéb juttatások
D66: - felsőoktatási ösztöndíj és támogatás | E66: 2 | F66: 131101 | G66: =0+táj.2!G66 -> 0 | H66: =0+táj.2!H66 -> 0 | I66: =0+táj.2!I66 -> 0 | J66: =5500+táj.2!J66 -> 5500 | K66: =6500+táj.2!K66 -> 6500 | L66: =0+táj.2!L66 -> 0 | M66: =0+táj.2!M66 -> 0 | N66: =0+táj.2!N66 -> 0 | O66: =0+táj.2!O66 -> 0 | P66: =0+táj.2!P66 -> 0 | Q66: =SUM(G66:P66) -> 12000
D67: 074052 Kábítószer megelőzés programja
D68: - Zalaegerszegi Kábítószerügyi Egyeztető Fórum | E68: 2 | F68: 131120 | G68: =0+táj.2!G68 -> 0 | H68: =0+táj.2!H68 -> 0 | I68: =1300+táj.2!I68 -> 1300 | J68: =0+táj.2!J68 -> 0 | K68: =0+táj.2!K68 -> 0 | L68: =0+táj.2!L68 -> 0 | M68: =0+táj.2!M68 -> 0 | N68: =0+táj.2!N68 -> 0 | O68: =0+táj.2!O68 -> 0 | P68: =0+táj.2!P68 -> 0 | Q68: =SUM(G68:P68) -> 1300
D69: 082091 Közművelődés - közösségi és társ. részvétel fejleszt.
D70: - Magyar Kultúra Napja | E70: 2 | F70: 131346 | G70: =128+táj.2!G70 -> 128 | H70: =58+táj.2!H70 -> 58 | I70: =184+táj.2!I70 -> 184 | J70: =0+táj.2!J70 -> 0 | K70: =740+táj.2!K70 -> 740 | L70: =0+táj.2!L70 -> 0 | M70: =0+táj.2!M70 -> 0 | N70: =0+táj.2!N70 -> 0 | O70: =0+táj.2!O70 -> 0 | P70: =0+táj.2!P70 -> 0 | Q70: =SUM(G70:P70) -> 1110
D71: - Fazekas-keramikus találkozó | E71: 2 | F71: 131305 | G71: =0+táj.2!G71 -> 0 | H71: =0+táj.2!H71 -> 0 | I71: =0+táj.2!I71 -> 0 | J71: =0+táj.2!J71 -> 0 | K71: =1500+táj.2!K71 -> 1500 | L71: =0+táj.2!L71 -> 0 | M71: =0+táj.2!M71 -> 0 | N71: =0+táj.2!N71 -> 0 | O71: =0+táj.2!O71 -> 0 | P71: =0+táj.2!P71 -> 0 | Q71: =SUM(G71:P71) -> 1500
D72: - Egerszeg búcsú | E72: 2 | F72: 131306 | G72: =0+táj.2!G72 -> 0 | H72: =0+táj.2!H72 -> 0 | I72: =0+táj.2!I72 -> 0 | J72: =0+táj.2!J72 -> 0 | K72: =700+táj.2!K72 -> 700 | L72: =0+táj.2!L72 -> 0 | M72: =0+táj.2!M72 -> 0 | N72: =0+táj.2!N72 -> 0 | O72: =0+táj.2!O72 -> 0 | P72: =0+táj.2!P72 -> 0 | Q72: =SUM(G72:P72) -> 700
D73: - Betlehem működtetése | E73: 2 | F73: 131325 | G73: =0+táj.2!G73 -> 0 | H73: =0+táj.2!H73 -> 0 | I73: =1382+táj.2!I73 -> 1382 | J73: =0+táj.2!J73 -> 0 | K73: =0+táj.2!K73 -> 0 | L73: =0+táj.2!L73 -> 0 | M73: =0+táj.2!M73 -> 0 | N73: =0+táj.2!N73 -> 0 | O73: =0+táj.2!O73 -> 0 | P73: =0+táj.2!P73 -> 0 | Q73: =SUM(G73:P73) -> 1382
D74: - Kvártélyház Kft. támogatása | E74: 2 | F74: 131321 | G74: =0+táj.2!G74 -> 0 | H74: =0+táj.2!H74 -> 0 | I74: =0+táj.2!I74 -> 0 | J74: =0+táj.2!J74 -> 0 | K74: =31000+táj.2!K74 -> 31000 | L74: =0+táj.2!L74 -> 0 | M74: =0+táj.2!M74 -> 0 | N74: =0+táj.2!N74 -> 0 | O74: =0+táj.2!O74 -> 0 | P74: =0+táj.2!P74 -> 0 | Q74: =SUM(G74:P74) -> 31000
D75: - Zalaegerszegi Rendezvényszervező Kft. működési támogatása | E75: 2 | F75: 131313 | G75: =0+táj.2!G75 -> 0 | H75: =0+táj.2!H75 -> 0 | I75: =0+táj.2!I75 -> 0 | J75: =0+táj.2!J75 -> 0 | K75: =42500+táj.2!K75 -> 42500 | L75: =0+táj.2!L75 -> 0 | M75: =0+táj.2!M75 -> 0 | N75: =0+táj.2!N75 -> 0 | O75: =0+táj.2!O75 -> 0 | P75: =0+táj.2!P75 -> 0 | Q75: =SUM(G75:P75) -> 42500
D76: - Keresztury Emlékbizottság | E76: 2 | F76: 131501 | G76: =0+táj.2!G76 -> 0 | H76: =0+táj.2!H76 -> 0 | I76: =250+táj.2!I76 -> 250 | J76: =0+táj.2!J76 -> 0 | K76: =0+táj.2!K76 -> 0 | L76: =0+táj.2!L76 -> 0 | M76: =0+táj.2!M76 -> 0 | N76: =0+táj.2!N76 -> 0 | O76: =0+táj.2!O76 -> 0 | P76: =0+táj.2!P76 -> 0 | Q76: =SUM(G76:P76) -> 250
D77: - Gébárti Művésztelep | E77: 2 | F77: 131307 | G77: =0+táj.2!G77 -> 0 | H77: =0+táj.2!H77 -> 0 | I77: =0+táj.2!I77 -> 0 | J77: =0+táj.2!J77 -> 0 | K77: =600+táj.2!K77 -> 600 | L77: =0+táj.2!L77 -> 0 | M77: =0+táj.2!M77 -> 0 | N77: =0+táj.2!N77 -> 0 | O77: =0+táj.2!O77 -> 0 | P77: =0+táj.2!P77 -> 0 | Q77: =SUM(G77:P77) -> 600
D78: - táncház mozgalom | E78: 2 | F78: 131340 | G78: =0+táj.2!G78 -> 0 | H78: =0+táj.2!H78 -> 0 | I78: =0+táj.2!I78 -> 0 | J78: =0+táj.2!J78 -> 0 | K78: =400+táj.2!K78 -> 400 | L78: =0+táj.2!L78 -> 0 | M78: =0+táj.2!M78 -> 0 | N78: =0+táj.2!N78 -> 0 | O78: =0+táj.2!O78 -> 0 | P78: =0+táj.2!P78 -> 0 | Q78: =SUM(G78:P78) -> 400
D79: - Népi hang-színek kiadvány | E79: 2 | F79: 131343 | G79: =0+táj.2!G79 -> 0 | H79: =0+táj.2!H79 -> 0 | I79: =0+táj.2!I79 -> 0 | J79: =0+táj.2!J79 -> 0 | K79: =400+táj.2!K79 -> 400 | L79: =0+táj.2!L79 -> 0 | M79: =0+táj.2!M79 -> 0 | N79: =0+táj.2!N79 -> 0 | O79: =0+táj.2!O79 -> 0 | P79: =0+táj.2!P79 -> 0 | Q79: =SUM(G79:P79) -> 400
D80: - folk hétvége | E80: 2 | F80: 131351 | G80: =0+táj.2!G80 -> 0 | H80: =0+táj.2!H80 -> 0 | I80: =0+táj.2!I80 -> 0 | J80: =0+táj.2!J80 -> 0 | K80: =400+táj.2!K80 -> 400 | L80: =0+táj.2!L80 -> 0 | M80: =0+táj.2!M80 -> 0 | N80: =0+táj.2!N80 -> 0 | O80: =0+táj.2!O80 -> 0 | P80: =0+táj.2!P80 -> 0 | Q80: =SUM(G80:P80) -> 400
D81: - 11. éves sajtófotó kiállítás és album | E81: 2 | F81: 131310 | G81: =0+táj.2!G81 -> 0 | H81: =0+táj.2!H81 -> 0 | I81: =0+táj.2!I81 -> 0 | J81: =0+táj.2!J81 -> 0 | K81: =500+táj.2!K81 -> 500 | L81: =0+táj.2!L81 -> 0 | M81: =0+táj.2!M81 -> 0 | N81: =0+táj.2!N81 -> 0 | O81: =0+táj.2!O81 -> 0 | P81: =0+táj.2!P81 -> 0 | Q81: =SUM(G81:P81) -> 500
D82: - Kamaratáncfesztivál | E82: 2 | F82: 131315 | G82: =0+táj.2!G82 -> 0 | H82: =0+táj.2!H82 -> 0 | I82: =0+táj.2!I82 -> 0 | J82: =0+táj.2!J82 -> 0 | K82: =500+táj.2!K82 -> 500 | L82: =0+táj.2!L82 -> 0 | M82: =0+táj.2!M82 -> 0 | N82: =0+táj.2!N82 -> 0 | O82: =0+táj.2!O82 -> 0 | P82: =0+táj.2!P82 -> 0 | Q82: =SUM(G82:P82) -> 500
D83: - Kórusfesztivál | E83: 2 | F83: 131314 | G83: =0+táj.2!G83 -> 0 | H83: =0+táj.2!H83 -> 0 | I83: =0+táj.2!I83 -> 0 | J83: =0+táj.2!J83 -> 0 | K83: =1500+táj.2!K83 -> 1500 | L83: =0+táj.2!L83 -> 0 | M83: =0+táj.2!M83 -> 0 | N83: =0+táj.2!N83 -> 0 | O83: =0+táj.2!O83 -> 0 | P83: =0+táj.2!P83 -> 0 | Q83: =SUM(G83:P83) -> 1500
D84: - Zalaegerszegi Szimfonikus Zenekar támogatása | E84: 2 | F84: 131348 | G84: =0+táj.2!G84 -> 0 | H84: =0+táj.2!H84 -> 0 | I84: =0+táj.2!I84 -> 0 | J84: =0+táj.2!J84 -> 0 | K84: =2500+táj.2!K84 -> 2500 | L84: =0+táj.2!L84 -> 0 | M84: =0+táj.2!M84 -> 0 | N84: =0+táj.2!N84 -> 0 | O84: =0+táj.2!O84 -> 0 | P84: =0+táj.2!P84 -> 0 | Q84: =SUM(G84:P84) -> 2500
D85: - '47-es Honvéd Zászlóalj Hagyományőrző Egyesület támogatása | E85: 2 | F85: 131345 | G85: =0+táj.2!G85 -> 0 | H85: =0+táj.2!H85 -> 0 | I85: =0+táj.2!I85 -> 0 | J85: =0+táj.2!J85 -> 0 | K85: =200+táj.2!K85 -> 200 | L85: =0+táj.2!L85 -> 0 | M85: =0+táj.2!M85 -> 0 | N85: =0+táj.2!N85 -> 0 | O85: =0+táj.2!O85 -> 0 | P85: =0+táj.2!P85 -> 0 | Q85: =SUM(G85:P85) -> 200
D86: - Zegasztár-Tehetségbarát Önkormányzat | E86: 2 | F86: 131326 | G86: =0+táj.2!G86 -> 0 | H86: =0+táj.2!H86 -> 0 | I86: =0+táj.2!I86 -> 0 | J86: =0+táj.2!J86 -> 0 | K86: =2900+táj.2!K86 -> 2900 | L86: =0+táj.2!L86 -> 0 | M86: =0+táj.2!M86 -> 0 | N86: =0+táj.2!N86 -> 0 | O86: =0+táj.2!O86 -> 0 | P86: =0+táj.2!P86 -> 0 | Q86: =SUM(G86:P86) -> 2900
D87: 084031 Civil szervezetek műk. támogatása
D88: - Zalai Civil Életért Közhasznú Egy.támogatása (Civil ház működtetése) | E88: 2 | F88: 131401 | G88: =0+táj.2!G88 -> 0 | H88: =0+táj.2!H88 -> 0 | I88: =0+táj.2!I88 -> 0 | J88: =0+táj.2!J88 -> 0 | K88: =1800+táj.2!K88 -> 1800 | L88: =0+táj.2!L88 -> 0 | M88: =0+táj.2!M88 -> 0 | N88: =0+táj.2!N88 -> 0 | O88: =0+táj.2!O88 -> 0 | P88: =0+táj.2!P88 -> 0 | Q88: =SUM(G88:P88) -> 1800
D89: - Pannon Tükör kulturális folyóirat támogatása | E89: 2 | F89: 131402 | G89: =0+táj.2!G89 -> 0 | H89: =0+táj.2!H89 -> 0 | I89: =0+táj.2!I89 -> 0 | J89: =0+táj.2!J89 -> 0 | K89: =5000+táj.2!K89 -> 5000 | L89: =0+táj.2!L89 -> 0 | M89: =0+táj.2!M89 -> 0 | N89: =0+táj.2!N89 -> 0 | O89: =0+táj.2!O89 -> 0 | P89: =0+táj.2!P89 -> 0 | Q89: =SUM(G89:P89) -> 5000
D90: - önálló kulturális egyesületek, együttesek | E90: 2 | F90: 131403 | G90: =0+táj.2!G90 -> 0 | H90: =0+táj.2!H90 -> 0 | I90: =0+táj.2!I90 -> 0 | J90: =0+táj.2!J90 -> 0 | K90: =5000+táj.2!K90 -> 5000 | L90: =0+táj.2!L90 -> 0 | M90: =0+táj.2!M90 -> 0 | N90: =0+táj.2!N90 -> 0 | O90: =0+táj.2!O90 -> 0 | P90: =0+táj.2!P90 -> 0 | Q90: =SUM(G90:P90) -> 5000
D91: - peremkerületek támogatása | E91: 2 | F91: 131404 | G91: =0+táj.2!G91 -> 0 | H91: =0+táj.2!H91 -> 0 | I91: =0+táj.2!I91 -> 0 | J91: =0+táj.2!J91 -> 0 | K91: =3275+táj.2!K91 -> 3275 | L91: =0+táj.2!L91 -> 0 | M91: =0+táj.2!M91 -> 0 | N91: =0+táj.2!N91 -> 0 | O91: =0+táj.2!O91 -> 0 | P91: =0+táj.2!P91 -> 0 | Q91: =SUM(G91:P91) -> 3275
D92: - Zalai Táncegyüttes Egyesület támogatás | E92: 2 | F92: 131330 | G92: =0+táj.2!G92 -> 0 | H92: =0+táj.2!H92 -> 0 | I92: =0+táj.2!I92 -> 0 | J92: =0+táj.2!J92 -> 0 | K92: =2000+táj.2!K92 -> 2000 | L92: =0+táj.2!L92 -> 0 | M92: =0+táj.2!M92 -> 0 | N92: =0+táj.2!N92 -> 0 | O92: =0+táj.2!O92 -> 0 | P92: =0+táj.2!P92 -> 0 | Q92: =SUM(G92:P92) -> 2000
D93: - Zalegerszeg Kultúrájáért Közalapítvány támogatása | E93: 2 | F93: 131507 | G93: =0+táj.2!G93 -> 0 | H93: =0+táj.2!H93 -> 0 | I93: =0+táj.2!I93 -> 0 | J93: =0+táj.2!J93 -> 0 | K93: =2000+táj.2!K93 -> 2000 | L93: =0+táj.2!L93 -> 0 | M93: =0+táj.2!M93 -> 0 | N93: =0+táj.2!N93 -> 0 | O93: =0+táj.2!O93 -> 0 | P93: =0+táj.2!P93 -> 0 | Q93: =SUM(G93:P93) -> 2000
D94: - Zalaegerszegi Honvéd Klub támogatása | E94: 2 | F94: 171943 | G94: =0+táj.2!G94 -> 0 | H94: =0+táj.2!H94 -> 0 | I94: =0+táj.2!I94 -> 0 | J94: =0+táj.2!J94 -> 0 | K94: =400+táj.2!K94 -> 400 | L94: =0+táj.2!L94 -> 0 | M94: =0+táj.2!M94 -> 0 | N94: =0+táj.2!N94 -> 0 | O94: =0+táj.2!O94 -> 0 | P94: =0+táj.2!P94 -> 0 | Q94: =SUM(G94:P94) -> 400
D95: 082030 Művészeti tevékenység
D96: - művészeti ösztöndíjak | E96: 2 | F96: 131502 | G96: =0+táj.2!G96 -> 0 | H96: =0+táj.2!H96 -> 0 | I96: =0+táj.2!I96 -> 0 | J96: =500+táj.2!J96 -> 500 | K96: =0+táj.2!K96 -> 0 | L96: =0+táj.2!L96 -> 0 | M96: =0+táj.2!M96 -> 0 | N96: =0+táj.2!N96 -> 0 | O96: =0+táj.2!O96 -> 0 | P96: =0+táj.2!P96 -> 0 | Q96: =SUM(G96:P96) -> 500
D97: - Térzenei koncertek EMT-TE-B-A-21-0515 | E97: 2 | F97: 131304 | G97: =0+táj.2!G97 -> 0 | H97: =0+táj.2!H97 -> 0 | I97: =0+táj.2!I97 -> 0 | J97: =0+táj.2!J97 -> 0 | K97: =0+táj.2!K97 -> 7500 | L97: =0+táj.2!L97 -> 0 | M97: =0+táj.2!M97 -> 0 | N97: =0+táj.2!N97 -> 0 | ... P97: =0+táj.2!P97 -> 0 | Q97: =SUM(G97:P97) -> 7500
D98: 018030 Támogatási célú finanszírozási műveletek
D99: - Hevesi Sándor Színház társműködtetöi támogatás átadása | E99: 1 | F99: 131508 | G99: =0+táj.2!G99 -> 0 | H99: =0+táj.2!H99 -> 0 | I99: =0+táj.2!I99 -> 0 | J99: =0+táj.2!J99 -> 0 | K99: =288500+táj.2!K99 -> 288500 | L99: =0+táj.2!L99 -> 0 | M99: =0+táj.2!M99 -> 0 | N99: =0+táj.2!N99 -> 0 | O99: =0+táj.2!O99 -> 0 | P99: =0+táj.2!P99 -> 0 | Q99: =SUM(G99:P99) -> 288500
D100: - Griff Bábszínház társműködtetöi támogatás átadása | E100: 1 | F100: 131509 | G100: =0+táj.2!G100 -> 0 | H100: =0+táj.2!H100 -> 0 | I100: =0+táj.2!I100 -> 0 | J100: =0+táj.2!J100 -> 0 | K100: =65000+táj.2!K100 -> 65000 | L100: =0+táj.2!L100 -> 0 | M100: =0+táj.2!M100 -> 0 | N100: =0+táj.2!N100 -> 0 | O100: =0+táj.2!O100 -> 0 | P100: =0+táj.2!P100 -> 0 | Q100: =SUM(G100:P100) -> 65000
...

Sheet 9
A1: Cím szám | B1: Megnevezés | C1: 2021. évi eredeti előirányzat | D1: Módosítás összege | E1: Költségvetési bevételek | L1: Finanszírozási bevételek | O1: Bevételek összesen
E2: Működési célú támogatások áht-n belülről | F2: Felhalmozási célú támogatások áht-n belülről | G2: Közhatalmi bevételek | H2: Működési bevételek | I2: Felhalmozási bevételek | J2: Működési célú átvett pénzeszközök | K2: Felhalmozási célú átvett pénzeszközök | L2: Maradvány igénybevétele | M2: Központi, irányító szervi támogatás | N2: Egyéb finanszírozási bevétel
A3: 2. | B3: Polgármesteri Hivatal | C3: 1814430 | D3: =17337+táj.3!M3 -> 17468 | E3: =2911+táj.3!C3 -> 2911 | F3: =0+táj.3!D3 -> 0 | G3: =0+táj.3!E3 -> 0 | H3: =19049+táj.3!F3 -> 19180 | I3: =0+táj.3!G3 -> 0 | J3: =0+táj.3!H3 -> 0 | K3: =0+táj.3!I3 -> 0 | L3: =241063+táj.3!J3 -> 241063 | M3: =1568744+táj.3!K3 -> 1568744 | N3: =0+táj.3!L3 -> 0 | O3: =SUM(E3:N3) -> 1831898
A4: 3. | B4: Zalaegerszegi Gazdasági Ellátó Szervezet | C4: 1058472 | D4: =-41570+táj.3!M4 -> -155919 | E4: =0+táj.3!C4 -> 300 | F4: =0+táj.3!D4 -> 300 | G4: =0+táj.3!E4 -> 0 | H4: =491450+táj.3!F4 -> 373450 | I4: =0+táj.3!G4 -> 0 | J4: =0+táj.3!H4 -> 0 | K4: =0+táj.3!I4 -> 0 | L4: =35172+táj.3!J4 -> 35172 | M4: =490280+táj.3!K4 -> 493331 | N4: =0+táj.3!L4 -> 0 | O4: =SUM(E4:N4) -> 902553
A5: 4. | B5: Zalaegerszegi Egyesített Bölcsődék | C5: 676340 | D5: =23880+táj.3!M5 -> 45311 | E5: =7190+táj.3!C5 -> 300 | F5: =7800+táj.3!D5 -> 7800 | G5: =0+táj.3!E5 -> 0 | H5: =59126+táj.3!F5 -> 67226 | I5: =0+táj.3!G5 -> 0 | J5: =0+táj.3!H5 -> 0 | K5: =0+táj.3!I5 -> 0 | L5: =29582+táj.3!J5 -> 29582 | M5: =596522+táj.3!K5 -> 616743 | N5: =0+táj.3!L5 -> 0 | O5: =SUM(E5:N5) -> 721651
A6: 5. | B6: Zalaegerszegi Egészségügyi Alapellátási Intézmény | C6: 576794 | D6: =136984+táj.3!M6 -> 137634 | E6: =512872+táj.3!C6 -> 512872 | F6: =0+táj.3!D6 -> 0 | G6: =0+táj.3!E6 -> 0 | H6: =1000+táj.3!F6 -> 1600 | I6: =0+táj.3!G6 -> 0 | J6: =0+táj.3!H6 -> 0 | K6: =0+táj.3!I6 -> 0 | L6: =89601+táj.3!J6 -> 89601 | M6: =110305+táj.3!K6 -> 110355 | N6: =0+táj.3!L6 -> 0 | O6: =SUM(E6:N6) -> 714428
A7: 6. | B7: Zalaegerszegi Család- és Gyermekjóléti Központ | C7: 224231 | D7: =43262+táj.3!M7 -> 61780 | E7: =0+táj.3!C7 -> 0 | F7: =0+táj.3!D7 -> 0 | G7: =0+táj.3!E7 -> 0 | H7: =1000+táj.3!F7 -> 1460 | I7: =0+táj.3!G7 -> 0 | J7: =0+táj.3!H7 -> 0 | K7: =0+táj.3!I7 -> 0 | L7: =32843+táj.3!J7 -> 32843 | M7: =233650+táj.3!K7 -> 251708 | N7: =0+táj.3!L7 -> 0 | O7: =SUM(E7:N7) -> 286011
A8: 7. | B8: Zalaegerszegi Belvárosi I. számú Óvoda | C8: 377246 | D8: =16612+táj.3!M8 -> 17584 | E8: =7839+táj.3!C8 -> 0 | F8: =1600+táj.3!D8 -> 1600 | G8: =0+táj.3!E8 -> 0 | H8: =12103+táj.3!F8 -> 13053 | I8: =0+táj.3!G8 -> 0 | J8: =0+táj.3!H8 -> 0 | K8: =0+táj.3!I8 -> 0 | L8: =18283+táj.3!J8 -> 18283 | M8: =354033+táj.3!K8 -> 361894 | N8: =0+táj.3!L8 -> 0 | O8: =SUM(E8:N8) -> 394830
A9: 8. | B9: Zalaegerszegi Belvárosi II. számú Óvoda | C9: 327099 | D9: =17792+táj.3!M9 -> 19835 | E9: =3958+táj.3!C9 -> 0 | F9: =0+táj.3!D9 -> 0 | G9: =0+táj.3!E9 -> 0 | H9: =15210+táj.3!F9 -> 17210 | I9: =0+táj.3!G9 -> 0 | J9: =0+táj.3!H9 -> 0 | K9: =0+táj.3!I9 -> 0 | L9: =26808+táj.3!J9 -> 26808 | M9: =298915+táj.3!K9 -> 302916 | N9: =0+táj.3!L9 -> 0 | O9: =SUM(E9:N9) -> 346934
A10: 9. | B10: Zalaegerszegi Kertvárosi Óvoda | C10: 374926 | D10: =25974+táj.3!M10 -> 27348 | E10: =4261+táj.3!C10 -> 0 | F10: =990+táj.3!D10 -> 2020 | G10: =0+táj.3!E10 -> 0 | H10: =20200+táj.3!F10 -> 20200 | I10: =0+táj.3!G10 -> 0 | J10: =0+táj.3!H10 -> 0 | K10: =0+táj.3!I10 -> 0 | L10: =38757+táj.3!J10 -> 38757 | M10: =336692+táj.3!K10 -> 341297 | N10: =0+táj.3!L10 -> 0 | O10: =SUM(E10:N10) -> 402274
A11: 10. | B11: Zalaegerszegi Landorhegyi Óvoda | C11: 343570 | D11: =15347+táj.3!M11 -> 15347 | E11: =6853+táj.3!C11 -> 0 | F11: =1950+táj.3!D11 -> 1950 | G11: =0+táj.3!E11 -> 0 | H11: =12762+táj.3!F11 -> 12762 | I11: =0+táj.3!G11 -> 0 | J11: =0+táj.3!H11 -> 0 | K11: =0+táj.3!I11 -> 0 | L11: =17226+táj.3!J11 -> 17226 | M11: =320126+táj.3!K11 -> 326979 | N11: =0+táj.3!L11 -> 0 | O11: =SUM(E11:N11) -> 358917
A12: 11. | B12: Közgyűjteményi és Közművelődési GESZ | C12: 53686 | D12: =1725+táj.3!M12 -> 2695 | E12: =13035+táj.3!C12 -> 12763 | F12: =0+táj.3!D12 -> 0 | G12: =0+táj.3!E12 -> 0 | H12: =1+táj.3!F12 -> 1 | I12: =0+táj.3!G12 -> 0 | J12: =0+táj.3!H12 -> 0 | K12: =0+táj.3!I12 -> 0 | L12: =575+táj.3!J12 -> 575 | M12: =41800+táj.3!K12 -> 43042 | N12: =0+táj.3!L12 -> 0 | O12: =SUM(E12:N12) -> 56381
A13: 12. | B13: Keresztury Dezső Városi Művelődési Központ | C13: 492898 | D13: =32923+táj.3!M13 -> 45424 | E13: =27450+táj.3!C13 -> 32550 | F13: =31+táj.3!D13 -> 3831 | G13: =0+táj.3!E13 -> 0 | H13: =80000+táj.3!F13 -> 80000 | I13: =0+táj.3!G13 -> 0 | J13: =2498+táj.3!H13 -> 2498 | K13: =0+táj.3!I13 -> 0 | L13: =141345+táj.3!J13 -> 141345 | M13: =274497+táj.3!K13 -> 278098 | N13: =0+táj.3!L13 -> 0 | O13: =SUM(E13:N13) -> 538322
A14: 13. | B14: Zalaegerszegi Turisztikai Hivatal és Információs Iroda | C14: 20645 | D14: =5086+táj.3!M14 -> 5422 | E14: =3000+táj.3!C14 -> 3000 | F14: =0+táj.3!D14 -> 0 | G14: =0+táj.3!E14 -> 0 | H14: =1200+táj.3!F14 -> 1200 | I14: =0+táj.3!G14 -> 0 | J14: =0+táj.3!H14 -> 0 | K14: =0+táj.3!I14 -> 0 | L14: =1698+táj.3!J14 -> 1698 | M14: =19833+táj.3!K14 -> 20169 | N14: =0+táj.3!L14 -> 0 | O14: =SUM(E14:N14) -> 26067
A15: 14. | B15: Deák Ferenc Megyei és Városi Könyvtár | C15: 456340 | D15: =4523+táj.3!M15 -> 27226 | E15: =7773+táj.3!C15 -> 25297 | F15: =0+táj.3!D15 -> 841 | G15: =0+táj.3!E15 -> 0 | H15: =32190+táj.3!F15 -> 32190 | I15: =0+táj.3!G15 -> 0 | J15: =0+táj.3!H15 -> 0 | K15: =0+táj.3!I15 -> 0 | L15: =685+táj.3!J15 -> 685 | M15: =420215+táj.3!K15 -> 424553 | N15: =0+táj.3!L15 -> 0 | O15: =SUM(E15:N15) -> 483566
A16: 15. | B16: Göcseji Múzeum | C16: 517804 | D16: =73640+táj.3!M16 -> 106572 | E16: =20564+táj.3!C16 -> 32708 | F16: =835+táj.3!D16 -> 1949 | G16: =0+táj.3!E16 -> 0 | H16: =265948+táj.3!F16 -> 284599 | I16: =0+táj.3!G16 -> 0 | J16: =2500+táj.3!H16 -> 2500 | K16: =0+táj.3!I16 -> 250 | L16: =78508+táj.3!J16 -> 78508 | M16: =223089+táj.3!K16 -> 223862 | N16: =0+táj.3!L16 -> 0 | O16: =SUM(E16:N16) -> 624376
A17: 16. | B17: Hevesi Sándor Színház | C17: 749650 | D17: =59791+táj.3!M17 -> 74791 | E17: =364204+táj.3!C17 -> 379204 | F17: =31319+táj.3!D17 -> 31319 | G17: =0+táj.3!E17 -> 0 | H17: =137192+táj.3!F17 -> 137192 | I17: =0+táj.3!G17 -> 0 | J17: =0+táj.3!H17 -> 0 | K17: =0+táj.3!I17 -> 0 | L17: =34908+táj.3!J17 -> 34908 | M17: =241818+táj.3!K17 -> 241818 | N17: =0+táj.3!L17 -> 0 | O17: =SUM(E17:N17) -> 824441
A18: 17. | B18: Griff Bábszínház | C18: 144959 | D18: =15857+táj.3!M18 -> 18857 | E18: =71600+táj.3!C18 -> 71600 | F18: =13640+táj.3!D18 -> 13640 | G18: =0+táj.3!E18 -> 0 | H18: =17664+táj.3!F18 -> 17664 | I18: =0+táj.3!G18 -> 0 | J18: =0+táj.3!H18 -> 0 | K18: =0+táj.3!I18 -> 0 | L18: =13327+táj.3!J18 -> 13327 | M18: =44585+táj.3!K18 -> 47585 | N18: =0+táj.3!L18 -> 0 | O18: =SUM(E18:N18) -> 163816
A19: 18. | B19: Városi Sportlétesítmény Gondnokság Intézménye | C19: 138125 | D19: =18989+táj.3!M19 -> 24956 | E19: =0+táj.3!C19 -> 4524 | F19: =0+táj.3!D19 -> 0 | G19: =0+táj.3!E19 -> 0 | H19: =54214+táj.3!F19 -> 54214 | I19: =0+táj.3!G19 -> 0 | J19: =0+táj.3!H19 -> 0 | K19: =0+táj.3!I19 -> 0 | L19: =17828+táj.3!J19 -> 17828 | M19: =85072+táj.3!K19 -> 86515 | N19: =0+táj.3!L19 -> 0 | O19: =SUM(E19:N19) -> 163081
A20: 19. | B20: Vásárcsarnok | C20: 102247 | D20: =38+táj.3!M20 -> 38 | E20: =630+táj.3!C20 -> 630 | F20: =0+táj.3!D20 -> 0 | G20: =0+táj.3!E20 -> 0 | H20: =97419+táj.3!F20 -> 97419 | I20: =0+táj.3!G20 -> 0 | J20: =0+táj.3!H20 -> 0 | K20: =0+táj.3!I20 -> 0 | L20: =4236+táj.3!J20 -> 4236 | M20: =0+táj.3!K20 -> 0 | N20: =0+táj.3!L20 -> 0 | O20: =SUM(E20:N20) -> 102285
B21: Összesen: | C21: =SUM(C3:C20) -> 8449462 | D21: =SUM(D3:D20) -> 492369 | E21: =SUM(E3:E20) -> 1078659 | F21: =SUM(F3:F20) -> 65250 | G21: =SUM(G3:G20) -> 0 | H21: =SUM(H3:H20) -> 1230620 | I21: =SUM(I3:I20) -> 0 | J21: =SUM(J3:J20) -> 4998 | ... O21: =SUM(O3:O20) -> 8941831

Sheet 10
A1: Cím szám | B1: Megnevezés | C1: 2021. évi eredeti előirányzat | D1: Módosítás összege | E1: Költségvetési kiadások | M1: Finanszírozási kiadások | N1: Kiadások összesen
E2: Személyi juttatások | F2: Munkaadókat terhelő járulékok és szociális hj.adó | G2: Dologi kiadások | H2: Ellátottak pénzbeli juttatásai | I2: Egyéb működési célú kiadások | J2: Beruházások | K2: Felújítások | L2: Egyéb felhalmo-zási célú kiadások
A3: 2. | B3: Polgármesteri Hivatal | C3: 1814430 | D3: =17337+táj.4!L3 -> 17468 | E3: =1241933+táj.4!C3 -> 1241933 | F3: =221002+táj.4!D3 -> 221002 | G3: =229351+táj.4!E3 -> 227379 | H3: =0+táj.4!F3 -> 0 | I3: =45720+táj.4!G3 -> 45720 | J3: =82261+táj.4!H3 -> 84364 | K3: =11500+táj.4!I3 -> 11500 | L3: =0+táj.4!J3 -> 0 | M3: =0+táj.4!K3 -> 0 | N3: =SUM(E3:M3) -> 1831898
A4: 3. | B4: Zalaegerszegi Gazdasági Ellátó Szervezet | C4: 1058472 | D4: =-41570+táj.4!L4 -> -155919 | E4: =139823+táj.4!C4 -> 142681 | F4: =24840+táj.4!D4 -> 25283 | G4: =819438+táj.4!E4 -> 701488 | H4: =0+táj.4!F4 -> 0 | I4: =32301+táj.4!G4 -> 32301 | J4: =500+táj.4!H4 -> 800 | K4: =0+táj.4!I4 -> 0 | L4: =0+táj.4!J4 -> 0 | M4: =0+táj.4!K4 -> 0 | N4: =SUM(E4:M4) -> 902553
A5: 4. | B5: Zalaegerszegi Egyesített Bölcsődék | C5: 676340 | D5: =23880+táj.4!L5 -> 45311 | E5: =475000+táj.4!C5 -> 489816 | F5: =81742+táj.4!D5 -> 83559 | G5: =131093+táj.4!E5 -> 132176 | H5: =0+táj.4!F5 -> 0 | I5: =3128+táj.4!G5 -> 3128 | J5: =1457+táj.4!H5 -> 5872 | K5: =7800+táj.4!I5 -> 6800 | L5: =0+táj.4!J5 -> 300 | M5: =0+táj.4!K5 -> 0 | N5: =SUM(E5:M5) -> 721651
A6: 5. | B6: Zalaegerszegi Egészségügyi Alapellátási Intézmény | C6: 576794 | D6: =136984+táj.4!L6 -> 137634 | E6: =407570+táj.4!C6 -> 407613 | F6: =73589+táj.4!D6 -> 73596 | G6: =221922+táj.4!E6 -> 222522 | H6: =0+táj.4!F6 -> 0 | I6: =0+táj.4!G6 -> 0 | J6: =10697+táj.4!H6 -> 10697 | K6: =0+táj.4!I6 -> 0 | L6: =0+táj.4!J6 -> 0 | M6: =0+táj.4!K6 -> 0 | N6: =SUM(E6:M6) -> 714428
A7: 6. | B7: Zalaegerszegi Család- és Gyermekjóléti Központ | C7: 224231 | D7: =43262+táj.4!L7 -> 61780 | E7: =199459+táj.4!C7 -> 215094 | F7: =35608+táj.4!D7 -> 38031 | G7: =24884+táj.4!E7 -> 25344 | H7: =4092+táj.4!F7 -> 4092 | I7: =300+táj.4!G7 -> 300 | J7: =3150+táj.4!H7 -> 3150 | K7: =0+táj.4!I7 -> 0 | L7: =0+táj.4!J7 -> 0 | M7: =0+táj.4!K7 -> 0 | N7: =SUM(E7:M7) -> 286011
A8: 7. | B8: Zalaegerszegi Belvárosi I. számú Óvoda | C8: 377246 | D8: =16612+táj.4!L8 -> 17584 | E8: =275071+táj.4!C8 -> 275090 | F8: =47813+táj.4!D8 -> 47816 | G8: =63737+táj.4!E8 -> 64487 | H8: =0+táj.4!F8 -> 0 | I8: =2137+táj.4!G8 -> 2337 | J8: =4000+táj.4!H8 -> 4000 | K8: =1100+táj.4!I8 -> 1100 | L8: =0+táj.4!J8 -> 0 | M8: =0+táj.4!K8 -> 0 | N8: =SUM(E8:M8) -> 394830
A9: 8. | B9: Zalaegerszegi Belvárosi II. számú Óvoda | C9: 327099 | D9: =17792+táj.4!L9 -> 19835 | E9: =213058+táj.4!C9 -> 213095 | F9: =36998+táj.4!D9 -> 37004 | G9: =88948+táj.4!E9 -> 90808 | H9: =0+táj.4!F9 -> 0 | I9: =3387+táj.4!G9 -> 3387 | J9: =2500+táj.4!H9 -> 2500 | K9: =0+táj.4!I9 -> 140 | L9: =0+táj.4!J9 -> 0 | M9: =0+táj.4!K9 -> 0 | N9: =SUM(E9:M9) -> 346934
A10: 9. | B10: Zalaegerszegi Kertvárosi Óvoda | C10: 374926 | D10: =25974+táj.4!L10 -> 27348 | E10: =242799+táj.4!C10 -> 243096 | F10: =42856+táj.4!D10 -> 42903 | G10: =103901+táj.4!E10 -> 103901 | H10: =0+táj.4!F10 -> 0 | I10: =4854+táj.4!G10 -> 4854 | J10: =6490+táj.4!H10 -> 7520 | K10: =0+táj.4!I10 -> 0 | L10: =0+táj.4!J10 -> 0 | M10: =0+táj.4!K10 -> 0 | N10: =SUM(E10:M10) -> 402274
A11: 10. | B11: Zalaegerszegi Landorhegyi Óvoda | C11: 343570 | D11: =15347+táj.4!L11 -> 15347 | E11: =238595+táj.4!C11 -> 238595 | F11: =41841+táj.4!D11 -> 41841 | G11: =68881+táj.4!E11 -> 68881 | H11: =0+táj.4!F11 -> 0 | I11: =2150+táj.4!G11 -> 2150 | J11: =6450+táj.4!H11 -> 6450 | K11: =1000+táj.4!I11 -> 1000 | L11: =0+táj.4!J11 -> 0 | M11: =0+táj.4!K11 -> 0 | N11: =SUM(E11:M11) -> 358917
A12: 11. | B12: Közgyűjteményi és Közművelődési GESZ | C12: 53686 | D12: =1725+táj.4!L12 -> 2695 | E12: =45336+táj.4!C12 -> 46175 | F12: =7360+táj.4!D12 -> 7491 | G12: =2665+táj.4!E12 -> 2665 | H12: =0+táj.4!F12 -> 0 | I12: =0+táj.4!G12 -> 0 | J12: =50+táj.4!H12 -> 50 | K12: =0+táj.4!I12 -> 0 | L12: =0+táj.4!J12 -> 0 | M12: =0+táj.4!K12 -> 0 | N12: =SUM(E12:M12) -> 56381
A13: 12. | B13: Keresztury Dezső Városi Művelődési Központ | C13: 492898 | D13: =32923+táj.4!L13 -> 45424 | E13: =210529+táj.4!C13 -> 210529 | F13: =32309+táj.4!D13 -> 32309 | G13: =267792+táj.4!E13 -> 276493 | H13: =0+táj.4!F13 -> 0 | I13: =0+táj.4!G13 -> 0 | J13: =10191+táj.4!H13 -> 10991 | K13: =5000+táj.4!I13 -> 8000 | L13: =0+táj.4!J13 -> 0 | M13: =0+táj.4!K13 -> 0 | N13: =SUM(E13:M13) -> 538322
A14: 13. | B14: Zalaegerszegi Turisztikai Hivatal és Információs Iroda | C14: 20645 | D14: =5086+táj.4!L14 -> 5422 | E14: =16462+táj.4!C14 -> 16753 | F14: =2771+táj.4!D14 -> 2816 | G14: =5932+táj.4!E14 -> 5932 | H14: =0+táj.4!F14 -> 0 | I14: =0+táj.4!G14 -> 0 | J14: =566+táj.4!H14 -> 566 | K14: =0+táj.4!I14 -> 0 | L14: =0+táj.4!J14 -> 0 | M14: =0+táj.4!K14 -> 0 | N14: =SUM(E14:M14) -> 26067
A15: 14. | B15: Deák Ferenc Megyei és Városi Könyvtár | C15: 456340 | D15: =4523+táj.4!L15 -> 27226 | E15: =213678+táj.4!C15 -> 213874 | F15: =32713+táj.4!D15 -> 32743 | G15: =142472+táj.4!E15 -> 164108 | H15: =0+táj.4!F15 -> 0 | I15: =27000+táj.4!G15 -> 27000 | J15: =45000+táj.4!H15 -> 45841 | K15: =0+táj.4!I15 -> 0 | L15: =0+táj.4!J15 -> 0 | M15: =0+táj.4!K15 -> 0 | N15: =SUM(E15:M15) -> 483566
A16: 15. | B16: Göcseji Múzeum | C16: 517804 | D16: =73640+táj.4!L16 -> 106572 | E16: =209465+táj.4!C16 -> 214814 | F16: =36698+táj.4!D16 -> 38006 | G16: =261008+táj.4!E16 -> 264323 | H16: =0+táj.4!F16 -> 0 | I16: =42043+táj.4!G16 -> 48139 | J16: =35914+táj.4!H16 -> 49778 | K16: =6316+táj.4!I16 -> 9316 | L16: =0+táj.4!J16 -> 0 | M16: =0+táj.4!K16 -> 0 | N16: =SUM(E16:M16) -> 624376
A17: 16. | B17: Hevesi Sándor Színház | C17: 749650 | D17: =59791+táj.4!L17 -> 74791 | E17: =487951+táj.4!C17 -> 500931 | F17: =79591+táj.4!D17 -> 81611 | G17: =199707+táj.4!E17 -> 199707 | H17: =0+táj.4!F17 -> 0 | I17: =0+táj.4!G17 -> 0 | J17: =42192+táj.4!H17 -> 42192 | K17: =0+táj.4!I17 -> 0 | L17: =0+táj.4!J17 -> 0 | M17: =0+táj.4!K17 -> 0 | N17: =SUM(E17:M17) -> 824441
A18: 17. | B18: Griff Bábszínház | C18: 144959 | D18: =15857+táj.4!L18 -> 18857 | E18: =75707+táj.4!C18 -> 75707 | F18: =11502+táj.4!D18 -> 11502 | G18: =53176+táj.4!E18 -> 53176 | H18: =0+táj.4!F18 -> 0 | I18: =0+táj.4!G18 -> 0 | J18: =20431+táj.4!H18 -> 23431 | K18: =0+táj.4!I18 -> 0 | L18: =0+táj.4!J18 -> 0 | M18: =0+táj.4!K18 -> 0 | N18: =SUM(E18:M18) -> 163816
A19: 18. | B19: Városi Sportlétesítmény Gondnokság Intézménye | C19: 138125 | D19: =18989+táj.4!L19 -> 24956 | E19: =69731+táj.4!C19 -> 74897 | F19: =11016+táj.4!D19 -> 11817 | G19: =75367+táj.4!E19 -> 75367 | H19: =0+táj.4!F19 -> 0 | I19: =0+táj.4!G19 -> 0 | J19: =1000+táj.4!H19 -> 1000 | K19: =0+táj.4!I19 -> 0 | L19: =0+táj.4!J19 -> 0 | M19: =0+táj.4!K19 -> 0 | N19: =SUM(E19:M19) -> 163081
A20: 19. | B20: Vásárcsarnok | C20: 102247 | D20: =38+táj.4!L20 -> 38 | E20: =42372+táj.4!C20 -> 42372 | F20: =6703+táj.4!D20 -> 6703 | G20: =50180+táj.4!E20 -> 50180 | H20: =0+táj.4!F20 -> 0 | I20: =0+táj.4!G20 -> 0 | J20: =2141+táj.4!H20 -> 2141 | K20: =889+táj.4!I20 -> 889 | L20: =0+táj.4!J20 -> 0 | M20: =0+táj.4!K20 -> 0 | N20: =SUM(E20:M20) -> 102285
B21: Összesen: | C21: =SUM(C3:C20) -> 8449462 | D21: =SUM(D3:D20) -> 492369 | E21: =SUM(E3:E20) -> 4863065 | F21: =SUM(F3:F20) -> 836033 | G21: =SUM(G3:G20) -> 2728937 | H21: =SUM(H3:H20) -> 4092 | I21: =SUM(I3:I20) -> 169316 | J21: =SUM(J3:J20) -> 301343 | ... N21: =SUM(N3:N20) -> 8941831

Sheet táj.1
A1: Cím szám | B1: Alcím szám | C1: Megnevezés | D1: Tervezési alapegység | E1: Költségvetési bevételek | L1: Finanszírozási bevételek | O1: Összesen:
E2: Működési célú támogatások áht-n belülről | F2: Felhalmozási célú támogatások áht-n belülről | G2: Közhatalmi bevételek | H2: Működési bevételek | I2: Felhalmozási bevételek | J2: Működési célú átvett pénzeszközök | K2: Felhalmozási célú átvett pénzeszközök | L2: Hitel-, kölcsönfelvétel áht-n kívülről | M2: Maradvány igénybevétele | N2: Egyéb finanszírozási bevétel
A3: 1 | C3: Önkormányzat
A4: 1 | B4: 1 | C4: Szakosztályok
A5: 1 | B5: 12 | C5: Szociális és igazgatási feladatok
C6: 011130 Önkorm. és önkorm. hivatal. jogalk. és ált.ig.tev.
C7: - Egerszeg kártya értékesítés | D7: 221 902 | O7: =SUM(H7:N7) -> 0
C8: 109010 Szociális szolgáltatás igazgatása
C9: - "Lakhatásért" Közalapítvány támogatása | D9: 121517 | O9: =SUM(H9:N9) -> 0
C10: Szociális és igazgatási feladatok összesen: | E10: =SUM(E5:E9) -> 0 | F10: =SUM(F5:F9) -> 0 | G10: =SUM(G5:G9) -> 0 | H10: =SUM(H5:H9) -> 0 | I10: =SUM(I5:I9) -> 0 | J10: =SUM(J5:J9) -> 0 | K10: =SUM(K5:K9) -> 0 | L10: =SUM(L5:L9) -> 0 | ... O10: =SUM(O5:O9) -> 0
A11: 1 | B11: 13 | C11: Humánigazgatási feladatok
C12: 072112 Háziorvosi ügyeleti ellátás
C13: - körzeti orvosi ügyelet fenntartásához községek hozzájárulása | D13: 131705 | O13: =SUM(E13:N13) -> 0
C14: 013350 Önk-i vagyonnal való gazdálkodáshoz kapcs.fa.
C15: - Zalaegerszegi Tourinform Iroda felújítása | D15: 134939 | O15: =SUM(E15:N15) -> 0
C16: - Mihály deák szobor Göcseji Múzeum előtt | D16: 132913 | F16: 7000 | O16: =SUM(E16:N16) -> 7000
C17: 101211 Fogyatékossággal élők tartós bentlakásos ellátása
C18: - Református Egyház által fizetendő bérleti díj | D18: 131703 | O18: =SUM(E18:N18) -> 0
C19: - Idősek Otthona férőhely megváltás | D19: 121319 | O19: =SUM(E19:N19) -> 0
C20: 018030 Támogatási célú finanszírozási műveletek
C21: - Hevesi Sándor Színház társműködtetöi támogatás | D21: 131508 | O21: =SUM(E21:N21) -> 0
C22: - Griff Bábszínház társműködtetöi támogatás | D22: 131509 | O22: =SUM(E22:N22) -> 0
C23: 074040 Fertőző megbetegedések megelőzése,járványügyi ellátás
C24: - járványügyi védekezésre | D24: 131716 | O24: =SUM(E24:N24) -> 0
C25: 094260 Hallgatói és oktatói ösztöndíjak, egyéb juttatások
C26: - MOL adomány | D26: 131845 | O26: =SUM(E26:N26) -> 0
C27: 082030 Művészeti tevékenységek
C28: - Térzenei koncertek EMT-TE-B-A-21-0515 | D28: 131304 | E28: 7500 | O28: =SUM(E28:N28) -> 7500
C29: 016040 Nemzetpolitikai tevékenység igazgatása és támogatása
C30: - Székelykapu felállítása | D30: 132917 | F30: 2000 | O30: =SUM(E30:N30) -> 2000
C31: 082091 Közművelődés - közösségi és társ. részvétel fejleszt.
C32: - kulturális intézményekben béremelés finanszírozása | D32: 131510 | E32: 83625 | O32: =SUM(E32:N32) -> 83625
C33: - koronavírus járvány által okozott, kulturális ágazatot érintő károk enyhítése | D33: 131511 | E33: 60000 | O33: =SUM(E33:N33) -> 60000
C34: Humánigazgatási feladatok összesen: | E34: =SUM(E13:E33) -> 151125 | F34: =SUM(F13:F33) -> 9000 | G34: =SUM(G13:G33) -> 0 | H34: =SUM(H13:H33) -> 0 | I34: =SUM(I13:I33) -> 0 | J34: =SUM(J13:J33) -> 0 | K34: =SUM(K13:K33) -> 0 | L34: =SUM(L13:L33) -> 0 | ... O34: =SUM(O13:O33) -> 160125
A35: 1 | B35: 14 | C35: Főépítészi feladatok
C36: 013350 Önk-i vagyonnal való gazdálkodáshoz kapcs.fa.
C37: - belterületbe vonással kapcsolatos bevétel | D37: 171967 | H37: 110 | O37: =SUM(E37:N37) -> 110
C38: - Helyi építészeti értékek védelme | D38: 164903 | O38: =SUM(E38:N38) -> 0
C39: Főépítészi feladatok összesen: | H39: =SUM(H37:H38) -> 110 | I39: =SUM(I37:I38) -> 0 | J39: =SUM(J37:J38) -> 0 | K39: =SUM(K37:K38) -> 0 | L39: =SUM(L37:L38) -> 0 | M39: =SUM(M37:M38) -> 0 | N39: =SUM(N37:N38) -> 0 | O39: =SUM(O37:O38) -> 110
A40: 1 | B40: 15 | C40: Városüzemelési feladatok
C41: 081061 Szabadidős park, fürdő és strandszolgáltatás
C42: - Gébárti fürdő lét. üzemelt. (Termál és Tóstrand) | D42: 151906 | O42: =SUM(E42:N42) -> 0
C43: - Aquapark üzemeltetés | D43: 151 907 | O43: =SUM(E43:N43) -> 0
C44: - ZG3 kút üzemeltetése | D44: 151 915 | O44: =SUM(E44:N44) -> 0
C45: - Gébárti kemping földhasználat, fedett fürdő földhasználat | D45: 151909 | H45: 2668 | O45: =SUM(E45:N45) -> 2668
C46: 066010 Zöldterület kezelés
C47: - fa értékesítés bevétele | D47: 152 908 | O47: =SUM(E47:N47) -> 0
C48: - haszonbérleti szerződések, kishaszonbérlet | D48: 151506 | O48: =SUM(E48:N48) -> 0
C49: 066020 Város-, községgazdálkodási egyéb szolgáltatás
C50: - Zalai Közszolgáltató Nonprofit Kft. bérleti díj eszközpark használata után | D50: 151701 | O50: =SUM(E50:N50) -> 0
C51: - környezetvéd.alap feltöltése | D51: 151607 | O51: =SUM(E51:N51) -> 0
C52: - közművesítési hozzájárulás | D52: 151611 | H52: 12700 | O52: =SUM(E52:N52) -> 12700
C53: - Széna tér zártkerti fejlesztése | D53: 152946 | O53: =SUM(E53:N53) -> 0
C54: - Cédrus u.felújításához lakossági befizetés | D54: 155443 | O54: =SUM(E54:N54) -> 0
C55: 045170 Parkoló, garázs üzemeltetése, fenntartása
C56: - parkolási közszolgáltatási tevékenység ellátásával kapcsolatos bevétel | D56: 151 910 | O56: =SUM(E56:N56) -> 0
C57: Városüzemelési feladatok összesen: | E57: =SUM(E41:E56) -> 0 | F57: =SUM(F41:F56) -> 0 | G57: =SUM(G41:G56) -> 0 | H57: =SUM(H41:H56) -> 15368 | I57: =SUM(I41:I56) -> 0 | J57: =SUM(J41:J56) -> 0 | K57: =SUM(K41:K56) -> 0 | L57: =SUM(L41:L56) -> 0 | ... O57: =SUM(O41:O56) -> 15368
A58: 1 | B58: 16. | C58: Városépítészeti feladatok
C59: 052020 Szennyvíz gyűjtése, tisztítása, elhelyezése
C60: - ZALAVÍZ Zrt. nem vÍziközmű után fizetendő bérleti díj | D60: 161909 | O60: =SUM(E60:N60) -> 0
C61: - szennyvíz vagyon használati díja és Áfa visszaig. | D61: 164106 | O61: =SUM(E61:N61) -> 0
C62: - ivóvíz vagyon használati díja és Áfa visszaig.+ KIEFO | D62: 164204 | O62: =SUM(E62:N62) -> 0
C63: - Zalaegerszeg keleti vízbázisról ellátott települések ívóvízminőségének javítása KEHOP projekt | D63: 164205 | O63: =SUM(E63:N63) -> 0
C64: - Zalaegerszeg nyugati vízbázisról ellátott települések ívóvízminőségének javítása KEHOP projekt | D64: 164206 | F64: -151000 | H64: -40770 | O64: =SUM(E64:N64) -> -191770
C65: 013350 Önk-i vagyonnal való gazdálkodáshoz kapcs. fa.
C66: - ELENA programhoz önerő és bérfedezet megtérülése | D66: 162695 | O66: =SUM(E66:N66) -> 0
C67: - EcoSmartCities Interreg HU-HR projekt | D67: 162607 | O67: =SUM(E67:N67) -> 0
C68: - Hotelfejlesztés engedélyes és kiviteli terveinek elkészítéséhez támogatás | D68: 162640 | O68: =SUM(E68:N68) -> 0
C69: - TOP-6.6.1-15-ZL1-2016-00001 Egészségügyi alapellátás infrastrukturális fejlesztése Zalaegerszegen | D69: 163603 | O69: =SUM(E69:N69) -> 0
C70: - TOP-6.6.2-15- ZL1-2016-00001 Szociális Alapszolgáltatások fejlesztése Zalaegerszegen | D70: 163604 | O70: =SUM(E70:N70) -> 0
C71: - TOP-6.1.4-15-ZL1-2016-00002 Zalaegerszegi Göcseji Falumúzeum fejlesztése | D71: 163606 | O71: =SUM(E71:N71) -> 0
C72: - TOP-6.4.1-15-ZL1-2016-00001 Gyalogos és kerékpárosbarát belváros közlekedési feltételeinek megteremtése Zalaegerszegen hivatásforgalmi kerékpárutak fejlesztésével és a Kosztolányi Dezső út kétirányúsításával | D72: 163607 | O72: =SUM(E72:N72) -> 0
C73: - TOP-6.1.4 -15-ZL1-2016-00003 Zöld Zala-part Turisztikai célú kerékpárút fejlesztés a Zala Mentén és Gébárton | D73: 163608 | O73: =SUM(E73:N73) -> 0
C74: - TOP-6.1.5-15-ZL1-2016-00001 Ipari területeket feltáró utak kialakítása Zalaegerszegen | D74: 163609 | O74: =SUM(E74:N74) -> 0
C75: - TOP-6.3.2-15-ZL1-2016-00002 Gébárti-tó és környékének rekreációs, szabadidős használatát elősegítő infrastruktúra kialakítása | D75: 163611 | O75: =SUM(E75:N75) -> 0
C76: - TOP-6.1.1-15-ZL1-2016-00001 Zalaegerszeg Északi Ipari Park feltárása és közművekkel való ellátása (részben nettó) | D76: 163612 | O76: =SUM(E76:N76) -> 0
C77: - TOP-6.1.3 -15-ZL1-2016-00001 Helyi termelői és kézműves piac kialakítása Zalaegerszegen ( nettó!) | D77: 163613 | O77: =SUM(E77:N77) -> 0
... C85: - TOP-6.1.4--16-ZL1-2017-00002 Göcseji Múzeum épületének felújítása és kiállító tereinek fejlesztése | D85: 163627 | O85: =SUM(E85:N85) -> 0
C86: - TOP-6.1.1-16-ZL1-2017-00001 Üzemcsarnok építés a Zalaegerszeg 4815/6 hrsz-ú ingatlanon | D86: 163628 | F86: 7997 | H86: 2159 | O86: =SUM(E86:N86) -> 10156
C87: - TOP 6.1.4-16-ZL1-2017-00001 Alsóerdő komplex turisztikai fejlesztése | D87: 163629 | O87: =SUM(E87:N87) -> 0
C88: - TOP 6.9.2-16-ZL1-2017-00001 A helyi identitás és kohézió erősítésének megteremtése Zalaegerszegen | D88: 163633 | O88: =SUM(E88:N88) -> 0
C89: - TOP-7.1.1-16-H-ERFA-2019-00167 Zalaegerszeg mobil applikáció projekt | D89: 163646 | O89: =SUM(E89:N89) -> 0
C90: - TOP-6.1.4-16-ZL1-2017-00003 Helyi termelői és kézműves piac kialakítása Zalaegerszegen - Göcsej Tudásközpont (nettó fiansz.) | D90: 163637 | O90: =SUM(E90:N90) -> 0
C91: - TOP-6.5.1-16-ZL1-2017-00001 Liszt F.tagiskola energetikai korszerűsítése | D91: 163638 | O91: =SUM(E91:N91) -> 0
C92: - TOP-6.5.1-16-ZL1-2017-00005 Petőfi S. Székhelyiskola energetikai korszerűsítése | D92: 163639 | O92: =SUM(E92:N92) -> 0
C93: - TOP-6.5.1-16-ZL1-2017-00006 Dózsa Gy. tagiskola energetikai korszerűsítése | D93: 163640 | O93: =SUM(E93:N93) -> 0
C94: -TOP-7.1.1-16-H-ESZA-2019-01185 Interaktív történelmi séták Zalaegerszegen | D94: 163648 | O94: =SUM(E94:N94) -> 0
C95: - TOP-6.3.2-15-ZL1-2020-00004 "A Gébárti-tó és környékének rekreációs, szabadidős használatát elősegítő infrastruktúra kialakítása II. ütem " | D95: 163652 | O95: =SUM(E95:N95) -> 0
C96: - TOP-6.4.1-15-ZL1-2020-00002 Fenntartható közlekedésfejlesztési beavatkozások a belváros keleti kapujában (Tesco körforgalom) | D96: 163653 | O96: =SUM(E96:N96) -> 0
C97: - TOP-7.1.1-16-H-ERFA-2019-00089 TOP CLLD Art mozi közösségi és rendezvény térré alakítása | D97: 163636 | F97: 492 | O97: =SUM(E97:N97) -> 492
C98: - Mindszenty Múzeum és Zarándokközpont fejlesztése, zalaegerszegi "Mindszenty Út" megvalósítása MVP | D98: 163621 | H98: 2351 | O98: =SUM(E98:N98) -> 2351
C99: - Uszoda tervezés és megvalósítás MVP támogatásból | D99: 162687 | H99: 4805 | O99: =SUM(E99:N99) -> 4805
C100: - Alsóerdei Sport- és Rekreációs Központ fejlesztése MVP támogatással | D100: 163702 | H100: 1119 | O100: =SUM(E100:N100) -> 1119
C101: - Hevesi Sándor Színház felújítás és korszerűsítés előkészítése MVP | D101: 163641 | O101: =SUM(E101:N101) -> 0
C102: - Új városi multifunkciós rendezvény- és sportcsarnok MVP projekt keretében | D102: 163644 | O102: =SUM(E102:N102) -> 0
C103: - Modern Városok Program keretében tervezett közúthálózat és kapcsolódó tereinek fejlesztései | D103: 163650 | O103: =SUM(E103:N103) -> 0
C104: - KEHOP-5.4.1-16-2016-00433 Szemléletformálási programok | D104: 163643 | O104: =SUM(E104:N104) -> 0
C105: - KEHOP-1.2.1-18-2018-00024 ZMJV helyi klímastratégiájának kidolgozása, helyi klímatudatosságot erősítő szemléletformálás | D105: 163645 | O105: =SUM(E105:N105) -> 0
C106: - Elektromos vagy plug-in hybrid gépjárművek beszerzése pályázati támogatással | D106: 182906 | O106: =SUM(E106:N106) -> 0
C107: - "Infrastrukturális fejlesztések Zalaegerszegen" | D107: 162630 | O107: =SUM(E107:N107) -> 0
...

Sheet táj.2
A1: Cím szám | B1: Alcím szám | C1: Sorszám | D1: Megnevezés | E1: feladat jellege | F1: Tervezési alapegység | G1: Költségvetési kiadások | O1: Finanszírozási kiadások | Q1: Kiadás összesen | R1: Módosítás hatákör szerint
G2: Személyi juttatások | H2: Munkaadókat terhelő járulékok és szociális hj.adó | I2: Dologi kiadások | J2: Ellátottak pénzbeli juttatásai | K2: Egyéb működési célú kiadások | L2: Beruházások | M2: Felújítások | N2: Egyéb felhalmo-zási célú kiadások | O2: Hitel-, kölcsöntör-lesztés áht-n kívülre | P2: Egyéb finanszírozási kiadás
A3: 1 | D3: Önkormányzat
A4: 1 | B4: 1 | D4: Szakosztályok
A5: 1 | B5: 12 | D5: Szociális és igazgatási feladatok
D6: 105010 Munkanélküli aktív korúak ellátásai
D7: - megélhetési támogatás | E7: 2 | F7: 121103 | Q7: =SUM(G7:P7) -> 0
D8: 106020 Lakásfenntartással, lakhatással összefüggő ellátások
D9: - lakásfenntartási segély | E9: 2 | F9: 121104 | Q9: =SUM(G9:P9) -> 0
D10: - önkormányzati bérlakásban élők lakásfenntartási segélye Lakásalapból | E10: 2 | F10: 121117 | Q10: =SUM(G10:P10) -> 0
D11: 107060 Egyéb szociális pénzbeli ellátások, támogatások
D12: - gyermekétkeztetési támogatás | E12: 2 | F12: 121111 | Q12: =SUM(G12:P12) -> 0
D13: - átmeneti segély | E13: 2 | F13: 121127 | Q13: =SUM(G13:P13) -> 0
D14: - egyszeri nevelési támogatás | E14: 2 | F14: 121115 | Q14: =SUM(G14:P14) -> 0
D15: - szociális krízis alap | E15: 2 | F15: 121129 | Q15: =SUM(G15:P15) -> 0
D16: - tüzifa támogatás | E16: 2 | F16: 121106 | Q16: =SUM(G16:P16) -> 0
D17: 103010 Elhunyt személyek hátramaradottainak pénzbeli ellátása
D18: - temetési segély | E18: 2 | F18: 121131 | Q18: =SUM(G18:P18) -> 0
D19: 106020 Lakásfenntartással, lakhatással összefüggő ellátások
D20: - lakhatási krízis alap Lakásalapból | E20: 2 | F20: 121130 | Q20: =SUM(G20:P20) -> 0
D21: 107060 Egyéb szociális pénzbeli ellátások, támogatások
D22: - gyógyszertámogatás | E22: 1 | F22: 121204 | Q22: =SUM(G22:P22) -> 0
D23: - gyógyászati segédeszköz támogatás | E23: 1 | F23: 121132 | Q23: =SUM(G23:P23) -> 0
D24: - köztemetés | E24: 1 | F24: 121203 | I24: 500 | J24: -500 | Q24: =SUM(G24:P24) -> 0 | R24: kgy
D25: 094260 Hallgatói és oktatói ösztöndíjak, egyéb juttatások
D26: - Bursa Hungarica ösztöndíj | E26: 2 | F26: 121504 | Q26: =SUM(G26:P26) -> 0
D27: 061030 Lakáshoz jutást segítő támogatások
D28: - lakásgazdálkodási feladatokra | E28: 1 | F28: 121403 | Q28: =SUM(G28:P28) -> 0
D29: 104042 Család- és gyermekjóléti szolgálat
D30: - Családsegítő Szolgálathoz krízissegélyezés | E30: 1 | F30: 121301 | Q30: =SUM(G30:P30) -> 0
D31: 011130 Önkorm. és önkorm. hivatal. jogalk. és ált.ig.tev.
D32: - Egerszegkártya | E32: 2 | F32: 221902 | Q32: =SUM(G32:P32) -> 0
D33: - Nemzedékek kézfogása | E33: 2 | F33: 22190** | I33: 150 | J33: -150 | Q33: =SUM(G33:P33) -> 0 | R33: kgy
D34: - bírtokvédelmi költség megelőlegezés | E34: 1 | F34: 121118 | Q34: =SUM(G34:P34) -> 0
D35: - talált tárgyak felértékeltetése | E35: 1 | F35: 121515 | Q35: =SUM(G35:P35) -> 0
D36: 032020 Tűz- és katasztrófavéd. tevékenység
D37: - helyi védelmi igazgatás | E37: 1 | F37: 121601 | Q37: =SUM(G37:P37) -> 0
D38: 109010 Szociális szolgáltatás igazgatása
D39: - "Lakhatásért" Közalapítvány támogatása | E39: 2 | F39: 121517 | Q39: =SUM(G39:P39) -> 0
D40: Szociális és igazgatási fa.működési kiadás összesen: | G40: =SUM(G7:G39) -> 0 | H40: =SUM(H7:H39) -> 0 | I40: =SUM(I7:I39) -> 650 | J40: =SUM(J7:J39) -> -650 | K40: =SUM(K7:K39) -> 0 | L40: =SUM(L7:L39) -> 0 | M40: =SUM(M7:M39) -> 0 | N40: =SUM(N7:N39) -> 0 | ... Q40: =SUM(Q7:Q39) -> 0
D41: Beruházási és felújítási kiadások:
C42: 1./1 | D42: Önkormányzat által nyújtott lakástámogatás első lakáshoz jutók részére (Lakásalapból) | F42: 121401 | Q42: =SUM(G42:P42) -> 0
D43: 2019. évről áthúzódó feladat
C44: 1.a/1 | D44: Családok otthonteremtési kedvezménye (Lakásalap) | F44: 121405 | Q44: =SUM(G44:P44) -> 0
C45: 1.a/2 | D45: Kamatmentes kölcsön az ideiglenesen nehéz helyzetbe került zeg-i polgárok számára (Lakásalapból) | F45: 121402 | Q45: =SUM(G45:P45) -> 0
D46: Szociális és igazgatási fa. kiadásai összesen: | G46: =SUM(G40:G45) -> 0 | H46: =SUM(H40:H45) -> 0 | I46: =SUM(I40:I45) -> 650 | J46: =SUM(J40:J45) -> -650 | K46: =SUM(K40:K45) -> 0 | L46: =SUM(L40:L45) -> 0 | M46: =SUM(M40:M45) -> 0 | N46: =SUM(N40:N45) -> 0 | ... Q46: =SUM(Q40:Q45) -> 0
A47: 1 | B47: 13 | D47: Humánigazgatási feladatok
D48: Oktatási feladatok
D49: 098010 Oktatás igazgatása
D50: - Zalaegerszegi Szakképzési Centrum részére támogatás szakképzési ösztöndíj céljára | E50: 2 | F50: 131112 | Q50: =SUM(G50:P50) -> 0
D51: - intézmények és civil szervezetek támogatása, rendezvényeik finanszírozása | E51: 2 | F51: 131123 | Q51: =SUM(G51:P51) -> 0
D52: - díszokleveles pedagógusok ünnepsége és jutalmazása | E52: 2 | F52: 131122 | Q52: =SUM(G52:P52) -> 0
D53: - angol nyelvű óvodai csoport dolgozói részére angol nyelvi felkészítő támogatása | E53: 2 | F53: 131124 | Q53: =SUM(G53:P53) -> 0
D54: - Zeg.Felsőfokú Oktatásáért Közalapítvány támogatása | E54: 2 | F54: 131107 | Q54: =SUM(G54:P54) -> 0
D55: - nyári táboroztatás | E55: 2 | F55: 131128 | Q55: =SUM(G55:P55) -> 0
D56: - Pedagógus napi rendezvény szervezése | E56: 2 | F56: 131212 | Q56: =SUM(G56:P56) -> 0
D57: Kulturális és ifjúsági feladatok
D58: 084070 A fiatalok társ. integrációját segítő struktúra, szakmai szolgált. fejlesztése, működtetése
D59: - ifjúsági rendezvények | E59: 2 | F59: 131201 | G59: -100 | H59: -40 | I59: 140 | Q59: =SUM(G59:P59) -> 0 | R59: pm
D60: - Zalaegerszegi Városi Diákönkormányzat | E60: 2 | F60: 131202 | Q60: =SUM(G60:P60) -> 0
D61: - Zalaegerszegi Városi Diáknapok | E61: 2 | F61: 131205 | K61: -920 | Q61: =SUM(G61:P61) -> -920 | R61: pm
D62: - Zalaegerszegi Egyetemisták Egyesülete | E62: 2 | F62: 131206 | Q62: =SUM(G62:P62) -> 0
D63: - Zalaegerszegi Ifjúsági Kerekasztal | E63: 2 | F63: 131209 | Q63: =SUM(G63:P63) -> 0
D64: - UNICEF gyermekbarát település pályázat | E64: 2 | F64: 131211 | Q64: =SUM(G64:P64) -> 0
D65: 094260 Hallgatói és oktatói ösztöndíjak, egyéb juttatások
D66: - felsőoktatási ösztöndíj és támogatás | E66: 2 | F66: 131101 | Q66: =SUM(G66:P66) -> 0
D67: 074052 Kábítószer megelőzés programja
D68: - Zalaegerszegi Kábítószerügyi Egyeztető Fórum | E68: 2 | F68: 131120 | Q68: =SUM(G68:P68) -> 0
D69: 082091 Közművelődés - közösségi és társ. részvétel fejleszt.
D70: - Magyar Kultúra Napja | E70: 2 | F70: 131346 | Q70: =SUM(G70:P70) -> 0
D71: - Fazekas-keramikus találkozó | E71: 2 | F71: 131305 | Q71: =SUM(G71:P71) -> 0
D72: - Egerszeg búcsú | E72: 2 | F72: 131306 | Q72: =SUM(G72:P72) -> 0
D73: - Betlehem működtetése | E73: 2 | F73: 131325 | Q73: =SUM(G73:P73) -> 0
D74: - Kvártélyház Kft. támogatása | E74: 2 | F74: 131321 | Q74: =SUM(G74:P74) -> 0
D75: - Zalaegerszegi Rendezvényszervező Kft. működési támogatása | E75: 2 | F75: 131313 | Q75: =SUM(G75:P75) -> 0
D76: - Keresztury Emlékbizottság | E76: 2 | F76: 131501 | Q76: =SUM(G76:P76) -> 0
D77: - Gébárti Művésztelep | E77: 2 | F77: 131307 | Q77: =SUM(G77:P77) -> 0
D78: - táncház mozgalom | E78: 2 | F78: 131340 | Q78: =SUM(G78:P78) -> 0
D79: - Népi hang-színek kiadvány | E79: 2 | F79: 131343 | Q79: =SUM(G79:P79) -> 0
D80: - folk hétvége | E80: 2 | F80: 131351 | Q80: =SUM(G80:P80) -> 0
D81: - 10 éves sajtófotó kiállítás és album | E81: 2 | F81: 131310 | Q81: =SUM(G81:P81) -> 0
... D86: - Zegasztár-Tehetségbarát Önkormányzat | E86: 2 | F86: 131326 | Q86: =SUM(G86:P86) -> 0
D87: 084031 Civil szervezetek műk. támogatása
D88: - Zalai Civil Életért Közhasznú Egy.támogatása (Civil ház működtetése) | E88: 2 | F88: 131401 | Q88: =SUM(G88:P88) -> 0
D89: - Pannon Tükör kulturális folyóirat támogatása | E89: 2 | F89: 131402 | Q89: =SUM(G89:P89) -> 0
D90: - önálló kulturális egyesületek, együttesek | E90: 2 | F90: 131403 | Q90: =SUM(G90:P90) -> 0
D91: - peremkerületek támogatása | E91: 2 | F91: 131404 | Q91: =SUM(G91:P91) -> 0
D92: - Zalai Táncegyüttes Egyesület támogatás | E92: 2 | F92: 131330 | Q92: =SUM(G92:P92) -> 0
D93: - Zalegerszeg Kultúrájáért Közalapítvány támogatása | E93: 2 | F93: 131507 | Q93: =SUM(G93:P93) -> 0
D94: - Zalaegerszegi Honvéd Klub támogatása | E94: 2 | F94: 171943 | Q94: =SUM(G94:P94) -> 0
D95: 082030 Művészeti tevékenység
D96: - művészeti ösztöndíjak | E96: 2 | F96: 131502 | Q96: =SUM(G96:P96) -> 0
D97: - Térzenei koncertek EMT-TE-B-A-21-0515 | E97: 2 | F97: 131304 | K97: 7500 | Q97: =SUM(G97:P97) -> 7500 | R97: pm
D98: 018030 Támogatási célú finanszírozási műveletek
D99: - Hevesi Sándor Színház társműködtetöi támogatás átadása | E99: 1 | F99: 131508 | Q99: =SUM(G99:P99) -> 0
D100: - Griff Bábszínház társműködtetöi támogatás átadása | E100: 1 | F100: 131509 | Q100: =SUM(G100:P100) -> 0
D101: Egészségügyi és humánigazgatási feladatok
D102: 101211 Fogyatékosággal élők tartós bentlakásos ellátása
D103: -Fogyatékos Otthon működtetése | E103: 1 | F103: 131703 | Q103: =SUM(G103:P103) -> 0
D104: - Idősek Otthona férőhely megváltás visszafizetése | E104: 1 | F104: 121319 | Q104: =SUM(G104:P104) -> 0
...

Sheet táj.3
A1: Cím szám | B1: Megnevezés | C1: Költségvetési bevételek | J1: Finanszírozási bevételek | M1: Bevételek összesen
C2: Működési célú támogatások áht-n belülről | D2: Felhalmozási célú támogatások áht-n belülről | E2: Közhatalmi bevételek | F2: Működési bevételek | G2: Felhalmozási bevételek | H2: Működési célú átvett pénzeszközök | I2: Felhalmozási célú átvett pénzeszközök | J2: Maradvány igénybevétele | K2: Központi, irányító szervi támogatás | L2: Egyéb finanszírozási bevétel
A3: 2. | B3: Polgármesteri Hivatal | F3: 131 | M3: =SUM(C3:L3) -> 131
A4: 3. | B4: Zalaegerszegi Gazdasági Ellátó Szervezet | C4: 300 | D4: 300 | F4: -118000 | K4: 3051 | M4: =SUM(C4:L4) -> -114349
A5: 4. | B5: Zalaegerszegi Egyesített Bölcsődék | C5: -6890 | F5: 8100 | K5: 20221 | M5: =SUM(C5:L5) -> 21431
A6: 5. | B6: Zalaegerszegi Egészségügyi Alapellátási Intézmény | F6: 600 | K6: 50 | M6: =SUM(C6:L6) -> 650
A7: 6. | B7: Zalaegerszegi Család- és Gyermekjóléti Központ | F7: 460 | K7: 18058 | M7: =SUM(C7:L7) -> 18518
A8: 7. | B8: Zalaegerszegi Belvárosi I. számú Óvoda | C8: -7839 | F8: 950 | K8: 7861 | M8: =SUM(C8:L8) -> 972
A9: 8. | B9: Zalaegerszegi Belvárosi II. számú Óvoda | C9: -3958 | F9: 2000 | K9: 4001 | M9: =SUM(C9:L9) -> 2043
A10: 9. | B10: Zalaegerszegi Kertvárosi Óvoda | C10: -4261 | D10: 1030 | K10: 4605 | M10: =SUM(C10:L10) -> 1374
A11: 10. | B11: Zalaegerszegi Landorhegyi Óvoda | C11: -6853 | K11: 6853 | M11: =SUM(C11:L11) -> 0
A12: 11. | B12: Közgyűjteményi és Közművelődési GESZ | C12: -272 | K12: 1242 | M12: =SUM(C12:L12) -> 970
A13: 12. | B13: Keresztury Dezső Városi Művelődési Központ | C13: 5100 | D13: 3800 | K13: 3601 | M13: =SUM(C13:L13) -> 12501
A14: 13. | B14: Zalaegerszegi Turisztikai Hivatal és Információs Iroda | K14: 336 | M14: =SUM(C14:L14) -> 336
A15: 14. | B15: Deák Ferenc Megyei és Városi Könyvtár | C15: 17524 | D15: 841 | K15: 4338 | M15: =SUM(C15:L15) -> 22703
A16: 15. | B16: Göcseji Múzeum | C16: 12144 | D16: 1114 | F16: 18651 | I16: 250 | K16: 773 | M16: =SUM(C16:L16) -> 32932
A17: 16. | B17: Hevesi Sándor Színház | C17: 15000 | M17: =SUM(C17:L17) -> 15000
A18: 17. | B18: Griff Bábszínház | K18: 3000 | M18: =SUM(C18:L18) -> 3000
A19: 18. | B19: Városi Sportlétesítmény Gondnokság Intézménye | C19: 4524 | K19: 1443 | M19: =SUM(C19:L19) -> 5967
A20: 19. | B20: Vásárcsarnok | M20: =SUM(C20:L20) -> 0
B21: Összesen: | C21: =SUM(C3:C20) -> 24519 | D21: =SUM(D3:D20) -> 7085 | E21: =SUM(E3:E20) -> 0 | F21: =SUM(F3:F20) -> -87108 | G21: =SUM(G3:G20) -> 0 | H21: =SUM(H3:H20) -> 0 | I21: =SUM(I3:I20) -> 250 | J21: =SUM(J3:J20) -> 0 | ... M21: =SUM(M3:M20) -> 24179

Sheet táj.4
A1: Cím szám | B1: Megnevezés | C1: Költségvetési kiadások | K1: Finanszírozási kiadások | L1: Kiadások összesen
C2: Személyi juttatások | D2: Munkaadókat terhelő járulékok és szociális hj.adó | E2: Dologi kiadások | F2: Ellátottak pénzbeli juttatásai | G2: Egyéb működési célú kiadások | H2: Beruházások | I2: Felújítások | J2: Egyéb felhalmo-zási célú kiadások
A3: 2. | B3: Polgármesteri Hivatal | E3: -1972 | H3: 2103 | L3: =SUM(C3:K3) -> 131
A4: 3. | B4: Zalaegerszegi Gazdasági Ellátó Szervezet | C4: 2858 | D4: 443 | E4: -117950 | H4: 300 | L4: =SUM(C4:K4) -> -114349
A5: 4. | B5: Zalaegerszegi Egyesített Bölcsődék | C5: 14816 | D5: 1817 | E5: 1083 | H5: 4415 | I5: -1000 | J5: 300 | L5: =SUM(C5:K5) -> 21431
A6: 5. | B6: Zalaegerszegi Egészségügyi Alapellátási Intézmény | C6: 43 | D6: 7 | E6: 600 | L6: =SUM(C6:K6) -> 650
A7: 6. | B7: Zalaegerszegi Család- és Gyermekjóléti Központ | C7: 15635 | D7: 2423 | E7: 460 | L7: =SUM(C7:K7) -> 18518
A8: 7. | B8: Zalaegerszegi Belvárosi I. számú Óvoda | C8: 19 | D8: 3 | E8: 750 | G8: 200 | L8: =SUM(C8:K8) -> 972
A9: 8. | B9: Zalaegerszegi Belvárosi II. számú Óvoda | C9: 37 | D9: 6 | E9: 1860 | I9: 140 | L9: =SUM(C9:K9) -> 2043
A10: 9. | B10: Zalaegerszegi Kertvárosi Óvoda | C10: 297 | D10: 47 | H10: 1030 | L10: =SUM(C10:K10) -> 1374
A11: 10. | B11: Zalaegerszegi Landorhegyi Óvoda | L11: =SUM(C11:K11) -> 0
A12: 11. | B12: Közgyűjteményi és Közművelődési GESZ | C12: 839 | D12: 131 | L12: =SUM(C12:K12) -> 970
A13: 12. | B13: Keresztury Dezső Városi Művelődési Központ | E13: 8701 | H13: 800 | I13: 3000 | L13: =SUM(C13:K13) -> 12501
A14: 13. | B14: Zalaegerszegi Turisztikai Hivatal és Információs Iroda | C14: 291 | D14: 45 | L14: =SUM(C14:K14) -> 336
A15: 14. | B15: Deák Ferenc Megyei és Városi Könyvtár | C15: 196 | D15: 30 | E15: 21636 | H15: 841 | L15: =SUM(C15:K15) -> 22703
A16: 15. | B16: Göcseji Múzeum | C16: 5349 | D16: 1308 | E16: 3315 | G16: 6096 | H16: 13864 | I16: 3000 | L16: =SUM(C16:K16) -> 32932
A17: 16. | B17: Hevesi Sándor Színház | C17: 12980 | D17: 2020 | L17: =SUM(C17:K17) -> 15000
A18: 17. | B18: Griff Bábszínház | H18: 3000 | L18: =SUM(C18:K18) -> 3000
A19: 18. | B19: Városi Sportlétesítmény Gondnokság Intézménye | C19: 5166 | D19: 801 | L19: =SUM(C19:K19) -> 5967
A20: 19. | B20: Vásárcsarnok | L20: =SUM(C20:K20) -> 0
B21: Összesen: | C21: =SUM(C3:C20) -> 58526 | D21: =SUM(D3:D20) -> 9081 | E21: =SUM(E3:E20) -> -81517 | F21: =SUM(F3:F20) -> 0 | G21: =SUM(G3:G20) -> 6296 | H21: =SUM(H3:H20) -> 26353 | I21: =SUM(I3:I20) -> 5140 | J21: =SUM(J3:J20) -> 300 | ... L21: =SUM(L3:L20) -> 24179
