Workbook
Name _GoBack: '2'!#REF!

Sheet 1
B1: 2021. évi eredeti előirányzat | C1: 2021. évi módosított előirányzat | D1: Teljesítés az I. félévben | E1: Teljesítés %-a | G1: Megnevezés | H1: 2021. évi eredeti előirányzat | I1: 2021. évi módosított előirányzat | J1: Teljesítés az I. félévben | K1: Teljesítés %-a
A2: I. Működési célú bevételek | G2: I. Működési célú kiadások
A3: 1.) Működési célú támogatások államháztartáson belülről | B3: 6090370 | C3: 6994836 | D3: 4599081 | E3: =D3/C3*100 -> 65.749662 | G3: 1.) Költségvetési szervek kiadásai | H3: 8235838 | I3: 8609057 | J3: 3585858 | K3: =J3/I3*100 -> 41.652158
A4: 2.) Közhatalmi bevételek | B4: 4499747 | C4: 4499747 | D4: 2991108 | E4: =D4/C4*100 -> 66.472804 | G4: 2.) Önkormányzat szakosztályainak kiadásai | H4: 8167142 | I4: 8324888 | J4: 2504247 | K4: =J4/I4*100 -> 30.08145
A5: 3.) Működési bevételek | B5: 2392621 | C5: 2246085 | D5: 817191 | E5: =D5/C5*100 -> 36.382906 | G5: 3.Egyéb működési célú kiadások (költségvetési szervek és tartalék nélkül) | H5: 3145847 | I5: 3370982 | J5: 1713941 | K5: =J5/I5*100 -> 50.843968
A6: 4.) Működési célú átvett pénzeszközök | C6: 46416 | D6: 51606 | E6: =D6/C6*100 -> 111.18149 | G6: 4.) Céltartalékból működésre | H6: 622263 | I6: 735105 | K6: =J6/I6*100 -> 0
A7: Költségvetési műk. bevételei összesen: | B7: =SUM(B3+B4+B5+B6) -> 12982738 | C7: =SUM(C3+C4+C5+C6) -> 13787084 | D7: =SUM(D3+D4+D5+D6) -> 8458986 | E7: =D7/C7*100 -> 61.354424 | G7: 5.) Általános tartalék | H7: 10000 | I7: 10000 | K7: =J7/I7*100 -> 0
A8: Finanszírozási bevételek | G8: Költségvetési műk. kiadásai összesen: | H8: =SUM(H2:H7) -> 20181090 | I8: =SUM(I2:I7) -> 21050032 | J8: =SUM(J2:J7) -> 7804046 | K8: =J8/I8*100 -> 37.073796
A9: 5.) Előző év költségvetési maradványának igénybevétele | B9: 7367381 | C9: 7431977 | D9: 7431977 | E9: =D9/C9*100 -> 100 | G9: 6.) Egyéb finanszírozási kiadás (államháztartáson belüli megelőlegezés visszafizetése) | H9: 169029 | I9: 169029 | J9: 169029 | K9: =J9/I9*100 -> 100
A10: MŰKÖDÉSI CÉLÚ BEVÉTELEK ÖSSZ: | B10: =SUM(B7:B9) -> 20350119 | C10: =SUM(C7:C9) -> 21219061 | D10: =SUM(D7:D9) -> 15890963 | E10: =D10/C10*100 -> 74.890039 | G10: MŰKÖDÉSI CÉLÚ KIADÁSOK ÖSSZ.: | H10: =SUM(H8:H9) -> 20350119 | I10: =SUM(I8:I9) -> 21219061 | J10: =SUM(J8:J9) -> 7973075 | K10: =J10/I10*100 -> 37.57506
A11: II. Felhalmozási célú bevételek | G11: II. Felhalmozási célú kiadások
A12: 1.) Felhalmozási célú támogatások államháztartáson belülről | B12: 10507163 | C12: 10861091 | D12: 9870620 | E12: =D12/C12*100 -> 90.880557 | G12: 1.) Egyéb felhalmozási célú kiadások | H12: 113334 | I12: 130167 | J12: 40511 | K12: =J12/I12*100 -> 31.122327
A13: 2.) Felhalmozási bevételek | B13: 200441 | C13: 228115 | D13: 186427 | E13: =D13/C13*100 -> 81.725007 | G13: 2.) Beruházás | H13: 28743625 | I13: 26345678 | J13: 5266909 | K13: =J13/I13*100 -> 19.991549
A14: 3.) Felhalmozási célú átvett pénzeszközök | B14: 134863 | C14: 212409 | D14: 181555 | E14: =D14/C14*100 -> 85.47425 | G14: ebből: költségvetési szervek | H14: 191139 | I14: 274990 | J14: 70470 | K14: =J14/I14*100 -> 25.626386
A15: 4.) Fejlesztéshez működési jellegű bevétel (HD, áfa visszaigénylés) | B15: 3423124 | C15: 3532599 | D15: 1204029 | E15: =D15/C15*100 -> 34.083376 | G15: 3.) Felújítás | H15: 3618638 | I15: 6473761 | J15: 735184 | K15: =J15/I15*100 -> 11.356366
A16: Költségvetési felhalm. bevételei összesen: | B16: =SUM(B12:B15) -> 14265591 | C16: =SUM(C12:C15) -> 14834214 | D16: =SUM(D12:D15) -> 11442631 | E16: =D16/C16*100 -> 77.136753 | G16: ebből: költségvetési szervek | H16: 22485 | I16: 33605 | J16: 4803 | K16: =J16/I16*100 -> 14.292516
A17: Finanszírozási bevételek | G17: 4.) Céltartalék | H17: 29385 | I17: 25678 | K17: =J17/I17*100 -> 0
A18: 5.) Hitel felvétel | B18: 34841 | C18: 34841 | D18: 34841 | E18: =D18/C18*100 -> 100 | G18: 5.)Fejlesztési hitel kamata | H18: 35142 | I18: 35142 | J18: 15858 | K18: =J18/I18*100 -> 45.125491
A19: 6.) Előző év költségvetési maradványának igénybevétele | B19: 3775789 | C19: 4002468 | D19: 4002468 | E19: =D19/C19*100 -> 100 | G19: Költségvetési felh.célú kiadásai összesen: | H19: =SUM(H12+H13+H15+H17+H18) -> 32540124 | I19: =SUM(I12+I13+I15+I17+I18) -> 33010426 | J19: =SUM(J12+J13+J15+J17+J18) -> 6058462 | K19: =J19/I19*100 -> 18.353177
A20: 7.) Forgatási célú értékpapír beváltás | B20: 14600437 | C20: 14600437 | D20: 3270000 | E20: =D20/C20*100 -> 22.39659 | G20: Finanszírozási kiadások
G21: 6.) Hitel- és kölcsön törlesztések | H21: 111534 | I21: 111534 | J21: 52026 | K21: =J21/I21*100 -> 46.645866
G22: 7.) Lízing kötelezettség | H22: 25000 | I22: 350000 | K22: =J22/I22*100 -> 0
A23: FELHALMOZÁSI CÉLÚ BEVÉTELEK ÖSSZESEN: | B23: =SUM(B16:B22) -> 32676658 | C23: =SUM(C16:C22) -> 33471960 | D23: =SUM(D16:D22) -> 18749940 | E23: =D23/C23*100 -> 56.016857 | G23: FELHALMOZÁSI CÉLÚ KIADÁSOK ÖSSZESEN: | H23: =SUM(H19:H22) -> 32676658 | I23: =SUM(I19:I22) -> 33471960 | J23: =SUM(J19:J22) -> 6110488 | K23: =J23/I23*100 -> 18.255543
A24: ÖNKORMÁNYZAT ÖSSZESEN: | B24: =SUM(B10+B23) -> 53026777 | C24: =SUM(C10+C23) -> 54691021 | D24: =SUM(D10+D23) -> 34640903 | E24: =D24/C24*100 -> 63.339287 | G24: ÖNKORMÁNYZAT ÖSSZESEN: | H24: =SUM(H10+H23) -> 53026777 | I24: =SUM(I10+I23) -> 54691021 | J24: =SUM(J10+J23) -> 14083563 | K24: =J24/I24*100 -> 25.751143
A25: 8.) Forgatási célú értékpapír beváltás projektekhez kapcsolódóan | B25: 10000000 | C25: 11500000 | E25: =D25/C25*100 -> 0 | G25: 8.) Forgatási célú értékpapír vásárlás hazai forrásból átmenetileg szabad pénzeszközökből | H25: 10000000 | I25: 11500000 | J25: 10000000 | K25: =J25/I25*100 -> 86.956522
A26: MINDÖSSZESEN: | B26: =SUM(B24:B25) -> 63026777 | C26: =SUM(C24:C25) -> 66191021 | D26: =SUM(D24:D25) -> 34640903 | E26: =D26/C26*100 -> 52.334746 | G26: MINDÖSSZESEN: | H26: =SUM(H24:H25) -> 63026777 | I26: =SUM(I24:I25) -> 66191021 | J26: =SUM(J24:J25) -> 24083563 | K26: =J26/I26*100 -> 36.38494

Sheet 2
A1: Rovat száma | B1: Megnevezés | C1: 2021. évi eredeti előirányzat | D1: 2021. évi módosított előirányzat | E1: Teljesítés az I. félévben | F1: Teljesítés %-a
A2: B | B2: BEVÉTELEK
A3: B1 | B3: Működési célú támogatások államháztartáson belülről
A4: B11 | B4: Helyi önkormányzatok általános működésének és ágazati feladatainak állami támogatása | C4: 4225717 | D4: 4328764 | E4: 2345823 | F4: =E4/D4*100 -> 54.19152
A5: B12 | B5: Elvonások és befizetések | D5: 47257 | E5: 47257 | F5: =E5/D5*100 -> 100
A6: B14 | B6: Működési célú visszatérítendő támogatások, kölcsönök visszatérülése államháztartáson belülről | C6: 43350 | D6: 43350 | E6: 30831 | F6: =E6/D6*100 -> 71.121107
A7: B16 | B7: Egyéb működési célú támogatások bevételei államháztartáson belülről | C7: 1821303 | D7: 2575465 | E7: 2175170 | F7: =E7/D7*100 -> 84.45737
B8: Működési célú támogatások államháztartáson belülről összesen | C8: =SUM(C4:C7) -> 6090370 | D8: =SUM(D4:D7) -> 6994836 | E8: =SUM(E4:E7) -> 4599081 | F8: =E8/D8*100 -> 65.749662
A9: B2 | B9: Felhalmozási célú támogatások államháztartáson belülről
A10: B21 | B10: Felhalmozási célú önkormányzati támogatás | D10: 637901 | E10: 637901 | F10: =E10/D10*100 -> 100
A11: B25 | B11: Egyéb felhalmozási célú támogatások bevételei államháztartáson belülről | C11: 10507163 | D11: 10223190 | E11: 9232719 | F11: =E11/D11*100 -> 90.311527
B12: Felhalmozási célú támogatások államháztartáson belülről összesen | C12: =SUM(C10:C11) -> 10507163 | D12: =SUM(D10:D11) -> 10861091 | E12: =SUM(E10:E11) -> 9870620 | F12: =E12/D12*100 -> 90.880557
A13: B3 | B13: Közhatalmi bevételek
A14: B311 | B14: Magánszemélyek jövedelemadói | E14: 63
A15: B34 | B15: Vagyoni típusú adók (építményadó, magánszemélyek kommunális adója) | C15: 1091747 | D15: 1091747 | E15: 572643 | F15: =E15/D15*100 -> 52.451988
A16: B35 | B16: Termékek és szolgáltatások adói
A17: B351 | B17: Értékesítési és forgalmi adók (iparűzési adó) | C17: 3400000 | D17: 3400000 | E17: 2396435 | F17: =E17/D17*100 -> 70.483382
A18: B355 | B18: Egyéb áruhasználati és szolgáltatási adók ( idegenforgalmi adó) | E18: 5
A19: B36 | B19: Egyéb közhatalmi bevételek (különféle bírságok, talajterhelési díj) | C19: 8000 | D19: 8000 | E19: 21962 | F19: =E19/D19*100 -> 274.525
B20: Közhatalmi bevételek összesen | C20: =SUM(C13:C19) -> 4499747 | D20: =SUM(D13:D19) -> 4499747 | E20: =SUM(E13:E19) -> 2991108 | F20: =E20/D20*100 -> 66.472804
A21: B4 | B21: Működési bevételek | C21: 5815745 | D21: 5778684 | E21: 2021220 | F21: =E21/D21*100 -> 34.977168
A22: B5 | B22: Felhalmozási bevételek
A23: B52 | B23: Ingatlanok értékesítése | C23: 200441 | D23: 228115 | E23: 186427 | F23: =E23/D23*100 -> 81.725007
A24: B53 | B24: Egyéb tárgyi eszközök értékesítése
B25: Felhalmozási bevételek összesen | C25: =SUM(C23:C24) -> 200441 | D25: =SUM(D23:D24) -> 228115 | E25: =SUM(E23:E24) -> 186427 | F25: =E25/D25*100 -> 81.725007
A26: B6 | B26: Működési célú átvett pénzeszközök | D26: 46416 | E26: 51606 | F26: =E26/D26*100 -> 111.18149
A27: B7 | B27: Felhalmozási célú átvett pénzeszközök
A28: B74 | B28: Felhalmozási célú visszatérítendő támogatások, kölcsönök visszatérülése államháztartáson kívülről | C28: 3000 | D28: 3000 | E28: 5895 | F28: =E28/D28*100 -> 196.5
A29: B73 | B29: Egyéb felhalmozási célú átvett pénzeszközök | C29: 131863 | D29: 209409 | E29: 175660 | F29: =E29/D29*100 -> 83.883692
B30: Felhalmozási célú átvett pénzeszközök összesen | C30: =SUM(C28:C29) -> 134863 | D30: =SUM(D28:D29) -> 212409 | E30: =SUM(E28:E29) -> 181555 | F30: =E30/D30*100 -> 85.47425
A31: B1-B7 | B31: Költségvetési bevételek | C31: =SUM(C8+C12+C20+C21+C25+C26+C30) -> 27248329 | D31: =SUM(D8+D12+D20+D21+D25+D26+D30) -> 28621298 | E31: =SUM(E8+E12+E20+E21+E25+E26+E30) -> 19901617 | F31: =E31/D31*100 -> 69.534292
A32: B8 | B32: Finanszírozási bevételek
A33: B81 | B33: Belföldi finanszírozás bevételei
A34: B811 | B34: Hitel-, kölcsönfelvétel államháztartáson kívülről | C34: 34841 | D34: 34841 | E34: 34841 | F34: =E34/D34*100 -> 100
A35: B8121 | B35: Forgatási célú belföldi értékpapírok beváltása, értékesítése | C35: 24600437 | D35: 26100437 | E35: 3270000 | F35: =E35/D35*100 -> 12.528526
A36: B813 | B36: Maradvány igénybevétele | C36: 11143170 | D36: 11434445 | E36: 11434445 | F36: =E36/D36*100 -> 100
A37: B814 | B37: Államháztartáson belüli megelőlegezések
B38: Finanszírozási bevételek összesen | C38: =SUM(C34:C36) -> 35778448 | D38: =SUM(D34:D37) -> 37569723 | E38: =SUM(E34:E37) -> 14739286 | F38: =E38/D38*100 -> 39.23182
B39: BEVÉTELEK ÖSSZESEN: | C39: =SUM(C31+C38) -> 63026777 | D39: =SUM(D31+D38) -> 66191021 | E39: =SUM(E31+E38) -> 34640903 | F39: =E39/D39*100 -> 52.334746

Sheet 3
B1: Mutató | D1: 2021. évi eredeti ei. | F1: Mutató | H1: 2021. évi módosított ei. | K1: Teljesítés összege az I. félévben ezer Ft-ban | L1: Teljesítés %-a
A2: Hozzájárulás jogcíme | B2: lakosságszám | C2: mutató | D2: Normatíva Ft/fő | E2: Hozzájárulás ezer Ft-ban | F2: lakosságszám | G2: mutató | H2: Normatíva Ft/fő | I2: Hozzájárulás ezer Ft-ban | J2: Forintban
A3: 2. melléklet szerinti jogcímek
A4: 1.1. Települési önkormányzatok működésének általános támogatása
A5: 1.1.1.1. önkormányzati hivatal működésének támogatása - elismert hivatali létszám alapján | C5: 130.56 | D5: 5475000 | E5: 714816 | G5: 130.56 | H5: 5475000 | I5: 714816 | J5: 714816000 | K5: 372858 | L5: =K5/I5*100 -> 52.161395
A6: Település-üzemeltetéshez kapcsolódó feladataellátás támogatása
A7: 1.1.1.2. zöldterület-gazdálkodás támogatása (hektár) | C7: 2369.2 | D7: 25200 | E7: 59704 | G7: 2369.2 | H7: 25200 | I7: 59704 | J7: 59703840 | K7: 31046 | L7: =K7/I7*100 -> 51.999866
A8: 1.1.1.3. közvilágítás támogatása (km) | C8: 402.8 | D8: 415000 | E8: 167162 | G8: 402.8 | H8: 415000 | I8: 167162 | J8: 167162000 | K8: 86924 | L8: =K8/I8*100 -> 51.999856
A9: 1.1.1.4. köztemető támogatása (m²) | C9: 323446 | D9: 70 | E9: 22641 | G9: 323446 | H9: 70 | I9: 22641 | J9: 22641220 | K9: 11773 | L9: =K9/I9*100 -> 51.998587
A10: 1.1.1.5. közutak támogatása (km) | C10: 219.2 | D10: 470000 | E10: 103022 | G10: 219.2 | H10: 470000 | I10: 103022 | J10: 103021651 | K10: 54711 | L10: =K10/I10*100 -> 53.106133
A11: 1.1.1.6. egyéb önkormányzati feladatok támogatása | B11: 56959 | D11: 2700 | E11: 153789 | F11: 56959 | H11: 2700 | I11: 153789 | J11: 153789300 | K11: 79971 | L11: =K11/I11*100 -> 52.000468
A12: 1.1.1.7. Lakott külterülettel kapcsolatos feladatok támogatása | B12: 4236 | D12: 2550 | E12: 10802 | F12: 4236 | H12: 2550 | I12: 10802 | J12: 10801800 | K12: 5617 | L12: =K12/I12*100 -> 51.99963
A13: 1.1.2.Nem közművel összegyűjtött háztartási szennyvíz ártalmatlanítása (köbméter) | E13: 100 | I13: 100 | J13: 100000 | K13: 52 | L13: =K13/I13*100 -> 52
A14: 1.2. Óvodaműködtetési támogatás
A15: 1.2.1.1. Óvodaműködtetési támogatás | C15: 1529.7 | D15: 97400 | E15: 148993 | G15: 1529.7 | H15: 97400 | I15: 148993 | J15: 148992780 | K15: 77476 | L15: =K15/I15*100 -> 51.999758
A16: 1.2.2.1. Az óvodában foglalkoztatott pedagógusok átlagbéralapú támogatása | C16: 137.9 | D16: 4861500 | E16: 670401 | G16: 137.9 | H16: 4861500 | I16: 670401 | J16: 670400850 | K16: 348609 | L16: =K16/I16*100 -> 52.000072
A17: 1.2.3. Kiegészítő támogatás az óvodapedagógusok minősítéséből adódó többletkiadásokhoz
A18: 1.2.3.1.1.1.1. Pedagógus II. kategóriába sorolt pedagógusok kiegészítő támogatása | C18: 39.3 | D18: 432000 | E18: 16977 | G18: 39.3 | H18: 432000 | I18: 16977 | J18: 16977600 | K18: 8828 | L18: =K18/I18*100 -> 51.999764
A19: 1.2.3.1.1.1.2. Pedagógus II. kategóriába sorolt óvodapedagógusok kiegészítő támogatása, akik a minősítés 2020. jan-1-jei átsorolással szerezték meg | D19: 363642 | H19: 363642 | L19: =K19/I19*100 -> #DIV/0!
A20: 1.2.3.1.1.1.2. Mesterpedagógus, kutatótanár kategóriába sorolt pedagógusok kiegészítő támogatása | C20: 2 | D20: 1611000 | E20: 3222 | G20: 2 | H20: 1611000 | I20: 3222 | J20: 3222000 | K20: 1676 | L20: =K20/I20*100 -> 52.017381
A21: 1.2.5.1.1. Az óvodában foglalkoztatott pedagógusok nevelőmunkáját közvetlenük segítők átlagbéralapú támogatása | C21: 90 | D21: 2919000 | E21: 262710 | G21: 90 | H21: 2919000 | I21: 262710 | J21: 262710000 | K21: 155282 | L21: =K21/I21*100 -> 59.107761
A22: 1.3.2.Szociális és gyermekjóléti alapszolgáltatás feladatai
A23: 1.3.2.1. Család és gyermekjóléti szolgálat | C23: 8.6 | D23: 4100000 | E23: 35260 | G23: 8.6 | H23: 4100000 | I23: 35260 | J23: 35260000 | K23: 19034 | L23: =K23/I23*100 -> 53.981849
A24: 1.3.2.2. Család- és gyermekjóléti központ ( járáshoz tartozó összes településre) | C24: 23.1 | D24: 3650000 | E24: 84315 | G24: 23.1 | H24: 3650000 | I24: 84315 | J24: 84315000 | K24: 45989 | L24: =K24/I24*100 -> 54.544269
A25: 1.3.2.3.2. Szociális étkeztetés - társulás által történő feladatellátás | C25: 325 | D25: 72996 | E25: 23724 | G25: 325 | H25: 72996 | I25: 23724 | J25: 23723700 | K25: 12561 | L25: =K25/I25*100 -> 52.946383
A26: 1.3.2.4. Házi segítségnyújtás
A27: 1.3.2.4.1. Szociális segítés | C27: 2 | D27: 25000 | E27: 50 | G27: 2 | H27: 25000 | I27: 50 | J27: 50000 | K27: 26 | L27: =K27/I27*100 -> 52
A28: 1.3.2.4.3. Személyi gondozás - társulás által történő feladatellátás | C28: 53 | D28: 471900 | E28: 25011 | G28: 53 | H28: 471900 | I28: 25011 | J28: 25010700 | K28: 13547 | L28: =K28/I28*100 -> 54.164168
A29: 1.3.2.6. Időskorúak nappali intézményi ellátása társulás által történő feladatellátás | C29: 55 | D29: 325500 | E29: 17902 | G29: 55 | H29: 325500 | I29: 17902 | J29: 17902500 | K29: 9618 | L29: =K29/I29*100 -> 53.725841
A30: 1.3.2.8.2. Demens személyek nappali intézményi ellátása - társulás által történő feladatellátás | C30: 4 | D30: 805200 | E30: 3221 | G30: 4 | H30: 805200 | I30: 3221 | J30: 3220800 | K30: 1708 | L30: =K30/I30*100 -> 53.02701
A31: 1.3.2.9.2. Pszichiátriai betegek nappali intézményi ellátása - társulás által történő feladatellátás | C31: 19 | D31: 450000 | E31: 8550 | G31: 19 | H31: 450000 | I31: 8550 | J31: 8550000 | K31: 4531 | L31: =K31/I31*100 -> 52.994152
A32: 1.3.2.10.2. Szenvedélybetegek nappali intézményi ellátása - társulás által történő feladatellátás | C32: 9 | D32: 450000 | E32: 4050 | G32: 9 | H32: 450000 | I32: 4050 | J32: 4050000 | K32: 2146 | L32: =K32/I32*100 -> 52.987654
A33: 1.3.3. Bölcsőde, mini bölcsőde támogatása
A34: 1.3.3.1. Bölcsődei bértámogatás
A35: 1.3.3.1.1. Felsőfokú végzettségű kisgyermeknevelők, szaktanácsadók bértámogatása | C35: 25 | D35: 5100000 | E35: 127500 | G35: 25 | H35: 5100000 | I35: 127500 | J35: 127500000 | K35: 66300 | L35: =K35/I35*100 -> 52
A36: 1.3.3.1.2. Bölcsődei dajkák,középfokú végzettségű kisgyermeknevelők, szaktanácsadók bértámogatása | C36: 44.4 | D36: 4260000 | E36: 189144 | G36: 44.4 | H36: 4260000 | I36: 189144 | J36: 189144000 | K36: 98355 | L36: =K36/I36*100 -> 52.000063
A37: 1.3.3.2. Bölcsődei üzemeltetési támogatás | E37: 86299 | I37: 86299 | J37: 86299000 | K37: 44875 | L37: =K37/I37*100 -> 51.999444
A38: 1.3.4. A települési önk. által biztosított egyes szociális szakosított ellátások, valamint a gyermekek átmeneti gondozásával kapcsolatos feladataok támogatása
A39: 1.3.4.1 Bértámogatása | C39: 34.2 | D39: 4234040 | E39: 144804 | G39: 34.2 | H39: 4234040 | I39: 144804 | J39: 144804168 | K39: 78997 | L39: =K39/I39*100 -> 54.554432
A40: 1.3.4.2. Intézmény üzemeltetési támogatás | E40: 22914 | I40: 22914 | J40: 22914000 | K40: 11915 | L40: =K40/I40*100 -> 51.998778
...

Sheet 4
A3: Rovat száma | B3: Megnevezés | C3: 2021. évi eredeti előirányzat | D3: 2021. évi módosított előirányzat | E3: 2021. I. félévi teljesítés | F3: Teljesítés %-a
B4: Költségvetési kiadások
A5: K1 | B5: Személyi juttatások | C5: 4845616 | D5: 5016881 | E5: ='7'!H17 -> 2241062 | F5: =E5/D5*100 -> 44.670424
A6: K2 | B6: Munkaadókat terhelő járulékok és szociális hj. adó | C6: 845508 | D6: 871858 | E6: ='7'!I17 -> 370717 | F6: =E6/D6*100 -> 42.520342
A7: K3 | B7: Dologi kiadások | C7: 10577885 | D7: 10817666 | E7: ='7'!J17 -> 3327480 | F7: =E7/D7*100 -> 30.759685
A8: K4 | B8: Ellátottak pénzbeli juttatásai | C8: 99170 | D8: 99662 | E8: ='7'!K17 -> 34446 | F8: =E8/D8*100 -> 34.562822
A9: K5 | B9: Egyéb működési célú kiadások | C9: 3848053 | D9: 4279107 | E9: ='7'!L17 -> 1846199 | F9: =E9/D9*100 -> 43.144493
B10: Működési költségvetés összesen: | C10: =SUM(C5:C9) -> 20216232 | D10: =SUM(D5:D9) -> 21085174 | E10: =SUM(E5:E9) -> 7819904 | F10: =E10/D10*100 -> 37.087216
A11: K6 | B11: Beruházások | C11: 28753625 | D11: 26355678 | E11: ='7'!M17 -> 5266909 | F11: =E11/D11*100 -> 19.983963
A12: K7 | B12: Felújítások | C12: 3638023 | D12: 6489439 | E12: ='7'!N17 -> 735184 | F12: =E12/D12*100 -> 11.32893
A13: K8 | B13: Egyéb felhalmozási célú kiadások | C13: 113334 | D13: 130167 | E13: ='7'!O17 -> 40511 | F13: =E13/D13*100 -> 31.122327
B14: Felhalmozási költségvetés összesen: | C14: =SUM(C11:C13) -> 32504982 | D14: =SUM(D11:D13) -> 32975284 | E14: =SUM(E11:E13) -> 6042604 | F14: =E14/D14*100 -> 18.324646
A15: K1-K8 | B15: Költségvetési kiadások összesen: | C15: =SUM(C14,C10) -> 52721214 | D15: =SUM(D14,D10) -> 54060458 | E15: =SUM(E14,E10) -> 13862508 | F15: =E15/D15*100 -> 25.642602
A16: K9 | B16: Finanszírozási kiadások | C16: 10305563 | D16: 12130563 | E16: ='7'!P17+'7'!Q17 -> 10221055 | F16: =E16/D16*100 -> 84.258703
B17: Önkormányzat kiadásai összesen | C17: =SUM(C15:C16) -> 63026777 | D17: =SUM(D15:D16) -> 66191021 | E17: =SUM(E15:E16) -> 24083563 | F17: =E17/D17*100 -> 36.38494

Sheet 5
A1: Cím szám | B1: Alcím szám | C1: Megnevezés | D1: Előirányzat | F1: Teljesítés | H1: Költségvetési bevételek | O1: Finanszírozási bevételek
D2: Eredeti | E2: Módosított | F2: Összege | G2: %-a | H2: Működési célú támogatások áht-n belülről | I2: Felhalmozási célú támogatások áht-n belülről | J2: Közhatalmi bevételek | K2: Működési bevételek | L2: Felhalmozási bevételek | M2: Működési célú átvett pénzeszközök | N2: Felhalmozási célú átvett pénzeszközök | O2: Hitel-, kölcsönfelvétel áht-n kívülről | P2: Maradvány igénybevétele | Q2: Egyéb finanszírozási bevétel
C3: Önkormányzat
B4: 12 | C4: Szociális és igazgatási feladatok | D4: 9906 | E4: 10149 | F4: =SUM(H4:Q4) -> 5036 | G4: =F4/E4*100 -> 49.620652 | H4: ='6'!I16 -> 0 | I4: ='6'!J16 -> 0 | J4: ='6'!K16 -> 60 | K4: ='6'!L16 -> 4733 | L4: ='6'!M16 -> 0 | M4: ='6'!N16 -> 243 | N4: ='6'!O16 -> 0 | O4: ='6'!P16 -> 0 | ... Q4: ='6'!R16 -> 0
B5: 13 | C5: Humánigazgatási feladatok | D5: 420563 | E5: 424174 | F5: =SUM(H5:Q5) -> 411678 | G5: =F5/E5*100 -> 97.054039 | H5: ='6'!I40 -> 376892 | I5: ='6'!J40 -> 0 | J5: ='6'!K40 -> 0 | K5: ='6'!L40 -> 3102 | L5: ='6'!M40 -> 0 | M5: ='6'!N40 -> 11729 | N5: ='6'!O40 -> 0 | O5: ='6'!P40 -> 0 | ... Q5: ='6'!R40 -> 0
B6: 14 | C6: Főépítészi feladatok | D6: 11529 | E6: 12048 | F6: =SUM(H6:Q6) -> 7754 | G6: =F6/E6*100 -> 64.35923 | H6: ='6'!I45 -> 0 | I6: ='6'!J45 -> 0 | J6: ='6'!K45 -> 0 | K6: ='6'!L45 -> 1241 | L6: ='6'!M45 -> 0 | M6: ='6'!N45 -> 0 | N6: ='6'!O45 -> 0 | O6: ='6'!P45 -> 0 | ... Q6: ='6'!R45 -> 0
B7: 15 | C7: Városüzemelési felad. | D7: 401618 | E7: 406117 | F7: =SUM(H7:Q7) -> 54867 | G7: =F7/E7*100 -> 13.510146 | H7: ='6'!I71 -> 0 | I7: ='6'!J71 -> 2499 | J7: ='6'!K71 -> 491 | K7: ='6'!L71 -> 26010 | L7: ='6'!M71 -> 0 | M7: ='6'!N71 -> 0 | N7: ='6'!O71 -> 2000 | O7: ='6'!P71 -> 0 | ... Q7: ='6'!R71 -> 0
B8: 16 | C8: Városépítészeti feladatok | D8: 36072284 | E8: 36274252 | F8: =SUM(H8:Q8) -> 22359217 | G8: =F8/E8*100 -> 61.639361 | H8: ='6'!I127 -> 1083801 | I8: ='6'!J127 -> 9215649 | J8: ='6'!K127 -> 0 | K8: ='6'!L127 -> 1225248 | L8: ='6'!M127 -> 8793 | M8: ='6'!N127 -> 0 | N8: ='6'!O127 -> 131864 | O8: ='6'!P127 -> 34841 | ... Q8: ='6'!R127 -> 3270000
B9: 17 | C9: Vagyonkez. feladatok | D9: 790503 | E9: 810612 | F9: =SUM(H9:Q9) -> 528404 | G9: =F9/E9*100 -> 65.18581 | H9: ='6'!I163 -> 0 | I9: ='6'!J163 -> 0 | J9: ='6'!K163 -> 0 | K9: ='6'!L163 -> 247514 | L9: ='6'!M163 -> 177634 | M9: ='6'!N163 -> 0 | N9: ='6'!O163 -> 5241 | O9: ='6'!P163 -> 0 | ... Q9: ='6'!R163 -> 0
B10: 18 | C10: Jogi és közig. feladatok | D10: 79966 | E10: 79966 | F10: =SUM(H10:Q10) -> 35802 | G10: =F10/E10*100 -> 44.771528 | H10: ='6'!I173 -> 0 | I10: ='6'!J173 -> 0 | J10: ='6'!K173 -> 1840 | K10: ='6'!L173 -> 33962 | L10: ='6'!M173 -> 0 | M10: ='6'!N173 -> 0 | N10: ='6'!O173 -> 0 | O10: ='6'!P173 -> 0 | ... Q10: ='6'!R173 -> 0
B11: 19 | C11: Pénzügyi lebonyolítás | D11: 22451153 | E11: 24819419 | F11: =SUM(H11:Q11) -> 9198580 | G11: =F11/E11*100 -> 37.062028 | H11: ='6'!I206 -> 2413080 | I11: ='6'!J206 -> 637901 | J11: ='6'!K206 -> 2988661 | K11: ='6'!L206 -> 60105 | L11: ='6'!M206 -> 0 | M11: ='6'!N206 -> 23550 | N11: ='6'!O206 -> 654 | O11: ='6'!P206 -> 0 | ... Q11: ='6'!R206 -> 0
B12: 20 | C12: Építéshatósági feladatok | F12: =SUM(H12:Q12) -> 56 | H12: ='6'!I209 -> 0 | I12: ='6'!J209 -> 0 | J12: ='6'!K209 -> 56 | K12: ='6'!L209 -> 0 | L12: ='6'!M209 -> 0 | M12: ='6'!N209 -> 0 | N12: ='6'!O209 -> 0 | O12: ='6'!P209 -> 0 | ... Q12: ='6'!R209 -> 0
B13: 22 | C13: Polgármesteri Kabinet | D13: 0 | E13: 96808 | F13: =SUM(H13:Q13) -> 55572 | G13: =F13/E13*100 -> 57.404347 | H13: ='6'!I219 -> 190 | I13: ='6'!J219 -> 0 | J13: ='6'!K219 -> 0 | K13: ='6'!L219 -> 22 | L13: ='6'!M219 -> 0 | M13: ='6'!N219 -> 13564 | N13: ='6'!O219 -> 41796 | O13: ='6'!P219 -> 0 | ... Q13: ='6'!R219 -> 0
C14: Önkormányzat összesen költségvetési szervek nélkül | D14: =SUM(D4:D13) -> 60237522 | E14: =SUM(E4:E13) -> 62933545 | F14: =SUM(F4:F13) -> 32656966 | G14: =F14/E14*100 -> 51.891191 | H14: =SUM(H4:H13) -> 3873963 | I14: =SUM(I4:I13) -> 9856049 | J14: =SUM(J4:J13) -> 2991108 | K14: =SUM(K4:K13) -> 1601937 | L14: =SUM(L4:L13) -> 186427 | M14: =SUM(M4:M13) -> 49086 | N14: =SUM(N4:N13) -> 181555 | O14: =SUM(O4:O13) -> 34841 | ... Q14: =SUM(Q4:Q13) -> 3270000
A15: 2 | C15: Költségvetési szervek | D15: 2789255 | E15: 3257476 | F15: =SUM(H15:Q15) -> 1983937 | G15: =F15/E15*100 -> 60.904117 | H15: ='6'!I221 -> 725118 | I15: ='6'!J221 -> 14571 | J15: ='6'!K221 -> 0 | K15: ='6'!L221 -> 419283 | L15: ='6'!M221 -> 0 | M15: ='6'!N221 -> 2520 | N15: ='6'!O221 -> 0 | O15: ='6'!P221 -> 0 | ... Q15: ='6'!R221 -> 0
C16: Önkormányzat összesen: | D16: =SUM(D14:D15) -> 63026777 | E16: =SUM(E14:E15) -> 66191021 | F16: =SUM(F14:F15) -> 34640903 | G16: =F16/E16*100 -> 52.334746 | H16: =SUM(H14:H15) -> 4599081 | I16: =SUM(I14:I15) -> 9870620 | J16: =SUM(J14:J15) -> 2991108 | K16: =SUM(K14:K15) -> 2021220 | L16: =SUM(L14:L15) -> 186427 | M16: =SUM(M14:M15) -> 51606 | N16: =SUM(N14:N15) -> 181555 | O16: =SUM(O14:O15) -> 34841 | ... Q16: =SUM(Q14:Q15) -> 3270000

Sheet 6
A1: Cím szám | B1: Alcím szám | C1: Megnevezés | D1: Tervezési alapegység | E1: Előirányzat | G1: Teljesítés | I1: Költségvetési bevételek | P1: Finanszírozási bevételek
E2: Eredeti | F2: Módosított | G2: Összege | H2: %-a | I2: Működési célú támogatások áht-n belülről | J2: Felhalmozási célú támogatások áht-n belülről | K2: Közhatalmi bevételek | L2: Működési bevételek | M2: Felhalmozási bevételek | N2: Működési célú átvett pénzeszközök | O2: Felhalmozási célú átvett pénzeszközök | P2: Hitel-, kölcsönfelvétel áht-n kívülről | Q2: Maradvány igénybevétele | R2: Egyéb finanszírozási bevétel
A3: 1 | C3: Önkormányzat
A4: 1 | B4: 1 | C4: Szakosztályok
A5: 1 | B5: 12 | C5: Szociális és igazgatási feladatok
C6: 011130 Önkorm. és önkorm. hivatal. jogalk. és ált.ig.tev.
C7: - Egerszeg kártya értékesítés | D7: 221 902 | E7: 9906 | F7: 9906 | G7: =SUM(I7:R7) -> 2475 | H7: =G7/F7*100 -> 24.984858 | L7: 2475
C8: - birtokvédelmi ügyek | D8: 121118 | G8: =SUM(I8:R8) -> 80 | L8: 80
C9: - igazgatási bírság | D9: 121602 | G9: =SUM(I9:R9) -> 60 | K9: 60
C10: 109010 Szociális szolgáltatás igazgatása
C11: - Lakhatásért Közalapítvány támogatásának elszámolása | D11: 121517 | F11: 243 | G11: =SUM(I11:R11) -> 243 | H11: =G11/F11*100 -> 100 | N11: 243
C12: 107060 Egyéb szociális pénzbeli ellátások, támogatások
C13: - átmeneti segély visszafizetése | D13: 121127 | G13: =SUM(I13:R13) -> 38 | L13: 38
C14: - egyszeri nevelési támogatás visszafietése | D14: 121115 | G14: =SUM(I14:R14) -> 11 | L14: 11
C15: - köztemetés megtérítése | D15: 121203 | G15: =SUM(I15:R15) -> 2129 | L15: 2129
C16: Szociális és igazgatási feladatok összesen: | E16: =SUM(E5:E11) -> 9906 | F16: =SUM(F5:F11) -> 10149 | G16: =SUM(G7:G15) -> 5036 | H16: =G16/F16*100 -> 49.620652 | I16: =SUM(I7:I15) -> 0 | J16: =SUM(J7:J15) -> 0 | K16: =SUM(K7:K15) -> 60 | L16: =SUM(L7:L15) -> 4733 | M16: =SUM(M7:M15) -> 0 | N16: =SUM(N7:N15) -> 243 | O16: =SUM(O7:O15) -> 0 | P16: =SUM(P7:P15) -> 0 | ... R16: =SUM(R7:R15) -> 0
A17: 1 | B17: 13 | C17: Humánigazgatási feladatok
C18: 098010 Oktatás igazgatása
C19: - Zalaegerszegi Szakképzési Centrum részére, szakképzési ösztöndíj céljára nyújtott támogatás elszámoláas | D19: 131112 | G19: =SUM(I19:R19) -> 53 | I19: 53
C20: 082091 Közművelődés - közösségi és társ. részvétel fejleszt.
C21: - Zalaegerszegi Rendezvényszervező Kft. működési támogatás elszámolása | D21: 131313 | G21: =SUM(I21:R21) -> 5548 | N21: 5548
C22: 084031 Civil szervezetek műk. támogatása
C23: - peremkerületek támogatása elszámolása | D23: 131404 | G23: =SUM(I23:R23) -> 482 | N23: 482
C24: 072112 Háziorvosi ügyeleti ellátás
C25: - körzeti orvosi ügyelet fenntartásához községek hozzájárulása | D25: 131705 | E25: 41101 | F25: 41101 | G25: =SUM(I25:R25) -> 23339 | H25: =G25/F25*100 -> 56.784506 | I25: 23339
C26: 013350 Önk-i vagyonnal való gazdálkodáshoz kapcs.fa.
C27: - Zalaegerszegi Tourinform Iroda felújítása | D27: 134939 | E27: 19955 | F27: 19955 | G27: =SUM(I27:R27) -> 19955 | H27: =G27/F27*100 -> 100 | Q27: 19955
C28: 101211 Fogyatékossággal élők tartós bentlakásos ellátása
C29: - Református Egyház által fizetendő bérleti díj | D29: 131703 | E29: 6007 | F29: 6007 | G29: =SUM(I29:R29) -> 3102 | H29: =G29/F29*100 -> 51.639754 | L29: 3102
C30: - Idősek Otthona férőhely megváltás | D30: 121319 | F30: 1318 | G30: =SUM(I30:R30) -> 1318 | H30: =G30/F30*100 -> 100 | N30: 1318
C31: 018030 Támogatási célú finanszírozási műveletek
C32: - Hevesi Sándor Színház társműködtetöi támogatás | D32: 131508 | E32: 288500 | F32: 288500 | G32: =SUM(I32:R32) -> 288500 | H32: =G32/F32*100 -> 100 | I32: 288500
C33: - Griff Bábszínház társműködtetöi támogatás | D33: 131509 | E33: 65000 | F33: 65000 | G33: =SUM(I33:R33) -> 65000 | H33: =G33/F33*100 -> 100 | I33: 65000
C34: 074040 Fertőző megbetegedések megelőzése,járványügyi ellátás
C35: - járványügyi védekezésre | D35: 131716 | F35: 293 | G35: =SUM(I35:R35) -> 318 | H35: =G35/F35*100 -> 108.53242 | N35: 318
C36: 094260 Hallgatói és oktatói ösztöndíjak, egyéb juttatások
C37: - MOL adomány | D37: 131845 | F37: 2000 | G37: =SUM(I37:R37) -> 2000 | H37: =G37/F37*100 -> 100 | N37: 2000
C38: 081030 Sportlétes., edzőtáborok működtetése és fejlesztése
C39: - Sportcsarnok és környéke igénybevétel miatti kiadás, támogatás elszámolása | D39: 131827 | G39: =SUM(I39:R39) -> 2063 | N39: 2063
C40: Humánigazgatási feladatok összesen: | E40: =SUM(E25:E37) -> 420563 | F40: =SUM(F25:F37) -> 424174 | G40: =SUM(G19:G39) -> 411678 | H40: =G40/F40*100 -> 97.054039 | I40: =SUM(I19:I39) -> 376892 | J40: =SUM(J19:J39) -> 0 | K40: =SUM(K19:K39) -> 0 | L40: =SUM(L19:L39) -> 3102 | M40: =SUM(M19:M39) -> 0 | N40: =SUM(N19:N39) -> 11729 | O40: =SUM(O19:O39) -> 0 | P40: =SUM(P19:P39) -> 0 | ... R40: =SUM(R19:R39) -> 0
...

Sheet 7
A1: Cím szám | B1: Alcím szám | C1: Megnevezés | D1: Előirányzat | F1: Teljesítés | H1: Költségvetési kiadások | P1: Finanszírozási kiadások
D2: Eredeti | E2: Módosított | F2: Összege | G2: %-a | H2: Személyi juttatások | I2: Munkaadókat terhelő járulékok és szociális hj.adó | J2: Dologi kiadások | K2: Ellátottak pénzbeli juttatásai | L2: Egyéb működési célú kiadások | M2: Beruházások | N2: Felújítások | O2: Egyéb felhalmo-zási célú kiadások | P2: Hitel-, kölcsöntör-lesztés áht-n kívülre | Q2: Egyéb finanszírozási kiadás
A3: 1 | C3: Önkormányzat
A4: 1 | B4: 1 | C4: Szakosztályok
B5: 12 | C5: Szociális és igazgatási feladatok | D5: 153919 | E5: 151437 | F5: =SUM(H5:Q5) -> 41900 | G5: =F5/E5*100 -> 27.668271 | H5: ='8'!K46 -> 0 | I5: ='8'!L46 -> 1759 | J5: ='8'!M46 -> 5120 | K5: ='8'!N46 -> 31721 | L5: ='8'!O46 -> 1500 | M5: ='8'!P46 -> 0 | N5: ='8'!Q46 -> 0 | O5: ='8'!R46 -> 1800 | ... Q5: ='8'!T46 -> 0
B6: 13 | C6: Humánigazgatási feladatok | D6: 1125259 | E6: 1231783 | F6: =SUM(H6:Q6) -> 693431 | G6: =F6/E6*100 -> 56.294899 | H6: ='8'!K214 -> 269 | I6: ='8'!L214 -> 80 | J6: ='8'!M214 -> 7012 | K6: ='8'!N214 -> 2150 | L6: ='8'!O214 -> 635628 | M6: ='8'!P214 -> 16788 | N6: ='8'!Q214 -> 16028 | O6: ='8'!R214 -> 15476 | ... Q6: ='8'!T214 -> 0
B7: 14 | C7: Főépítészi feladatok | D7: 29420 | E7: 29842 | F7: =SUM(H7:Q7) -> 5988 | G7: =F7/E7*100 -> 20.065679 | H7: ='8'!K226 -> 0 | I7: ='8'!L226 -> 0 | J7: ='8'!M226 -> 2313 | K7: ='8'!N226 -> 0 | L7: ='8'!O226 -> 0 | M7: ='8'!P226 -> 3257 | N7: ='8'!Q226 -> 0 | O7: ='8'!R226 -> 418 | ... Q7: ='8'!T226 -> 0
B8: 15 | C8: Városüzemelési feladatok | D8: 2708366 | E8: 2959233 | F8: =SUM(H8:Q8) -> 878478 | G8: =F8/E8*100 -> 29.686003 | H8: ='8'!K464 -> 4312 | I8: ='8'!L464 -> 677 | J8: ='8'!M464 -> 646068 | K8: ='8'!N464 -> 0 | L8: ='8'!O464 -> 165645 | M8: ='8'!P464 -> 39532 | N8: ='8'!Q464 -> 22244 | O8: ='8'!R464 -> 0 | ... Q8: ='8'!T464 -> 0
B9: 16 | C9: Városépítészeti feladatok | D9: 36679202 | E9: 36908940 | F9: =SUM(H9:Q9) -> 7052915 | G9: =F9/E9*100 -> 19.108961 | H9: ='8'!K602 -> 1068 | I9: ='8'!L602 -> 149 | J9: ='8'!M602 -> 1453874 | K9: ='8'!N602 -> 0 | L9: ='8'!O602 -> 5049 | M9: ='8'!P602 -> 4887651 | N9: ='8'!Q602 -> 692109 | O9: ='8'!R602 -> 13015 | ... Q9: ='8'!T602 -> 0
B10: 17 | C10: Vagyonkezelési feladatok | D10: 163568 | E10: 513531 | F10: =SUM(H10:Q10) -> 48102 | G10: =F10/E10*100 -> 9.3669126 | H10: ='8'!K625 -> 0 | I10: ='8'!L625 -> 0 | J10: ='8'!M625 -> 20534 | K10: ='8'!N625 -> 0 | L10: ='8'!O625 -> 0 | M10: ='8'!P625 -> 20562 | N10: ='8'!Q625 -> 0 | O10: ='8'!R625 -> 7006 | ... Q10: ='8'!T625 -> 0
B11: 18 | C11: Jogi és közig.feladatok | D11: 262660 | E11: 262660 | F11: =SUM(H11:Q11) -> 121321 | G11: =F11/E11*100 -> 46.18937 | H11: ='8'!K647 -> 73200 | I11: ='8'!L647 -> 9407 | J11: ='8'!M647 -> 32914 | K11: ='8'!N647 -> 0 | L11: ='8'!O647 -> 5800 | M11: ='8'!P647 -> 0 | N11: ='8'!Q647 -> 0 | O11: ='8'!R647 -> 0 | ... Q11: ='8'!T647 -> 0
B12: 19 | C12: Pénzügyi lebonyolítás | D12: 12014247 | E12: 13586754 | F12: =SUM(H12:Q12) -> 11167175 | G12: =F12/E12*100 -> 82.191633 | H12: ='8'!K678 -> 0 | I12: ='8'!L678 -> 0 | J12: ='8'!M678 -> 183020 | K12: ='8'!N678 -> 0 | L12: ='8'!O678 -> 761800 | M12: ='8'!P678 -> 0 | N12: ='8'!Q678 -> 0 | O12: ='8'!R678 -> 1300 | ... Q12: ='8'!T678 -> 10169029
B13: 21 | C13: Polgármesteri Kabinet kiadásai | D13: 779026 | E13: 858406 | F13: =SUM(H13:Q13) -> 413122 | G13: =F13/E13*100 -> 48.126644 | H13: ='8'!K724 -> 4706 | I13: ='8'!L724 -> 1767 | J13: ='8'!M724 -> 37985 | K13: ='8'!N724 -> 0 | L13: ='8'!O724 -> 138519 | M13: ='8'!P724 -> 228649 | N13: ='8'!Q724 -> 0 | O13: ='8'!R724 -> 1496 | ... Q13: ='8'!T724 -> 0
B14: 30 | C14: Tartalékok | D14: 661648 | E14: 770783 | F14: =SUM(H14:Q14) -> 0 | G14: =F14/E14*100 -> 0 | H14: ='8'!K744 -> 0 | I14: ='8'!L744 -> 0 | J14: ='8'!M744 -> 0 | K14: ='8'!N744 -> 0 | L14: ='8'!O744 -> 0 | M14: ='8'!P744 -> 0 | N14: ='8'!Q744 -> 0 | O14: ='8'!R744 -> 0 | ... Q14: ='8'!T744 -> 0
C15: Önkormányzat összesen költségvetési szervek nélkül | D15: =SUM(D5:D14) -> 54577315 | E15: =SUM(E5:E14) -> 57273369 | F15: =SUM(F5:F14) -> 20422432 | G15: =F15/E15*100 -> 35.657815 | H15: =SUM(H5:H14) -> 83555 | I15: =SUM(I5:I14) -> 13839 | J15: =SUM(J5:J14) -> 2388840 | K15: =SUM(K5:K14) -> 33871 | L15: =SUM(L5:L14) -> 1713941 | M15: =SUM(M5:M14) -> 5196439 | N15: =SUM(N5:N14) -> 730381 | O15: =SUM(O5:O14) -> 40511 | ... Q15: =SUM(Q5:Q14) -> 10169029
A16: 2 | C16: Költségvetési szervek | D16: 8449462 | E16: 8917652 | F16: =SUM(H16:Q16) -> 3661131 | G16: =F16/E16*100 -> 41.054876 | H16: ='8'!K746 -> 2157507 | I16: ='8'!L746 -> 356878 | J16: ='8'!M746 -> 938640 | K16: ='8'!N746 -> 575 | L16: ='8'!O746 -> 132258 | M16: ='8'!P746 -> 70470 | N16: ='8'!Q746 -> 4803 | O16: ='8'!R746 -> 0 | ... Q16: ='8'!T746 -> 0
C17: Önkormányzat összesen: | D17: =SUM(D15:D16) -> 63026777 | E17: =SUM(E15:E16) -> 66191021 | F17: =SUM(F15:F16) -> 24083563 | G17: =F17/E17*100 -> 36.38494 | H17: =SUM(H15:H16) -> 2241062 | I17: =SUM(I15:I16) -> 370717 | J17: =SUM(J15:J16) -> 3327480 | K17: =SUM(K15:K16) -> 34446 | L17: =SUM(L15:L16) -> 1846199 | M17: =SUM(M15:M16) -> 5266909 | N17: =SUM(N15:N16) -> 735184 | O17: =SUM(O15:O16) -> 40511 | ... Q17: =SUM(Q15:Q16) -> 10169029

Sheet 8
A1: Cím szám | B1: Alcím szám | C1: Sorszám | D1: Megnevezés | E1: feladat jellege | F1: Tervezési alapegység | G1: Előirányzat | I1: Teljesítés | K1: Költségvetési kiadások | S1: Finanszírozási kiadások
G2: Eredeti | H2: Módosított | I2: Összege | J2: %-a | K2: Személyi juttatások | L2: Munkaadókat terhelő járulékok és szociális hj.adó | M2: Dologi kiadások | N2: Ellátottak pénzbeli juttatásai | O2: Egyéb működési célú kiadások | P2: Beruházások | Q2: Felújítások | R2: Egyéb felhalmo-zási célú kiadások | S2: Hitel-, kölcsöntör-lesztés áht-n kívülre | T2: Egyéb finanszírozási kiadás
A3: 1 | D3: Önkormányzat
A4: 1 | B4: 1 | D4: Szakosztályok
A5: 1 | B5: 12 | D5: Szociális és igazgatási feladatok
D6: 105010 Munkanélküli aktív korúak ellátásai
D7: - megélhetési támogatás | E7: 2 | F7: 121103 | G7: 6000 | H7: 6000 | I7: 2398 | J7: =I7/H7*100 -> 39.966667 | N7: 2398
D8: 106020 Lakásfenntartással, lakhatással összefüggő ellátások
D9: - lakásfenntartási segély | E9: 2 | F9: 121104 | G9: 20000 | H9: 20000 | I9: =SUM(K9:T9) -> 8419 | J9: =I9/H9*100 -> 42.095 | N9: 8419
D10: - önkormányzati bérlakásban élők lakásfenntartási segélye Lakásalapból | E10: 2 | F10: 121117 | G10: 8000 | H10: 8000 | I10: =SUM(K10:T10) -> 3512 | J10: =I10/H10*100 -> 43.9 | N10: 3512
D11: 107060 Egyéb szociális pénzbeli ellátások, támogatások
D12: - gyermekétkeztetési támogatás | E12: 2 | F12: 121111 | G12: 1600 | H12: 1600 | I12: =SUM(K12:T12) -> 546 | J12: =I12/H12*100 -> 34.125 | N12: 546
D13: - átmeneti segély | E13: 2 | F13: 121127 | G13: 4000 | H13: 4000 | I13: =SUM(K13:T13) -> 1935 | J13: =I13/H13*100 -> 48.375 | N13: 1935
D14: - egyszeri nevelési támogatás | E14: 2 | F14: 121115 | G14: 700 | H14: 700 | I14: =SUM(K14:T14) -> 0 | J14: =I14/H14*100 -> 0
D15: - szociális krízis alap | E15: 2 | F15: 121129 | G15: 3000 | H15: 3000 | I15: =SUM(K15:T15) -> 968 | J15: =I15/H15*100 -> 32.266667 | N15: 968
D16: - tüzifa támogatás | E16: 2 | F16: 121106 | G16: 2000 | H16: 2000 | I16: =SUM(K16:T16) -> 401 | J16: =I16/H16*100 -> 20.05 | N16: 401
D17: 103010 Elhunyt személyek hátramaradottainak pénzbeli ellátása
D18: - temetési segély | E18: 2 | F18: 121131 | G18: 3000 | H18: 3000 | I18: =SUM(K18:T18) -> 272 | J18: =I18/H18*100 -> 9.0666667 | N18: 272
D19: 106020 Lakásfenntartással, lakhatással összefüggő ellátások
D20: - lakhatási krízis alap Lakásalapból | E20: 2 | F20: 121130 | G20: 2000 | H20: 2000 | I20: =SUM(K20:T20) -> 0 | J20: =I20/H20*100 -> 0
D21: 107060 Egyéb szociális pénzbeli ellátások, támogatások
D22: - gyógyszertámogatás | E22: 1 | F22: 121204 | G22: 14000 | H22: 14000 | I22: =SUM(K22:T22) -> 4742 | J22: =I22/H22*100 -> 33.871429 | N22: 4742
D23: - gyógyászati segédeszköz támogatás | E23: 1 | F23: 121132 | G23: 250 | H23: 250 | I23: =SUM(K23:T23) -> 0 | J23: =I23/H23*100 -> 0
D24: - köztemetés | E24: 1 | F24: 121203 | G24: 6500 | H24: 6500 | I24: =SUM(K24:T24) -> 3403 | J24: =I24/H24*100 -> 52.353846 | M24: 742 | N24: 2661
D25: 094260 Hallgatói és oktatói ösztöndíjak, egyéb juttatások
D26: - Bursa Hungarica ösztöndíj | E26: 2 | F26: 121504 | G26: 4400 | H26: 4400 | I26: =SUM(K26:T26) -> 1660 | J26: =I26/H26*100 -> 37.727273 | N26: 1660
D27: 061030 Lakáshoz jutást segítő támogatások
D28: - lakásgazdálkodási feladatokra | E28: 1 | F28: 121403 | G28: 50 | H28: 50 | I28: =SUM(K28:T28) -> 0 | J28: =I28/H28*100 -> 0
D29: 104042 Család- és gyermekjóléti szolgálat
D30: - Családsegítő Szolgálathoz krízissegélyezés | E30: 1 | F30: 121301 | G30: 2500 | H30: 0 | I30: =SUM(K30:T30) -> 0
D31: 011130 Önkorm. és önkorm. hivatal. jogalk. és ált.ig.tev.
D32: - Egerszegkártya | E32: 2 | F32: 221902 | G32: 30000 | H32: 29775 | I32: =SUM(K32:T32) -> 4161 | J32: =I32/H32*100 -> 13.974811 | M32: 4161
D33: - Nemzedékek kézfogása | E33: 2 | F33: 22190** | G33: 20000 | H33: 20000 | I33: =SUM(K33:T33) -> 6034 | J33: =I33/H33*100 -> 30.17 | L33: 1759 | M33: 68 | N33: 4207
D34: - bírtokvédelmi költség megelőlegezés | E34: 1 | F34: 121118 | G34: 300 | H34: 300 | I34: =SUM(K34:T34) -> 79 | J34: =I34/H34*100 -> 26.333333 | M34: 79
D35: - talált tárgyak felértékeltetése | E35: 1 | F35: 121515 | G35: 200 | H35: 200 | I35: =SUM(K35:T35) -> 70 | J35: =I35/H35*100 -> 35 | M35: 70
D36: 032020 Tűz- és katasztrófavéd. tevékenység
D37: - helyi védelmi igazgatás | E37: 1 | F37: 121601 | G37: 500 | H37: 500 | I37: =SUM(K37:T37) -> 0 | J37: =I37/H37*100 -> 0
D38: 109010 Szociális szolgáltatás igazgatása
D39: - "Lakhatásért" Közalapítvány támogatása | E39: 2 | F39: 121517 | G39: 3000 | H39: 3243 | I39: =SUM(K39:T39) -> 1500 | J39: =I39/H39*100 -> 46.253469 | O39: 1500
D40: Szociális és igazgatási fa.működési kiadás összesen: | G40: =SUM(G7:G39) -> 132000 | H40: =SUM(H7:H39) -> 129518 | I40: =SUM(I7:I39) -> 40100 | J40: =I40/H40*100 -> 30.960948 | K40: =SUM(K7:K39) -> 0 | L40: =SUM(L7:L39) -> 1759 | M40: =SUM(M7:M39) -> 5120 | N40: =SUM(N7:N39) -> 31721 | O40: =SUM(O7:O39) -> 1500 | P40: =SUM(P7:P39) -> 0 | Q40: =SUM(Q7:Q39) -> 0 | R40: =SUM(R7:R39) -> 0 | ... T40: =SUM(T7:T39) -> 0
...

Sheet 9
A1: Címszám | B1: Költségvetési szerv megnevezése | C1: Előirányzat | E1: Teljesítés | G1: Költségvetési bevételek | N1: Finanszírozási bevételek
C2: Eredeti | D2: Módosított | E2: Összege | F2: %-a | G2: Működési célú támogatások áht-n belülről | H2: Felhalmozási célú támogatások áht-n belülről | I2: Közhatalmi bevételek | J2: Működési bevételek | K2: Felhalmozási bevételek | L2: Működési célú átvett pénzeszközök | M2: Felhalmozási célú átvett pénzeszközök | N2: Maradvány igénybevétele | O2: Központi, irányító szervi támogatás | P2: Egyéb finanszírozási bevétel
A3: 2 | B3: Polgármesteri Hivatal | C3: 1814430 | D3: 1831767 | E3: =SUM(G3:P3) -> 835383 | F3: =E3/D3*100 -> 45.605309 | G3: 1456 | J3: 8881 | N3: 241063 | O3: 583983
A4: 3 | B4: Zalaegerszegi Gazdasági Ellátó Szervezet | C4: 1058472 | D4: 1016902 | E4: =SUM(G4:P4) -> 390987 | F4: =E4/D4*100 -> 38.448838 | G4: 300 | J4: 151761 | N4: 35172 | O4: 203754
A5: 4 | B5: Zalaegerszegi Egyesített Bölcsődék | C5: 676340 | D5: 700220 | E5: =SUM(G5:P5) -> 335071 | F5: =E5/D5*100 -> 47.852246 | G5: 300 | H5: 7500 | J5: 29543 | N5: 29582 | O5: 268146
A6: 5 | B6: Zalaegerszegi Egészségügyi Alapellátási Intézmény | C6: 576794 | D6: 713778 | E6: =SUM(G6:P6) -> 388294 | F6: =E6/D6*100 -> 54.399827 | G6: 238417 | J6: 1159 | N6: 89601 | O6: 59117
A7: 6 | B7: Zalaegerszegi Család-és Gyermekjóléti Központ | C7: 224231 | D7: 267493 | E7: =SUM(G7:P7) -> 139314 | F7: =E7/D7*100 -> 52.081363 | J7: 746 | N7: 32843 | O7: 105725
A8: 7 | B8: Zalaegerszegi Belvárosi I. számú Óvoda | C8: 377246 | D8: 393858 | E8: =SUM(G8:P8) -> 173812 | F8: =E8/D8*100 -> 44.130626 | H8: 1600 | J8: 7888 | N8: 18283 | O8: 146041
A9: 8 | B9: Zalaegerszegi Belvárosi II. számú Óvoda | C9: 327099 | D9: 344891 | E9: =SUM(G9:P9) -> 150784 | F9: =E9/D9*100 -> 43.71932 | J9: 8845 | N9: 26808 | O9: 115131
A10: 9 | B10: Zalaegerszegi Kertvárosi Óvoda | C10: 374926 | D10: 400900 | E10: =SUM(G10:P10) -> 171692 | F10: =E10/D10*100 -> 42.82664 | H10: 1688 | J10: 10248 | N10: 38757 | O10: 120999
A11: 10 | B11: Zalaegerszegi Landorhegyi Óvoda | C11: 343570 | D11: 358917 | E11: =SUM(G11:P11) -> 152193 | F11: =E11/D11*100 -> 42.403397 | H11: 1948 | J11: 6676 | N11: 17226 | O11: 126343
A12: 11 | B12: Közgyűjteményi és Közművelődési GESZ | C12: 53686 | D12: 55411 | E12: =SUM(G12:P12) -> 30408 | F12: =E12/D12*100 -> 54.87719 | G12: 6381 | J12: 1 | N12: 575 | O12: 23451
A13: 12 | B13: Keresztury Dezső VMK | C13: 492898 | D13: 525821 | E13: =SUM(G13:P13) -> 299486 | F13: =E13/D13*100 -> 56.955884 | G13: 8755 | H13: 1000 | J13: 20197 | L13: 20 | N13: 141345 | O13: 128169
A14: 13 | B14: Zalaegerszegi Turisztikai Hivatal és Információs Iroda | C14: 20645 | D14: 25731 | E14: =SUM(G14:P14) -> 11888 | F14: =E14/D14*100 -> 46.20108 | G14: 2000 | J14: 270 | N14: 1698 | O14: 7920
A15: 14 | B15: Deák Ferenc Megyei és Városi Könyvtár | C15: 456340 | D15: 460863 | E15: =SUM(G15:P15) -> 238111 | F15: =E15/D15*100 -> 51.66633 | G15: 4338 | J15: 21582 | N15: 685 | O15: 211506
A16: 15 | B16: Göcseji Múzeum | C16: 517804 | D16: 591444 | E16: =SUM(G16:P16) -> 269322 | F16: =E16/D16*100 -> 45.536348 | G16: 27614 | H16: 835 | J16: 48305 | L16: 2500 | N16: 78508 | O16: 111560
A17: 16 | B17: Hevesi Sándor Színház | C17: 749650 | D17: 809441 | E17: =SUM(G17:P17) -> 665926 | F17: =E17/D17*100 -> 82.269863 | G17: 364204 | J17: 33539 | N17: 34908 | O17: 233275
A18: 17 | B18: Griff Bábszínház | C18: 144959 | D18: 160816 | E18: =SUM(G18:P18) -> 117516 | F18: =E18/D18*100 -> 73.074818 | G18: 66200 | J18: 3329 | N18: 13327 | O18: 34660
A19: 18 | B19: Városi Sportlétesítmény Gondnokság Intézménye | C19: 138125 | D19: 157114 | E19: =SUM(G19:P19) -> 77416 | F19: =E19/D19*100 -> 49.273776 | G19: 4523 | J19: 24740 | N19: 17828 | O19: 30325
A20: 19 | B20: Vásárcsarnok | C20: 102247 | D20: 102285 | E20: =SUM(G20:P20) -> 46439 | F20: =E20/D20*100 -> 45.401574 | G20: 630 | J20: 41573 | N20: 4236
B21: Költségvetési szervek mindösszesen: | C21: =SUM(C3:C20) -> 8449462 | D21: =SUM(D3:D20) -> 8917652 | E21: =SUM(E3:E20) -> 4494042 | F21: =E21/D21*100 -> 50.394902 | G21: =SUM(G3:G20) -> 725118 | H21: =SUM(H3:H20) -> 14571 | I21: =SUM(I3:I20) -> 0 | J21: =SUM(J3:J20) -> 419283 | K21: =SUM(K3:K20) -> 0 | L21: =SUM(L3:L20) -> 2520 | M21: =SUM(M3:M20) -> 0 | N21: =SUM(N3:N20) -> 822445 | ... P21: =SUM(P3:P20) -> 0

Sheet 10
A1: Címszám | B1: Költségvetési szerv megnevezése | C1: Előirányzat | E1: Teljesítés | G1: Költségvetési kiadások | O1: Finanszírozási kiadások
C2: Eredeti | D2: Módosított | E2: összege | F2: %-a | G2: Személyi juttatások | H2: Munkaadókat terhelő járulékok és szociális hozzájárulási adó | I2: Dologi kiadások | J2: Ellátottak pénzbeli juttatásai | K2: Egyéb működési célú kiadások | L2: Beruházások | M2: Felújítások | N2: Egyéb felhalmozási célú kiadások
A3: 2 | B3: Polgármesteri Hivatal | C3: 1814430 | D3: 1831767 | E3: =SUM(G3:O3) -> 800879 | F3: =E3/D3*100 -> 43.721663 | G3: 558607 | H3: 91670 | I3: 91866 | K3: 45719 | L3: 11150 | M3: 1867
A4: 3 | B4: Zalaegerszegi Gazdasági Ellátó Szervezet | C4: 1058472 | D4: 1016902 | E4: =SUM(G4:O4) -> 365736 | F4: =E4/D4*100 -> 35.965708 | G4: 59374 | H4: 9824 | I4: 264212 | K4: 32201 | L4: 125
A5: 4 | B5: Zalaegerszegi Egyesített Bölcsődék | C5: 676340 | D5: 700220 | E5: =SUM(G5:O5) -> 322164 | F5: =E5/D5*100 -> 46.008969 | G5: 228919 | H5: 38257 | I5: 51872 | K5: 3022 | L5: 94
A6: 5 | B6: Zalaegerszegi Egészségügyi Alapellátási Intézmény | C6: 576794 | D6: 713778 | E6: =SUM(G6:O6) -> 263465 | F6: =E6/D6*100 -> 36.911337 | G6: 153343 | H6: 25284 | I6: 83523 | L6: 1315
A7: 6 | B7: Zalaegerszegi Család- és Gyermekjóléti Központ | C7: 224231 | D7: 267493 | E7: =SUM(G7:O7) -> 118215 | F7: =E7/D7*100 -> 44.19368 | G7: 94512 | H7: 16531 | I7: 6475 | J7: 575 | K7: 93 | L7: 29
A8: 7 | B8: Zalaegerszegi Belvárosi I. számú Óvoda | C8: 377246 | D8: 393858 | E8: =SUM(G8:O8) -> 173704 | F8: =E8/D8*100 -> 44.103205 | G8: 123252 | H8: 20827 | I8: 27492 | K8: 2133
A9: 8 | B9: Zalaegerszegi Belvárosi II. számú Óvoda | C9: 327099 | D9: 344891 | E9: =SUM(G9:O9) -> 150606 | F9: =E9/D9*100 -> 43.66771 | G9: 98089 | H9: 16869 | I9: 32104 | K9: 3287 | L9: 257
A10: 9 | B10: Zalaegerszegi Kertvárosi Óvoda | C10: 374926 | D10: 400900 | E10: =SUM(G10:O10) -> 162104 | F10: =E10/D10*100 -> 40.435021 | G10: 104154 | H10: 17422 | I10: 35230 | K10: 4754 | L10: 544
A11: 10 | B11: Zalaegerszegi Landorhegyi Óvoda | C11: 343570 | D11: 358917 | E11: =SUM(G11:O11) -> 151993 | F11: =E11/D11*100 -> 42.347674 | G11: 107301 | H11: 18606 | I11: 23996 | K11: 2050 | L11: 40
A12: 11 | B12: Közgyűjteményi és Közművelődési GESZ | C12: 53686 | D12: 55411 | E12: =SUM(G12:O12) -> 26434 | F12: =E12/D12*100 -> 47.705329 | G12: 21901 | H12: 3433 | I12: 1100
A13: 12 | B13: Keresztury Dezső VMK | C13: 492898 | D13: 525821 | E13: =SUM(G13:O13) -> 185606 | F13: =E13/D13*100 -> 35.298324 | G13: 98284 | H13: 15288 | I13: 59692 | L13: 10091 | M13: 2251
A14: 13 | B14: Zalaegerszegi Turisztikai Hivatal és Információs Iroda | C14: 20645 | D14: 25731 | E14: =SUM(G14:O14) -> 9405 | F14: =E14/D14*100 -> 36.551242 | G14: 6954 | H14: 1110 | I14: 1341
A15: 14 | B15: Deák Ferenc Megyei és Városi Könyvtár | C15: 456340 | D15: 460863 | E15: =SUM(G15:O15) -> 210539 | F15: =E15/D15*100 -> 45.683641 | G15: 96178 | H15: 14662 | I15: 47928 | K15: 20000 | L15: 31771
A16: 15 | B16: Göcseji Múzeum | C16: 517804 | D16: 591444 | E16: =SUM(G16:O16) -> 219215 | F16: =E16/D16*100 -> 37.064371 | G16: 97644 | H16: 18548 | I16: 71337 | K16: 18999 | L16: 12002 | M16: 685
A17: 16 | B17: Hevesi Sándor Színház | C17: 749650 | D17: 809441 | E17: =SUM(G17:O17) -> 340507 | F17: =E17/D17*100 -> 42.066933 | G17: 229208 | H17: 35619 | I17: 72934 | L17: 2746
A18: 17 | B18: Griff Bábszínház | C18: 144959 | D18: 160816 | E18: =SUM(G18:O18) -> 52563 | F18: =E18/D18*100 -> 32.685181 | G18: 33176 | H18: 4775 | I18: 14542 | L18: 70
A19: 18 | B19: Városi Sportlétesítmények Gondnoksága | C19: 138125 | D19: 157114 | E19: =SUM(G19:O19) -> 66136 | F19: =E19/D19*100 -> 42.094275 | G19: 28829 | H19: 5327 | I19: 31882 | L19: 98
A20: 19 | B20: Vásárcsarnok | C20: 102247 | D20: 102285 | E20: =SUM(G20:O20) -> 41860 | F20: =E20/D20*100 -> 40.924867 | G20: 17782 | H20: 2826 | I20: 21114 | L20: 138
B21: Költségvetési szervek mindösszesen: | C21: =SUM(C3:C20) -> 8449462 | D21: =SUM(D3:D20) -> 8917652 | E21: =SUM(E3:E20) -> 3661131 | F21: =E21/D21*100 -> 41.054876 | G21: =SUM(G3:G20) -> 2157507 | H21: =SUM(H3:H20) -> 356878 | I21: =SUM(I3:I20) -> 938640 | J21: =SUM(J3:J20) -> 575 | K21: =SUM(K3:K20) -> 132258 | L21: =SUM(L3:L20) -> 70470 | M21: =SUM(M3:M20) -> 4803 | N21: =SUM(N3:N20) -> 0 | O21: =SUM(O3:O20) -> 0
