Workbook

Sheet bcs
A1: Zalaegerszeg Rk.
A2: Rendőri eljárásban regisztrált bűncselekmények száma éa a befejezett nyomozások eredményessége | B2: Bűncselekmények száma | J2: Nyomozás-eredményességi mutató (%) | V2: Felderítési eredményesség (%)
A3: az ENyÜBS 2010-2016. évi adatai alapján | B3: 2010. év | C3: 2011. év | D3: 2012. év | E3: 2013. év | F3: 2014. év | G3: 2015. év | H3: 2016. év | J3: 2010. év | K3: 2011. év | L3: 2012. év | M3: 2013. év | N3: 2014. év | O3: 2015. év | P3: 2016. év | V3: 2015. év | W3: 2016. év
A4: Emberölés
A5: Szándékos befejezett emberölés
A6: Emberölés kísérlete
A7: Testi sértés | B7: 139 | C7: 128 | D7: 120 | E7: 133 | F7: 101 | G7: 90 | H7: 67 | J7: 82.119205 | K7: 78.518519 | L7: 74.789916 | M7: 84.892086 | N7: 86.915888 | O7: 79.61165 | P7: 82.191781 | V7: 57.9 | W7: 80
A8: Súlyos testi sértés | B8: 52 | C8: 57 | D8: 44 | E8: 44 | F8: 40 | G8: 47 | H8: 31 | J8: 60 | K8: 63.768116 | L8: 53.061224 | M8: 72 | N8: 79.069767 | O8: 71.929825 | P8: 68.421053 | V8: 53.8 | W8: 72.2
A9: Halált okozó testi sértés
A10: Kiskorú veszélyeztetése | B10: 11 | C10: 2 | D10: 5 | E10: 1 | F10: 3 | G10: 8 | H10: 7 | J10: 84.615385 | K10: 50 | L10: 50 | M10: 25 | N10: 42.857143 | O10: 100 | P10: 100 | V10: - | W10: -
A11: Embercsempészés
A12: Garázdaság | B12: 152 | C12: 144 | D12: 131 | E12: 175 | F12: 90 | G12: 71 | H12: 58 | J12: 84.567901 | K12: 73.913043 | L12: 78.62069 | M12: 81.958763 | N12: 74.038462 | O12: 66.26506 | P12: 87.096774 | V12: 26.1 | W12: 83.3
A13: Önbíráskodás | B13: 2 | C13: 3 | D13: 6 | E13: 3 | F13: 1 | G13: 2 | H13: 4 | J13: 50 | K13: 42.857143 | L13: 40 | M13: 100 | N13: 50 | O13: 66.666667 | P13: 80 | V13: - | W13: 100
A14: Kábítószerrel kapcsolatos bűncselekmények (az 1978. évi IV. törvény alapján a visszaélés kábítószerrel - terjesztői magatartások tekintetében, a 2012. évi C. törvény alapján kábítószer-kereskedelem) | B14: 5 | C14: 15 | D14: 4 | E14: 10 | F14: 4 | G14: 10 | H14: 5 | J14: 40 | K14: 68.75 | L14: 27.272727 | M14: 52.941176 | N14: 57.142857 | O14: 90.909091 | P14: 80 | V14: - | W14: 75
A15: Lopás* | B15: 1330 | C15: 1544 | D15: 1499 | E15: 1051 | F15: 762 | G15: 837 | H15: 1204 | J15: 18.671587 | K15: 16.876574 | L15: 22.092268 | M15: 31.789282 | N15: 26.57767 | O15: 30.429733 | P15: 45.177246 | V15: 22.4 | W15: 44.4
A16: Személygépkocsi lopás | B16: 10 | C16: 11 | D16: 10 | E16: 7 | F16: 1 | G16: 3 | H16: 0 | J16: 0 | K16: 0 | L16: 11.111111 | M16: 37.5 | N16: 0 | O16: 33.333333 | P16: - | V16: 0 | W16: -
A17: Zárt gépjármű-feltörés | B17: 30 | C17: 51 | D17: 46 | E17: 32 | F17: 30 | G17: 12 | H17: 9 | J17: 6.6666667 | K17: 39.215686 | L17: 8.6956522 | M17: 43.75 | N17: 40.625 | O17: 8.3333333 | P17: 77.777778 | V17: 8.3 | W17: 71.4
A18: Lakásbetörés | B18: 128 | C18: 135 | D18: 144 | E18: 177 | F18: 145 | G18: 162 | H18: 48 | J18: 10.15625 | K18: 16.296296 | L18: 21.527778 | M18: 11.60221 | N18: 23.684211 | O18: 27.607362 | P18: 60.416667 | V18: 26.4 | W18: 59.6
A19: Rablás | B19: 9 | C19: 12 | D19: 10 | E19: 2 | F19: 4 | G19: 3 | H19: 2 | J19: 58.333333 | K19: 42.857143 | L19: 27.272727 | M19: 50 | N19: 100 | O19: 66.666667 | P19: 100 | V19: 0 | W19: 100
A20: Kifosztás | B20: 1 | C20: 3 | D20: 4 | E20: 3 | F20: 5 | G20: 9 | H20: 3 | J20: 0 | K20: 20 | L20: 60 | M20: 40 | N20: 60 | O20: 90 | P20: 83.333333 | V20: 90 | W20: 83.3
A21: Zsarolás | B21: 11 | C21: 12 | D21: 10 | E21: 5 | F21: 5 | G21: 6 | H21: 5 | J21: 64.285714 | K21: 27.777778 | L21: 58.333333 | M21: 31.25 | N21: 62.5 | O21: 100 | P21: 100 | V21: 100 | W21: 100
A22: Rongálás | B22: 157 | C22: 162 | D22: 118 | E22: 55 | F22: 47 | G22: 63 | H22: 39 | J22: 19.135802 | K22: 10.843373 | L22: 9.8360656 | M22: 18.644068 | N22: 35.416667 | O22: 14.0625 | P22: 33.333333 | V22: 6.9 | W22: 31.6
A23: Orgazdaság | B23: 13 | C23: 23 | D23: 8 | E23: 8 | F23: 9 | G23: 9 | H23: 5 | J23: 50 | K23: 85.185185 | L23: 88.888889 | M23: 72.727273 | N23: 81.818182 | O23: 100 | P23: 75 | V23: 100 | W23: 100
A24: Jármű önkényes elvétele | B24: 10 | C24: 15 | D24: 10 | E24: 8 | F24: 5 | G24: 4 | H24: 3 | J24: 54.545455 | K24: 58.823529 | L24: 46.153846 | M24: 37.5 | N24: 42.857143 | O24: 100 | P24: 100 | V24: 100 | W24: 100
A25: 14 kiemelten kezelt bűncselekmény összesen | B25: 1840 | C25: 2063 | D25: 1925 | E25: 1454 | F25: 1036 | G25: 1112 | H25: 1402 | J25: 31.03808 | K25: 26.506024 | L25: 29.781962 | M25: 42.985266 | N25: 38.624339 | O25: 39.313305 | P25: 49.789916 | V25: 23.8 | W25: 46.9
A26: Közterületen elkövetett bűncselekmény | B26: 859 | C26: 917 | D26: 855 | E26: 627 | F26: 403 | G26: 347 | H26: 372 | J26: 50.523865 | K26: 45.087336 | L26: 40.935673 | M26: 63.793103 | N26: 68.148148 | O26: 63.610315 | P26: 76.344086 | V26: 25.4 | W26: 40.1
A27: Közterületen elkövetett kiemelten kezelt bűncselekmény | B27: 594 | C27: 675 | D27: 669 | E27: 445 | F27: 192 | G27: 187 | H27: 120 | J27: 38.888889 | K27: 31.750742 | L27: 29.685157 | M27: 55.45657 | N27: 46.354167 | O27: 38.829787 | P27: 51.666667 | V27: 18 | W27: 36.3
A28: Összes bűncselekmény | B28: 3346 | C28: 4239 | D28: 3612 | E28: 2534 | F28: 1712 | G28: 1936 | H28: 23709 | J28: 39.391378 | K28: 32.821881 | L28: 35.1696 | M28: 55.412647 | N28: 57.416705 | O28: 53.119002 | P28: 95.539798 | V28: 25.7 | W28: 61.7
A29: Regisztrált bűncselekmények 100.000 lakosra vetített aránya | B29: 3462.5827 | C29: 4160.3247 | D29: 3496.7992 | E29: 2288.1733 | F29: 1965.766 | G29: 2037.2721 | H29: 23128.696
A30: Bűnügyek nyomozási ideje (ügyidő) | B30: 114.18483 | C30: 108.08074 | D30: 115.28263 | E30: 123.25879 | F30: 121.86115 | G30: 116.77728 | H30: 95.32849
A31: A bíróság elé állítások aránya a vádemelésekhez képest | B31: 6.3 | C31: 10.3 | D31: 6.3 | E31: 7.4 | F31: 10.4 | G31: 1.5 | H31: 0.19
A34: Rendőri eljárásban regisztrált bűncselekmények az elkövető ismertsége (ismertségi arány) szerinti bontásban | B34: 2010. év | C34: 2011. év | D34: 2012. év | E34: 2013. év | F34: 2014. év | G34: 2015. év | H34: 2016. év
A35: Az elkövető ismert
A36: Az elkövető ismeretlen
A37: Ismertségi arány (%) | B37: =B35/B28*100 -> 0 | C37: =C35/C28*100 -> 0 | D37: =D35/D28*100 -> 0 | E37: =E35/E28*100 -> 0 | F37: =F35/F28*100 -> 0 | G37: =G35/G28*100 -> 0 | H37: =H35/H28*100 -> 0
A39: A rendőri eljárásban regisztrált bűncselekmények és a tulajdon elleni szabálysértések számának változása | B39: 2010. év | C39: 2011. év | D39: 2012. év | E39: 2013. év | F39: 2014. év | G39: 2015. év | H39: 2016. év
A40: Rendőri eljárásban regisztrált bűncselekmények | E40: 2534 | F40: 1712 | G40: 1936 | H40: 23709
A41: 20 000 Ft értékhatár alatti tulajdon elleni szabálysértések
A42: 20 000 és 50 000 Ft értékhatár közötti tulajdon elleni szabálysértések
A43: Összesen:
...

Sheet diagram
A1: =bcs!A28 -> Összes bűncselekmény | I1: =bcs!A25 -> 14 kiemelten kezelt bűncselekmény összesen
A2: =bcs!$A$3 -> az ENyÜBS 2010-2016. évi adatai alapján | I2: =bcs!$A$3 -> az ENyÜBS 2010-2016. évi adatai alapján
A3: =bcs!$A$1 -> Zalaegerszeg Rk. | I3: =bcs!$A$1 -> Zalaegerszeg Rk.
A23: =bcs!A26 -> Közterületen elkövetett bűncselekmény | I23: =bcs!A27 -> Közterületen elkövetett kiemelten kezelt bűncselekmény
A24: =bcs!$A$3 -> az ENyÜBS 2010-2016. évi adatai alapján | I24: =bcs!$A$3 -> az ENyÜBS 2010-2016. évi adatai alapján
A25: =bcs!$A$1 -> Zalaegerszeg Rk. | I25: =bcs!$A$1 -> Zalaegerszeg Rk.
A45: =bcs!A29 -> Regisztrált bűncselekmények 100.000 lakosra vetített aránya | I45: =bcs!A4 -> Emberölés
A46: =bcs!$A$3 -> az ENyÜBS 2010-2016. évi adatai alapján | I46: =bcs!$A$3 -> az ENyÜBS 2010-2016. évi adatai alapján
A47: =bcs!$A$1 -> Zalaegerszeg Rk. | I47: =bcs!$A$1 -> Zalaegerszeg Rk.
A68: =bcs!A5 -> Szándékos befejezett emberölés | I68: =bcs!A6 -> Emberölés kísérlete
A69: =bcs!$A$3 -> az ENyÜBS 2010-2016. évi adatai alapján | I69: =bcs!$A$3 -> az ENyÜBS 2010-2016. évi adatai alapján
A70: =bcs!$A$1 -> Zalaegerszeg Rk. | I70: =bcs!$A$1 -> Zalaegerszeg Rk.
A90: =bcs!A7 -> Testi sértés | I90: =bcs!A8 -> Súlyos testi sértés
A91: =bcs!$A$3 -> az ENyÜBS 2010-2016. évi adatai alapján | I91: =bcs!$A$3 -> az ENyÜBS 2010-2016. évi adatai alapján
A92: =bcs!$A$1 -> Zalaegerszeg Rk. | I92: =bcs!$A$1 -> Zalaegerszeg Rk.
A113: =bcs!A9 -> Halált okozó testi sértés | I113: =bcs!A10 -> Kiskorú veszélyeztetése
A114: =bcs!$A$3 -> az ENyÜBS 2010-2016. évi adatai alapján | I114: =bcs!$A$3 -> az ENyÜBS 2010-2016. évi adatai alapján
A115: =bcs!$A$1 -> Zalaegerszeg Rk. | I115: =bcs!$A$1 -> Zalaegerszeg Rk.
A135: =bcs!A11 -> Embercsempészés | I135: =bcs!A12 -> Garázdaság
A136: =bcs!$A$3 -> az ENyÜBS 2010-2016. évi adatai alapján | I136: =bcs!$A$3 -> az ENyÜBS 2010-2016. évi adatai alapján
A137: =bcs!$A$1 -> Zalaegerszeg Rk. | I137: =bcs!$A$1 -> Zalaegerszeg Rk.
A158: =bcs!A13 -> Önbíráskodás | I158: Kábítószerrel kapcsolatos bűncselekmények (terjesztői magatartás)
A159: =bcs!$A$3 -> az ENyÜBS 2010-2016. évi adatai alapján | I159: =bcs!$A$3 -> az ENyÜBS 2010-2016. évi adatai alapján
A160: =bcs!$A$1 -> Zalaegerszeg Rk. | I160: =bcs!$A$1 -> Zalaegerszeg Rk.
A180: =bcs!A15 -> Lopás* | I180: =bcs!A16 -> Személygépkocsi lopás
A181: =bcs!$A$3 -> az ENyÜBS 2010-2016. évi adatai alapján | I181: =bcs!$A$3 -> az ENyÜBS 2010-2016. évi adatai alapján
A182: =bcs!$A$1 -> Zalaegerszeg Rk. | I182: =bcs!$A$1 -> Zalaegerszeg Rk.
A183: * a lopások száma tartalmazza a betöréses lopások számát is
A203: =bcs!A17 -> Zárt gépjármű-feltörés | I203: =bcs!A18 -> Lakásbetörés
A204: =bcs!$A$3 -> az ENyÜBS 2010-2016. évi adatai alapján | I204: =bcs!$A$3 -> az ENyÜBS 2010-2016. évi adatai alapján
A205: =bcs!$A$1 -> Zalaegerszeg Rk. | I205: =bcs!$A$1 -> Zalaegerszeg Rk.
A225: =bcs!A19 -> Rablás | I225: =bcs!A20 -> Kifosztás
A226: =bcs!$A$3 -> az ENyÜBS 2010-2016. évi adatai alapján | I226: =bcs!$A$3 -> az ENyÜBS 2010-2016. évi adatai alapján
A227: =bcs!$A$1 -> Zalaegerszeg Rk. | I227: =bcs!$A$1 -> Zalaegerszeg Rk.
A248: =bcs!A21 -> Zsarolás | I248: =bcs!A22 -> Rongálás
A249: =bcs!$A$3 -> az ENyÜBS 2010-2016. évi adatai alapján | I249: =bcs!$A$3 -> az ENyÜBS 2010-2016. évi adatai alapján
A250: =bcs!$A$1 -> Zalaegerszeg Rk. | I250: =bcs!$A$1 -> Zalaegerszeg Rk.
A270: =bcs!A23 -> Orgazdaság | I270: =bcs!A24 -> Jármű önkényes elvétele
A271: =bcs!$A$3 -> az ENyÜBS 2010-2016. évi adatai alapján | I271: =bcs!$A$3 -> az ENyÜBS 2010-2016. évi adatai alapján
A272: =bcs!$A$1 -> Zalaegerszeg Rk. | I272: =bcs!$A$1 -> Zalaegerszeg Rk.
...
