Workbook

Sheet Beviteli oldal
A1: Kérjük töltse ki vállalkozása adatait:
A3: A vállalkozás megnevezése: | B3: Müllex-Körmend Kft.
A5: A vállalkozás címe: | B5: 9900 Körmend, Rákóczi út 5. I./1.
A6: Telefonszáma:
A8: Statisztikai számjel: | B8: 11300919-3811-113-18
A10: Cégjegyzék száma: | B10: 18-09-101096
A12: A beszámolókészítés napja: | B12: 2017. november 20.
A14: A beszámoló fordulónapja: | B14: 2017. szeptember 30.
A16: Az alábbi gombok segítségével a megfelelő beszámolósémát hívhatja be:
A18: Éves beszámoló
A19: Mérleg "A"
A20: Mérleg "B"
A21: Eredménykimutatás összköltség eljárással "A"
A22: Eredménykimutatás összköltség eljárással "B"
A23: Eredménykimutatás forgalmi költség eljárással "A"
A24: Eredménykimutatás forgalmi költség eljárással "B"
A26: Egyszerűsített éves beszámoló
A27: Mérleg "A"
A28: Mérleg "B"
A29: Eredménykimutatás összköltség eljárással "A"
... A42: Cash flow kimutatás

Sheet Éves beszámoló
B2: ='Beviteli oldal'!$B$8 -> 11300919-3811-113-18
B3: Statisztikai számjel
B5: ='Beviteli oldal'!$B$10 -> 18-09-101096
B6: Cégjegyzék száma
C12: =+'Beviteli oldal'!$B$3 -> Müllex-Körmend Kft.
C13: Jogelőd (beolvadó)
C14: =+'Beviteli oldal'!$B$5 -> 9900 Körmend, Rákóczi út 5. I./1.
C15: =IF('Beviteli oldal'!$B$6=0," ",'Beviteli oldal'!$B$6)
C19: Egyesülési vagyonmérleg
C21: 43008
A30: Keltezés: | B30: =+'Beviteli oldal'!$B$12 -> 2017. november 20.
E31: a vállalkozás vezetője (képviselője)
C34: P.H.

Sheet Mérleg"A"
C1: ='Beviteli oldal'!$B$8 -> 11300919-3811-113-18
C2: Statisztikai számjel
C4: ='Beviteli oldal'!$B$10 -> 18-09-101096
C5: Cégjegyzék száma
A7: "A" MÉRLEG Eszközök (aktívák)
C8: =+'Beviteli oldal'!$B$14 -> 2017. szeptember 30. | F8: adatok E Ft-ban
A9: Sor-szám | C9: A tétel megnevezése | D9: Számviteli trv. szerint | E9: Rendezések / Korrekciók | F9: Vagyonmérleg szerint
A10: a | C10: b | D10: e | E10: c | F10: e
A11: 1 | B11: A. | C11: Befektetett eszközök | D11: =D12+D20+D28 -> 496346 | E11: =+E12+E20+E28 -> 0 | F11: =D11+E11 -> 496346
A12: 2 | B12: I. | C12: IMMATERIÁLIS JAVAK | D12: 1747 | E12: =+SUM(E13:E19) -> 0 | F12: =D12+E12 -> 1747
A13: 3 | C13: Alapítás-átszervezés aktivált értéke | D13: .
A14: 4 | C14: Kísérleti fejlesztés aktivált értéke | F14: =D14+E14 -> 0
A15: 5 | C15: Vagyoni értékű jogok | D15: 1747 | F15: =D15+E15 -> 1747
A16: 6 | C16: Szellemi termékek | F16: =D16+E16 -> 0
A17: 7 | C17: Üzleti vagy cégérték | F17: =D17+E17 -> 0
A18: 8 | C18: Immateriális javakra adott előlegek | F18: =D18+E18 -> 0
A19: 9 | C19: Immateriális javak értékhelyesbítése | F19: =D19+E19 -> 0
A20: 10 | B20: II. | C20: TÁRGYI ESZKÖZÖK | D20: =SUM(D21:D27) -> 494579 | E20: =+SUM(E21:E27) -> 0 | F20: =D20+E20 -> 494579
A21: 11 | C21: Ingatlanok és a kapcsolódó vagyoni értékű jogok | D21: 241073 | F21: =D21+E21 -> 241073
A22: 12 | C22: Műszaki berendezések, gépek, járművek | D22: 118368 | F22: =D22+E22 -> 118368
A23: 13 | C23: Egyéb berendezések, felszerelések, járművek | D23: 23000 | F23: =D23+E23 -> 23000
A24: 14 | C24: Tenyészállatok | F24: =D24+E24 -> 0
A25: 15 | C25: Beruházások, felújítások | D25: 74645 | F25: =D25+E25 -> 74645
A26: 16 | C26: Beruházásokra adott előlegek | D26: 37493 | F26: =D26+E26 -> 37493
A27: 17 | C27: Tárgyi eszközök értékhelyesbítése | F27: =D27+E27 -> 0
A28: 18 | B28: III. | C28: BEFEKTETETT PÉNZÜGYI ESZKÖZÖK | D28: =+SUM(D29:D36) -> 20 | E28: =+SUM(E29:E36) -> 0 | F28: =D28+E28 -> 20
A29: 19 | C29: Tartós részesedés kapcsolt vállalkozásban | F29: =D29+E29 -> 0
A30: 20 | C30: Tartósan adott kölcsön kapcsolt vállalkozásban | F30: =D30+E30 -> 0
A31: 21 | C31: Tartós jelentős részesedés | D31: 20 | F31: =D31+E31 -> 20
A32: 22 | C32: Tartósan adott kölcsön egyéb részesedési viszonyban álló vállalkozásban | F32: =D32+E32 -> 0
A33: 23 | C33: Egyéb tartósan adott kölcsön | F33: =D33+E33 -> 0
A34: 24 | C34: Tartós hitelviszonyt megtestesítő értékpapír | F34: =D34+E34 -> 0
A35: 25 | C35: Befektetett pénzügyi eszközök értékhelyesbítése | F35: =D35+E35 -> 0
A36: 26 | C36: Befektetett pénzügyi eszközök értékelési különbözete | F36: =D36+E36 -> 0
A38: Keltezés: | C38: =+'Beviteli oldal'!$B$12 -> 2017. november 20.
C40: P.H.
C41: ='Beviteli oldal'!$B$8 -> 11300919-3811-113-18
C42: Statisztikai számjel
C44: ='Beviteli oldal'!$B$10 -> 18-09-101096
C45: Cégjegyzék száma
A47: "A" MÉRLEG Eszközök (aktívák)
C48: =+'Beviteli oldal'!$B$14 -> 2017. szeptember 30. | F48: adatok E Ft-ban
A49: Sor-szám | C49: A tétel megnevezése | D49: Számviteli trv. szerint | E49: Rendezések / Korrekciók | F49: Vagyonmérleg szerint
A50: a | C50: b | D50: e | E50: c | F50: e
A51: 27 | B51: B. | C51: Forgóeszközök | D51: =+D52+D59+D67+D73 -> 715526 | E51: =+E52+E59+E67+E73 -> 0 | F51: =D51+E51 -> 715526
A52: 28 | B52: I. | C52: KÉSZLETEK | D52: =D53+D54+D55+D56+D57+D58 -> 8426 | E52: =E53+E54+E55+E56+E57+E58 -> 0 | F52: =D52+E52 -> 8426
A53: 29 | C53: Anyagok | D53: 3762 | F53: =D53+E53 -> 3762
A54: 30 | C54: Befejezetlen termelés és félkész termékek | D54: 1935 | F54: =D54+E54 -> 1935
A55: 31 | C55: Növendék-, hízó- és egyéb állatok | D55: 68 | F55: =D55+E55 -> 68
A56: 32 | C56: Késztermékek | D56: 2557 | F56: =D56+E56 -> 2557
A57: 33 | C57: Áruk | D57: 104 | F57: =D57+E57 -> 104
A58: 34 | C58: Készletekre adott előlegek | F58: =D58+E58 -> 0
A59: 35 | B59: II. | C59: KÖVETELÉSEK | D59: =+SUM(D60:D66) -> 525413 | E59: =+SUM(E60:E66) -> 0 | F59: =D59+E59 -> 525413
A60: 36 | C60: Követelések áruszállításból és szolgáltatásból (vevők) | D60: 475433 | F60: =D60+E60 -> 475433
A61: 37 | C61: Követelések kapcsolt vállalkozással szemben | D61: 44010 | F61: =D61+E61 -> 44010
A62: 38 | C62: Követelések egyéb részesedési viszonyban lévő vállalkozással szemben | F62: =D62+E62 -> 0
A63: 39 | C63: Váltókövetelések | F63: =D63+E63 -> 0
A64: 40 | C64: Egyéb követelések | D64: 5970 | F64: =D64+E64 -> 5970
A65: 41 | C65: Követések értékelési különbözete | F65: =D65+E65 -> 0
A66: 42 | C66: Származékos ügyletek pozitív értékelési különbözete | F66: =D66+E66 -> 0
A67: 43 | B67: III. | C67: ÉRTÉKPAPÍROK | D67: =+SUM(D68:D72) -> 0 | E67: =+SUM(E68:E72) -> 0 | F67: =D67+E67 -> 0
A68: 44 | C68: Részesedés kapcsolt vállalkozásban | F68: =D68+E68 -> 0
A69: 45 | C69: Egyéb részesedés | F69: =D69+E69 -> 0
A70: 46 | C70: Saját részvények, saját üzletrészek | F70: =D70+E70 -> 0
A71: 47 | C71: Forgatási célú hitelviszonyt megtestesítő értékpapírok | F71: =D71+E71 -> 0
A72: 48 | C72: Értékpapírok értékelési különbözete | F72: =D72+E72 -> 0
A73: 49 | B73: IV. | C73: PÉNZESZKÖZÖK | D73: =+SUM(D74:D75) -> 181687 | E73: =+SUM(E74:E75) -> 0 | F73: =D73+E73 -> 181687
A74: 50 | C74: Pénztár, csekkek | D74: 362 | F74: =D74+E74 -> 362
A75: 51 | C75: Bankbetétek | D75: 181325 | F75: =D75+E75 -> 181325
A76: 52 | B76: C. | C76: Aktív időbeli elhatárolások | D76: =+SUM(D77:D79) -> 124445 | E76: =+SUM(E77:E79) -> 0 | F76: =D76+E76 -> 124445
A77: 53 | C77: Bevételek aktív időbeli elhatárolása | D77: 123263 | F77: =D77+E77 -> 123263
A78: 54 | C78: Költségek, ráfordítások aktív időbeli elhatárolása | D78: 1182 | F78: =D78+E78 -> 1182
A79: 55 | C79: Halasztott ráfordítások | F79: =D79+E79 -> 0
A81: 56 | C81: Eszközök összesen | D81: =+D11+D51+D76 -> 1336317 | E81: =+E11+E51+E76 -> 0 | F81: =D81+E81 -> 1336317
A83: Keltezés: | C83: =+'Beviteli oldal'!$B$12 -> 2017. november 20.
C85: P.H.
C86: ='Beviteli oldal'!$B$8 -> 11300919-3811-113-18
C87: Statisztikai számjel
C89: ='Beviteli oldal'!$B$10 -> 18-09-101096
C90: Cégjegyzék száma
A92: "A" MÉRLEG Források (passzívák)
C93: =+'Beviteli oldal'!$B$14 -> 2017. szeptember 30. | F93: adatok E Ft-ban
A94: Sor-szám | C94: A tétel megnevezése | D94: Számviteli trv. szerint | E94: Rendezések / Korrekciók | F94: Vagyonmérleg szerint
A95: a | C95: b | D95: e | E95: c | F95: e
A96: 57 | B96: D. | C96: Saját tőke | D96: =+D97-D99+SUM(D100:D103)+D106 -> 935905 | E96: =+E97-E99+SUM(E100:E103)+E106 -> 0 | F96: =D96+E96 -> 935905
A97: 58 | B97: I. | C97: JEGYZETT TŐKE | D97: 100610 | F97: =D97+E97 -> 100610
A98: 59 | C98: ebből: visszavásárolt tulajdoni részesedés névértéken | F98: =D98+E98 -> 0
A99: 60 | B99: II. | C99: JEGYZETT, DE MÉG BE NEM FIZETETT TŐKE (-) | F99: =D99+E99 -> 0
A100: 61 | B100: III. | C100: TŐKETARTALÉK | D100: 745 | F100: =D100+E100 -> 745
A101: 62 | B101: IV. | C101: EREDMÉNYTARTALÉK | D101: 465856 | E101: 192194 | F101: =D101+E101 -> 658050
A102: 63 | B102: V. | C102: LEKÖTÖTT TARTALÉK | D102: 176500 | F102: =D102+E102 -> 176500
A103: 64 | B103: VI. | C103: ÉRTÉKELÉSI TARTALÉK | F103: =D103+E103 -> 0
A104: 65 | C104: Értékhelyesbítés értékelési tartaléka | F104: =D104+E104 -> 0
A105: 66 | C105: Valós értékelés értékelési tartaléka | F105: =D105+E105 -> 0
A106: 67 | B106: VII. | C106: ADÓZOTT EREDMÉNY | D106: 192194 | E106: -192194 | F106: =D106+E106 -> 0
A107: 68 | B107: E. | C107: Céltartalékok | D107: =+SUM(D108:D110) -> 145849 | E107: =+SUM(E108:E110) -> 0 | F107: =D107+E107 -> 145849
A108: 69 | C108: Céltartalék a várható kötelezettségekre | F108: =D108+E108 -> 0
A109: 70 | C109: Céltartalék a jövőbeni költségekre | D109: 145849 | F109: =D109+E109 -> 145849
A110: 71 | C110: Egyéb céltartalék | F110: =D110+E110 -> 0
A111: 72 | B111: F. | C111: Kötelezettségek | D111: =+D112+D116+D139 -> 211906 | E111: =+E112+E116+E139 -> 0 | F111: =D111+E111 -> 211906
...

Sheet Fedlap vagyonleltár
B2: ='Beviteli oldal'!$B$8 -> 11300919-3811-113-18
B3: Statisztikai számjel
B5: ='Beviteli oldal'!$B$10 -> 18-09-101096
B6: Cégjegyzék száma
C12: =+'Beviteli oldal'!$B$3 -> Müllex-Körmend Kft.
C13: Jogelőd (beolvadó)
C14: =+'Beviteli oldal'!$B$5 -> 9900 Körmend, Rákóczi út 5. I./1.
C15: =IF('Beviteli oldal'!$B$6=0," ",'Beviteli oldal'!$B$6)
C19: Egyesülési vagyonleltár
C21: 43008
A30: Keltezés: | B30: =+'Beviteli oldal'!$B$12 -> 2017. november 20.
E31: a vállalkozás vezetője (képviselője)
C34: P.H.

Sheet Tartalomjegyzék
A1: =+'Beviteli oldal'!$B$3 -> Müllex-Körmend Kft.
A2: Jogelőd (beolvadó)
A4: Tartalomjegyzék
A7: 1. sz. táblázat | B7: A./I. | C7: Immateriális javak leltára
A8: 1/A. sz. táblázat | B8: A./I. | C8: Immateriális javak állományváltozása
A9: 2. sz. táblázat | B9: A./II. | C9: Tárgyi eszközök leltára
A10: 2/A. sz. táblázat | B10: A./II. | C10: Tárgyi eszközök állományváltozása
A11: 3. sz. táblázat | B11: A./II.15,16 | C11: Beruházások, felújítások leltára
A12: 4. sz. táblázat | B12: A./III.23 | C12: Egyéb tartós részesedés leltára
A13: 5. sz. táblázat | B13: B./I. | C13: Készletek leltára
A14: 6. sz. táblázat | B14: B./II.38 | C14: Követelések áruszállításból és szolgáltatásból (vevők) leltára
A15: 6/A. sz. táblázat | B15: B./II.38 | C15: Követelés értékvesztésének leltára
A16: 7. sz. táblázat | B16: B./II.39 | C16: Követelések kapcsolt vállalkozással szemben leltára
A17: 8. sz. táblázat | B17: B./II.43 | C17: Egyéb követelések leltára
A18: 9. sz. táblázat | B18: B./IV. | C18: Pénzeszközök leltára
... A28: 18. sz. táblázat | B28: G. | C28: Passzív időbeli elhatárolások leltára
A35: Keltezés: | B35: =+'Beviteli oldal'!$B$12 -> 2017. november 20.
C39: P.H.

Sheet 1
D1: 43008
A3: IMMATERIÁLIS JAVAK LELTÁRA 1. sz. táblázat
A5: Társaság neve: | B5: Müllex-Körmend Kft.
D7: ezer Ft-ban
A8: Főkönyvi számla száma | B8: Tétel megnevezése | C8: 42735 | D8: 43008
A9: 113 | B9: Szoftverek | C9: 2486 | D9: 4194
A10: 1193 | B10: Szellemi javak écs. | C10: 2145 | D10: 2447
A11: 11 | B11: IMMATERIÁLIS JAVAK | C11: =C9-C10 -> 341 | D11: =D9-D10 -> 1747
B12: Záró nettó érték | C12: 341 | D12: 1747
A16: Keltezés: | B16: =+'[2]Beviteli oldal'!$B$12 -> 43059

Sheet 1A
I1: 43008
A2: AZ IMMATERIÁLIS JAVAK ÁLLOMÁNYVÁLTOZÁSA 1/A. sz. táblázat
A4: Társaság neve: | B4: Müllex-Körmend Kft.
I6: ezer Ft-ban
A7: MEGNEVEZÉS | B7: ALAPÍTÁS ÁTSZERVEZÉS | C7: KÍSÉRLETI FEJLESZTÉS | D7: VAGYONI ÉRTÉKŰ JOGOK | E7: SZELLEMI TERMÉKEK | F7: ÜZLETI VAGY CÉGÉRTÉK | G7: IMMATERIÁLIS JAVAKRA ADOTT ELŐLEG | H7: IMMATERIÁLIS JAVAK ÉRTÉK-HELYESBÍTÉSE | I7: IMMATERIÁLIS JAVAK ÖSSZESEN
A8: Nyitó bruttó érték | B8: 0 | C8: 0 | D8: 2486 | F8: 0 | G8: 0 | H8: 0 | I8: =SUM(B8:H8) -> 2486
A9: Vásárlás | D9: 1840 | I9: =SUM(B9:H9) -> 1840
A10: Apportálás | I10: =SUM(B10:H10) -> 0
A11: Előállítás | I11: =SUM(B11:H11) -> 0
A12: Térítés nélkül átvett | I12: =SUM(B12:H12) -> 0
A13: Átsorolás | I13: =SUM(B13:H13) -> 0
A14: Értékhelyesbítés | I14: =SUM(B14:H14) -> 0
A15: Egyéb növekedés | I15: =SUM(B15:H15) -> 0
A16: Növekedés összesen | B16: =SUM(B9:B15) -> 0 | C16: =SUM(C9:C15) -> 0 | D16: =SUM(D9:D15) -> 1840 | E16: =SUM(E9:E15) -> 0 | F16: =SUM(F9:F15) -> 0 | G16: =SUM(G9:G15) -> 0 | H16: =SUM(H9:H15) -> 0 | I16: =SUM(B16:H16) -> 1840
A17: Selejtezés | D17: 132 | I17: =SUM(B17:H17) -> 132
A18: Eladás | I18: =SUM(B18:H18) -> 0
A19: Apportba adás | I19: =SUM(B19:H19) -> 0
A20: Térítés nélkül átadott | I20: =SUM(B20:H20) -> 0
A21: Átsorolás | I21: =SUM(B21:H21) -> 0
A22: Értékhelyesbítés | I22: =SUM(B22:H22) -> 0
A23: Egyéb csökkenés | I23: =SUM(B23:H23) -> 0
A24: Csökkenés összesen | B24: =SUM(B17:B23) -> 0 | C24: =SUM(C17:C23) -> 0 | D24: =SUM(D17:D23) -> 132 | E24: =SUM(E17:E23) -> 0 | F24: =SUM(F17:F23) -> 0 | G24: =SUM(G17:G23) -> 0 | H24: =SUM(H17:H23) -> 0 | I24: =SUM(B24:H24) -> 132
A25: Záró bruttó érték | B25: =B8+B16-B24 -> 0 | C25: =C8+C16-C24 -> 0 | D25: =D8+D16-D24 -> 4194 | E25: =E8+E16-E24 -> 0 | F25: =F8+F16-F24 -> 0 | G25: =G8+G16-G24 -> 0 | H25: =H8+H16-H24 -> 0 | I25: =SUM(B25:H25) -> 4194
A27: Nyitó értékcsökkenés | B27: 0 | C27: 0 | D27: 2145 | F27: 0 | G27: 0 | H27: 0 | I27: =SUM(B27:H27) -> 2145
A28: Terv szerinti écs. | D28: 434 | I28: =SUM(B28:H28) -> 434
A29: Terven felüli écs. | I29: =SUM(B29:H29) -> 0
A30: ÉCS növekedés összesen | B30: =SUM(B28:B29) -> 0 | C30: =SUM(C28:C29) -> 0 | D30: =SUM(D28:D29) -> 434 | E30: =SUM(E28:E29) -> 0 | F30: =SUM(F28:F29) -> 0 | G30: =SUM(G28:G29) -> 0 | H30: =SUM(H28:H29) -> 0 | I30: =SUM(B30:H30) -> 434
A31: Selejtezés | D31: 132 | I31: =SUM(B31:H31) -> 132
A32: Eladás | I32: =SUM(B32:H32) -> 0
A33: Apportba adás | I33: =SUM(B33:H33) -> 0
A34: Térítés nélkül átadott | I34: =SUM(B34:H34) -> 0
A35: Egyéb csökkenés | I35: =SUM(B35:H35) -> 0
A36: ÉCS csökkenés összesen | B36: =SUM(B31:B35) -> 0 | C36: =SUM(C31:C35) -> 0 | D36: =SUM(D31:D35) -> 132 | E36: =SUM(E31:E35) -> 0 | F36: =SUM(F31:F35) -> 0 | G36: =SUM(G31:G35) -> 0 | H36: =SUM(H31:H35) -> 0 | I36: =SUM(B36:H36) -> 132
A37: Záró értékcsökkenés | B37: =B27+B30-B36 -> 0 | C37: =C27+C30-C36 -> 0 | D37: =D27+D30-D36 -> 2447 | E37: =E27+E30-E36 -> 0 | F37: =F27+F30-F36 -> 0 | G37: =G27+G30-G36 -> 0 | H37: =H27+H30-H36 -> 0 | I37: =SUM(B37:H37) -> 2447
A39: Nyitó nettó érték | B39: =B8-B27 -> 0 | C39: =C8-C27 -> 0 | D39: =D8-D27 -> 341 | E39: =E8-E27 -> 0 | F39: =F8-F27 -> 0 | G39: =G8-G27 -> 0 | H39: =H8-H27 -> 0 | I39: =SUM(B39:H39) -> 341
A40: Záró nettó érték | B40: =B25-B37 -> 0 | C40: =C25-C37 -> 0 | D40: =D25-D37 -> 1747 | E40: =E25-E37 -> 0 | F40: =F25-F37 -> 0 | G40: =G25-G37 -> 0 | H40: =H25-H37 -> 0 | I40: =SUM(B40:H40) -> 1747
A43: Keltezés: | B43: =+'[2]Beviteli oldal'!$B$12 -> 43059

Sheet 2
D1: 43008
A3: TÁRGYI ESZKÖZÖK LELTÁRA 2. sz. táblázat
A5: Társaság neve: | B5: Müllex-Körmend Kft.
D7: ezer Ft-ban
A8: Főkönyvi számla száma | B8: Tétel megnevezése | C8: 42735 | D8: 43008
A9: 1211 | B9: Telek | C9: 36564 | D9: 36564
A10: 1221 | B10: Épületek | C10: 166959 | D10: 168089
A11: 1251 | B11: Egyéb építmények | C11: 435719 | D11: 436008
A12: 1261 | B12: Ingatlanokhoz kapcsolódó vagyon értékú jog | C12: 6064 | D12: 6064
A13: 1269 | B13: Ing.kapcs.vagyoni jog leírása | C13: -6064 | D13: -6064
A14: 1219 | B14: Földterület utáni écs. | C14: -36564 | D14: -36564
A15: 1229 | B15: Épületek écs. | C15: -45919 | D15: -48762
A16: 1259 | B16: Egyéb építmények écs. | C16: -304035 | D16: -314262
A17: 12 | B17: Ingatlanok és a kapcsolódó vagyoni értékű jogok | C17: =SUM(C9:C16) -> 252724 | D17: =SUM(D9:D16) -> 241073
A18: 1311 | B18: Járművek | C18: 373888 | D18: 402266
A19: 1321 | B19: Termelő gépek, berendezések | C19: 231202 | D19: 231202
A20: 1319 | B20: Járművek écs. | C20: -329333 | D20: -335218
A21: 1329 | B21: Termelőgépek, berendezések écs. | C21: -168344 | D21: -179882
A22: 13 | B22: Műszaki berendezések, gépek, járművek | C22: =SUM(C18:C21) -> 107413 | D22: =SUM(D18:D21) -> 118368
A23: 1411 | B23: Üzemi (üzleti) gépek, berend. | C23: 152862 | D23: 160018
A24: 1415 | B24: Számítástechnikai eszközök | C24: 4403 | D24: 0
A25: 1461 | B25: Műszerek | C25: 4935 | D25: 4935
A26: 143 | B26: Hírközlő berendezések | C26: 680 | D26: 0
A27: 144 | B27: Irodai, igazg.felszer.tárgyak | C27: 530 | D27: 0
A28: 146 | B28: Bútorok, berend. Tárgyak | C28: 3060 | D28: 0
A29: 1431 | B29: Irodai, igazgatási berendezések és felszerelések | D29: 7693
A30: 1451 | B30: Kis értékű tárgyi eszközök | C30: 75875 | D30: 73838
A31: 1419 | B31: Üzemi gépek, berend.écs. | C31: -134627 | D31: -138263
A32: 1469 | B32: Műszerek écs. | C32: -4107 | D32: -4635
A33: 1493 | B33: Hírközlő berend. Écs. | C33: -487 | D33: 0
A34: 1494 | B34: Irodai berend. Écs. | C34: -530 | D34: 0
A35: 1495 | B35: Számítástech.eszközök ésc. | C35: -3327 | D35: 0
A36: 1496 | B36: Berend. Tárgyak écs. | C36: -3060 | D36: 0
A37: 1439 | B37: Irodai, igazgatási berendezések és felszerelések terv sz. és terven felüli écs. | D37: -6748
A38: 1497 | B38: Kis ért. T.e. azonnali leírása | C38: -75875 | D38: -73838
A39: 14 | B39: EGYÉB BERENDEZÉSEK, GÉPEK,JÁRM | C39: =SUM(C23:C38) -> 20332 | D39: =SUM(D23:D38) -> 23000
A40: 161 | B40: Befejezetlen beruházások:100 e Ft felettiek | C40: 220 | D40: 0
A41: 1611 | B41: Befejezetlen beruházások: konténerek, kukák | C41: 1386 | D41: 0
A42: 164 | B42: Nem veszélyes hull. Lerakó V-VI. ütem | C42: 7107 | D42: 74645
A43: 351 | B43: Beruházásra adott előleg | D43: 37493
A44: 16 | B44: Beruházások, felújítások | C44: =SUM(C40:C43) -> 8713 | D44: =SUM(D40:D43) -> 112138
B45: Záró nettó érték | C45: =C17+C22+C39+C44 -> 389182 | D45: =D17+D22+D39+D44 -> 494579
A47: Keltezés: | B47: =+'[2]Beviteli oldal'!$B$12 -> 43059

Sheet 2A
M1: 43008
A3: A TÁRGYI ESZKÖZÖK ÁLLOMÁNYVÁLTOZÁSA 2/A. számú táblázat
A5: Társaság neve: | B5: Müllex-Körmend Kft.
M6: ezer Ft-ban
A7: MEGNEVEZÉS | B7: Ingatlanok + kapcsolódó vagyoni értékű jogok | C7: Műszaki berendezések, gépek, járművek | F7: Egyéb berendezések, felszerelések, járművek | I7: Beruházások, felújítások | J7: Tenyészállatok | K7: Beruházásra adott előleg | L7: Érték-helyesbítés | M7: TÁRGYI
C8: 100 eFt alatt | D8: 100 eFt felett | E8: Összesen | F8: 100 eFt alatt | G8: 100 eFt felett | H8: Összesen | M8: ESZKÖZÖK ÖSSZESEN
A9: Nyitó bruttó érték | B9: 645307 | D9: 605090 | E9: 605090 | F9: 75875 | G9: 166637 | H9: 242514 | I9: 8713 | M9: 1501624
A10: Vásárlás | B10: 1418 | D10: 34200 | E10: 34200 | F10: 1710 | G10: 9181 | H10: 10891 | I10: 105031 | M10: =B10+E10+H10+I10+K10+L10 -> 151540
A11: Apportálás | E11: =C11+D11 -> 0 | M11: =B11+E11+H11+I11+K11+L11 -> 0
A12: Előállítás | E12: =C12+D12 -> 0 | H12: =F12+G12 -> 0 | M12: =B12+E12+H12+I12+K12+L12 -> 0
A13: Térítés nélkül átvett | E13: =C13+D13 -> 0 | H13: =F13+G13 -> 0 | M13: =B13+E13+H13+I13+K13+L13 -> 0
A14: Átsorolás | E14: =C14+D14 -> 0 | H14: =F14+G14 -> 0 | M14: =B14+E14+H14+I14+K14+L14 -> 0
A15: Értékhelyesbítés | E15: =C15+D15 -> 0 | H15: =F15+G15 -> 0 | M15: =B15+E15+H15+I15+K15+L15 -> 0
A16: Egyéb növekedés | E16: =C16+D16 -> 0 | F16: 3802 | H16: =F16+G16 -> 3802 | M16: =B16+E16+H16+I16+K16+L16 -> 3802
A17: Növekedés összesen | B17: =SUM(B10:B16) -> 1418 | C17: =SUM(C10:C16) -> 0 | D17: =SUM(D10:D16) -> 34200 | E17: =C17+D17 -> 34200 | F17: =SUM(F10:F16) -> 5512 | G17: =SUM(G10:G16) -> 9181 | H17: =F17+G17 -> 14693 | I17: =SUM(I10:I16) -> 105031 | J17: =SUM(J10:J16) -> 0 | K17: =SUM(K10:K16) -> 0 | L17: =SUM(L10:L16) -> 0 | M17: =B17+E17+H17+I17+K17+L17 -> 155342
A18: Selejtezés | E18: =C18+D18 -> 0 | F18: 7549 | G18: 3116 | H18: 10665 | M18: =B18+E18+H18+I18+K18+L18 -> 10665
A19: Eladás | D19: 5822 | E19: 5822 | H19: =F19+G19 -> 0 | M19: =B19+E19+H19+I19+K19+L19 -> 5822
A20: Apportba átadás | E20: =C20+D20 -> 0 | H20: =F20+G20 -> 0 | M20: =B20+E20+H20+I20+K20+L20 -> 0
A21: Térítés nélkül átadott | E21: =C21+D21 -> 0 | H21: =F21+G21 -> 0 | M21: =B21+E21+H21+I21+K21+L21 -> 0
A22: Átsorolás | E22: =C22+D22 -> 0 | H22: =F22+G22 -> 0 | I22: 1606 | M22: =B22+E22+H22+I22+K22+L22 -> 1606
A23: Értékhelyesbítés | E23: =C23+D23 -> 0 | H23: =F23+G23 -> 0 | M23: =B23+E23+H23+I23+K23+L23 -> 0
A24: Egyéb csökkenés | E24: =C24+D24 -> 0 | H24: =F24+G24 -> 0 | M24: =B24+E24+H24+I24+K24+L24 -> 0
A25: Csökkenés összesen | B25: =SUM(B18:B24) -> 0 | C25: =SUM(C18:C24) -> 0 | D25: =SUM(D18:D24) -> 5822 | E25: =C25+D25 -> 5822 | F25: =SUM(F18:F24) -> 7549 | G25: =SUM(G18:G24) -> 3116 | H25: =F25+G25 -> 10665 | I25: =SUM(I18:I24) -> 1606 | J25: =SUM(J18:J24) -> 0 | K25: =SUM(K18:K24) -> 0 | L25: =SUM(L18:L24) -> 0 | M25: =B25+E25+H25+I25+K25+L25 -> 18093
M26: =B26+E26+H26+I26+K26+L26 -> 0
A27: Záró bruttó érték | B27: =B9+B17-B25 -> 646725 | C27: =C9+C17-C25 -> 0 | D27: =D9+D17-D25 -> 633468 | E27: =C27+D27 -> 633468 | F27: =F9+F17-F25 -> 73838 | G27: =G9+G17-G25 -> 172702 | H27: 246540 | I27: =I9+I17-I25 -> 112138 | J27: =J9+J17-J25 -> 0 | K27: =K9+K17-K25 -> 0 | L27: =L9+L17-L25 -> 0 | M27: 1638871
M28: =B28+E28+H28+I28+K28+L28 -> 0
A29: Nyitó értékcsökkenés | B29: 392583 | D29: 497677 | E29: 497677 | F29: 75875 | G29: 146305 | H29: 222180 | M29: =B29+E29+H29+I29+K29+L29 -> 1112440
A30: Terv szerinti écs. | B30: 13069 | D30: 22663 | E30: =C30+D30 -> 22663 | F30: 5512 | G30: 6424 | H30: 11936 | M30: =B30+E30+H30+I30+K30+L30 -> 47668
A31: Terven felüli écs. | E31: =C31+D31 -> 0 | G31: 89 | H31: =F31+G31 -> 89 | M31: =B31+E31+H31+I31+K31+L31 -> 89
A32: ÉCS növekedés összesen | B32: =SUM(B30:B31) -> 13069 | C32: =SUM(C30:C31) -> 0 | D32: =SUM(D30:D31) -> 22663 | E32: =C32+D32 -> 22663 | F32: =SUM(F30:F31) -> 5512 | G32: =SUM(G30:G31) -> 6513 | H32: 10550 | I32: =SUM(I30:I31) -> 0 | J32: =SUM(J30:J31) -> 0 | K32: =SUM(K30:K31) -> 0 | L32: =SUM(L30:L31) -> 0 | M32: =B32+E32+H32+I32+K32+L32 -> 46282
A33: Selejtezés | E33: =C33+D33 -> 0 | F33: 7549 | G33: 3116 | H33: 10665 | M33: =B33+E33+H33+I33+K33+L33 -> 10665
A34: Eladás | D34: 5240 | E34: 5240 | H34: =F34+G34 -> 0 | M34: =B34+E34+H34+I34+K34+L34 -> 5240
A35: Apportba adás | E35: =C35+D35 -> 0 | H35: =F35+G35 -> 0 | M35: =B35+E35+H35+I35+K35+L35 -> 0
A36: Térítés nélkül átadott | E36: =C36+D36 -> 0 | H36: =F36+G36 -> 0 | M36: =B36+E36+H36+I36+K36+L36 -> 0
A37: Egyéb csökkenés | E37: =C37+D37 -> 0 | H37: =F37+G37 -> 0 | M37: =B37+E37+H37+I37+K37+L37 -> 0
A38: ÉCS csökkenés összesen | B38: =SUM(B33:B37) -> 0 | C38: =SUM(C33:C37) -> 0 | D38: =SUM(D33:D37) -> 5240 | E38: =C38+D38 -> 5240 | F38: =SUM(F33:F37) -> 7549 | G38: =SUM(G33:G37) -> 3116 | H38: =F38+G38 -> 10665 | I38: =SUM(I33:I37) -> 0 | J38: =SUM(J33:J37) -> 0 | K38: =SUM(K33:K37) -> 0 | L38: =SUM(L33:L37) -> 0 | M38: =B38+E38+H38+I38+K38+L38 -> 15905
A39: Záró értékcsökkenés | B39: =B29+B32-B38 -> 405652 | C39: =C29+C32-C38 -> 0 | D39: =D29+D32-D38 -> 515100 | E39: =C39+D39 -> 515100 | F39: =F29+F32-F38 -> 73838 | G39: =G29+G32-G38 -> 149702 | H39: =F39+G39 -> 223540 | I39: =I29+I32-I38 -> 0 | J39: =J29+J32-J38 -> 0 | K39: =K29+K32-K38 -> 0 | L39: =L29+L32-L38 -> 0 | M39: =B39+E39+H39+I39+K39+L39 -> 1144292
M40: =B40+E40+H40+I40+K40+L40 -> 0
A41: Nyitó nettó érték | B41: =B9-B29 -> 252724 | C41: =C9-C29 -> 0 | D41: =D9-D29 -> 107413 | E41: =C41+D41 -> 107413 | F41: =F9-F29 -> 0 | G41: =G9-G29 -> 20332 | H41: =F41+G41 -> 20332 | I41: =I9-I29 -> 8713 | J41: =J9-J29 -> 0 | K41: =K9-K29 -> 0 | L41: =L9-L29 -> 0 | M41: =B41+E41+H41+I41+K41+L41 -> 389182
A42: Záró nettó érték | B42: =B27-B39 -> 241073 | C42: =C27-C39 -> 0 | D42: =D27-D39 -> 118368 | E42: =C42+D42 -> 118368 | F42: =F27-F39 -> 0 | G42: =G27-G39 -> 23000 | H42: =F42+G42 -> 23000 | I42: =I27-I39 -> 112138 | J42: =J27-J39 -> 0 | K42: =K27-K39 -> 0 | L42: =L27-L39 -> 0 | M42: =B42+E42+H42+I42+K42+L42 -> 494579
A44: Keltezés: | B44: =+'[2]Beviteli oldal'!$B$12 -> 43059

Sheet 3
D1: 43008
A3: BERUHÁZÁSOK, FELÚJÍTÁSOK LELTÁRA 3. sz. táblázat
A5: Társaság neve: | B5: Müllex-Körmend Kft.
D7: ezer Ft-ban
A8: Befejezetlen beruházások és beruházásokra adott előleg leltára tételesen
A10: Számla | B10: Megnevezés | D10: 43008
A11: ='2'!A42 -> 164 | B11: ='2'!B42 -> Nem veszélyes hull. Lerakó V-VI. ütem | D11: ='2'!D42 -> 74645
A12: 351 | B12: Beruházásokra adott előleg | D12: 37493
A13: Összesen: | D13: =D11+D12 -> 112138
A16: Keltezés: | B16: =+'[2]Beviteli oldal'!$B$12 -> 43059

Sheet 4
G1: 43008
A3: EGYÉB TARTÓS RÉSZESEDÉS LELTÁRA 4. sz. táblázat
A5: Társaság neve: | B5: Müllex-Körmend Kft. | G5: ezer Ft-ban
A7: A Társaság megnevezése, amiben részesedünk | B7: A részesedés kelte | C7: Darabszám | D7: Névérték | E7: Beszerzési ár | F7: Kapott osztalék | G7: Értékvesztés
A8: Köztisztasági Egyesülés | B8: 36577 | C8: 1 | D8: 20 | E8: 20
A9: ÖSSZESEN: | D9: =SUM(D8:D8) -> 20 | E9: =SUM(E8:E8) -> 20 | F9: =SUM(F8:F8) -> 0 | G9: =SUM(G8:G8) -> 0
A12: Keltezés: | B12: =+'[2]Beviteli oldal'!$B$12 -> 43059

Sheet 5
D1: 43008
A3: KÉSZLETEK LELTÁRA 5. sz. táblázat
A5: Társaság neve: | B5: Müllex-Körmend Kft.
D7: ezer Ft-ban
A8: Főkönyvi számla száma | B8: Tétel megnevezése | C8: 42735 | D8: 43008
A9: 2111 | B9: Gázolaj: I.sz.olajtartály | C9: 1424 | D9: 343
A10: 2112 | B10: Üzemanyag (gépjárművekben) | C10: 1110 | D10: 1434
A11: 212 | B11: Propán-gáz tartály | C11: 323 | D11: 657
A12: 213 | B12: Munka-,védőruházat | C12: 536 | D12: 723
A13: 214 | B13: Kötöződrót | C13: 1248 | D13: 605
A14: 21 | B14: ANYAGOK | C14: =SUM(C9:C13) -> 4641 | D14: =SUM(D9:D13) -> 3762
A15: 2322 | B15: Raklap | C15: 484 | D15: 0
A16: 272 | B16: Közvetített szolgáltatás | C16: 8 | D16: 0
A17: 2321 | B17: Félkész termék: Műanyag fólia ömlesztett | C17: 0 | D17: 1935
A18: 23 | B18: ÁRUK | C18: =SUM(C15:C17) -> 492 | D18: =SUM(D15:D17) -> 1935
A19: 243 | B19: Állatok | C19: 68 | D19: 68
A20: 243 | B20: ÁLLATOK | C20: 68 | D20: 68
A21: 2511 | B21: Késztermék: papír | C21: 0 | D21: 1342
A22: 2512 | B22: Késztermék: Műanyag fólia bálázott | C22: 0 | D22: 645
A23: 2514 | B23: Késztermék: Tört betonhulladék | C23: 0 | D23: 570
A24: 25 | B24: Késztermékek | C24: 0 | D24: 2557
A25: 261 | B25: Fékész termékek | C25: 7364 | D25: 0
A26: 262 | B26: Raklap | C26: 0 | D26: 104
A27: 261 | B27: Befejezetlen termelés és félkész termékek | C27: 7364 | D27: 104
A28: 291 | B28: Tört betonhulladék | C28: 603 | D28: 0
A29: 292 | B29: Késztermék: Papír | C29: 418 | D29: 0
A30: 293 | B30: Késztermék: müanyag (fólia) | C30: 1219 | D30: 0
A31: 228 | B31: Késztermék | C31: =SUM(C28:C30) -> 2240 | D31: =SUM(D28:D30) -> 0
B32: ÖSSZESEN: | C32: =C14+C18+C20+C27+C31 -> 14805 | D32: =D14+D18+D20+D24+D27 -> 8426
A35: Keltezés: | B35: =+'[2]Beviteli oldal'!$B$12 -> 43059

Sheet 6
C1: 43008
A3: KÖVETELÉSEK ÁRUSZÁLLÍTÁSBÓL ÉS SZOLGÁLTATÁSBÓL (VEVŐK) LELTÁRA 6. sz. táblázat
A5: Társaság neve: | B5: Müllex-Körmend Kft.
C7: ezer Ft-ban
A8: Főkönyvi számla száma | B8: Tétel megnevezése | C8: 43008
A9: 311 | B9: Belföldi követelések | C9: 479801
A10: 312 | B10: Belföldi követelések lakosság | C10: 3032
A11: 315 | B11: ÉRTÉKVESZTÉSEK | C11: -7400
B12: ÖSSZESEN: | C12: =SUM(C9:C11) -> 475433
C15: ezer Ft-ban
A16: 5.000.000,- Ft feletti vevőkövetelések leltára (311 főkönyvi számlából) | C16: 43008
A17: Sárvári Zöld Pont Kft. | C17: 26588
A18: Müllex Közszolgáltató Nonprofit Kft. | C18: 359352
A19: STKH Kft. | C19: 24011
A20: Sárvári Huke Kft. | C20: 15291
A21: Falco Zrt. | C21: 10297
A22: Duparec | C22: 5403
B23: ÖSSZESEN: | C23: =SUM(C17:C22) -> 440942
A26: Keltezés: | B26: =+'[2]Beviteli oldal'!$B$12 -> 43059

Sheet 6A
L1: 43008
A2: KÖVETELÉS ÉRTÉKVESZTÉS SZÁMVITELI ELSZÁMOLÁSA 6/A. sz. táblázat
A3: Müllex-Körmend Kft.
A4: Vevő neve | C4: Követelés jellege (peresített, fa, va) | D4: Nyitó érték/Tárgyévi adatok | G4: 2017. évi változás | J4: Záró érték
D5: Bekerülési érték | E5: Számvitelben elszámolt Értékvesztés | F5: Könyvszerinti érték | G5: Hitelezési veszteségre átvezetés (Felsz.nyil, Egyezség, Kivezetés) | H5: Befolyás, átruházás, beszámítás | I5: Tárgyévi képzés ( + ) visszaírás ( - ) | J5: Bekerülési érték | K5: Számvitelben elszámolt Értékvesztés | L5: Könyvszerinti érték
A6: Aero Étterem | B6: éven belül | F6: =D6-E6 -> 0 | J6: =D6-G6 -> 0 | K6: =E6-G6+I6 -> 0 | L6: =J6-K6 -> 0
B7: éven túl | C7: ügyvédi felszólítás | D7: 56700 | E7: 56700 | F7: =D7-E7 -> 0 | J7: =D7-G7 -> 56700 | K7: =E7-G7+I7 -> 56700 | L7: =J7-K7 -> 0
A8: Rába-parti Fórum | B8: éven belül | F8: =D8-E8 -> 0 | J8: =D8-G8 -> 0 | K8: =E8-G8+I8 -> 0 | L8: =J8-K8 -> 0
B9: éven túl | C9: ügyvédi felszólítás | D9: 86205 | E9: 86205 | F9: =D9-E9 -> 0 | J9: =D9-G9 -> 86205 | K9: =E9-G9+I9 -> 86205 | L9: =J9-K9 -> 0
A10: Nunkovics Károly | B10: éven belül | F10: =D10-E10 -> 0 | J10: =D10-G10 -> 0 | K10: =E10-G10+I10 -> 0 | L10: =J10-K10 -> 0
B11: éven túl | C11: ügyvédi felszólítás | D11: 55520 | E11: 55520 | F11: =D11-E11 -> 0 | J11: =D11-G11 -> 55520 | K11: =E11-G11+I11 -> 55520 | L11: =J11-K11 -> 0
A12: Horváth Tibor | B12: éven belül | F12: =D12-E12 -> 0 | J12: =D12-G12 -> 0 | K12: =E12-G12+I12 -> 0 | L12: =J12-K12 -> 0
B13: éven túl | C13: ügyvédi felszólítás | D13: 77400 | E13: 77400 | F13: =D13-E13 -> 0 | J13: =D13-G13 -> 77400 | K13: =E13-G13+I13 -> 77400 | L13: =J13-K13 -> 0
A14: M-Team Bau Kft. | B14: éven belül | F14: =D14-E14 -> 0 | J14: =D14-G14 -> 0 | K14: =E14-G14+I14 -> 0 | L14: =J14-K14 -> 0
B15: éven túl | C15: felszámolás alatt | D15: 81500 | E15: 81500 | F15: =D15-E15 -> 0 | J15: =D15-G15 -> 81500 | K15: =E15-G15+I15 -> 81500 | L15: =J15-K15 -> 0
A16: Haspártiak | B16: éven belül | F16: =D16-E16 -> 0 | J16: =D16-G16 -> 0 | K16: =E16-G16+I16 -> 0 | L16: =J16-K16 -> 0
B17: éven túl | C17: felszámolás alatt | D17: 52395 | E17: 52395 | F17: =D17-E17 -> 0 | J17: =D17-G17 -> 52395 | K17: =E17-G17+I17 -> 52395 | L17: =J17-K17 -> 0
A18: AGRO SERVICE | B18: éven belül | J18: =D18-G18 -> 0 | K18: =E18-G18+I18 -> 0
B19: éven túl | C19: fizetési felszólítás | D19: 0 | E19: 27534 | F19: 0 | H19: 27534 | J19: =D19-G19 -> 0 | K19: 0
A20: Kulmer Fe-Ro Kft. | B20: éven belül | F20: =D20-E20 -> 0 | J20: =D20-G20 -> 0 | K20: =E20-G20+I20 -> 0 | L20: =J20-K20 -> 0
B21: éven túl | C21: ügyvédi felszólítás | D21: 142331 | E21: 142331 | F21: =D21-E21 -> 0 | G21: 142331 | J21: =D21-G21 -> 0 | K21: =E21-G21+I21 -> 0 | L21: =J21-K21 -> 0
A22: Ny-M.országi Mérnöki Iroda | B22: éven belül | F22: =D22-E22 -> 0 | J22: =D22-G22 -> 0 | K22: =E22-G22+I22 -> 0 | L22: =J22-K22 -> 0
B23: éven túl | C23: fizetési felszólítás | D23: 137592 | E23: 137592 | F23: =D23-E23 -> 0 | J23: =D23-G23 -> 137592 | K23: =E23-G23+I23 -> 137592 | L23: =J23-K23 -> 0
A24: PRO DOMO ZRT. | B24: éven belül | F24: =D24-E24 -> 0 | J24: =D24-G24 -> 0 | K24: =E24-G24+I24 -> 0 | L24: =J24-K24 -> 0
B25: éven túl | C25: fizetési felszólítás | D25: 202057 | E25: 202057 | F25: =D25-E25 -> 0 | J25: =D25-G25 -> 202057 | K25: =E25-G25+I25 -> 202057 | L25: =J25-K25 -> 0
A26: FARBAX KFT. V.A. | B26: éven belül | F26: =D26-E26 -> 0 | J26: =D26-G26 -> 0 | K26: =E26-G26+I26 -> 0 | L26: =J26-K26 -> 0
B27: éven túl | C27: végelszámolás alatt | D27: 1957005 | E27: 495298 | F27: =D27-E27 -> 1461707 | I27: 1461707 | J27: =D27-G27 -> 1957005 | K27: =E27-G27+I27 -> 1957005 | L27: =J27-K27 -> 0
A28: ENVIROINVEST | B28: éven belül | F28: =D28-E28 -> 0 | J28: =D28-G28 -> 0 | K28: =E28-G28+I28 -> 0 | L28: =J28-K28 -> 0
B29: éven túl | C29: ügyvédi felszólítás | D29: 100000 | E29: 100000 | F29: =D29-E29 -> 0 | H29: 100000 | J29: 0 | K29: 0 | L29: =J29-K29 -> 0
A30: "M" Ipari, kereskedelmi szolg. | B30: éven belül | F30: =D30-E30 -> 0 | J30: =D30-G30 -> 0 | K30: =E30-G30+I30 -> 0
B31: éven túl | D31: 1661363 | F31: 1661363 | I31: 1661363 | J31: =D31-G31 -> 1661363 | K31: =E31-G31+I31 -> 1661363
A32: Lakossági vevők | B32: éven belül | F32: =D32-E32 -> 0 | J32: =D32-G32 -> 0 | K32: =E32-G32+I32 -> 0 | L32: =J32-K32 -> 0
B33: éven túl | C33: fizetési felszólítás | D33: 27854530 | E33: 27850435 | F33: =D33-E33 -> 4095 | G33: 24728058 | H33: 89720 | J33: 3032657 | K33: 3032657 | L33: =J33-K33 -> 0
A34: Összesen: | D34: =SUM(D6:D33) -> 32464598 | E34: =SUM(E6:E33) -> 29364967 | F34: =SUM(F6:F33) -> 3127165 | G34: =SUM(G6:G33) -> 24870389 | H34: =SUM(H6:H33) -> 217254 | I34: =SUM(I6:I33) -> 3123070 | J34: =SUM(J6:J33) -> 7400394 | K34: =SUM(K6:K33) -> 7400394 | L34: =SUM(L6:L33) -> 0
A37: Keltezés: | B37: =+'[2]Beviteli oldal'!$B$12 -> 43059

Sheet 7
C1: 43008
A3: KÖVETELÉSEK KAPCSOLT VÁLLALKOZÁSSAL SZEMBEN LELTÁRA 7. sz. táblázat
A5: Társaság neve: | B5: Müllex-Körmend Kft.
C7: ezer Ft-ban
A8: Kapcsolt vállalkozás megnevezése | C8: 43008
A9: Zala-Depo Kft. | C9: 13010
A10: Saját részesedés ért-el kapcs. Követelés | C10: 31000
B11: ÖSSZESEN: | C11: 44010
A20: Keltezés: | B20: =+'[2]Beviteli oldal'!$B$12 -> 43059

Sheet 8
E1: 43008
A3: EGYÉB KÖVETELÉSEK LELTÁRA 8.sz. táblázat
A5: Társaság neve: | B5: =[1]Adatlap!B4 -> Müllex-Körmend Kft.
E7: ezer Ft-ban
A8: Mérlegsor száma | B8: Főkönyvi számla száma | C8: Tétel megnevezése | D8: 42735 | E8: 43008
B9: 3511 | C9: Egyéb követelés | D9: 2378 | E9: 0
B10: 359 | C10: VPOP letéti szla | D10: 1000 | E10: 0
B11: 36291 | C11: NAV jövedéki adó vissza | D11: 326 | E11: 0
B12: 365 | C12: Fizetési előleg | D12: 58 | E12: 0
B13: 3636 | C13: Egyéb köv. magánszeméllyel szemben | D13: 45 | E13: 0
B14: 3683 | C14: Egyéb követelés VÁM | D14: 3 | E14: 0
B15: 3613 | C15: Munkabérelőleg | D15: 0 | E15: 180
B16: 3621 | C16: Nav üzemanyag jövedéki adó vissza | D16: 0 | E16: 326
B17: 3622 | C17: Egyéb követelés magánszemélyekkel szemben | D17: 0 | E17: 58
B18: 3682 | C18: VPOP letéti szla | D18: 0 | E18: 1000
B19: 3683 | C19: Egyéb követelés: Vám és Pü. | D19: 0 | E19: 3
B20: 3684 | C20: Egyéb követelés (kaució) | D20: 0 | E20: 150
B21: 3685 | C21: Étkezési utalványok | E21: 21
B22: 3689 | C22: Különféle egyéb követelések | E22: 3228
B23: 4634 | C23: Táppénz | D23: 0 | E23: 35
B24: 4637 | C24: Táppénz | D24: 65 | E24: 0
B25: 4648 | C25: Innováció | D25: 359 | E25: 0
B26: 4912 | C26: Helyi iparűzési adó: Körmend | D26: 0 | E26: 3
B27: 468 | C27: Áfa | D27: 4793 | E27: 0
B28: 46921 | C28: Ipa Harasztifalu | D28: 499 | E28: 0
B29: 46931 | C29: Ipa Körmend | D29: 95 | E29: 0
B30: 46933 | C30: Késedelmi pótlék | D30: 24 | E30: 0
B31: 46921 | C31: Súlyadó: Harasztifalu | D31: 0 | E31: 349
B32: 46922 | C32: Súlyadó: Körmend | D32: 0 | E32: 593
B33: 46922 | C33: Gépjárműadó Hfalu | D33: 0 | E33: 0
B34: 46941 | C34: Iparűzés Répcelak | D34: 0 | E34: 0
... B36: 4693 | C36: Késedelmi pótlék | D36: 0 | E36: 24
A37: ÖSSZESEN | D37: =SUM(D9:D35) -> 9719 | E37: =SUM(E9:E36) -> 5970
A41: Keltezés: | B41: =+'[2]Beviteli oldal'!$B$12 -> 43059

Sheet 9
E1: 43008
A3: PÉNZESZKÖZÖK LELTÁRA 9. sz. táblázat
A5: Társaság neve: | B5: Müllex-Körmend Kft.
E8: Ezer Ft-ban
A9: Mérlegsor száma | B9: Főkönyvi számla száma | C9: Tétel megnevezése | D9: 42735 | E9: 43008
B10: 384 | C10: HUF pénztár | D10: 221 | E10: 0
B11: 385 | C11: EUR pénztár | D11: 1364 | E11: 0
B12: 386 | C12: Étkezési utalványok | D12: 21 | E12: 0
B13: 3811 | C13: OTP HUF folyószámla | D13: 125500 | E13: 0
B14: 3815 | C14: OTP lekötött betét (KÖF) | D14: 150 | E14: 0
B15: 3816 | C15: Raiffeisen HUF folyószámla | D15: 26787 | E15: 0
B16: 3818 | C16: Sparkasse EUR folyószámla | D16: 17513 | E16: 0
B17: 3819 | C17: OTP EUR folyószámla | D17: 115 | E17: 0
B18: 3891 | C18: Átvezetési számla | D18: -20 | E18: 0
B19: 3811 | C19: Pénztár | E19: 362
B20: 3841 | C20: Elszámolási betétszámla OTP 1 | E20: 95546
B21: 3842 | C21: Elszámolási betétszámla Raiffeisen | E21: 43259
B22: 3843 | C22: Lekötött betétszámla | E22: 150
B23: 3861 | C23: Deviza betétszámla Sparkasse | E23: 40992
B24: 3862 | C24: Deviza betétszámla OTP | E24: 1378
A25: ÖSSZESEN | D25: =SUM(D10:D18) -> 171651 | E25: =SUM(E10:E24) -> 181687
A28: Keltezés: | B28: =+'[2]Beviteli oldal'!$B$12 -> 43059

Sheet 10
D1: 43008
A3: AKTÍV IDŐBELI ELHATÁROLÁSOK LELTÁRA 10. sz. táblázat
A5: Társaság neve: | B5: Müllex-Körmend Kft.
D7: ezer Ft-ban
A9: Megnevezés | C9: Könyvszerinti érték
C10: 42735 | D10: 43008
A11: Közv. Szolg. Áram | C11: 8
A12: Teljesített árbevétel | D12: 123263
A13: Bevételek aktív időbeli elhatárolásai összesen: | C13: =SUM(C11:C12) -> 8 | D13: =SUM(D11:D12) -> 123263
A15: Előfizetés | C15: 280 | D15: 14
A16: Biztosítás | C16: 939 | D16: 892
A17: Ivóvíz szolgáltatási díj | C17: 1 | D17: 0
A18: e-mail, domain név | C18: 7 | D18: 0
A19: Telefon | C19: 0 | D19: 5
A20: Karbantartás | C20: 0 | D20: 20
A21: Informatikai szolgáltatűs | C21: 0 | D21: 82
A22: Felügyeleti díj | C22: 0 | D22: 60
A23: Működési ktg. | C23: 0 | D23: 60
A24: Könyvviteli szolgáltatás | C24: 0 | D24: 49
A25: Költségek, ráfordítások aktív időbeli elhatárolásai összesen: | C25: =SUM(C15:C24) -> 1227 | D25: =SUM(D15:D24) -> 1182
A27: Aktív időbeli elhatárolások összesen: | C27: =C13+C25 -> 1235 | D27: =D13+D25 -> 124445
A30: Keltezés: | B30: =+'[2]Beviteli oldal'!$B$12 -> 43059

Sheet 11
J1: 43008
A3: SAJÁT TŐKE LELTÁRA 11. sz. táblázat
A5: Társaság neve: | B5: Müllex-Körmend Kft.
J7: ezer Ft-ban
A8: Megnevezés | C8: Saját | D8: Jegyzett | E8: Jegyzett, de | F8: Tőke | G8: Eredmény | H8: Lekötött | I8: Értékelési | J8: Adózott eredmény
C9: tőke | D9: tőke | E9: be nem fiz. tőke | F9: tartalék | G9: tartalék | H9: tartalék | I9: tartalék
A10: Nyitóállomány az év elején | C10: =SUM(D10:J10) -> 743711 | D10: 100610 | F10: 745 | G10: 306048 | H10: 176500 | J10: 159808
A11: A saját tőke összetételének változása
A12: Előző évi eredmény átvezetése eredménytartalékba | C12: =SUM(D12:J12) -> 0 | G12: 159808 | J12: -159808
A13: Jegyzett tőke emelés eredménytartalékból vagy tőke tartalékból | C13: =SUM(D13:J13) -> 0
A14: Átvezetés eredménytartalék és tőketartalék között | C14: =SUM(D14:J14) -> 0
A15: Átvezetés eredménytartalék és lekötött tartalék között | C15: =SUM(D15:J15) -> 0
A16: Átvezetés tőketartalék és lekötött tartalék között | C16: =SUM(D16:J16) -> 0
A17: Adott évi adózott eredmény | C17: 192194 | J17: 192194
A18: Összesen | C18: =SUM(D18:J18) -> 192194 | D18: =SUM(D12:D17) -> 0 | E18: =SUM(E12:E17) -> 0 | F18: =SUM(F12:F17) -> 0 | G18: =SUM(G12:G17) -> 159808 | H18: =SUM(H12:H17) -> 0 | I18: =SUM(I12:I17) -> 0 | J18: =SUM(J12:J17) -> 32386
A20: A saját tőke értékének változása
A21: Jegyzett tőke emelés vagy csökkentés | C21: =SUM(D21:J21) -> 0
A22: Befizetés eredmény-, tőke-, vagy lekötött tartalékba | C22: =SUM(D22:J22) -> 0
A23: Tőketartalék vagy eredménytartalék átadás | C23: =SUM(D23:J23) -> 0
A24: Tőketartalék vagy eredménytartalék átvétel | C24: =SUM(D24:J24) -> 0
A25: Jóváhagyott osztalék | C25: -
A26: Tárgyévi eredmény átvezetése az eredménytartalékba | G26: 192194 | J26: -192194
A27: Összesen | C27: 0 | D27: =SUM(D21:D25) -> 0 | E27: =SUM(E21:E25) -> 0 | F27: =SUM(F21:F25) -> 0 | G27: 192194 | H27: =SUM(H21:H25) -> 0 | I27: =SUM(I21:I25) -> 0 | J27: -192194
A28: Záróállomány az év végén. | C28: =SUM(C10+C18+C27) -> 935905 | D28: =D10+D18+D27 -> 100610 | E28: =E10+E18+E27 -> 0 | F28: =F10+F18+F27 -> 745 | G28: =G10+G18+G27 -> 658050 | H28: =H10+H18+H27 -> 176500 | I28: =I10+I18+I27 -> 0 | J28: 0
A31: Keltezés: | B31: =+'[2]Beviteli oldal'!$B$12 -> 43059

Sheet 11A
G1: 43008
A3: ADÓZOTT EREDMÉNY LELTÁRA 11/A. sz. táblázat
A5: Társaság neve: | B5: Müllex-Körmend Kft.
G7: ezer Ft-ban
B8: 2012 | C8: 2013 | D8: 2014 | E8: 2015 | F8: 2016 | G8: 2017
A9: Adózás előtti eredmény | B9: 52417 | C9: -7854 | D9: 106475 | E9: 139458 | F9: 176153 | G9: 214102
A10: Adóalap növelő | B10: 117862 | C10: 93387 | D10: 95861 | E10: 87070 | F10: 100755 | G10: 70175
A11: Adóalap csökkentő | B11: 131782 | C11: 89029 | D11: 110772 | E11: 115742 | F11: 113454 | G11: 40851
A12: ebből:
A13: Veszteség leírás
A14: Korrigált adóalap | B14: =B9+B10-B11 -> 38497 | C14: =C9+C10-C11 -> -3496 | D14: =D9+D10-D11 -> 91564 | E14: =E9+E10-E11 -> 110786 | F14: =F9+F10-F11 -> 163454 | G14: =G9+G10-G11 -> 243426
A15: Adó (2016.év: 10%,16%) 2017.év 9% | B15: 3950 | C15: 1277 | D15: 9157 | E15: 11079 | F15: 16345 | G15: 21908
A16: Adókedvezmény | B16: 2300 | D16: 2000 | E16: 2500
A17: Társas vállalkozások különadója
A18: Adózott eredmény | B18: =B9-B15-B17+B16 -> 50767 | C18: =C9-C15-C17+C16 -> -9131 | D18: =D9-D15+D16 -> 99318 | E18: =E9-E15+E16 -> 130879 | F18: =F9-F15-F17+F16 -> 159808 | G18: =G9-G15-G17+G16 -> 192194
A19: Osztalékfizetés (jóváhagyott) | B19: 40000 | D19: 33000 | E19: 110000
A20: Adózott eredmény (Osztalék jóváhagyás után) | B20: =B18-B19 -> 10767 | C20: =C18-C19 -> -9131 | D20: =D18-D19 -> 66318 | E20: =E18-E19 -> 20879 | F20: =F18-F19 -> 159808 | G20: =G18-G19 -> 192194
A24: Keltezés: | B24: =+'[2]Beviteli oldal'!$B$12 -> 43059

Sheet 12
D1: 43008
A3: CÉLTARTALÉKOK LELTÁRA 12. sz. táblázat
A5: Társaság neve: Müllex-Körmend Kft.
D7: ezer Ft
A8: Tárgyév | C8: SZÁMVITELI TV. SZERINT KÉPZETT CÉLTARTALÉK ÖSSZEGE | D8: ADÓTÖRVÉNY ÁLTAL ELISMERT CÉLTARTALÉK
B9: Előző évben képzett céltartalék | C9: 105034
B10: Előző évi céltartalékból felhasználás miatt bevételként elszámolt összeg
A11: TÁRGYÉVBEN KÉPZETT CÉLTARTALÉK
A12: 1. | B12: Fizetési kötelezettségekre
B13: Garanciális kötelezettségre
B14: Végkielégítés fedezetére
B15: Korengedményes nyugdíjra
B16: Törvényben (bányászat, villamos energia, környezetvédelmi általános, ktsvetési agrártámogatási) meghatározott
B17: - környezetvédelmi kötelezettségek fedezetése
B18: - erdőfelújítási kötelezettségek fedezetére | D18: =SUM(C18) -> 0
A19: 2. | B19: Várható jövőbeni költségekre | C19: 17492
B20: Fenntartási, átszervezési költségekre
B21: Egyéb környezetvédelmi költségekre
A22: 3. | B22: Beruházási devizahitel árfolyamveszteségének elhatárolására
A23: Tárgyév összesen | C23: 17492 | D23: 0
A24: Adóalap növelő tétel | C24: 17492
A25: Adóalap csökkentő tétel | C25: 0
D28: ezer Ft
A29: Megnevezés
A30: Nyitó mérlegérték | D30: 128357
A31: Előző évi céltartalékból felhasználás miatt bevételként elszámolt összeg - feloldás
A32: Tárgyévben ráfordításként elszámolt összeg - képzés | D32: 17492
A33: Záró mérlegérték | D33: =D30-D31+D32 -> 145849
B36: Keltezés: 2017. november 20.

Sheet 13
E1: 43008
A4: Beruházási és fejlesztési hitelek 13. sz. táblázat
A6: Társaság neve: | B6: Müllex-Körmend Kft.
E8: ezer Ft-ban
A9: Mérlegsor száma | B9: Főkönyvi számla száma | C9: Tétel megnevezése | D9: 42735 | E9: 43008
A10: F./II.89 | B10: 44454 | C10: Betontörő | D10: 5587 | E10: 0
A11: F./II.86 | B11: 4411 | C11: Betontörő | D11: 0 | E11: 1861
A17: Keltezés: 2017. november 20.

Sheet 14
E1: 43008
A3: Rövid lejáratú hitelek 14. sz. táblázat
A5: Társaság neve: | B5: Müllex-Körmend Kft.
E7: ezer Ft-ban
A8: Mérlegsor száma | B8: Főkönyvi számla száma | C8: Tétel megnevezése | D8: 42735 | E8: 43008
A9: F./III.89 | B9: 44454 | C9: Betontörő | D9: 7448 | E9: 0
A10: F./III.95 | B10: 4411 | C10: Betontörő | D10: 0 | E10: 5587
A15: Keltezés: 2017. november 20.

Sheet 15
C1: 43008
A3: KÖTELEZETTSÉGEK ÁRUSZÁLLÍTÁSBÓL ÉS SZOLGÁLTATÁSBÓL (SZÁLLÍTÓK) LELTÁRA 15. sz. táblázat
A5: Társaság neve: | B5: Müllex-Körmend Kft.
C7: ezer Ft-ban
A8: Főkönyvi számla száma | B8: Tétel megnevezése | C8: 43008
A9: 454 | B9: SZÁLLÍTÓK | C9: 33062
A10: 455 | B10: BERUHÁZÁSI SZÁLLÍTÓK | C10: 31243
A11: 456 | B11: KÜLFÖLDI SZÁLLÍTÓK | C11: 273
B12: ÖSSZESEN: | C12: =SUM(C9:C11) -> 64578
A16: Keltezés: 2017. november 20.

Sheet 16
C1: 43008
A3: RÖVID LEJÁRATÚ KÖTELEZETTSÉGEK KAPCSOLT VÁLLALKOZÁSSAL SZEMBEN LELTÁRA 16. sz. táblázat
A5: Társaság neve: | B5: Müllex-Körmend Kft.
C7: ezer Ft-ban
A8: Kapcsolt vállalkozás megnevezése | C8: 43008
A9: Zala-Depo Kft. | C9: 25
B10: ÖSSZESEN: | C10: =SUM(C9:C9) -> 25
A14: Keltezés: 2017. november 20.

Sheet 17
E1: 43008
A3: EGYÉB RÖVID LEJÁRATÚ KÖTELEZETTSÉGEK LELTÁRA 17 .sz. táblázat
A5: Társaság neve: | B5: Müllex-Körmend Kft.
E7: Adatok ezer Ft-ban
A8: Mérlegsor száma | B8: Főkönyvi számla száma | C8: Tétel megnevezése | D8: Előző év | E8: 43008
B9: 461 | C9: Társasági adó | D9: 1601 | E9: 15411
B10: 4621 | C10: SZJA előleg munkaviszonyból | D10: 1286 | E10: 1402
B11: 4622 | C11: CAFETIRA, TERM. JUTT. UTÁNIA SZJA | D11: 0 | E11: 79
B12: 4623 | C12: SZJA term.juttatás után | D12: 35 | E12: 0
B13: 4627 | C13: SZJA term.juttatás után | D13: 286 | E13: 0
B14: 46281 | C14: SZJA Cafetira után | D14: 271 | E14: 0
B15: 4631 | C15: Rehabilitációs hozzájárulás | D15: 0 | E15: 659
B16: 4632 | C16: EHO kötelezettség | D16: 0 | E16: 86
B17: 4633 | C17: Szakképzési hozzájárulás | D17: 0 | E17: 156
B18: 4635 | C18: Cégautó adó | D18: 0 | E18: 117
B19: 46331 | C19: EHO 27% | D19: 907 | E19: 0
B20: 46333 | C20: EHO 14 % | D20: 58 | E20: 0
... B40: 4793 | C40: Rövid lejáratú kötelezettségek | D40: 35287 | E40: 0
B41: 4799 | C41: Különféle rövid lejáratú köt. | E41: 19655
A42: ÖSSZESEN | D42: =SUM(D9:D41) -> 69448 | E42: =SUM(E9:E41) -> 139855
A45: Keltezés: 2017. november 20.

Sheet 18
D1: 43008
A3: PASSZÍV IDŐBELI ELHATÁROLÁSOK LELTÁRA 18. sz. táblázat
A5: Társaság neve: | B5: Müllex-Körmend Kft.
D8: Adatok ezer Ft-ban
A9: Megnevezés | C9: Könyvszerinti érték
C10: 42735 | D10: 43008
A12: Bevételek passzív időbeli elhatárolásai összesen: | C12: =SUM(C11:C11) -> 0 | D12: =SUM(D11:D11) -> 0
A14: Kamat (betontörő) | C14: 13 | D14: 7
A15: reprezentáció | C15: 49 | D15: 0
A16: Bérleti díj | C16: 55 | D16: 107
A17: Biztosítás | C17: 4 | D17: 0
A18: Vízkészlet hozzáj. | C18: 0 | D18: 12
A19: Távhő szolg. | C19: 0 | D19: 11
A20: Prémium B.A. | C20: 2064 | D20: 0
A21: Költségek, ráfordítások passzív időbeli elhatárolásai összesen: | C21: =SUM(C14:C20) -> 2185 | D21: =SUM(D14:D20) -> 137
A23: Irodaház | C23: 27422 | D23: 26952
A24: Útburkolat | C24: 10383 | D24: 10205
A25: Hídmérleg | C25: 3217 | D25: 3162
A26: Térmegfigyelő rendszer | C26: 26 | D26: 0
A27: GPRS rendszer | C27: 182 | D27: 30
A28: Konténerek | C28: 420 | D28: 0
A29: Biogáz hasznosító rendszer | C29: 4621 | D29: 2171
A30: Halasztott bevételek összesen: | C30: =SUM(C23:C29) -> 46271 | D30: =SUM(D23:D29) -> 42520
A32: Passzív időbeli elhatárolások összesen: | C32: =C12+C21+C30 -> 48456 | D32: =D12+D21+D30 -> 42657
A35: Keltezés: 2017. november 20.
