Workbook
Name _GoBack: '2'!#REF!

Sheet 1
B1: 2023. évi eredeti előirányzat | C1: Módosítás összege | D1: 2023. évi módosított előirányzat | F1: Megnevezés | G1: 2023. évi eredeti előirányzat | H1: Módosítás összege | I1: 2023. évi módosított előirányzat
A2: I. Működési célú bevételek | F2: I. Működési célú kiadások
A3: 1.) Működési célú támogatások államháztartáson belülről | B3: 7361248 | C3: 161808 | D3: =SUM(B3:C3) -> 7523056 | F3: 1.) Költségvetési szervek kiadásai | G3: 10835997 | H3: 436078 | I3: =SUM(G3:H3) -> 11272075
A4: 2.) Közhatalmi bevételek | B4: 6799400 | C4: 695675 | D4: =SUM(B4:C4) -> 7495075 | F4: 2.) Önkormányzat szakosztályainak kiadásai | G4: 7580927 | H4: 190575 | I4: =SUM(G4:H4) -> 7771502
A5: 3.) Működési bevételek | B5: 4603115 | C5: 363183 | D5: =SUM(B5:C5) -> 4966298 | F5: 3.Egyéb működési célú kiadások (költségvetési szervek és tartalék nélkül) | G5: 4534423 | H5: 586308 | I5: =SUM(G5:H5) -> 5120731
A6: 4.) Működési célú átvett pénzeszközök | C6: 58895 | D6: =SUM(B6:C6) -> 58895 | F6: 4.) Céltartalékból működésre | G6: 875566 | H6: -227098 | I6: =SUM(G6:H6) -> 648468
A7: Költségvetési műk. bevételei összesen: | B7: =SUM(B3+B4+B5+B6) -> 18763763 | C7: =SUM(C3+C4+C5+C6) -> 1279561 | D7: =SUM(D3+D4+D5+D6) -> 20043324 | F7: 5.) Általános tartalék | G7: 10000 | H7: -8955 | I7: =SUM(G7:H7) -> 1045
A8: Finanszírozási bevételek | F8: Költségvetési műk. kiadásai összesen: | G8: =SUM(G2:G7) -> 23836913 | H8: =SUM(H2:H7) -> 976908 | I8: =SUM(I2:I7) -> 24813821
A9: 5.) Előző év költségvetési maradványának igénybevétele | B9: 3952488 | C9: -302653 | D9: =SUM(B9:C9) -> 3649835 | F9: 6.) Egyéb finanszírozási kiadás (államháztartáson belüli megelőlegezés visszafizetése) | G9: 181338 | I9: =SUM(G9:H9) -> 181338
A10: 6.) Forgatási célú értékpapír beváltás | B10: 1302000 | D10: =SUM(B10:C10) -> 1302000
A11: MŰKÖDÉSI CÉLÚ BEVÉTELEK ÖSSZ: | B11: =SUM(B7:B10) -> 24018251 | C11: =SUM(C7:C10) -> 976908 | D11: =SUM(D7:D10) -> 24995159 | F11: MŰKÖDÉSI CÉLÚ KIADÁSOK ÖSSZ.: | G11: =SUM(G8:G9) -> 24018251 | H11: =SUM(H8:H10) -> 976908 | I11: =SUM(I8:I9) -> 24995159
A12: II. Felhalmozási célú bevételek | F12: II. Felhalmozási célú kiadások
A13: 1.) Felhalmozási célú támogatások államháztartáson belülről | B13: 5453580 | C13: 1026506 | D13: =SUM(B13:C13) -> 6480086 | F13: 1.) Egyéb felhalmozási célú kiadások | G13: 686530 | H13: 2467665 | I13: =SUM(G13:H13) -> 3154195
A14: 2.) Felhalmozási bevételek | B14: 338743 | C14: -98935 | D14: =SUM(B14:C14) -> 239808 | F14: ebből: költségvetési szervek | G14: 65000 | H14: 48000 | I14: =SUM(G14:H14) -> 113000
A15: 3.) Felhalmozási célú átvett pénzeszközök | B15: 2000 | C15: 8230 | D15: =SUM(B15:C15) -> 10230 | F15: 2.) Beruházás | G15: 18687684 | H15: -1057583 | I15: =SUM(G15:H15) -> 17630101
A16: 4.) Fejlesztéshez működési jellegű bevétel (HD, áfa visszaigénylés) | B16: 950285 | C16: 301519 | D16: =SUM(B16:C16) -> 1251804 | F16: ebből: költségvetési szervek | G16: 161213 | H16: 84922 | I16: =SUM(G16:H16) -> 246135
A17: Költségvetési felhalm. bevételei összesen: | B17: =SUM(B13:B16) -> 6744608 | C17: =SUM(C13:C16) -> 1237320 | D17: =SUM(D13:D16) -> 7981928 | F17: 3.) Felújítás | G17: 5876822 | H17: 752914 | I17: =SUM(G17:H17) -> 6629736
A18: Finanszírozási bevételek | F18: ebből: költségvetési szervek | H18: 29813 | I18: =SUM(G18:H18) -> 29813
A19: 5.) Hitel felvétel | F19: 4.) Céltartalék | G19: 990731 | H19: -356744 | I19: =SUM(G19:H19) -> 633987
A20: 6.) Előző év költségvetési maradványának igénybevétele | B20: 6832220 | C20: 553932 | D20: =SUM(B20:C20) -> 7386152 | F20: 5.)Fejlesztési hitel kamata | G20: 188840 | I20: =SUM(G20:H20) -> 188840
A21: 7.) Forgatási célú értékpapír beváltás | B21: 12975995 | C21: 15000 | D21: =SUM(B21:C21) -> 12990995 | F21: Költségvetési felh.célú kiadásai összesen: | G21: =SUM(G13+G15+G17+G19+G20) -> 26430607 | H21: =SUM(H13+H15+H17+H19+H20) -> 1806252 | I21: =SUM(I13+I15+I17+I19+I20) -> 28236859
F22: Finanszírozási kiadások
F23: 6.) Hitel- és kölcsön törlesztések | G23: 122216 | I23: =SUM(G23:H23) -> 122216
A24: FELHALMOZÁSI CÉLÚ BEVÉTELEK ÖSSZESEN: | B24: =SUM(B17:B23) -> 26552823 | C24: =SUM(C17:C23) -> 1806252 | D24: =SUM(D17:D23) -> 28359075 | F24: FELHALMOZÁSI CÉLÚ KIADÁSOK ÖSSZESEN: | G24: =SUM(G21:G23) -> 26552823 | H24: =SUM(H21:H23) -> 1806252 | I24: =SUM(I21:I23) -> 28359075
A25: ÖNKORMÁNYZAT ÖSSZESEN: | B25: =SUM(B11+B24) -> 50571074 | C25: =SUM(C11+C24) -> 2783160 | D25: =SUM(D11+D24) -> 53354234 | F25: ÖNKORMÁNYZAT ÖSSZESEN: | G25: =SUM(G11+G24) -> 50571074 | H25: =SUM(H11+H24) -> 2783160 | I25: =SUM(I11+I24) -> 53354234
A26: 8.) Forgatási célú értékpapír beváltás projektekhez kapcsolódóan | B26: 7000000 | C26: 205000 | D26: =SUM(B26:C26) -> 7205000 | F26: 7.) Forgatási célú értékpapír vásárlás hazai forrásból átmenetileg szabad pénzeszközökből | G26: 7000000 | H26: 205000 | I26: =SUM(G26:H26) -> 7205000
A27: MINDÖSSZESEN: | B27: =SUM(B25:B26) -> 57571074 | C27: =SUM(C25:C26) -> 2988160 | D27: =SUM(D25:D26) -> 60559234 | F27: MINDÖSSZESEN: | G27: =SUM(G25:G26) -> 57571074 | H27: =SUM(H25:H26) -> 2988160 | I27: =SUM(I25:I26) -> 60559234

Sheet 2
A1: Rovat száma | B1: Megnevezés | C1: 2023. évi eredeti előirányzat | D1: Módosítás összege | E1: 2023. évi módosított előirányzat
A2: B | B2: BEVÉTELEK
A3: B1 | B3: Működési célú támogatások államháztartáson belülről
A4: B11 | B4: Helyi önkormányzatok általános működésének és ágazati feladatainak állami támogatása | C4: 5370126 | D4: 568661 | E4: =SUM(C4:D4) -> 5938787
A5: B115 | B5: Működési célú költségvetési támogatások és kiegészítő támogatások | E5: =SUM(C5:D5) -> 0
A6: B12 | B6: Elvonások és befizetések bevételei | D6: 24716 | E6: =SUM(C6:D6) -> 24716
A7: B14 | B7: Működési célú visszatérítendő támogatások, kölcsönök visszatérülése államháztartáson belülről | C7: 29700 | E7: =SUM(C7:D7) -> 29700
A8: B16 | B8: Egyéb működési célú támogatások bevételei államháztartáson belülről | C8: 1961422 | D8: -431569 | E8: =SUM(C8:D8) -> 1529853
B9: Működési célú támogatások államháztartáson belülről összesen | C9: =SUM(C4:C8) -> 7361248 | D9: =SUM(D4:D8) -> 161808 | E9: =SUM(E4:E8) -> 7523056
A10: B2 | B10: Felhalmozási célú támogatások államháztartáson belülről
A11: B21 | B11: Felhalmozási célú önkormányzati támogatás
A12: B25 | B12: Egyéb felhalmozási célú támogatások bevételei államháztartáson belülről | C12: 5453580 | D12: 1026506 | E12: =SUM(C12:D12) -> 6480086
B13: Felhalmozási célú támogatások államháztartáson belülről összesen | C13: =SUM(C11:C12) -> 5453580 | D13: =SUM(D11:D12) -> 1026506 | E13: =SUM(E11:E12) -> 6480086
A14: B3 | B14: Közhatalmi bevételek
A15: B34 | B15: Vagyoni típusú adók (építményadó, magánszemélyek kommunális adója) | C15: 1128000 | E15: =SUM(C15:D15) -> 1128000
A16: B35 | B16: Termékek és szolgáltatások adói | E16: =SUM(C16:D16) -> 0
A17: B351 | B17: Értékesítési és forgalmi adók (iparűzési adó) | C17: 5600000 | D17: 645000 | E17: =SUM(C17:D17) -> 6245000
A18: B355 | B18: Egyéb áruhasználati és szolgáltatási adók ( idegenforgalmi adó) | C18: 35000 | E18: =SUM(C18:D18) -> 35000
A19: B36 | B19: Egyéb közhatalmi bevételek (különféle bírságok,talajterhelési díj) | C19: 36400 | D19: 50675 | E19: =SUM(C19:D19) -> 87075
B20: Közhatalmi bevételek összesen | C20: =SUM(C14:C19) -> 6799400 | D20: =SUM(D14:D19) -> 695675 | E20: =SUM(E14:E19) -> 7495075
A21: B4 | B21: Működési bevételek | C21: 5553400 | D21: 664702 | E21: =SUM(C21:D21) -> 6218102
A22: B5 | B22: Felhalmozási bevételek
A23: B52 | B23: Ingatlanok értékesítése | C23: 338743 | D23: -103999 | E23: =SUM(C23:D23) -> 234744
A24: B53 | B24: Egyéb tárgyi eszközök értékesítése | D24: 5064 | E24: =SUM(C24:D24) -> 5064
A25: B55 | B25: Részesedések megszűnéséhez kapcsolódó bevételek | E25: =SUM(C25:D25) -> 0
B26: Felhalmozási bevételek összesen | C26: =SUM(C23:C25) -> 338743 | D26: =SUM(D23:D25) -> -98935 | E26: =SUM(E23:E25) -> 239808
A27: B6 | B27: Működési célú átvett pénzeszközök | D27: 58895 | E27: =SUM(C27:D27) -> 58895
A28: B7 | B28: Felhalmozási célú átvett pénzeszközök
A29: B74 | B29: Felhalmozási célú visszatérítendő támogatások, kölcsönök visszatérülése államháztartáson kívülről | C29: 2000 | E29: =SUM(C29:D29) -> 2000
A30: B75 | B30: Egyéb felhalmozási célú átvett pénzeszközök | D30: 8230 | E30: =SUM(C30:D30) -> 8230
B31: Felhalmozási célú átvett pénzeszközök összesen | C31: =SUM(C29:C30) -> 2000 | D31: =SUM(D29:D30) -> 8230 | E31: =SUM(E29:E30) -> 10230
A32: B1-B7 | B32: Költségvetési bevételek | C32: =SUM(C9+C13+C20+C21+C26+C27+C31) -> 25508371 | D32: =SUM(D9+D13+D20+D21+D26+D27+D31) -> 2516881 | E32: =SUM(E9+E13+E20+E21+E26+E27+E31) -> 28025252
A33: B8 | B33: Finanszírozási bevételek
A34: B81 | B34: Belföldi finanszírozás bevételei
A35: B811 | B35: Hitel-, kölcsönfelvétel államháztartáson kívülről
A36: B8121 | B36: Forgatási célú belföldi értékpapírok beváltása, értékesítése | C36: 21277995 | D36: 220000 | E36: =SUM(C36:D36) -> 21497995
A37: B813 | B37: Maradvány igénybevétele | C37: 10784708 | D37: 251279 | E37: =SUM(C37:D37) -> 11035987
B38: Finanszírozási bevételek összesen | C38: =SUM(C35:C37) -> 32062703 | D38: =SUM(D35:D37) -> 471279 | E38: =SUM(E35:E37) -> 32533982
B39: BEVÉTELEK ÖSSZESEN: | C39: =SUM(C32+C38) -> 57571074 | D39: =SUM(D32+D38) -> 2988160 | E39: =SUM(E32+E38) -> 60559234

Sheet 3
B1: Mutató | D1: 2023. bevétel eredeti előirányzata | F1: Mutató | H1: 2023. bevétel módosított előirányzata
A2: Hozzájárulás jogcíme | B2: lakosságszám | C2: mutató | D2: Normatíva Ft/fő | E2: Hozzájárulás ezer Ft-ban | F2: lakosságszám | G2: mutató | H2: Normatíva Ft/fő | I2: Hozzájárulás ezer Ft-ban | J2: Forintban
A3: 2. melléklet szerinti jogcímek
A4: 1.1. Települési önkormányzatok működésének általános támogatása
A5: 1.1.1.1. önkormányzati hivatal működésének támogatása - elismert hivatali létszám alapján | B5: 55384 | C5: 127.84 | D5: 5537000 | E5: 707850 | F5: 55384 | G5: 127.84 | H5: 5537000 | I5: 707850 | J5: 707850080
A6: 1.1.1.1. önkormányzati hivatal működésének támogatása - elismert hivatali létszám alapján kiegészítő támogatás a 68/2023. (III.10.)Korm.rendelet alapján | F6: 55384 | G6: 127.84 | H6: 336000 | I6: 42954 | J6: 42954240
A7: Település-üzemeltetéshez kapcsolódó feladataellátás támogatása
A8: 1.1.1.2. zöldterület-gazdálkodás támogatása (hektár) | C8: 2381.9 | D8: 26000 | E8: 61929 | G8: 2381.9 | H8: 26000 | I8: 61929 | J8: 61929400
A9: 1.1.1.3. közvilágítás támogatása (km) | C9: 406.4 | D9: 425000 | E9: 172720 | G9: 406.4 | H9: 425000 | I9: 172720 | J9: 172720000
A10: 1.1.1.4. köztemető támogatása (m²) | C10: 323258 | D10: 85 | E10: 27477 | G10: 323258 | H10: 85 | I10: 27477 | J10: 27476930
A11: 1.1.1.5. közutak támogatása (km) | C11: 211.77 | D11: 485000 | E11: 102709 | G11: 211.77 | H11: 485000 | I11: 102709 | J11: 102708450
A12: 1.1.1.6. egyéb önkormányzati feladatok támogatása | B12: 55384 | D12: 2800 | E12: 155075 | F12: 55384 | H12: 2800 | I12: 155075 | J12: 155075200
A13: 1.1.1.7. Lakott külterülettel kapcsolatos feladatok támogatása | B13: 4595 | D13: 2550 | E13: 11717 | F13: 4595 | H13: 2550 | I13: 11717 | J13: 11717250
A14: 1.1.2.Nem közművel összegyűjtött háztartási szennyvíz ártalmatlanítása (köbméter) | C14: 1000 | D14: 100 | E14: 100 | G14: 1000 | H14: 100 | I14: 100 | J14: 100000
A15: 1.2. Óvodaműködtetési támogatás
A16: 1.2.1.1. Óvodaműködtetési támogatás | C16: 1412.3 | D16: 130000 | E16: 183599 | G16: 1390.7 | H16: 130000 | I16: 180791 | J16: 180791000
A17: 1.2.1.1. Óvodaműködtetési támogatás kiegészítőtámogatás a 68/2023. (III.10.) Korm.rendelet alapján | G17: 1390.7 | H17: 7000 | I17: 9735 | J17: 9734900
A18: 1.2.2.1. Az óvodában foglalkoztatott pedagógusok átlagbéralapú támogatása | C18: 130 | D18: 5262900 | E18: 684177 | G18: 128.4 | H18: 5262900 | I18: 675756 | J18: 675756360
A19: 1.2.2.1. Az óvodában foglalkoztatott pedagógusok átlagbéralapú támogatása kiegészítő támogatás a 68/2023. (III.10.) Korm.rendelet alapján | G19: 128.4 | H19: 944620 | I19: 121289 | J19: 121289208
A20: 1.2.3. Kiegészítő támogatás az óvodapedagógusok minősítéséből adódó többletkiadásokhoz
A21: 1.2.3.1.1.1.1. Pedagógus II. kategóriába sorolt pedagógusok kiegészítő támogatása | C21: 39.8 | D21: 467690 | E21: 18614 | G21: 40 | H21: 467690 | I21: 18708 | J21: 18707600
A22: 1.2.3.1.1.1.1. Pedagógus II. kategóriába sorolt pedagógusok kiegészítő támogatása 68/2023. (III.10.) Korm.rendelet alapján | G22: 40 | H22: 66178 | I22: 2647 | J22: 2647120
A23: 1.2.3.1.1.1.2. Mesterpedagógus, kutatótanár kategóriába sorolt pedagógusok kiegészítő támogatása | C23: 2 | D23: 1743970 | E23: 3488 | G23: 2 | H23: 1743970 | I23: 3488 | J23: 3487940
A24: 1.2.3.1.1.1.2. Mesterpedagógus, kutatótanár kategóriába sorolt pedagógusok kiegészítő támogatása 68/2023. (III.10.) Korm.rendelet alapján | G24: 2 | H24: 246772 | I24: 493 | J24: 493544
A25: 1.2.3.1.1.2.1. Mesterfokozatú végzettségű pedagógus II.kategóriába sorolt pedagógusok kiegészítő támogatása | C25: 1 | D25: 562960 | E25: 563 | G25: 1 | H25: 562960 | I25: 563 | J25: 562950
A26: 1.2.3.1.1.2.1. Mesterfokozatú végzettségű pedagógus II.kategóriába sorolt pedagógusok kiegészítő támogatása 68/2023. (III.10.) Korm.rendelet alapján | G26: 1 | H26: 79658 | I26: 80 | J26: 79658
A27: 1.2.3.2.1.1.1. Minősítést 2023. január 1-jéig történő átsorolással megszerző pedagógus II. kategóriába sorolt pedagógus | G27: 7 | H27: 428720 | I27: 3001 | J27: 3001040
A28: 1.2.3.2.1.1.2. Minősítést 2023. január 1-jéig történő átsorolással megszerző pedagógus II. kategóriába sorolt pedagógus kiegészítő támogatása a 68/2023. (III.10.) Korm.rendelet alapján | G28: 7 | H28: 60662 | I28: 425 | J28: 424634
A29: 1.2.5.1.1. Az óvodában foglalkoztatott pedagógusok nevelőmunkáját közvetlenük segítők átlagbéralapú támogatása | C29: 86 | D29: 3878000 | E29: 333508 | G29: 85 | H29: 3878000 | I29: 329630 | J29: 329630000
A30: 1.2.5.1.1. Az óvodában foglalkoztatott pedagógusok nevelőmunkáját közvetlenük segítők átlagbéralapú támogatása 68/2023. (III.10.) Korm.rendelet alapján | G30: 85 | H30: 543000 | I30: 46155 | J30: 46155000
A31: 1.2.7. Diabétesz ellátási pótlék | C31: 5 | D31: 480000 | E31: 2400 | G31: 2 | H31: 480000 | I31: 960 | J31: 960000
A32: 1.3.2.Szociális és gyermekjóléti alapszolgáltatás feladatai
A33: 1.3.2.1. Család és gyermekjóléti szolgálat | C33: 8.4 | D33: 5128940 | E33: 43083 | G33: 8.4 | H33: 5128940 | I33: 43083 | J33: 43083096
A34: 1.3.2.1. Család és gyermekjóléti szolgálat 68/2023. (III.10.) Korm.rendelet alapján | G34: 8.4 | H34: 799060 | I34: 6712 | J34: 6712104
A35: 1.3.2.2. Család- és gyermekjóléti központ ( járáshoz tartozó összes településre) | C35: 22.8 | D35: 4843970 | E35: 110443 | G35: 22.8 | H35: 4843970 | I35: 110443 | J35: 110442516
A36: 1.3.2.2. Család- és gyermekjóléti központ ( járáshoz tartozó összes településre) 68/2023. (III.10.) Korm.rendelet alapján | G36: 22.8 | H36: 966330 | I36: 22032 | J36: 22032324
A37: 1.3.2.2. Család- és gyermekjóléti központ kiegészítés a kijelölt intézmény esetében | C37: 1 | D37: 11440000 | E37: 11440 | G37: 1 | H37: 11440000 | I37: 11440 | J37: 11440000
A38: 1.3.2.3.2. Szociális étkeztetés - társulás által történő feladatellátás | C38: 310 | D38: 81190 | E38: 25169 | G38: 310 | H38: 81190 | I38: 25169 | J38: 25168900
A39: 1.3.2.3.2. Szociális étkeztetés - társulás által történő feladatellátás kiegészítő támogatás a 68/2023. (III.10.)Korm.rendelet alapján | G39: 310 | H39: 6380 | I39: 1978 | J39: 1977800
A40: 1.3.2.4. Házi segítségnyújtás
...

Sheet 4
A1: Rovat száma | B1: Megnevezés | C1: 2023. évi eredeti előirányzat | D1: Módosítás összege | E1: 2023. évi módosított előirányzat
B2: Költségvetési kiadások
A3: K1 | B3: Személyi juttatások | C3: 5998210 | D3: =221696+táj2!G619 -> 308344 | E3: =SUM(C3:D3) -> 6306554
A4: K2 | B4: Munkaadókat terhelő járulékok és szociális hj. adó | C4: 887697 | D4: =29759+táj2!H619 -> 26123 | E4: =SUM(C4:D4) -> 913820
A5: K3 | B5: Dologi kiadások | C5: 11431545 | D5: =122588+táj2!I619 -> 303661 | E5: =SUM(C5:D5) -> 11735206
A6: K4 | B6: Ellátottak pénzbeli juttatásai | C6: 113070 | D6: =2409+táj2!J619 -> -7342 | E6: =SUM(C6:D6) -> 105728
A7: K5 | B7: Egyéb működési célú kiadások | C7: 5595231 | D7: =203403+táj2!K619 -> 346122 | E7: =SUM(C7:D7) -> 5941353
B8: Működési költségvetés összesen: | C8: 24025753 | D8: =SUM(D3:D7) -> 976908 | E8: =SUM(E3:E7) -> 25002661
A9: K6 | B9: Beruházások | C9: 19666785 | D9: =-1394108+táj2!L619 -> -1404379 | E9: =SUM(C9:D9) -> 18262406
A10: K7 | B10: Felújítások | C10: 5888452 | D10: =391026+táj2!M619 -> 742966 | E10: =SUM(C10:D10) -> 6631418
A11: K8 | B11: Egyéb felhalmozási célú kiadások | C11: 686530 | D11: =2023637+táj2!N619 -> 2467665 | E11: =SUM(C11:D11) -> 3154195
B12: Felhalmozási költségvetés összesen: | C12: 26241767 | D12: =SUM(D9:D11) -> 1806252 | E12: =SUM(E9:E11) -> 28048019
A13: K1-K8 | B13: Költségvetési kiadások összesen: | C13: 50267520 | D13: =SUM(D8+D12) -> 2783160 | E13: =SUM(E8+E12) -> 53050680
A14: K9 | B14: Finanszírozási kiadások | C14: 7303554 | D14: =205000+táj2!O619+táj2!P619 -> 205000 | E14: =SUM(C14:D14) -> 7508554
B15: Önkormányzat kiadásai összesen | C15: 57571074 | D15: =SUM(D13:D14) -> 2988160 | E15: =SUM(E13:E14) -> 60559234

Sheet 5
A1: Cím szám | B1: Alcím szám | C1: Megnevezés | D1: Költségvetési bevételek | K1: Finanszírozási bevételek | N1: Összesen
D2: Működési célú támogatások áht-n belülről | E2: Felhalmozási célú támogatások áht-n belülről | F2: Közhatalmi bevételek | G2: Működési bevételek | H2: Felhalmozási bevételek | I2: Működési célú átvett pénzeszközök | J2: Felhalmozási célú átvett pénzeszközök | K2: Hitel-, kölcsönfelvétel áht-n kívülről | L2: Maradvány igénybevétele | M2: Egyéb finanszírozási bevétel
A3: 1 | C3: Önkormányzat
B4: 12 | C4: Szociális és igazgatási feladatok | D4: ='6'!E8 -> 0 | E4: ='6'!F8 -> 0 | F4: ='6'!G8 -> 0 | G4: ='6'!H8 -> 22760 | H4: ='6'!I8 -> 0 | I4: ='6'!J8 -> 0 | J4: ='6'!K8 -> 0 | K4: ='6'!L8 -> 0 | ... M4: ='6'!N8 -> 0 | N4: =SUM(D4:M4) -> 22760
B5: 13 | C5: Humánigazgatási feladatok | D5: ='6'!E30 -> 519812 | E5: ='6'!F30 -> 0 | F5: ='6'!G30 -> 0 | G5: ='6'!H30 -> 8066 | H5: ='6'!I30 -> 0 | I5: ='6'!J30 -> 27151 | J5: ='6'!K30 -> 720 | K5: ='6'!L30 -> 0 | ... M5: ='6'!N30 -> 0 | N5: =SUM(D5:M5) -> 555749
B6: 14 | C6: Főépítészi feladatok | D6: ='6'!E35 -> 0 | E6: ='6'!F35 -> 0 | F6: ='6'!G35 -> 0 | G6: ='6'!H35 -> 5272 | H6: ='6'!I35 -> 0 | I6: ='6'!J35 -> 0 | J6: ='6'!K35 -> 0 | K6: ='6'!L35 -> 0 | ... M6: ='6'!N35 -> 0 | N6: =SUM(D6:M6) -> 11423
B7: 15 | C7: Városüzemelési felad. | D7: ='6'!E58 -> 0 | E7: ='6'!F58 -> 0 | F7: ='6'!G58 -> 0 | G7: ='6'!H58 -> 707084 | H7: ='6'!I58 -> 0 | I7: ='6'!J58 -> 0 | J7: ='6'!K58 -> 1512 | K7: ='6'!L58 -> 0 | ... M7: ='6'!N58 -> 0 | N7: =SUM(D7:M7) -> 739452
B8: 16 | C8: Városépítészeti feladatok | D8: ='6'!E112 -> 95011 | E8: ='6'!F112 -> 6370148 | F8: ='6'!G112 -> 0 | G8: ='6'!H112 -> 2397294 | H8: ='6'!I112 -> 9000 | I8: ='6'!J112 -> 0 | J8: ='6'!K112 -> 0 | K8: ='6'!L112 -> 0 | ... M8: ='6'!N112 -> 11647000 | N8: =SUM(D8:M8) -> 28752139
B9: 17 | C9: Vagyonkez. feladatok | D9: ='6'!E146 -> 0 | E9: ='6'!F146 -> 0 | F9: ='6'!G146 -> 0 | G9: ='6'!H146 -> 760375 | H9: ='6'!I146 -> 225744 | I9: ='6'!J146 -> 0 | J9: ='6'!K146 -> 2000 | K9: ='6'!L146 -> 0 | ... M9: ='6'!N146 -> 138244 | N9: =SUM(D9:M9) -> 1127220
B10: 18 | C10: Jogi és közig. feladatok | D10: ='6'!E155 -> 0 | E10: ='6'!F155 -> 0 | F10: ='6'!G155 -> 75400 | G10: ='6'!H155 -> 43734 | H10: ='6'!I155 -> 0 | I10: ='6'!J155 -> 0 | J10: ='6'!K155 -> 0 | K10: ='6'!L155 -> 0 | ... M10: ='6'!N155 -> 0 | N10: =SUM(D10:M10) -> 127520
B11: 19 | C11: Pénzügyi lebonyolítás | D11: ='6'!E187 -> 5993204 | E11: ='6'!F187 -> 0 | F11: ='6'!G187 -> 7414000 | G11: ='6'!H187 -> 142776 | H11: ='6'!I187 -> 0 | I11: ='6'!J187 -> 25300 | J11: ='6'!K187 -> 500 | K11: ='6'!L187 -> 0 | ... M11: ='6'!N187 -> 9507751 | N11: =SUM(D11:M11) -> 24664819
B12: 22 | C12: Polgármesteri Kabinet | D12: ='6'!E198 -> 0 | E12: ='6'!F198 -> 0 | F12: ='6'!G198 -> 0 | G12: ='6'!H198 -> 302 | H12: ='6'!I198 -> 0 | I12: ='6'!J198 -> 3517 | J12: ='6'!K198 -> 4074 | K12: ='6'!L198 -> 0 | ... M12: ='6'!N198 -> 0 | N12: =SUM(D12:M12) -> 7893
C13: Önkormányzat összesen költségvetési szervek nélkül | D13: =SUM(D4:D12) -> 6608027 | E13: =SUM(E4:E12) -> 6370148 | F13: =SUM(F4:F12) -> 7489400 | G13: =SUM(G4:G12) -> 4087663 | H13: =SUM(H4:H12) -> 234744 | I13: =SUM(I4:I12) -> 55968 | J13: =SUM(J4:J12) -> 8806 | K13: =SUM(K4:K12) -> 0 | ... M13: =SUM(M4:M12) -> 21292995 | N13: =SUM(D13:M13) -> 56008975
A14: 2 | C14: Költségvetési szervek | D14: ='9'!F23 -> 915029 | E14: ='9'!G23 -> 109938 | F14: ='9'!H23 -> 5675 | G14: ='9'!I23 -> 2130439 | H14: ='9'!J23 -> 5064 | I14: ='9'!K23 -> 2927 | J14: ='9'!L23 -> 1424 | K14: ='6'!L200 -> 0 | L14: ='9'!M23 -> 1174763 | M14: ='6'!N200 -> 205000 | N14: =SUM(D14:M14) -> 4550259
C15: Önkormányzat összesen: | D15: =SUM(D13:D14) -> 7523056 | E15: =SUM(E13:E14) -> 6480086 | F15: =SUM(F13:F14) -> 7495075 | G15: =SUM(G13:G14) -> 6218102 | H15: =SUM(H13:H14) -> 239808 | I15: =SUM(I13:I14) -> 58895 | J15: =SUM(J13:J14) -> 10230 | K15: =SUM(K13:K14) -> 0 | ... M15: =SUM(M13:M14) -> 21497995 | N15: =SUM(D15:M15) -> 60559234

Sheet 6
A1: Cím szám | B1: Alcím szám | C1: Megnevezés | D1: Tervezési alapegység | E1: Költségvetési bevételek | L1: Finanszírozási bevételek | O1: Összesen:
E2: Működési célú támogatások áht-n belülről | F2: Felhalmozási célú támogatások áht-n belülről | G2: Közhatalmi bevételek | H2: Működési bevételek | I2: Felhalmozási bevételek | J2: Működési célú átvett pénzeszközök | K2: Felhalmozási célú átvett pénzeszközök | L2: Hitel-, kölcsönfelvétel áht-n kívülről | M2: Maradvány igénybevétele | N2: Egyéb finanszírozási bevétel
A3: 1 | C3: Önkormányzat
A4: 1 | B4: 1 | C4: Szakosztályok
A5: 1 | B5: 12 | C5: Szociális és igazgatási feladatok
C6: 011130 Önkorm. és önkorm. hivatal. jogalk. és ált.ig.tev.
C7: - Egerszeg kártya értékesítés | D7: 221 902 | H7: =22760+táj1!H7 -> 22760 | O7: =SUM(H7:N7) -> 22760
C8: Szociális és igazgatási feladatok összesen: | E8: =SUM(E5:E7) -> 0 | F8: =SUM(F5:F7) -> 0 | G8: =SUM(G5:G7) -> 0 | H8: =SUM(H5:H7) -> 22760 | I8: =SUM(I5:I7) -> 0 | J8: =SUM(J5:J7) -> 0 | K8: =SUM(K5:K7) -> 0 | N8: =SUM(N7:N7) -> 0 | O8: =SUM(O7:O7) -> 22760
A9: 1 | B9: 13 | C9: Humánigazgatási feladatok
C10: 072112 Háziorvosi ügyeleti ellátás
C11: - körzeti orvosi ügyelet fenntartásához községek hozzájárulása | D11: 131705 | E11: =47652+táj1!E11 -> 47652 | O11: =SUM(E11:N11) -> 47652
C12: 072311 Fogorvosi alapellátás
C13: - II. számú vegyes fogorvosi körzet finanszírozása | D13: 131718 | E13: =2280+táj1!E13 -> 2430 | O13: =SUM(E13:N13) -> 2430
C14: 101211 Fogyatékossággal élők tartós bentlakásos ellátása
C15: - Református Egyház által fizetendő bérleti díj | D15: 131703 | H15: =7366+táj1!H15 -> 7366 | O15: =SUM(E15:N15) -> 7366
C16: - Idősek Otthona emelt szintű ellátáshoz egyszeri hozzájárulás | D16: 121319 | J16: =1825+táj1!J16 -> 1825 | O16: =SUM(E16:N16) -> 1825
C17: 013350 Önk-i vagyonnal való gazdálkodáshoz kapcs.fa.
C18: - Andráshidai mini bölcsőde építése RRF-1.1.2-21-2022-00019 | D18: 132937 | F18: =0+táj1!F18 -> 0 | M18: =0+táj1!M18 -> 0 | O18: =SUM(E18:N18) -> 0
C19: 018030 Támogatási célú finanszírozási műveletek
C20: - Hevesi Sándor Színház társműködtetöi támogatás | D20: 131508 | E20: =288500+táj1!E20 -> 288500 | O20: =SUM(E20:N20) -> 288500
C21: - Griff Bábszínház társműködtetöi támogatás | D21: 131509 | E21: =65000+táj1!E21 -> 65000 | O21: =SUM(E21:N21) -> 65000
C22: 081030 Sportlétes., edzőtáborok működtetése és fejlesztése
C23: - Sportcsarnok és környéke igénybevétel miatti kiadás | D23: 131827 | J23: =1444+táj1!J23 -> 1444 | O23: =SUM(E23:N23) -> 1444
C24: - Zalaegerszegi Sport és Tanuszoda műk. támogatása a Honvédelmi Minisztériumtól | D24: 191801 | E24: =116230+táj1!E24 -> 116230 | O24: =SUM(E24:N24) -> 116230
C25: - Zalaegerszegi Élménypark Kft. működési támogatása | D25: 221966 | J25: =0+táj1!J25 -> 9221 | O25: =SUM(E25:N25) -> 9221
C26: 082091 Közművelődés - közösségi és társ. részvétel fejleszt.
C27: - Zalaegerszegi Rendezvényszervező Kft. működési támogatásból visszafizetés | D27: 131313 | J27: =10461+táj1!J27 -> 10461 | O27: =SUM(E27:N27) -> 10461
C28: - Kapiller Imre emléktábla | D28: 132944 | K28: =720+táj1!K28 -> 720 | O28: =SUM(E28:N28) -> 720
C29: - Egerszegi adventhez befizetés | D29: 131329 | H29: =0+táj1!H29 -> 700 | J29: =1000+táj1!J29 -> 4200 | O29: =SUM(E29:N29) -> 4900
C30: Humánigazgatási feladatok összesen: | E30: =SUM(E11:E29) -> 519812 | F30: =SUM(F11:F29) -> 0 | G30: =SUM(G11:G29) -> 0 | H30: =SUM(H11:H29) -> 8066 | I30: =SUM(I11:I29) -> 0 | J30: =SUM(J11:J29) -> 27151 | K30: =SUM(K11:K29) -> 720 | L30: =SUM(L11:L29) -> 0 | ... O30: =SUM(O11:O29) -> 555749
A31: 1 | B31: 14 | C31: Főépítészi feladatok
C32: 013350 Önk-i vagyonnal való gazdálkodáshoz kapcs.fa.
C33: - belterületbe vonással kapcsolatos bevétel | D33: 171967 | H33: =5272+táj1!H33 -> 5272 | O33: =SUM(E33:N33) -> 5272
C34: - Helyi építészeti értékek védelme | D34: 164903 | M34: =6151+táj1!M34 -> 6151 | O34: =SUM(E34:N34) -> 6151
C35: Főépítészi feladatok összesen: | H35: =SUM(H33:H34) -> 5272 | I35: =SUM(I33:I34) -> 0 | J35: =SUM(J33:J34) -> 0 | K35: =SUM(K33:K34) -> 0 | L35: =SUM(L33:L34) -> 0 | M35: =SUM(M33:M34) -> 6151 | N35: =SUM(N33:N34) -> 0 | O35: =SUM(O33:O34) -> 11423
A36: 1 | B36: 15 | C36: Városüzemelési feladatok
C37: 081061 Szabadidős park, fürdő és strandszolgáltatás
C38: - Gébárti fürdő lét. üzemelt. (Termál és Tóstrand) | D38: 151906 | H38: =5080+táj1!H38 -> 16115 | O38: =SUM(E38:N38) -> 16115
C39: - Aquapark üzemeltetés | D39: 151 907 | H39: =175260+táj1!H39 -> 218403 | O39: =SUM(E39:N39) -> 218403
C40: - ZG3 kút üzemeltetése | D40: 151 915 | H40: =222+táj1!H40 -> 222 | O40: =SUM(E40:N40) -> 222
...

Sheet 7
A1: Cím szám | B1: Alcím szám | C1: Megnevezés | D1: Költségvetési kiadások | L1: Finanszírozási kiadások | N1: Kiadások összesen
D2: Személyi juttatások | E2: Munkaadókat terhelő járulékok és szociális hj.adó | F2: Dologi kiadások | G2: Ellátottak pénzbeli juttatásai | H2: Egyéb működési célú kiadások | I2: Beruházások | J2: Felújítások | K2: Egyéb felhalmo-zási célú kiadások | L2: Hitel-, kölcsöntör-lesztés áht-n kívülre | M2: Egyéb finanszírozási kiadás
A3: 1 | C3: Önkormányzat
A4: 1 | B4: 1 | C4: Szakosztályok
B5: 12 | C5: Szociális és igazgatási feladatok | D5: ='8'!G48 -> 150 | E5: ='8'!H48 -> 3950 | F5: ='8'!I48 -> 51505 | G5: ='8'!J48 -> 91292 | H5: ='8'!K48 -> 3773 | I5: ='8'!L48 -> 610 | J5: ='8'!M48 -> 0 | K5: ='8'!N48 -> 31819 | ... M5: ='8'!P48 -> 0 | N5: =SUM(D5:M5) -> 183099
B6: 13 | C6: Humánigazgatási feladatok | D6: ='8'!G194 -> 4073 | E6: ='8'!H194 -> 1035 | F6: ='8'!I194 -> 35682 | G6: ='8'!J194 -> 3500 | H6: ='8'!K194 -> 1563562 | I6: ='8'!L194 -> 2800 | J6: ='8'!M194 -> 61293 | K6: ='8'!N194 -> 26498 | ... M6: ='8'!P194 -> 0 | N6: =SUM(D6:M6) -> 1698443
B7: 14 | C7: Főépítészi feladatok | D7: ='8'!G206 -> 0 | E7: ='8'!H206 -> 0 | F7: ='8'!I206 -> 8797 | G7: ='8'!J206 -> 0 | H7: ='8'!K206 -> 0 | I7: ='8'!L206 -> 37736 | J7: ='8'!M206 -> 0 | K7: ='8'!N206 -> 6151 | ... M7: ='8'!P206 -> 0 | N7: =SUM(D7:M7) -> 52684
B8: 15 | C8: Városüzemelési feladatok | D8: ='8'!G367 -> 12048 | E8: ='8'!H367 -> 1687 | F8: ='8'!I367 -> 2616044 | G8: ='8'!J367 -> 0 | H8: ='8'!K367 -> 823462 | I8: ='8'!L367 -> 136088 | J8: ='8'!M367 -> 200597 | K8: ='8'!N367 -> 0 | ... M8: ='8'!P367 -> 0 | N8: =SUM(D8:M8) -> 3789926
B9: 16 | C9: Városépítészeti feladatok | D9: ='8'!G479 -> 30917 | E9: ='8'!H479 -> 4220 | F9: ='8'!I479 -> 3683069 | G9: ='8'!J479 -> 0 | H9: ='8'!K479 -> 95924 | I9: ='8'!L479 -> 17173948 | J9: ='8'!M479 -> 6334485 | K9: ='8'!N479 -> 2900035 | ... M9: ='8'!P479 -> 0 | N9: =SUM(D9:M9) -> 30222598
B10: 17 | C10: Vagyonkezelési feladatok | D10: ='8'!G499 -> 0 | E10: ='8'!H499 -> 0 | F10: ='8'!I499 -> 192815 | G10: ='8'!J499 -> 0 | H10: ='8'!K499 -> 0 | I10: ='8'!L499 -> 12268 | J10: ='8'!M499 -> 1548 | K10: ='8'!N499 -> 44000 | ... M10: ='8'!P499 -> 0 | N10: =SUM(D10:M10) -> 250631
B11: 18 | C11: Jogi és közig.feladatok | D11: ='8'!G524 -> 194788 | E11: ='8'!H524 -> 24574 | F11: ='8'!I524 -> 172509 | G11: ='8'!J524 -> 0 | H11: ='8'!K524 -> 7275 | I11: ='8'!L524 -> 4363 | J11: ='8'!M524 -> 2000 | K11: ='8'!N524 -> 8386 | ... M11: ='8'!P524 -> 0 | N11: =SUM(D11:M11) -> 413895
B12: 19 | C12: Pénzügyi lebonyolítás | D12: ='8'!G555 -> 0 | E12: ='8'!H555 -> 0 | F12: ='8'!I555 -> 626388 | G12: ='8'!J555 -> 0 | H12: ='8'!K555 -> 2262803 | I12: ='8'!L555 -> 0 | J12: ='8'!M555 -> 0 | K12: ='8'!N555 -> 5400 | ... M12: ='8'!P555 -> 7181338 | N12: =SUM(D12:M12) -> 10198145
B13: 22 | C13: Polgármesteri Kabinet kiadásai | D13: ='8'!G598 -> 47491 | E13: ='8'!H598 -> 19464 | F13: ='8'!I598 -> 134344 | G13: ='8'!J598 -> 0 | H13: ='8'!K598 -> 363932 | I13: ='8'!L598 -> 16153 | J13: ='8'!M598 -> 0 | K13: ='8'!N598 -> 18906 | ... M13: ='8'!P598 -> 0 | N13: =SUM(D13:M13) -> 600290
B14: 30 | C14: Tartalékok | D14: ='8'!G616 -> 0 | E14: ='8'!H616 -> 0 | F14: ='8'!I616 -> 0 | G14: ='8'!J616 -> 0 | H14: ='8'!K616 -> 649513 | I14: ='8'!L616 -> 632305 | J14: ='8'!M616 -> 1682 | K14: ='8'!N616 -> 0 | ... M14: ='8'!P616 -> 0 | N14: =SUM(D14:M14) -> 1283500
C15: Önkormányzat összesen költségvetési szervek nélkül | D15: =SUM(D3:D14) -> 289467 | E15: =SUM(E3:E14) -> 54930 | F15: =SUM(F5:F14) -> 7521153 | G15: =SUM(G5:G14) -> 94792 | H15: =SUM(H5:H14) -> 5770244 | I15: =SUM(I5:I14) -> 18016271 | J15: =SUM(J5:J14) -> 6601605 | K15: =SUM(K5:K14) -> 3041195 | L15: =SUM(L5:L14) -> 122216 | M15: =SUM(M5:M14) -> 7181338 | N15: =SUM(N5:N14) -> 48693211
A16: 2 | C16: Költségvetési szervek | D16: ='10'!F23 -> 6017087 | E16: ='10'!G23 -> 858890 | F16: ='10'!H23 -> 4214053 | G16: ='10'!I23 -> 10936 | H16: ='10'!J23 -> 171109 | I16: ='10'!K23 -> 246135 | J16: ='10'!L23 -> 29813 | K16: ='10'!M23 -> 113000 | M16: ='8'!P618 -> 205000 | N16: =SUM(D16:M16) -> 11866023
C17: Önkormányzat összesen: | D17: =SUM(D15:D16) -> 6306554 | E17: =SUM(E15:E16) -> 913820 | F17: =SUM(F15:F16) -> 11735206 | G17: =SUM(G15:G16) -> 105728 | H17: =SUM(H15:H16) -> 5941353 | I17: =SUM(I15:I16) -> 18262406 | J17: =SUM(J15:J16) -> 6631418 | K17: =SUM(K15:K16) -> 3154195 | ... N17: =SUM(N15:N16) -> 60559234

Sheet 8
A1: Cím szám | B1: Alcím szám | C1: Sorszám | D1: Megnevezés | E1: feladat jellege | F1: Tervezési alapegység | G1: Költségvetési kiadások | O1: Finanszírozási kiadások | Q1: Kiadás összesen
G2: Személyi juttatások | H2: Munkaadókat terhelő járulékok és szociális hj.adó | I2: Dologi kiadások | J2: Ellátottak pénzbeli juttatásai | K2: Egyéb működési célú kiadások | L2: Beruházások | M2: Felújítások | N2: Egyéb felhalmo-zási célú kiadások | O2: Hitel-, kölcsöntör-lesztés áht-n kívülre | P2: Egyéb finanszírozási kiadás
A3: 1 | D3: Önkormányzat
A4: 1 | B4: 1 | D4: Szakosztályok
A5: 1 | B5: 12 | D5: Szociális és igazgatási feladatok
D6: 105010 Munkanélküli aktív korúak ellátásai
D7: - megélhetési támogatás | E7: 2 | F7: 121103 | J7: =6000+táj2!J7 -> 6000 | Q7: =SUM(G7:P7) -> 6000
D8: 106020 Lakásfenntartással, lakhatással összefüggő ellátások
D9: - lakásfenntartási segély | E9: 2 | F9: 121104 | J9: =19000+táj2!J9 -> 16300 | Q9: =SUM(G9:P9) -> 16300
D10: - önkormányzati bérlakásban élők lakásfenntartási segélye Lakásalapból | E10: 2 | F10: 121117 | J10: =9000+táj2!J10 -> 9000 | Q10: =SUM(G10:P10) -> 9000
D11: - gázártámogatás | E11: 2 | F11: 121202 | J11: =5700+táj2!J11 -> 5700 | Q11: =SUM(G11:P11) -> 5700
D12: - villamosenergia támogatás | E12: 2 | F12: 121205 | J12: =5700+táj2!J12 -> 5700 | Q12: =SUM(G12:P12) -> 5700
D13: 107060 Egyéb szociális pénzbeli ellátások, támogatások
D14: - gyermekétkeztetési támogatás | E14: 2 | F14: 121111 | J14: =2000+táj2!J14 -> 2000 | Q14: =SUM(G14:P14) -> 2000
D15: - átmeneti segély | E15: 2 | F15: 121127 | J15: =4000+táj2!J15 -> 4000 | Q15: =SUM(G15:P15) -> 4000
D16: - egyszeri nevelési juttatás | E16: 2 | F16: 121115 | J16: =266+táj2!J16 -> 2266 | Q16: =SUM(G16:P16) -> 2266
D17: - szociális krízis alap | E17: 2 | F17: 121129 | J17: =3600+táj2!J17 -> 3600 | Q17: =SUM(G17:P17) -> 3600
D18: - tüzifa támogatás | E18: 2 | F18: 121106 | J18: =2400+táj2!J18 -> 3400 | Q18: =SUM(G18:P18) -> 3400
D19: 103010 Elhunyt személyek hátramaradottainak pénzbeli ellátása
D20: - temetési segély | E20: 2 | F20: 121131 | J20: =2000+táj2!J20 -> 2000 | Q20: =SUM(G20:P20) -> 2000
D21: 106020 Lakásfenntartással, lakhatással összefüggő ellátások
D22: - lakhatási krízis alap Lakásalapból | E22: 2 | F22: 121130 | J22: =1000+táj2!J22 -> 1000 | Q22: =SUM(G22:P22) -> 1000
D23: 107060 Egyéb szociális pénzbeli ellátások, támogatások
D24: - gyógyszertámogatás | E24: 1 | F24: 121204 | J24: =13000+táj2!J24 -> 10500 | Q24: =SUM(G24:P24) -> 10500
D25: - gyógyászati segédeszköz támogatás | E25: 1 | F25: 121132 | J25: =250+táj2!J25 -> 250 | Q25: =SUM(G25:P25) -> 250
D26: - köztemetés | E26: 1 | F26: 121203 | I26: =1400+táj2!I26 -> 1200 | J26: =4927+táj2!J26 -> 4627 | K26: =173+táj2!K26 -> 673 | Q26: =SUM(G26:P26) -> 6500
D27: 094260 Hallgatói és oktatói ösztöndíjak, egyéb juttatások
D28: - Bursa Hungarica ösztöndíj | E28: 2 | F28: 121504 | J28: =4000+táj2!J28 -> 4000 | Q28: =SUM(G28:P28) -> 4000
D29: 061030 Lakáshoz jutást segítő támogatások
D30: - lakásgazdálkodási feladatokra | E30: 1 | F30: 121403 | I30: =50+táj2!I30 -> 50 | Q30: =SUM(G30:P30) -> 50
D31: 104042 Család- és gyermekjóléti szolgálat
D32: - Családsegítő Szolgálathoz krízissegélyezés | E32: 1 | F32: 121301 | J32: =0+táj2!J32 -> 0 | Q32: =SUM(G32:P32) -> 0
D33: 011130 Önkorm. és önkorm. hivatal. jogalk. és ált.ig.tev.
D34: - Egerszegkártya | E34: 2 | F34: 221902 | I34: =40204+táj2!I34 -> 48404 | L34: =610+táj2!L34 -> 610 | Q34: =SUM(G34:P34) -> 49014
D35: - Nemzedékek kézfogása | E35: 2 | F35: 22190** | H35: =3900+táj2!H35 -> 3900 | I35: =800+táj2!I35 -> 1151 | J35: =17300+táj2!J35 -> 10949 | Q35: =SUM(G35:P35) -> 16000
D36: - bírtokvédelmi költség megelőlegezés | E36: 1 | F36: 121118 | I36: =300+táj2!I36 -> 300 | Q36: =SUM(G36:P36) -> 300
D37: - talált tárgyak felértékeltetése | E37: 1 | F37: 121515 | I37: =200+táj2!I37 -> 200 | Q37: =SUM(G37:P37) -> 200
D38: 032020 Tűz- és katasztrófavéd. tevékenység
D39: - helyi védelmi igazgatás | E39: 1 | F39: 121601 | G39: =150+táj2!G39 -> 150 | H39: =50+táj2!H39 -> 50 | I39: =200+táj2!I39 -> 200 | K39: =100+táj2!K39 -> 100 | Q39: =SUM(G39:P39) -> 500
D40: 109010 Szociális szolgáltatás igazgatása
...

Sheet 9
A1: Címszám | B1: Sorszám | C1: Megnevezés | D1: 2023. évi eredeti előirányzat | E1: Módosítás összege | F1: Költségvetési bevételek | M1: Finanszírozási bevételek | P1: 2023. évi módosított előirányzat
F2: Működési célú támogatások áht-n belülről | G2: Felhalmozási célú támogatások áht-n belülről | H2: Közhatalmi bevételek | I2: Működési bevételek | J2: Felhalmozási bevételek | K2: Működési célú átvett pénzeszközök | L2: Felhalmozási célú átvett pénzeszközök | M2: Maradvány igénybevétele | N2: Központi, irányító szervi támogatás | O2: Egyéb finanszírozási bevétel
A3: 2 | C3: Költségvetési szervek
B4: 1 | C4: Polgármesteri Hivatal | D4: 1839867 | E4: =72411+táj3!N4 -> 84493 | F4: =2848+táj3!D4 -> 5225 | G4: =0+táj3!E4 -> 0 | H4: =4425+táj3!F4 -> 5675 | I4: =25422+táj3!G4 -> 27135 | J4: =0+táj3!H4 -> 115 | K4: =0+táj3!I4 -> 0 | L4: =0+táj3!J4 -> 0 | M4: =184290+táj3!K4 -> 184290 | N4: =1695293+táj3!L4 -> 1701920 | O4: =0+táj3!M4 -> 0 | P4: =SUM(F4:O4) -> 1924360
B5: 2 | C5: Zalaegerszegi Gazdasági Ellátó Szervezet | D5: 1729082 | E5: =32741+táj3!N5 -> 6994 | F5: =382+táj3!D5 -> 382 | G5: =0+táj3!E5 -> 0 | H5: =0+táj3!F5 -> 0 | I5: =832508+táj3!G5 -> 832508 | J5: =0+táj3!H5 -> 0 | K5: =0+táj3!I5 -> 0 | L5: =0+táj3!J5 -> 0 | M5: =107756+táj3!K5 -> 107756 | N5: =821177+táj3!L5 -> 795430 | O5: =0+táj3!M5 -> 0 | P5: =SUM(F5:O5) -> 1736076
B6: 3 | C6: Zalaegerszegi Egyesített Bölcsődék | D6: 983620 | E6: =49841+táj3!N6 -> 44483 | F6: =3105+táj3!D6 -> 3105 | G6: =0+táj3!E6 -> 0 | H6: =0+táj3!F6 -> 0 | I6: =82468+táj3!G6 -> 82468 | J6: =0+táj3!H6 -> 0 | K6: =0+táj3!I6 -> 0 | L6: =0+táj3!J6 -> 0 | M6: =59819+táj3!K6 -> 59819 | N6: =888069+táj3!L6 -> 882711 | P6: =SUM(F6:O6) -> 1028103
B7: 4 | C7: Zalaegerszegi Egészségügyi Alapellátási Intézmény | D7: 563450 | E7: =86738+táj3!N7 -> 86738 | F7: =392805+táj3!D7 -> 392805 | G7: =0+táj3!E7 -> 0 | H7: =0+táj3!F7 -> 0 | I7: =1771+táj3!G7 -> 1771 | J7: =4055+táj3!H7 -> 4055 | K7: =0+táj3!I7 -> 0 | L7: =0+táj3!J7 -> 0 | M7: =111951+táj3!K7 -> 111951 | N7: =139606+táj3!L7 -> 139606 | O7: =0+táj3!M7 -> 0 | P7: =SUM(F7:O7) -> 650188
B8: 5 | C8: Zalaegerszegi Család- és Gyermekjóléti Központ | D8: 315370 | E8: =95102+táj3!N8 -> 104713 | F8: =0+táj3!D8 -> 0 | G8: =0+táj3!E8 -> 0 | H8: =0+táj3!F8 -> 0 | I8: =0+táj3!G8 -> 0 | J8: =0+táj3!H8 -> 0 | K8: =0+táj3!I8 -> 0 | L8: =0+táj3!J8 -> 0 | M8: =60470+táj3!K8 -> 60470 | N8: =350002+táj3!L8 -> 359613 | O8: =0+táj3!M8 -> 0 | P8: =SUM(F8:O8) -> 420083
B9: 6 | C9: Zalaegerszegi Belvárosi I. számú Óvoda | D9: 517654 | E9: =18563+táj3!N9 -> 19178 | F9: =736+táj3!D9 -> 886 | G9: =0+táj3!E9 -> 1050 | H9: =0+táj3!F9 -> 0 | I9: =22367+táj3!G9 -> 22367 | J9: =0+táj3!H9 -> 0 | K9: =0+táj3!I9 -> 0 | L9: =0+táj3!J9 -> 0 | M9: =28442+táj3!K9 -> 28442 | N9: =484672+táj3!L9 -> 484087 | O9: =0+táj3!M9 -> 0 | P9: =SUM(F9:O9) -> 536832
B10: 7 | C10: Zalaegerszegi Belvárosi II. számú Óvoda | D10: 454055 | E10: =7352+táj3!N10 -> 5385 | F10: =581+táj3!D10 -> 581 | G10: =0+táj3!E10 -> 0 | H10: =0+táj3!F10 -> 0 | I10: =31408+táj3!G10 -> 31408 | J10: =0+táj3!H10 -> 0 | K10: =0+táj3!I10 -> 0 | L10: =0+táj3!J10 -> 0 | M10: =37368+táj3!K10 -> 37368 | N10: =392050+táj3!L10 -> 390083 | O10: =0+táj3!M10 -> 0 | P10: =SUM(F10:O10) -> 459440
B11: 8 | C11: Zalaegerszegi Kertvárosi Óvoda | D11: 468522 | E11: =12631+táj3!N11 -> 11811 | F11: =395+táj3!D11 -> 395 | G11: =0+táj3!E11 -> 0 | H11: =0+táj3!F11 -> 0 | I11: =28763+táj3!G11 -> 28763 | J11: =0+táj3!H11 -> 0 | K11: =0+táj3!I11 -> 0 | L11: =0+táj3!J11 -> 0 | M11: =44330+táj3!K11 -> 44330 | N11: =407665+táj3!L11 -> 406845 | O11: =0+táj3!M11 -> 0 | P11: =SUM(F11:O11) -> 480333
B12: 9 | C12: Zalaegerszegi Landorhegyi Óvoda | D12: 451641 | E12: =4310+táj3!N12 -> -1582 | F12: =0+táj3!D12 -> 0 | G12: =1174+táj3!E12 -> 1174 | H12: =0+táj3!F12 -> 0 | I12: =22848+táj3!G12 -> 22848 | J12: =0+táj3!H12 -> 0 | K12: =0+táj3!I12 -> 0 | L12: =0+táj3!J12 -> 0 | M12: =28074+táj3!K12 -> 28074 | N12: =403855+táj3!L12 -> 397963 | O12: =0+táj3!M12 -> 0 | P12: =SUM(F12:O12) -> 450059
B13: 10 | C13: Közgyűjteményi és Közművelődési GESZ | D13: 70290 | E13: =5587+táj3!N13 -> 5587 | F13: =0+táj3!D13 -> 0 | G13: =0+táj3!E13 -> 0 | H13: =0+táj3!F13 -> 0 | I13: =1+táj3!G13 -> 1 | J13: =0+táj3!H13 -> 0 | K13: =0+táj3!I13 -> 0 | L13: =0+táj3!J13 -> 0 | M13: =1327+táj3!K13 -> 1327 | N13: =74549+táj3!L13 -> 74549 | O13: =0+táj3!M13 -> 0 | P13: =SUM(F13:O13) -> 75877
B14: 11 | C14: Keresztury Dezső Városi Művelődési Központ | D14: 460425 | E14: =73459+táj3!N14 -> 127954 | F14: =19410+táj3!D14 -> 28642 | G14: =700+táj3!E14 -> 2200 | H14: =0+táj3!F14 -> 0 | I14: =88618+táj3!G14 -> 128618 | J14: =394+táj3!H14 -> 394 | K14: =720+táj3!I14 -> 720 | L14: =0+táj3!J14 -> 0 | M14: =71173+táj3!K14 -> 71173 | N14: =352869+táj3!L14 -> 356632 | O14: =0+táj3!M14 -> 0 | P14: =SUM(F14:O14) -> 588379
B15: 12 | C15: Zalaegerszegi Turisztikai Hivatal és Információs Iroda | D15: 27153 | E15: =5284+táj3!N15 -> 6022 | F15: =3050+táj3!D15 -> 3048 | G15: =0+táj3!E15 -> 0 | H15: =0+táj3!F15 -> 0 | I15: =1500+táj3!G15 -> 2500 | J15: =0+táj3!H15 -> 0 | K15: =0+táj3!I15 -> 0 | L15: =0+táj3!J15 -> 0 | M15: =2490+táj3!K15 -> 2490 | N15: =25397+táj3!L15 -> 25137 | O15: =0+táj3!M15 -> 0 | P15: =SUM(F15:O15) -> 33175
B16: 13 | C16: Deák Ferenc Megyei és Városi Könyvtár | D16: 508408 | E16: =31082+táj3!N16 -> 21529 | F16: =22698+táj3!D16 -> 28179 | G16: =1261+táj3!E16 -> 1261 | H16: =0+táj3!F16 -> 0 | I16: =28000+táj3!G16 -> 28000 | J16: =0+táj3!H16 -> 0 | K16: =150+táj3!I16 -> 150 | L16: =0+táj3!J16 -> 0 | M16: =6326+táj3!K16 -> 6326 | N16: =481055+táj3!L16 -> 466021 | O16: =0+táj3!M16 -> 0 | P16: =SUM(F16:O16) -> 529937
B17: 14 | C17: Zalaegerszegi Múzeumok Igazgatósága | D17: 1064860 | E17: =54953+táj3!N17 -> 51049 | F17: =38658+táj3!D17 -> 47753 | G17: =48000+táj3!E17 -> 50000 | H17: =0+táj3!F17 -> 0 | I17: =389769+táj3!G17 -> 389769 | J17: =500+táj3!H17 -> 500 | K17: =1839+táj3!I17 -> 2057 | L17: =0+táj3!J17 -> 1424 | M17: =367289+táj3!K17 -> 367289 | N17: =273758+táj3!L17 -> 257117 | O17: =0+táj3!M17 -> 0 | P17: =SUM(F17:O17) -> 1115909
B18: 15 | C18: Hevesi Sándor Színház | D18: 930885 | E18: =272035+táj3!N18 -> 241888 | F18: =333500+táj3!D18 -> 317247 | G18: =55000+táj3!E18 -> 54253 | H18: =0+táj3!F18 -> 0 | I18: =257927+táj3!G18 -> 259927 | J18: =0+táj3!H18 -> 0 | K18: =0+táj3!I18 -> 0 | L18: =0+táj3!J18 -> 0 | M18: =3623+táj3!K18 -> 3623 | N18: =382870+táj3!L18 -> 367723 | O18: =170000+táj3!M18 -> 170000 | P18: =SUM(F18:O18) -> 1172773
B19: 16 | C19: Griff Bábszínház | D19: 182580 | E19: =64287+táj3!N19 -> 72287 | F19: =82663+táj3!D19 -> 86163 | G19: =0+táj3!E19 -> 0 | H19: =0+táj3!F19 -> 0 | I19: =40600+táj3!G19 -> 45100 | J19: =0+táj3!H19 -> 0 | K19: =0+táj3!I19 -> 0 | L19: =0+táj3!J19 -> 0 | M19: =33103+táj3!K19 -> 33103 | N19: =55501+táj3!L19 -> 55501 | O19: =35000+táj3!M19 -> 35000 | P19: =SUM(F19:O19) -> 254867
B20: 17 | C20: Városi Sportlétesítmény Gondnokság Intézménye | D20: 316953 | E20: =7476+táj3!N20 -> -91449 | F20: =118+táj3!D20 -> 118 | G20: =0+táj3!E20 -> 0 | H20: =0+táj3!F20 -> 0 | I20: =137847+táj3!G20 -> 102847 | J20: =0+táj3!H20 -> 0 | K20: =0+táj3!I20 -> 0 | L20: =0+táj3!J20 -> 0 | M20: =19913+táj3!K20 -> 19913 | N20: =166551+táj3!L20 -> 102626 | O20: =0+táj3!M20 -> 0 | P20: =SUM(F20:O20) -> 225504
B21: 18 | C21: Vásárcsarnok | D21: 177395 | E21: =-4804+táj3!N21 -> -3804 | F21: =0+táj3!D21 -> 0 | G21: =0+táj3!E21 -> 0 | H21: =0+táj3!F21 -> 0 | I21: =122909+táj3!G21 -> 123909 | J21: =0+táj3!H21 -> 0 | K21: =0+táj3!I21 -> 0 | L21: =0+táj3!J21 -> 0 | M21: =7019+táj3!K21 -> 7019 | N21: =42663+táj3!L21 -> 42663 | O21: =0+táj3!M21 -> 0 | P21: =SUM(F21:O21) -> 173591
B22: 19 | C22: Göcseji Tudásközpont - Zalaegerszegi Helyi Termék Piac | E22: =10037+táj3!N22 -> 10537 | F22: =0+táj3!D22 -> 500 | G22: =0+táj3!E22 -> 0 | H22: =0+táj3!F22 -> 0 | I22: =500+táj3!G22 -> 500 | J22: =0+táj3!H22 -> 0 | K22: =0+táj3!I22 -> 0 | L22: =0+táj3!J22 -> 0 | M22: =0+táj3!K22 -> 0 | N22: =9537+táj3!L22 -> 9537 | O22: =0+táj3!M22 -> 0 | P22: =SUM(F22:O22) -> 10537
C23: Összesen: | D23: =SUM(D4:D22) -> 11062210 | E23: =SUM(E4:E22) -> 803813 | F23: =SUM(F4:F22) -> 915029 | G23: =SUM(G4:G22) -> 109938 | H23: =SUM(H4:H22) -> 5675 | I23: =SUM(I4:I22) -> 2130439 | J23: =SUM(J4:J22) -> 5064 | K23: =SUM(K4:K22) -> 2927 | ... P23: =SUM(P4:P22) -> 11866023

Sheet 10
A1: Cím szám | B1: Sorszám | C1: Megnevezés | D1: 2023. évi eredeti előirányzat | E1: Módosítás összege | F1: Költségvetési kiadások | N1: Finanszírozási kiadások | O1: 2023. évi módosított előirányzat
F2: Személyi juttatások | G2: Munkaadókat terhelő járulékok és szociális hj.adó | H2: Dologi kiadások | I2: Ellátottak pénzbeli juttatásai | J2: Egyéb működési célú kiadások | K2: Beruházások | L2: Felújítások | M2: Egyéb felhalmo-zási célú kiadások
A3: 2 | C3: Költségvetési szervek
B4: 1 | C4: Polgármesteri Hivatal | D4: 1839867 | E4: =72411+táj4!M4 -> 84493 | F4: =1408602+táj4!D4 -> 1424173 | G4: =207028+táj4!E4 -> 210140 | H4: =231675+táj4!F4 -> 236074 | I4: =0+táj4!G4 -> 0 | J4: =0+táj4!H4 -> 0 | K4: =63495+táj4!I4 -> 50495 | L4: =1478+táj4!J4 -> 3478 | M4: =0+táj4!K4 -> 0 | N4: =0+táj4!L4 -> 0 | O4: =SUM(F4:N4) -> 1924360
B5: 2 | C5: Zalaegerszegi Gazdasági Ellátó Szervezet | D5: 1729082 | E5: =32741+táj4!M5 -> 6994 | F5: =166789+táj4!D5 -> 166789 | G5: =25853+táj4!E5 -> 25853 | H5: =1533832+táj4!F5 -> 1508085 | I5: =0+táj4!G5 -> 0 | J5: =23935+táj4!H5 -> 23935 | K5: =6634+táj4!I5 -> 6634 | L5: =4780+táj4!J5 -> 4780 | M5: =0+táj4!K5 -> 0 | N5: =0+táj4!L5 -> 0 | O5: =SUM(F5:N5) -> 1736076
B6: 3 | C6: Zalaegerszegi Egyesített Bölcsődék | D6: 983620 | E6: =49841+táj4!M6 -> 44483 | F6: =696731+táj4!D6 -> 701135 | G6: =103387+táj4!E6 -> 103959 | H6: =224576+táj4!F6 -> 214242 | I6: =0+táj4!G6 -> 0 | J6: =200+táj4!H6 -> 200 | K6: =4553+táj4!I6 -> 4553 | L6: =4014+táj4!J6 -> 4014 | M6: =0+táj4!K6 -> 0 | N6: =0+táj4!L6 -> 0 | O6: =SUM(F6:N6) -> 1028103
B7: 4 | C7: Zalaegerszegi Egészségügyi Alapellátási Intézmény | D7: 563450 | E7: =86738+táj4!M7 -> 86738 | F7: =372260+táj4!D7 -> 372260 | G7: =54825+táj4!E7 -> 54825 | H7: =220708+táj4!F7 -> 220708 | I7: =0+táj4!G7 -> 0 | J7: =0+táj4!H7 -> 0 | K7: =2395+táj4!I7 -> 2395 | L7: =0+táj4!J7 -> 0 | M7: =0+táj4!K7 -> 0 | N7: =0+táj4!L7 -> 0 | O7: =SUM(F7:N7) -> 650188
B8: 5 | C8: Zalaegerszegi Család- és Gyermekjóléti Központ | D8: 315370 | E8: =95102+táj4!M8 -> 104713 | F8: =310960+táj4!D8 -> 322146 | G8: =47387+táj4!E8 -> 48841 | H8: =37349+táj4!F8 -> 32820 | I8: =10936+táj4!G8 -> 10936 | J8: =240+táj4!H8 -> 240 | K8: =3000+táj4!I8 -> 3500 | L8: =600+táj4!J8 -> 1600 | M8: =0+táj4!K8 -> 0 | N8: =0+táj4!L8 -> 0 | O8: =SUM(F8:N8) -> 420083
B9: 6 | C9: Zalaegerszegi Belvárosi I. számú Óvoda | D9: 517654 | E9: =18563+táj4!M9 -> 19178 | F9: =351009+táj4!D9 -> 352812 | G9: =53584+táj4!E9 -> 53818 | H9: =128224+táj4!F9 -> 125752 | I9: =0+táj4!G9 -> 0 | J9: =150+táj4!H9 -> 150 | K9: =1500+táj4!I9 -> 2550 | L9: =1750+táj4!J9 -> 1750 | M9: =0+táj4!K9 -> 0 | N9: =0+táj4!L9 -> 0 | O9: =SUM(F9:N9) -> 536832
B10: 7 | C10: Zalaegerszegi Belvárosi II. számú Óvoda | D10: 454055 | E10: =7352+táj4!M10 -> 5385 | F10: =269316+táj4!D10 -> 270876 | G10: =41164+táj4!E10 -> 41367 | H10: =147216+táj4!F10 -> 142597 | I10: =0+táj4!G10 -> 0 | J10: =0+táj4!H10 -> 0 | K10: =1900+táj4!I10 -> 1675 | L10: =1811+táj4!J10 -> 2925 | M10: =0+táj4!K10 -> 0 | N10: =0+táj4!L10 -> 0 | O10: =SUM(F10:N10) -> 459440
B11: 8 | C11: Zalaegerszegi Kertvárosi Óvoda | D11: 468522 | E11: =12631+táj4!M11 -> 11811 | F11: =287508+táj4!D11 -> 289209 | G11: =43848+táj4!E11 -> 44069 | H11: =146297+táj4!F11 -> 142555 | I11: =0+táj4!G11 -> 0 | J11: =0+táj4!H11 -> 0 | K11: =3500+táj4!I11 -> 4500 | L11: =0+táj4!J11 -> 0 | M11: =0+táj4!K11 -> 0 | N11: =0+táj4!L11 -> 0 | O11: =SUM(F11:N11) -> 480333
B12: 9 | C12: Zalaegerszegi Landorhegyi Óvoda | D12: 451641 | E12: =4310+táj4!M12 -> -1582 | F12: =298853+táj4!D12 -> 300733 | G12: =45681+táj4!E12 -> 45926 | H12: =105891+táj4!F12 -> 97874 | I12: =0+táj4!G12 -> 0 | J12: =782+táj4!H12 -> 782 | K12: =1500+táj4!I12 -> 1500 | L12: =3244+táj4!J12 -> 3244 | M12: =0+táj4!K12 -> 0 | N12: =0+táj4!L12 -> 0 | O12: =SUM(F12:N12) -> 450059
B13: 10 | C13: Közgyűjteményi és Közművelődési GESZ | D13: 70290 | E13: =5587+táj4!M13 -> 5587 | F13: =64034+táj4!D13 -> 64034 | G13: =8692+táj4!E13 -> 8492 | H13: =2877+táj4!F13 -> 3077 | I13: =0+táj4!G13 -> 0 | J13: =0+táj4!H13 -> 0 | K13: =274+táj4!I13 -> 274 | L13: =0+táj4!J13 -> 0 | M13: =0+táj4!K13 -> 0 | N13: =0+táj4!L13 -> 0 | O13: =SUM(F13:N13) -> 75877
B14: 11 | C14: Keresztury Dezső Városi Művelődési Központ | D14: 460425 | E14: =73459+táj4!M14 -> 127954 | F14: =248952+táj4!D14 -> 254776 | G14: =32460+táj4!E14 -> 32568 | H14: =241512+táj4!F14 -> 278575 | I14: =0+táj4!G14 -> 0 | J14: =1481+táj4!H14 -> 11481 | K14: =7040+táj4!I14 -> 8540 | L14: =2439+táj4!J14 -> 2439 | M14: =0+táj4!K14 -> 0 | N14: =0+táj4!L14 -> 0 | O14: =SUM(F14:N14) -> 588379
B15: 12 | C15: Zalaegerszegi Turisztikai Hivatal és Információs Iroda | D15: 27153 | E15: =5284+táj4!M15 -> 6022 | F15: =21553+táj4!D15 -> 22051 | G15: =2867+táj4!E15 -> 2867 | H15: =7757+táj4!F15 -> 7797 | I15: =0+táj4!G15 -> 0 | J15: =0+táj4!H15 -> 0 | K15: =260+táj4!I15 -> 460 | L15: =0+táj4!J15 -> 0 | M15: =0+táj4!K15 -> 0 | N15: =0+táj4!L15 -> 0 | O15: =SUM(F15:N15) -> 33175
B16: 13 | C16: Deák Ferenc Megyei és Városi Könyvtár | D16: 508408 | E16: =31082+táj4!M16 -> 21529 | F16: =251106+táj4!D16 -> 251106 | G16: =33026+táj4!E16 -> 33026 | H16: =189430+táj4!F16 -> 179877 | I16: =0+táj4!G16 -> 0 | J16: =18667+táj4!H16 -> 18667 | K16: =47261+táj4!I16 -> 47261 | L16: =0+táj4!J16 -> 0 | M16: =0+táj4!K16 -> 0 | N16: =0+táj4!L16 -> 0 | O16: =SUM(F16:N16) -> 529937
B17: 14 | C17: Zalaegerszegi Múzeumok Igazgatósága | D17: 1064860 | E17: =54953+táj4!M17 -> 51049 | F17: =331983+táj4!D17 -> 335166 | G17: =47714+táj4!E17 -> 48126 | H17: =485584+táj4!F17 -> 474661 | I17: =0+táj4!G17 -> 0 | J17: =109281+táj4!H17 -> 109281 | K17: =30251+táj4!I17 -> 30092 | L17: =2000+táj4!J17 -> 5583 | M17: =113000+táj4!K17 -> 113000 | N17: =0+táj4!L17 -> 0 | O17: =SUM(F17:N17) -> 1115909
B18: 15 | C18: Hevesi Sándor Színház | D18: 930885 | E18: =272035+táj4!M18 -> 241888 | F18: =598937+táj4!D18 -> 616937 | G18: =84711+táj4!E18 -> 70711 | H18: =287656+táj4!F18 -> 254256 | I18: =0+táj4!G18 -> 0 | J18: =4616+táj4!H18 -> 4616 | K18: =57000+táj4!I18 -> 56253 | L18: =0+táj4!J18 -> 0 | M18: =0+táj4!K18 -> 0 | N18: =170000+táj4!L18 -> 170000 | O18: =SUM(F18:N18) -> 1172773
B19: 16 | C19: Griff Bábszínház | D19: 182580 | E19: =64287+táj4!M19 -> 72287 | F19: =89617+táj4!D19 -> 97276 | G19: =11409+táj4!E19 -> 10000 | H19: =92584+táj4!F19 -> 92834 | I19: =0+táj4!G19 -> 0 | J19: =1757+táj4!H19 -> 1757 | K19: =16500+táj4!I19 -> 18000 | L19: =0+táj4!J19 -> 0 | M19: =0+táj4!K19 -> 0 | N19: =35000+táj4!L19 -> 35000 | O19: =SUM(F19:N19) -> 254867
B20: 17 | C20: Városi Sportlétesítmény Gondnokság Intézménye | D20: 316953 | E20: =7476+táj4!M20 -> -91449 | F20: =94569+táj4!D20 -> 94069 | G20: =12866+táj4!E20 -> 13366 | H20: =215432+táj4!F20 -> 116507 | I20: =0+táj4!G20 -> 0 | J20: =0+táj4!H20 -> 0 | K20: =1562+táj4!I20 -> 1562 | L20: =0+táj4!J20 -> 0 | M20: =0+táj4!K20 -> 0 | N20: =0+táj4!L20 -> 0 | O20: =SUM(F20:N20) -> 225504
B21: 18 | C21: Vásárcsarnok | D21: 177395 | E21: =-4804+táj4!M21 -> -3804 | F21: =77524+táj4!D21 -> 78250 | G21: =10083+táj4!E21 -> 10357 | H21: =80894+táj4!F21 -> 80894 | I21: =0+táj4!G21 -> 0 | J21: =0+táj4!H21 -> 0 | K21: =4090+táj4!I21 -> 4090 | L21: =0+táj4!J21 -> 0 | M21: =0+táj4!K21 -> 0 | N21: =0+táj4!L21 -> 0 | O21: =SUM(F21:N21) -> 173591
B22: 19 | C22: Göcseji Tudásközpont - Zalaegerszegi Helyi Termék Piac | E22: =10037+táj4!M22 -> 10537 | F22: =3289+táj4!D22 -> 3289 | G22: =579+táj4!E22 -> 579 | H22: =4368+táj4!F22 -> 4868 | I22: =0+táj4!G22 -> 0 | J22: =0+táj4!H22 -> 0 | K22: =1801+táj4!I22 -> 1801 | L22: =0+táj4!J22 -> 0 | M22: =0+táj4!K22 -> 0 | N22: =0+táj4!L22 -> 0 | O22: =SUM(F22:N22) -> 10537
C23: Összesen: | D23: =SUM(D4:D22) -> 11062210 | E23: =SUM(E4:E22) -> 803813 | F23: =SUM(F4:F22) -> 6017087 | G23: =SUM(G4:G22) -> 858890 | H23: =SUM(H4:H22) -> 4214053 | I23: =SUM(I4:I22) -> 10936 | J23: =SUM(J4:J22) -> 171109 | K23: =SUM(K4:K22) -> 246135 | ... O23: =SUM(O4:O22) -> 11866023

Sheet táj1
A1: Cím szám | B1: Alcím szám | C1: Megnevezés | D1: Tervezési alapegység | E1: Költségvetési bevételek | L1: Finanszírozási bevételek | O1: Összesen:
E2: Működési célú támogatások áht-n belülről | F2: Felhalmozási célú támogatások áht-n belülről | G2: Közhatalmi bevételek | H2: Működési bevételek | I2: Felhalmozási bevételek | J2: Működési célú átvett pénzeszközök | K2: Felhalmozási célú átvett pénzeszközök | L2: Hitel-, kölcsönfelvétel áht-n kívülről | M2: Maradvány igénybevétele | N2: Egyéb finanszírozási bevétel
A3: 1 | C3: Önkormányzat
A4: 1 | B4: 1 | C4: Szakosztályok
A5: 1 | B5: 12 | C5: Szociális és igazgatási feladatok
C6: 011130 Önkorm. és önkorm. hivatal. jogalk. és ált.ig.tev.
C7: - Egerszeg kártya értékesítés | D7: 221 902 | O7: =SUM(H7:N7) -> 0
C8: Szociális és igazgatási feladatok összesen: | E8: =SUM(E5:E7) -> 0 | F8: =SUM(F5:F7) -> 0 | G8: =SUM(G5:G7) -> 0 | H8: =SUM(H5:H7) -> 0 | I8: =SUM(I5:I7) -> 0 | J8: =SUM(J5:J7) -> 0 | K8: =SUM(K5:K7) -> 0 | N8: =SUM(N7:N7) -> 0 | O8: =SUM(O7:O7) -> 0
A9: 1 | B9: 13 | C9: Humánigazgatási feladatok
C10: 072112 Háziorvosi ügyeleti ellátás
C11: - körzeti orvosi ügyelet fenntartásához községek hozzájárulása | D11: 131705 | O11: =SUM(E11:N11) -> 0
C12: 072311 Fogorvosi alapellátás
C13: - II. számú vegyes fogorvosi körzet finanszírozása | D13: 131718 | E13: 150 | O13: =SUM(E13:N13) -> 150
C14: 101211 Fogyatékossággal élők tartós bentlakásos ellátása
C15: - Református Egyház által fizetendő bérleti díj | D15: 131703 | O15: =SUM(E15:N15) -> 0
C16: - Idősek Otthona emelt szintű ellátáshoz egyszeri hozzájárulás | D16: 121319 | O16: =SUM(E16:N16) -> 0
C17: 013350 Önk-i vagyonnal való gazdálkodáshoz kapcs.fa.
C18: - Andráshidai mini bölcsőde építése RRF-1.1.2-21-2022-00019 | D18: 132937 | O18: =SUM(E18:N18) -> 0
C19: 018030 Támogatási célú finanszírozási műveletek
C20: - Hevesi Sándor Színház társműködtetöi támogatás | D20: 131508 | O20: =SUM(E20:N20) -> 0
C21: - Griff Bábszínház társműködtetöi támogatás | D21: 131509 | O21: =SUM(E21:N21) -> 0
C22: 081030 Sportlétes., edzőtáborok működtetése és fejlesztése
C23: - Sportcsarnok és környéke igénybevétel miatti kiadás | D23: 131827 | O23: =SUM(E23:N23) -> 0
C24: - Zalaegerszegi Sport és Tanuszoda műk. támogatása a Honvédelmi Minisztériumtól | D24: 191801 | O24: =SUM(E24:N24) -> 0
C25: - Zalaegerszegi Élménypark Kft. működési támogatása | D25: 221966 | J25: 9221 | O25: =SUM(E25:N25) -> 9221
C26: 082091 Közművelődés - közösségi és társ. részvétel fejleszt.
C27: - Zalaegerszegi Rendezvényszervező Kft. működési támogatásból visszafizetés | D27: 131313 | O27: =SUM(E27:N27) -> 0
C28: - Kapiller Imre emléktábla | D28: 132944 | O28: =SUM(E28:N28) -> 0
C29: - Egerszegi adventhez befizetés | D29: 131329 | H29: 700 | J29: 3200 | O29: =SUM(E29:N29) -> 3900
C30: Humánigazgatási feladatok összesen: | E30: =SUM(E11:E29) -> 150 | F30: =SUM(F11:F29) -> 0 | G30: =SUM(G11:G29) -> 0 | H30: =SUM(H11:H29) -> 700 | I30: =SUM(I11:I29) -> 0 | J30: =SUM(J11:J29) -> 12421 | K30: =SUM(K11:K29) -> 0 | L30: =SUM(L11:L29) -> 0 | ... O30: =SUM(O11:O29) -> 13271
A31: 1 | B31: 14 | C31: Főépítészi feladatok
C32: 013350 Önk-i vagyonnal való gazdálkodáshoz kapcs.fa.
C33: - belterületbe vonással kapcsolatos bevétel | D33: 171967 | O33: =SUM(E33:N33) -> 0
C34: - Helyi építészeti értékek védelme | D34: 164903 | O34: =SUM(E34:N34) -> 0
C35: Főépítészi feladatok összesen: | H35: =SUM(H33:H34) -> 0 | I35: =SUM(I33:I34) -> 0 | J35: =SUM(J33:J34) -> 0 | K35: =SUM(K33:K34) -> 0 | L35: =SUM(L33:L34) -> 0 | M35: =SUM(M33:M34) -> 0 | N35: =SUM(N33:N34) -> 0 | O35: =SUM(O33:O34) -> 0
A36: 1 | B36: 15 | C36: Városüzemelési feladatok
C37: 081061 Szabadidős park, fürdő és strandszolgáltatás
C38: - Gébárti fürdő lét. üzemelt. (Termál és Tóstrand) | D38: 151906 | H38: 11035 | O38: =SUM(E38:N38) -> 11035
C39: - Aquapark üzemeltetés | D39: 151 907 | H39: 43143 | O39: =SUM(E39:N39) -> 43143
C40: - ZG3 kút üzemeltetése | D40: 151 915 | O40: =SUM(E40:N40) -> 0
...

Sheet táj2
A1: Cím szám | B1: Alcím szám | C1: Sorszám | D1: Megnevezés | E1: feladat jellege | F1: Tervezési alapegység | G1: Költségvetési kiadások | O1: Finanszírozási kiadások | Q1: Kiadás összesen | R1: Módosítás hatáskör szerint
G2: Személyi juttatások | H2: Munkaadókat terhelő járulékok és szociális hj.adó | I2: Dologi kiadások | J2: Ellátottak pénzbeli juttatásai | K2: Egyéb működési célú kiadások | L2: Beruházások | M2: Felújítások | N2: Egyéb felhalmo-zási célú kiadások | O2: Hitel-, kölcsöntör-lesztés áht-n kívülre | P2: Egyéb finanszírozási kiadás
A3: 1 | D3: Önkormányzat
A4: 1 | B4: 1 | D4: Szakosztályok
A5: 1 | B5: 12 | D5: Szociális és igazgatási feladatok
D6: 105010 Munkanélküli aktív korúak ellátásai
D7: - megélhetési támogatás | E7: 2 | F7: 121103 | Q7: =SUM(G7:P7) -> 0
D8: 106020 Lakásfenntartással, lakhatással összefüggő ellátások
D9: - lakásfenntartási segély | E9: 2 | F9: 121104 | J9: -2700 | Q9: =SUM(G9:P9) -> -2700 | R9: kgy
D10: - önkormányzati bérlakásban élők lakásfenntartási segélye Lakásalapból | E10: 2 | F10: 121117 | Q10: =SUM(G10:P10) -> 0
D11: - gázártámogatás | E11: 2 | F11: 121202 | Q11: =SUM(G11:P11) -> 0
D12: - villamosenergia támogatás | E12: 2 | F12: 121205 | Q12: =SUM(G12:P12) -> 0
D13: 107060 Egyéb szociális pénzbeli ellátások, támogatások
D14: - gyermekétkeztetési támogatás | E14: 2 | F14: 121111 | Q14: =SUM(G14:P14) -> 0
D15: - átmeneti segély | E15: 2 | F15: 121127 | Q15: =SUM(G15:P15) -> 0
D16: - egyszeri nevelési juttatás | E16: 2 | F16: 121115 | J16: 2000 | Q16: =SUM(G16:P16) -> 2000 | R16: kgy
D17: - szociális krízis alap | E17: 2 | F17: 121129 | Q17: =SUM(G17:P17) -> 0
D18: - tüzifa támogatás | E18: 2 | F18: 121106 | J18: 1000 | Q18: =SUM(G18:P18) -> 1000 | R18: kgy
D19: 103010 Elhunyt személyek hátramaradottainak pénzbeli ellátása
D20: - temetési segély | E20: 2 | F20: 121131 | Q20: =SUM(G20:P20) -> 0
D21: 106020 Lakásfenntartással, lakhatással összefüggő ellátások
D22: - lakhatási krízis alap Lakásalapból | E22: 2 | F22: 121130 | Q22: =SUM(G22:P22) -> 0
D23: 107060 Egyéb szociális pénzbeli ellátások, támogatások
D24: - gyógyszertámogatás | E24: 1 | F24: 121204 | J24: -2500 | Q24: =SUM(G24:P24) -> -2500 | R24: kgy
D25: - gyógyászati segédeszköz támogatás | E25: 1 | F25: 121132 | Q25: =SUM(G25:P25) -> 0
D26: - köztemetés | E26: 1 | F26: 121203 | I26: -200 | J26: -300 | K26: 500 | Q26: =SUM(G26:P26) -> 0 | R26: kgy
D27: 094260 Hallgatói és oktatói ösztöndíjak, egyéb juttatások
D28: - Bursa Hungarica ösztöndíj | E28: 2 | F28: 121504 | Q28: =SUM(G28:P28) -> 0
D29: 061030 Lakáshoz jutást segítő támogatások
D30: - lakásgazdálkodási feladatokra | E30: 1 | F30: 121403 | Q30: =SUM(G30:P30) -> 0
D31: 104042 Család- és gyermekjóléti szolgálat
D32: - Családsegítő Szolgálathoz krízissegélyezés | E32: 1 | F32: 121301 | Q32: =SUM(G32:P32) -> 0
D33: 011130 Önkorm. és önkorm. hivatal. jogalk. és ált.ig.tev.
D34: - Egerszegkártya | E34: 2 | F34: 221902 | I34: 8200 | Q34: =SUM(G34:P34) -> 8200 | R34: kgy
D35: - Nemzedékek kézfogása | E35: 2 | F35: 22190** | I35: 351 | J35: -6351 | Q35: =SUM(G35:P35) -> -6000 | R35: kgy
D36: - bírtokvédelmi költség megelőlegezés | E36: 1 | F36: 121118 | Q36: =SUM(G36:P36) -> 0
D37: - talált tárgyak felértékeltetése | E37: 1 | F37: 121515 | Q37: =SUM(G37:P37) -> 0
D38: 032020 Tűz- és katasztrófavéd. tevékenység
D39: - helyi védelmi igazgatás | E39: 1 | F39: 121601 | Q39: =SUM(G39:P39) -> 0
D40: 109010 Szociális szolgáltatás igazgatása
...

Sheet táj3
A1: Címszám | B1: Sorszám | C1: Megnevezés | D1: Költségvetési bevételek | K1: Finanszírozási bevételek | N1: Bevételek összesen
D2: Működési célú támogatások áht-n belülről | E2: Felhalmozási célú támogatások áht-n belülről | F2: Közhatalmi bevételek | G2: Működési bevételek | H2: Felhalmozási bevételek | I2: Működési célú átvett pénzeszközök | J2: Felhalmozási célú átvett pénzeszközök | K2: Maradvány igénybevétele | L2: Központi, irányító szervi támogatás | M2: Egyéb finanszírozási bevétel
A3: 2 | C3: Költségvetési szervek
B4: 1 | C4: Polgármesteri Hivatal | D4: 2377 | F4: 1250 | G4: 1713 | H4: 115 | L4: 6627 | N4: =SUM(D4:M4) -> 12082
B5: 2 | C5: Zalaegerszegi Gazdasági Ellátó Szervezet | L5: -25747 | N5: =SUM(D5:M5) -> -25747
B6: 3 | C6: Zalaegerszegi Egyesített Bölcsődék | L6: -5358 | N6: =SUM(D6:M6) -> -5358
B7: 4 | C7: Zalaegerszegi Egészségügyi Alapellátási Intézmény | N7: =SUM(D7:M7) -> 0
B8: 5 | C8: Zalaegerszegi Család- és Gyermekjóléti Központ | L8: 9611 | N8: =SUM(D8:M8) -> 9611
B9: 6 | C9: Zalaegerszegi Belvárosi I. számú Óvoda | D9: 150 | E9: 1050 | L9: -585 | N9: =SUM(D9:M9) -> 615
B10: 7 | C10: Zalaegerszegi Belvárosi II. számú Óvoda | L10: -1967 | N10: =SUM(D10:M10) -> -1967
B11: 8 | C11: Zalaegerszegi Kertvárosi Óvoda | L11: -820 | N11: =SUM(D11:M11) -> -820
B12: 9 | C12: Zalaegerszegi Landorhegyi Óvoda | L12: -5892 | N12: =SUM(D12:M12) -> -5892
B13: 10 | C13: Közgyűjteményi és Közművelődési GESZ | N13: =SUM(D13:M13) -> 0
B14: 11 | C14: Keresztury Dezső Városi Művelődési Központ | D14: 9232 | E14: 1500 | G14: 40000 | L14: 3763 | N14: =SUM(D14:M14) -> 54495
B15: 12 | C15: Zalaegerszegi Turisztikai Hivatal és Információs Iroda | D15: -2 | G15: 1000 | L15: -260 | N15: =SUM(D15:M15) -> 738
B16: 13 | C16: Deák Ferenc Megyei és Városi Könyvtár | D16: 5481 | L16: -15034 | N16: =SUM(D16:M16) -> -9553
