Workbook

Sheet Nagypáli
A1: Gördülő fejlesztési terv a 2019 - 2033 időszakra
A2: BERUHÁZÁSOK ÖSSZEFOGLALÓ TÁBLÁZATA
A3: A tervet benyújtó szervezet megnevezése: | K3: NAGYPÁLI | R3: ellátásért felelős / ellátásért felelősök képviselője / víziközmű-szolgáltató *
A4: Víziközmű-szolgáltató megnevezése: | K4: ÉSZAK ZALAI VÍZ- ÉS CSATORNAMŰ ZÁRTKÖRŰEN MŰKÖDŐ RÉSZVÉNYTÁRSASÁG
A5: Víziközmű-szolgáltatási ágazat megnevezése: | K5: IVÓVÍZ ÁGAZAT
A6: Véleményeltérést megfogalmazó érintett fél megnevezése:
A7: Víziközmű-rendszer kódja: ** | K7: 11-32054-1-025-01-14 | R7: Zalaegerszeg-IV
A8: I. Felszín alatti vízkivétel
A9: Fontossági sorrend | B9: Felujítás és pótlás megnevezése | E9: Műszaki állapot felmérés, szükségességi indoklás | H9: Vízjogi létesítési/elvi engedély száma | I9: Az érintett ellátásért felelős(ök) megnevezése | J9: Tervezett nettó költség | K9: Forrás 2019 évre | L9: Megvalósítás időtartama | N9: Tervezett időtáv | O9: A beruházás ütemezése a tervezési időszak évei szerint
E10: Jelenlegi műszaki állapot | F10: Feladat szükségessége | G10: Megvalósítást követő várható műszaki állapot | J10: (eFt) | L10: Kezdés | M10: Befejezés | N10: (rövid / közép / hosszú) | O10: 1 | P10: 2 | Q10: 3 | R10: 4 | S10: 5 | T10: 6 | U10: 7 | V10: 8 | W10: 9 | X10: 10 | Y10: 11 | Z10: 12 | AA10: 13 | AB10: 14 | AC10: 15
B11: szakág | C11: Helyszín | D11: beruházás megnevezése
B13: MÉLYFÚRÁSÚ KÚT, HAGYOMÁNYOS ÁTMÉRŐVEL
B14: Épület, építmény
B16: Gép, berendezés
B18: Irányítástechnika, energiaellátás
B20: Összesen: | J20: =SUM(J12:J19) -> 0
A22: III. Vízműtelep és vízkezelő létesítmények
C23: Helyszín | D23: beruházás megnevezése
B24: VÍZMŰTELEP
B25: Épület, építmény
B27: Gép, berendezés
B29: Irányítástechnika, energiaellátás
B31: VÍZKEZELŐ LÉTESÍTMÉNYEK
B32: Épület, építmény
B34: Gép, berendezés
B36: Irányítástechnika, energiaellátás
B38: Összesen | J38: =SUM(J24:J37) -> 0
A40: IV. Vízelosztás
C41: Helyszín | D41: beruházás megnevezése
B42: IVÓVÍZHÁLÓZAT
B43: Épület, építmény
B45: Gép, berendezés
B47: Irányítástechnika, energiaellátás
B49: VÍZTÁROLÓK
B50: Épület, építmény
B52: Gép, berendezés
B54: Irányítástechnika, energiaellátás
B56: NYOMÁSFOKOZÓK
B57: Épület, építmény
B59: Gép, berendezés
B61: Irányítástechnika, energiaellátás
B63: Összesen: | J63: =SUM(J42:J62) -> 0 | K63: 0 | O63: =SUM(O11:O62) -> 0 | P63: =SUM(P11:P62) -> 0 | Q63: =SUM(Q11:Q62) -> 0 | R63: =SUM(R11:R62) -> 0 | S63: =SUM(S11:S62) -> 0 | T63: =SUM(T11:T62) -> 0 | U63: =SUM(U11:U62) -> 0 | V63: =SUM(V11:V62) -> 0 | ... AC63: =SUM(AC11:AC62) -> 0
B66: Rendelkezésre álló források megnevezése | C66: Rendelkezésre álló források számszerűsített értéke a teljes ütem tekintetében (eFt)
A67: I. ütem | B67: Fejlesztési díj (2019) | C67: =K63 -> 0
A68: II. ütem | B68: Fejlesztési díj (2020-2023) | C68: =C67*4 -> 0
A69: III. ütem | B69: Fejlesztési díj (2024-2033) | C69: =C67*10 -> 0
B72: Jelenleg beruházási igény nem ismert, nincs rendelkezésre álló forrás beruházásra.

Sheet Csonkahegyhát
A1: Gördülő fejlesztési terv a 2019 - 2033 időszakra
A2: BERUHÁZÁSOK ÖSSZEFOGLALÓ TÁBLÁZATA
A3: A tervet benyújtó szervezet megnevezése: | K3: CSONKAHEGYHÁT | R3: ellátásért felelős / ellátásért felelősök képviselője / víziközmű-szolgáltató *
A4: Víziközmű-szolgáltató megnevezése: | K4: ÉSZAK ZALAI VÍZ- ÉS CSATORNAMŰ ZÁRTKÖRŰEN MŰKÖDŐ RÉSZVÉNYTÁRSASÁG
A5: Víziközmű-szolgáltatási ágazat megnevezése: | K5: IVÓVÍZ ÁGAZAT
A6: Véleményeltérést megfogalmazó érintett fél megnevezése:
A7: Víziközmű-rendszer kódja: ** | K7: 11-32054-1-025-01-14 | R7: Zalaegerszeg-IV
A8: I. Felszín alatti vízkivétel
A9: Fontossági sorrend | B9: Felujítás és pótlás megnevezése | E9: Műszaki állapot felmérés, szükségességi indoklás | H9: Vízjogi létesítési/elvi engedély száma | I9: Az érintett ellátásért felelős(ök) megnevezése | J9: Tervezett nettó költség | K9: Forrás 2019 évre | L9: Megvalósítás időtartama | N9: Tervezett időtáv | O9: A beruházás ütemezése a tervezési időszak évei szerint
E10: Jelenlegi műszaki állapot | F10: Feladat szükségessége | G10: Megvalósítást követő várható műszaki állapot | J10: (eFt) | L10: Kezdés | M10: Befejezés | N10: (rövid / közép / hosszú) | O10: 1 | P10: 2 | Q10: 3 | R10: 4 | S10: 5 | T10: 6 | U10: 7 | V10: 8 | W10: 9 | X10: 10 | Y10: 11 | Z10: 12 | AA10: 13 | AB10: 14 | AC10: 15
B11: szakág | C11: Helyszín | D11: beruházás megnevezése
B13: MÉLYFÚRÁSÚ KÚT, HAGYOMÁNYOS ÁTMÉRŐVEL
B14: Épület, építmény
B16: Gép, berendezés
B18: Irányítástechnika, energiaellátás
B20: Összesen: | J20: =SUM(J12:J19) -> 0
A22: III. Vízműtelep és vízkezelő létesítmények
C23: Helyszín | D23: beruházás megnevezése
B24: VÍZMŰTELEP
B25: Épület, építmény
B27: Gép, berendezés
B29: Irányítástechnika, energiaellátás
B31: VÍZKEZELŐ LÉTESÍTMÉNYEK
B32: Épület, építmény
B34: Gép, berendezés
B36: Irányítástechnika, energiaellátás
B38: Összesen | J38: =SUM(J24:J37) -> 0
A40: IV. Vízelosztás
C41: Helyszín | D41: beruházás megnevezése
B42: IVÓVÍZHÁLÓZAT
B43: Épület, építmény
B45: Gép, berendezés
B47: Irányítástechnika, energiaellátás
B49: VÍZTÁROLÓK
B50: Épület, építmény
B52: Gép, berendezés
B54: Irányítástechnika, energiaellátás
B56: NYOMÁSFOKOZÓK
B57: Épület, építmény
B59: Gép, berendezés
B61: Irányítástechnika, energiaellátás
B63: Összesen: | J63: =SUM(J42:J62) -> 0 | K63: 0 | O63: =SUM(O11:O62) -> 0 | P63: =SUM(P11:P62) -> 0 | Q63: =SUM(Q11:Q62) -> 0 | R63: =SUM(R11:R62) -> 0 | S63: =SUM(S11:S62) -> 0 | T63: =SUM(T11:T62) -> 0 | U63: =SUM(U11:U62) -> 0 | V63: =SUM(V11:V62) -> 0 | ... AC63: =SUM(AC11:AC62) -> 0
B66: Rendelkezésre álló források megnevezése | C66: Rendelkezésre álló források számszerűsített értéke a teljes ütem tekintetében (eFt)
A67: I. ütem | B67: Fejlesztési díj (2019) | C67: =K63 -> 0
A68: II. ütem | B68: Fejlesztési díj (2020-2023) | C68: =C67*4 -> 0
A69: III. ütem | B69: Fejlesztési díj (2024-2033) | C69: =C67*10 -> 0

Sheet Dobronhegy
A1: Gördülő fejlesztési terv a 2019 - 2033 időszakra
A2: BERUHÁZÁSOK ÖSSZEFOGLALÓ TÁBLÁZATA
A3: A tervet benyújtó szervezet megnevezése: | K3: DOBRONHEGY | R3: ellátásért felelős / ellátásért felelősök képviselője / víziközmű-szolgáltató *
A4: Víziközmű-szolgáltató megnevezése: | K4: ÉSZAK ZALAI VÍZ- ÉS CSATORNAMŰ ZÁRTKÖRŰEN MŰKÖDŐ RÉSZVÉNYTÁRSASÁG
A5: Víziközmű-szolgáltatási ágazat megnevezése: | K5: IVÓVÍZ ÁGAZAT
A6: Véleményeltérést megfogalmazó érintett fél megnevezése:
A7: Víziközmű-rendszer kódja: ** | K7: 11-32054-1-025-01-14 | R7: Zalaegerszeg-IV
A8: I. Felszín alatti vízkivétel
A9: Fontossági sorrend | B9: Felujítás és pótlás megnevezése | E9: Műszaki állapot felmérés, szükségességi indoklás | H9: Vízjogi létesítési/elvi engedély száma | I9: Az érintett ellátásért felelős(ök) megnevezése | J9: Tervezett nettó költség | K9: Forrás 2019 évre | L9: Megvalósítás időtartama | N9: Tervezett időtáv | O9: A beruházás ütemezése a tervezési időszak évei szerint
E10: Jelenlegi műszaki állapot | F10: Feladat szükségessége | G10: Megvalósítást követő várható műszaki állapot | J10: (eFt) | L10: Kezdés | M10: Befejezés | N10: (rövid / közép / hosszú) | O10: 1 | P10: 2 | Q10: 3 | R10: 4 | S10: 5 | T10: 6 | U10: 7 | V10: 8 | W10: 9 | X10: 10 | Y10: 11 | Z10: 12 | AA10: 13 | AB10: 14 | AC10: 15
B11: szakág | C11: Helyszín | D11: beruházás megnevezése
B13: MÉLYFÚRÁSÚ KÚT, HAGYOMÁNYOS ÁTMÉRŐVEL
B14: Épület, építmény
B16: Gép, berendezés
B18: Irányítástechnika, energiaellátás
B20: Összesen: | J20: =SUM(J12:J19) -> 0
A22: III. Vízműtelep és vízkezelő létesítmények
C23: Helyszín | D23: beruházás megnevezése
B24: VÍZMŰTELEP
B25: Épület, építmény
B27: Gép, berendezés
B29: Irányítástechnika, energiaellátás
B31: VÍZKEZELŐ LÉTESÍTMÉNYEK
B32: Épület, építmény
B34: Gép, berendezés
B36: Irányítástechnika, energiaellátás
B38: Összesen | J38: =SUM(J24:J37) -> 0
A40: IV. Vízelosztás
C41: Helyszín | D41: beruházás megnevezése
B42: IVÓVÍZHÁLÓZAT
B43: Épület, építmény
B45: Gép, berendezés
B47: Irányítástechnika, energiaellátás
B49: VÍZTÁROLÓK
B50: Épület, építmény
B52: Gép, berendezés
B54: Irányítástechnika, energiaellátás
B56: NYOMÁSFOKOZÓK
B57: Épület, építmény
B59: Gép, berendezés
B61: Irányítástechnika, energiaellátás
B63: Összesen: | J63: =SUM(J42:J62) -> 0 | K63: 0 | O63: =SUM(O12:O62) -> 0 | P63: =SUM(P12:P62) -> 0 | Q63: =SUM(Q12:Q62) -> 0 | R63: =SUM(R12:R62) -> 0 | S63: =SUM(S12:S62) -> 0 | T63: =SUM(T12:T62) -> 0 | U63: =SUM(U12:U62) -> 0 | V63: =SUM(V12:V62) -> 0 | ... AC63: =SUM(AC12:AC62) -> 0
B66: Rendelkezésre álló források megnevezése | C66: Rendelkezésre álló források számszerűsített értéke a teljes ütem tekintetében (eFt)
A67: I. ütem | B67: Fejlesztési díj (2019) | C67: =K63 -> 0
A68: II. ütem | B68: Fejlesztési díj (2020-2023) | C68: =C67*4 -> 0
A69: III. ütem | B69: Fejlesztési díj (2024-2033) | C69: =C67*10 -> 0

Sheet Milejszeg
A1: Gördülő fejlesztési terv a 2019 - 2033 időszakra
A2: BERUHÁZÁSOK ÖSSZEFOGLALÓ TÁBLÁZATA
A3: A tervet benyújtó szervezet megnevezése: | K3: MILEJSZEG | R3: ellátásért felelős / ellátásért felelősök képviselője / víziközmű-szolgáltató *
A4: Víziközmű-szolgáltató megnevezése: | K4: ÉSZAK ZALAI VÍZ- ÉS CSATORNAMŰ ZÁRTKÖRŰEN MŰKÖDŐ RÉSZVÉNYTÁRSASÁG
A5: Víziközmű-szolgáltatási ágazat megnevezése: | K5: IVÓVÍZ ÁGAZAT
A6: Véleményeltérést megfogalmazó érintett fél megnevezése:
A7: Víziközmű-rendszer kódja: ** | K7: 11-32054-1-025-01-14 | R7: Zalaegerszeg-IV
A8: I. Felszín alatti vízkivétel
A9: Fontossági sorrend | B9: Felujítás és pótlás megnevezése | E9: Műszaki állapot felmérés, szükségességi indoklás | H9: Vízjogi létesítési/elvi engedély száma | I9: Az érintett ellátásért felelős(ök) megnevezése | J9: Tervezett nettó költség | K9: Forrás 2019 évre | L9: Megvalósítás időtartama | N9: Tervezett időtáv | O9: A beruházás ütemezése a tervezési időszak évei szerint
E10: Jelenlegi műszaki állapot | F10: Feladat szükségessége | G10: Megvalósítást követő várható műszaki állapot | J10: (eFt) | L10: Kezdés | M10: Befejezés | N10: (rövid / közép / hosszú) | O10: 1 | P10: 2 | Q10: 3 | R10: 4 | S10: 5 | T10: 6 | U10: 7 | V10: 8 | W10: 9 | X10: 10 | Y10: 11 | Z10: 12 | AA10: 13 | AB10: 14 | AC10: 15
B11: szakág | C11: Helyszín | D11: beruházás megnevezése
B13: MÉLYFÚRÁSÚ KÚT, HAGYOMÁNYOS ÁTMÉRŐVEL
B14: Épület, építmény
B16: Gép, berendezés
B18: Irányítástechnika, energiaellátás
B20: Összesen: | J20: =SUM(J12:J19) -> 0
A22: III. Vízműtelep és vízkezelő létesítmények
C23: Helyszín | D23: beruházás megnevezése
B24: VÍZMŰTELEP
B25: Épület, építmény
B27: Gép, berendezés
B29: Irányítástechnika, energiaellátás
B31: VÍZKEZELŐ LÉTESÍTMÉNYEK
B32: Épület, építmény
B34: Gép, berendezés
B36: Irányítástechnika, energiaellátás
B38: Összesen | J38: =SUM(J24:J37) -> 0
A40: IV. Vízelosztás
C41: Helyszín | D41: beruházás megnevezése
B42: IVÓVÍZHÁLÓZAT
B43: Épület, építmény
B45: Gép, berendezés
B47: Irányítástechnika, energiaellátás
B49: VÍZTÁROLÓK
B50: Épület, építmény
B52: Gép, berendezés
B54: Irányítástechnika, energiaellátás
B56: NYOMÁSFOKOZÓK
B57: Épület, építmény
B59: Gép, berendezés
B61: Irányítástechnika, energiaellátás
B63: Összesen: | J63: =SUM(J42:J62) -> 0 | K63: 0 | O63: =SUM(O12:O62) -> 0 | P63: =SUM(P12:P62) -> 0 | Q63: =SUM(Q12:Q62) -> 0 | R63: =SUM(R12:R62) -> 0 | S63: =SUM(S12:S62) -> 0 | T63: =SUM(T12:T62) -> 0 | U63: =SUM(U12:U62) -> 0 | V63: =SUM(V12:V62) -> 0 | ... AC63: =SUM(AC12:AC62) -> 0
B66: Rendelkezésre álló források megnevezése | C66: Rendelkezésre álló források számszerűsített értéke a teljes ütem tekintetében (eFt)
A67: I. ütem | B67: Fejlesztési díj (2019) | C67: =K63 -> 0
A68: II. ütem | B68: Fejlesztési díj (2020-2023) | C68: =C67*4 -> 0
A69: III. ütem | B69: Fejlesztési díj (2024-2033) | C69: =C67*10 -> 0

Sheet Németfalu
A1: Gördülő fejlesztési terv a 2019 - 2033 időszakra
A2: BERUHÁZÁSOK ÖSSZEFOGLALÓ TÁBLÁZATA
A3: A tervet benyújtó szervezet megnevezése: | K3: NÉMETFALU | R3: ellátásért felelős / ellátásért felelősök képviselője / víziközmű-szolgáltató *
A4: Víziközmű-szolgáltató megnevezése: | K4: ÉSZAK ZALAI VÍZ- ÉS CSATORNAMŰ ZÁRTKÖRŰEN MŰKÖDŐ RÉSZVÉNYTÁRSASÁG
A5: Víziközmű-szolgáltatási ágazat megnevezése: | K5: IVÓVÍZ ÁGAZAT
A6: Véleményeltérést megfogalmazó érintett fél megnevezése:
A7: Víziközmű-rendszer kódja: ** | K7: 11-32054-1-025-01-14 | R7: Zalaegerszeg-IV
A8: I. Felszín alatti vízkivétel
A9: Fontossági sorrend | B9: Felujítás és pótlás megnevezése | E9: Műszaki állapot felmérés, szükségességi indoklás | H9: Vízjogi létesítési/elvi engedély száma | I9: Az érintett ellátásért felelős(ök) megnevezése | J9: Tervezett nettó költség | K9: Forrás 2019 évre | L9: Megvalósítás időtartama | N9: Tervezett időtáv | O9: A beruházás ütemezése a tervezési időszak évei szerint
E10: Jelenlegi műszaki állapot | F10: Feladat szükségessége | G10: Megvalósítást követő várható műszaki állapot | J10: (eFt) | L10: Kezdés | M10: Befejezés | N10: (rövid / közép / hosszú) | O10: 1 | P10: 2 | Q10: 3 | R10: 4 | S10: 5 | T10: 6 | U10: 7 | V10: 8 | W10: 9 | X10: 10 | Y10: 11 | Z10: 12 | AA10: 13 | AB10: 14 | AC10: 15
B11: szakág | C11: Helyszín | D11: beruházás megnevezése
B13: MÉLYFÚRÁSÚ KÚT, HAGYOMÁNYOS ÁTMÉRŐVEL
B14: Épület, építmény
B16: Gép, berendezés
B18: Irányítástechnika, energiaellátás
B20: Összesen: | J20: =SUM(J12:J19) -> 0
A22: III. Vízműtelep és vízkezelő létesítmények
C23: Helyszín | D23: beruházás megnevezése
B24: VÍZMŰTELEP
B25: Épület, építmény
B27: Gép, berendezés
B29: Irányítástechnika, energiaellátás
B31: VÍZKEZELŐ LÉTESÍTMÉNYEK
B32: Épület, építmény
B34: Gép, berendezés
B36: Irányítástechnika, energiaellátás
B38: Összesen | J38: =SUM(J24:J37) -> 0
A40: IV. Vízelosztás
C41: Helyszín | D41: beruházás megnevezése
B42: IVÓVÍZHÁLÓZAT
B43: Épület, építmény
A44: 4 | C44: Németfalu. Kossuth u. | D44: gerincvezeték új építés | I44: Németfalu | J44: =SUM(O44:AC44) -> 990 | L44: 43466 | M44: 43830 | N44: rövid | O44: 990
B45: Gép, berendezés
B47: Irányítástechnika, energiaellátás
B49: VÍZTÁROLÓK
B50: Épület, építmény
B52: Gép, berendezés
B54: Irányítástechnika, energiaellátás
B56: NYOMÁSFOKOZÓK
B57: Épület, építmény
B59: Gép, berendezés
B61: Irányítástechnika, energiaellátás
B63: Összesen: | J63: =SUM(J42:J62) -> 990 | K63: 990 | O63: =SUM(O12:O62) -> 990 | P63: =SUM(P12:P62) -> 0 | Q63: =SUM(Q12:Q62) -> 0 | R63: =SUM(R12:R62) -> 0 | S63: =SUM(S12:S62) -> 0 | T63: =SUM(T12:T62) -> 0 | U63: =SUM(U12:U62) -> 0 | V63: =SUM(V12:V62) -> 0 | ... AC63: =SUM(AC12:AC62) -> 0
O64: 2019 évre a forrás biztosított
B66: Rendelkezésre álló források megnevezése | C66: Rendelkezésre álló források számszerűsített értéke a teljes ütem tekintetében (eFt)
A67: I. ütem | B67: Önkormányzati saját forrás (2019) | C67: =K63 -> 990
A68: I. ütem | B68: Fejlesztési díj (2019) | C68: 0
A69: II. ütem | B69: Fejlesztési díj (2020-2023) | C69: 0
A70: III. ütem | B70: Fejlesztési díj (2024-2033) | C70: 0

Sheet Pálfiszeg
A1: Gördülő fejlesztési terv a 2019 - 2033 időszakra
A2: BERUHÁZÁSOK ÖSSZEFOGLALÓ TÁBLÁZATA
A3: A tervet benyújtó szervezet megnevezése: | K3: PÁLFISZEG | R3: ellátásért felelős / ellátásért felelősök képviselője / víziközmű-szolgáltató *
A4: Víziközmű-szolgáltató megnevezése: | K4: ÉSZAK ZALAI VÍZ- ÉS CSATORNAMŰ ZÁRTKÖRŰEN MŰKÖDŐ RÉSZVÉNYTÁRSASÁG
A5: Víziközmű-szolgáltatási ágazat megnevezése: | K5: IVÓVÍZ ÁGAZAT
A6: Véleményeltérést megfogalmazó érintett fél megnevezése:
A7: Víziközmű-rendszer kódja: ** | K7: 11-32054-1-025-01-14 | R7: Zalaegerszeg-IV
A8: I. Felszín alatti vízkivétel
A9: Fontossági sorrend | B9: Felujítás és pótlás megnevezése | E9: Műszaki állapot felmérés, szükségességi indoklás | H9: Vízjogi létesítési/elvi engedély száma | I9: Az érintett ellátásért felelős(ök) megnevezése | J9: Tervezett nettó költség | K9: Forrás 2019 évre | L9: Megvalósítás időtartama | N9: Tervezett időtáv | O9: A beruházás ütemezése a tervezési időszak évei szerint
E10: Jelenlegi műszaki állapot | F10: Feladat szükségessége | G10: Megvalósítást követő várható műszaki állapot | J10: (eFt) | L10: Kezdés | M10: Befejezés | N10: (rövid / közép / hosszú) | O10: 1 | P10: 2 | Q10: 3 | R10: 4 | S10: 5 | T10: 6 | U10: 7 | V10: 8 | W10: 9 | X10: 10 | Y10: 11 | Z10: 12 | AA10: 13 | AB10: 14 | AC10: 15
B11: szakág | C11: Helyszín | D11: beruházás megnevezése
B13: MÉLYFÚRÁSÚ KÚT, HAGYOMÁNYOS ÁTMÉRŐVEL
B14: Épület, építmény
B16: Gép, berendezés
B18: Irányítástechnika, energiaellátás
B20: Összesen: | J20: =SUM(J12:J19) -> 0
A22: III. Vízműtelep és vízkezelő létesítmények
C23: Helyszín | D23: beruházás megnevezése
B24: VÍZMŰTELEP
B25: Épület, építmény
B27: Gép, berendezés
B29: Irányítástechnika, energiaellátás
B31: VÍZKEZELŐ LÉTESÍTMÉNYEK
B32: Épület, építmény
B34: Gép, berendezés
B36: Irányítástechnika, energiaellátás
B38: Összesen | J38: =SUM(J24:J37) -> 0
A40: IV. Vízelosztás
C41: Helyszín | D41: beruházás megnevezése
B42: IVÓVÍZHÁLÓZAT
B43: Épület, építmény
B45: Gép, berendezés
B47: Irányítástechnika, energiaellátás
B49: VÍZTÁROLÓK
B50: Épület, építmény
B52: Gép, berendezés
B54: Irányítástechnika, energiaellátás
B56: NYOMÁSFOKOZÓK
B57: Épület, építmény
B59: Gép, berendezés
B61: Irányítástechnika, energiaellátás
B63: Összesen: | J63: =SUM(J42:J62) -> 0 | K63: 0 | O63: =SUM(O12:O62) -> 0 | P63: =SUM(P12:P62) -> 0 | Q63: =SUM(Q12:Q62) -> 0 | R63: =SUM(R12:R62) -> 0 | S63: =SUM(S12:S62) -> 0 | T63: =SUM(T12:T62) -> 0 | U63: =SUM(U12:U62) -> 0 | V63: =SUM(V12:V62) -> 0 | ... AC63: =SUM(AC12:AC62) -> 0
B66: Rendelkezésre álló források megnevezése | C66: Rendelkezésre álló források számszerűsített értéke a teljes ütem tekintetében (eFt)
A67: I. ütem | B67: Fejlesztési díj (2019) | C67: =K63 -> 0
A68: II. ütem | B68: Fejlesztési díj (2020-2023) | C68: =C67*4 -> 0
A69: III. ütem | B69: Fejlesztési díj (2024-2033) | C69: =C67*10 -> 0

Sheet Kispáli
A1: Gördülő fejlesztési terv a 2019 - 2033 időszakra
A2: BERUHÁZÁSOK ÖSSZEFOGLALÓ TÁBLÁZATA
A3: A tervet benyújtó szervezet megnevezése: | K3: KISPÁLI | R3: ellátásért felelős / ellátásért felelősök képviselője / víziközmű-szolgáltató *
A4: Víziközmű-szolgáltató megnevezése: | K4: ÉSZAK ZALAI VÍZ- ÉS CSATORNAMŰ ZÁRTKÖRŰEN MŰKÖDŐ RÉSZVÉNYTÁRSASÁG
A5: Víziközmű-szolgáltatási ágazat megnevezése: | K5: IVÓVÍZ ÁGAZAT
A6: Véleményeltérést megfogalmazó érintett fél megnevezése:
A7: Víziközmű-rendszer kódja: ** | K7: 11-32054-1-025-01-14 | R7: Zalaegerszeg-IV
A8: I. Felszín alatti vízkivétel
A9: Fontossági sorrend | B9: Felujítás és pótlás megnevezése | E9: Műszaki állapot felmérés, szükségességi indoklás | H9: Vízjogi létesítési/elvi engedély száma | I9: Az érintett ellátásért felelős(ök) megnevezése | J9: Tervezett nettó költség | K9: Forrás 2019 évre | L9: Megvalósítás időtartama | N9: Tervezett időtáv | O9: A beruházás ütemezése a tervezési időszak évei szerint
E10: Jelenlegi műszaki állapot | F10: Feladat szükségessége | G10: Megvalósítást követő várható műszaki állapot | J10: (eFt) | L10: Kezdés | M10: Befejezés | N10: (rövid / közép / hosszú) | O10: 1 | P10: 2 | Q10: 3 | R10: 4 | S10: 5 | T10: 6 | U10: 7 | V10: 8 | W10: 9 | X10: 10 | Y10: 11 | Z10: 12 | AA10: 13 | AB10: 14 | AC10: 15
B11: szakág | C11: Helyszín | D11: beruházás megnevezése
B13: MÉLYFÚRÁSÚ KÚT, HAGYOMÁNYOS ÁTMÉRŐVEL
B14: Épület, építmény
B16: Gép, berendezés
B18: Irányítástechnika, energiaellátás
B20: Összesen: | J20: =SUM(J12:J19) -> 0
A22: III. Vízműtelep és vízkezelő létesítmények
C23: Helyszín | D23: beruházás megnevezése
B24: VÍZMŰTELEP
B25: Épület, építmény
B27: Gép, berendezés
B29: Irányítástechnika, energiaellátás
B31: VÍZKEZELŐ LÉTESÍTMÉNYEK
B32: Épület, építmény
B34: Gép, berendezés
B36: Irányítástechnika, energiaellátás
B38: Összesen | J38: =SUM(J24:J37) -> 0
A40: IV. Vízelosztás
C41: Helyszín | D41: beruházás megnevezése
B42: IVÓVÍZHÁLÓZAT
B43: Épület, építmény
B45: Gép, berendezés
B47: Irányítástechnika, energiaellátás
B49: VÍZTÁROLÓK
B50: Épület, építmény
B52: Gép, berendezés
B54: Irányítástechnika, energiaellátás
B56: NYOMÁSFOKOZÓK
B57: Épület, építmény
B59: Gép, berendezés
B61: Irányítástechnika, energiaellátás
B63: Összesen: | J63: =SUM(J42:J62) -> 0 | K63: 0 | O63: =SUM(O11:O62) -> 0 | P63: =SUM(P11:P62) -> 0 | Q63: =SUM(Q11:Q62) -> 0 | R63: =SUM(R11:R62) -> 0 | S63: =SUM(S11:S62) -> 0 | T63: =SUM(T11:T62) -> 0 | U63: =SUM(U11:U62) -> 0 | V63: =SUM(V11:V62) -> 0 | ... AC63: =SUM(AC11:AC62) -> 0
B66: Rendelkezésre álló források megnevezése | C66: Rendelkezésre álló források számszerűsített értéke a teljes ütem tekintetében (eFt)
A67: I. ütem | B67: Fejlesztési díj (2019) | C67: =K63 -> 0
A68: II. ütem | B68: Fejlesztési díj (2020-2023) | C68: =C67*4 -> 0
A69: III. ütem | B69: Fejlesztési díj (2024-2033) | C69: =C67*10 -> 0
B72: Jelenleg beruházási igény nem ismert, nincs rendelkezésre álló forrás beruházásra.

Sheet Becsvölgye
A1: Gördülő fejlesztési terv a 2019 - 2033 időszakra
A2: BERUHÁZÁSOK ÖSSZEFOGLALÓ TÁBLÁZATA
A3: A tervet benyújtó szervezet megnevezése: | K3: BECSVÖLGYE | R3: ellátásért felelős / ellátásért felelősök képviselője / víziközmű-szolgáltató *
A4: Víziközmű-szolgáltató megnevezése: | K4: ÉSZAK ZALAI VÍZ- ÉS CSATORNAMŰ ZÁRTKÖRŰEN MŰKÖDŐ RÉSZVÉNYTÁRSASÁG
A5: Víziközmű-szolgáltatási ágazat megnevezése: | K5: IVÓVÍZ ÁGAZAT
A6: Véleményeltérést megfogalmazó érintett fél megnevezése:
A7: Víziközmű-rendszer kódja: ** | K7: 11-32054-1-025-01-14 | R7: Zalaegerszeg-IV
A8: I. Felszín alatti vízkivétel
A9: Fontossági sorrend | B9: Felujítás és pótlás megnevezése | E9: Műszaki állapot felmérés, szükségességi indoklás | H9: Vízjogi létesítési/elvi engedély száma | I9: Az érintett ellátásért felelős(ök) megnevezése | J9: Tervezett nettó költség | K9: Forrás 2019 évre | L9: Megvalósítás időtartama | N9: Tervezett időtáv | O9: A beruházás ütemezése a tervezési időszak évei szerint
E10: Jelenlegi műszaki állapot | F10: Feladat szükségessége | G10: Megvalósítást követő várható műszaki állapot | J10: (eFt) | L10: Kezdés | M10: Befejezés | N10: (rövid / közép / hosszú) | O10: 1 | P10: 2 | Q10: 3 | R10: 4 | S10: 5 | T10: 6 | U10: 7 | V10: 8 | W10: 9 | X10: 10 | Y10: 11 | Z10: 12 | AA10: 13 | AB10: 14 | AC10: 15
B11: szakág | C11: Helyszín | D11: beruházás megnevezése
B13: MÉLYFÚRÁSÚ KÚT, HAGYOMÁNYOS ÁTMÉRŐVEL
B14: Épület, építmény
B16: Gép, berendezés
B18: Irányítástechnika, energiaellátás
B20: Összesen: | J20: =SUM(J12:J19) -> 0
A22: III. Vízműtelep és vízkezelő létesítmények
C23: Helyszín | D23: beruházás megnevezése
B24: VÍZMŰTELEP
B25: Épület, építmény
B27: Gép, berendezés
B29: Irányítástechnika, energiaellátás
B31: VÍZKEZELŐ LÉTESÍTMÉNYEK
B32: Épület, építmény
B34: Gép, berendezés
B36: Irányítástechnika, energiaellátás
B38: Összesen | J38: =SUM(J24:J37) -> 0
A40: IV. Vízelosztás
C41: Helyszín | D41: beruházás megnevezése
B42: IVÓVÍZHÁLÓZAT
B43: Épület, építmény
B45: Gép, berendezés
B47: Irányítástechnika, energiaellátás
B49: VÍZTÁROLÓK
B50: Épület, építmény
B52: Gép, berendezés
B54: Irányítástechnika, energiaellátás
B56: NYOMÁSFOKOZÓK
B57: Épület, építmény
B59: Gép, berendezés
B61: Irányítástechnika, energiaellátás
B63: Összesen: | J63: =SUM(J42:J62) -> 0 | K63: 0 | O63: =SUM(O11:O62) -> 0 | P63: =SUM(P11:P62) -> 0 | Q63: =SUM(Q11:Q62) -> 0 | R63: =SUM(R11:R62) -> 0 | S63: =SUM(S11:S62) -> 0 | T63: =SUM(T11:T62) -> 0 | U63: =SUM(U11:U62) -> 0 | V63: =SUM(V11:V62) -> 0 | ... AC63: =SUM(AC11:AC62) -> 0
B66: Rendelkezésre álló források megnevezése | C66: Rendelkezésre álló források számszerűsített értéke a teljes ütem tekintetében (eFt)
A67: I. ütem | B67: Fejlesztési díj (2019) | C67: =K63 -> 0
A68: II. ütem | B68: Fejlesztési díj (2020-2023) | C68: =C67*4 -> 0
A69: III. ütem | B69: Fejlesztési díj (2024-2033) | C69: =C67*10 -> 0

Sheet Kustánszeg
A1: Gördülő fejlesztési terv a 2019 - 2033 időszakra
A2: BERUHÁZÁSOK ÖSSZEFOGLALÓ TÁBLÁZATA
A3: A tervet benyújtó szervezet megnevezése: | K3: KUSTÁNSZEG | R3: ellátásért felelős / ellátásért felelősök képviselője / víziközmű-szolgáltató *
A4: Víziközmű-szolgáltató megnevezése: | K4: ÉSZAK ZALAI VÍZ- ÉS CSATORNAMŰ ZÁRTKÖRŰEN MŰKÖDŐ RÉSZVÉNYTÁRSASÁG
A5: Víziközmű-szolgáltatási ágazat megnevezése: | K5: IVÓVÍZ ÁGAZAT
A6: Véleményeltérést megfogalmazó érintett fél megnevezése:
A7: Víziközmű-rendszer kódja: ** | K7: 11-32054-1-025-01-14 | R7: Zalaegerszeg-IV
A8: I. Felszín alatti vízkivétel
A9: Fontossági sorrend | B9: Felujítás és pótlás megnevezése | E9: Műszaki állapot felmérés, szükségességi indoklás | H9: Vízjogi létesítési/elvi engedély száma | I9: Az érintett ellátásért felelős(ök) megnevezése | J9: Tervezett nettó költség | K9: Forrás 2019 évre | L9: Megvalósítás időtartama | N9: Tervezett időtáv | O9: A beruházás ütemezése a tervezési időszak évei szerint
E10: Jelenlegi műszaki állapot | F10: Feladat szükségessége | G10: Megvalósítást követő várható műszaki állapot | J10: (eFt) | L10: Kezdés | M10: Befejezés | N10: (rövid / közép / hosszú) | O10: 1 | P10: 2 | Q10: 3 | R10: 4 | S10: 5 | T10: 6 | U10: 7 | V10: 8 | W10: 9 | X10: 10 | Y10: 11 | Z10: 12 | AA10: 13 | AB10: 14 | AC10: 15
B11: szakág | C11: Helyszín | D11: beruházás megnevezése
B13: MÉLYFÚRÁSÚ KÚT, HAGYOMÁNYOS ÁTMÉRŐVEL
B14: Épület, építmény
B16: Gép, berendezés
B18: Irányítástechnika, energiaellátás
B20: Összesen: | J20: =SUM(J12:J19) -> 0
A22: III. Vízműtelep és vízkezelő létesítmények
C23: Helyszín | D23: beruházás megnevezése
B24: VÍZMŰTELEP
B25: Épület, építmény
B27: Gép, berendezés
B29: Irányítástechnika, energiaellátás
B31: VÍZKEZELŐ LÉTESÍTMÉNYEK
B32: Épület, építmény
B34: Gép, berendezés
B36: Irányítástechnika, energiaellátás
B38: Összesen | J38: =SUM(J24:J37) -> 0
A40: IV. Vízelosztás
C41: Helyszín | D41: beruházás megnevezése
B42: IVÓVÍZHÁLÓZAT
B43: Épület, építmény
B45: Gép, berendezés
B47: Irányítástechnika, energiaellátás
B49: VÍZTÁROLÓK
B50: Épület, építmény
B52: Gép, berendezés
B54: Irányítástechnika, energiaellátás
B56: NYOMÁSFOKOZÓK
B57: Épület, építmény
B59: Gép, berendezés
B61: Irányítástechnika, energiaellátás
B63: Összesen: | J63: =SUM(J42:J62) -> 0 | K63: 0 | O63: =SUM(O12:O62) -> 0 | P63: =SUM(P12:P62) -> 0 | Q63: =SUM(Q12:Q62) -> 0 | R63: =SUM(R12:R62) -> 0 | S63: =SUM(S12:S62) -> 0 | T63: =SUM(T12:T62) -> 0 | U63: =SUM(U12:U62) -> 0 | V63: =SUM(V12:V62) -> 0 | ... AC63: =SUM(AC12:AC62) -> 0
B66: Rendelkezésre álló források megnevezése | C66: Rendelkezésre álló források számszerűsített értéke a teljes ütem tekintetében (eFt)
A67: I. ütem | B67: Fejlesztési díj (2019) | C67: =K63 -> 0
A68: II. ütem | B68: Fejlesztési díj (2020-2023) | C68: =C67*4 -> 0
A69: III. ütem | B69: Fejlesztési díj (2024-2033) | C69: =C67*10 -> 0

Sheet Bagod
A1: Gördülő fejlesztési terv a 2019 - 2033 időszakra
A2: BERUHÁZÁSOK ÖSSZEFOGLALÓ TÁBLÁZATA
A3: A tervet benyújtó szervezet megnevezése: | K3: BAGOD | R3: ellátásért felelős / ellátásért felelősök képviselője / víziközmű-szolgáltató *
A4: Víziközmű-szolgáltató megnevezése: | K4: ÉSZAK ZALAI VÍZ- ÉS CSATORNAMŰ ZÁRTKÖRŰEN MŰKÖDŐ RÉSZVÉNYTÁRSASÁG
A5: Víziközmű-szolgáltatási ágazat megnevezése: | K5: IVÓVÍZ ÁGAZAT
A6: Véleményeltérést megfogalmazó érintett fél megnevezése:
A7: Víziközmű-rendszer kódja: ** | K7: 11-32054-1-025-01-14 | R7: Zalaegerszeg-IV
A8: I. Felszín alatti vízkivétel
A9: Fontossági sorrend | B9: Felujítás és pótlás megnevezése | E9: Műszaki állapot felmérés, szükségességi indoklás | H9: Vízjogi létesítési/elvi engedély száma | I9: Az érintett ellátásért felelős(ök) megnevezése | J9: Tervezett nettó költség | K9: Forrás 2019 évre | L9: Megvalósítás időtartama | N9: Tervezett időtáv | O9: A beruházás ütemezése a tervezési időszak évei szerint
E10: Jelenlegi műszaki állapot | F10: Feladat szükségessége | G10: Megvalósítást követő várható műszaki állapot | J10: (eFt) | L10: Kezdés | M10: Befejezés | N10: (rövid / közép / hosszú) | O10: 1 | P10: 2 | Q10: 3 | R10: 4 | S10: 5 | T10: 6 | U10: 7 | V10: 8 | W10: 9 | X10: 10 | Y10: 11 | Z10: 12 | AA10: 13 | AB10: 14 | AC10: 15
B11: szakág | C11: Helyszín | D11: beruházás megnevezése
B13: MÉLYFÚRÁSÚ KÚT, HAGYOMÁNYOS ÁTMÉRŐVEL
B14: Épület, építmény
B16: Gép, berendezés
B18: Irányítástechnika, energiaellátás
B20: Összesen: | J20: =SUM(J12:J19) -> 0
A22: III. Vízműtelep és vízkezelő létesítmények
C23: Helyszín | D23: beruházás megnevezése
B24: VÍZMŰTELEP
B25: Épület, építmény
B27: Gép, berendezés
B29: Irányítástechnika, energiaellátás
B31: VÍZKEZELŐ LÉTESÍTMÉNYEK
B32: Épület, építmény
B34: Gép, berendezés
B36: Irányítástechnika, energiaellátás
B38: Összesen | J38: =SUM(J24:J37) -> 0
A40: IV. Vízelosztás
C41: Helyszín | D41: beruházás megnevezése
B42: IVÓVÍZHÁLÓZAT
B43: Épület, építmény
B45: Gép, berendezés
B47: Irányítástechnika, energiaellátás
B49: VÍZTÁROLÓK
B50: Épület, építmény
B52: Gép, berendezés
B54: Irányítástechnika, energiaellátás
B56: NYOMÁSFOKOZÓK
B57: Épület, építmény
B59: Gép, berendezés
B61: Irányítástechnika, energiaellátás
B63: Összesen: | J63: =SUM(J42:J62) -> 0 | K63: 0 | O63: =SUM(O11:O62) -> 0 | P63: =SUM(P11:P62) -> 0 | Q63: =SUM(Q11:Q62) -> 0 | R63: =SUM(R11:R62) -> 0 | S63: =SUM(S11:S62) -> 0 | T63: =SUM(T11:T62) -> 0 | U63: =SUM(U11:U62) -> 0 | V63: =SUM(V11:V62) -> 0 | ... AC63: =SUM(AC11:AC62) -> 0
B66: Rendelkezésre álló források megnevezése | C66: Rendelkezésre álló források számszerűsített értéke a teljes ütem tekintetében (eFt)
A67: I. ütem | B67: Fejlesztési díj (2019) | C67: =K63 -> 0
A68: II. ütem | B68: Fejlesztési díj (2020-2023) | C68: =C67*4 -> 0
A69: III. ütem | B69: Fejlesztési díj (2024-2033) | C69: =C67*10 -> 0

Sheet Boncodfölde
A1: Gördülő fejlesztési terv a 2019 - 2033 időszakra
A2: BERUHÁZÁSOK ÖSSZEFOGLALÓ TÁBLÁZATA
A3: A tervet benyújtó szervezet megnevezése: | K3: BONCODFÖLDE | R3: ellátásért felelős / ellátásért felelősök képviselője / víziközmű-szolgáltató *
A4: Víziközmű-szolgáltató megnevezése: | K4: ÉSZAK ZALAI VÍZ- ÉS CSATORNAMŰ ZÁRTKÖRŰEN MŰKÖDŐ RÉSZVÉNYTÁRSASÁG
A5: Víziközmű-szolgáltatási ágazat megnevezése: | K5: IVÓVÍZ ÁGAZAT
A6: Véleményeltérést megfogalmazó érintett fél megnevezése:
A7: Víziközmű-rendszer kódja: ** | K7: 11-32054-1-025-01-14 | R7: Zalaegerszeg-IV
A8: I. Felszín alatti vízkivétel
A9: Fontossági sorrend | B9: Felujítás és pótlás megnevezése | E9: Műszaki állapot felmérés, szükségességi indoklás | H9: Vízjogi létesítési/elvi engedély száma | I9: Az érintett ellátásért felelős(ök) megnevezése | J9: Tervezett nettó költség | K9: Forrás 2019 évre | L9: Megvalósítás időtartama | N9: Tervezett időtáv | O9: A beruházás ütemezése a tervezési időszak évei szerint
E10: Jelenlegi műszaki állapot | F10: Feladat szükségessége | G10: Megvalósítást követő várható műszaki állapot | J10: (eFt) | L10: Kezdés | M10: Befejezés | N10: (rövid / közép / hosszú) | O10: 1 | P10: 2 | Q10: 3 | R10: 4 | S10: 5 | T10: 6 | U10: 7 | V10: 8 | W10: 9 | X10: 10 | Y10: 11 | Z10: 12 | AA10: 13 | AB10: 14 | AC10: 15
B11: szakág | C11: Helyszín | D11: beruházás megnevezése
B13: MÉLYFÚRÁSÚ KÚT, HAGYOMÁNYOS ÁTMÉRŐVEL
B14: Épület, építmény
B16: Gép, berendezés
B18: Irányítástechnika, energiaellátás
B20: Összesen: | J20: =SUM(J12:J19) -> 0
A22: III. Vízműtelep és vízkezelő létesítmények
C23: Helyszín | D23: beruházás megnevezése
B24: VÍZMŰTELEP
B25: Épület, építmény
B27: Gép, berendezés
B29: Irányítástechnika, energiaellátás
B31: VÍZKEZELŐ LÉTESÍTMÉNYEK
B32: Épület, építmény
B34: Gép, berendezés
B36: Irányítástechnika, energiaellátás
B38: Összesen | J38: =SUM(J24:J37) -> 0
A40: IV. Vízelosztás
C41: Helyszín | D41: beruházás megnevezése
B42: IVÓVÍZHÁLÓZAT
B43: Épület, építmény
B45: Gép, berendezés
B47: Irányítástechnika, energiaellátás
B49: VÍZTÁROLÓK
B50: Épület, építmény
B52: Gép, berendezés
B54: Irányítástechnika, energiaellátás
B56: NYOMÁSFOKOZÓK
B57: Épület, építmény
B59: Gép, berendezés
B61: Irányítástechnika, energiaellátás
B63: Összesen: | J63: =SUM(J42:J62) -> 0 | K63: 0 | O63: =SUM(O12:O62) -> 0 | P63: =SUM(P12:P62) -> 0 | Q63: =SUM(Q12:Q62) -> 0 | R63: =SUM(R12:R62) -> 0 | S63: =SUM(S12:S62) -> 0 | T63: =SUM(T12:T62) -> 0 | U63: =SUM(U12:U62) -> 0 | V63: =SUM(V12:V62) -> 0 | ... AC63: =SUM(AC12:AC62) -> 0
B66: Rendelkezésre álló források megnevezése | C66: Rendelkezésre álló források számszerűsített értéke a teljes ütem tekintetében (eFt)
A67: I. ütem | B67: Fejlesztési díj (2019) | C67: =K63 -> 0
A68: II. ütem | B68: Fejlesztési díj (2020-2023) | C68: =C67*4 -> 0
A69: III. ütem | B69: Fejlesztési díj (2024-2033) | C69: =C67*10 -> 0

Sheet Hagyárosbörönd
A1: Gördülő fejlesztési terv a 2019 - 2033 időszakra
A2: BERUHÁZÁSOK ÖSSZEFOGLALÓ TÁBLÁZATA
A3: A tervet benyújtó szervezet megnevezése: | K3: HAGYÁROSBÖRÖND | R3: ellátásért felelős / ellátásért felelősök képviselője / víziközmű-szolgáltató *
A4: Víziközmű-szolgáltató megnevezése: | K4: ÉSZAK ZALAI VÍZ- ÉS CSATORNAMŰ ZÁRTKÖRŰEN MŰKÖDŐ RÉSZVÉNYTÁRSASÁG
A5: Víziközmű-szolgáltatási ágazat megnevezése: | K5: IVÓVÍZ ÁGAZAT
A6: Véleményeltérést megfogalmazó érintett fél megnevezése:
A7: Víziközmű-rendszer kódja: ** | K7: 11-32054-1-025-01-14 | R7: Zalaegerszeg-IV
A8: I. Felszín alatti vízkivétel
A9: Fontossági sorrend | B9: Felujítás és pótlás megnevezése | E9: Műszaki állapot felmérés, szükségességi indoklás | H9: Vízjogi létesítési/elvi engedély száma | I9: Az érintett ellátásért felelős(ök) megnevezése | J9: Tervezett nettó költség | K9: Forrás 2019 évre | L9: Megvalósítás időtartama | N9: Tervezett időtáv | O9: A beruházás ütemezése a tervezési időszak évei szerint
E10: Jelenlegi műszaki állapot | F10: Feladat szükségessége | G10: Megvalósítást követő várható műszaki állapot | J10: (eFt) | L10: Kezdés | M10: Befejezés | N10: (rövid / közép / hosszú) | O10: 1 | P10: 2 | Q10: 3 | R10: 4 | S10: 5 | T10: 6 | U10: 7 | V10: 8 | W10: 9 | X10: 10 | Y10: 11 | Z10: 12 | AA10: 13 | AB10: 14 | AC10: 15
B11: szakág | C11: Helyszín | D11: beruházás megnevezése
B13: MÉLYFÚRÁSÚ KÚT, HAGYOMÁNYOS ÁTMÉRŐVEL
B14: Épület, építmény
B16: Gép, berendezés
B18: Irányítástechnika, energiaellátás
B20: Összesen: | J20: =SUM(J12:J19) -> 0
A22: III. Vízműtelep és vízkezelő létesítmények
C23: Helyszín | D23: beruházás megnevezése
B24: VÍZMŰTELEP
B25: Épület, építmény
B27: Gép, berendezés
B29: Irányítástechnika, energiaellátás
B31: VÍZKEZELŐ LÉTESÍTMÉNYEK
B32: Épület, építmény
B34: Gép, berendezés
B36: Irányítástechnika, energiaellátás
B38: Összesen | J38: =SUM(J24:J37) -> 0
A40: IV. Vízelosztás
C41: Helyszín | D41: beruházás megnevezése
B42: IVÓVÍZHÁLÓZAT
B43: Épület, építmény
B45: Gép, berendezés
B47: Irányítástechnika, energiaellátás
B49: VÍZTÁROLÓK
B50: Épület, építmény
B52: Gép, berendezés
B54: Irányítástechnika, energiaellátás
B56: NYOMÁSFOKOZÓK
B57: Épület, építmény
B59: Gép, berendezés
B61: Irányítástechnika, energiaellátás
B63: Összesen: | J63: =SUM(J42:J62) -> 0 | K63: 0 | O63: =SUM(O12:O62) -> 0 | P63: =SUM(P12:P62) -> 0 | Q63: =SUM(Q12:Q62) -> 0 | R63: =SUM(R12:R62) -> 0 | S63: =SUM(S12:S62) -> 0 | T63: =SUM(T12:T62) -> 0 | U63: =SUM(U12:U62) -> 0 | V63: =SUM(V12:V62) -> 0 | ... AC63: =SUM(AC12:AC62) -> 0
B66: Rendelkezésre álló források megnevezése | C66: Rendelkezésre álló források számszerűsített értéke a teljes ütem tekintetében (eFt)
A67: I. ütem | B67: Fejlesztési díj (2019) | C67: =K63 -> 0
A68: II. ütem | B68: Fejlesztési díj (2020-2023) | C68: =C67*4 -> 0
A69: III. ütem | B69: Fejlesztési díj (2024-2033) | C69: =C67*10 -> 0

Sheet Kávás
A1: Gördülő fejlesztési terv a 2019 - 2033 időszakra
A2: BERUHÁZÁSOK ÖSSZEFOGLALÓ TÁBLÁZATA
A3: A tervet benyújtó szervezet megnevezése: | K3: KÁVÁS | R3: ellátásért felelős / ellátásért felelősök képviselője / víziközmű-szolgáltató *
A4: Víziközmű-szolgáltató megnevezése: | K4: ÉSZAK ZALAI VÍZ- ÉS CSATORNAMŰ ZÁRTKÖRŰEN MŰKÖDŐ RÉSZVÉNYTÁRSASÁG
A5: Víziközmű-szolgáltatási ágazat megnevezése: | K5: IVÓVÍZ ÁGAZAT
A6: Véleményeltérést megfogalmazó érintett fél megnevezése:
A7: Víziközmű-rendszer kódja: ** | K7: 11-32054-1-025-01-14 | R7: Zalaegerszeg-IV
A8: I. Felszín alatti vízkivétel
A9: Fontossági sorrend | B9: Felujítás és pótlás megnevezése | E9: Műszaki állapot felmérés, szükségességi indoklás | H9: Vízjogi létesítési/elvi engedély száma | I9: Az érintett ellátásért felelős(ök) megnevezése | J9: Tervezett nettó költség | K9: Forrás 2019 évre | L9: Megvalósítás időtartama | N9: Tervezett időtáv | O9: A beruházás ütemezése a tervezési időszak évei szerint
E10: Jelenlegi műszaki állapot | F10: Feladat szükségessége | G10: Megvalósítást követő várható műszaki állapot | J10: (eFt) | L10: Kezdés | M10: Befejezés | N10: (rövid / közép / hosszú) | O10: 1 | P10: 2 | Q10: 3 | R10: 4 | S10: 5 | T10: 6 | U10: 7 | V10: 8 | W10: 9 | X10: 10 | Y10: 11 | Z10: 12 | AA10: 13 | AB10: 14 | AC10: 15
B11: szakág | C11: Helyszín | D11: beruházás megnevezése
B13: MÉLYFÚRÁSÚ KÚT, HAGYOMÁNYOS ÁTMÉRŐVEL
B14: Épület, építmény
B16: Gép, berendezés
B18: Irányítástechnika, energiaellátás
B20: Összesen: | J20: =SUM(J12:J19) -> 0
A22: III. Vízműtelep és vízkezelő létesítmények
C23: Helyszín | D23: beruházás megnevezése
B24: VÍZMŰTELEP
B25: Épület, építmény
B27: Gép, berendezés
B29: Irányítástechnika, energiaellátás
B31: VÍZKEZELŐ LÉTESÍTMÉNYEK
B32: Épület, építmény
B34: Gép, berendezés
B36: Irányítástechnika, energiaellátás
B38: Összesen | J38: =SUM(J24:J37) -> 0
A40: IV. Vízelosztás
C41: Helyszín | D41: beruházás megnevezése
B42: IVÓVÍZHÁLÓZAT
B43: Épület, építmény
B45: Gép, berendezés
B47: Irányítástechnika, energiaellátás
B49: VÍZTÁROLÓK
B50: Épület, építmény
B52: Gép, berendezés
B54: Irányítástechnika, energiaellátás
B56: NYOMÁSFOKOZÓK
B57: Épület, építmény
B59: Gép, berendezés
B61: Irányítástechnika, energiaellátás
B63: Összesen: | J63: =SUM(J42:J62) -> 0 | K63: 0 | O63: =SUM(O12:O62) -> 0 | P63: =SUM(P12:P62) -> 0 | Q63: =SUM(Q12:Q62) -> 0 | R63: =SUM(R12:R62) -> 0 | S63: =SUM(S12:S62) -> 0 | T63: =SUM(T12:T62) -> 0 | U63: =SUM(U12:U62) -> 0 | V63: =SUM(V12:V62) -> 0 | ... AC63: =SUM(AC12:AC62) -> 0
B66: Rendelkezésre álló források megnevezése | C66: Rendelkezésre álló források számszerűsített értéke a teljes ütem tekintetében (eFt)
A67: I. ütem | B67: Fejlesztési díj (2019) | C67: =K63 -> 0
A68: II. ütem | B68: Fejlesztési díj (2020-2023) | C68: =C67*4 -> 0
A69: III. ütem | B69: Fejlesztési díj (2024-2033) | C69: =C67*10 -> 0

Sheet Zalaboldogfa
A1: Gördülő fejlesztési terv a 2019 - 2033 időszakra
A2: BERUHÁZÁSOK ÖSSZEFOGLALÓ TÁBLÁZATA
A3: A tervet benyújtó szervezet megnevezése: | K3: ZALABOLDOGFA | R3: ellátásért felelős / ellátásért felelősök képviselője / víziközmű-szolgáltató *
A4: Víziközmű-szolgáltató megnevezése: | K4: ÉSZAK ZALAI VÍZ- ÉS CSATORNAMŰ ZÁRTKÖRŰEN MŰKÖDŐ RÉSZVÉNYTÁRSASÁG
A5: Víziközmű-szolgáltatási ágazat megnevezése: | K5: IVÓVÍZ ÁGAZAT
A6: Véleményeltérést megfogalmazó érintett fél megnevezése:
A7: Víziközmű-rendszer kódja: ** | K7: 11-32054-1-025-01-14 | R7: Zalaegerszeg-IV
A8: I. Felszín alatti vízkivétel
A9: Fontossági sorrend | B9: Felujítás és pótlás megnevezése | E9: Műszaki állapot felmérés, szükségességi indoklás | H9: Vízjogi létesítési/elvi engedély száma | I9: Az érintett ellátásért felelős(ök) megnevezése | J9: Tervezett nettó költség | K9: Forrás 2019 évre | L9: Megvalósítás időtartama | N9: Tervezett időtáv | O9: A beruházás ütemezése a tervezési időszak évei szerint
E10: Jelenlegi műszaki állapot | F10: Feladat szükségessége | G10: Megvalósítást követő várható műszaki állapot | J10: (eFt) | L10: Kezdés | M10: Befejezés | N10: (rövid / közép / hosszú) | O10: 1 | P10: 2 | Q10: 3 | R10: 4 | S10: 5 | T10: 6 | U10: 7 | V10: 8 | W10: 9 | X10: 10 | Y10: 11 | Z10: 12 | AA10: 13 | AB10: 14 | AC10: 15
B11: szakág | C11: Helyszín | D11: beruházás megnevezése
B13: MÉLYFÚRÁSÚ KÚT, HAGYOMÁNYOS ÁTMÉRŐVEL
B14: Épület, építmény
B16: Gép, berendezés
B18: Irányítástechnika, energiaellátás
B20: Összesen: | J20: =SUM(J12:J19) -> 0
A22: III. Vízműtelep és vízkezelő létesítmények
C23: Helyszín | D23: beruházás megnevezése
B24: VÍZMŰTELEP
B25: Épület, építmény
B27: Gép, berendezés
B29: Irányítástechnika, energiaellátás
B31: VÍZKEZELŐ LÉTESÍTMÉNYEK
B32: Épület, építmény
B34: Gép, berendezés
B36: Irányítástechnika, energiaellátás
B38: Összesen | J38: =SUM(J24:J37) -> 0
A40: IV. Vízelosztás
C41: Helyszín | D41: beruházás megnevezése
B42: IVÓVÍZHÁLÓZAT
B43: Épület, építmény
B45: Gép, berendezés
B47: Irányítástechnika, energiaellátás
B49: VÍZTÁROLÓK
B50: Épület, építmény
B52: Gép, berendezés
B54: Irányítástechnika, energiaellátás
B56: NYOMÁSFOKOZÓK
B57: Épület, építmény
B59: Gép, berendezés
B61: Irányítástechnika, energiaellátás
B63: Összesen: | J63: =SUM(J42:J62) -> 0 | K63: 0 | O63: =SUM(O12:O62) -> 0 | P63: =SUM(P12:P62) -> 0 | Q63: =SUM(Q12:Q62) -> 0 | R63: =SUM(R12:R62) -> 0 | S63: =SUM(S12:S62) -> 0 | T63: =SUM(T12:T62) -> 0 | U63: =SUM(U12:U62) -> 0 | V63: =SUM(V12:V62) -> 0 | ... AC63: =SUM(AC12:AC62) -> 0
B66: Rendelkezésre álló források megnevezése | C66: Rendelkezésre álló források számszerűsített értéke a teljes ütem tekintetében (eFt)
A67: I. ütem | B67: Fejlesztési díj (2019) | C67: =K63 -> 0
A68: II. ütem | B68: Fejlesztési díj (2020-2023) | C68: =C67*4 -> 0
A69: III. ütem | B69: Fejlesztési díj (2024-2033) | C69: =C67*10 -> 0

Sheet Zalaszentgyörgy
A1: Gördülő fejlesztési terv a 2019 - 2033 időszakra
A2: BERUHÁZÁSOK ÖSSZEFOGLALÓ TÁBLÁZATA
A3: A tervet benyújtó szervezet megnevezése: | K3: ZALASZENTGYÖRGY | R3: ellátásért felelős / ellátásért felelősök képviselője / víziközmű-szolgáltató *
A4: Víziközmű-szolgáltató megnevezése: | K4: ÉSZAK ZALAI VÍZ- ÉS CSATORNAMŰ ZÁRTKÖRŰEN MŰKÖDŐ RÉSZVÉNYTÁRSASÁG
A5: Víziközmű-szolgáltatási ágazat megnevezése: | K5: IVÓVÍZ ÁGAZAT
A6: Véleményeltérést megfogalmazó érintett fél megnevezése:
A7: Víziközmű-rendszer kódja: ** | K7: 11-32054-1-025-01-14 | R7: Zalaegerszeg-IV
A8: I. Felszín alatti vízkivétel
A9: Fontossági sorrend | B9: Felujítás és pótlás megnevezése | E9: Műszaki állapot felmérés, szükségességi indoklás | H9: Vízjogi létesítési/elvi engedély száma | I9: Az érintett ellátásért felelős(ök) megnevezése | J9: Tervezett nettó költség | K9: Forrás 2019 évre | L9: Megvalósítás időtartama | N9: Tervezett időtáv | O9: A beruházás ütemezése a tervezési időszak évei szerint
E10: Jelenlegi műszaki állapot | F10: Feladat szükségessége | G10: Megvalósítást követő várható műszaki állapot | J10: (eFt) | L10: Kezdés | M10: Befejezés | N10: (rövid / közép / hosszú) | O10: 1 | P10: 2 | Q10: 3 | R10: 4 | S10: 5 | T10: 6 | U10: 7 | V10: 8 | W10: 9 | X10: 10 | Y10: 11 | Z10: 12 | AA10: 13 | AB10: 14 | AC10: 15
B11: szakág | C11: Helyszín | D11: beruházás megnevezése
B13: MÉLYFÚRÁSÚ KÚT, HAGYOMÁNYOS ÁTMÉRŐVEL
B14: Épület, építmény
B16: Gép, berendezés
B18: Irányítástechnika, energiaellátás
B20: Összesen: | J20: =SUM(J12:J19) -> 0
A22: III. Vízműtelep és vízkezelő létesítmények
C23: Helyszín | D23: beruházás megnevezése
B24: VÍZMŰTELEP
B25: Épület, építmény
B27: Gép, berendezés
B29: Irányítástechnika, energiaellátás
B31: VÍZKEZELŐ LÉTESÍTMÉNYEK
B32: Épület, építmény
B34: Gép, berendezés
B36: Irányítástechnika, energiaellátás
B38: Összesen | J38: =SUM(J24:J37) -> 0
A40: IV. Vízelosztás
C41: Helyszín | D41: beruházás megnevezése
B42: IVÓVÍZHÁLÓZAT
B43: Épület, építmény
B45: Gép, berendezés
B47: Irányítástechnika, energiaellátás
B49: VÍZTÁROLÓK
B50: Épület, építmény
B52: Gép, berendezés
B54: Irányítástechnika, energiaellátás
B56: NYOMÁSFOKOZÓK
B57: Épület, építmény
B59: Gép, berendezés
B61: Irányítástechnika, energiaellátás
B63: Összesen: | J63: =SUM(J42:J62) -> 0 | K63: 0 | O63: =SUM(O12:O62) -> 0 | P63: =SUM(P12:P62) -> 0 | Q63: =SUM(Q12:Q62) -> 0 | R63: =SUM(R12:R62) -> 0 | S63: =SUM(S12:S62) -> 0 | T63: =SUM(T12:T62) -> 0 | U63: =SUM(U12:U62) -> 0 | V63: =SUM(V12:V62) -> 0 | ... AC63: =SUM(AC12:AC62) -> 0
B66: Rendelkezésre álló források megnevezése | C66: Rendelkezésre álló források számszerűsített értéke a teljes ütem tekintetében (eFt)
A67: I. ütem | B67: Fejlesztési díj (2019) | C67: =K63 -> 0
A68: II. ütem | B68: Fejlesztési díj (2020-2023) | C68: =C67*4 -> 0
A69: III. ütem | B69: Fejlesztési díj (2024-2033) | C69: =C67*10 -> 0

Sheet Babosdöbréte
A1: Gördülő fejlesztési terv a 2019 - 2033 időszakra
A2: BERUHÁZÁSOK ÖSSZEFOGLALÓ TÁBLÁZATA
A3: A tervet benyújtó szervezet megnevezése: | K3: BABOSDÖBRÉTE | R3: ellátásért felelős / ellátásért felelősök képviselője / víziközmű-szolgáltató *
A4: Víziközmű-szolgáltató megnevezése: | K4: ÉSZAK ZALAI VÍZ- ÉS CSATORNAMŰ ZÁRTKÖRŰEN MŰKÖDŐ RÉSZVÉNYTÁRSASÁG
A5: Víziközmű-szolgáltatási ágazat megnevezése: | K5: IVÓVÍZ ÁGAZAT
A6: Véleményeltérést megfogalmazó érintett fél megnevezése:
A7: Víziközmű-rendszer kódja: ** | K7: 11-32054-1-025-01-14 | R7: Zalaegerszeg-IV
A8: I. Felszín alatti vízkivétel
A9: Fontossági sorrend | B9: Felujítás és pótlás megnevezése | E9: Műszaki állapot felmérés, szükségességi indoklás | H9: Vízjogi létesítési/elvi engedély száma | I9: Az érintett ellátásért felelős(ök) megnevezése | J9: Tervezett nettó költség | K9: Forrás 2019 évre | L9: Megvalósítás időtartama | N9: Tervezett időtáv | O9: A beruházás ütemezése a tervezési időszak évei szerint
E10: Jelenlegi műszaki állapot | F10: Feladat szükségessége | G10: Megvalósítást követő várható műszaki állapot | J10: (eFt) | L10: Kezdés | M10: Befejezés | N10: (rövid / közép / hosszú) | O10: 1 | P10: 2 | Q10: 3 | R10: 4 | S10: 5 | T10: 6 | U10: 7 | V10: 8 | W10: 9 | X10: 10 | Y10: 11 | Z10: 12 | AA10: 13 | AB10: 14 | AC10: 15
B11: szakág | C11: Helyszín | D11: beruházás megnevezése
B13: MÉLYFÚRÁSÚ KÚT, HAGYOMÁNYOS ÁTMÉRŐVEL
B14: Épület, építmény
B16: Gép, berendezés
B18: Irányítástechnika, energiaellátás
B20: Összesen: | J20: =SUM(J12:J18) -> 0
A22: III. Vízműtelep és vízkezelő létesítmények
C23: Helyszín | D23: beruházás megnevezése
B24: VÍZMŰTELEP
B25: Épület, építmény
B27: Gép, berendezés
B29: Irányítástechnika, energiaellátás
B31: VÍZKEZELŐ LÉTESÍTMÉNYEK
B32: Épület, építmény
B34: Gép, berendezés
B36: Irányítástechnika, energiaellátás
B38: Összesen | J38: =SUM(J24:J37) -> 0
A40: IV. Vízelosztás
C41: Helyszín | D41: beruházás megnevezése
B42: IVÓVÍZHÁLÓZAT
B43: Épület, építmény
B45: Gép, berendezés
B47: Irányítástechnika, energiaellátás
B49: VÍZTÁROLÓK
B50: Épület, építmény
B52: Gép, berendezés
B54: Irányítástechnika, energiaellátás
B56: NYOMÁSFOKOZÓK
B57: Épület, építmény
B59: Gép, berendezés
B61: Irányítástechnika, energiaellátás
B63: Összesen: | J63: =SUM(J42:J62) -> 0 | K63: 0 | O63: =SUM(O11:O62) -> 0 | P63: =SUM(P11:P62) -> 0 | Q63: =SUM(Q11:Q62) -> 0 | R63: =SUM(R11:R62) -> 0 | S63: =SUM(S11:S62) -> 0 | T63: =SUM(T11:T62) -> 0 | U63: =SUM(U11:U62) -> 0 | V63: =SUM(V11:V62) -> 0 | ... AC63: =SUM(AC11:AC62) -> 0
B66: Rendelkezésre álló források megnevezése | C66: Rendelkezésre álló források számszerűsített értéke a teljes ütem tekintetében (eFt)
A67: I. ütem | B67: Fejlesztési díj (2019) | C67: =K63 -> 0
A68: II. ütem | B68: Fejlesztési díj (2020-2023) | C68: =C67*4 -> 0
A69: III. ütem | B69: Fejlesztési díj (2024-2033) | C69: =C67*10 -> 0

Sheet Bocfölde
A1: Gördülő fejlesztési terv a 2019 - 2033 időszakra
A2: BERUHÁZÁSOK ÖSSZEFOGLALÓ TÁBLÁZATA
A3: A tervet benyújtó szervezet megnevezése: | K3: BOCFÖLDE | R3: ellátásért felelős / ellátásért felelősök képviselője / víziközmű-szolgáltató *
A4: Víziközmű-szolgáltató megnevezése: | K4: ÉSZAK ZALAI VÍZ- ÉS CSATORNAMŰ ZÁRTKÖRŰEN MŰKÖDŐ RÉSZVÉNYTÁRSASÁG
A5: Víziközmű-szolgáltatási ágazat megnevezése: | K5: IVÓVÍZ ÁGAZAT
A6: Véleményeltérést megfogalmazó érintett fél megnevezése:
A7: Víziközmű-rendszer kódja: ** | K7: 11-32054-1-025-01-14 | R7: Zalaegerszeg-IV
A8: I. Felszín alatti vízkivétel
A9: Fontossági sorrend | B9: Felujítás és pótlás megnevezése | E9: Műszaki állapot felmérés, szükségességi indoklás | H9: Vízjogi létesítési/elvi engedély száma | I9: Az érintett ellátásért felelős(ök) megnevezése | J9: Tervezett nettó költség | K9: Forrás 2019 évre | L9: Megvalósítás időtartama | N9: Tervezett időtáv | O9: A beruházás ütemezése a tervezési időszak évei szerint
E10: Jelenlegi műszaki állapot | F10: Feladat szükségessége | G10: Megvalósítást követő várható műszaki állapot | J10: (eFt) | L10: Kezdés | M10: Befejezés | N10: (rövid / közép / hosszú) | O10: 1 | P10: 2 | Q10: 3 | R10: 4 | S10: 5 | T10: 6 | U10: 7 | V10: 8 | W10: 9 | X10: 10 | Y10: 11 | Z10: 12 | AA10: 13 | AB10: 14 | AC10: 15
B11: szakág | C11: Helyszín | D11: beruházás megnevezése
B13: MÉLYFÚRÁSÚ KÚT, HAGYOMÁNYOS ÁTMÉRŐVEL
B14: Épület, építmény
B16: Gép, berendezés
B18: Irányítástechnika, energiaellátás
B20: Összesen: | J20: =SUM(J12:J19) -> 0
A22: III. Vízműtelep és vízkezelő létesítmények
C23: Helyszín | D23: beruházás megnevezése
B24: VÍZMŰTELEP
B25: Épület, építmény
B27: Gép, berendezés
B29: Irányítástechnika, energiaellátás
B31: VÍZKEZELŐ LÉTESÍTMÉNYEK
B32: Épület, építmény
B34: Gép, berendezés
B36: Irányítástechnika, energiaellátás
B38: Összesen | J38: =SUM(J24:J37) -> 0
A40: IV. Vízelosztás
C41: Helyszín | D41: beruházás megnevezése
B42: IVÓVÍZHÁLÓZAT
B43: Épület, építmény
B45: Gép, berendezés
B47: Irányítástechnika, energiaellátás
B49: VÍZTÁROLÓK
B50: Épület, építmény
B52: Gép, berendezés
B54: Irányítástechnika, energiaellátás
B56: NYOMÁSFOKOZÓK
B57: Épület, építmény
B59: Gép, berendezés
B61: Irányítástechnika, energiaellátás
B63: Összesen: | J63: =SUM(J42:J62) -> 0 | K63: 0 | O63: =SUM(O12:O62) -> 0 | P63: =SUM(P12:P62) -> 0 | Q63: =SUM(Q12:Q62) -> 0 | R63: =SUM(R12:R62) -> 0 | S63: =SUM(S12:S62) -> 0 | T63: =SUM(T12:T62) -> 0 | U63: =SUM(U12:U62) -> 0 | V63: =SUM(V12:V62) -> 0 | ... AC63: =SUM(AC12:AC62) -> 0
B66: Rendelkezésre álló források megnevezése | C66: Rendelkezésre álló források számszerűsített értéke a teljes ütem tekintetében (eFt)
A67: I. ütem | B67: Fejlesztési díj (2019) | C67: =K63 -> 0
A68: II. ütem | B68: Fejlesztési díj (2020-2023) | C68: =C67*4 -> 0
A69: III. ütem | B69: Fejlesztési díj (2024-2033) | C69: =C67*10 -> 0

Sheet Böde
A1: Gördülő fejlesztési terv a 2019 - 2033 időszakra
A2: BERUHÁZÁSOK ÖSSZEFOGLALÓ TÁBLÁZATA
A3: A tervet benyújtó szervezet megnevezése: | K3: BÖDE | R3: ellátásért felelős / ellátásért felelősök képviselője / víziközmű-szolgáltató *
A4: Víziközmű-szolgáltató megnevezése: | K4: ÉSZAK ZALAI VÍZ- ÉS CSATORNAMŰ ZÁRTKÖRŰEN MŰKÖDŐ RÉSZVÉNYTÁRSASÁG
A5: Víziközmű-szolgáltatási ágazat megnevezése: | K5: IVÓVÍZ ÁGAZAT
A6: Véleményeltérést megfogalmazó érintett fél megnevezése:
A7: Víziközmű-rendszer kódja: ** | K7: 11-32054-1-025-01-14 | R7: Zalaegerszeg-IV
A8: I. Felszín alatti vízkivétel
A9: Fontossági sorrend | B9: Felujítás és pótlás megnevezése | E9: Műszaki állapot felmérés, szükségességi indoklás | H9: Vízjogi létesítési/elvi engedély száma | I9: Az érintett ellátásért felelős(ök) megnevezése | J9: Tervezett nettó költség | K9: Forrás 2019 évre | L9: Megvalósítás időtartama | N9: Tervezett időtáv | O9: A beruházás ütemezése a tervezési időszak évei szerint
E10: Jelenlegi műszaki állapot | F10: Feladat szükségessége | G10: Megvalósítást követő várható műszaki állapot | J10: (eFt) | L10: Kezdés | M10: Befejezés | N10: (rövid / közép / hosszú) | O10: 1 | P10: 2 | Q10: 3 | R10: 4 | S10: 5 | T10: 6 | U10: 7 | V10: 8 | W10: 9 | X10: 10 | Y10: 11 | Z10: 12 | AA10: 13 | AB10: 14 | AC10: 15
B11: szakág | C11: Helyszín | D11: beruházás megnevezése
B13: MÉLYFÚRÁSÚ KÚT, HAGYOMÁNYOS ÁTMÉRŐVEL
B14: Épület, építmény
B16: Gép, berendezés
B18: Irányítástechnika, energiaellátás
B20: Összesen: | J20: =SUM(J12:J18) -> 0
A22: III. Vízműtelep és vízkezelő létesítmények
C23: Helyszín | D23: beruházás megnevezése
B24: VÍZMŰTELEP
B25: Épület, építmény
B27: Gép, berendezés
B29: Irányítástechnika, energiaellátás
B31: VÍZKEZELŐ LÉTESÍTMÉNYEK
B32: Épület, építmény
B34: Gép, berendezés
B36: Irányítástechnika, energiaellátás
B38: Összesen | J38: =SUM(J24:J37) -> 0
A40: IV. Vízelosztás
C41: Helyszín | D41: beruházás megnevezése
B42: IVÓVÍZHÁLÓZAT
B43: Épület, építmény
B45: Gép, berendezés
B47: Irányítástechnika, energiaellátás
B49: VÍZTÁROLÓK
B50: Épület, építmény
B52: Gép, berendezés
B54: Irányítástechnika, energiaellátás
B56: NYOMÁSFOKOZÓK
B57: Épület, építmény
B59: Gép, berendezés
B61: Irányítástechnika, energiaellátás
B63: Összesen: | J63: =SUM(J42:J62) -> 0 | K63: 0 | O63: =SUM(O12:O62) -> 0 | P63: =SUM(P12:P62) -> 0 | Q63: =SUM(Q12:Q62) -> 0 | R63: =SUM(R12:R62) -> 0 | S63: =SUM(S12:S62) -> 0 | T63: =SUM(T12:T62) -> 0 | U63: =SUM(U12:U62) -> 0 | V63: =SUM(V12:V62) -> 0 | ... AC63: =SUM(AC12:AC62) -> 0
B66: Rendelkezésre álló források megnevezése | C66: Rendelkezésre álló források számszerűsített értéke a teljes ütem tekintetében (eFt)
A67: I. ütem | B67: Fejlesztési díj (2019) | C67: =K63 -> 0
A68: II. ütem | B68: Fejlesztési díj (2020-2023) | C68: =C67*4 -> 0
A69: III. ütem | B69: Fejlesztési díj (2024-2033) | C69: =C67*10 -> 0

Sheet Csatár
A1: Gördülő fejlesztési terv a 2019 - 2033 időszakra
A2: BERUHÁZÁSOK ÖSSZEFOGLALÓ TÁBLÁZATA
A3: A tervet benyújtó szervezet megnevezése: | K3: CSATÁR | R3: ellátásért felelős / ellátásért felelősök képviselője / víziközmű-szolgáltató *
A4: Víziközmű-szolgáltató megnevezése: | K4: ÉSZAK ZALAI VÍZ- ÉS CSATORNAMŰ ZÁRTKÖRŰEN MŰKÖDŐ RÉSZVÉNYTÁRSASÁG
A5: Víziközmű-szolgáltatási ágazat megnevezése: | K5: IVÓVÍZ ÁGAZAT
A6: Véleményeltérést megfogalmazó érintett fél megnevezése:
A7: Víziközmű-rendszer kódja: ** | K7: 11-32054-1-025-01-14 | R7: Zalaegerszeg-IV
A8: I. Felszín alatti vízkivétel
A9: Fontossági sorrend | B9: Felujítás és pótlás megnevezése | E9: Műszaki állapot felmérés, szükségességi indoklás | H9: Vízjogi létesítési/elvi engedély száma | I9: Az érintett ellátásért felelős(ök) megnevezése | J9: Tervezett nettó költség | K9: Forrás 2019 évre | L9: Megvalósítás időtartama | N9: Tervezett időtáv | O9: A beruházás ütemezése a tervezési időszak évei szerint
E10: Jelenlegi műszaki állapot | F10: Feladat szükségessége | G10: Megvalósítást követő várható műszaki állapot | J10: (eFt) | L10: Kezdés | M10: Befejezés | N10: (rövid / közép / hosszú) | O10: 1 | P10: 2 | Q10: 3 | R10: 4 | S10: 5 | T10: 6 | U10: 7 | V10: 8 | W10: 9 | X10: 10 | Y10: 11 | Z10: 12 | AA10: 13 | AB10: 14 | AC10: 15
B11: szakág | C11: Helyszín | D11: beruházás megnevezése
B13: MÉLYFÚRÁSÚ KÚT, HAGYOMÁNYOS ÁTMÉRŐVEL
B14: Épület, építmény
B16: Gép, berendezés
B18: Irányítástechnika, energiaellátás
B20: Összesen: | J20: =SUM(J12:J18) -> 0
A22: III. Vízműtelep és vízkezelő létesítmények
C23: Helyszín | D23: beruházás megnevezése
B24: VÍZMŰTELEP
B25: Épület, építmény
B27: Gép, berendezés
B29: Irányítástechnika, energiaellátás
B31: VÍZKEZELŐ LÉTESÍTMÉNYEK
B32: Épület, építmény
B34: Gép, berendezés
B36: Irányítástechnika, energiaellátás
B38: Összesen | J38: =SUM(J24:J37) -> 0
A40: IV. Vízelosztás
C41: Helyszín | D41: beruházás megnevezése
B42: IVÓVÍZHÁLÓZAT
B43: Épület, építmény
B45: Gép, berendezés
B47: Irányítástechnika, energiaellátás
B49: VÍZTÁROLÓK
B50: Épület, építmény
B52: Gép, berendezés
B54: Irányítástechnika, energiaellátás
B56: NYOMÁSFOKOZÓK
B57: Épület, építmény
B59: Gép, berendezés
B61: Irányítástechnika, energiaellátás
B63: Összesen: | J63: =SUM(J42:J62) -> 0 | K63: 0 | O63: =SUM(O12:O62) -> 0 | P63: =SUM(P12:P62) -> 0 | Q63: =SUM(Q12:Q62) -> 0 | R63: =SUM(R12:R62) -> 0 | S63: =SUM(S12:S62) -> 0 | T63: =SUM(T12:T62) -> 0 | U63: =SUM(U12:U62) -> 0 | V63: =SUM(V12:V62) -> 0 | ... AC63: =SUM(AC12:AC62) -> 0
B66: Rendelkezésre álló források megnevezése | C66: Rendelkezésre álló források számszerűsített értéke a teljes ütem tekintetében (eFt)
A67: I. ütem | B67: Fejlesztési díj (2019) | C67: =K63 -> 0
A68: II. ütem | B68: Fejlesztési díj (2020-2023) | C68: =C67*4 -> 0
A69: III. ütem | B69: Fejlesztési díj (2024-2033) | C69: =C67*10 -> 0

Sheet Hottó
A1: Gördülő fejlesztési terv a 2019 - 2033 időszakra
A2: BERUHÁZÁSOK ÖSSZEFOGLALÓ TÁBLÁZATA
A3: A tervet benyújtó szervezet megnevezése: | K3: HOTTÓ | R3: ellátásért felelős / ellátásért felelősök képviselője / víziközmű-szolgáltató *
A4: Víziközmű-szolgáltató megnevezése: | K4: ÉSZAK ZALAI VÍZ- ÉS CSATORNAMŰ ZÁRTKÖRŰEN MŰKÖDŐ RÉSZVÉNYTÁRSASÁG
A5: Víziközmű-szolgáltatási ágazat megnevezése: | K5: IVÓVÍZ ÁGAZAT
A6: Véleményeltérést megfogalmazó érintett fél megnevezése:
A7: Víziközmű-rendszer kódja: ** | K7: 11-32054-1-025-01-14 | R7: Zalaegerszeg-IV
A8: I. Felszín alatti vízkivétel
A9: Fontossági sorrend | B9: Felujítás és pótlás megnevezése | E9: Műszaki állapot felmérés, szükségességi indoklás | H9: Vízjogi létesítési/elvi engedély száma | I9: Az érintett ellátásért felelős(ök) megnevezése | J9: Tervezett nettó költség | K9: Forrás 2019 évre | L9: Megvalósítás időtartama | N9: Tervezett időtáv | O9: A beruházás ütemezése a tervezési időszak évei szerint
E10: Jelenlegi műszaki állapot | F10: Feladat szükségessége | G10: Megvalósítást követő várható műszaki állapot | J10: (eFt) | L10: Kezdés | M10: Befejezés | N10: (rövid / közép / hosszú) | O10: 1 | P10: 2 | Q10: 3 | R10: 4 | S10: 5 | T10: 6 | U10: 7 | V10: 8 | W10: 9 | X10: 10 | Y10: 11 | Z10: 12 | AA10: 13 | AB10: 14 | AC10: 15
B11: szakág | C11: Helyszín | D11: beruházás megnevezése
B13: MÉLYFÚRÁSÚ KÚT, HAGYOMÁNYOS ÁTMÉRŐVEL
B14: Épület, építmény
B16: Gép, berendezés
B18: Irányítástechnika, energiaellátás
B20: Összesen: | J20: =SUM(J12:J18) -> 0
A22: III. Vízműtelep és vízkezelő létesítmények
C23: Helyszín | D23: beruházás megnevezése
B24: VÍZMŰTELEP
B25: Épület, építmény
B27: Gép, berendezés
B29: Irányítástechnika, energiaellátás
B31: VÍZKEZELŐ LÉTESÍTMÉNYEK
B32: Épület, építmény
B34: Gép, berendezés
B36: Irányítástechnika, energiaellátás
B38: Összesen | J38: =SUM(J24:J37) -> 0
A40: IV. Vízelosztás
C41: Helyszín | D41: beruházás megnevezése
B42: IVÓVÍZHÁLÓZAT
B43: Épület, építmény
B45: Gép, berendezés
B47: Irányítástechnika, energiaellátás
B49: VÍZTÁROLÓK
B50: Épület, építmény
B52: Gép, berendezés
B54: Irányítástechnika, energiaellátás
B56: NYOMÁSFOKOZÓK
B57: Épület, építmény
B59: Gép, berendezés
B61: Irányítástechnika, energiaellátás
B63: Összesen: | J63: =SUM(J42:J62) -> 0 | K63: 0 | O63: =SUM(O12:O62) -> 0 | P63: =SUM(P12:P62) -> 0 | Q63: =SUM(Q12:Q62) -> 0 | R63: =SUM(R12:R62) -> 0 | S63: =SUM(S12:S62) -> 0 | T63: =SUM(T12:T62) -> 0 | U63: =SUM(U12:U62) -> 0 | V63: =SUM(V12:V62) -> 0 | ... AC63: =SUM(AC12:AC62) -> 0
B66: Rendelkezésre álló források megnevezése | C66: Rendelkezésre álló források számszerűsített értéke a teljes ütem tekintetében (eFt)
A67: I. ütem | B67: Fejlesztési díj (2019) | C67: =K63 -> 0
A68: II. ütem | B68: Fejlesztési díj (2020-2023) | C68: =C67*4 -> 0
A69: III. ütem | B69: Fejlesztési díj (2024-2033) | C69: =C67*10 -> 0

Sheet Kiskutas
A1: Gördülő fejlesztési terv a 2019 - 2033 időszakra
A2: BERUHÁZÁSOK ÖSSZEFOGLALÓ TÁBLÁZATA
A3: A tervet benyújtó szervezet megnevezése: | K3: KISKUTAS | R3: ellátásért felelős / ellátásért felelősök képviselője / víziközmű-szolgáltató *
A4: Víziközmű-szolgáltató megnevezése: | K4: ÉSZAK ZALAI VÍZ- ÉS CSATORNAMŰ ZÁRTKÖRŰEN MŰKÖDŐ RÉSZVÉNYTÁRSASÁG
A5: Víziközmű-szolgáltatási ágazat megnevezése: | K5: IVÓVÍZ ÁGAZAT
A6: Véleményeltérést megfogalmazó érintett fél megnevezése:
A7: Víziközmű-rendszer kódja: ** | K7: 11-32054-1-025-01-14 | R7: Zalaegerszeg-IV
A8: I. Felszín alatti vízkivétel
A9: Fontossági sorrend | B9: Felujítás és pótlás megnevezése | E9: Műszaki állapot felmérés, szükségességi indoklás | H9: Vízjogi létesítési/elvi engedély száma | I9: Az érintett ellátásért felelős(ök) megnevezése | J9: Tervezett nettó költség | K9: Forrás 2019 évre | L9: Megvalósítás időtartama | N9: Tervezett időtáv | O9: A beruházás ütemezése a tervezési időszak évei szerint
E10: Jelenlegi műszaki állapot | F10: Feladat szükségessége | G10: Megvalósítást követő várható műszaki állapot | J10: (eFt) | L10: Kezdés | M10: Befejezés | N10: (rövid / közép / hosszú) | O10: 1 | P10: 2 | Q10: 3 | R10: 4 | S10: 5 | T10: 6 | U10: 7 | V10: 8 | W10: 9 | X10: 10 | Y10: 11 | Z10: 12 | AA10: 13 | AB10: 14 | AC10: 15
B11: szakág | C11: Helyszín | D11: beruházás megnevezése
B13: MÉLYFÚRÁSÚ KÚT, HAGYOMÁNYOS ÁTMÉRŐVEL
B14: Épület, építmény
B16: Gép, berendezés
B18: Irányítástechnika, energiaellátás
B20: Összesen: | J20: =SUM(J12:J18) -> 0
A22: III. Vízműtelep és vízkezelő létesítmények
C23: Helyszín | D23: beruházás megnevezése
B24: VÍZMŰTELEP
B25: Épület, építmény
B27: Gép, berendezés
B29: Irányítástechnika, energiaellátás
B31: VÍZKEZELŐ LÉTESÍTMÉNYEK
B32: Épület, építmény
B34: Gép, berendezés
B36: Irányítástechnika, energiaellátás
B38: Összesen | J38: =SUM(J24:J37) -> 0
A40: IV. Vízelosztás
C41: Helyszín | D41: beruházás megnevezése
B42: IVÓVÍZHÁLÓZAT
B43: Épület, építmény
B45: Gép, berendezés
B47: Irányítástechnika, energiaellátás
B49: VÍZTÁROLÓK
B50: Épület, építmény
B52: Gép, berendezés
B54: Irányítástechnika, energiaellátás
B56: NYOMÁSFOKOZÓK
B57: Épület, építmény
B59: Gép, berendezés
B61: Irányítástechnika, energiaellátás
B63: Összesen: | J63: =SUM(J42:J62) -> 0 | K63: 0 | O63: =SUM(O12:O62) -> 0 | P63: =SUM(P12:P62) -> 0 | Q63: =SUM(Q12:Q62) -> 0 | R63: =SUM(R12:R62) -> 0 | S63: =SUM(S12:S62) -> 0 | T63: =SUM(T12:T62) -> 0 | U63: =SUM(U12:U62) -> 0 | V63: =SUM(V12:V62) -> 0 | ... AC63: =SUM(AC12:AC62) -> 0
B66: Rendelkezésre álló források megnevezése | C66: Rendelkezésre álló források számszerűsített értéke a teljes ütem tekintetében (eFt)
A67: I. ütem | B67: Fejlesztési díj (2019) | C67: 0
A68: II. ütem | B68: Fejlesztési díj (2020-2023) | C68: =C67*4 -> 0
A69: III. ütem | B69: Fejlesztési díj (2024-2033) | C69: =C67*10 -> 0

Sheet Nagykutas
A1: Gördülő fejlesztési terv a 2019 - 2033 időszakra
A2: BERUHÁZÁSOK ÖSSZEFOGLALÓ TÁBLÁZATA
A3: A tervet benyújtó szervezet megnevezése: | K3: NAGYKUTAS | R3: ellátásért felelős / ellátásért felelősök képviselője / víziközmű-szolgáltató *
A4: Víziközmű-szolgáltató megnevezése: | K4: ÉSZAK ZALAI VÍZ- ÉS CSATORNAMŰ ZÁRTKÖRŰEN MŰKÖDŐ RÉSZVÉNYTÁRSASÁG
A5: Víziközmű-szolgáltatási ágazat megnevezése: | K5: IVÓVÍZ ÁGAZAT
A6: Véleményeltérést megfogalmazó érintett fél megnevezése:
A7: Víziközmű-rendszer kódja: ** | K7: 11-32054-1-025-01-14 | R7: Zalaegerszeg-IV
A8: I. Felszín alatti vízkivétel
A9: Fontossági sorrend | B9: Felujítás és pótlás megnevezése | E9: Műszaki állapot felmérés, szükségességi indoklás | H9: Vízjogi létesítési/elvi engedély száma | I9: Az érintett ellátásért felelős(ök) megnevezése | J9: Tervezett nettó költség | K9: Forrás 2019 évre | L9: Megvalósítás időtartama | N9: Tervezett időtáv | O9: A beruházás ütemezése a tervezési időszak évei szerint
E10: Jelenlegi műszaki állapot | F10: Feladat szükségessége | G10: Megvalósítást követő várható műszaki állapot | J10: (eFt) | L10: Kezdés | M10: Befejezés | N10: (rövid / közép / hosszú) | O10: 1 | P10: 2 | Q10: 3 | R10: 4 | S10: 5 | T10: 6 | U10: 7 | V10: 8 | W10: 9 | X10: 10 | Y10: 11 | Z10: 12 | AA10: 13 | AB10: 14 | AC10: 15
B11: szakág | C11: Helyszín | D11: beruházás megnevezése
B13: MÉLYFÚRÁSÚ KÚT, HAGYOMÁNYOS ÁTMÉRŐVEL
B14: Épület, építmény
B16: Gép, berendezés
B18: Irányítástechnika, energiaellátás
B20: Összesen: | J20: =SUM(J12:J18) -> 0
A22: III. Vízműtelep és vízkezelő létesítmények
C23: Helyszín | D23: beruházás megnevezése
B24: VÍZMŰTELEP
B25: Épület, építmény
B27: Gép, berendezés
B29: Irányítástechnika, energiaellátás
B31: VÍZKEZELŐ LÉTESÍTMÉNYEK
B32: Épület, építmény
B34: Gép, berendezés
B36: Irányítástechnika, energiaellátás
B38: Összesen | J38: =SUM(J24:J37) -> 0
A40: IV. Vízelosztás
C41: Helyszín | D41: beruházás megnevezése
B42: IVÓVÍZHÁLÓZAT
B43: Épület, építmény
B45: Gép, berendezés
B47: Irányítástechnika, energiaellátás
B49: VÍZTÁROLÓK
B50: Épület, építmény
B52: Gép, berendezés
B54: Irányítástechnika, energiaellátás
B56: NYOMÁSFOKOZÓK
B57: Épület, építmény
B59: Gép, berendezés
B61: Irányítástechnika, energiaellátás
B63: Összesen: | J63: =SUM(J42:J62) -> 0 | K63: 0 | O63: =SUM(O12:O62) -> 0 | P63: =SUM(P12:P62) -> 0 | Q63: =SUM(Q12:Q62) -> 0 | R63: =SUM(R12:R62) -> 0 | S63: =SUM(S12:S62) -> 0 | T63: =SUM(T12:T62) -> 0 | U63: =SUM(U12:U62) -> 0 | V63: =SUM(V12:V62) -> 0 | ... AC63: =SUM(AC12:AC62) -> 0
B66: Rendelkezésre álló források megnevezése | C66: Rendelkezésre álló források számszerűsített értéke a teljes ütem tekintetében (eFt)
A67: I. ütem | B67: Fejlesztési díj (2019) | C67: =K63 -> 0
A68: II. ütem | B68: Fejlesztési díj (2020-2023) | C68: =C67*4 -> 0
A69: III. ütem | B69: Fejlesztési díj (2024-2033) | C69: =C67*10 -> 0

Sheet Sárhida
A1: Gördülő fejlesztési terv a 2019 - 2033 időszakra
A2: BERUHÁZÁSOK ÖSSZEFOGLALÓ TÁBLÁZATA
A3: A tervet benyújtó szervezet megnevezése: | K3: SÁRHIDA | R3: ellátásért felelős / ellátásért felelősök képviselője / víziközmű-szolgáltató *
A4: Víziközmű-szolgáltató megnevezése: | K4: ÉSZAK ZALAI VÍZ- ÉS CSATORNAMŰ ZÁRTKÖRŰEN MŰKÖDŐ RÉSZVÉNYTÁRSASÁG
A5: Víziközmű-szolgáltatási ágazat megnevezése: | K5: IVÓVÍZ ÁGAZAT
A6: Véleményeltérést megfogalmazó érintett fél megnevezése:
A7: Víziközmű-rendszer kódja: ** | K7: 11-32054-1-025-01-14 | R7: Zalaegerszeg-IV
A8: I. Felszín alatti vízkivétel
A9: Fontossági sorrend | B9: Felujítás és pótlás megnevezése | E9: Műszaki állapot felmérés, szükségességi indoklás | H9: Vízjogi létesítési/elvi engedély száma | I9: Az érintett ellátásért felelős(ök) megnevezése | J9: Tervezett nettó költség | K9: Forrás 2019 évre | L9: Megvalósítás időtartama | N9: Tervezett időtáv | O9: A beruházás ütemezése a tervezési időszak évei szerint
E10: Jelenlegi műszaki állapot | F10: Feladat szükségessége | G10: Megvalósítást követő várható műszaki állapot | J10: (eFt) | L10: Kezdés | M10: Befejezés | N10: (rövid / közép / hosszú) | O10: 1 | P10: 2 | Q10: 3 | R10: 4 | S10: 5 | T10: 6 | U10: 7 | V10: 8 | W10: 9 | X10: 10 | Y10: 11 | Z10: 12 | AA10: 13 | AB10: 14 | AC10: 15
B11: szakág | C11: Helyszín | D11: beruházás megnevezése
B13: MÉLYFÚRÁSÚ KÚT, HAGYOMÁNYOS ÁTMÉRŐVEL
B14: Épület, építmény
B16: Gép, berendezés
B18: Irányítástechnika, energiaellátás
B20: Összesen: | J20: =SUM(J12:J18) -> 0
A22: III. Vízműtelep és vízkezelő létesítmények
C23: Helyszín | D23: beruházás megnevezése
B24: VÍZMŰTELEP
B25: Épület, építmény
B27: Gép, berendezés
B29: Irányítástechnika, energiaellátás
B31: VÍZKEZELŐ LÉTESÍTMÉNYEK
B32: Épület, építmény
B34: Gép, berendezés
B36: Irányítástechnika, energiaellátás
B38: Összesen | J38: =SUM(J24:J37) -> 0
A40: IV. Vízelosztás
C41: Helyszín | D41: beruházás megnevezése
B42: IVÓVÍZHÁLÓZAT
B43: Épület, építmény
B45: Gép, berendezés
B47: Irányítástechnika, energiaellátás
B49: VÍZTÁROLÓK
B50: Épület, építmény
B52: Gép, berendezés
B54: Irányítástechnika, energiaellátás
B56: NYOMÁSFOKOZÓK
B57: Épület, építmény
B59: Gép, berendezés
B61: Irányítástechnika, energiaellátás
B63: Összesen: | J63: =SUM(J42:J62) -> 0 | K63: 0 | O63: =SUM(O12:O62) -> 0 | P63: =SUM(P12:P62) -> 0 | Q63: =SUM(Q12:Q62) -> 0 | R63: =SUM(R12:R62) -> 0 | S63: =SUM(S12:S62) -> 0 | T63: =SUM(T12:T62) -> 0 | U63: =SUM(U12:U62) -> 0 | V63: =SUM(V12:V62) -> 0 | ... AC63: =SUM(AC12:AC62) -> 0
B66: Rendelkezésre álló források megnevezése | C66: Rendelkezésre álló források számszerűsített értéke a teljes ütem tekintetében (eFt)
A67: I. ütem | B67: Fejlesztési díj (2019) | C67: =K63 -> 0
A68: II. ütem | B68: Fejlesztési díj (2020-2023) | C68: =C67*4 -> 0
A69: III. ütem | B69: Fejlesztési díj (2024-2033) | C69: =C67*10 -> 0

Sheet Teskánd
A1: Gördülő fejlesztési terv a 2019 - 2033 időszakra
A2: BERUHÁZÁSOK ÖSSZEFOGLALÓ TÁBLÁZATA
A3: A tervet benyújtó szervezet megnevezése: | K3: TESKÁND | R3: ellátásért felelős / ellátásért felelősök képviselője / víziközmű-szolgáltató *
A4: Víziközmű-szolgáltató megnevezése: | K4: ÉSZAK ZALAI VÍZ- ÉS CSATORNAMŰ ZÁRTKÖRŰEN MŰKÖDŐ RÉSZVÉNYTÁRSASÁG
A5: Víziközmű-szolgáltatási ágazat megnevezése: | K5: IVÓVÍZ ÁGAZAT
A6: Véleményeltérést megfogalmazó érintett fél megnevezése:
A7: Víziközmű-rendszer kódja: ** | K7: 11-32054-1-025-01-14 | R7: Zalaegerszeg-IV
A8: I. Felszín alatti vízkivétel
A9: Fontossági sorrend | B9: Felujítás és pótlás megnevezése | E9: Műszaki állapot felmérés, szükségességi indoklás | H9: Vízjogi létesítési/elvi engedély száma | I9: Az érintett ellátásért felelős(ök) megnevezése | J9: Tervezett nettó költség | K9: Forrás 2019 évre | L9: Megvalósítás időtartama | N9: Tervezett időtáv | O9: A beruházás ütemezése a tervezési időszak évei szerint
E10: Jelenlegi műszaki állapot | F10: Feladat szükségessége | G10: Megvalósítást követő várható műszaki állapot | J10: (eFt) | L10: Kezdés | M10: Befejezés | N10: (rövid / közép / hosszú) | O10: 1 | P10: 2 | Q10: 3 | R10: 4 | S10: 5 | T10: 6 | U10: 7 | V10: 8 | W10: 9 | X10: 10 | Y10: 11 | Z10: 12 | AA10: 13 | AB10: 14 | AC10: 15
B11: szakág | C11: Helyszín | D11: beruházás megnevezése
B13: MÉLYFÚRÁSÚ KÚT, HAGYOMÁNYOS ÁTMÉRŐVEL
B14: Épület, építmény
B16: Gép, berendezés
B18: Irányítástechnika, energiaellátás
B20: Összesen: | J20: =SUM(J12:J18) -> 0
A22: III. Vízműtelep és vízkezelő létesítmények
C23: Helyszín | D23: beruházás megnevezése
B24: VÍZMŰTELEP
B25: Épület, építmény
B27: Gép, berendezés
B29: Irányítástechnika, energiaellátás
B31: VÍZKEZELŐ LÉTESÍTMÉNYEK
B32: Épület, építmény
B34: Gép, berendezés
B36: Irányítástechnika, energiaellátás
B38: Összesen | J38: =SUM(J24:J37) -> 0
A40: IV. Vízelosztás
C41: Helyszín | D41: beruházás megnevezése
B42: IVÓVÍZHÁLÓZAT
B43: Épület, építmény
B45: Gép, berendezés
B47: Irányítástechnika, energiaellátás
B49: VÍZTÁROLÓK
B50: Épület, építmény
B52: Gép, berendezés
B54: Irányítástechnika, energiaellátás
B56: NYOMÁSFOKOZÓK
B57: Épület, építmény
B59: Gép, berendezés
B61: Irányítástechnika, energiaellátás
B63: Összesen: | J63: =SUM(J42:J62) -> 0 | K63: 0 | O63: =SUM(O12:O62) -> 0 | P63: =SUM(P12:P62) -> 0 | Q63: =SUM(Q12:Q62) -> 0 | R63: =SUM(R12:R62) -> 0 | S63: =SUM(S12:S62) -> 0 | T63: =SUM(T12:T62) -> 0 | U63: =SUM(U12:U62) -> 0 | V63: =SUM(V12:V62) -> 0 | ... AC63: =SUM(AC12:AC62) -> 0
B66: Rendelkezésre álló források megnevezése | C66: Rendelkezésre álló források számszerűsített értéke a teljes ütem tekintetében (eFt)
A67: I. ütem | B67: Fejlesztési díj (2019) | C67: =K63 -> 0
A68: II. ütem | B68: Fejlesztési díj (2020-2023) | C68: =C67*4 -> 0
A69: III. ütem | B69: Fejlesztési díj (2024-2033) | C69: =C67*10 -> 0

Sheet Zalaegerszeg
A1: Gördülő fejlesztési terv a 2019 - 2033 időszakra
A2: BERUHÁZÁSOK ÖSSZEFOGLALÓ TÁBLÁZATA
A3: A tervet benyújtó szervezet megnevezése: | K3: ZALAEGERSZEG | R3: ellátásért felelős / ellátásért felelősök képviselője / víziközmű-szolgáltató *
A4: Víziközmű-szolgáltató megnevezése: | K4: ÉSZAK ZALAI VÍZ- ÉS CSATORNAMŰ ZÁRTKÖRŰEN MŰKÖDŐ RÉSZVÉNYTÁRSASÁG
A5: Víziközmű-szolgáltatási ágazat megnevezése: | K5: IVÓVÍZ ÁGAZAT
A6: Véleményeltérést megfogalmazó érintett fél megnevezése:
A7: Víziközmű-rendszer kódja: ** | K7: 11-32054-1-025-01-14 | R7: ZALAEGERSZEG-IV
A8: I. Felszín alatti vízkivétel
A9: Fontossági sorrend | B9: Felujítás és pótlás megnevezése | E9: Műszaki állapot felmérés, szükségességi indoklás | H9: Vízjogi létesítési/elvi engedély száma | I9: Az érintett ellátásért felelős(ök) megnevezése | J9: Tervezett nettó költség | K9: Forrás 2019 évre | L9: Megvalósítás időtartama | N9: Tervezett időtáv | O9: A beruházás ütemezése a tervezési időszak évei szerint
E10: Jelenlegi műszaki állapot | F10: Feladat szükségessége | G10: Megvalósítást követő várható műszaki állapot | J10: (eFt) | L10: Kezdés | M10: Befejezés | N10: (rövid / közép / hosszú) | O10: 1 | P10: 2 | Q10: 3 | R10: 4 | S10: 5 | T10: 6 | U10: 7 | V10: 8 | W10: 9 | X10: 10 | Y10: 11 | Z10: 12 | AA10: 13 | AB10: 14 | AC10: 15
B11: szakág | C11: Helyszín | D11: beruházás megnevezése
B13: MÉLYFÚRÁSÚ KÚT, HAGYOMÁNYOS ÁTMÉRŐVEL
B14: Épület, építmény
B16: Gép, berendezés
B18: Irányítástechnika, energiaellátás
B20: Összesen: | J20: =SUM(J12:J18) -> 0
A22: III. Vízműtelep és vízkezelő létesítmények
C23: Helyszín | D23: beruházás megnevezése
B24: VÍZMŰTELEP
B25: Épület, építmény
B27: Gép, berendezés
B29: Irányítástechnika, energiaellátás
B31: VÍZKEZELŐ LÉTESÍTMÉNYEK
B32: Épület, építmény
B34: Gép, berendezés
A35: 1 | C35: Zalaegerszeg Keleti vízbázisról ellátott települések | D35: ivóvízminőség javítása és vízellátásának fejlesztése | I35: Zalaegerszeg | J35: =SUM(O35:AC35) -> 1168084 | L35: 43466 | M35: 43830 | N35: rövid | O35: 1168084
C36: Zalaegerszeg Keleti vízbázisról ellátott települések | D36: ivóvízminőség javítása és vízellátásának fejlesztése | I36: Zalaegerszeg | J36: =SUM(O36:AC36) -> 2122156 | L36: 43831 | M36: 44561 | N36: közép | P36: 1588332 | Q36: 533824
B37: Irányítástechnika, energiaellátás
B39: Összesen | J39: =SUM(J24:J38) -> 3290240
A41: IV. Vízelosztás
C42: Helyszín | D42: beruházás megnevezése
B43: IVÓVÍZHÁLÓZAT
B44: Épület, építmény
A45: 2 | C45: Zalaegerszeg | D45: Északi Ipari Park ivóvízellátása | I45: Zalaegerszeg | J45: =SUM(O45:AC45) -> 34563 | L45: 43466 | M45: 43830 | N45: rövid | O45: 34563
A46: 3 | C46: Zalaegerszeg | D46: közcélú ivókutak telepítése | I46: Zalaegerszeg | J46: =SUM(O46:AC46) -> 2050 | L46: 43466 | M46: 43830 | N46: rövid | O46: 2050
A47: 5 | C47: Nyugat- és Dél-Dúnántúli ivóvízminőség-javító program | D47: ivóvízminőség javítása és vízellátásának fejlesztése | I47: Zalaegerszeg | J47: =SUM(O47:AC47) -> 155500 | L47: 43831 | M47: 44926 | N47: közép | P47: 45450 | Q47: 64600 | R47: 45450
B48: Gép, berendezés
B50: Irányítástechnika, energiaellátás
B52: VÍZTÁROLÓK
B53: Épület, építmény
B54: Gép, berendezés
B56: Irányítástechnika, energiaellátás
B58: NYOMÁSFOKOZÓK
B59: Épület, építmény
B60: Gép, berendezés
B62: Irányítástechnika, energiaellátás
B64: Összesen: | J64: =SUM(J43:J63) -> 192113 | K64: =SUM(D68:D70) -> 1204697 | O64: =SUM(O12:O63) -> 1204697 | P64: =SUM(P12:P63) -> 1633782 | Q64: =SUM(Q12:Q63) -> 598424 | R64: =SUM(R12:R63) -> 45450 | S64: =SUM(S12:S63) -> 0 | T64: =SUM(T12:T63) -> 0 | U64: =SUM(U12:U63) -> 0 | V64: =SUM(V12:V63) -> 0 | ... AC64: =SUM(AC12:AC63) -> 0
B67: Tervezett feladatok nettó költsége a teljes ütem tekintetében (eFt) | C67: Rendelkezésre álló források megnevezése | D67: Rendelkezésre álló források számszerűsített értéke a teljes ütem tekintetében (eFt)
A68: I. ütem | B68: =SUM(O64) -> 1204697 | C68: Használati díj (2019) | D68: 2050
A69: I. ütem | C69: KEHOP pályázati forrás | D69: 1168084
A70: I. ütem | C70: Viziközmű fejlesztés | D70: 34563
A71: II. ütem | B71: =SUM(P64:S64) -> 2277656 | C71: KEHOP pályázati forrás | D71: 2277656
A72: III. ütem | C72: Fejlesztési díj (2024-2033) | D72: 0

Sheet VKR_összesítő
A1: Gördülő fejlesztési terv a 2019 - 2033 időszakra
A2: BERUHÁZÁSOK ÖSSZEFOGLALÓ TÁBLÁZATA
A3: A tervet benyújtó szervezet megnevezése: | K3: BABOSDÖBRÉTE, BOCFÖLDE, BÖDE, CSATÁR, HOTTÓ, KISKUTAS, NAGYKUTAS, SÁRHIDA, TESKÁND, ZALAEGERSZEG | R3: ellátásért felelős / ellátásért felelősök képviselője / víziközmű-szolgáltató *
A4: Víziközmű-szolgáltató megnevezése: | K4: ÉSZAK ZALAI VÍZ- ÉS CSATORNAMŰ ZÁRTKÖRŰEN MŰKÖDŐ RÉSZVÉNYTÁRSASÁG
A5: Víziközmű-szolgáltatási ágazat megnevezése: | K5: IVÓVÍZ ÁGAZAT
A6: Véleményeltérést megfogalmazó érintett fél megnevezése:
A7: Víziközmű-rendszer kódja: ** | K7: 11-32054-1-025-01-14 | R7: ZALAEGERSZEG-IV
A8: I. Felszín alatti vízkivétel
A9: Fontossági sorrend | B9: Felujítás és pótlás megnevezése | E9: Műszaki állapot felmérés, szükségességi indoklás | H9: Vízjogi létesítési/elvi engedély száma | I9: Az érintett ellátásért felelős(ök) megnevezése | J9: Tervezett nettó költség | K9: Forrás 2019 évre | L9: Megvalósítás időtartama | N9: Tervezett időtáv | O9: A beruházás ütemezése a tervezési időszak évei szerint
E10: Jelenlegi műszaki állapot | F10: Feladat szükségessége | G10: Megvalósítást követő várható műszaki állapot | J10: (eFt) | L10: Kezdés | M10: Befejezés | N10: (rövid / közép / hosszú) | O10: 1 | P10: 2 | Q10: 3 | R10: 4 | S10: 5 | T10: 6 | U10: 7 | V10: 8 | W10: 9 | X10: 10 | Y10: 11 | Z10: 12 | AA10: 13 | AB10: 14 | AC10: 15
B11: szakág | C11: Helyszín | D11: beruházás megnevezése
B13: MÉLYFÚRÁSÚ KÚT, HAGYOMÁNYOS ÁTMÉRŐVEL
B14: Épület, építmény
B16: Gép, berendezés
B18: Irányítástechnika, energiaellátás
B20: Összesen: | J20: =SUM(J13:J18) -> 0
A22: III. Vízműtelep és vízkezelő létesítmények
C23: Helyszín | D23: beruházás megnevezése
B24: VÍZMŰTELEP
B25: Épület, építmény
B27: Gép, berendezés
B29: Irányítástechnika, energiaellátás
B31: VÍZKEZELŐ LÉTESÍTMÉNYEK
B32: Épület, építmény
B34: Gép, berendezés
A35: =Zalaegerszeg!A35 -> 1 | C35: =Zalaegerszeg!C35 -> Zalaegerszeg Keleti vízbázisról ellátott települések | D35: =Zalaegerszeg!D35 -> ivóvízminőség javítása és vízellátásának fejlesztése | I35: =Zalaegerszeg!I35 -> Zalaegerszeg | J35: =Zalaegerszeg!J35 -> 1168084 | L35: =Zalaegerszeg!L35 -> 43466 | M35: =Zalaegerszeg!M35 -> 43830 | N35: =Zalaegerszeg!N35 -> rövid | O35: =Zalaegerszeg!O35 -> 1168084
A36: =Zalaegerszeg!A36 -> 0 | C36: =Zalaegerszeg!C36 -> Zalaegerszeg Keleti vízbázisról ellátott települések | D36: =Zalaegerszeg!D36 -> ivóvízminőség javítása és vízellátásának fejlesztése | I36: =Zalaegerszeg!I36 -> Zalaegerszeg | J36: =Zalaegerszeg!J36 -> 2122156 | L36: =Zalaegerszeg!L36 -> 43831 | M36: =Zalaegerszeg!M36 -> 44561 | N36: =Zalaegerszeg!N36 -> közép | P36: =Zalaegerszeg!P36 -> 1588332 | Q36: =Zalaegerszeg!Q36 -> 533824
B37: Irányítástechnika, energiaellátás
B39: Összesen | J39: =SUM(J24:J38) -> 3290240
A41: IV. Vízelosztás
C42: Helyszín | D42: beruházás megnevezése
B43: IVÓVÍZHÁLÓZAT
B44: Épület, építmény
A45: =Németfalu!A44 -> 4 | C45: =Németfalu!C44 -> Németfalu. Kossuth u. | D45: =Németfalu!D44 -> gerincvezeték új építés | I45: =Németfalu!I44 -> Németfalu | J45: =Németfalu!J44 -> 990 | L45: =Németfalu!L44 -> 43466 | M45: =Németfalu!M44 -> 43830 | N45: =Németfalu!N44 -> rövid | O45: =Németfalu!O44 -> 990
A46: =Zalaegerszeg!A45 -> 2 | C46: =Zalaegerszeg!C45 -> Zalaegerszeg | D46: =Zalaegerszeg!D45 -> Északi Ipari Park ivóvízellátása | I46: =Zalaegerszeg!I45 -> Zalaegerszeg | J46: =Zalaegerszeg!J45 -> 34563 | L46: =Zalaegerszeg!L45 -> 43466 | M46: =Zalaegerszeg!M45 -> 43830 | N46: =Zalaegerszeg!N45 -> rövid | O46: =Zalaegerszeg!O45 -> 34563
A47: =Zalaegerszeg!A46 -> 3 | C47: =Zalaegerszeg!C46 -> Zalaegerszeg | D47: =Zalaegerszeg!D46 -> közcélú ivókutak telepítése | I47: =Zalaegerszeg!I46 -> Zalaegerszeg | J47: =Zalaegerszeg!J46 -> 2050 | L47: =Zalaegerszeg!L46 -> 43466 | M47: =Zalaegerszeg!M46 -> 43830 | N47: =Zalaegerszeg!N46 -> rövid | O47: =Zalaegerszeg!O46 -> 2050
A48: =Zalaegerszeg!A47 -> 5 | C48: =Zalaegerszeg!C47 -> Nyugat- és Dél-Dúnántúli ivóvízminőség-javító program | D48: =Zalaegerszeg!D47 -> ivóvízminőség javítása és vízellátásának fejlesztése | I48: =Zalaegerszeg!I47 -> Zalaegerszeg | J48: =Zalaegerszeg!J47 -> 155500 | L48: =Zalaegerszeg!L47 -> 43831 | M48: =Zalaegerszeg!M47 -> 44926 | N48: =Zalaegerszeg!N47 -> közép | P48: =Zalaegerszeg!P47 -> 45450 | Q48: =Zalaegerszeg!Q47 -> 64600 | R48: =Zalaegerszeg!R47 -> 45450
B49: Gép, berendezés
B51: Irányítástechnika, energiaellátás
B53: VÍZTÁROLÓK
B54: Épület, építmény
B56: Gép, berendezés
B58: Irányítástechnika, energiaellátás
B60: NYOMÁSFOKOZÓK
B61: Épület, építmény
B63: Gép, berendezés
B65: Irányítástechnika, energiaellátás
B67: Összesen: | J67: =SUM(J43:J66) -> 193103 | K67: =SUM(D71:D73) -> 1204697 | O67: =SUM(O12:O66) -> 1205687 | P67: =SUM(P12:P66) -> 1633782 | Q67: =SUM(Q12:Q66) -> 598424 | R67: =SUM(R12:R66) -> 45450 | S67: =SUM(S12:S66) -> 0 | T67: =SUM(T12:T66) -> 0 | U67: =SUM(U12:U66) -> 0 | V67: =SUM(V12:V66) -> 0 | ... AC67: =SUM(AC12:AC66) -> 0
K68: 2019 évre a forrás biztosított
B70: Tervezett feladatok nettó költsége a teljes ütem tekintetében (eFt) | C70: Rendelkezésre álló források megnevezése | D70: Rendelkezésre álló források számszerűsített értéke a teljes ütem tekintetében (eFt)
A71: I. ütem | B71: =SUM(O67) -> 1205687 | C71: Fejlesztési díj (2019) | D71: =Babosdöbréte!C67+Bocfölde!C67+Böde!C67+Csatár!C67+Hottó!C67+Kiskutas!C67+Nagykutas!C67+Sárhida!C67+Teskánd!C67+Zalaegerszeg!D68 -> 2050
A72: I. ütem | C72: KEHOP pályázati forrás | D72: =Zalaegerszeg!D69 -> 1168084
A73: I. ütem | C73: Viziközmű fejlesztés | D73: =Zalaegerszeg!D70 -> 34563
A74: I.ütem | C74: Önkormányzati saját forrás (2019)
A75: II. ütem | B75: =SUM(P67:S67) -> 2277656 | C75: KEHOP pályázati forrás | D75: =Babosdöbréte!C68+Bocfölde!C68+Böde!C68+Csatár!C68+Hottó!C68+Kiskutas!C68+Nagykutas!C68+Sárhida!C68+Teskánd!C68+Zalaegerszeg!D71 -> 2277656
A76: III. ütem | C76: Fejlesztési díj (2024-2033) | D76: =Babosdöbréte!C69+Bocfölde!C69+Böde!C69+Csatár!C69+Hottó!C69+Kiskutas!C69+Nagykutas!C69+Sárhida!C69+Teskánd!C69+Zalaegerszeg!D72 -> 0
