Workbook

Sheet Előlap
A2: Az adatszolgáltatás
A3: MEKH azonosítószáma: | B3: VK_GFT-JH_F-IV
A4: címe: | B4: GFT-Jóváhagyás_Felújítás-Ivóvíz
A5: gyakorisága: | B5: Éves
A6: beszámolási időszak: | B6: 2026-01-01
A7: Tárgyidőszak kezdete | B7: =LEFT(B6,4)+1 -> 2027
A8: Tárgyidőszak vége | B8: =LEFT(B6,4)+10 -> 2036
A9: teljesítésének határideje: | B9: 2026-10-01
A12: Az adatszolgáltató
A13: neve: | B13: ZALAVÍZ Zrt.
A14: címe: | B14: 8900 Zalaegerszeg, Balatoni út 8. (2735/17 hrsz.)
A15: MEKH nyilvántartási kódja: | B15: 11354286

Sheet Összesítő
N1: H/1 -- Forrás megnevezése (I. ütem) | AA1: H/2 -- Forrás megnevezése (II. ütem)
A2: Sorszám | B2: Víziközmű-rendszer megnevezése | C2: Víziközmű-rendszer hivatali kódja | D2: ISA | E2: Az érintett ellátásért felelős(ök) megnevezése | F2: Ellátási terület | G2: Ellenőrzés | I2: Tervezett nettó költség [eFt] | J2: A beruházás tervezett nettó költsége a tervezési időszak ütemezése szerint [eFt] - I. ütem | K2: A beruházás tervezett nettó költsége a tervezési időszak ütemezése szerint [eFt] - II. ütem | L2: Az EM rendelet 2. melléklet terhére elszámolni tervezett költség | N2: Használati díj [eFt] | O2: ÉCS [eFt] | P2: Közműfejlesztési hozzájárulás [eFt] | Q2: Egyéb saját forrás [eFt] | R2: Díj [eFt] | S2: VFEA - EM rendelet 1. melléklet | T2: Egyéb állami támogatás [eFt] | U2: Önkormányzati támogatás [eFt] | V2: EU-s támogatás [eFt] | W2: Egyéb támogatás [eFt] | X2: Banki hitel, kötvénykibocsátás [eFt] | Y2: Összesítés [eFt] | AA2: Használati díj [eFt] | AB2: ÉCS [eFt] | AC2: Közműfejlesztési hozzájárulás [eFt] | AD2: Egyéb saját forrás [eFt] | AE2: Díj [eFt] | AF2: VFEA - EM rendelet 1. melléklet | AG2: Egyéb állami támogatás [eFt] | AH2: Önkormányzati támogatás [eFt] | AI2: EU-s támogatás [eFt] | AJ2: Egyéb támogatás [eFt] | AK2: Banki hitel, kötvénykibocsátás [eFt] | AL2: Összesítés [eFt] | AS2: Hány feladat van a rendszeren | AT2: Helyes kitöltések száma | AU2: VAN rövidtávú terv? | AV2: VAN hosszútávú terv?
B3: Víziközmű-rendszer megnevezése | C3: Víziközmű-rendszer hivatali kódja | D3: ISA | E3: Az érintett ellátásért felelős(ök) megnevezése | F3: Ellátási terület | I3: =SUM(I$4:I$13033) -> 6850112 | J3: =SUM(J$4:J$13033) -> 167739 | K3: =SUM(K$4:K$13033) -> 6682373 | L3: =SUM(L$4:L$13033) -> 0 | N3: =SUM(N$4:N$3033) -> 167739 | O3: =SUM(O$4:O$3033) -> 0 | P3: =SUM(P$4:P$3033) -> 0 | Q3: =SUM(Q$4:Q$3033) -> 0 | R3: =SUM(R$4:R$3033) -> 0 | S3: =SUM(S$4:S$3033) -> 0 | T3: =SUM(T$4:T$3033) -> 0 | U3: =SUM(U$4:U$3033) -> 0 | ... Y3: =SUM(Y$4:Y$3033) -> 167739 | AA3: =SUM(AA$4:AA$3033) -> 1333882 | AB3: =SUM(AB$4:AB$3033) -> 0 | AC3: =SUM(AC$4:AC$3033) -> 0 | AD3: =SUM(AD$4:AD$3033) -> 0 | AE3: =SUM(AE$4:AE$3033) -> 0 | AF3: =SUM(AF$4:AF$3033) -> 0 | AG3: =SUM(AG$4:AG$3033) -> 0 | AH3: =SUM(AH$4:AH$3033) -> 0 | ... AL3: =SUM(AL$4:AL$3033) -> 1333882 | AR3: RÖGZÍTVE? | AS3: =SUM(AS$4:AS$3033) -> 117 | AT3: =SUM(AT$4:AT$3033) -> 117 | AU3: új | AV3: új
A4: 1637 | B4: Gutorfölde-IV | C4: 11-02097-1-001-00-15 | D4: 3129 | E4: Gutorfölde Község Önkormányzata | F4: Gutorfölde | G4: =IF(ISNA($AR4),"Nincs rögzítve!",IF(AU4=0,"Hiányzik a rövidtávú terv!",IF(AV4=0,"Hiányzik a hosszútávú terv!",IF(AS4=AT4,"Kitöltés rendben!",IF(AS4<>AT4,"Kitöltési hiba!","Kitöltési hiba!"))))) -> Nincs rögzítve! | I4: =J4+K4 -> 0 | J4: =SUMIF(F_IV_1A!$F:$F,$C4,F_IV_1A!$N:$N) -> 0 | K4: =SUMIF(F_IV_1A!$F:$F,$C4,F_IV_1A!$O:$O) -> 0 | L4: =SUMIF(F_IV_1A!$F:$F,$C4,F_IV_1A!$P:$P) -> 0 | N4: =SUMIF(F_IV_1A!$F:$F,$C4,F_IV_1A!R:R) -> 0 | O4: =SUMIF(F_IV_1A!$F:$F,$C4,F_IV_1A!S:S) -> 0 | P4: =SUMIF(F_IV_1A!$F:$F,$C4,F_IV_1A!T:T) -> 0 | Q4: =SUMIF(F_IV_1A!$F:$F,$C4,F_IV_1A!U:U) -> 0 | R4: =SUMIF(F_IV_1A!$F:$F,$C4,F_IV_1A!V:V) -> 0 | S4: =SUMIF(F_IV_1A!$F:$F,$C4,F_IV_1A!W:W) -> 0 | T4: =SUMIF(F_IV_1A!$F:$F,$C4,F_IV_1A!X:X) -> 0 | U4: =SUMIF(F_IV_1A!$F:$F,$C4,F_IV_1A!Y:Y) -> 0 | V4: =SUMIF(F_IV_1A!$F:$F,$C4,F_IV_1A!Z:Z) -> 0 | W4: =SUMIF(F_IV_1A!$F:$F,$C4,F_IV_1A!AA:AA) -> 0 | X4: =SUMIF(F_IV_1A!$F:$F,$C4,F_IV_1A!AB:AB) -> 0 | Y4: =SUM(N4:X4) -> 0 | AA4: =SUMIF(F_IV_1A!$F:$F,$C4,F_IV_1A!AF:AF) -> 0 | AB4: =SUMIF(F_IV_1A!$F:$F,$C4,F_IV_1A!AG:AG) -> 0 | AC4: =SUMIF(F_IV_1A!$F:$F,$C4,F_IV_1A!AH:AH) -> 0 | AD4: =SUMIF(F_IV_1A!$F:$F,$C4,F_IV_1A!AI:AI) -> 0 | AE4: =SUMIF(F_IV_1A!$F:$F,$C4,F_IV_1A!AJ:AJ) -> 0 | AF4: =SUMIF(F_IV_1A!$F:$F,$C4,F_IV_1A!AK:AK) -> 0 | AG4: =SUMIF(F_IV_1A!$F:$F,$C4,F_IV_1A!AL:AL) -> 0 | AH4: =SUMIF(F_IV_1A!$F:$F,$C4,F_IV_1A!AM:AM) -> 0 | AI4: =SUMIF(F_IV_1A!$F:$F,$C4,F_IV_1A!AN:AN) -> 0 | AJ4: =SUMIF(F_IV_1A!$F:$F,$C4,F_IV_1A!AO:AO) -> 0 | AK4: =SUMIF(F_IV_1A!$F:$F,$C4,F_IV_1A!AP:AP) -> 0 | AL4: =SUM(AA4:AK4) -> 0 | AR4: =INDEX(F_IV_1A!$G:$G,MATCH($C4,F_IV_1A!$F:$F,0)) -> #N/A | AS4: =COUNTIF(F_IV_1A!$AY$3:$AY$1616,$D4) -> 0 | AT4: =SUMIF(F_IV_1A!$AY$3:$AY$1616,$D4,F_IV_1A!$CF$3:$CF$1616) -> 0 | AU4: =SUMIF(F_IV_1A!$AY:$AY,$D4,F_IV_1A!$CG:$CG) -> 0 | AV4: =SUMIF(F_IV_1A!$AY:$AY,$D4,F_IV_1A!$CG:$CG) -> 0
A5: 1638 | B5: Zalabaksa-IV | C5: 11-02583-1-006-00-04 | D5: 3130 | E5: Csesztreg Község Önkormányzata, Kálócfa Község Önkormányzata, Kerkabarabás Község Önkormányzata, Kozmadombja Község Önkormányzata, Pórszombat Község Önkormányzata, Zalabaksa Község Önkormányzata | F5: Csesztreg, Kálócfa, Kerkabarabás, Kozmadombja, Pórszombat, Zalabaksa | G5: =IF(ISNA($AR5),"Nincs rögzítve!",IF(AU5=0,"Hiányzik a rövidtávú terv!",IF(AV5=0,"Hiányzik a hosszútávú terv!",IF(AS5=AT5,"Kitöltés rendben!",IF(AS5<>AT5,"Kitöltési hiba!","Kitöltési hiba!"))))) -> Nincs rögzítve! | I5: =J5+K5 -> 0 | J5: =SUMIF(F_IV_1A!$F:$F,$C5,F_IV_1A!$N:$N) -> 0 | K5: =SUMIF(F_IV_1A!$F:$F,$C5,F_IV_1A!$O:$O) -> 0 | L5: =SUMIF(F_IV_1A!$F:$F,$C5,F_IV_1A!$P:$P) -> 0 | N5: =SUMIF(F_IV_1A!$F:$F,$C5,F_IV_1A!R:R) -> 0 | O5: =SUMIF(F_IV_1A!$F:$F,$C5,F_IV_1A!S:S) -> 0 | P5: =SUMIF(F_IV_1A!$F:$F,$C5,F_IV_1A!T:T) -> 0 | Q5: =SUMIF(F_IV_1A!$F:$F,$C5,F_IV_1A!U:U) -> 0 | R5: =SUMIF(F_IV_1A!$F:$F,$C5,F_IV_1A!V:V) -> 0 | S5: =SUMIF(F_IV_1A!$F:$F,$C5,F_IV_1A!W:W) -> 0 | T5: =SUMIF(F_IV_1A!$F:$F,$C5,F_IV_1A!X:X) -> 0 | U5: =SUMIF(F_IV_1A!$F:$F,$C5,F_IV_1A!Y:Y) -> 0 | V5: =SUMIF(F_IV_1A!$F:$F,$C5,F_IV_1A!Z:Z) -> 0 | W5: =SUMIF(F_IV_1A!$F:$F,$C5,F_IV_1A!AA:AA) -> 0 | X5: =SUMIF(F_IV_1A!$F:$F,$C5,F_IV_1A!AB:AB) -> 0 | Y5: =SUM(N5:X5) -> 0 | AA5: =SUMIF(F_IV_1A!$F:$F,$C5,F_IV_1A!AF:AF) -> 0 | AB5: =SUMIF(F_IV_1A!$F:$F,$C5,F_IV_1A!AG:AG) -> 0 | AC5: =SUMIF(F_IV_1A!$F:$F,$C5,F_IV_1A!AH:AH) -> 0 | AD5: =SUMIF(F_IV_1A!$F:$F,$C5,F_IV_1A!AI:AI) -> 0 | AE5: =SUMIF(F_IV_1A!$F:$F,$C5,F_IV_1A!AJ:AJ) -> 0 | AF5: =SUMIF(F_IV_1A!$F:$F,$C5,F_IV_1A!AK:AK) -> 0 | AG5: =SUMIF(F_IV_1A!$F:$F,$C5,F_IV_1A!AL:AL) -> 0 | AH5: =SUMIF(F_IV_1A!$F:$F,$C5,F_IV_1A!AM:AM) -> 0 | AI5: =SUMIF(F_IV_1A!$F:$F,$C5,F_IV_1A!AN:AN) -> 0 | AJ5: =SUMIF(F_IV_1A!$F:$F,$C5,F_IV_1A!AO:AO) -> 0 | AK5: =SUMIF(F_IV_1A!$F:$F,$C5,F_IV_1A!AP:AP) -> 0 | AL5: =SUM(AA5:AK5) -> 0 | AR5: =INDEX(F_IV_1A!$G:$G,MATCH($C5,F_IV_1A!$F:$F,0)) -> #N/A | AS5: =COUNTIF(F_IV_1A!$AY$3:$AY$1616,$D5) -> 0 | AT5: =SUMIF(F_IV_1A!$AY$3:$AY$1616,$D5,F_IV_1A!$CF$3:$CF$1616) -> 0 | AU5: =SUMIF(F_IV_1A!$AY:$AY,$D5,F_IV_1A!$CG:$CG) -> 0 | AV5: =SUMIF(F_IV_1A!$AY:$AY,$D5,F_IV_1A!$CG:$CG) -> 0
A6: 1639 | B6: Nova-IV | C6: 11-03355-1-004-00-14 | D6: 3131 | E6: Csertalakos Község Önkormányzata, Mikekarácsonyfa Község Önkormányzata, Nova Község Önkormányzata, Zebecke Község Önkormányzata | F6: Csertalakos, Mikekarácsonyfa, Nova, Zebecke | G6: =IF(ISNA($AR6),"Nincs rögzítve!",IF(AU6=0,"Hiányzik a rövidtávú terv!",IF(AV6=0,"Hiányzik a hosszútávú terv!",IF(AS6=AT6,"Kitöltés rendben!",IF(AS6<>AT6,"Kitöltési hiba!","Kitöltési hiba!"))))) -> Nincs rögzítve! | I6: =J6+K6 -> 0 | J6: =SUMIF(F_IV_1A!$F:$F,$C6,F_IV_1A!$N:$N) -> 0 | K6: =SUMIF(F_IV_1A!$F:$F,$C6,F_IV_1A!$O:$O) -> 0 | L6: =SUMIF(F_IV_1A!$F:$F,$C6,F_IV_1A!$P:$P) -> 0 | N6: =SUMIF(F_IV_1A!$F:$F,$C6,F_IV_1A!R:R) -> 0 | O6: =SUMIF(F_IV_1A!$F:$F,$C6,F_IV_1A!S:S) -> 0 | P6: =SUMIF(F_IV_1A!$F:$F,$C6,F_IV_1A!T:T) -> 0 | Q6: =SUMIF(F_IV_1A!$F:$F,$C6,F_IV_1A!U:U) -> 0 | R6: =SUMIF(F_IV_1A!$F:$F,$C6,F_IV_1A!V:V) -> 0 | S6: =SUMIF(F_IV_1A!$F:$F,$C6,F_IV_1A!W:W) -> 0 | T6: =SUMIF(F_IV_1A!$F:$F,$C6,F_IV_1A!X:X) -> 0 | U6: =SUMIF(F_IV_1A!$F:$F,$C6,F_IV_1A!Y:Y) -> 0 | V6: =SUMIF(F_IV_1A!$F:$F,$C6,F_IV_1A!Z:Z) -> 0 | W6: =SUMIF(F_IV_1A!$F:$F,$C6,F_IV_1A!AA:AA) -> 0 | X6: =SUMIF(F_IV_1A!$F:$F,$C6,F_IV_1A!AB:AB) -> 0 | Y6: =SUM(N6:X6) -> 0 | AA6: =SUMIF(F_IV_1A!$F:$F,$C6,F_IV_1A!AF:AF) -> 0 | AB6: =SUMIF(F_IV_1A!$F:$F,$C6,F_IV_1A!AG:AG) -> 0 | AC6: =SUMIF(F_IV_1A!$F:$F,$C6,F_IV_1A!AH:AH) -> 0 | AD6: =SUMIF(F_IV_1A!$F:$F,$C6,F_IV_1A!AI:AI) -> 0 | AE6: =SUMIF(F_IV_1A!$F:$F,$C6,F_IV_1A!AJ:AJ) -> 0 | AF6: =SUMIF(F_IV_1A!$F:$F,$C6,F_IV_1A!AK:AK) -> 0 | AG6: =SUMIF(F_IV_1A!$F:$F,$C6,F_IV_1A!AL:AL) -> 0 | AH6: =SUMIF(F_IV_1A!$F:$F,$C6,F_IV_1A!AM:AM) -> 0 | AI6: =SUMIF(F_IV_1A!$F:$F,$C6,F_IV_1A!AN:AN) -> 0 | AJ6: =SUMIF(F_IV_1A!$F:$F,$C6,F_IV_1A!AO:AO) -> 0 | AK6: =SUMIF(F_IV_1A!$F:$F,$C6,F_IV_1A!AP:AP) -> 0 | AL6: =SUM(AA6:AK6) -> 0 | AR6: =INDEX(F_IV_1A!$G:$G,MATCH($C6,F_IV_1A!$F:$F,0)) -> #N/A | AS6: =COUNTIF(F_IV_1A!$AY$3:$AY$1616,$D6) -> 0 | AT6: =SUMIF(F_IV_1A!$AY$3:$AY$1616,$D6,F_IV_1A!$CF$3:$CF$1616) -> 0 | AU6: =SUMIF(F_IV_1A!$AY:$AY,$D6,F_IV_1A!$CG:$CG) -> 0 | AV6: =SUMIF(F_IV_1A!$AY:$AY,$D6,F_IV_1A!$CG:$CG) -> 0
A7: 1640 | B7: Bak-IV | C7: 11-04738-1-001-00-11 | D7: 3132 | E7: Bak Község Önkormányzata | F7: Bak | G7: =IF(ISNA($AR7),"Nincs rögzítve!",IF(AU7=0,"Hiányzik a rövidtávú terv!",IF(AV7=0,"Hiányzik a hosszútávú terv!",IF(AS7=AT7,"Kitöltés rendben!",IF(AS7<>AT7,"Kitöltési hiba!","Kitöltési hiba!"))))) -> Nincs rögzítve! | I7: =J7+K7 -> 0 | J7: =SUMIF(F_IV_1A!$F:$F,$C7,F_IV_1A!$N:$N) -> 0 | K7: =SUMIF(F_IV_1A!$F:$F,$C7,F_IV_1A!$O:$O) -> 0 | L7: =SUMIF(F_IV_1A!$F:$F,$C7,F_IV_1A!$P:$P) -> 0 | N7: =SUMIF(F_IV_1A!$F:$F,$C7,F_IV_1A!R:R) -> 0 | O7: =SUMIF(F_IV_1A!$F:$F,$C7,F_IV_1A!S:S) -> 0 | P7: =SUMIF(F_IV_1A!$F:$F,$C7,F_IV_1A!T:T) -> 0 | Q7: =SUMIF(F_IV_1A!$F:$F,$C7,F_IV_1A!U:U) -> 0 | R7: =SUMIF(F_IV_1A!$F:$F,$C7,F_IV_1A!V:V) -> 0 | S7: =SUMIF(F_IV_1A!$F:$F,$C7,F_IV_1A!W:W) -> 0 | T7: =SUMIF(F_IV_1A!$F:$F,$C7,F_IV_1A!X:X) -> 0 | U7: =SUMIF(F_IV_1A!$F:$F,$C7,F_IV_1A!Y:Y) -> 0 | V7: =SUMIF(F_IV_1A!$F:$F,$C7,F_IV_1A!Z:Z) -> 0 | W7: =SUMIF(F_IV_1A!$F:$F,$C7,F_IV_1A!AA:AA) -> 0 | X7: =SUMIF(F_IV_1A!$F:$F,$C7,F_IV_1A!AB:AB) -> 0 | Y7: =SUM(N7:X7) -> 0 | AA7: =SUMIF(F_IV_1A!$F:$F,$C7,F_IV_1A!AF:AF) -> 0 | AB7: =SUMIF(F_IV_1A!$F:$F,$C7,F_IV_1A!AG:AG) -> 0 | AC7: =SUMIF(F_IV_1A!$F:$F,$C7,F_IV_1A!AH:AH) -> 0 | AD7: =SUMIF(F_IV_1A!$F:$F,$C7,F_IV_1A!AI:AI) -> 0 | AE7: =SUMIF(F_IV_1A!$F:$F,$C7,F_IV_1A!AJ:AJ) -> 0 | AF7: =SUMIF(F_IV_1A!$F:$F,$C7,F_IV_1A!AK:AK) -> 0 | AG7: =SUMIF(F_IV_1A!$F:$F,$C7,F_IV_1A!AL:AL) -> 0 | AH7: =SUMIF(F_IV_1A!$F:$F,$C7,F_IV_1A!AM:AM) -> 0 | AI7: =SUMIF(F_IV_1A!$F:$F,$C7,F_IV_1A!AN:AN) -> 0 | AJ7: =SUMIF(F_IV_1A!$F:$F,$C7,F_IV_1A!AO:AO) -> 0 | AK7: =SUMIF(F_IV_1A!$F:$F,$C7,F_IV_1A!AP:AP) -> 0 | AL7: =SUM(AA7:AK7) -> 0 | AR7: =INDEX(F_IV_1A!$G:$G,MATCH($C7,F_IV_1A!$F:$F,0)) -> #N/A | AS7: =COUNTIF(F_IV_1A!$AY$3:$AY$1616,$D7) -> 0 | AT7: =SUMIF(F_IV_1A!$AY$3:$AY$1616,$D7,F_IV_1A!$CF$3:$CF$1616) -> 0 | AU7: =SUMIF(F_IV_1A!$AY:$AY,$D7,F_IV_1A!$CG:$CG) -> 0 | AV7: =SUMIF(F_IV_1A!$AY:$AY,$D7,F_IV_1A!$CG:$CG) -> 0
A8: 1641 | B8: Tófej-IV | C8: 11-05342-1-003-00-03 | D8: 3133 | E8: Baktüttös Község Önkormányzata, Pusztaederics Község Önkormányzata, Tófej Község Önkormányzata | F8: Baktüttös, Pusztaederics, Tófej | G8: =IF(ISNA($AR8),"Nincs rögzítve!",IF(AU8=0,"Hiányzik a rövidtávú terv!",IF(AV8=0,"Hiányzik a hosszútávú terv!",IF(AS8=AT8,"Kitöltés rendben!",IF(AS8<>AT8,"Kitöltési hiba!","Kitöltési hiba!"))))) -> Nincs rögzítve! | I8: =J8+K8 -> 0 | J8: =SUMIF(F_IV_1A!$F:$F,$C8,F_IV_1A!$N:$N) -> 0 | K8: =SUMIF(F_IV_1A!$F:$F,$C8,F_IV_1A!$O:$O) -> 0 | L8: =SUMIF(F_IV_1A!$F:$F,$C8,F_IV_1A!$P:$P) -> 0 | N8: =SUMIF(F_IV_1A!$F:$F,$C8,F_IV_1A!R:R) -> 0 | O8: =SUMIF(F_IV_1A!$F:$F,$C8,F_IV_1A!S:S) -> 0 | P8: =SUMIF(F_IV_1A!$F:$F,$C8,F_IV_1A!T:T) -> 0 | Q8: =SUMIF(F_IV_1A!$F:$F,$C8,F_IV_1A!U:U) -> 0 | R8: =SUMIF(F_IV_1A!$F:$F,$C8,F_IV_1A!V:V) -> 0 | S8: =SUMIF(F_IV_1A!$F:$F,$C8,F_IV_1A!W:W) -> 0 | T8: =SUMIF(F_IV_1A!$F:$F,$C8,F_IV_1A!X:X) -> 0 | U8: =SUMIF(F_IV_1A!$F:$F,$C8,F_IV_1A!Y:Y) -> 0 | V8: =SUMIF(F_IV_1A!$F:$F,$C8,F_IV_1A!Z:Z) -> 0 | W8: =SUMIF(F_IV_1A!$F:$F,$C8,F_IV_1A!AA:AA) -> 0 | X8: =SUMIF(F_IV_1A!$F:$F,$C8,F_IV_1A!AB:AB) -> 0 | Y8: =SUM(N8:X8) -> 0 | AA8: =SUMIF(F_IV_1A!$F:$F,$C8,F_IV_1A!AF:AF) -> 0 | AB8: =SUMIF(F_IV_1A!$F:$F,$C8,F_IV_1A!AG:AG) -> 0 | AC8: =SUMIF(F_IV_1A!$F:$F,$C8,F_IV_1A!AH:AH) -> 0 | AD8: =SUMIF(F_IV_1A!$F:$F,$C8,F_IV_1A!AI:AI) -> 0 | AE8: =SUMIF(F_IV_1A!$F:$F,$C8,F_IV_1A!AJ:AJ) -> 0 | AF8: =SUMIF(F_IV_1A!$F:$F,$C8,F_IV_1A!AK:AK) -> 0 | AG8: =SUMIF(F_IV_1A!$F:$F,$C8,F_IV_1A!AL:AL) -> 0 | AH8: =SUMIF(F_IV_1A!$F:$F,$C8,F_IV_1A!AM:AM) -> 0 | AI8: =SUMIF(F_IV_1A!$F:$F,$C8,F_IV_1A!AN:AN) -> 0 | AJ8: =SUMIF(F_IV_1A!$F:$F,$C8,F_IV_1A!AO:AO) -> 0 | AK8: =SUMIF(F_IV_1A!$F:$F,$C8,F_IV_1A!AP:AP) -> 0 | AL8: =SUM(AA8:AK8) -> 0 | AR8: =INDEX(F_IV_1A!$G:$G,MATCH($C8,F_IV_1A!$F:$F,0)) -> #N/A | AS8: =COUNTIF(F_IV_1A!$AY$3:$AY$1616,$D8) -> 0 | AT8: =SUMIF(F_IV_1A!$AY$3:$AY$1616,$D8,F_IV_1A!$CF$3:$CF$1616) -> 0 | AU8: =SUMIF(F_IV_1A!$AY:$AY,$D8,F_IV_1A!$CG:$CG) -> 0 | AV8: =SUMIF(F_IV_1A!$AY:$AY,$D8,F_IV_1A!$CG:$CG) -> 0
A9: 1642 | B9: Búcsúszentlászló-IV | C9: 11-20613-1-007-01-12 | D9: 3136 | E9: Búcsúszentlászló Község Önkormányzata, Kisbucsa Község Önkormányzata, Nemeshetés Község Önkormányzata, Nemessándorháza Község Önkormányzata, Nemesszentandrás Község Önkormányzata, Pölöske Község Önkormányzata, Zalaszentmihály Községi Önkormányzata | F9: Búcsúszentlászló, Kisbucsa, Nemeshetés, Nemessándorháza, Nemesszentandrás, Pölöske, Zalaszentmihály | G9: =IF(ISNA($AR9),"Nincs rögzítve!",IF(AU9=0,"Hiányzik a rövidtávú terv!",IF(AV9=0,"Hiányzik a hosszútávú terv!",IF(AS9=AT9,"Kitöltés rendben!",IF(AS9<>AT9,"Kitöltési hiba!","Kitöltési hiba!"))))) -> Nincs rögzítve! | I9: =J9+K9 -> 0 | J9: =SUMIF(F_IV_1A!$F:$F,$C9,F_IV_1A!$N:$N) -> 0 | K9: =SUMIF(F_IV_1A!$F:$F,$C9,F_IV_1A!$O:$O) -> 0 | L9: =SUMIF(F_IV_1A!$F:$F,$C9,F_IV_1A!$P:$P) -> 0 | N9: =SUMIF(F_IV_1A!$F:$F,$C9,F_IV_1A!R:R) -> 0 | O9: =SUMIF(F_IV_1A!$F:$F,$C9,F_IV_1A!S:S) -> 0 | P9: =SUMIF(F_IV_1A!$F:$F,$C9,F_IV_1A!T:T) -> 0 | Q9: =SUMIF(F_IV_1A!$F:$F,$C9,F_IV_1A!U:U) -> 0 | R9: =SUMIF(F_IV_1A!$F:$F,$C9,F_IV_1A!V:V) -> 0 | S9: =SUMIF(F_IV_1A!$F:$F,$C9,F_IV_1A!W:W) -> 0 | T9: =SUMIF(F_IV_1A!$F:$F,$C9,F_IV_1A!X:X) -> 0 | U9: =SUMIF(F_IV_1A!$F:$F,$C9,F_IV_1A!Y:Y) -> 0 | V9: =SUMIF(F_IV_1A!$F:$F,$C9,F_IV_1A!Z:Z) -> 0 | W9: =SUMIF(F_IV_1A!$F:$F,$C9,F_IV_1A!AA:AA) -> 0 | X9: =SUMIF(F_IV_1A!$F:$F,$C9,F_IV_1A!AB:AB) -> 0 | Y9: =SUM(N9:X9) -> 0 | AA9: =SUMIF(F_IV_1A!$F:$F,$C9,F_IV_1A!AF:AF) -> 0 | AB9: =SUMIF(F_IV_1A!$F:$F,$C9,F_IV_1A!AG:AG) -> 0 | AC9: =SUMIF(F_IV_1A!$F:$F,$C9,F_IV_1A!AH:AH) -> 0 | AD9: =SUMIF(F_IV_1A!$F:$F,$C9,F_IV_1A!AI:AI) -> 0 | AE9: =SUMIF(F_IV_1A!$F:$F,$C9,F_IV_1A!AJ:AJ) -> 0 | AF9: =SUMIF(F_IV_1A!$F:$F,$C9,F_IV_1A!AK:AK) -> 0 | AG9: =SUMIF(F_IV_1A!$F:$F,$C9,F_IV_1A!AL:AL) -> 0 | AH9: =SUMIF(F_IV_1A!$F:$F,$C9,F_IV_1A!AM:AM) -> 0 | AI9: =SUMIF(F_IV_1A!$F:$F,$C9,F_IV_1A!AN:AN) -> 0 | AJ9: =SUMIF(F_IV_1A!$F:$F,$C9,F_IV_1A!AO:AO) -> 0 | AK9: =SUMIF(F_IV_1A!$F:$F,$C9,F_IV_1A!AP:AP) -> 0 | AL9: =SUM(AA9:AK9) -> 0 | AR9: =INDEX(F_IV_1A!$G:$G,MATCH($C9,F_IV_1A!$F:$F,0)) -> #N/A | AS9: =COUNTIF(F_IV_1A!$AY$3:$AY$1616,$D9) -> 0 | AT9: =SUMIF(F_IV_1A!$AY$3:$AY$1616,$D9,F_IV_1A!$CF$3:$CF$1616) -> 0 | AU9: =SUMIF(F_IV_1A!$AY:$AY,$D9,F_IV_1A!$CG:$CG) -> 0 | AV9: =SUMIF(F_IV_1A!$AY:$AY,$D9,F_IV_1A!$CG:$CG) -> 0
A10: 1643 | B10: Lenti-IV | C10: 11-12575-1-011-00-14 | D10: 3137 | E10: Baglad Község Önkormányzata, Belsősárd Község Önkormányzata, Bödeháza Község Önkormányzata, Gáborjánháza Község Önkormányzata, Külsősárd Község Önkormányzata, Lendvajakabfa Község Önkormányzata, Lenti Város Önkormányzata, Rédics Község Önkormányzata, Resznek Község Önkormányzata, Szijártóháza Község Önkormányzata, Zalaszombatfa Község Önkormányzata | F10: Baglad, Belsősárd, Bödeháza, Gáborjánháza, Külsősárd, Lendvajakabfa, Lenti - kivéve Lentikápolna, Rédics, Resznek, Szijártóháza, Zalaszombatfa | G10: =IF(ISNA($AR10),"Nincs rögzítve!",IF(AU10=0,"Hiányzik a rövidtávú terv!",IF(AV10=0,"Hiányzik a hosszútávú terv!",IF(AS10=AT10,"Kitöltés rendben!",IF(AS10<>AT10,"Kitöltési hiba!","Kitöltési hiba!"))))) -> Nincs rögzítve! | I10: =J10+K10 -> 0 | J10: =SUMIF(F_IV_1A!$F:$F,$C10,F_IV_1A!$N:$N) -> 0 | K10: =SUMIF(F_IV_1A!$F:$F,$C10,F_IV_1A!$O:$O) -> 0 | L10: =SUMIF(F_IV_1A!$F:$F,$C10,F_IV_1A!$P:$P) -> 0 | N10: =SUMIF(F_IV_1A!$F:$F,$C10,F_IV_1A!R:R) -> 0 | O10: =SUMIF(F_IV_1A!$F:$F,$C10,F_IV_1A!S:S) -> 0 | P10: =SUMIF(F_IV_1A!$F:$F,$C10,F_IV_1A!T:T) -> 0 | Q10: =SUMIF(F_IV_1A!$F:$F,$C10,F_IV_1A!U:U) -> 0 | R10: =SUMIF(F_IV_1A!$F:$F,$C10,F_IV_1A!V:V) -> 0 | S10: =SUMIF(F_IV_1A!$F:$F,$C10,F_IV_1A!W:W) -> 0 | T10: =SUMIF(F_IV_1A!$F:$F,$C10,F_IV_1A!X:X) -> 0 | U10: =SUMIF(F_IV_1A!$F:$F,$C10,F_IV_1A!Y:Y) -> 0 | V10: =SUMIF(F_IV_1A!$F:$F,$C10,F_IV_1A!Z:Z) -> 0 | W10: =SUMIF(F_IV_1A!$F:$F,$C10,F_IV_1A!AA:AA) -> 0 | X10: =SUMIF(F_IV_1A!$F:$F,$C10,F_IV_1A!AB:AB) -> 0 | Y10: =SUM(N10:X10) -> 0 | AA10: =SUMIF(F_IV_1A!$F:$F,$C10,F_IV_1A!AF:AF) -> 0 | AB10: =SUMIF(F_IV_1A!$F:$F,$C10,F_IV_1A!AG:AG) -> 0 | AC10: =SUMIF(F_IV_1A!$F:$F,$C10,F_IV_1A!AH:AH) -> 0 | AD10: =SUMIF(F_IV_1A!$F:$F,$C10,F_IV_1A!AI:AI) -> 0 | AE10: =SUMIF(F_IV_1A!$F:$F,$C10,F_IV_1A!AJ:AJ) -> 0 | AF10: =SUMIF(F_IV_1A!$F:$F,$C10,F_IV_1A!AK:AK) -> 0 | AG10: =SUMIF(F_IV_1A!$F:$F,$C10,F_IV_1A!AL:AL) -> 0 | AH10: =SUMIF(F_IV_1A!$F:$F,$C10,F_IV_1A!AM:AM) -> 0 | AI10: =SUMIF(F_IV_1A!$F:$F,$C10,F_IV_1A!AN:AN) -> 0 | AJ10: =SUMIF(F_IV_1A!$F:$F,$C10,F_IV_1A!AO:AO) -> 0 | AK10: =SUMIF(F_IV_1A!$F:$F,$C10,F_IV_1A!AP:AP) -> 0 | AL10: =SUM(AA10:AK10) -> 0 | AR10: =INDEX(F_IV_1A!$G:$G,MATCH($C10,F_IV_1A!$F:$F,0)) -> #N/A | AS10: =COUNTIF(F_IV_1A!$AY$3:$AY$1616,$D10) -> 0 | AT10: =SUMIF(F_IV_1A!$AY$3:$AY$1616,$D10,F_IV_1A!$CF$3:$CF$1616) -> 0 | AU10: =SUMIF(F_IV_1A!$AY:$AY,$D10,F_IV_1A!$CG:$CG) -> 0 | AV10: =SUMIF(F_IV_1A!$AY:$AY,$D10,F_IV_1A!$CG:$CG) -> 0
A11: 1644 | B11: Lentikápolna-IV | C11: 11-12575-2-001-00-00 | D11: 3138 | E11: Lenti Város Önkormányzata | F11: Lenti - Lentikápolna | G11: =IF(ISNA($AR11),"Nincs rögzítve!",IF(AU11=0,"Hiányzik a rövidtávú terv!",IF(AV11=0,"Hiányzik a hosszútávú terv!",IF(AS11=AT11,"Kitöltés rendben!",IF(AS11<>AT11,"Kitöltési hiba!","Kitöltési hiba!"))))) -> Nincs rögzítve! | I11: =J11+K11 -> 0 | J11: =SUMIF(F_IV_1A!$F:$F,$C11,F_IV_1A!$N:$N) -> 0 | K11: =SUMIF(F_IV_1A!$F:$F,$C11,F_IV_1A!$O:$O) -> 0 | L11: =SUMIF(F_IV_1A!$F:$F,$C11,F_IV_1A!$P:$P) -> 0 | N11: =SUMIF(F_IV_1A!$F:$F,$C11,F_IV_1A!R:R) -> 0 | O11: =SUMIF(F_IV_1A!$F:$F,$C11,F_IV_1A!S:S) -> 0 | P11: =SUMIF(F_IV_1A!$F:$F,$C11,F_IV_1A!T:T) -> 0 | Q11: =SUMIF(F_IV_1A!$F:$F,$C11,F_IV_1A!U:U) -> 0 | R11: =SUMIF(F_IV_1A!$F:$F,$C11,F_IV_1A!V:V) -> 0 | S11: =SUMIF(F_IV_1A!$F:$F,$C11,F_IV_1A!W:W) -> 0 | T11: =SUMIF(F_IV_1A!$F:$F,$C11,F_IV_1A!X:X) -> 0 | U11: =SUMIF(F_IV_1A!$F:$F,$C11,F_IV_1A!Y:Y) -> 0 | V11: =SUMIF(F_IV_1A!$F:$F,$C11,F_IV_1A!Z:Z) -> 0 | W11: =SUMIF(F_IV_1A!$F:$F,$C11,F_IV_1A!AA:AA) -> 0 | X11: =SUMIF(F_IV_1A!$F:$F,$C11,F_IV_1A!AB:AB) -> 0 | Y11: =SUM(N11:X11) -> 0 | AA11: =SUMIF(F_IV_1A!$F:$F,$C11,F_IV_1A!AF:AF) -> 0 | AB11: =SUMIF(F_IV_1A!$F:$F,$C11,F_IV_1A!AG:AG) -> 0 | AC11: =SUMIF(F_IV_1A!$F:$F,$C11,F_IV_1A!AH:AH) -> 0 | AD11: =SUMIF(F_IV_1A!$F:$F,$C11,F_IV_1A!AI:AI) -> 0 | AE11: =SUMIF(F_IV_1A!$F:$F,$C11,F_IV_1A!AJ:AJ) -> 0 | AF11: =SUMIF(F_IV_1A!$F:$F,$C11,F_IV_1A!AK:AK) -> 0 | AG11: =SUMIF(F_IV_1A!$F:$F,$C11,F_IV_1A!AL:AL) -> 0 | AH11: =SUMIF(F_IV_1A!$F:$F,$C11,F_IV_1A!AM:AM) -> 0 | AI11: =SUMIF(F_IV_1A!$F:$F,$C11,F_IV_1A!AN:AN) -> 0 | AJ11: =SUMIF(F_IV_1A!$F:$F,$C11,F_IV_1A!AO:AO) -> 0 | AK11: =SUMIF(F_IV_1A!$F:$F,$C11,F_IV_1A!AP:AP) -> 0 | AL11: =SUM(AA11:AK11) -> 0 | AR11: =INDEX(F_IV_1A!$G:$G,MATCH($C11,F_IV_1A!$F:$F,0)) -> #N/A | AS11: =COUNTIF(F_IV_1A!$AY$3:$AY$1616,$D11) -> 0 | AT11: =SUMIF(F_IV_1A!$AY$3:$AY$1616,$D11,F_IV_1A!$CF$3:$CF$1616) -> 0 | AU11: =SUMIF(F_IV_1A!$AY:$AY,$D11,F_IV_1A!$CG:$CG) -> 0 | AV11: =SUMIF(F_IV_1A!$AY:$AY,$D11,F_IV_1A!$CG:$CG) -> 0
A12: 1645 | B12: Gosztola-IV | C12: 11-13569-1-001-00-07 | D12: 3139 | E12: Gosztola Község Önkormányzata | F12: Gosztola | G12: =IF(ISNA($AR12),"Nincs rögzítve!",IF(AU12=0,"Hiányzik a rövidtávú terv!",IF(AV12=0,"Hiányzik a hosszútávú terv!",IF(AS12=AT12,"Kitöltés rendben!",IF(AS12<>AT12,"Kitöltési hiba!","Kitöltési hiba!"))))) -> Nincs rögzítve! | I12: =J12+K12 -> 0 | J12: =SUMIF(F_IV_1A!$F:$F,$C12,F_IV_1A!$N:$N) -> 0 | K12: =SUMIF(F_IV_1A!$F:$F,$C12,F_IV_1A!$O:$O) -> 0 | L12: =SUMIF(F_IV_1A!$F:$F,$C12,F_IV_1A!$P:$P) -> 0 | N12: =SUMIF(F_IV_1A!$F:$F,$C12,F_IV_1A!R:R) -> 0 | O12: =SUMIF(F_IV_1A!$F:$F,$C12,F_IV_1A!S:S) -> 0 | P12: =SUMIF(F_IV_1A!$F:$F,$C12,F_IV_1A!T:T) -> 0 | Q12: =SUMIF(F_IV_1A!$F:$F,$C12,F_IV_1A!U:U) -> 0 | R12: =SUMIF(F_IV_1A!$F:$F,$C12,F_IV_1A!V:V) -> 0 | S12: =SUMIF(F_IV_1A!$F:$F,$C12,F_IV_1A!W:W) -> 0 | T12: =SUMIF(F_IV_1A!$F:$F,$C12,F_IV_1A!X:X) -> 0 | U12: =SUMIF(F_IV_1A!$F:$F,$C12,F_IV_1A!Y:Y) -> 0 | V12: =SUMIF(F_IV_1A!$F:$F,$C12,F_IV_1A!Z:Z) -> 0 | W12: =SUMIF(F_IV_1A!$F:$F,$C12,F_IV_1A!AA:AA) -> 0 | X12: =SUMIF(F_IV_1A!$F:$F,$C12,F_IV_1A!AB:AB) -> 0 | Y12: =SUM(N12:X12) -> 0 | AA12: =SUMIF(F_IV_1A!$F:$F,$C12,F_IV_1A!AF:AF) -> 0 | AB12: =SUMIF(F_IV_1A!$F:$F,$C12,F_IV_1A!AG:AG) -> 0 | AC12: =SUMIF(F_IV_1A!$F:$F,$C12,F_IV_1A!AH:AH) -> 0 | AD12: =SUMIF(F_IV_1A!$F:$F,$C12,F_IV_1A!AI:AI) -> 0 | AE12: =SUMIF(F_IV_1A!$F:$F,$C12,F_IV_1A!AJ:AJ) -> 0 | AF12: =SUMIF(F_IV_1A!$F:$F,$C12,F_IV_1A!AK:AK) -> 0 | AG12: =SUMIF(F_IV_1A!$F:$F,$C12,F_IV_1A!AL:AL) -> 0 | AH12: =SUMIF(F_IV_1A!$F:$F,$C12,F_IV_1A!AM:AM) -> 0 | AI12: =SUMIF(F_IV_1A!$F:$F,$C12,F_IV_1A!AN:AN) -> 0 | AJ12: =SUMIF(F_IV_1A!$F:$F,$C12,F_IV_1A!AO:AO) -> 0 | AK12: =SUMIF(F_IV_1A!$F:$F,$C12,F_IV_1A!AP:AP) -> 0 | AL12: =SUM(AA12:AK12) -> 0 | AR12: =INDEX(F_IV_1A!$G:$G,MATCH($C12,F_IV_1A!$F:$F,0)) -> #N/A | AS12: =COUNTIF(F_IV_1A!$AY$3:$AY$1616,$D12) -> 0 | AT12: =SUMIF(F_IV_1A!$AY$3:$AY$1616,$D12,F_IV_1A!$CF$3:$CF$1616) -> 0 | AU12: =SUMIF(F_IV_1A!$AY:$AY,$D12,F_IV_1A!$CG:$CG) -> 0 | AV12: =SUMIF(F_IV_1A!$AY:$AY,$D12,F_IV_1A!$CG:$CG) -> 0
A13: 1646 | B13: Pusztaapáti-IV | C13: 11-16920-1-001-00-14 | D13: 3140 | E13: Pusztaapáti Község Önkormányzata | F13: Pusztaapáti | G13: =IF(ISNA($AR13),"Nincs rögzítve!",IF(AU13=0,"Hiányzik a rövidtávú terv!",IF(AV13=0,"Hiányzik a hosszútávú terv!",IF(AS13=AT13,"Kitöltés rendben!",IF(AS13<>AT13,"Kitöltési hiba!","Kitöltési hiba!"))))) -> Nincs rögzítve! | I13: =J13+K13 -> 0 | J13: =SUMIF(F_IV_1A!$F:$F,$C13,F_IV_1A!$N:$N) -> 0 | K13: =SUMIF(F_IV_1A!$F:$F,$C13,F_IV_1A!$O:$O) -> 0 | L13: =SUMIF(F_IV_1A!$F:$F,$C13,F_IV_1A!$P:$P) -> 0 | N13: =SUMIF(F_IV_1A!$F:$F,$C13,F_IV_1A!R:R) -> 0 | O13: =SUMIF(F_IV_1A!$F:$F,$C13,F_IV_1A!S:S) -> 0 | P13: =SUMIF(F_IV_1A!$F:$F,$C13,F_IV_1A!T:T) -> 0 | Q13: =SUMIF(F_IV_1A!$F:$F,$C13,F_IV_1A!U:U) -> 0 | R13: =SUMIF(F_IV_1A!$F:$F,$C13,F_IV_1A!V:V) -> 0 | S13: =SUMIF(F_IV_1A!$F:$F,$C13,F_IV_1A!W:W) -> 0 | T13: =SUMIF(F_IV_1A!$F:$F,$C13,F_IV_1A!X:X) -> 0 | U13: =SUMIF(F_IV_1A!$F:$F,$C13,F_IV_1A!Y:Y) -> 0 | V13: =SUMIF(F_IV_1A!$F:$F,$C13,F_IV_1A!Z:Z) -> 0 | W13: =SUMIF(F_IV_1A!$F:$F,$C13,F_IV_1A!AA:AA) -> 0 | X13: =SUMIF(F_IV_1A!$F:$F,$C13,F_IV_1A!AB:AB) -> 0 | Y13: =SUM(N13:X13) -> 0 | AA13: =SUMIF(F_IV_1A!$F:$F,$C13,F_IV_1A!AF:AF) -> 0 | AB13: =SUMIF(F_IV_1A!$F:$F,$C13,F_IV_1A!AG:AG) -> 0 | AC13: =SUMIF(F_IV_1A!$F:$F,$C13,F_IV_1A!AH:AH) -> 0 | AD13: =SUMIF(F_IV_1A!$F:$F,$C13,F_IV_1A!AI:AI) -> 0 | AE13: =SUMIF(F_IV_1A!$F:$F,$C13,F_IV_1A!AJ:AJ) -> 0 | AF13: =SUMIF(F_IV_1A!$F:$F,$C13,F_IV_1A!AK:AK) -> 0 | AG13: =SUMIF(F_IV_1A!$F:$F,$C13,F_IV_1A!AL:AL) -> 0 | AH13: =SUMIF(F_IV_1A!$F:$F,$C13,F_IV_1A!AM:AM) -> 0 | AI13: =SUMIF(F_IV_1A!$F:$F,$C13,F_IV_1A!AN:AN) -> 0 | AJ13: =SUMIF(F_IV_1A!$F:$F,$C13,F_IV_1A!AO:AO) -> 0 | AK13: =SUMIF(F_IV_1A!$F:$F,$C13,F_IV_1A!AP:AP) -> 0 | AL13: =SUM(AA13:AK13) -> 0 | AR13: =INDEX(F_IV_1A!$G:$G,MATCH($C13,F_IV_1A!$F:$F,0)) -> #N/A | AS13: =COUNTIF(F_IV_1A!$AY$3:$AY$1616,$D13) -> 0 | AT13: =SUMIF(F_IV_1A!$AY$3:$AY$1616,$D13,F_IV_1A!$CF$3:$CF$1616) -> 0 | AU13: =SUMIF(F_IV_1A!$AY:$AY,$D13,F_IV_1A!$CG:$CG) -> 0 | AV13: =SUMIF(F_IV_1A!$AY:$AY,$D13,F_IV_1A!$CG:$CG) -> 0
A14: 1647 | B14: Szilvágy-IV | C14: 11-17853-1-001-00-12 | D14: 3141 | E14: Szilvágy Község Önkormányzata | F14: Szilvágy | G14: =IF(ISNA($AR14),"Nincs rögzítve!",IF(AU14=0,"Hiányzik a rövidtávú terv!",IF(AV14=0,"Hiányzik a hosszútávú terv!",IF(AS14=AT14,"Kitöltés rendben!",IF(AS14<>AT14,"Kitöltési hiba!","Kitöltési hiba!"))))) -> Nincs rögzítve! | I14: =J14+K14 -> 0 | J14: =SUMIF(F_IV_1A!$F:$F,$C14,F_IV_1A!$N:$N) -> 0 | K14: =SUMIF(F_IV_1A!$F:$F,$C14,F_IV_1A!$O:$O) -> 0 | L14: =SUMIF(F_IV_1A!$F:$F,$C14,F_IV_1A!$P:$P) -> 0 | N14: =SUMIF(F_IV_1A!$F:$F,$C14,F_IV_1A!R:R) -> 0 | O14: =SUMIF(F_IV_1A!$F:$F,$C14,F_IV_1A!S:S) -> 0 | P14: =SUMIF(F_IV_1A!$F:$F,$C14,F_IV_1A!T:T) -> 0 | Q14: =SUMIF(F_IV_1A!$F:$F,$C14,F_IV_1A!U:U) -> 0 | R14: =SUMIF(F_IV_1A!$F:$F,$C14,F_IV_1A!V:V) -> 0 | S14: =SUMIF(F_IV_1A!$F:$F,$C14,F_IV_1A!W:W) -> 0 | T14: =SUMIF(F_IV_1A!$F:$F,$C14,F_IV_1A!X:X) -> 0 | U14: =SUMIF(F_IV_1A!$F:$F,$C14,F_IV_1A!Y:Y) -> 0 | V14: =SUMIF(F_IV_1A!$F:$F,$C14,F_IV_1A!Z:Z) -> 0 | W14: =SUMIF(F_IV_1A!$F:$F,$C14,F_IV_1A!AA:AA) -> 0 | X14: =SUMIF(F_IV_1A!$F:$F,$C14,F_IV_1A!AB:AB) -> 0 | Y14: =SUM(N14:X14) -> 0 | AA14: =SUMIF(F_IV_1A!$F:$F,$C14,F_IV_1A!AF:AF) -> 0 | AB14: =SUMIF(F_IV_1A!$F:$F,$C14,F_IV_1A!AG:AG) -> 0 | AC14: =SUMIF(F_IV_1A!$F:$F,$C14,F_IV_1A!AH:AH) -> 0 | AD14: =SUMIF(F_IV_1A!$F:$F,$C14,F_IV_1A!AI:AI) -> 0 | AE14: =SUMIF(F_IV_1A!$F:$F,$C14,F_IV_1A!AJ:AJ) -> 0 | AF14: =SUMIF(F_IV_1A!$F:$F,$C14,F_IV_1A!AK:AK) -> 0 | AG14: =SUMIF(F_IV_1A!$F:$F,$C14,F_IV_1A!AL:AL) -> 0 | AH14: =SUMIF(F_IV_1A!$F:$F,$C14,F_IV_1A!AM:AM) -> 0 | AI14: =SUMIF(F_IV_1A!$F:$F,$C14,F_IV_1A!AN:AN) -> 0 | AJ14: =SUMIF(F_IV_1A!$F:$F,$C14,F_IV_1A!AO:AO) -> 0 | AK14: =SUMIF(F_IV_1A!$F:$F,$C14,F_IV_1A!AP:AP) -> 0 | AL14: =SUM(AA14:AK14) -> 0 | AR14: =INDEX(F_IV_1A!$G:$G,MATCH($C14,F_IV_1A!$F:$F,0)) -> #N/A | AS14: =COUNTIF(F_IV_1A!$AY$3:$AY$1616,$D14) -> 0 | AT14: =SUMIF(F_IV_1A!$AY$3:$AY$1616,$D14,F_IV_1A!$CF$3:$CF$1616) -> 0 | AU14: =SUMIF(F_IV_1A!$AY:$AY,$D14,F_IV_1A!$CG:$CG) -> 0 | AV14: =SUMIF(F_IV_1A!$AY:$AY,$D14,F_IV_1A!$CG:$CG) -> 0
A15: 1648 | B15: Szentgyörgyvölgy-IV | C15: 11-18652-1-003-00-01 | D15: 3143 | E15: Márokföld Község Önkormányzata, Nemesnép Község Önkormányzata, Szentgyörgyvölgy Község Önkormányzata | F15: Márokföld, Nemesnép, Szentgyörgyvölgy | G15: =IF(ISNA($AR15),"Nincs rögzítve!",IF(AU15=0,"Hiányzik a rövidtávú terv!",IF(AV15=0,"Hiányzik a hosszútávú terv!",IF(AS15=AT15,"Kitöltés rendben!",IF(AS15<>AT15,"Kitöltési hiba!","Kitöltési hiba!"))))) -> Nincs rögzítve! | I15: =J15+K15 -> 0 | J15: =SUMIF(F_IV_1A!$F:$F,$C15,F_IV_1A!$N:$N) -> 0 | K15: =SUMIF(F_IV_1A!$F:$F,$C15,F_IV_1A!$O:$O) -> 0 | L15: =SUMIF(F_IV_1A!$F:$F,$C15,F_IV_1A!$P:$P) -> 0 | N15: =SUMIF(F_IV_1A!$F:$F,$C15,F_IV_1A!R:R) -> 0 | O15: =SUMIF(F_IV_1A!$F:$F,$C15,F_IV_1A!S:S) -> 0 | P15: =SUMIF(F_IV_1A!$F:$F,$C15,F_IV_1A!T:T) -> 0 | Q15: =SUMIF(F_IV_1A!$F:$F,$C15,F_IV_1A!U:U) -> 0 | R15: =SUMIF(F_IV_1A!$F:$F,$C15,F_IV_1A!V:V) -> 0 | S15: =SUMIF(F_IV_1A!$F:$F,$C15,F_IV_1A!W:W) -> 0 | T15: =SUMIF(F_IV_1A!$F:$F,$C15,F_IV_1A!X:X) -> 0 | U15: =SUMIF(F_IV_1A!$F:$F,$C15,F_IV_1A!Y:Y) -> 0 | V15: =SUMIF(F_IV_1A!$F:$F,$C15,F_IV_1A!Z:Z) -> 0 | W15: =SUMIF(F_IV_1A!$F:$F,$C15,F_IV_1A!AA:AA) -> 0 | X15: =SUMIF(F_IV_1A!$F:$F,$C15,F_IV_1A!AB:AB) -> 0 | Y15: =SUM(N15:X15) -> 0 | AA15: =SUMIF(F_IV_1A!$F:$F,$C15,F_IV_1A!AF:AF) -> 0 | AB15: =SUMIF(F_IV_1A!$F:$F,$C15,F_IV_1A!AG:AG) -> 0 | AC15: =SUMIF(F_IV_1A!$F:$F,$C15,F_IV_1A!AH:AH) -> 0 | AD15: =SUMIF(F_IV_1A!$F:$F,$C15,F_IV_1A!AI:AI) -> 0 | AE15: =SUMIF(F_IV_1A!$F:$F,$C15,F_IV_1A!AJ:AJ) -> 0 | AF15: =SUMIF(F_IV_1A!$F:$F,$C15,F_IV_1A!AK:AK) -> 0 | AG15: =SUMIF(F_IV_1A!$F:$F,$C15,F_IV_1A!AL:AL) -> 0 | AH15: =SUMIF(F_IV_1A!$F:$F,$C15,F_IV_1A!AM:AM) -> 0 | AI15: =SUMIF(F_IV_1A!$F:$F,$C15,F_IV_1A!AN:AN) -> 0 | AJ15: =SUMIF(F_IV_1A!$F:$F,$C15,F_IV_1A!AO:AO) -> 0 | AK15: =SUMIF(F_IV_1A!$F:$F,$C15,F_IV_1A!AP:AP) -> 0 | AL15: =SUM(AA15:AK15) -> 0 | AR15: =INDEX(F_IV_1A!$G:$G,MATCH($C15,F_IV_1A!$F:$F,0)) -> #N/A | AS15: =COUNTIF(F_IV_1A!$AY$3:$AY$1616,$D15) -> 0 | AT15: =SUMIF(F_IV_1A!$AY$3:$AY$1616,$D15,F_IV_1A!$CF$3:$CF$1616) -> 0 | AU15: =SUMIF(F_IV_1A!$AY:$AY,$D15,F_IV_1A!$CG:$CG) -> 0 | AV15: =SUMIF(F_IV_1A!$AY:$AY,$D15,F_IV_1A!$CG:$CG) -> 0
... A37: 1670 | B37: Kerkakutas-IV | C37: 12-22080-1-002-00-13 | D37: 3167 | E37: Kerkafalva Község Önkormányzata, Kerkakutas Község Önkormányzata | F37: Kerkafalva, Kerkakutas | G37: =IF(ISNA($AR37),"Nincs rögzítve!",IF(AU37=0,"Hiányzik a rövidtávú terv!",IF(AV37=0,"Hiányzik a hosszútávú terv!",IF(AS37=AT37,"Kitöltés rendben!",IF(AS37<>AT37,"Kitöltési hiba!","Kitöltési hiba!"))))) -> Nincs rögzítve! | I37: =J37+K37 -> 0 | J37: =SUMIF(F_IV_1A!$F:$F,$C37,F_IV_1A!$N:$N) -> 0 | K37: =SUMIF(F_IV_1A!$F:$F,$C37,F_IV_1A!$O:$O) -> 0 | L37: =SUMIF(F_IV_1A!$F:$F,$C37,F_IV_1A!$P:$P) -> 0 | N37: =SUMIF(F_IV_1A!$F:$F,$C37,F_IV_1A!R:R) -> 0 | O37: =SUMIF(F_IV_1A!$F:$F,$C37,F_IV_1A!S:S) -> 0 | P37: =SUMIF(F_IV_1A!$F:$F,$C37,F_IV_1A!T:T) -> 0 | Q37: =SUMIF(F_IV_1A!$F:$F,$C37,F_IV_1A!U:U) -> 0 | R37: =SUMIF(F_IV_1A!$F:$F,$C37,F_IV_1A!V:V) -> 0 | S37: =SUMIF(F_IV_1A!$F:$F,$C37,F_IV_1A!W:W) -> 0 | T37: =SUMIF(F_IV_1A!$F:$F,$C37,F_IV_1A!X:X) -> 0 | U37: =SUMIF(F_IV_1A!$F:$F,$C37,F_IV_1A!Y:Y) -> 0 | V37: =SUMIF(F_IV_1A!$F:$F,$C37,F_IV_1A!Z:Z) -> 0 | W37: =SUMIF(F_IV_1A!$F:$F,$C37,F_IV_1A!AA:AA) -> 0 | X37: =SUMIF(F_IV_1A!$F:$F,$C37,F_IV_1A!AB:AB) -> 0 | Y37: =SUM(N37:X37) -> 0 | AA37: =SUMIF(F_IV_1A!$F:$F,$C37,F_IV_1A!AF:AF) -> 0 | AB37: =SUMIF(F_IV_1A!$F:$F,$C37,F_IV_1A!AG:AG) -> 0 | AC37: =SUMIF(F_IV_1A!$F:$F,$C37,F_IV_1A!AH:AH) -> 0 | AD37: =SUMIF(F_IV_1A!$F:$F,$C37,F_IV_1A!AI:AI) -> 0 | AE37: =SUMIF(F_IV_1A!$F:$F,$C37,F_IV_1A!AJ:AJ) -> 0 | AF37: =SUMIF(F_IV_1A!$F:$F,$C37,F_IV_1A!AK:AK) -> 0 | AG37: =SUMIF(F_IV_1A!$F:$F,$C37,F_IV_1A!AL:AL) -> 0 | AH37: =SUMIF(F_IV_1A!$F:$F,$C37,F_IV_1A!AM:AM) -> 0 | AI37: =SUMIF(F_IV_1A!$F:$F,$C37,F_IV_1A!AN:AN) -> 0 | AJ37: =SUMIF(F_IV_1A!$F:$F,$C37,F_IV_1A!AO:AO) -> 0 | AK37: =SUMIF(F_IV_1A!$F:$F,$C37,F_IV_1A!AP:AP) -> 0 | AL37: =SUM(AA37:AK37) -> 0 | AR37: =INDEX(F_IV_1A!$G:$G,MATCH($C37,F_IV_1A!$F:$F,0)) -> #N/A | AS37: =COUNTIF(F_IV_1A!$AY$3:$AY$1616,$D37) -> 0 | AT37: =SUMIF(F_IV_1A!$AY$3:$AY$1616,$D37,F_IV_1A!$CF$3:$CF$1616) -> 0 | AU37: =SUMIF(F_IV_1A!$AY:$AY,$D37,F_IV_1A!$CG:$CG) -> 0 | AV37: =SUMIF(F_IV_1A!$AY:$AY,$D37,F_IV_1A!$CG:$CG) -> 0

Sheet F_IV_1A
B1: A | C1: B | D1: C | E1: D | F1: E/1 | G1: E/2 | H1: fx | I1: VKEFFO | J1: F | K1: G | L1: I/1 | M1: I/2 | N1: J/1 | O1: J/2 | P1: VKEFFO | R1: H/1 -- Forrás megnevezése (I. ütem) | AD1: fx | AF1: H/2 -- Forrás megnevezése (II. ütem) | AS1: fx | AU1: VKEFFO | AV1: VKEFFO | AY1: fx | AZ1: fx | BA1: fx | BB1: fx | BC1: fx | BD1: fx | BE1: fx | BF1: fx | BG1: fx | BH1: fx | BI1: fx | BJ1: fx | BK1: fx | BL1: fx | BM1: fx | BN1: fx | BO1: fx | BP1: fx | BQ1: fx | BR1: fx | BS1: fx | BT1: fx | BU1: fx | BV1: fx | BW1: fx | BX1: fx | BY1: fx | BZ1: fx | CA1: fx | CB1: fx | CC1: fx | CD1: fx | CE1: fx | CF1: fx | CG1: fx | CH1: fx
A2: Ellenőrzés | B2: Fontossági sorrend | C2: A felújítási feladat kategóriája | D2: Felújítás megnevezése | E2: Vízjogi létesítési/ elvi engedély száma (amennyiben rendelkezésre áll) | F2: Víziközmű-rendszer hivatali kódja | G2: Víziközmű-rendszer megnevezése | H2: FELADAT-AZONOSITO | I2: Ellátási terület | J2: Az érintett ellátásért felelős(ök) megnevezése | K2: Tervezett nettó költség [eFt] | L2: Megvalósítás várható időtartama - KEZDÉS | M2: Megvalósítás várható időtartama - BEFEJEZÉS | N2: A Felújítás tervezett nettó költsége a tervezési időszak ütemezése szerint [eFt] - I. ütem | O2: A Felújítás tervezett nettó költsége a tervezési időszak ütemezése szerint [eFt] - II. ütem | P2: Az EM rendelet 2. melléklet terhére elszámolni tervezett költség | R2: Használati díj [eFt] | S2: ÉCS [eFt] | T2: Közműfejlesztési hozzájárulás [eFt] | U2: Egyéb saját forrás [eFt] | V2: Díj [eFt] | W2: VFEA - EM rendelet 1. melléklet | X2: Egyéb állami támogatás [eFt] | Y2: Önkormányzati támogatás [eFt] | Z2: EU-s támogatás [eFt] | AA2: Egyéb támogatás [eFt] | AB2: Banki hitel, kötvénykibocsátás [eFt] | AC2: Összesítés [eFt] | AD2: Forrás (I. ütem) - ELLENŐRZÉS | AF2: Használati díj [eFt] | AG2: ÉCS [eFt] | AH2: Közműfejlesztési hozzájárulás [eFt] | AI2: Egyéb saját forrás [eFt] | AJ2: Díj [eFt] | AK2: VFEA - EM rendelet 1. melléklet | AL2: Egyéb állami támogatás [eFt] | AM2: Önkormányzati támogatás [eFt] | AN2: EU-s támogatás [eFt] | AO2: Egyéb támogatás [eFt] | AP2: Banki hitel, kötvénykibocsátás [eFt] | AQ2: Összesítés [eFt] | AR2: Forráshiányos a feladat (II. ütem)? | AS2: Forrás (II. ütem) - ELLENŐRZÉS | AU2: INDOKLÁS | AV2: MEGJEGYZÉS | AW2: Feladat sorszáma | AY2: ISA | AZ2: Indoklás hossza | BA2: Minden kitöltve? (kivéve a forrás) 1-igen;0-nem | BB2: 2027-2027: R 2027-x: RH 2028-x: H | BC2: Van rövid távú feladat | BD2: Ütem költségek hibásak? --- 1-igen; 0-nem | BE2: 1.ütem FORRÁS --- forráshiányos? 1-igen;0-nem | BF2: 1.ütem FORRÁS --- Összesítés | BG2: 1.ütem FORRÁS kitöltve? 1-igen, 0-nem | BH2: 1.ütem FORRÁS jól kitöltve? 1-igen;0-nem | BI2: 2.ütem FORRÁS --- forráshiányos? 1-igen;0-nem | BJ2: 2.ütem FORRÁS kitöltve? 1-igen, 0-nem | BK2: 2.ütem FORRÁS jól kitöltve? 1-igen;0-nem | BL2: 2.FORRÁS ütem --- Összesítés | BM2: Van feladat 1.ütem? 1-igen;0-nem | BN2: Van feladat 2.ütem? 1-igen;0-nem | BO2: 1.ütem nullás a terv? 1-igen;0-nem | BP2: 2.ütem nullás a terv? 1-igen;0-nem | BQ2: Nullás és van indoklás rövidtáv 1-igen; 0-nem | BR2: Nincs hosszútávú terv (ktg) indoklás? | BS2: Nullás és van idnoklás rövidtáv 1-igen; 0-nem | BT2: Nullás és van indoklás hosszútáv 1-igen; 0-nem | BU2: Fontossági sorrend | BV2: A felújítási feladat kategóriája | BW2: Felújítás megnevezése | BX2: Vízjogi létesítési/ elvi engedély száma (amennyiben rendelkezésre áll) | BY2: Megvalósítás várható időtartama - KEZDÉS | BZ2: Megvalósítás várható időtartama - BEFEJEZÉS | CA2: A Felújítás tervezett nettó költsége a tervezési időszak ütemezése szerint [eFt] - I. ütem | CB2: A Felújítás tervezett nettó költsége a tervezési időszak ütemezése szerint [eFt] - II. ütem | CC2: VFEA - EM rendelet 2. melléklet (fenntartására fordítandó) | CD2: HIÁNYOS kitöltés?! | CE2: ÖSSZESÍTŐ szöveggel | CF2: Kitöltés rendben! >> 1; Egyébként >> 0 | CG2: Rövid és jó | CH2: Hosszú és jó
A3: =IF($G3="","Nincs VKR kiválasztva!",CE3) -> Kitöltés rendben! | B3: 1 | C3: 1811_RENDKÍVÜLI | D3: Rendkívüli helyzetből adódó azonnali feladatok | E3: Nem áll rendelkezésre | F3: =VLOOKUP($G3,Összesítő!$B:$F,2,FALSE) -> 11-32054-1-036-03-05 | G3: Zalaegerszeg-IV | H3: =AY3&"_"&AW3&"_FIV_"&LEFT(Előlap!$B$6,4) -> 3161_1_FIV_2026 | I3: =VLOOKUP($G3,Összesítő!$B:$F,5,FALSE) -> Alibánfa, Babosdöbréte, Bagod, Becsvölgye, Bocfölde, Boncodfölde, Böde, Csatár, Csonkahegyhát, Dobronhegy, Hagyárosbörönd, Hottó, Kávás, Kiskutas, Kispáli, Kustánszeg, Milejszeg, Nagykutas, Nagypáli, Németfalu, Pálfiszeg, Pethőhenye, Sárhida, Teskánd, Zalaboldogfa, Zalaegerszeg, Zalaszentgyörgy, Zalaszentiván, Zalaszentlőrinc, Gellénháza, Nagylengyel, Gombosszeg, Iborfia, Lickóvadamos, Petrikeresztúr, Ormándlak | J3: =VLOOKUP($G3,Összesítő!$B:$F,4,FALSE) -> Alibánfa Község Önkormányzata, Babosdöbréte Község Önkormányzata, Bagod Község Önkormányzata, Becsvölgye Községi Önkormányzat, Bocfölde Község Önkormányzata, Boncodfölde Község Önkormányzata, Böde Község Önkormányzata, Csatár Község Önkormányzata, Csonkahegyhát Község Önkormányzata, Dobronhegy Község Önkormányzata, Hagyárosbörönd Község Önkormányzata, Hottó Község Önkormányzata, Kávás Község Önkormányzata, Kiskutas Község Önkormányzata, Kispáli Község Önkormányzata, Kustánszeg Község Önkormányzata, Milejszeg Község Önkormányzata, Nagykutas Község Önkormányzata, Nagypáli Község Önkormányzata, Németfalu Község Önkormányzata, Pálfiszeg Község Önkormányzata, Pethőhenye Község Önkormányzata, Sárhida Község Önkormányzata, Teskánd Község Önkormányzata, Zalaboldogfa Község Önkormányzata, Zalaegerszeg Megyei Jogú Város Önkormányzata, Zalaszentgyörgy Község Önkormányzata, Zalaszentiván Község Önkormányzata, Zalaszentlőrinc Község Önkormányzata, Gellénháza Község Önkormányzata, Nagylengyel Község Önkormányzata, Gombosszeg Község Önkormányzata, Iborfia Község Önkormányzata, Lickóvadamos Község Önkormányzata, Petrikeresztúr Község Önkormányzata, Ormándlak Község Önkormányzata | K3: =N3+O3 -> 31051 | L3: 2027 | M3: 2027 | N3: 31051 | O3: 0 | P3: 0 | R3: 31051 | S3: 0 | T3: 0 | U3: 0 | V3: 0 | W3: 0 | X3: 0 | Y3: 0 | Z3: 0 | AA3: 0 | AB3: 0 | AC3: =SUM(R3:AB3) -> 31051 | AD3: =IF($G3="","Nincs VKR kiválasztva!",IF(BA3=0,"Hiányos kitöltés!",BF3)) -> A forrás egyenlő a költséggel (I.ütem). | AF3: 0 | AG3: 0 | AH3: 0 | AI3: 0 | AJ3: 0 | AK3: 0 | AL3: 0 | AM3: 0 | AN3: 0 | AO3: 0 | AP3: 0 | AQ3: =SUM(AF3:AP3) -> 0 | AR3: nem | AS3: =IF($G3="","Nincs VKR kiválasztva!",IF($BA3=0,"Hiányos kitöltés!",IF($BN3=0,"Nem hosszútávú a feladat.",$BL3))) -> Nem hosszútávú a feladat. | AW3: =COUNTA($G$3:G3) -> 1 | AY3: =VLOOKUP($G3,Összesítő!$B:$F,3,FALSE) -> 3161 | AZ3: =LEN($AU3) -> 0 | BA3: =IF(OR($B3="",$C3="",$D3="",$E3="",$F3="",$L3="",$M3="",$N3="",$O3="",$P3=""),0,1) -> 1 | BB3: =IF($F3="",0,IF(AND($L3=2027,$M3=2027),"R",IF(AND($L3=2027,$M3>2027),"RH",IF(AND($L3>2027,$M3>2027),"H","x")))) -> R | BC3: =IF(OR(BB3="R",BB3="RH"),1,0) -> 1 | BD3: =IF(AND($BB3="R",$O3>0),1,IF(AND($BB3="H",$N3>0),1,0)) -> 0 | BE3: =IF($AC3<$N3,1,IF($AC3=$N3,0)) -> 0 | BF3: =IF($L3>2027,"Nem rövidtávú a feladat.",IF($BE3=1,"Az I. ütem nem lehet forráshiányos!",IF($AC3>$N3,"Többlet forrást jelölt meg az I. ütemnél! A forrás ne legyen több a költségnél.",IF($AC3=$N3,"A forrás egyenlő a költséggel (I.ütem).",0)))) -> A forrás egyenlő a költséggel (I.ütem). | BG3: =IF(AND($R3<>"",$S3<>"",$T3<>"",$U3<>"",$V3<>"",$W3<>"",$X3<>"",$Y3<>"",$Z3<>"",$AA3<>"",$AB3<>""),1,0) -> 1 | BH3: =IF(AND($BG3=1,$N3=$AC3),1,0) -> 1 | BI3: =IF($AQ3<$O3,1,0) -> 0 | BJ3: =IF(AND($AF3<>"",$AG3<>"",$AH3<>"",$AI3<>"",$AJ3<>"",$AK3<>"",$AL3<>"",$AM3<>"",$AN3<>"",$AO3<>"",$AP3<>""),1,0) -> 1 | BK3: =IF(AND($BJ3=1,$O3=$AQ3),1,IF(AND($BJ3=1,$O3>$AQ3,AR3="igen"),1,0)) -> 1 | BL3: =IF($M3<2028,"Nem hosszútávú a feladat.",IF(AND($BI3=1,$AR3="nem"),"Forráshiányos a feladat? Jelölje az AR-oszlopban!",IF(AND($BI3=0,$AR3="igen"),"Forráshiányosnak jelölte a feladat az AR-oszlopban, de a forrás költség adatok alapnján nem az!",IF(AND($BI3=1,$AR3="igen"),"Forráshiányos a feladat!",IF($AQ3>$O3,"Többlet forrást jelölt meg a II. ütemnél! A forrás ne legyen több a költségnél.",IF($AQ3=$O3,"A forrás egyenlő a költséggel (II.ütem).",0)))))) -> Nem hosszútávú a feladat. | BM3: =IF($M3<2028,1,0) -> 1 | BN3: =IF($M3>2027,1,0) -> 0 | BO3: =IF(AND($BM3=1,$N3=0),1,0) -> 0 | BP3: =IF(AND($BN3=1,$O3=0),1,0) -> 0 | BQ3: =IF(AND($BB3="R",$N3=0,$AZ3>29),1,IF(AND($BB3="RH",$N3=0,$AZ3>29),1,0)) -> 0 | BR3: =IF($BN3=0,"Nincs hosszútávú terv!",IF(AND($BB3="H",$O3=0,$AZ3=0),"Nullás a hosszútávú feladat és nincs hozzá indoklás!",IF(AND($BB3="RH",$O3=0,$AZ3=0),"Nullás a hosszútávú feladat és nincs hozzá indoklás!",IF(AND($BB3="R",$O3=0,$AZ3<300),"Nullás a hosszútávú feladat és rövid hozzá az indoklás!",IF(AND($BB3="RH",$O3=0,$AZ3<300),"Nullás a hosszútávú feladat és rövid hozzá az indoklás!",0))))) -> Nincs hosszútávú terv! | BS3: =IF(AND($BB3="R",$N3=0,$AZ3>29),1,IF(AND($BB3="RH",$N3=0,$AZ3>29),1,0)) -> 0 | BT3: =IF(AND($BB3="H",$O3=0,$AZ3>29),1,IF(AND($BB3="RH",$O3=0,$AZ3>29),1,0)) -> 0 | BU3: =IF($B3="",0,1) -> 1 | BV3: =IF($C3="",0,1) -> 1 | BW3: =IF($D3="",0,1) -> 1 | BX3: =IF($E3="",0,1) -> 1 | BY3: =IF($L3="",0,1) -> 1 | BZ3: =IF($M3="",0,1) -> 1 | CA3: =IF($N3="",0,1) -> 1 | CB3: =IF($O3="",0,1) -> 1 | CC3: =IF($P3="",0,1) -> 1 | CD3: =IF(AND($BA3=0,$BU3=0),"Hiányos kitöltés! (B-oszlop üres)",IF(AND($BA3=0,$BV3=0),"Hiányos kitöltés! (C-oszlop üres)",IF(AND($BA3=0,$BW3=0),"Hiányos kitöltés! (D-oszlop üres)",IF(AND($BA3=0,$BX3=0),"Hiányos kitöltés! (E-oszlop üres)",IF(AND($BA3=0,$BY3=0),"Hiányos kitöltés! (L-oszlop üres)",IF(AND($BA3=0,$BZ3=0),"Hiányos kitöltés! (M-oszlop üres)",IF(AND($BA3=0,$CA3=0),"Hiányos kitöltés! (N-oszlop üres)",IF(AND($BA3=0,$CB3=0),"Hiányos kitöltés! (O-oszlop üres)",IF(AND($BA3=0,$CC3=0),"Hiányos kitöltés! (P-oszlop üres)",IF(AND($BA3=0,$BG3=0),"Hiányos kitöltés! (I.ütem forrása hiányos!","?")))))))))) -> ? | CE3: =IF($BA3=0,$CD3,IF($BG3=0,"I. ütem forrása nincs kitöltve!",IF($BJ3=0,"II. ütem forrása nincs kitöltve!",IF($BD3=1,"Költségek üteme nem megfelelő (az időtartam és a költség üteme eltér)!",IF(AND(BH3=0,$BA3=1,$BJ3=1,$BD3=1),"Kötelező cellák kitöltve, de az I. ütem forrása hibás!",IF(AND(BJ3=0,$BA3=1,$BJ3=1,$BD3=1),"Kötelező cellák kitöltve, de a II. ütem forrása hibás!",IF(AND($BO3=1,$AZ3<30),"Nullás a rövidtávú feladat és rövid (hiányzik) a hozzá tartozó indoklás!",IF(AND($BP3=1,$AZ3<30),"Nullás a hosszútávú feladat és rövid (hiányzik) a hozzá tartozó indoklás!",IF(AND(BN3=1,C3="1811_RENDKÍVÜLI"),"II. ütemre nem tervezhet Rendkívüli feladatot!",IF(BH3=0,AD3,IF(BK3=0,AS3,IF(AND(BC3=1,$P3>$N3),"EM rendelet 2. melléklet terhére elszámolt költség nem lehet nagyobb az I. ütemre tervezett tényleges költségnél!",IF($AC3>$N3,"Többlet forrást jelölt meg az I. ütemnél! A forrás ne legyen több a költségnél.",IF($AQ3>$O3,"Többlet forrást jelölt meg a II. ütemnél! A forrás ne legyen több a költségnél.","Kitöltés rendben!")))))))))))))) -> Kitöltés rendben! | CF3: =IF(A3="Kitöltés rendben!",1,0) -> 1 | CG3: =IF(AND($BB3="R",$CF3=1),1,IF(AND($BB3="RH",$CF3=1),1,0)) -> 1 | CH3: =IF(AND($BB3="H",$CF3=1),1,IF(AND($BB3="RH",$CF3=1),1,0)) -> 0
A4: =IF($G4="","Nincs VKR kiválasztva!",CE4) -> Kitöltés rendben! | B4: 1 | C4: 1312_ELOSZT_VEZETÉK_GERINC | D4: Zalaszentiván osztatlan közös, gerincvezeték csere | E4: Nem áll rendelkezésre | F4: =VLOOKUP($G4,Összesítő!$B:$F,2,FALSE) -> 11-32054-1-036-03-05 | G4: Zalaegerszeg-IV | H4: =AY4&"_"&AW4&"_FIV_"&LEFT(Előlap!$B$6,4) -> 3161_2_FIV_2026 | I4: =VLOOKUP($G4,Összesítő!$B:$F,5,FALSE) -> Alibánfa, Babosdöbréte, Bagod, Becsvölgye, Bocfölde, Boncodfölde, Böde, Csatár, Csonkahegyhát, Dobronhegy, Hagyárosbörönd, Hottó, Kávás, Kiskutas, Kispáli, Kustánszeg, Milejszeg, Nagykutas, Nagypáli, Németfalu, Pálfiszeg, Pethőhenye, Sárhida, Teskánd, Zalaboldogfa, Zalaegerszeg, Zalaszentgyörgy, Zalaszentiván, Zalaszentlőrinc, Gellénháza, Nagylengyel, Gombosszeg, Iborfia, Lickóvadamos, Petrikeresztúr, Ormándlak | J4: =VLOOKUP($G4,Összesítő!$B:$F,4,FALSE) -> Alibánfa Község Önkormányzata, Babosdöbréte Község Önkormányzata, Bagod Község Önkormányzata, Becsvölgye Községi Önkormányzat, Bocfölde Község Önkormányzata, Boncodfölde Község Önkormányzata, Böde Község Önkormányzata, Csatár Község Önkormányzata, Csonkahegyhát Község Önkormányzata, Dobronhegy Község Önkormányzata, Hagyárosbörönd Község Önkormányzata, Hottó Község Önkormányzata, Kávás Község Önkormányzata, Kiskutas Község Önkormányzata, Kispáli Község Önkormányzata, Kustánszeg Község Önkormányzata, Milejszeg Község Önkormányzata, Nagykutas Község Önkormányzata, Nagypáli Község Önkormányzata, Németfalu Község Önkormányzata, Pálfiszeg Község Önkormányzata, Pethőhenye Község Önkormányzata, Sárhida Község Önkormányzata, Teskánd Község Önkormányzata, Zalaboldogfa Község Önkormányzata, Zalaegerszeg Megyei Jogú Város Önkormányzata, Zalaszentgyörgy Község Önkormányzata, Zalaszentiván Község Önkormányzata, Zalaszentlőrinc Község Önkormányzata, Gellénháza Község Önkormányzata, Nagylengyel Község Önkormányzata, Gombosszeg Község Önkormányzata, Iborfia Község Önkormányzata, Lickóvadamos Község Önkormányzata, Petrikeresztúr Község Önkormányzata, Ormándlak Község Önkormányzata | K4: =N4+O4 -> 2060 | L4: 2027 | M4: 2027 | N4: 2060 | O4: 0 | P4: 0 | R4: 2060 | S4: 0 | T4: 0 | U4: 0 | V4: 0 | W4: 0 | X4: 0 | Y4: 0 | Z4: 0 | AA4: 0 | AB4: 0 | AC4: =SUM(R4:AB4) -> 2060 | AD4: =IF($G4="","Nincs VKR kiválasztva!",IF(BA4=0,"Hiányos kitöltés!",BF4)) -> A forrás egyenlő a költséggel (I.ütem). | AF4: 0 | AG4: 0 | AH4: 0 | AI4: 0 | AJ4: 0 | AK4: 0 | AL4: 0 | AM4: 0 | AN4: 0 | AO4: 0 | AP4: 0 | AQ4: =SUM(AF4:AP4) -> 0 | AR4: nem | AS4: =IF($G4="","Nincs VKR kiválasztva!",IF($BA4=0,"Hiányos kitöltés!",IF($BN4=0,"Nem hosszútávú a feladat.",$BL4))) -> Nem hosszútávú a feladat. | AW4: =COUNTA($G$3:G4) -> 2 | AY4: =VLOOKUP($G4,Összesítő!$B:$F,3,FALSE) -> 3161 | AZ4: =LEN($AU4) -> 0 | BA4: =IF(OR($B4="",$C4="",$D4="",$E4="",$F4="",$L4="",$M4="",$N4="",$O4="",$P4=""),0,1) -> 1 | BB4: =IF($F4="",0,IF(AND($L4=2027,$M4=2027),"R",IF(AND($L4=2027,$M4>2027),"RH",IF(AND($L4>2027,$M4>2027),"H","x")))) -> R | BC4: =IF(OR(BB4="R",BB4="RH"),1,0) -> 1 | BD4: =IF(AND($BB4="R",$O4>0),1,IF(AND($BB4="H",$N4>0),1,0)) -> 0 | BE4: =IF($AC4<$N4,1,IF($AC4=$N4,0)) -> 0 | BF4: =IF($L4>2027,"Nem rövidtávú a feladat.",IF($BE4=1,"Az I. ütem nem lehet forráshiányos!",IF($AC4>$N4,"Többlet forrást jelölt meg az I. ütemnél! A forrás ne legyen több a költségnél.",IF($AC4=$N4,"A forrás egyenlő a költséggel (I.ütem).",0)))) -> A forrás egyenlő a költséggel (I.ütem). | BG4: =IF(AND($R4<>"",$S4<>"",$T4<>"",$U4<>"",$V4<>"",$W4<>"",$X4<>"",$Y4<>"",$Z4<>"",$AA4<>"",$AB4<>""),1,0) -> 1 | BH4: =IF(AND($BG4=1,$N4=$AC4),1,0) -> 1 | BI4: =IF($AQ4<$O4,1,0) -> 0 | BJ4: =IF(AND($AF4<>"",$AG4<>"",$AH4<>"",$AI4<>"",$AJ4<>"",$AK4<>"",$AL4<>"",$AM4<>"",$AN4<>"",$AO4<>"",$AP4<>""),1,0) -> 1 | BK4: =IF(AND($BJ4=1,$O4=$AQ4),1,IF(AND($BJ4=1,$O4>$AQ4,AR4="igen"),1,0)) -> 1 | BL4: =IF($M4<2028,"Nem hosszútávú a feladat.",IF(AND($BI4=1,$AR4="nem"),"Forráshiányos a feladat? Jelölje az AR-oszlopban!",IF(AND($BI4=0,$AR4="igen"),"Forráshiányosnak jelölte a feladat az AR-oszlopban, de a forrás költség adatok alapnján nem az!",IF(AND($BI4=1,$AR4="igen"),"Forráshiányos a feladat!",IF($AQ4>$O4,"Többlet forrást jelölt meg a II. ütemnél! A forrás ne legyen több a költségnél.",IF($AQ4=$O4,"A forrás egyenlő a költséggel (II.ütem).",0)))))) -> Nem hosszútávú a feladat. | BM4: =IF($M4<2028,1,0) -> 1 | BN4: =IF($M4>2027,1,0) -> 0 | BO4: =IF(AND($BM4=1,$N4=0),1,0) -> 0 | BP4: =IF(AND($BN4=1,$O4=0),1,0) -> 0 | BQ4: =IF(AND($BB4="R",$N4=0,$AZ4>29),1,IF(AND($BB4="RH",$N4=0,$AZ4>29),1,0)) -> 0 | BR4: =IF($BN4=0,"Nincs hosszútávú terv!",IF(AND($BB4="H",$O4=0,$AZ4=0),"Nullás a hosszútávú feladat és nincs hozzá indoklás!",IF(AND($BB4="RH",$O4=0,$AZ4=0),"Nullás a hosszútávú feladat és nincs hozzá indoklás!",IF(AND($BB4="R",$O4=0,$AZ4<300),"Nullás a hosszútávú feladat és rövid hozzá az indoklás!",IF(AND($BB4="RH",$O4=0,$AZ4<300),"Nullás a hosszútávú feladat és rövid hozzá az indoklás!",0))))) -> Nincs hosszútávú terv! | BS4: =IF(AND($BB4="R",$N4=0,$AZ4>29),1,IF(AND($BB4="RH",$N4=0,$AZ4>29),1,0)) -> 0 | BT4: =IF(AND($BB4="H",$O4=0,$AZ4>29),1,IF(AND($BB4="RH",$O4=0,$AZ4>29),1,0)) -> 0 | BU4: =IF($B4="",0,1) -> 1 | BV4: =IF($C4="",0,1) -> 1 | BW4: =IF($D4="",0,1) -> 1 | BX4: =IF($E4="",0,1) -> 1 | BY4: =IF($L4="",0,1) -> 1 | BZ4: =IF($M4="",0,1) -> 1 | CA4: =IF($N4="",0,1) -> 1 | CB4: =IF($O4="",0,1) -> 1 | CC4: =IF($P4="",0,1) -> 1 | CD4: =IF(AND($BA4=0,$BU4=0),"Hiányos kitöltés! (B-oszlop üres)",IF(AND($BA4=0,$BV4=0),"Hiányos kitöltés! (C-oszlop üres)",IF(AND($BA4=0,$BW4=0),"Hiányos kitöltés! (D-oszlop üres)",IF(AND($BA4=0,$BX4=0),"Hiányos kitöltés! (E-oszlop üres)",IF(AND($BA4=0,$BY4=0),"Hiányos kitöltés! (L-oszlop üres)",IF(AND($BA4=0,$BZ4=0),"Hiányos kitöltés! (M-oszlop üres)",IF(AND($BA4=0,$CA4=0),"Hiányos kitöltés! (N-oszlop üres)",IF(AND($BA4=0,$CB4=0),"Hiányos kitöltés! (O-oszlop üres)",IF(AND($BA4=0,$CC4=0),"Hiányos kitöltés! (P-oszlop üres)",IF(AND($BA4=0,$BG4=0),"Hiányos kitöltés! (I.ütem forrása hiányos!","?")))))))))) -> ? | CE4: =IF($BA4=0,$CD4,IF($BG4=0,"I. ütem forrása nincs kitöltve!",IF($BJ4=0,"II. ütem forrása nincs kitöltve!",IF($BD4=1,"Költségek üteme nem megfelelő (az időtartam és a költség üteme eltér)!",IF(AND(BH4=0,$BA4=1,$BJ4=1,$BD4=1),"Kötelező cellák kitöltve, de az I. ütem forrása hibás!",IF(AND(BJ4=0,$BA4=1,$BJ4=1,$BD4=1),"Kötelező cellák kitöltve, de a II. ütem forrása hibás!",IF(AND($BO4=1,$AZ4<30),"Nullás a rövidtávú feladat és rövid (hiányzik) a hozzá tartozó indoklás!",IF(AND($BP4=1,$AZ4<30),"Nullás a hosszútávú feladat és rövid (hiányzik) a hozzá tartozó indoklás!",IF(AND(BN4=1,C4="1811_RENDKÍVÜLI"),"II. ütemre nem tervezhet Rendkívüli feladatot!",IF(BH4=0,AD4,IF(BK4=0,AS4,IF(AND(BC4=1,$P4>$N4),"EM rendelet 2. melléklet terhére elszámolt költség nem lehet nagyobb az I. ütemre tervezett tényleges költségnél!",IF($AC4>$N4,"Többlet forrást jelölt meg az I. ütemnél! A forrás ne legyen több a költségnél.",IF($AQ4>$O4,"Többlet forrást jelölt meg a II. ütemnél! A forrás ne legyen több a költségnél.","Kitöltés rendben!")))))))))))))) -> Kitöltés rendben! | CF4: =IF(A4="Kitöltés rendben!",1,0) -> 1 | CG4: =IF(AND($BB4="R",$CF4=1),1,IF(AND($BB4="RH",$CF4=1),1,0)) -> 1 | CH4: =IF(AND($BB4="H",$CF4=1),1,IF(AND($BB4="RH",$CF4=1),1,0)) -> 0
A5: =IF($G5="","Nincs VKR kiválasztva!",CE5) -> Kitöltés rendben! | B5: 1 | C5: 1313_ELOSZT_VEZETÉK_BEKÖTŐ | D5: Zalaszentiván osztatlan közös, bekötés csere | E5: Nem áll rendelkezésre | F5: =VLOOKUP($G5,Összesítő!$B:$F,2,FALSE) -> 11-32054-1-036-03-05 | G5: Zalaegerszeg-IV | H5: =AY5&"_"&AW5&"_FIV_"&LEFT(Előlap!$B$6,4) -> 3161_3_FIV_2026 | I5: =VLOOKUP($G5,Összesítő!$B:$F,5,FALSE) -> Alibánfa, Babosdöbréte, Bagod, Becsvölgye, Bocfölde, Boncodfölde, Böde, Csatár, Csonkahegyhát, Dobronhegy, Hagyárosbörönd, Hottó, Kávás, Kiskutas, Kispáli, Kustánszeg, Milejszeg, Nagykutas, Nagypáli, Németfalu, Pálfiszeg, Pethőhenye, Sárhida, Teskánd, Zalaboldogfa, Zalaegerszeg, Zalaszentgyörgy, Zalaszentiván, Zalaszentlőrinc, Gellénháza, Nagylengyel, Gombosszeg, Iborfia, Lickóvadamos, Petrikeresztúr, Ormándlak | J5: =VLOOKUP($G5,Összesítő!$B:$F,4,FALSE) -> Alibánfa Község Önkormányzata, Babosdöbréte Község Önkormányzata, Bagod Község Önkormányzata, Becsvölgye Községi Önkormányzat, Bocfölde Község Önkormányzata, Boncodfölde Község Önkormányzata, Böde Község Önkormányzata, Csatár Község Önkormányzata, Csonkahegyhát Község Önkormányzata, Dobronhegy Község Önkormányzata, Hagyárosbörönd Község Önkormányzata, Hottó Község Önkormányzata, Kávás Község Önkormányzata, Kiskutas Község Önkormányzata, Kispáli Község Önkormányzata, Kustánszeg Község Önkormányzata, Milejszeg Község Önkormányzata, Nagykutas Község Önkormányzata, Nagypáli Község Önkormányzata, Németfalu Község Önkormányzata, Pálfiszeg Község Önkormányzata, Pethőhenye Község Önkormányzata, Sárhida Község Önkormányzata, Teskánd Község Önkormányzata, Zalaboldogfa Község Önkormányzata, Zalaegerszeg Megyei Jogú Város Önkormányzata, Zalaszentgyörgy Község Önkormányzata, Zalaszentiván Község Önkormányzata, Zalaszentlőrinc Község Önkormányzata, Gellénháza Község Önkormányzata, Nagylengyel Község Önkormányzata, Gombosszeg Község Önkormányzata, Iborfia Község Önkormányzata, Lickóvadamos Község Önkormányzata, Petrikeresztúr Község Önkormányzata, Ormándlak Község Önkormányzata | K5: =N5+O5 -> 2000 | L5: 2027 | M5: 2027 | N5: 2000 | O5: 0 | P5: 0 | R5: 2000 | S5: 0 | T5: 0 | U5: 0 | V5: 0 | W5: 0 | X5: 0 | Y5: 0 | Z5: 0 | AA5: 0 | AB5: 0 | AC5: =SUM(R5:AB5) -> 2000 | AD5: =IF($G5="","Nincs VKR kiválasztva!",IF(BA5=0,"Hiányos kitöltés!",BF5)) -> A forrás egyenlő a költséggel (I.ütem). | AF5: 0 | AG5: 0 | AH5: 0 | AI5: 0 | AJ5: 0 | AK5: 0 | AL5: 0 | AM5: 0 | AN5: 0 | AO5: 0 | AP5: 0 | AQ5: =SUM(AF5:AP5) -> 0 | AR5: nem | AS5: =IF($G5="","Nincs VKR kiválasztva!",IF($BA5=0,"Hiányos kitöltés!",IF($BN5=0,"Nem hosszútávú a feladat.",$BL5))) -> Nem hosszútávú a feladat. | AW5: =COUNTA($G$3:G5) -> 3 | AY5: =VLOOKUP($G5,Összesítő!$B:$F,3,FALSE) -> 3161 | AZ5: =LEN($AU5) -> 0 | BA5: =IF(OR($B5="",$C5="",$D5="",$E5="",$F5="",$L5="",$M5="",$N5="",$O5="",$P5=""),0,1) -> 1 | BB5: =IF($F5="",0,IF(AND($L5=2027,$M5=2027),"R",IF(AND($L5=2027,$M5>2027),"RH",IF(AND($L5>2027,$M5>2027),"H","x")))) -> R | BC5: =IF(OR(BB5="R",BB5="RH"),1,0) -> 1 | BD5: =IF(AND($BB5="R",$O5>0),1,IF(AND($BB5="H",$N5>0),1,0)) -> 0 | BE5: =IF($AC5<$N5,1,IF($AC5=$N5,0)) -> 0 | BF5: =IF($L5>2027,"Nem rövidtávú a feladat.",IF($BE5=1,"Az I. ütem nem lehet forráshiányos!",IF($AC5>$N5,"Többlet forrást jelölt meg az I. ütemnél! A forrás ne legyen több a költségnél.",IF($AC5=$N5,"A forrás egyenlő a költséggel (I.ütem).",0)))) -> A forrás egyenlő a költséggel (I.ütem). | BG5: =IF(AND($R5<>"",$S5<>"",$T5<>"",$U5<>"",$V5<>"",$W5<>"",$X5<>"",$Y5<>"",$Z5<>"",$AA5<>"",$AB5<>""),1,0) -> 1 | BH5: =IF(AND($BG5=1,$N5=$AC5),1,0) -> 1 | BI5: =IF($AQ5<$O5,1,0) -> 0 | BJ5: =IF(AND($AF5<>"",$AG5<>"",$AH5<>"",$AI5<>"",$AJ5<>"",$AK5<>"",$AL5<>"",$AM5<>"",$AN5<>"",$AO5<>"",$AP5<>""),1,0) -> 1 | BK5: =IF(AND($BJ5=1,$O5=$AQ5),1,IF(AND($BJ5=1,$O5>$AQ5,AR5="igen"),1,0)) -> 1 | BL5: =IF($M5<2028,"Nem hosszútávú a feladat.",IF(AND($BI5=1,$AR5="nem"),"Forráshiányos a feladat? Jelölje az AR-oszlopban!",IF(AND($BI5=0,$AR5="igen"),"Forráshiányosnak jelölte a feladat az AR-oszlopban, de a forrás költség adatok alapnján nem az!",IF(AND($BI5=1,$AR5="igen"),"Forráshiányos a feladat!",IF($AQ5>$O5,"Többlet forrást jelölt meg a II. ütemnél! A forrás ne legyen több a költségnél.",IF($AQ5=$O5,"A forrás egyenlő a költséggel (II.ütem).",0)))))) -> Nem hosszútávú a feladat. | BM5: =IF($M5<2028,1,0) -> 1 | BN5: =IF($M5>2027,1,0) -> 0 | BO5: =IF(AND($BM5=1,$N5=0),1,0) -> 0 | BP5: =IF(AND($BN5=1,$O5=0),1,0) -> 0 | BQ5: =IF(AND($BB5="R",$N5=0,$AZ5>29),1,IF(AND($BB5="RH",$N5=0,$AZ5>29),1,0)) -> 0 | BR5: =IF($BN5=0,"Nincs hosszútávú terv!",IF(AND($BB5="H",$O5=0,$AZ5=0),"Nullás a hosszútávú feladat és nincs hozzá indoklás!",IF(AND($BB5="RH",$O5=0,$AZ5=0),"Nullás a hosszútávú feladat és nincs hozzá indoklás!",IF(AND($BB5="R",$O5=0,$AZ5<300),"Nullás a hosszútávú feladat és rövid hozzá az indoklás!",IF(AND($BB5="RH",$O5=0,$AZ5<300),"Nullás a hosszútávú feladat és rövid hozzá az indoklás!",0))))) -> Nincs hosszútávú terv! | BS5: =IF(AND($BB5="R",$N5=0,$AZ5>29),1,IF(AND($BB5="RH",$N5=0,$AZ5>29),1,0)) -> 0 | BT5: =IF(AND($BB5="H",$O5=0,$AZ5>29),1,IF(AND($BB5="RH",$O5=0,$AZ5>29),1,0)) -> 0 | BU5: =IF($B5="",0,1) -> 1 | BV5: =IF($C5="",0,1) -> 1 | BW5: =IF($D5="",0,1) -> 1 | BX5: =IF($E5="",0,1) -> 1 | BY5: =IF($L5="",0,1) -> 1 | BZ5: =IF($M5="",0,1) -> 1 | CA5: =IF($N5="",0,1) -> 1 | CB5: =IF($O5="",0,1) -> 1 | CC5: =IF($P5="",0,1) -> 1 | CD5: =IF(AND($BA5=0,$BU5=0),"Hiányos kitöltés! (B-oszlop üres)",IF(AND($BA5=0,$BV5=0),"Hiányos kitöltés! (C-oszlop üres)",IF(AND($BA5=0,$BW5=0),"Hiányos kitöltés! (D-oszlop üres)",IF(AND($BA5=0,$BX5=0),"Hiányos kitöltés! (E-oszlop üres)",IF(AND($BA5=0,$BY5=0),"Hiányos kitöltés! (L-oszlop üres)",IF(AND($BA5=0,$BZ5=0),"Hiányos kitöltés! (M-oszlop üres)",IF(AND($BA5=0,$CA5=0),"Hiányos kitöltés! (N-oszlop üres)",IF(AND($BA5=0,$CB5=0),"Hiányos kitöltés! (O-oszlop üres)",IF(AND($BA5=0,$CC5=0),"Hiányos kitöltés! (P-oszlop üres)",IF(AND($BA5=0,$BG5=0),"Hiányos kitöltés! (I.ütem forrása hiányos!","?")))))))))) -> ? | CE5: =IF($BA5=0,$CD5,IF($BG5=0,"I. ütem forrása nincs kitöltve!",IF($BJ5=0,"II. ütem forrása nincs kitöltve!",IF($BD5=1,"Költségek üteme nem megfelelő (az időtartam és a költség üteme eltér)!",IF(AND(BH5=0,$BA5=1,$BJ5=1,$BD5=1),"Kötelező cellák kitöltve, de az I. ütem forrása hibás!",IF(AND(BJ5=0,$BA5=1,$BJ5=1,$BD5=1),"Kötelező cellák kitöltve, de a II. ütem forrása hibás!",IF(AND($BO5=1,$AZ5<30),"Nullás a rövidtávú feladat és rövid (hiányzik) a hozzá tartozó indoklás!",IF(AND($BP5=1,$AZ5<30),"Nullás a hosszútávú feladat és rövid (hiányzik) a hozzá tartozó indoklás!",IF(AND(BN5=1,C5="1811_RENDKÍVÜLI"),"II. ütemre nem tervezhet Rendkívüli feladatot!",IF(BH5=0,AD5,IF(BK5=0,AS5,IF(AND(BC5=1,$P5>$N5),"EM rendelet 2. melléklet terhére elszámolt költség nem lehet nagyobb az I. ütemre tervezett tényleges költségnél!",IF($AC5>$N5,"Többlet forrást jelölt meg az I. ütemnél! A forrás ne legyen több a költségnél.",IF($AQ5>$O5,"Többlet forrást jelölt meg a II. ütemnél! A forrás ne legyen több a költségnél.","Kitöltés rendben!")))))))))))))) -> Kitöltés rendben! | CF5: =IF(A5="Kitöltés rendben!",1,0) -> 1 | CG5: =IF(AND($BB5="R",$CF5=1),1,IF(AND($BB5="RH",$CF5=1),1,0)) -> 1 | CH5: =IF(AND($BB5="H",$CF5=1),1,IF(AND($BB5="RH",$CF5=1),1,0)) -> 0
A6: =IF($G6="","Nincs VKR kiválasztva!",CE6) -> Kitöltés rendben! | B6: 1 | C6: 1312_ELOSZT_VEZETÉK_GERINC | D6: Bagod, gerincvezeték csere | E6: Nem áll rendelkezésre | F6: =VLOOKUP($G6,Összesítő!$B:$F,2,FALSE) -> 11-32054-1-036-03-05 | G6: Zalaegerszeg-IV | H6: =AY6&"_"&AW6&"_FIV_"&LEFT(Előlap!$B$6,4) -> 3161_4_FIV_2026 | I6: =VLOOKUP($G6,Összesítő!$B:$F,5,FALSE) -> Alibánfa, Babosdöbréte, Bagod, Becsvölgye, Bocfölde, Boncodfölde, Böde, Csatár, Csonkahegyhát, Dobronhegy, Hagyárosbörönd, Hottó, Kávás, Kiskutas, Kispáli, Kustánszeg, Milejszeg, Nagykutas, Nagypáli, Németfalu, Pálfiszeg, Pethőhenye, Sárhida, Teskánd, Zalaboldogfa, Zalaegerszeg, Zalaszentgyörgy, Zalaszentiván, Zalaszentlőrinc, Gellénháza, Nagylengyel, Gombosszeg, Iborfia, Lickóvadamos, Petrikeresztúr, Ormándlak | J6: =VLOOKUP($G6,Összesítő!$B:$F,4,FALSE) -> Alibánfa Község Önkormányzata, Babosdöbréte Község Önkormányzata, Bagod Község Önkormányzata, Becsvölgye Községi Önkormányzat, Bocfölde Község Önkormányzata, Boncodfölde Község Önkormányzata, Böde Község Önkormányzata, Csatár Község Önkormányzata, Csonkahegyhát Község Önkormányzata, Dobronhegy Község Önkormányzata, Hagyárosbörönd Község Önkormányzata, Hottó Község Önkormányzata, Kávás Község Önkormányzata, Kiskutas Község Önkormányzata, Kispáli Község Önkormányzata, Kustánszeg Község Önkormányzata, Milejszeg Község Önkormányzata, Nagykutas Község Önkormányzata, Nagypáli Község Önkormányzata, Németfalu Község Önkormányzata, Pálfiszeg Község Önkormányzata, Pethőhenye Község Önkormányzata, Sárhida Község Önkormányzata, Teskánd Község Önkormányzata, Zalaboldogfa Község Önkormányzata, Zalaegerszeg Megyei Jogú Város Önkormányzata, Zalaszentgyörgy Község Önkormányzata, Zalaszentiván Község Önkormányzata, Zalaszentlőrinc Község Önkormányzata, Gellénháza Község Önkormányzata, Nagylengyel Község Önkormányzata, Gombosszeg Község Önkormányzata, Iborfia Község Önkormányzata, Lickóvadamos Község Önkormányzata, Petrikeresztúr Község Önkormányzata, Ormándlak Község Önkormányzata | K6: =N6+O6 -> 3100 | L6: 2027 | M6: 2027 | N6: 3100 | O6: 0 | P6: 0 | R6: 3100 | S6: 0 | T6: 0 | U6: 0 | V6: 0 | W6: 0 | X6: 0 | Y6: 0 | Z6: 0 | AA6: 0 | AB6: 0 | AC6: =SUM(R6:AB6) -> 3100 | AD6: =IF($G6="","Nincs VKR kiválasztva!",IF(BA6=0,"Hiányos kitöltés!",BF6)) -> A forrás egyenlő a költséggel (I.ütem). | AF6: 0 | AG6: 0 | AH6: 0 | AI6: 0 | AJ6: 0 | AK6: 0 | AL6: 0 | AM6: 0 | AN6: 0 | AO6: 0 | AP6: 0 | AQ6: =SUM(AF6:AP6) -> 0 | AR6: nem | AS6: =IF($G6="","Nincs VKR kiválasztva!",IF($BA6=0,"Hiányos kitöltés!",IF($BN6=0,"Nem hosszútávú a feladat.",$BL6))) -> Nem hosszútávú a feladat. | AW6: =COUNTA($G$3:G6) -> 4 | AY6: =VLOOKUP($G6,Összesítő!$B:$F,3,FALSE) -> 3161 | AZ6: =LEN($AU6) -> 0 | BA6: =IF(OR($B6="",$C6="",$D6="",$E6="",$F6="",$L6="",$M6="",$N6="",$O6="",$P6=""),0,1) -> 1 | BB6: =IF($F6="",0,IF(AND($L6=2027,$M6=2027),"R",IF(AND($L6=2027,$M6>2027),"RH",IF(AND($L6>2027,$M6>2027),"H","x")))) -> R | BC6: =IF(OR(BB6="R",BB6="RH"),1,0) -> 1 | BD6: =IF(AND($BB6="R",$O6>0),1,IF(AND($BB6="H",$N6>0),1,0)) -> 0 | BE6: =IF($AC6<$N6,1,IF($AC6=$N6,0)) -> 0 | BF6: =IF($L6>2027,"Nem rövidtávú a feladat.",IF($BE6=1,"Az I. ütem nem lehet forráshiányos!",IF($AC6>$N6,"Többlet forrást jelölt meg az I. ütemnél! A forrás ne legyen több a költségnél.",IF($AC6=$N6,"A forrás egyenlő a költséggel (I.ütem).",0)))) -> A forrás egyenlő a költséggel (I.ütem). | BG6: =IF(AND($R6<>"",$S6<>"",$T6<>"",$U6<>"",$V6<>"",$W6<>"",$X6<>"",$Y6<>"",$Z6<>"",$AA6<>"",$AB6<>""),1,0) -> 1 | BH6: =IF(AND($BG6=1,$N6=$AC6),1,0) -> 1 | BI6: =IF($AQ6<$O6,1,0) -> 0 | BJ6: =IF(AND($AF6<>"",$AG6<>"",$AH6<>"",$AI6<>"",$AJ6<>"",$AK6<>"",$AL6<>"",$AM6<>"",$AN6<>"",$AO6<>"",$AP6<>""),1,0) -> 1 | BK6: =IF(AND($BJ6=1,$O6=$AQ6),1,IF(AND($BJ6=1,$O6>$AQ6,AR6="igen"),1,0)) -> 1 | BL6: =IF($M6<2028,"Nem hosszútávú a feladat.",IF(AND($BI6=1,$AR6="nem"),"Forráshiányos a feladat? Jelölje az AR-oszlopban!",IF(AND($BI6=0,$AR6="igen"),"Forráshiányosnak jelölte a feladat az AR-oszlopban, de a forrás költség adatok alapnján nem az!",IF(AND($BI6=1,$AR6="igen"),"Forráshiányos a feladat!",IF($AQ6>$O6,"Többlet forrást jelölt meg a II. ütemnél! A forrás ne legyen több a költségnél.",IF($AQ6=$O6,"A forrás egyenlő a költséggel (II.ütem).",0)))))) -> Nem hosszútávú a feladat. | BM6: =IF($M6<2028,1,0) -> 1 | BN6: =IF($M6>2027,1,0) -> 0 | BO6: =IF(AND($BM6=1,$N6=0),1,0) -> 0 | BP6: =IF(AND($BN6=1,$O6=0),1,0) -> 0 | BQ6: =IF(AND($BB6="R",$N6=0,$AZ6>29),1,IF(AND($BB6="RH",$N6=0,$AZ6>29),1,0)) -> 0 | BR6: =IF($BN6=0,"Nincs hosszútávú terv!",IF(AND($BB6="H",$O6=0,$AZ6=0),"Nullás a hosszútávú feladat és nincs hozzá indoklás!",IF(AND($BB6="RH",$O6=0,$AZ6=0),"Nullás a hosszútávú feladat és nincs hozzá indoklás!",IF(AND($BB6="R",$O6=0,$AZ6<300),"Nullás a hosszútávú feladat és rövid hozzá az indoklás!",IF(AND($BB6="RH",$O6=0,$AZ6<300),"Nullás a hosszútávú feladat és rövid hozzá az indoklás!",0))))) -> Nincs hosszútávú terv! | BS6: =IF(AND($BB6="R",$N6=0,$AZ6>29),1,IF(AND($BB6="RH",$N6=0,$AZ6>29),1,0)) -> 0 | BT6: =IF(AND($BB6="H",$O6=0,$AZ6>29),1,IF(AND($BB6="RH",$O6=0,$AZ6>29),1,0)) -> 0 | BU6: =IF($B6="",0,1) -> 1 | BV6: =IF($C6="",0,1) -> 1 | BW6: =IF($D6="",0,1) -> 1 | BX6: =IF($E6="",0,1) -> 1 | BY6: =IF($L6="",0,1) -> 1 | BZ6: =IF($M6="",0,1) -> 1 | CA6: =IF($N6="",0,1) -> 1 | CB6: =IF($O6="",0,1) -> 1 | CC6: =IF($P6="",0,1) -> 1 | CD6: =IF(AND($BA6=0,$BU6=0),"Hiányos kitöltés! (B-oszlop üres)",IF(AND($BA6=0,$BV6=0),"Hiányos kitöltés! (C-oszlop üres)",IF(AND($BA6=0,$BW6=0),"Hiányos kitöltés! (D-oszlop üres)",IF(AND($BA6=0,$BX6=0),"Hiányos kitöltés! (E-oszlop üres)",IF(AND($BA6=0,$BY6=0),"Hiányos kitöltés! (L-oszlop üres)",IF(AND($BA6=0,$BZ6=0),"Hiányos kitöltés! (M-oszlop üres)",IF(AND($BA6=0,$CA6=0),"Hiányos kitöltés! (N-oszlop üres)",IF(AND($BA6=0,$CB6=0),"Hiányos kitöltés! (O-oszlop üres)",IF(AND($BA6=0,$CC6=0),"Hiányos kitöltés! (P-oszlop üres)",IF(AND($BA6=0,$BG6=0),"Hiányos kitöltés! (I.ütem forrása hiányos!","?")))))))))) -> ? | CE6: =IF($BA6=0,$CD6,IF($BG6=0,"I. ütem forrása nincs kitöltve!",IF($BJ6=0,"II. ütem forrása nincs kitöltve!",IF($BD6=1,"Költségek üteme nem megfelelő (az időtartam és a költség üteme eltér)!",IF(AND(BH6=0,$BA6=1,$BJ6=1,$BD6=1),"Kötelező cellák kitöltve, de az I. ütem forrása hibás!",IF(AND(BJ6=0,$BA6=1,$BJ6=1,$BD6=1),"Kötelező cellák kitöltve, de a II. ütem forrása hibás!",IF(AND($BO6=1,$AZ6<30),"Nullás a rövidtávú feladat és rövid (hiányzik) a hozzá tartozó indoklás!",IF(AND($BP6=1,$AZ6<30),"Nullás a hosszútávú feladat és rövid (hiányzik) a hozzá tartozó indoklás!",IF(AND(BN6=1,C6="1811_RENDKÍVÜLI"),"II. ütemre nem tervezhet Rendkívüli feladatot!",IF(BH6=0,AD6,IF(BK6=0,AS6,IF(AND(BC6=1,$P6>$N6),"EM rendelet 2. melléklet terhére elszámolt költség nem lehet nagyobb az I. ütemre tervezett tényleges költségnél!",IF($AC6>$N6,"Többlet forrást jelölt meg az I. ütemnél! A forrás ne legyen több a költségnél.",IF($AQ6>$O6,"Többlet forrást jelölt meg a II. ütemnél! A forrás ne legyen több a költségnél.","Kitöltés rendben!")))))))))))))) -> Kitöltés rendben! | CF6: =IF(A6="Kitöltés rendben!",1,0) -> 1 | CG6: =IF(AND($BB6="R",$CF6=1),1,IF(AND($BB6="RH",$CF6=1),1,0)) -> 1 | CH6: =IF(AND($BB6="H",$CF6=1),1,IF(AND($BB6="RH",$CF6=1),1,0)) -> 0
A7: =IF($G7="","Nincs VKR kiválasztva!",CE7) -> Kitöltés rendben! | B7: 1 | C7: 1313_ELOSZT_VEZETÉK_BEKÖTŐ | D7: Bagod, bekötés csere | E7: Nem áll rendelkezésre | F7: =VLOOKUP($G7,Összesítő!$B:$F,2,FALSE) -> 11-32054-1-036-03-05 | G7: Zalaegerszeg-IV | H7: =AY7&"_"&AW7&"_FIV_"&LEFT(Előlap!$B$6,4) -> 3161_5_FIV_2026 | I7: =VLOOKUP($G7,Összesítő!$B:$F,5,FALSE) -> Alibánfa, Babosdöbréte, Bagod, Becsvölgye, Bocfölde, Boncodfölde, Böde, Csatár, Csonkahegyhát, Dobronhegy, Hagyárosbörönd, Hottó, Kávás, Kiskutas, Kispáli, Kustánszeg, Milejszeg, Nagykutas, Nagypáli, Németfalu, Pálfiszeg, Pethőhenye, Sárhida, Teskánd, Zalaboldogfa, Zalaegerszeg, Zalaszentgyörgy, Zalaszentiván, Zalaszentlőrinc, Gellénháza, Nagylengyel, Gombosszeg, Iborfia, Lickóvadamos, Petrikeresztúr, Ormándlak | J7: =VLOOKUP($G7,Összesítő!$B:$F,4,FALSE) -> Alibánfa Község Önkormányzata, Babosdöbréte Község Önkormányzata, Bagod Község Önkormányzata, Becsvölgye Községi Önkormányzat, Bocfölde Község Önkormányzata, Boncodfölde Község Önkormányzata, Böde Község Önkormányzata, Csatár Község Önkormányzata, Csonkahegyhát Község Önkormányzata, Dobronhegy Község Önkormányzata, Hagyárosbörönd Község Önkormányzata, Hottó Község Önkormányzata, Kávás Község Önkormányzata, Kiskutas Község Önkormányzata, Kispáli Község Önkormányzata, Kustánszeg Község Önkormányzata, Milejszeg Község Önkormányzata, Nagykutas Község Önkormányzata, Nagypáli Község Önkormányzata, Németfalu Község Önkormányzata, Pálfiszeg Község Önkormányzata, Pethőhenye Község Önkormányzata, Sárhida Község Önkormányzata, Teskánd Község Önkormányzata, Zalaboldogfa Község Önkormányzata, Zalaegerszeg Megyei Jogú Város Önkormányzata, Zalaszentgyörgy Község Önkormányzata, Zalaszentiván Község Önkormányzata, Zalaszentlőrinc Község Önkormányzata, Gellénháza Község Önkormányzata, Nagylengyel Község Önkormányzata, Gombosszeg Község Önkormányzata, Iborfia Község Önkormányzata, Lickóvadamos Község Önkormányzata, Petrikeresztúr Község Önkormányzata, Ormándlak Község Önkormányzata | K7: =N7+O7 -> 581 | L7: 2027 | M7: 2027 | N7: 581 | O7: 0 | P7: 0 | R7: 581 | S7: 0 | T7: 0 | U7: 0 | V7: 0 | W7: 0 | X7: 0 | Y7: 0 | Z7: 0 | AA7: 0 | AB7: 0 | AC7: =SUM(R7:AB7) -> 581 | AD7: =IF($G7="","Nincs VKR kiválasztva!",IF(BA7=0,"Hiányos kitöltés!",BF7)) -> A forrás egyenlő a költséggel (I.ütem). | AF7: 0 | AG7: 0 | AH7: 0 | AI7: 0 | AJ7: 0 | AK7: 0 | AL7: 0 | AM7: 0 | AN7: 0 | AO7: 0 | AP7: 0 | AQ7: =SUM(AF7:AP7) -> 0 | AR7: nem | AS7: =IF($G7="","Nincs VKR kiválasztva!",IF($BA7=0,"Hiányos kitöltés!",IF($BN7=0,"Nem hosszútávú a feladat.",$BL7))) -> Nem hosszútávú a feladat. | AW7: =COUNTA($G$3:G7) -> 5 | AY7: =VLOOKUP($G7,Összesítő!$B:$F,3,FALSE) -> 3161 | AZ7: =LEN($AU7) -> 0 | BA7: =IF(OR($B7="",$C7="",$D7="",$E7="",$F7="",$L7="",$M7="",$N7="",$O7="",$P7=""),0,1) -> 1 | BB7: =IF($F7="",0,IF(AND($L7=2027,$M7=2027),"R",IF(AND($L7=2027,$M7>2027),"RH",IF(AND($L7>2027,$M7>2027),"H","x")))) -> R | BC7: =IF(OR(BB7="R",BB7="RH"),1,0) -> 1 | BD7: =IF(AND($BB7="R",$O7>0),1,IF(AND($BB7="H",$N7>0),1,0)) -> 0 | BE7: =IF($AC7<$N7,1,IF($AC7=$N7,0)) -> 0 | BF7: =IF($L7>2027,"Nem rövidtávú a feladat.",IF($BE7=1,"Az I. ütem nem lehet forráshiányos!",IF($AC7>$N7,"Többlet forrást jelölt meg az I. ütemnél! A forrás ne legyen több a költségnél.",IF($AC7=$N7,"A forrás egyenlő a költséggel (I.ütem).",0)))) -> A forrás egyenlő a költséggel (I.ütem). | BG7: =IF(AND($R7<>"",$S7<>"",$T7<>"",$U7<>"",$V7<>"",$W7<>"",$X7<>"",$Y7<>"",$Z7<>"",$AA7<>"",$AB7<>""),1,0) -> 1 | BH7: =IF(AND($BG7=1,$N7=$AC7),1,0) -> 1 | BI7: =IF($AQ7<$O7,1,0) -> 0 | BJ7: =IF(AND($AF7<>"",$AG7<>"",$AH7<>"",$AI7<>"",$AJ7<>"",$AK7<>"",$AL7<>"",$AM7<>"",$AN7<>"",$AO7<>"",$AP7<>""),1,0) -> 1 | BK7: =IF(AND($BJ7=1,$O7=$AQ7),1,IF(AND($BJ7=1,$O7>$AQ7,AR7="igen"),1,0)) -> 1 | BL7: =IF($M7<2028,"Nem hosszútávú a feladat.",IF(AND($BI7=1,$AR7="nem"),"Forráshiányos a feladat? Jelölje az AR-oszlopban!",IF(AND($BI7=0,$AR7="igen"),"Forráshiányosnak jelölte a feladat az AR-oszlopban, de a forrás költség adatok alapnján nem az!",IF(AND($BI7=1,$AR7="igen"),"Forráshiányos a feladat!",IF($AQ7>$O7,"Többlet forrást jelölt meg a II. ütemnél! A forrás ne legyen több a költségnél.",IF($AQ7=$O7,"A forrás egyenlő a költséggel (II.ütem).",0)))))) -> Nem hosszútávú a feladat. | BM7: =IF($M7<2028,1,0) -> 1 | BN7: =IF($M7>2027,1,0) -> 0 | BO7: =IF(AND($BM7=1,$N7=0),1,0) -> 0 | BP7: =IF(AND($BN7=1,$O7=0),1,0) -> 0 | BQ7: =IF(AND($BB7="R",$N7=0,$AZ7>29),1,IF(AND($BB7="RH",$N7=0,$AZ7>29),1,0)) -> 0 | BR7: =IF($BN7=0,"Nincs hosszútávú terv!",IF(AND($BB7="H",$O7=0,$AZ7=0),"Nullás a hosszútávú feladat és nincs hozzá indoklás!",IF(AND($BB7="RH",$O7=0,$AZ7=0),"Nullás a hosszútávú feladat és nincs hozzá indoklás!",IF(AND($BB7="R",$O7=0,$AZ7<300),"Nullás a hosszútávú feladat és rövid hozzá az indoklás!",IF(AND($BB7="RH",$O7=0,$AZ7<300),"Nullás a hosszútávú feladat és rövid hozzá az indoklás!",0))))) -> Nincs hosszútávú terv! | BS7: =IF(AND($BB7="R",$N7=0,$AZ7>29),1,IF(AND($BB7="RH",$N7=0,$AZ7>29),1,0)) -> 0 | BT7: =IF(AND($BB7="H",$O7=0,$AZ7>29),1,IF(AND($BB7="RH",$O7=0,$AZ7>29),1,0)) -> 0 | BU7: =IF($B7="",0,1) -> 1 | BV7: =IF($C7="",0,1) -> 1 | BW7: =IF($D7="",0,1) -> 1 | BX7: =IF($E7="",0,1) -> 1 | BY7: =IF($L7="",0,1) -> 1 | BZ7: =IF($M7="",0,1) -> 1 | CA7: =IF($N7="",0,1) -> 1 | CB7: =IF($O7="",0,1) -> 1 | CC7: =IF($P7="",0,1) -> 1 | CD7: =IF(AND($BA7=0,$BU7=0),"Hiányos kitöltés! (B-oszlop üres)",IF(AND($BA7=0,$BV7=0),"Hiányos kitöltés! (C-oszlop üres)",IF(AND($BA7=0,$BW7=0),"Hiányos kitöltés! (D-oszlop üres)",IF(AND($BA7=0,$BX7=0),"Hiányos kitöltés! (E-oszlop üres)",IF(AND($BA7=0,$BY7=0),"Hiányos kitöltés! (L-oszlop üres)",IF(AND($BA7=0,$BZ7=0),"Hiányos kitöltés! (M-oszlop üres)",IF(AND($BA7=0,$CA7=0),"Hiányos kitöltés! (N-oszlop üres)",IF(AND($BA7=0,$CB7=0),"Hiányos kitöltés! (O-oszlop üres)",IF(AND($BA7=0,$CC7=0),"Hiányos kitöltés! (P-oszlop üres)",IF(AND($BA7=0,$BG7=0),"Hiányos kitöltés! (I.ütem forrása hiányos!","?")))))))))) -> ? | CE7: =IF($BA7=0,$CD7,IF($BG7=0,"I. ütem forrása nincs kitöltve!",IF($BJ7=0,"II. ütem forrása nincs kitöltve!",IF($BD7=1,"Költségek üteme nem megfelelő (az időtartam és a költség üteme eltér)!",IF(AND(BH7=0,$BA7=1,$BJ7=1,$BD7=1),"Kötelező cellák kitöltve, de az I. ütem forrása hibás!",IF(AND(BJ7=0,$BA7=1,$BJ7=1,$BD7=1),"Kötelező cellák kitöltve, de a II. ütem forrása hibás!",IF(AND($BO7=1,$AZ7<30),"Nullás a rövidtávú feladat és rövid (hiányzik) a hozzá tartozó indoklás!",IF(AND($BP7=1,$AZ7<30),"Nullás a hosszútávú feladat és rövid (hiányzik) a hozzá tartozó indoklás!",IF(AND(BN7=1,C7="1811_RENDKÍVÜLI"),"II. ütemre nem tervezhet Rendkívüli feladatot!",IF(BH7=0,AD7,IF(BK7=0,AS7,IF(AND(BC7=1,$P7>$N7),"EM rendelet 2. melléklet terhére elszámolt költség nem lehet nagyobb az I. ütemre tervezett tényleges költségnél!",IF($AC7>$N7,"Többlet forrást jelölt meg az I. ütemnél! A forrás ne legyen több a költségnél.",IF($AQ7>$O7,"Többlet forrást jelölt meg a II. ütemnél! A forrás ne legyen több a költségnél.","Kitöltés rendben!")))))))))))))) -> Kitöltés rendben! | CF7: =IF(A7="Kitöltés rendben!",1,0) -> 1 | CG7: =IF(AND($BB7="R",$CF7=1),1,IF(AND($BB7="RH",$CF7=1),1,0)) -> 1 | CH7: =IF(AND($BB7="H",$CF7=1),1,IF(AND($BB7="RH",$CF7=1),1,0)) -> 0
A8: =IF($G8="","Nincs VKR kiválasztva!",CE8) -> Kitöltés rendben! | B8: 1 | C8: 1511_VILL_IRÁNYTECH | D8: Hagyárosbörönd, TR állomás 22 kV-os rekonstrukció | E8: Nem áll rendelkezésre | F8: =VLOOKUP($G8,Összesítő!$B:$F,2,FALSE) -> 11-32054-1-036-03-05 | G8: Zalaegerszeg-IV | H8: =AY8&"_"&AW8&"_FIV_"&LEFT(Előlap!$B$6,4) -> 3161_6_FIV_2026 | I8: =VLOOKUP($G8,Összesítő!$B:$F,5,FALSE) -> Alibánfa, Babosdöbréte, Bagod, Becsvölgye, Bocfölde, Boncodfölde, Böde, Csatár, Csonkahegyhát, Dobronhegy, Hagyárosbörönd, Hottó, Kávás, Kiskutas, Kispáli, Kustánszeg, Milejszeg, Nagykutas, Nagypáli, Németfalu, Pálfiszeg, Pethőhenye, Sárhida, Teskánd, Zalaboldogfa, Zalaegerszeg, Zalaszentgyörgy, Zalaszentiván, Zalaszentlőrinc, Gellénháza, Nagylengyel, Gombosszeg, Iborfia, Lickóvadamos, Petrikeresztúr, Ormándlak | J8: =VLOOKUP($G8,Összesítő!$B:$F,4,FALSE) -> Alibánfa Község Önkormányzata, Babosdöbréte Község Önkormányzata, Bagod Község Önkormányzata, Becsvölgye Községi Önkormányzat, Bocfölde Község Önkormányzata, Boncodfölde Község Önkormányzata, Böde Község Önkormányzata, Csatár Község Önkormányzata, Csonkahegyhát Község Önkormányzata, Dobronhegy Község Önkormányzata, Hagyárosbörönd Község Önkormányzata, Hottó Község Önkormányzata, Kávás Község Önkormányzata, Kiskutas Község Önkormányzata, Kispáli Község Önkormányzata, Kustánszeg Község Önkormányzata, Milejszeg Község Önkormányzata, Nagykutas Község Önkormányzata, Nagypáli Község Önkormányzata, Németfalu Község Önkormányzata, Pálfiszeg Község Önkormányzata, Pethőhenye Község Önkormányzata, Sárhida Község Önkormányzata, Teskánd Község Önkormányzata, Zalaboldogfa Község Önkormányzata, Zalaegerszeg Megyei Jogú Város Önkormányzata, Zalaszentgyörgy Község Önkormányzata, Zalaszentiván Község Önkormányzata, Zalaszentlőrinc Község Önkormányzata, Gellénháza Község Önkormányzata, Nagylengyel Község Önkormányzata, Gombosszeg Község Önkormányzata, Iborfia Község Önkormányzata, Lickóvadamos Község Önkormányzata, Petrikeresztúr Község Önkormányzata, Ormándlak Község Önkormányzata | K8: =N8+O8 -> 2500 | L8: 2027 | M8: 2027 | N8: 2500 | O8: 0 | P8: 0 | R8: 2500 | S8: 0 | T8: 0 | U8: 0 | V8: 0 | W8: 0 | X8: 0 | Y8: 0 | Z8: 0 | AA8: 0 | AB8: 0 | AC8: =SUM(R8:AB8) -> 2500 | AD8: =IF($G8="","Nincs VKR kiválasztva!",IF(BA8=0,"Hiányos kitöltés!",BF8)) -> A forrás egyenlő a költséggel (I.ütem). | AF8: 0 | AG8: 0 | AH8: 0 | AI8: 0 | AJ8: 0 | AK8: 0 | AL8: 0 | AM8: 0 | AN8: 0 | AO8: 0 | AP8: 0 | AQ8: =SUM(AF8:AP8) -> 0 | AR8: nem | AS8: =IF($G8="","Nincs VKR kiválasztva!",IF($BA8=0,"Hiányos kitöltés!",IF($BN8=0,"Nem hosszútávú a feladat.",$BL8))) -> Nem hosszútávú a feladat. | AW8: =COUNTA($G$3:G8) -> 6 | AY8: =VLOOKUP($G8,Összesítő!$B:$F,3,FALSE) -> 3161 | AZ8: =LEN($AU8) -> 0 | BA8: =IF(OR($B8="",$C8="",$D8="",$E8="",$F8="",$L8="",$M8="",$N8="",$O8="",$P8=""),0,1) -> 1 | BB8: =IF($F8="",0,IF(AND($L8=2027,$M8=2027),"R",IF(AND($L8=2027,$M8>2027),"RH",IF(AND($L8>2027,$M8>2027),"H","x")))) -> R | BC8: =IF(OR(BB8="R",BB8="RH"),1,0) -> 1 | BD8: =IF(AND($BB8="R",$O8>0),1,IF(AND($BB8="H",$N8>0),1,0)) -> 0 | BE8: =IF($AC8<$N8,1,IF($AC8=$N8,0)) -> 0 | BF8: =IF($L8>2027,"Nem rövidtávú a feladat.",IF($BE8=1,"Az I. ütem nem lehet forráshiányos!",IF($AC8>$N8,"Többlet forrást jelölt meg az I. ütemnél! A forrás ne legyen több a költségnél.",IF($AC8=$N8,"A forrás egyenlő a költséggel (I.ütem).",0)))) -> A forrás egyenlő a költséggel (I.ütem). | BG8: =IF(AND($R8<>"",$S8<>"",$T8<>"",$U8<>"",$V8<>"",$W8<>"",$X8<>"",$Y8<>"",$Z8<>"",$AA8<>"",$AB8<>""),1,0) -> 1 | BH8: =IF(AND($BG8=1,$N8=$AC8),1,0) -> 1 | BI8: =IF($AQ8<$O8,1,0) -> 0 | BJ8: =IF(AND($AF8<>"",$AG8<>"",$AH8<>"",$AI8<>"",$AJ8<>"",$AK8<>"",$AL8<>"",$AM8<>"",$AN8<>"",$AO8<>"",$AP8<>""),1,0) -> 1 | BK8: =IF(AND($BJ8=1,$O8=$AQ8),1,IF(AND($BJ8=1,$O8>$AQ8,AR8="igen"),1,0)) -> 1 | BL8: =IF($M8<2028,"Nem hosszútávú a feladat.",IF(AND($BI8=1,$AR8="nem"),"Forráshiányos a feladat? Jelölje az AR-oszlopban!",IF(AND($BI8=0,$AR8="igen"),"Forráshiányosnak jelölte a feladat az AR-oszlopban, de a forrás költség adatok alapnján nem az!",IF(AND($BI8=1,$AR8="igen"),"Forráshiányos a feladat!",IF($AQ8>$O8,"Többlet forrást jelölt meg a II. ütemnél! A forrás ne legyen több a költségnél.",IF($AQ8=$O8,"A forrás egyenlő a költséggel (II.ütem).",0)))))) -> Nem hosszútávú a feladat. | BM8: =IF($M8<2028,1,0) -> 1 | BN8: =IF($M8>2027,1,0) -> 0 | BO8: =IF(AND($BM8=1,$N8=0),1,0) -> 0 | BP8: =IF(AND($BN8=1,$O8=0),1,0) -> 0 | BQ8: =IF(AND($BB8="R",$N8=0,$AZ8>29),1,IF(AND($BB8="RH",$N8=0,$AZ8>29),1,0)) -> 0 | BR8: =IF($BN8=0,"Nincs hosszútávú terv!",IF(AND($BB8="H",$O8=0,$AZ8=0),"Nullás a hosszútávú feladat és nincs hozzá indoklás!",IF(AND($BB8="RH",$O8=0,$AZ8=0),"Nullás a hosszútávú feladat és nincs hozzá indoklás!",IF(AND($BB8="R",$O8=0,$AZ8<300),"Nullás a hosszútávú feladat és rövid hozzá az indoklás!",IF(AND($BB8="RH",$O8=0,$AZ8<300),"Nullás a hosszútávú feladat és rövid hozzá az indoklás!",0))))) -> Nincs hosszútávú terv! | BS8: =IF(AND($BB8="R",$N8=0,$AZ8>29),1,IF(AND($BB8="RH",$N8=0,$AZ8>29),1,0)) -> 0 | BT8: =IF(AND($BB8="H",$O8=0,$AZ8>29),1,IF(AND($BB8="RH",$O8=0,$AZ8>29),1,0)) -> 0 | BU8: =IF($B8="",0,1) -> 1 | BV8: =IF($C8="",0,1) -> 1 | BW8: =IF($D8="",0,1) -> 1 | BX8: =IF($E8="",0,1) -> 1 | BY8: =IF($L8="",0,1) -> 1 | BZ8: =IF($M8="",0,1) -> 1 | CA8: =IF($N8="",0,1) -> 1 | CB8: =IF($O8="",0,1) -> 1 | CC8: =IF($P8="",0,1) -> 1 | CD8: =IF(AND($BA8=0,$BU8=0),"Hiányos kitöltés! (B-oszlop üres)",IF(AND($BA8=0,$BV8=0),"Hiányos kitöltés! (C-oszlop üres)",IF(AND($BA8=0,$BW8=0),"Hiányos kitöltés! (D-oszlop üres)",IF(AND($BA8=0,$BX8=0),"Hiányos kitöltés! (E-oszlop üres)",IF(AND($BA8=0,$BY8=0),"Hiányos kitöltés! (L-oszlop üres)",IF(AND($BA8=0,$BZ8=0),"Hiányos kitöltés! (M-oszlop üres)",IF(AND($BA8=0,$CA8=0),"Hiányos kitöltés! (N-oszlop üres)",IF(AND($BA8=0,$CB8=0),"Hiányos kitöltés! (O-oszlop üres)",IF(AND($BA8=0,$CC8=0),"Hiányos kitöltés! (P-oszlop üres)",IF(AND($BA8=0,$BG8=0),"Hiányos kitöltés! (I.ütem forrása hiányos!","?")))))))))) -> ? | CE8: =IF($BA8=0,$CD8,IF($BG8=0,"I. ütem forrása nincs kitöltve!",IF($BJ8=0,"II. ütem forrása nincs kitöltve!",IF($BD8=1,"Költségek üteme nem megfelelő (az időtartam és a költség üteme eltér)!",IF(AND(BH8=0,$BA8=1,$BJ8=1,$BD8=1),"Kötelező cellák kitöltve, de az I. ütem forrása hibás!",IF(AND(BJ8=0,$BA8=1,$BJ8=1,$BD8=1),"Kötelező cellák kitöltve, de a II. ütem forrása hibás!",IF(AND($BO8=1,$AZ8<30),"Nullás a rövidtávú feladat és rövid (hiányzik) a hozzá tartozó indoklás!",IF(AND($BP8=1,$AZ8<30),"Nullás a hosszútávú feladat és rövid (hiányzik) a hozzá tartozó indoklás!",IF(AND(BN8=1,C8="1811_RENDKÍVÜLI"),"II. ütemre nem tervezhet Rendkívüli feladatot!",IF(BH8=0,AD8,IF(BK8=0,AS8,IF(AND(BC8=1,$P8>$N8),"EM rendelet 2. melléklet terhére elszámolt költség nem lehet nagyobb az I. ütemre tervezett tényleges költségnél!",IF($AC8>$N8,"Többlet forrást jelölt meg az I. ütemnél! A forrás ne legyen több a költségnél.",IF($AQ8>$O8,"Többlet forrást jelölt meg a II. ütemnél! A forrás ne legyen több a költségnél.","Kitöltés rendben!")))))))))))))) -> Kitöltés rendben! | CF8: =IF(A8="Kitöltés rendben!",1,0) -> 1 | CG8: =IF(AND($BB8="R",$CF8=1),1,IF(AND($BB8="RH",$CF8=1),1,0)) -> 1 | CH8: =IF(AND($BB8="H",$CF8=1),1,IF(AND($BB8="RH",$CF8=1),1,0)) -> 0
A9: =IF($G9="","Nincs VKR kiválasztva!",CE9) -> Kitöltés rendben! | B9: 1 | C9: 1342_ELOSZT_SZERELV_TŰZCSAP | D9: Hagyárosbörönd, tűzcsap építés, csere | E9: Nem áll rendelkezésre | F9: =VLOOKUP($G9,Összesítő!$B:$F,2,FALSE) -> 11-32054-1-036-03-05 | G9: Zalaegerszeg-IV | H9: =AY9&"_"&AW9&"_FIV_"&LEFT(Előlap!$B$6,4) -> 3161_7_FIV_2026 | I9: =VLOOKUP($G9,Összesítő!$B:$F,5,FALSE) -> Alibánfa, Babosdöbréte, Bagod, Becsvölgye, Bocfölde, Boncodfölde, Böde, Csatár, Csonkahegyhát, Dobronhegy, Hagyárosbörönd, Hottó, Kávás, Kiskutas, Kispáli, Kustánszeg, Milejszeg, Nagykutas, Nagypáli, Németfalu, Pálfiszeg, Pethőhenye, Sárhida, Teskánd, Zalaboldogfa, Zalaegerszeg, Zalaszentgyörgy, Zalaszentiván, Zalaszentlőrinc, Gellénháza, Nagylengyel, Gombosszeg, Iborfia, Lickóvadamos, Petrikeresztúr, Ormándlak | J9: =VLOOKUP($G9,Összesítő!$B:$F,4,FALSE) -> Alibánfa Község Önkormányzata, Babosdöbréte Község Önkormányzata, Bagod Község Önkormányzata, Becsvölgye Községi Önkormányzat, Bocfölde Község Önkormányzata, Boncodfölde Község Önkormányzata, Böde Község Önkormányzata, Csatár Község Önkormányzata, Csonkahegyhát Község Önkormányzata, Dobronhegy Község Önkormányzata, Hagyárosbörönd Község Önkormányzata, Hottó Község Önkormányzata, Kávás Község Önkormányzata, Kiskutas Község Önkormányzata, Kispáli Község Önkormányzata, Kustánszeg Község Önkormányzata, Milejszeg Község Önkormányzata, Nagykutas Község Önkormányzata, Nagypáli Község Önkormányzata, Németfalu Község Önkormányzata, Pálfiszeg Község Önkormányzata, Pethőhenye Község Önkormányzata, Sárhida Község Önkormányzata, Teskánd Község Önkormányzata, Zalaboldogfa Község Önkormányzata, Zalaegerszeg Megyei Jogú Város Önkormányzata, Zalaszentgyörgy Község Önkormányzata, Zalaszentiván Község Önkormányzata, Zalaszentlőrinc Község Önkormányzata, Gellénháza Község Önkormányzata, Nagylengyel Község Önkormányzata, Gombosszeg Község Önkormányzata, Iborfia Község Önkormányzata, Lickóvadamos Község Önkormányzata, Petrikeresztúr Község Önkormányzata, Ormándlak Község Önkormányzata | K9: =N9+O9 -> 600 | L9: 2027 | M9: 2027 | N9: 600 | O9: 0 | P9: 0 | R9: 600 | S9: 0 | T9: 0 | U9: 0 | V9: 0 | W9: 0 | X9: 0 | Y9: 0 | Z9: 0 | AA9: 0 | AB9: 0 | AC9: =SUM(R9:AB9) -> 600 | AD9: =IF($G9="","Nincs VKR kiválasztva!",IF(BA9=0,"Hiányos kitöltés!",BF9)) -> A forrás egyenlő a költséggel (I.ütem). | AF9: 0 | AG9: 0 | AH9: 0 | AI9: 0 | AJ9: 0 | AK9: 0 | AL9: 0 | AM9: 0 | AN9: 0 | AO9: 0 | AP9: 0 | AQ9: =SUM(AF9:AP9) -> 0 | AR9: nem | AS9: =IF($G9="","Nincs VKR kiválasztva!",IF($BA9=0,"Hiányos kitöltés!",IF($BN9=0,"Nem hosszútávú a feladat.",$BL9))) -> Nem hosszútávú a feladat. | AW9: =COUNTA($G$3:G9) -> 7 | AY9: =VLOOKUP($G9,Összesítő!$B:$F,3,FALSE) -> 3161 | AZ9: =LEN($AU9) -> 0 | BA9: =IF(OR($B9="",$C9="",$D9="",$E9="",$F9="",$L9="",$M9="",$N9="",$O9="",$P9=""),0,1) -> 1 | BB9: =IF($F9="",0,IF(AND($L9=2027,$M9=2027),"R",IF(AND($L9=2027,$M9>2027),"RH",IF(AND($L9>2027,$M9>2027),"H","x")))) -> R | BC9: =IF(OR(BB9="R",BB9="RH"),1,0) -> 1 | BD9: =IF(AND($BB9="R",$O9>0),1,IF(AND($BB9="H",$N9>0),1,0)) -> 0 | BE9: =IF($AC9<$N9,1,IF($AC9=$N9,0)) -> 0 | BF9: =IF($L9>2027,"Nem rövidtávú a feladat.",IF($BE9=1,"Az I. ütem nem lehet forráshiányos!",IF($AC9>$N9,"Többlet forrást jelölt meg az I. ütemnél! A forrás ne legyen több a költségnél.",IF($AC9=$N9,"A forrás egyenlő a költséggel (I.ütem).",0)))) -> A forrás egyenlő a költséggel (I.ütem). | BG9: =IF(AND($R9<>"",$S9<>"",$T9<>"",$U9<>"",$V9<>"",$W9<>"",$X9<>"",$Y9<>"",$Z9<>"",$AA9<>"",$AB9<>""),1,0) -> 1 | BH9: =IF(AND($BG9=1,$N9=$AC9),1,0) -> 1 | BI9: =IF($AQ9<$O9,1,0) -> 0 | BJ9: =IF(AND($AF9<>"",$AG9<>"",$AH9<>"",$AI9<>"",$AJ9<>"",$AK9<>"",$AL9<>"",$AM9<>"",$AN9<>"",$AO9<>"",$AP9<>""),1,0) -> 1 | BK9: =IF(AND($BJ9=1,$O9=$AQ9),1,IF(AND($BJ9=1,$O9>$AQ9,AR9="igen"),1,0)) -> 1 | BL9: =IF($M9<2028,"Nem hosszútávú a feladat.",IF(AND($BI9=1,$AR9="nem"),"Forráshiányos a feladat? Jelölje az AR-oszlopban!",IF(AND($BI9=0,$AR9="igen"),"Forráshiányosnak jelölte a feladat az AR-oszlopban, de a forrás költség adatok alapnján nem az!",IF(AND($BI9=1,$AR9="igen"),"Forráshiányos a feladat!",IF($AQ9>$O9,"Többlet forrást jelölt meg a II. ütemnél! A forrás ne legyen több a költségnél.",IF($AQ9=$O9,"A forrás egyenlő a költséggel (II.ütem).",0)))))) -> Nem hosszútávú a feladat. | BM9: =IF($M9<2028,1,0) -> 1 | BN9: =IF($M9>2027,1,0) -> 0 | BO9: =IF(AND($BM9=1,$N9=0),1,0) -> 0 | BP9: =IF(AND($BN9=1,$O9=0),1,0) -> 0 | BQ9: =IF(AND($BB9="R",$N9=0,$AZ9>29),1,IF(AND($BB9="RH",$N9=0,$AZ9>29),1,0)) -> 0 | BR9: =IF($BN9=0,"Nincs hosszútávú terv!",IF(AND($BB9="H",$O9=0,$AZ9=0),"Nullás a hosszútávú feladat és nincs hozzá indoklás!",IF(AND($BB9="RH",$O9=0,$AZ9=0),"Nullás a hosszútávú feladat és nincs hozzá indoklás!",IF(AND($BB9="R",$O9=0,$AZ9<300),"Nullás a hosszútávú feladat és rövid hozzá az indoklás!",IF(AND($BB9="RH",$O9=0,$AZ9<300),"Nullás a hosszútávú feladat és rövid hozzá az indoklás!",0))))) -> Nincs hosszútávú terv! | BS9: =IF(AND($BB9="R",$N9=0,$AZ9>29),1,IF(AND($BB9="RH",$N9=0,$AZ9>29),1,0)) -> 0 | BT9: =IF(AND($BB9="H",$O9=0,$AZ9>29),1,IF(AND($BB9="RH",$O9=0,$AZ9>29),1,0)) -> 0 | BU9: =IF($B9="",0,1) -> 1 | BV9: =IF($C9="",0,1) -> 1 | BW9: =IF($D9="",0,1) -> 1 | BX9: =IF($E9="",0,1) -> 1 | BY9: =IF($L9="",0,1) -> 1 | BZ9: =IF($M9="",0,1) -> 1 | CA9: =IF($N9="",0,1) -> 1 | CB9: =IF($O9="",0,1) -> 1 | CC9: =IF($P9="",0,1) -> 1 | CD9: =IF(AND($BA9=0,$BU9=0),"Hiányos kitöltés! (B-oszlop üres)",IF(AND($BA9=0,$BV9=0),"Hiányos kitöltés! (C-oszlop üres)",IF(AND($BA9=0,$BW9=0),"Hiányos kitöltés! (D-oszlop üres)",IF(AND($BA9=0,$BX9=0),"Hiányos kitöltés! (E-oszlop üres)",IF(AND($BA9=0,$BY9=0),"Hiányos kitöltés! (L-oszlop üres)",IF(AND($BA9=0,$BZ9=0),"Hiányos kitöltés! (M-oszlop üres)",IF(AND($BA9=0,$CA9=0),"Hiányos kitöltés! (N-oszlop üres)",IF(AND($BA9=0,$CB9=0),"Hiányos kitöltés! (O-oszlop üres)",IF(AND($BA9=0,$CC9=0),"Hiányos kitöltés! (P-oszlop üres)",IF(AND($BA9=0,$BG9=0),"Hiányos kitöltés! (I.ütem forrása hiányos!","?")))))))))) -> ? | CE9: =IF($BA9=0,$CD9,IF($BG9=0,"I. ütem forrása nincs kitöltve!",IF($BJ9=0,"II. ütem forrása nincs kitöltve!",IF($BD9=1,"Költségek üteme nem megfelelő (az időtartam és a költség üteme eltér)!",IF(AND(BH9=0,$BA9=1,$BJ9=1,$BD9=1),"Kötelező cellák kitöltve, de az I. ütem forrása hibás!",IF(AND(BJ9=0,$BA9=1,$BJ9=1,$BD9=1),"Kötelező cellák kitöltve, de a II. ütem forrása hibás!",IF(AND($BO9=1,$AZ9<30),"Nullás a rövidtávú feladat és rövid (hiányzik) a hozzá tartozó indoklás!",IF(AND($BP9=1,$AZ9<30),"Nullás a hosszútávú feladat és rövid (hiányzik) a hozzá tartozó indoklás!",IF(AND(BN9=1,C9="1811_RENDKÍVÜLI"),"II. ütemre nem tervezhet Rendkívüli feladatot!",IF(BH9=0,AD9,IF(BK9=0,AS9,IF(AND(BC9=1,$P9>$N9),"EM rendelet 2. melléklet terhére elszámolt költség nem lehet nagyobb az I. ütemre tervezett tényleges költségnél!",IF($AC9>$N9,"Többlet forrást jelölt meg az I. ütemnél! A forrás ne legyen több a költségnél.",IF($AQ9>$O9,"Többlet forrást jelölt meg a II. ütemnél! A forrás ne legyen több a költségnél.","Kitöltés rendben!")))))))))))))) -> Kitöltés rendben! | CF9: =IF(A9="Kitöltés rendben!",1,0) -> 1 | CG9: =IF(AND($BB9="R",$CF9=1),1,IF(AND($BB9="RH",$CF9=1),1,0)) -> 1 | CH9: =IF(AND($BB9="H",$CF9=1),1,IF(AND($BB9="RH",$CF9=1),1,0)) -> 0
A10: =IF($G10="","Nincs VKR kiválasztva!",CE10) -> Kitöltés rendben! | B10: 1 | C10: 1342_ELOSZT_SZERELV_TŰZCSAP | D10: Kávás, tűzcsap építés, csere | E10: Nem áll rendelkezésre | F10: =VLOOKUP($G10,Összesítő!$B:$F,2,FALSE) -> 11-32054-1-036-03-05 | G10: Zalaegerszeg-IV | H10: =AY10&"_"&AW10&"_FIV_"&LEFT(Előlap!$B$6,4) -> 3161_8_FIV_2026 | I10: =VLOOKUP($G10,Összesítő!$B:$F,5,FALSE) -> Alibánfa, Babosdöbréte, Bagod, Becsvölgye, Bocfölde, Boncodfölde, Böde, Csatár, Csonkahegyhát, Dobronhegy, Hagyárosbörönd, Hottó, Kávás, Kiskutas, Kispáli, Kustánszeg, Milejszeg, Nagykutas, Nagypáli, Németfalu, Pálfiszeg, Pethőhenye, Sárhida, Teskánd, Zalaboldogfa, Zalaegerszeg, Zalaszentgyörgy, Zalaszentiván, Zalaszentlőrinc, Gellénháza, Nagylengyel, Gombosszeg, Iborfia, Lickóvadamos, Petrikeresztúr, Ormándlak | J10: =VLOOKUP($G10,Összesítő!$B:$F,4,FALSE) -> Alibánfa Község Önkormányzata, Babosdöbréte Község Önkormányzata, Bagod Község Önkormányzata, Becsvölgye Községi Önkormányzat, Bocfölde Község Önkormányzata, Boncodfölde Község Önkormányzata, Böde Község Önkormányzata, Csatár Község Önkormányzata, Csonkahegyhát Község Önkormányzata, Dobronhegy Község Önkormányzata, Hagyárosbörönd Község Önkormányzata, Hottó Község Önkormányzata, Kávás Község Önkormányzata, Kiskutas Község Önkormányzata, Kispáli Község Önkormányzata, Kustánszeg Község Önkormányzata, Milejszeg Község Önkormányzata, Nagykutas Község Önkormányzata, Nagypáli Község Önkormányzata, Németfalu Község Önkormányzata, Pálfiszeg Község Önkormányzata, Pethőhenye Község Önkormányzata, Sárhida Község Önkormányzata, Teskánd Község Önkormányzata, Zalaboldogfa Község Önkormányzata, Zalaegerszeg Megyei Jogú Város Önkormányzata, Zalaszentgyörgy Község Önkormányzata, Zalaszentiván Község Önkormányzata, Zalaszentlőrinc Község Önkormányzata, Gellénháza Község Önkormányzata, Nagylengyel Község Önkormányzata, Gombosszeg Község Önkormányzata, Iborfia Község Önkormányzata, Lickóvadamos Község Önkormányzata, Petrikeresztúr Község Önkormányzata, Ormándlak Község Önkormányzata | K10: =N10+O10 -> 968 | L10: 2027 | M10: 2027 | N10: 968 | O10: 0 | P10: 0 | R10: 968 | S10: 0 | T10: 0 | U10: 0 | V10: 0 | W10: 0 | X10: 0 | Y10: 0 | Z10: 0 | AA10: 0 | AB10: 0 | AC10: =SUM(R10:AB10) -> 968 | AD10: =IF($G10="","Nincs VKR kiválasztva!",IF(BA10=0,"Hiányos kitöltés!",BF10)) -> A forrás egyenlő a költséggel (I.ütem). | AF10: 0 | AG10: 0 | AH10: 0 | AI10: 0 | AJ10: 0 | AK10: 0 | AL10: 0 | AM10: 0 | AN10: 0 | AO10: 0 | AP10: 0 | AQ10: =SUM(AF10:AP10) -> 0 | AR10: nem | AS10: =IF($G10="","Nincs VKR kiválasztva!",IF($BA10=0,"Hiányos kitöltés!",IF($BN10=0,"Nem hosszútávú a feladat.",$BL10))) -> Nem hosszútávú a feladat. | AW10: =COUNTA($G$3:G10) -> 8 | AY10: =VLOOKUP($G10,Összesítő!$B:$F,3,FALSE) -> 3161 | AZ10: =LEN($AU10) -> 0 | BA10: =IF(OR($B10="",$C10="",$D10="",$E10="",$F10="",$L10="",$M10="",$N10="",$O10="",$P10=""),0,1) -> 1 | BB10: =IF($F10="",0,IF(AND($L10=2027,$M10=2027),"R",IF(AND($L10=2027,$M10>2027),"RH",IF(AND($L10>2027,$M10>2027),"H","x")))) -> R | BC10: =IF(OR(BB10="R",BB10="RH"),1,0) -> 1 | BD10: =IF(AND($BB10="R",$O10>0),1,IF(AND($BB10="H",$N10>0),1,0)) -> 0 | BE10: =IF($AC10<$N10,1,IF($AC10=$N10,0)) -> 0 | BF10: =IF($L10>2027,"Nem rövidtávú a feladat.",IF($BE10=1,"Az I. ütem nem lehet forráshiányos!",IF($AC10>$N10,"Többlet forrást jelölt meg az I. ütemnél! A forrás ne legyen több a költségnél.",IF($AC10=$N10,"A forrás egyenlő a költséggel (I.ütem).",0)))) -> A forrás egyenlő a költséggel (I.ütem). | BG10: =IF(AND($R10<>"",$S10<>"",$T10<>"",$U10<>"",$V10<>"",$W10<>"",$X10<>"",$Y10<>"",$Z10<>"",$AA10<>"",$AB10<>""),1,0) -> 1 | BH10: =IF(AND($BG10=1,$N10=$AC10),1,0) -> 1 | BI10: =IF($AQ10<$O10,1,0) -> 0 | BJ10: =IF(AND($AF10<>"",$AG10<>"",$AH10<>"",$AI10<>"",$AJ10<>"",$AK10<>"",$AL10<>"",$AM10<>"",$AN10<>"",$AO10<>"",$AP10<>""),1,0) -> 1 | BK10: =IF(AND($BJ10=1,$O10=$AQ10),1,IF(AND($BJ10=1,$O10>$AQ10,AR10="igen"),1,0)) -> 1 | BL10: =IF($M10<2028,"Nem hosszútávú a feladat.",IF(AND($BI10=1,$AR10="nem"),"Forráshiányos a feladat? Jelölje az AR-oszlopban!",IF(AND($BI10=0,$AR10="igen"),"Forráshiányosnak jelölte a feladat az AR-oszlopban, de a forrás költség adatok alapnján nem az!",IF(AND($BI10=1,$AR10="igen"),"Forráshiányos a feladat!",IF($AQ10>$O10,"Többlet forrást jelölt meg a II. ütemnél! A forrás ne legyen több a költségnél.",IF($AQ10=$O10,"A forrás egyenlő a költséggel (II.ütem).",0)))))) -> Nem hosszútávú a feladat. | BM10: =IF($M10<2028,1,0) -> 1 | BN10: =IF($M10>2027,1,0) -> 0 | BO10: =IF(AND($BM10=1,$N10=0),1,0) -> 0 | BP10: =IF(AND($BN10=1,$O10=0),1,0) -> 0 | BQ10: =IF(AND($BB10="R",$N10=0,$AZ10>29),1,IF(AND($BB10="RH",$N10=0,$AZ10>29),1,0)) -> 0 | BR10: =IF($BN10=0,"Nincs hosszútávú terv!",IF(AND($BB10="H",$O10=0,$AZ10=0),"Nullás a hosszútávú feladat és nincs hozzá indoklás!",IF(AND($BB10="RH",$O10=0,$AZ10=0),"Nullás a hosszútávú feladat és nincs hozzá indoklás!",IF(AND($BB10="R",$O10=0,$AZ10<300),"Nullás a hosszútávú feladat és rövid hozzá az indoklás!",IF(AND($BB10="RH",$O10=0,$AZ10<300),"Nullás a hosszútávú feladat és rövid hozzá az indoklás!",0))))) -> Nincs hosszútávú terv! | BS10: =IF(AND($BB10="R",$N10=0,$AZ10>29),1,IF(AND($BB10="RH",$N10=0,$AZ10>29),1,0)) -> 0 | BT10: =IF(AND($BB10="H",$O10=0,$AZ10>29),1,IF(AND($BB10="RH",$O10=0,$AZ10>29),1,0)) -> 0 | BU10: =IF($B10="",0,1) -> 1 | BV10: =IF($C10="",0,1) -> 1 | BW10: =IF($D10="",0,1) -> 1 | BX10: =IF($E10="",0,1) -> 1 | BY10: =IF($L10="",0,1) -> 1 | BZ10: =IF($M10="",0,1) -> 1 | CA10: =IF($N10="",0,1) -> 1 | CB10: =IF($O10="",0,1) -> 1 | CC10: =IF($P10="",0,1) -> 1 | CD10: =IF(AND($BA10=0,$BU10=0),"Hiányos kitöltés! (B-oszlop üres)",IF(AND($BA10=0,$BV10=0),"Hiányos kitöltés! (C-oszlop üres)",IF(AND($BA10=0,$BW10=0),"Hiányos kitöltés! (D-oszlop üres)",IF(AND($BA10=0,$BX10=0),"Hiányos kitöltés! (E-oszlop üres)",IF(AND($BA10=0,$BY10=0),"Hiányos kitöltés! (L-oszlop üres)",IF(AND($BA10=0,$BZ10=0),"Hiányos kitöltés! (M-oszlop üres)",IF(AND($BA10=0,$CA10=0),"Hiányos kitöltés! (N-oszlop üres)",IF(AND($BA10=0,$CB10=0),"Hiányos kitöltés! (O-oszlop üres)",IF(AND($BA10=0,$CC10=0),"Hiányos kitöltés! (P-oszlop üres)",IF(AND($BA10=0,$BG10=0),"Hiányos kitöltés! (I.ütem forrása hiányos!","?")))))))))) -> ? | CE10: =IF($BA10=0,$CD10,IF($BG10=0,"I. ütem forrása nincs kitöltve!",IF($BJ10=0,"II. ütem forrása nincs kitöltve!",IF($BD10=1,"Költségek üteme nem megfelelő (az időtartam és a költség üteme eltér)!",IF(AND(BH10=0,$BA10=1,$BJ10=1,$BD10=1),"Kötelező cellák kitöltve, de az I. ütem forrása hibás!",IF(AND(BJ10=0,$BA10=1,$BJ10=1,$BD10=1),"Kötelező cellák kitöltve, de a II. ütem forrása hibás!",IF(AND($BO10=1,$AZ10<30),"Nullás a rövidtávú feladat és rövid (hiányzik) a hozzá tartozó indoklás!",IF(AND($BP10=1,$AZ10<30),"Nullás a hosszútávú feladat és rövid (hiányzik) a hozzá tartozó indoklás!",IF(AND(BN10=1,C10="1811_RENDKÍVÜLI"),"II. ütemre nem tervezhet Rendkívüli feladatot!",IF(BH10=0,AD10,IF(BK10=0,AS10,IF(AND(BC10=1,$P10>$N10),"EM rendelet 2. melléklet terhére elszámolt költség nem lehet nagyobb az I. ütemre tervezett tényleges költségnél!",IF($AC10>$N10,"Többlet forrást jelölt meg az I. ütemnél! A forrás ne legyen több a költségnél.",IF($AQ10>$O10,"Többlet forrást jelölt meg a II. ütemnél! A forrás ne legyen több a költségnél.","Kitöltés rendben!")))))))))))))) -> Kitöltés rendben! | CF10: =IF(A10="Kitöltés rendben!",1,0) -> 1 | CG10: =IF(AND($BB10="R",$CF10=1),1,IF(AND($BB10="RH",$CF10=1),1,0)) -> 1 | CH10: =IF(AND($BB10="H",$CF10=1),1,IF(AND($BB10="RH",$CF10=1),1,0)) -> 0
A11: =IF($G11="","Nincs VKR kiválasztva!",CE11) -> Kitöltés rendben! | B11: 1 | C11: 1313_ELOSZT_VEZETÉK_BEKÖTŐ | D11: Zalaboldogfa, Petőfi u. 55. bekötés csere | E11: Nem áll rendelkezésre | F11: =VLOOKUP($G11,Összesítő!$B:$F,2,FALSE) -> 11-32054-1-036-03-05 | G11: Zalaegerszeg-IV | H11: =AY11&"_"&AW11&"_FIV_"&LEFT(Előlap!$B$6,4) -> 3161_9_FIV_2026 | I11: =VLOOKUP($G11,Összesítő!$B:$F,5,FALSE) -> Alibánfa, Babosdöbréte, Bagod, Becsvölgye, Bocfölde, Boncodfölde, Böde, Csatár, Csonkahegyhát, Dobronhegy, Hagyárosbörönd, Hottó, Kávás, Kiskutas, Kispáli, Kustánszeg, Milejszeg, Nagykutas, Nagypáli, Németfalu, Pálfiszeg, Pethőhenye, Sárhida, Teskánd, Zalaboldogfa, Zalaegerszeg, Zalaszentgyörgy, Zalaszentiván, Zalaszentlőrinc, Gellénháza, Nagylengyel, Gombosszeg, Iborfia, Lickóvadamos, Petrikeresztúr, Ormándlak | J11: =VLOOKUP($G11,Összesítő!$B:$F,4,FALSE) -> Alibánfa Község Önkormányzata, Babosdöbréte Község Önkormányzata, Bagod Község Önkormányzata, Becsvölgye Községi Önkormányzat, Bocfölde Község Önkormányzata, Boncodfölde Község Önkormányzata, Böde Község Önkormányzata, Csatár Község Önkormányzata, Csonkahegyhát Község Önkormányzata, Dobronhegy Község Önkormányzata, Hagyárosbörönd Község Önkormányzata, Hottó Község Önkormányzata, Kávás Község Önkormányzata, Kiskutas Község Önkormányzata, Kispáli Község Önkormányzata, Kustánszeg Község Önkormányzata, Milejszeg Község Önkormányzata, Nagykutas Község Önkormányzata, Nagypáli Község Önkormányzata, Németfalu Község Önkormányzata, Pálfiszeg Község Önkormányzata, Pethőhenye Község Önkormányzata, Sárhida Község Önkormányzata, Teskánd Község Önkormányzata, Zalaboldogfa Község Önkormányzata, Zalaegerszeg Megyei Jogú Város Önkormányzata, Zalaszentgyörgy Község Önkormányzata, Zalaszentiván Község Önkormányzata, Zalaszentlőrinc Község Önkormányzata, Gellénháza Község Önkormányzata, Nagylengyel Község Önkormányzata, Gombosszeg Község Önkormányzata, Iborfia Község Önkormányzata, Lickóvadamos Község Önkormányzata, Petrikeresztúr Község Önkormányzata, Ormándlak Község Önkormányzata | K11: =N11+O11 -> 5080 | L11: 2027 | M11: 2027 | N11: 5080 | O11: 0 | P11: 0 | R11: 5080 | S11: 0 | T11: 0 | U11: 0 | V11: 0 | W11: 0 | X11: 0 | Y11: 0 | Z11: 0 | AA11: 0 | AB11: 0 | AC11: =SUM(R11:AB11) -> 5080 | AD11: =IF($G11="","Nincs VKR kiválasztva!",IF(BA11=0,"Hiányos kitöltés!",BF11)) -> A forrás egyenlő a költséggel (I.ütem). | AF11: 0 | AG11: 0 | AH11: 0 | AI11: 0 | AJ11: 0 | AK11: 0 | AL11: 0 | AM11: 0 | AN11: 0 | AO11: 0 | AP11: 0 | AQ11: =SUM(AF11:AP11) -> 0 | AR11: nem | AS11: =IF($G11="","Nincs VKR kiválasztva!",IF($BA11=0,"Hiányos kitöltés!",IF($BN11=0,"Nem hosszútávú a feladat.",$BL11))) -> Nem hosszútávú a feladat. | AW11: =COUNTA($G$3:G11) -> 9 | AY11: =VLOOKUP($G11,Összesítő!$B:$F,3,FALSE) -> 3161 | AZ11: =LEN($AU11) -> 0 | BA11: =IF(OR($B11="",$C11="",$D11="",$E11="",$F11="",$L11="",$M11="",$N11="",$O11="",$P11=""),0,1) -> 1 | BB11: =IF($F11="",0,IF(AND($L11=2027,$M11=2027),"R",IF(AND($L11=2027,$M11>2027),"RH",IF(AND($L11>2027,$M11>2027),"H","x")))) -> R | BC11: =IF(OR(BB11="R",BB11="RH"),1,0) -> 1 | BD11: =IF(AND($BB11="R",$O11>0),1,IF(AND($BB11="H",$N11>0),1,0)) -> 0 | BE11: =IF($AC11<$N11,1,IF($AC11=$N11,0)) -> 0 | BF11: =IF($L11>2027,"Nem rövidtávú a feladat.",IF($BE11=1,"Az I. ütem nem lehet forráshiányos!",IF($AC11>$N11,"Többlet forrást jelölt meg az I. ütemnél! A forrás ne legyen több a költségnél.",IF($AC11=$N11,"A forrás egyenlő a költséggel (I.ütem).",0)))) -> A forrás egyenlő a költséggel (I.ütem). | BG11: =IF(AND($R11<>"",$S11<>"",$T11<>"",$U11<>"",$V11<>"",$W11<>"",$X11<>"",$Y11<>"",$Z11<>"",$AA11<>"",$AB11<>""),1,0) -> 1 | BH11: =IF(AND($BG11=1,$N11=$AC11),1,0) -> 1 | BI11: =IF($AQ11<$O11,1,0) -> 0 | BJ11: =IF(AND($AF11<>"",$AG11<>"",$AH11<>"",$AI11<>"",$AJ11<>"",$AK11<>"",$AL11<>"",$AM11<>"",$AN11<>"",$AO11<>"",$AP11<>""),1,0) -> 1 | BK11: =IF(AND($BJ11=1,$O11=$AQ11),1,IF(AND($BJ11=1,$O11>$AQ11,AR11="igen"),1,0)) -> 1 | BL11: =IF($M11<2028,"Nem hosszútávú a feladat.",IF(AND($BI11=1,$AR11="nem"),"Forráshiányos a feladat? Jelölje az AR-oszlopban!",IF(AND($BI11=0,$AR11="igen"),"Forráshiányosnak jelölte a feladat az AR-oszlopban, de a forrás költség adatok alapnján nem az!",IF(AND($BI11=1,$AR11="igen"),"Forráshiányos a feladat!",IF($AQ11>$O11,"Többlet forrást jelölt meg a II. ütemnél! A forrás ne legyen több a költségnél.",IF($AQ11=$O11,"A forrás egyenlő a költséggel (II.ütem).",0)))))) -> Nem hosszútávú a feladat. | BM11: =IF($M11<2028,1,0) -> 1 | BN11: =IF($M11>2027,1,0) -> 0 | BO11: =IF(AND($BM11=1,$N11=0),1,0) -> 0 | BP11: =IF(AND($BN11=1,$O11=0),1,0) -> 0 | BQ11: =IF(AND($BB11="R",$N11=0,$AZ11>29),1,IF(AND($BB11="RH",$N11=0,$AZ11>29),1,0)) -> 0 | BR11: =IF($BN11=0,"Nincs hosszútávú terv!",IF(AND($BB11="H",$O11=0,$AZ11=0),"Nullás a hosszútávú feladat és nincs hozzá indoklás!",IF(AND($BB11="RH",$O11=0,$AZ11=0),"Nullás a hosszútávú feladat és nincs hozzá indoklás!",IF(AND($BB11="R",$O11=0,$AZ11<300),"Nullás a hosszútávú feladat és rövid hozzá az indoklás!",IF(AND($BB11="RH",$O11=0,$AZ11<300),"Nullás a hosszútávú feladat és rövid hozzá az indoklás!",0))))) -> Nincs hosszútávú terv! | BS11: =IF(AND($BB11="R",$N11=0,$AZ11>29),1,IF(AND($BB11="RH",$N11=0,$AZ11>29),1,0)) -> 0 | BT11: =IF(AND($BB11="H",$O11=0,$AZ11>29),1,IF(AND($BB11="RH",$O11=0,$AZ11>29),1,0)) -> 0 | BU11: =IF($B11="",0,1) -> 1 | BV11: =IF($C11="",0,1) -> 1 | BW11: =IF($D11="",0,1) -> 1 | BX11: =IF($E11="",0,1) -> 1 | BY11: =IF($L11="",0,1) -> 1 | BZ11: =IF($M11="",0,1) -> 1 | CA11: =IF($N11="",0,1) -> 1 | CB11: =IF($O11="",0,1) -> 1 | CC11: =IF($P11="",0,1) -> 1 | CD11: =IF(AND($BA11=0,$BU11=0),"Hiányos kitöltés! (B-oszlop üres)",IF(AND($BA11=0,$BV11=0),"Hiányos kitöltés! (C-oszlop üres)",IF(AND($BA11=0,$BW11=0),"Hiányos kitöltés! (D-oszlop üres)",IF(AND($BA11=0,$BX11=0),"Hiányos kitöltés! (E-oszlop üres)",IF(AND($BA11=0,$BY11=0),"Hiányos kitöltés! (L-oszlop üres)",IF(AND($BA11=0,$BZ11=0),"Hiányos kitöltés! (M-oszlop üres)",IF(AND($BA11=0,$CA11=0),"Hiányos kitöltés! (N-oszlop üres)",IF(AND($BA11=0,$CB11=0),"Hiányos kitöltés! (O-oszlop üres)",IF(AND($BA11=0,$CC11=0),"Hiányos kitöltés! (P-oszlop üres)",IF(AND($BA11=0,$BG11=0),"Hiányos kitöltés! (I.ütem forrása hiányos!","?")))))))))) -> ? | CE11: =IF($BA11=0,$CD11,IF($BG11=0,"I. ütem forrása nincs kitöltve!",IF($BJ11=0,"II. ütem forrása nincs kitöltve!",IF($BD11=1,"Költségek üteme nem megfelelő (az időtartam és a költség üteme eltér)!",IF(AND(BH11=0,$BA11=1,$BJ11=1,$BD11=1),"Kötelező cellák kitöltve, de az I. ütem forrása hibás!",IF(AND(BJ11=0,$BA11=1,$BJ11=1,$BD11=1),"Kötelező cellák kitöltve, de a II. ütem forrása hibás!",IF(AND($BO11=1,$AZ11<30),"Nullás a rövidtávú feladat és rövid (hiányzik) a hozzá tartozó indoklás!",IF(AND($BP11=1,$AZ11<30),"Nullás a hosszútávú feladat és rövid (hiányzik) a hozzá tartozó indoklás!",IF(AND(BN11=1,C11="1811_RENDKÍVÜLI"),"II. ütemre nem tervezhet Rendkívüli feladatot!",IF(BH11=0,AD11,IF(BK11=0,AS11,IF(AND(BC11=1,$P11>$N11),"EM rendelet 2. melléklet terhére elszámolt költség nem lehet nagyobb az I. ütemre tervezett tényleges költségnél!",IF($AC11>$N11,"Többlet forrást jelölt meg az I. ütemnél! A forrás ne legyen több a költségnél.",IF($AQ11>$O11,"Többlet forrást jelölt meg a II. ütemnél! A forrás ne legyen több a költségnél.","Kitöltés rendben!")))))))))))))) -> Kitöltés rendben! | CF11: =IF(A11="Kitöltés rendben!",1,0) -> 1 | CG11: =IF(AND($BB11="R",$CF11=1),1,IF(AND($BB11="RH",$CF11=1),1,0)) -> 1 | CH11: =IF(AND($BB11="H",$CF11=1),1,IF(AND($BB11="RH",$CF11=1),1,0)) -> 0
A12: =IF($G12="","Nincs VKR kiválasztva!",CE12) -> Kitöltés rendben! | B12: 1 | C12: 1342_ELOSZT_SZERELV_TŰZCSAP | D12: Zalaboldogfa, tűzcsap építés, csere | E12: Nem áll rendelkezésre | F12: =VLOOKUP($G12,Összesítő!$B:$F,2,FALSE) -> 11-32054-1-036-03-05 | G12: Zalaegerszeg-IV | H12: =AY12&"_"&AW12&"_FIV_"&LEFT(Előlap!$B$6,4) -> 3161_10_FIV_2026 | I12: =VLOOKUP($G12,Összesítő!$B:$F,5,FALSE) -> Alibánfa, Babosdöbréte, Bagod, Becsvölgye, Bocfölde, Boncodfölde, Böde, Csatár, Csonkahegyhát, Dobronhegy, Hagyárosbörönd, Hottó, Kávás, Kiskutas, Kispáli, Kustánszeg, Milejszeg, Nagykutas, Nagypáli, Németfalu, Pálfiszeg, Pethőhenye, Sárhida, Teskánd, Zalaboldogfa, Zalaegerszeg, Zalaszentgyörgy, Zalaszentiván, Zalaszentlőrinc, Gellénháza, Nagylengyel, Gombosszeg, Iborfia, Lickóvadamos, Petrikeresztúr, Ormándlak | J12: =VLOOKUP($G12,Összesítő!$B:$F,4,FALSE) -> Alibánfa Község Önkormányzata, Babosdöbréte Község Önkormányzata, Bagod Község Önkormányzata, Becsvölgye Községi Önkormányzat, Bocfölde Község Önkormányzata, Boncodfölde Község Önkormányzata, Böde Község Önkormányzata, Csatár Község Önkormányzata, Csonkahegyhát Község Önkormányzata, Dobronhegy Község Önkormányzata, Hagyárosbörönd Község Önkormányzata, Hottó Község Önkormányzata, Kávás Község Önkormányzata, Kiskutas Község Önkormányzata, Kispáli Község Önkormányzata, Kustánszeg Község Önkormányzata, Milejszeg Község Önkormányzata, Nagykutas Község Önkormányzata, Nagypáli Község Önkormányzata, Németfalu Község Önkormányzata, Pálfiszeg Község Önkormányzata, Pethőhenye Község Önkormányzata, Sárhida Község Önkormányzata, Teskánd Község Önkormányzata, Zalaboldogfa Község Önkormányzata, Zalaegerszeg Megyei Jogú Város Önkormányzata, Zalaszentgyörgy Község Önkormányzata, Zalaszentiván Község Önkormányzata, Zalaszentlőrinc Község Önkormányzata, Gellénháza Község Önkormányzata, Nagylengyel Község Önkormányzata, Gombosszeg Község Önkormányzata, Iborfia Község Önkormányzata, Lickóvadamos Község Önkormányzata, Petrikeresztúr Község Önkormányzata, Ormándlak Község Önkormányzata | K12: =N12+O12 -> 949 | L12: 2027 | M12: 2027 | N12: 949 | O12: 0 | P12: 0 | R12: 949 | S12: 0 | T12: 0 | U12: 0 | V12: 0 | W12: 0 | X12: 0 | Y12: 0 | Z12: 0 | AA12: 0 | AB12: 0 | AC12: =SUM(R12:AB12) -> 949 | AD12: =IF($G12="","Nincs VKR kiválasztva!",IF(BA12=0,"Hiányos kitöltés!",BF12)) -> A forrás egyenlő a költséggel (I.ütem). | AF12: 0 | AG12: 0 | AH12: 0 | AI12: 0 | AJ12: 0 | AK12: 0 | AL12: 0 | AM12: 0 | AN12: 0 | AO12: 0 | AP12: 0 | AQ12: =SUM(AF12:AP12) -> 0 | AR12: nem | AS12: =IF($G12="","Nincs VKR kiválasztva!",IF($BA12=0,"Hiányos kitöltés!",IF($BN12=0,"Nem hosszútávú a feladat.",$BL12))) -> Nem hosszútávú a feladat. | AW12: =COUNTA($G$3:G12) -> 10 | AY12: =VLOOKUP($G12,Összesítő!$B:$F,3,FALSE) -> 3161 | AZ12: =LEN($AU12) -> 0 | BA12: =IF(OR($B12="",$C12="",$D12="",$E12="",$F12="",$L12="",$M12="",$N12="",$O12="",$P12=""),0,1) -> 1 | BB12: =IF($F12="",0,IF(AND($L12=2027,$M12=2027),"R",IF(AND($L12=2027,$M12>2027),"RH",IF(AND($L12>2027,$M12>2027),"H","x")))) -> R | BC12: =IF(OR(BB12="R",BB12="RH"),1,0) -> 1 | BD12: =IF(AND($BB12="R",$O12>0),1,IF(AND($BB12="H",$N12>0),1,0)) -> 0 | BE12: =IF($AC12<$N12,1,IF($AC12=$N12,0)) -> 0 | BF12: =IF($L12>2027,"Nem rövidtávú a feladat.",IF($BE12=1,"Az I. ütem nem lehet forráshiányos!",IF($AC12>$N12,"Többlet forrást jelölt meg az I. ütemnél! A forrás ne legyen több a költségnél.",IF($AC12=$N12,"A forrás egyenlő a költséggel (I.ütem).",0)))) -> A forrás egyenlő a költséggel (I.ütem). | BG12: =IF(AND($R12<>"",$S12<>"",$T12<>"",$U12<>"",$V12<>"",$W12<>"",$X12<>"",$Y12<>"",$Z12<>"",$AA12<>"",$AB12<>""),1,0) -> 1 | BH12: =IF(AND($BG12=1,$N12=$AC12),1,0) -> 1 | BI12: =IF($AQ12<$O12,1,0) -> 0 | BJ12: =IF(AND($AF12<>"",$AG12<>"",$AH12<>"",$AI12<>"",$AJ12<>"",$AK12<>"",$AL12<>"",$AM12<>"",$AN12<>"",$AO12<>"",$AP12<>""),1,0) -> 1 | BK12: =IF(AND($BJ12=1,$O12=$AQ12),1,IF(AND($BJ12=1,$O12>$AQ12,AR12="igen"),1,0)) -> 1 | BL12: =IF($M12<2028,"Nem hosszútávú a feladat.",IF(AND($BI12=1,$AR12="nem"),"Forráshiányos a feladat? Jelölje az AR-oszlopban!",IF(AND($BI12=0,$AR12="igen"),"Forráshiányosnak jelölte a feladat az AR-oszlopban, de a forrás költség adatok alapnján nem az!",IF(AND($BI12=1,$AR12="igen"),"Forráshiányos a feladat!",IF($AQ12>$O12,"Többlet forrást jelölt meg a II. ütemnél! A forrás ne legyen több a költségnél.",IF($AQ12=$O12,"A forrás egyenlő a költséggel (II.ütem).",0)))))) -> Nem hosszútávú a feladat. | BM12: =IF($M12<2028,1,0) -> 1 | BN12: =IF($M12>2027,1,0) -> 0 | BO12: =IF(AND($BM12=1,$N12=0),1,0) -> 0 | BP12: =IF(AND($BN12=1,$O12=0),1,0) -> 0 | BQ12: =IF(AND($BB12="R",$N12=0,$AZ12>29),1,IF(AND($BB12="RH",$N12=0,$AZ12>29),1,0)) -> 0 | BR12: =IF($BN12=0,"Nincs hosszútávú terv!",IF(AND($BB12="H",$O12=0,$AZ12=0),"Nullás a hosszútávú feladat és nincs hozzá indoklás!",IF(AND($BB12="RH",$O12=0,$AZ12=0),"Nullás a hosszútávú feladat és nincs hozzá indoklás!",IF(AND($BB12="R",$O12=0,$AZ12<300),"Nullás a hosszútávú feladat és rövid hozzá az indoklás!",IF(AND($BB12="RH",$O12=0,$AZ12<300),"Nullás a hosszútávú feladat és rövid hozzá az indoklás!",0))))) -> Nincs hosszútávú terv! | BS12: =IF(AND($BB12="R",$N12=0,$AZ12>29),1,IF(AND($BB12="RH",$N12=0,$AZ12>29),1,0)) -> 0 | BT12: =IF(AND($BB12="H",$O12=0,$AZ12>29),1,IF(AND($BB12="RH",$O12=0,$AZ12>29),1,0)) -> 0 | BU12: =IF($B12="",0,1) -> 1 | BV12: =IF($C12="",0,1) -> 1 | BW12: =IF($D12="",0,1) -> 1 | BX12: =IF($E12="",0,1) -> 1 | BY12: =IF($L12="",0,1) -> 1 | BZ12: =IF($M12="",0,1) -> 1 | CA12: =IF($N12="",0,1) -> 1 | CB12: =IF($O12="",0,1) -> 1 | CC12: =IF($P12="",0,1) -> 1 | CD12: =IF(AND($BA12=0,$BU12=0),"Hiányos kitöltés! (B-oszlop üres)",IF(AND($BA12=0,$BV12=0),"Hiányos kitöltés! (C-oszlop üres)",IF(AND($BA12=0,$BW12=0),"Hiányos kitöltés! (D-oszlop üres)",IF(AND($BA12=0,$BX12=0),"Hiányos kitöltés! (E-oszlop üres)",IF(AND($BA12=0,$BY12=0),"Hiányos kitöltés! (L-oszlop üres)",IF(AND($BA12=0,$BZ12=0),"Hiányos kitöltés! (M-oszlop üres)",IF(AND($BA12=0,$CA12=0),"Hiányos kitöltés! (N-oszlop üres)",IF(AND($BA12=0,$CB12=0),"Hiányos kitöltés! (O-oszlop üres)",IF(AND($BA12=0,$CC12=0),"Hiányos kitöltés! (P-oszlop üres)",IF(AND($BA12=0,$BG12=0),"Hiányos kitöltés! (I.ütem forrása hiányos!","?")))))))))) -> ? | CE12: =IF($BA12=0,$CD12,IF($BG12=0,"I. ütem forrása nincs kitöltve!",IF($BJ12=0,"II. ütem forrása nincs kitöltve!",IF($BD12=1,"Költségek üteme nem megfelelő (az időtartam és a költség üteme eltér)!",IF(AND(BH12=0,$BA12=1,$BJ12=1,$BD12=1),"Kötelező cellák kitöltve, de az I. ütem forrása hibás!",IF(AND(BJ12=0,$BA12=1,$BJ12=1,$BD12=1),"Kötelező cellák kitöltve, de a II. ütem forrása hibás!",IF(AND($BO12=1,$AZ12<30),"Nullás a rövidtávú feladat és rövid (hiányzik) a hozzá tartozó indoklás!",IF(AND($BP12=1,$AZ12<30),"Nullás a hosszútávú feladat és rövid (hiányzik) a hozzá tartozó indoklás!",IF(AND(BN12=1,C12="1811_RENDKÍVÜLI"),"II. ütemre nem tervezhet Rendkívüli feladatot!",IF(BH12=0,AD12,IF(BK12=0,AS12,IF(AND(BC12=1,$P12>$N12),"EM rendelet 2. melléklet terhére elszámolt költség nem lehet nagyobb az I. ütemre tervezett tényleges költségnél!",IF($AC12>$N12,"Többlet forrást jelölt meg az I. ütemnél! A forrás ne legyen több a költségnél.",IF($AQ12>$O12,"Többlet forrást jelölt meg a II. ütemnél! A forrás ne legyen több a költségnél.","Kitöltés rendben!")))))))))))))) -> Kitöltés rendben! | CF12: =IF(A12="Kitöltés rendben!",1,0) -> 1 | CG12: =IF(AND($BB12="R",$CF12=1),1,IF(AND($BB12="RH",$CF12=1),1,0)) -> 1 | CH12: =IF(AND($BB12="H",$CF12=1),1,IF(AND($BB12="RH",$CF12=1),1,0)) -> 0
A13: =IF($G13="","Nincs VKR kiválasztva!",CE13) -> Kitöltés rendben! | B13: 1 | C13: 1346_ELOSZT_SZERELV_NYOMCSÖK | D13: Bocfölde, nyomáscsökkentő csere | E13: Nem áll rendelkezésre | F13: =VLOOKUP($G13,Összesítő!$B:$F,2,FALSE) -> 11-32054-1-036-03-05 | G13: Zalaegerszeg-IV | H13: =AY13&"_"&AW13&"_FIV_"&LEFT(Előlap!$B$6,4) -> 3161_11_FIV_2026 | I13: =VLOOKUP($G13,Összesítő!$B:$F,5,FALSE) -> Alibánfa, Babosdöbréte, Bagod, Becsvölgye, Bocfölde, Boncodfölde, Böde, Csatár, Csonkahegyhát, Dobronhegy, Hagyárosbörönd, Hottó, Kávás, Kiskutas, Kispáli, Kustánszeg, Milejszeg, Nagykutas, Nagypáli, Németfalu, Pálfiszeg, Pethőhenye, Sárhida, Teskánd, Zalaboldogfa, Zalaegerszeg, Zalaszentgyörgy, Zalaszentiván, Zalaszentlőrinc, Gellénháza, Nagylengyel, Gombosszeg, Iborfia, Lickóvadamos, Petrikeresztúr, Ormándlak | J13: =VLOOKUP($G13,Összesítő!$B:$F,4,FALSE) -> Alibánfa Község Önkormányzata, Babosdöbréte Község Önkormányzata, Bagod Község Önkormányzata, Becsvölgye Községi Önkormányzat, Bocfölde Község Önkormányzata, Boncodfölde Község Önkormányzata, Böde Község Önkormányzata, Csatár Község Önkormányzata, Csonkahegyhát Község Önkormányzata, Dobronhegy Község Önkormányzata, Hagyárosbörönd Község Önkormányzata, Hottó Község Önkormányzata, Kávás Község Önkormányzata, Kiskutas Község Önkormányzata, Kispáli Község Önkormányzata, Kustánszeg Község Önkormányzata, Milejszeg Község Önkormányzata, Nagykutas Község Önkormányzata, Nagypáli Község Önkormányzata, Németfalu Község Önkormányzata, Pálfiszeg Község Önkormányzata, Pethőhenye Község Önkormányzata, Sárhida Község Önkormányzata, Teskánd Község Önkormányzata, Zalaboldogfa Község Önkormányzata, Zalaegerszeg Megyei Jogú Város Önkormányzata, Zalaszentgyörgy Község Önkormányzata, Zalaszentiván Község Önkormányzata, Zalaszentlőrinc Község Önkormányzata, Gellénháza Község Önkormányzata, Nagylengyel Község Önkormányzata, Gombosszeg Község Önkormányzata, Iborfia Község Önkormányzata, Lickóvadamos Község Önkormányzata, Petrikeresztúr Község Önkormányzata, Ormándlak Község Önkormányzata | K13: =N13+O13 -> 1800 | L13: 2027 | M13: 2027 | N13: 1800 | O13: 0 | P13: 0 | R13: 1800 | S13: 0 | T13: 0 | U13: 0 | V13: 0 | W13: 0 | X13: 0 | Y13: 0 | Z13: 0 | AA13: 0 | AB13: 0 | AC13: =SUM(R13:AB13) -> 1800 | AD13: =IF($G13="","Nincs VKR kiválasztva!",IF(BA13=0,"Hiányos kitöltés!",BF13)) -> A forrás egyenlő a költséggel (I.ütem). | AF13: 0 | AG13: 0 | AH13: 0 | AI13: 0 | AJ13: 0 | AK13: 0 | AL13: 0 | AM13: 0 | AN13: 0 | AO13: 0 | AP13: 0 | AQ13: =SUM(AF13:AP13) -> 0 | AR13: nem | AS13: =IF($G13="","Nincs VKR kiválasztva!",IF($BA13=0,"Hiányos kitöltés!",IF($BN13=0,"Nem hosszútávú a feladat.",$BL13))) -> Nem hosszútávú a feladat. | AW13: =COUNTA($G$3:G13) -> 11 | AY13: =VLOOKUP($G13,Összesítő!$B:$F,3,FALSE) -> 3161 | AZ13: =LEN($AU13) -> 0 | BA13: =IF(OR($B13="",$C13="",$D13="",$E13="",$F13="",$L13="",$M13="",$N13="",$O13="",$P13=""),0,1) -> 1 | BB13: =IF($F13="",0,IF(AND($L13=2027,$M13=2027),"R",IF(AND($L13=2027,$M13>2027),"RH",IF(AND($L13>2027,$M13>2027),"H","x")))) -> R | BC13: =IF(OR(BB13="R",BB13="RH"),1,0) -> 1 | BD13: =IF(AND($BB13="R",$O13>0),1,IF(AND($BB13="H",$N13>0),1,0)) -> 0 | BE13: =IF($AC13<$N13,1,IF($AC13=$N13,0)) -> 0 | BF13: =IF($L13>2027,"Nem rövidtávú a feladat.",IF($BE13=1,"Az I. ütem nem lehet forráshiányos!",IF($AC13>$N13,"Többlet forrást jelölt meg az I. ütemnél! A forrás ne legyen több a költségnél.",IF($AC13=$N13,"A forrás egyenlő a költséggel (I.ütem).",0)))) -> A forrás egyenlő a költséggel (I.ütem). | BG13: =IF(AND($R13<>"",$S13<>"",$T13<>"",$U13<>"",$V13<>"",$W13<>"",$X13<>"",$Y13<>"",$Z13<>"",$AA13<>"",$AB13<>""),1,0) -> 1 | BH13: =IF(AND($BG13=1,$N13=$AC13),1,0) -> 1 | BI13: =IF($AQ13<$O13,1,0) -> 0 | BJ13: =IF(AND($AF13<>"",$AG13<>"",$AH13<>"",$AI13<>"",$AJ13<>"",$AK13<>"",$AL13<>"",$AM13<>"",$AN13<>"",$AO13<>"",$AP13<>""),1,0) -> 1 | BK13: =IF(AND($BJ13=1,$O13=$AQ13),1,IF(AND($BJ13=1,$O13>$AQ13,AR13="igen"),1,0)) -> 1 | BL13: =IF($M13<2028,"Nem hosszútávú a feladat.",IF(AND($BI13=1,$AR13="nem"),"Forráshiányos a feladat? Jelölje az AR-oszlopban!",IF(AND($BI13=0,$AR13="igen"),"Forráshiányosnak jelölte a feladat az AR-oszlopban, de a forrás költség adatok alapnján nem az!",IF(AND($BI13=1,$AR13="igen"),"Forráshiányos a feladat!",IF($AQ13>$O13,"Többlet forrást jelölt meg a II. ütemnél! A forrás ne legyen több a költségnél.",IF($AQ13=$O13,"A forrás egyenlő a költséggel (II.ütem).",0)))))) -> Nem hosszútávú a feladat. | BM13: =IF($M13<2028,1,0) -> 1 | BN13: =IF($M13>2027,1,0) -> 0 | BO13: =IF(AND($BM13=1,$N13=0),1,0) -> 0 | BP13: =IF(AND($BN13=1,$O13=0),1,0) -> 0 | BQ13: =IF(AND($BB13="R",$N13=0,$AZ13>29),1,IF(AND($BB13="RH",$N13=0,$AZ13>29),1,0)) -> 0 | BR13: =IF($BN13=0,"Nincs hosszútávú terv!",IF(AND($BB13="H",$O13=0,$AZ13=0),"Nullás a hosszútávú feladat és nincs hozzá indoklás!",IF(AND($BB13="RH",$O13=0,$AZ13=0),"Nullás a hosszútávú feladat és nincs hozzá indoklás!",IF(AND($BB13="R",$O13=0,$AZ13<300),"Nullás a hosszútávú feladat és rövid hozzá az indoklás!",IF(AND($BB13="RH",$O13=0,$AZ13<300),"Nullás a hosszútávú feladat és rövid hozzá az indoklás!",0))))) -> Nincs hosszútávú terv! | BS13: =IF(AND($BB13="R",$N13=0,$AZ13>29),1,IF(AND($BB13="RH",$N13=0,$AZ13>29),1,0)) -> 0 | BT13: =IF(AND($BB13="H",$O13=0,$AZ13>29),1,IF(AND($BB13="RH",$O13=0,$AZ13>29),1,0)) -> 0 | BU13: =IF($B13="",0,1) -> 1 | BV13: =IF($C13="",0,1) -> 1 | BW13: =IF($D13="",0,1) -> 1 | BX13: =IF($E13="",0,1) -> 1 | BY13: =IF($L13="",0,1) -> 1 | BZ13: =IF($M13="",0,1) -> 1 | CA13: =IF($N13="",0,1) -> 1 | CB13: =IF($O13="",0,1) -> 1 | CC13: =IF($P13="",0,1) -> 1 | CD13: =IF(AND($BA13=0,$BU13=0),"Hiányos kitöltés! (B-oszlop üres)",IF(AND($BA13=0,$BV13=0),"Hiányos kitöltés! (C-oszlop üres)",IF(AND($BA13=0,$BW13=0),"Hiányos kitöltés! (D-oszlop üres)",IF(AND($BA13=0,$BX13=0),"Hiányos kitöltés! (E-oszlop üres)",IF(AND($BA13=0,$BY13=0),"Hiányos kitöltés! (L-oszlop üres)",IF(AND($BA13=0,$BZ13=0),"Hiányos kitöltés! (M-oszlop üres)",IF(AND($BA13=0,$CA13=0),"Hiányos kitöltés! (N-oszlop üres)",IF(AND($BA13=0,$CB13=0),"Hiányos kitöltés! (O-oszlop üres)",IF(AND($BA13=0,$CC13=0),"Hiányos kitöltés! (P-oszlop üres)",IF(AND($BA13=0,$BG13=0),"Hiányos kitöltés! (I.ütem forrása hiányos!","?")))))))))) -> ? | CE13: =IF($BA13=0,$CD13,IF($BG13=0,"I. ütem forrása nincs kitöltve!",IF($BJ13=0,"II. ütem forrása nincs kitöltve!",IF($BD13=1,"Költségek üteme nem megfelelő (az időtartam és a költség üteme eltér)!",IF(AND(BH13=0,$BA13=1,$BJ13=1,$BD13=1),"Kötelező cellák kitöltve, de az I. ütem forrása hibás!",IF(AND(BJ13=0,$BA13=1,$BJ13=1,$BD13=1),"Kötelező cellák kitöltve, de a II. ütem forrása hibás!",IF(AND($BO13=1,$AZ13<30),"Nullás a rövidtávú feladat és rövid (hiányzik) a hozzá tartozó indoklás!",IF(AND($BP13=1,$AZ13<30),"Nullás a hosszútávú feladat és rövid (hiányzik) a hozzá tartozó indoklás!",IF(AND(BN13=1,C13="1811_RENDKÍVÜLI"),"II. ütemre nem tervezhet Rendkívüli feladatot!",IF(BH13=0,AD13,IF(BK13=0,AS13,IF(AND(BC13=1,$P13>$N13),"EM rendelet 2. melléklet terhére elszámolt költség nem lehet nagyobb az I. ütemre tervezett tényleges költségnél!",IF($AC13>$N13,"Többlet forrást jelölt meg az I. ütemnél! A forrás ne legyen több a költségnél.",IF($AQ13>$O13,"Többlet forrást jelölt meg a II. ütemnél! A forrás ne legyen több a költségnél.","Kitöltés rendben!")))))))))))))) -> Kitöltés rendben! | CF13: =IF(A13="Kitöltés rendben!",1,0) -> 1 | CG13: =IF(AND($BB13="R",$CF13=1),1,IF(AND($BB13="RH",$CF13=1),1,0)) -> 1 | CH13: =IF(AND($BB13="H",$CF13=1),1,IF(AND($BB13="RH",$CF13=1),1,0)) -> 0
A14: =IF($G14="","Nincs VKR kiválasztva!",CE14) -> Kitöltés rendben! | B14: 1 | C14: 1312_ELOSZT_VEZETÉK_GERINC | D14: Bocfölde, gerincvezeték csere | E14: Nem áll rendelkezésre | F14: =VLOOKUP($G14,Összesítő!$B:$F,2,FALSE) -> 11-32054-1-036-03-05 | G14: Zalaegerszeg-IV | H14: =AY14&"_"&AW14&"_FIV_"&LEFT(Előlap!$B$6,4) -> 3161_12_FIV_2026 | I14: =VLOOKUP($G14,Összesítő!$B:$F,5,FALSE) -> Alibánfa, Babosdöbréte, Bagod, Becsvölgye, Bocfölde, Boncodfölde, Böde, Csatár, Csonkahegyhát, Dobronhegy, Hagyárosbörönd, Hottó, Kávás, Kiskutas, Kispáli, Kustánszeg, Milejszeg, Nagykutas, Nagypáli, Németfalu, Pálfiszeg, Pethőhenye, Sárhida, Teskánd, Zalaboldogfa, Zalaegerszeg, Zalaszentgyörgy, Zalaszentiván, Zalaszentlőrinc, Gellénháza, Nagylengyel, Gombosszeg, Iborfia, Lickóvadamos, Petrikeresztúr, Ormándlak | J14: =VLOOKUP($G14,Összesítő!$B:$F,4,FALSE) -> Alibánfa Község Önkormányzata, Babosdöbréte Község Önkormányzata, Bagod Község Önkormányzata, Becsvölgye Községi Önkormányzat, Bocfölde Község Önkormányzata, Boncodfölde Község Önkormányzata, Böde Község Önkormányzata, Csatár Község Önkormányzata, Csonkahegyhát Község Önkormányzata, Dobronhegy Község Önkormányzata, Hagyárosbörönd Község Önkormányzata, Hottó Község Önkormányzata, Kávás Község Önkormányzata, Kiskutas Község Önkormányzata, Kispáli Község Önkormányzata, Kustánszeg Község Önkormányzata, Milejszeg Község Önkormányzata, Nagykutas Község Önkormányzata, Nagypáli Község Önkormányzata, Németfalu Község Önkormányzata, Pálfiszeg Község Önkormányzata, Pethőhenye Község Önkormányzata, Sárhida Község Önkormányzata, Teskánd Község Önkormányzata, Zalaboldogfa Község Önkormányzata, Zalaegerszeg Megyei Jogú Város Önkormányzata, Zalaszentgyörgy Község Önkormányzata, Zalaszentiván Község Önkormányzata, Zalaszentlőrinc Község Önkormányzata, Gellénháza Község Önkormányzata, Nagylengyel Község Önkormányzata, Gombosszeg Község Önkormányzata, Iborfia Község Önkormányzata, Lickóvadamos Község Önkormányzata, Petrikeresztúr Község Önkormányzata, Ormándlak Község Önkormányzata | K14: =N14+O14 -> 1840 | L14: 2027 | M14: 2027 | N14: 1840 | O14: 0 | P14: 0 | R14: 1840 | S14: 0 | T14: 0 | U14: 0 | V14: 0 | W14: 0 | X14: 0 | Y14: 0 | Z14: 0 | AA14: 0 | AB14: 0 | AC14: =SUM(R14:AB14) -> 1840 | AD14: =IF($G14="","Nincs VKR kiválasztva!",IF(BA14=0,"Hiányos kitöltés!",BF14)) -> A forrás egyenlő a költséggel (I.ütem). | AF14: 0 | AG14: 0 | AH14: 0 | AI14: 0 | AJ14: 0 | AK14: 0 | AL14: 0 | AM14: 0 | AN14: 0 | AO14: 0 | AP14: 0 | AQ14: =SUM(AF14:AP14) -> 0 | AR14: nem | AS14: =IF($G14="","Nincs VKR kiválasztva!",IF($BA14=0,"Hiányos kitöltés!",IF($BN14=0,"Nem hosszútávú a feladat.",$BL14))) -> Nem hosszútávú a feladat. | AW14: =COUNTA($G$3:G14) -> 12 | AY14: =VLOOKUP($G14,Összesítő!$B:$F,3,FALSE) -> 3161 | AZ14: =LEN($AU14) -> 0 | BA14: =IF(OR($B14="",$C14="",$D14="",$E14="",$F14="",$L14="",$M14="",$N14="",$O14="",$P14=""),0,1) -> 1 | BB14: =IF($F14="",0,IF(AND($L14=2027,$M14=2027),"R",IF(AND($L14=2027,$M14>2027),"RH",IF(AND($L14>2027,$M14>2027),"H","x")))) -> R | BC14: =IF(OR(BB14="R",BB14="RH"),1,0) -> 1 | BD14: =IF(AND($BB14="R",$O14>0),1,IF(AND($BB14="H",$N14>0),1,0)) -> 0 | BE14: =IF($AC14<$N14,1,IF($AC14=$N14,0)) -> 0 | BF14: =IF($L14>2027,"Nem rövidtávú a feladat.",IF($BE14=1,"Az I. ütem nem lehet forráshiányos!",IF($AC14>$N14,"Többlet forrást jelölt meg az I. ütemnél! A forrás ne legyen több a költségnél.",IF($AC14=$N14,"A forrás egyenlő a költséggel (I.ütem).",0)))) -> A forrás egyenlő a költséggel (I.ütem). | BG14: =IF(AND($R14<>"",$S14<>"",$T14<>"",$U14<>"",$V14<>"",$W14<>"",$X14<>"",$Y14<>"",$Z14<>"",$AA14<>"",$AB14<>""),1,0) -> 1 | BH14: =IF(AND($BG14=1,$N14=$AC14),1,0) -> 1 | BI14: =IF($AQ14<$O14,1,0) -> 0 | BJ14: =IF(AND($AF14<>"",$AG14<>"",$AH14<>"",$AI14<>"",$AJ14<>"",$AK14<>"",$AL14<>"",$AM14<>"",$AN14<>"",$AO14<>"",$AP14<>""),1,0) -> 1 | BK14: =IF(AND($BJ14=1,$O14=$AQ14),1,IF(AND($BJ14=1,$O14>$AQ14,AR14="igen"),1,0)) -> 1 | BL14: =IF($M14<2028,"Nem hosszútávú a feladat.",IF(AND($BI14=1,$AR14="nem"),"Forráshiányos a feladat? Jelölje az AR-oszlopban!",IF(AND($BI14=0,$AR14="igen"),"Forráshiányosnak jelölte a feladat az AR-oszlopban, de a forrás költség adatok alapnján nem az!",IF(AND($BI14=1,$AR14="igen"),"Forráshiányos a feladat!",IF($AQ14>$O14,"Többlet forrást jelölt meg a II. ütemnél! A forrás ne legyen több a költségnél.",IF($AQ14=$O14,"A forrás egyenlő a költséggel (II.ütem).",0)))))) -> Nem hosszútávú a feladat. | BM14: =IF($M14<2028,1,0) -> 1 | BN14: =IF($M14>2027,1,0) -> 0 | BO14: =IF(AND($BM14=1,$N14=0),1,0) -> 0 | BP14: =IF(AND($BN14=1,$O14=0),1,0) -> 0 | BQ14: =IF(AND($BB14="R",$N14=0,$AZ14>29),1,IF(AND($BB14="RH",$N14=0,$AZ14>29),1,0)) -> 0 | BR14: =IF($BN14=0,"Nincs hosszútávú terv!",IF(AND($BB14="H",$O14=0,$AZ14=0),"Nullás a hosszútávú feladat és nincs hozzá indoklás!",IF(AND($BB14="RH",$O14=0,$AZ14=0),"Nullás a hosszútávú feladat és nincs hozzá indoklás!",IF(AND($BB14="R",$O14=0,$AZ14<300),"Nullás a hosszútávú feladat és rövid hozzá az indoklás!",IF(AND($BB14="RH",$O14=0,$AZ14<300),"Nullás a hosszútávú feladat és rövid hozzá az indoklás!",0))))) -> Nincs hosszútávú terv! | BS14: =IF(AND($BB14="R",$N14=0,$AZ14>29),1,IF(AND($BB14="RH",$N14=0,$AZ14>29),1,0)) -> 0 | BT14: =IF(AND($BB14="H",$O14=0,$AZ14>29),1,IF(AND($BB14="RH",$O14=0,$AZ14>29),1,0)) -> 0 | BU14: =IF($B14="",0,1) -> 1 | BV14: =IF($C14="",0,1) -> 1 | BW14: =IF($D14="",0,1) -> 1 | BX14: =IF($E14="",0,1) -> 1 | BY14: =IF($L14="",0,1) -> 1 | BZ14: =IF($M14="",0,1) -> 1 | CA14: =IF($N14="",0,1) -> 1 | CB14: =IF($O14="",0,1) -> 1 | CC14: =IF($P14="",0,1) -> 1 | CD14: =IF(AND($BA14=0,$BU14=0),"Hiányos kitöltés! (B-oszlop üres)",IF(AND($BA14=0,$BV14=0),"Hiányos kitöltés! (C-oszlop üres)",IF(AND($BA14=0,$BW14=0),"Hiányos kitöltés! (D-oszlop üres)",IF(AND($BA14=0,$BX14=0),"Hiányos kitöltés! (E-oszlop üres)",IF(AND($BA14=0,$BY14=0),"Hiányos kitöltés! (L-oszlop üres)",IF(AND($BA14=0,$BZ14=0),"Hiányos kitöltés! (M-oszlop üres)",IF(AND($BA14=0,$CA14=0),"Hiányos kitöltés! (N-oszlop üres)",IF(AND($BA14=0,$CB14=0),"Hiányos kitöltés! (O-oszlop üres)",IF(AND($BA14=0,$CC14=0),"Hiányos kitöltés! (P-oszlop üres)",IF(AND($BA14=0,$BG14=0),"Hiányos kitöltés! (I.ütem forrása hiányos!","?")))))))))) -> ? | CE14: =IF($BA14=0,$CD14,IF($BG14=0,"I. ütem forrása nincs kitöltve!",IF($BJ14=0,"II. ütem forrása nincs kitöltve!",IF($BD14=1,"Költségek üteme nem megfelelő (az időtartam és a költség üteme eltér)!",IF(AND(BH14=0,$BA14=1,$BJ14=1,$BD14=1),"Kötelező cellák kitöltve, de az I. ütem forrása hibás!",IF(AND(BJ14=0,$BA14=1,$BJ14=1,$BD14=1),"Kötelező cellák kitöltve, de a II. ütem forrása hibás!",IF(AND($BO14=1,$AZ14<30),"Nullás a rövidtávú feladat és rövid (hiányzik) a hozzá tartozó indoklás!",IF(AND($BP14=1,$AZ14<30),"Nullás a hosszútávú feladat és rövid (hiányzik) a hozzá tartozó indoklás!",IF(AND(BN14=1,C14="1811_RENDKÍVÜLI"),"II. ütemre nem tervezhet Rendkívüli feladatot!",IF(BH14=0,AD14,IF(BK14=0,AS14,IF(AND(BC14=1,$P14>$N14),"EM rendelet 2. melléklet terhére elszámolt költség nem lehet nagyobb az I. ütemre tervezett tényleges költségnél!",IF($AC14>$N14,"Többlet forrást jelölt meg az I. ütemnél! A forrás ne legyen több a költségnél.",IF($AQ14>$O14,"Többlet forrást jelölt meg a II. ütemnél! A forrás ne legyen több a költségnél.","Kitöltés rendben!")))))))))))))) -> Kitöltés rendben! | CF14: =IF(A14="Kitöltés rendben!",1,0) -> 1 | CG14: =IF(AND($BB14="R",$CF14=1),1,IF(AND($BB14="RH",$CF14=1),1,0)) -> 1 | CH14: =IF(AND($BB14="H",$CF14=1),1,IF(AND($BB14="RH",$CF14=1),1,0)) -> 0
... A119: =IF($G119="","Nincs VKR kiválasztva!",CE119) -> Kitöltés rendben! | B119: 2 | C119: 1511_VILL_IRÁNYTECH | D119: Zalaegerszeg Nyugati - Zalaboldogfai átemelő, nyomástartásos üzem kialakítása | E119: Nem áll rendelkezésre | F119: =VLOOKUP($G119,Összesítő!$B:$F,2,FALSE) -> 11-32054-1-036-03-05 | G119: Zalaegerszeg-IV | H119: =AY119&"_"&AW119&"_FIV_"&LEFT(Előlap!$B$6,4) -> 3161_117_FIV_2026 | I119: =VLOOKUP($G119,Összesítő!$B:$F,5,FALSE) -> Alibánfa, Babosdöbréte, Bagod, Becsvölgye, Bocfölde, Boncodfölde, Böde, Csatár, Csonkahegyhát, Dobronhegy, Hagyárosbörönd, Hottó, Kávás, Kiskutas, Kispáli, Kustánszeg, Milejszeg, Nagykutas, Nagypáli, Németfalu, Pálfiszeg, Pethőhenye, Sárhida, Teskánd, Zalaboldogfa, Zalaegerszeg, Zalaszentgyörgy, Zalaszentiván, Zalaszentlőrinc, Gellénháza, Nagylengyel, Gombosszeg, Iborfia, Lickóvadamos, Petrikeresztúr, Ormándlak | J119: =VLOOKUP($G119,Összesítő!$B:$F,4,FALSE) -> Alibánfa Község Önkormányzata, Babosdöbréte Község Önkormányzata, Bagod Község Önkormányzata, Becsvölgye Községi Önkormányzat, Bocfölde Község Önkormányzata, Boncodfölde Község Önkormányzata, Böde Község Önkormányzata, Csatár Község Önkormányzata, Csonkahegyhát Község Önkormányzata, Dobronhegy Község Önkormányzata, Hagyárosbörönd Község Önkormányzata, Hottó Község Önkormányzata, Kávás Község Önkormányzata, Kiskutas Község Önkormányzata, Kispáli Község Önkormányzata, Kustánszeg Község Önkormányzata, Milejszeg Község Önkormányzata, Nagykutas Község Önkormányzata, Nagypáli Község Önkormányzata, Németfalu Község Önkormányzata, Pálfiszeg Község Önkormányzata, Pethőhenye Község Önkormányzata, Sárhida Község Önkormányzata, Teskánd Község Önkormányzata, Zalaboldogfa Község Önkormányzata, Zalaegerszeg Megyei Jogú Város Önkormányzata, Zalaszentgyörgy Község Önkormányzata, Zalaszentiván Község Önkormányzata, Zalaszentlőrinc Község Önkormányzata, Gellénháza Község Önkormányzata, Nagylengyel Község Önkormányzata, Gombosszeg Község Önkormányzata, Iborfia Község Önkormányzata, Lickóvadamos Község Önkormányzata, Petrikeresztúr Község Önkormányzata, Ormándlak Község Önkormányzata | K119: =N119+O119 -> 10000 | L119: 2029 | M119: 2029 | N119: 0 | O119: 10000 | P119: 0 | R119: 0 | S119: 0 | T119: 0 | U119: 0 | V119: 0 | W119: 0 | X119: 0 | Y119: 0 | Z119: 0 | AA119: 0 | AB119: 0 | AC119: =SUM(R119:AB119) -> 0 | AD119: =IF($G119="","Nincs VKR kiválasztva!",IF(BA119=0,"Hiányos kitöltés!",BF119)) -> Nem rövidtávú a feladat. | AF119: 0 | AG119: 0 | AH119: 0 | AI119: 0 | AJ119: 0 | AK119: 0 | AL119: 0 | AM119: 0 | AN119: 0 | AO119: 0 | AP119: 0 | AQ119: =SUM(AF119:AP119) -> 0 | AR119: igen | AS119: =IF($G119="","Nincs VKR kiválasztva!",IF($BA119=0,"Hiányos kitöltés!",IF($BN119=0,"Nem hosszútávú a feladat.",$BL119))) -> Forráshiányos a feladat! | AW119: =COUNTA($G$3:G119) -> 117 | AY119: =VLOOKUP($G119,Összesítő!$B:$F,3,FALSE) -> 3161 | AZ119: =LEN($AU119) -> 0 | BA119: =IF(OR($B119="",$C119="",$D119="",$E119="",$F119="",$L119="",$M119="",$N119="",$O119="",$P119=""),0,1) -> 1 | BB119: =IF($F119="",0,IF(AND($L119=2027,$M119=2027),"R",IF(AND($L119=2027,$M119>2027),"RH",IF(AND($L119>2027,$M119>2027),"H","x")))) -> H | BC119: =IF(OR(BB119="R",BB119="RH"),1,0) -> 0 | BD119: =IF(AND($BB119="R",$O119>0),1,IF(AND($BB119="H",$N119>0),1,0)) -> 0 | BE119: =IF($AC119<$N119,1,IF($AC119=$N119,0)) -> 0 | BF119: =IF($L119>2027,"Nem rövidtávú a feladat.",IF($BE119=1,"Az I. ütem nem lehet forráshiányos!",IF($AC119>$N119,"Többlet forrást jelölt meg az I. ütemnél! A forrás ne legyen több a költségnél.",IF($AC119=$N119,"A forrás egyenlő a költséggel (I.ütem).",0)))) -> Nem rövidtávú a feladat. | BG119: =IF(AND($R119<>"",$S119<>"",$T119<>"",$U119<>"",$V119<>"",$W119<>"",$X119<>"",$Y119<>"",$Z119<>"",$AA119<>"",$AB119<>""),1,0) -> 1 | BH119: =IF(AND($BG119=1,$N119=$AC119),1,0) -> 1 | BI119: =IF($AQ119<$O119,1,0) -> 1 | BJ119: =IF(AND($AF119<>"",$AG119<>"",$AH119<>"",$AI119<>"",$AJ119<>"",$AK119<>"",$AL119<>"",$AM119<>"",$AN119<>"",$AO119<>"",$AP119<>""),1,0) -> 1 | BK119: =IF(AND($BJ119=1,$O119=$AQ119),1,IF(AND($BJ119=1,$O119>$AQ119,AR119="igen"),1,0)) -> 1 | BL119: =IF($M119<2028,"Nem hosszútávú a feladat.",IF(AND($BI119=1,$AR119="nem"),"Forráshiányos a feladat? Jelölje az AR-oszlopban!",IF(AND($BI119=0,$AR119="igen"),"Forráshiányosnak jelölte a feladat az AR-oszlopban, de a forrás költség adatok alapnján nem az!",IF(AND($BI119=1,$AR119="igen"),"Forráshiányos a feladat!",IF($AQ119>$O119,"Többlet forrást jelölt meg a II. ütemnél! A forrás ne legyen több a költségnél.",IF($AQ119=$O119,"A forrás egyenlő a költséggel (II.ütem).",0)))))) -> Forráshiányos a feladat! | BM119: =IF($M119<2028,1,0) -> 0 | BN119: =IF($M119>2027,1,0) -> 1 | BO119: =IF(AND($BM119=1,$N119=0),1,0) -> 0 | BP119: =IF(AND($BN119=1,$O119=0),1,0) -> 0 | BQ119: =IF(AND($BB119="R",$N119=0,$AZ119>29),1,IF(AND($BB119="RH",$N119=0,$AZ119>29),1,0)) -> 0 | BR119: =IF($BN119=0,"Nincs hosszútávú terv!",IF(AND($BB119="H",$O119=0,$AZ119=0),"Nullás a hosszútávú feladat és nincs hozzá indoklás!",IF(AND($BB119="RH",$O119=0,$AZ119=0),"Nullás a hosszútávú feladat és nincs hozzá indoklás!",IF(AND($BB119="R",$O119=0,$AZ119<300),"Nullás a hosszútávú feladat és rövid hozzá az indoklás!",IF(AND($BB119="RH",$O119=0,$AZ119<300),"Nullás a hosszútávú feladat és rövid hozzá az indoklás!",0))))) -> 0 | BS119: =IF(AND($BB119="R",$N119=0,$AZ119>29),1,IF(AND($BB119="RH",$N119=0,$AZ119>29),1,0)) -> 0 | BT119: =IF(AND($BB119="H",$O119=0,$AZ119>29),1,IF(AND($BB119="RH",$O119=0,$AZ119>29),1,0)) -> 0 | BU119: =IF($B119="",0,1) -> 1 | BV119: =IF($C119="",0,1) -> 1 | BW119: =IF($D119="",0,1) -> 1 | BX119: =IF($E119="",0,1) -> 1 | BY119: =IF($L119="",0,1) -> 1 | BZ119: =IF($M119="",0,1) -> 1 | CA119: =IF($N119="",0,1) -> 1 | CB119: =IF($O119="",0,1) -> 1 | CC119: =IF($P119="",0,1) -> 1 | CD119: =IF(AND($BA119=0,$BU119=0),"Hiányos kitöltés! (B-oszlop üres)",IF(AND($BA119=0,$BV119=0),"Hiányos kitöltés! (C-oszlop üres)",IF(AND($BA119=0,$BW119=0),"Hiányos kitöltés! (D-oszlop üres)",IF(AND($BA119=0,$BX119=0),"Hiányos kitöltés! (E-oszlop üres)",IF(AND($BA119=0,$BY119=0),"Hiányos kitöltés! (L-oszlop üres)",IF(AND($BA119=0,$BZ119=0),"Hiányos kitöltés! (M-oszlop üres)",IF(AND($BA119=0,$CA119=0),"Hiányos kitöltés! (N-oszlop üres)",IF(AND($BA119=0,$CB119=0),"Hiányos kitöltés! (O-oszlop üres)",IF(AND($BA119=0,$CC119=0),"Hiányos kitöltés! (P-oszlop üres)",IF(AND($BA119=0,$BG119=0),"Hiányos kitöltés! (I.ütem forrása hiányos!","?")))))))))) -> ? | CE119: =IF($BA119=0,$CD119,IF($BG119=0,"I. ütem forrása nincs kitöltve!",IF($BJ119=0,"II. ütem forrása nincs kitöltve!",IF($BD119=1,"Költségek üteme nem megfelelő (az időtartam és a költség üteme eltér)!",IF(AND(BH119=0,$BA119=1,$BJ119=1,$BD119=1),"Kötelező cellák kitöltve, de az I. ütem forrása hibás!",IF(AND(BJ119=0,$BA119=1,$BJ119=1,$BD119=1),"Kötelező cellák kitöltve, de a II. ütem forrása hibás!",IF(AND($BO119=1,$AZ119<30),"Nullás a rövidtávú feladat és rövid (hiányzik) a hozzá tartozó indoklás!",IF(AND($BP119=1,$AZ119<30),"Nullás a hosszútávú feladat és rövid (hiányzik) a hozzá tartozó indoklás!",IF(AND(BN119=1,C119="1811_RENDKÍVÜLI"),"II. ütemre nem tervezhet Rendkívüli feladatot!",IF(BH119=0,AD119,IF(BK119=0,AS119,IF(AND(BC119=1,$P119>$N119),"EM rendelet 2. melléklet terhére elszámolt költség nem lehet nagyobb az I. ütemre tervezett tényleges költségnél!",IF($AC119>$N119,"Többlet forrást jelölt meg az I. ütemnél! A forrás ne legyen több a költségnél.",IF($AQ119>$O119,"Többlet forrást jelölt meg a II. ütemnél! A forrás ne legyen több a költségnél.","Kitöltés rendben!")))))))))))))) -> Kitöltés rendben! | CF119: =IF(A119="Kitöltés rendben!",1,0) -> 1 | CG119: =IF(AND($BB119="R",$CF119=1),1,IF(AND($BB119="RH",$CF119=1),1,0)) -> 0 | CH119: =IF(AND($BB119="H",$CF119=1),1,IF(AND($BB119="RH",$CF119=1),1,0)) -> 1

Sheet adat
A1: 2027 | B1: A felújítási feladat kategóriája - IVÓVÍZ | H1: NV Zrt. által javasolt főcsoport | K1: FORRÁS MEGNEVEZÉSE | Q1: A kitöltés lehetséges eredménye, az "ELLENÖRZÉS" oszlopban jelenik meg | S1: Színkód | V1: A kitöltés lehetséges eredménye, az "ELLENÖRZÉS" oszlopban jelenik meg (Osszesito lap) | X1: Színkód
B2: Sorszám | C2: KATEGÓRIA | D2: 1. SZINT | E2: 2. SZINT | F2: 3. SZINT | G2: PÉLDÁK | K2: Sorszám | L2: Kategóriák | M2: Magyarázat | Q2: 1 | R2: Nincs VKR kiválasztva! | V2: =IF($W2="","",COUNTA($W$2:W2)) -> 1 | W2: Nincs rögzítve!
B3: 1 | C3: 1111_TERM_KÚT | D3: víztermelés | E3: kutak | G3: kúthoz kapcsolódó felújítási feladatok (pl.: kút építészeti felújítás, kútfúrás (az új kút műszaki paraméterei megegyeznek a kiváltandó kút műszaki paramétereivel), NV Zrt. által javasolt 121. főcsoport) | H3: 121 | K3: 1 | L3: Használati díj | M3: - az előző évek használati díj maradványa - önkormányzattól átvett fel nem használt használati díj - a víziközmű alap (Vksztv. 2. § 33.pont) - Vksztv. értelmező rendelkezéséhez egyezően bérleti díj, vagyonkezelési díj vagy koncessziós díj | Q3: 2 | R3: Hiányos kitöltés! („?”-oszlop üres) | V3: =IF($W3="","",COUNTA($W$2:W3)) -> 2 | W3: Kitöltési hiba!
B4: 2 | C4: 1121_TERM_VEZETÉK | E4: vezeték | G4: a víztermeléshez kapcsolódó vezetékfelújítási feladatok (pl.: kútbekötés, gyűjtővezeték felújítás, csere) | K4: 2 | L4: ÉCS | M4: - értékcsökkenési leírás | Q4: 3 | R4: I. ütem forrása nincs kitöltve! | V4: =IF($W4="","",COUNTA($W$2:W4)) -> 3 | W4: Hiányzik a rövidtávú terv!
B5: 3 | C5: 1131_TERM_SZIVATTYÚ | E5: szivattyú | G5: a víztermeléshez kapcsolódó szivattyúfelújítási feladatok (pl.: kútszivattyú felújítás, csere) | K5: 3 | L5: Közműfejlesztési hozzájárulás | Q5: 4 | R5: II. ütem forrása nincs kitöltve! | V5: =IF($W5="","",COUNTA($W$2:W5)) -> 4 | W5: Hiányzik a hosszútávú terv!
B6: 4 | C6: 1110_TERM_EGYÉB | E6: egyéb | G6: a víztermeléshez kapcsolódó komplex felújítási feladatok (pl.: kút építészeti felújítása, termelőcső felújítása, cseréje, bekötés, vezeték felújítása, kútszivattyú felújítása, cseréje, villamos és irányítástechnikai rendszer felújítása munkákból többféle feladatot együttesen tartalmazó felújítási munka) | K6: 4 | L6: Egyéb saját forrás | M6: - társasági eszköz hasznosításból/értékesítésből származó bevétel/vissznyeremény | Q6: 5 | R6: Költségek üteme nem megfelelő (az időtartam és a költség üteme eltér)! | V6: =IF($W6="","",COUNTA($W$2:W6)) -> 5 | W6: Kitöltés rendben!
B7: 4 | C7: 1100_TERM_KOMPLEX | E7: komplex | G7: a víztermeléshez kapcsolódó, egyéb, a fenti kategóriákba nem besorolható felújítási feladatok (pl.: termelőcső felújítás, csere) | K7: 5 | L7: Díj | M7: - víziközmű-szolgáltatási díj (lakossági/nem lakossági) | Q7: 6 | R7: Kötelező cellák kitöltve, de az I. ütem forrása hibás!
B8: 6 | C8: 1211_TELEP_TÁROLÁS | D8: vízműtelep / vízkezelés | E8: vízműtelepi tárolás | G8: a vízműtelep területén található víztároló műtárgyakhoz kapcsolódó felújítási feladatok (pl.: vízműtelepi medence, víztorony, tározó, tároló felújítás, NV Zrt. által javasolt 123. főcsoport vízműtelepi tárolómedence esetén) | H8: 123 | K8: 6 | L8: VFEA - EM rendelet 1. melléklet | M8: - Víziközmű-fejlesztési és Ellentételezési Alap - 24/2023. (XII. 13.) EM rendelet 1. melléklet | Q8: 7 | R8: Kötelező cellák kitöltve, de a II. ütem forrása hibás!
B9: 7 | C9: 1221_TELEP_VEZETÉK | E9: vezeték | G9: a vízműtelep területén található vízszállító vezetékekhez kapcsolódó felújítási feladatok (pl.: vízkezelési technológiához tartozó tisztavíztározó medencék udvartéri vezetékeinek felújítása) | K9: 7 | L9: Egyéb állami támogatás | M9: - központi kezelésű előirányzat - egyéb állami támogatás - egyéb központi költségvetés | Q9: 8 | R9: Nullás a rövidtávú feladat és rövid (hiányzik) a hozzá tartozó indoklás!
B10: 8 | C10: 1231_TELEP_SZIVATTYÚ | E10: szivattyú | G10: a vízműtelep területén található nyomásfokozó szivattyú felújítása | K10: 8 | L10: Önkormányzati támogatás | M10: - bármilyen önkormányzati forrás | Q10: 9 | R10: Nullás a hosszútávú feladat és rövid (hiányzik) a hozzá tartozó indoklás!
B11: 9 | C11: 1241_TELEP_TECHN | E11: víztisztítási technológia | G11: a víztisztítási technológiához kapcsolódó felújítási feladatok (pl.: szűrőtöltet csere, szűrőtatály felújítás, NV Zrt. által javasolt 125. főcsoport) | H11: 125 | K11: 9 | L11: EU-s támogatás | Q11: 10 | R11: II. ütemre nem tervezhet Rendkívüli feladatot!
B12: 10 | C12: 1251_TELEP_ÉPÍTÉSZET | E12: építészet | G12: a vízműtelephez kapcsolódó építészeti felújítás (pl.: épület, út felújítása) | K12: 10 | L12: Egyéb támogatás | M12: - egyéb külső forrás - egyéb nemzetközi hátterű támogatás - egyéb/Fejlesztési célú pénzeszköz átadás - állami/önkormányzati eszköz hasznosításból/értékesítésből származó bevétel/vissznyeremény - ESCO típusú finanszírozás | Q12: 11 | R12: EM rendelet 2. melléklet terhére elszámolt költség nem lehet nagyobb az I. ütemre tervezett tényleges költségnél!
B13: 11 | C13: 1210_TELEP_EGYÉB | E13: egyéb | G13: a vízműtelephez kapcsolódó komplex felújítási feladatok (pl.: gépház teljeskörű felújítása) | K13: 11 | L13: Banki hitel, kötvénykibocsátás | Q13: 12 | R13: Többlet forrást jelölt meg az I. ütemnél! A forrás ne legyen több a költségnél.
B14: 12 | C14: 1200_TELEP_KOMPLEX | E14: komplex | G14: a vízműtelep területéhez kapcsolódó, egyéb, a fenti kategóriákba nem besorolható felújítási feladatok (pl.: térvilágítás felújítása) | Q14: 13 | R14: Többlet forrást jelölt meg a II. ütemnél! A forrás ne legyen több a költségnél.
B15: 13 | C15: 1311_ELOSZT_VEZETÉK_TÁV | D15: vízelosztás | E15: vezeték | F15: távvezeték | G15: regionális vezetékkel, távvezetékkel kapcsolatos felújítási feladatok | Q15: 14 | R15: Kitöltés rendben!
B16: 14 | C16: 1312_ELOSZT_VEZETÉK_GERINC | F16: gerincvezeték | G16: gerincvezetékkel kapcsolatos felújítási feladatok
B17: 15 | C17: 1313_ELOSZT_VEZETÉK_BEKÖTŐ | F17: bekötővezeték | G17: bekötővezetékkel kapcsolatos felújítási feladatok (pl.: NV Zrt. által javasolt 113. főcsoport) | H17: 113
B18: 16 | C18: 1321_ELOSZT_TÁROLÁS | E18: hálózati tárolás | G18: az elosztóhálózaton található víztároló műtárgyakhoz kapcsolódó felújítási feladatok (pl.: hálózati medence, víztorony, tározó, tároló felújítás)
B19: 17 | C19: 1331_ELOSZT_SZIVATTYÚ | E19: szivattyú | G19: az elosztóhálózaton található szivattyúfelújítási feladatok (pl.: szivattyú felújítás, csere)
B20: 18 | C20: 1341_ELOSZT_SZERELV_CSOMÓPONT | E20: akna/szerelvények | F20: csomópont | G20: az elosztóhálózaton található csomópontok általános felújítása (Amennyiben tervezéskor nem ismert, hogy a feladat a "vízelosztás-akna/szerelvények" mely kategóriájába sorolható, vagy a feladat egyszerre több "vízelosztás-akna/szerelvények" kategóriába is sorolható, akkor a feladatot itt szükséges szerepeltetni.)
B21: 19 | C21: 1342_ELOSZT_SZERELV_TŰZCSAP | F21: tűzcsap | G21: az elosztóhálózaton található tűzcsapok felújítása, cseréje
B22: 20 | C22: 1343_ELOSZT_SZERELV_TOLÓZÁR | F22: tolózár | G22: az elosztóhálózaton található tolózárak felújítása, cseréje
B23: 21 | C23: 1344_ELOSZT_SZERELV_KÖZKIFOLYÓ | F23: közkifolyó | G23: az elosztóhálózaton található közkifolyók felújítása, cseréje
B24: 22 | C24: 1345_ELOSZT_SZERELV_VÍZMÉRŐ | F24: vízmérő | G24: az elosztóhálózaton található vízmérők felújítása, cseréje (pl.: NV Zrt. által javasolt 114. főcsoport) | H24: 114
B25: 23 | C25: 1346_ELOSZT_SZERELV_NYOMCSÖK | F25: nyomáscsökkentő | G25: az elosztóhálózaton található nyomáscsökkentők felújítása, cseréje
B26: 24 | C26: 1347_ELOSZT_SZERELV_AKNA | F26: akna építészet | G26: az elosztóhálózaton található aknák építészeti felújítása (pl.: bélelés, vízzáróvá tétel, felületkezelés, fedlapcsere)
B27: 25 | C27: 1310_ELOSZT_EGYÉB | E27: egyéb | G27: az elosztóhálózathoz kapcsolódó komplex felújítási feladatok (pl.: egy adott utcára vonatkozó vízhálózat teljeskörű felújítása)
B28: 26 | C28: 1300_ELOSZT_KOMPLEX | E28: komplex | G28: az elosztóhálózathoz kapcsolódó, egyéb, a fenti kategóriákba nem besorolható felújítási feladatok (pl.: csőhídcsere, töltőszelep csere)
B29: 27 | C29: 1411_NAPELEM | D29: napelem | G29: napelem felújítása (NV Zrt. által javasolt 129. főcsoport) | H29: 129
B30: 28 | C30: 1511_VILL_IRÁNYTECH | D30: villamos- és irányítástechnika | G30: villamos- és irányítástechnikai felújítási feladatok, folyamatirányító rendszer felújítása (pl.: vezérlőszekrény felújítása, cseréje, NV Zrt. által javasolt 126. és 128. főcsoport) | H30: 126 | I30: 128
B31: 29 | C31: 1611_EGYÉB | D31: egyéb | G31: az ivóvízellátáshoz kapcsolódó, egyéb, a fenti kategóriákba nem besorolható felújítási feladatok (pl.: biztonságtechnika, vagyonvédelem, szolgalmi jog, ingatlan-nyilvántartás, tervezés, engedélyeztetés, közműfelújítás utáni úthelyreállítás, vízműtelepre vezető bekötőút felújítása, NV Zrt. által javasolt 124. főcsoport) | H31: 124
B32: 30 | C32: 1711_NINCS_FELADAT | D32: nincs feladat | G32: Az adott ütemben nem kerül feladat betervezésre, melynek indokolása az AQ mezőben szükséges.
B33: 31 | C33: 1811_RENDKÍVÜLI | D33: rendkívüli

Sheet Kitöltési útmutató

Sheet Megjegyzés
A2: Megjegyzés
A3: .
