Workbook
Name _GoBack: '2'!#REF!

Sheet 1
B1: 2022. évi eredeti előirányzat | C1: Módosítás összege | D1: 2022. évi módosított előirányzat | F1: Megnevezés | G1: 2022. évi eredeti előirányzat | H1: Módosítás összege | I1: 2022. évi módosított előirányzat
A2: I. Működési célú bevételek | F2: I. Működési célú kiadások
A3: 1.) Működési célú támogatások államháztartáson belülről | B3: 6743451 | C3: 1259703 | D3: =SUM(B3:C3) -> 8003154 | F3: 1.) Költségvetési szervek kiadásai | G3: 9210845 | H3: 8417 | I3: =SUM(G3:H3) -> 9219262
A4: 2.) Közhatalmi bevételek | B4: 4963000 | C4: 26000 | D4: =SUM(B4:C4) -> 4989000 | F4: 2.) Önkormányzat szakosztályainak kiadásai | G4: 8239715 | H4: 255254 | I4: =SUM(G4:H4) -> 8494969
A5: 3.) Működési bevételek | B5: 3194963 | C5: -8713 | D5: =SUM(B5:C5) -> 3186250 | F5: 3.Egyéb működési célú kiadások (költségvetési szervek és tartalék nélkül) | G5: 3769966 | H5: 90767 | I5: =SUM(G5:H5) -> 3860733
A6: 4.) Működési célú átvett pénzeszközök | C6: 8700 | D6: =SUM(B6:C6) -> 8700 | F6: 4.) Céltartalékból működésre | G6: 557522 | H6: 150320 | I6: =SUM(G6:H6) -> 707842
A7: Költségvetési műk. bevételei összesen: | B7: =SUM(B3+B4+B5+B6) -> 14901414 | C7: =SUM(C3+C4+C5+C6) -> 1285690 | D7: =SUM(D3+D4+D5+D6) -> 16187104 | F7: 5.) Általános tartalék | G7: 10000 | H7: -3000 | I7: =SUM(G7:H7) -> 7000
A8: Finanszírozási bevételek | F8: Költségvetési műk. kiadásai összesen: | G8: =SUM(G2:G7) -> 21788048 | H8: =SUM(H2:H7) -> 501758 | I8: =SUM(I2:I7) -> 22289806
A9: 5.) Előző év költségvetési maradványának igénybevétele | B9: 5832216 | C9: -783932 | D9: =SUM(B9:C9) -> 5048284 | F9: 6.) Egyéb finanszírozási kiadás (államháztartáson belüli megelőlegezés visszafizetése) | G9: 171582 | I9: =SUM(G9:H9) -> 171582
A10: 6.) Forgatási célú értékpapír beváltás | B10: 1226000 | D10: =SUM(B10:C10) -> 1226000
A11: MŰKÖDÉSI CÉLÚ BEVÉTELEK ÖSSZ: | B11: =SUM(B7:B10) -> 21959630 | C11: =SUM(C7:C10) -> 501758 | D11: =SUM(D7:D10) -> 22461388 | F11: MŰKÖDÉSI CÉLÚ KIADÁSOK ÖSSZ.: | G11: =SUM(G8:G9) -> 21959630 | H11: =SUM(H8:H10) -> 501758 | I11: =SUM(I8:I9) -> 22461388
A12: II. Felhalmozási célú bevételek | F12: II. Felhalmozási célú kiadások
A13: 1.) Felhalmozási célú támogatások államháztartáson belülről | B13: 15843790 | C13: -1168018 | D13: =SUM(B13:C13) -> 14675772 | F13: 1.) Egyéb felhalmozási célú kiadások | G13: 121662 | H13: -490 | I13: =SUM(G13:H13) -> 121172
A14: 2.) Felhalmozási bevételek | B14: 95500 | C14: 4840 | D14: =SUM(B14:C14) -> 100340 | F14: 2.) Beruházás | G14: 24344973 | H14: -507305 | I14: =SUM(G14:H14) -> 23837668
A15: 3.) Felhalmozási célú átvett pénzeszközök | B15: 3500 | C15: 509 | D15: =SUM(B15:C15) -> 4009 | F15: ebből: költségvetési szervek | G15: 181788 | H15: 24040 | I15: =SUM(G15:H15) -> 205828
A16: 4.) Fejlesztéshez működési jellegű bevétel (HD, áfa visszaigénylés) | B16: 1600005 | C16: 127296 | D16: =SUM(B16:C16) -> 1727301 | F16: 3.) Felújítás | G16: 7009595 | H16: 261279 | I16: =SUM(G16:H16) -> 7270874
A17: Költségvetési felhalm. bevételei összesen: | B17: =SUM(B12:B16) -> 17542795 | C17: =SUM(C12:C16) -> -1035373 | D17: =SUM(D12:D16) -> 16507422 | F17: ebből: költségvetési szervek | G17: 1000 | H17: 195 | I17: =SUM(G17:H17) -> 1195
A18: Finanszírozási bevételek | F18: 4.) Céltartalék | G18: 25000 | H18: -4288 | I18: =SUM(G18:H18) -> 20712
A19: 5.) Hitel felvétel | F19: 5.)Fejlesztési hitel kamata | G19: 67289 | I19: =SUM(G19:H19) -> 67289
A20: 6.) Előző év költségvetési maradványának igénybevétele | B20: 1660248 | C20: 784569 | D20: =SUM(B20:C20) -> 2444817 | F20: Költségvetési felh.célú kiadásai összesen: | G20: =SUM(G13+G14+G16+G18+G19) -> 31568519 | H20: =SUM(H13+H14+H16+H18+H19) -> -250804 | I20: =SUM(I13+I14+I16+I18+I19) -> 31317715
A21: 7.) Forgatási célú értékpapír beváltás | B21: 12483328 | D21: =SUM(B21:C21) -> 12483328 | F21: Finanszírozási kiadások
F22: 6.) Hitel- és kölcsön törlesztések | G22: 117852 | I22: =SUM(G22:H22) -> 117852
A23: FELHALMOZÁSI CÉLÚ BEVÉTELEK ÖSSZESEN: | B23: =SUM(B17:B22) -> 31686371 | C23: =SUM(C17:C22) -> -250804 | D23: =SUM(D17:D22) -> 31435567 | F23: FELHALMOZÁSI CÉLÚ KIADÁSOK ÖSSZESEN: | G23: =SUM(G20:G22) -> 31686371 | H23: =SUM(H20:H22) -> -250804 | I23: =SUM(I20:I22) -> 31435567
A24: ÖNKORMÁNYZAT ÖSSZESEN: | B24: =SUM(B11+B23) -> 53646001 | C24: =SUM(C11+C23) -> 250954 | D24: =SUM(D11+D23) -> 53896955 | F24: ÖNKORMÁNYZAT ÖSSZESEN: | G24: =SUM(G11+G23) -> 53646001 | H24: =SUM(H11+H23) -> 250954 | I24: =SUM(I11+I23) -> 53896955
A25: 8.) Forgatási célú értékpapír beváltás projektekhez kapcsolódóan | B25: 10000000 | D25: =SUM(B25:C25) -> 10000000 | F25: 8.) Forgatási célú értékpapír vásárlás hazai forrásból átmenetileg szabad pénzeszközökből | G25: 10000000 | I25: =SUM(G25:H25) -> 10000000
A26: MINDÖSSZESEN: | B26: =SUM(B24:B25) -> 63646001 | C26: =SUM(C24:C25) -> 250954 | D26: =SUM(D24:D25) -> 63896955 | F26: MINDÖSSZESEN: | G26: =SUM(G24:G25) -> 63646001 | H26: =SUM(H24:H25) -> 250954 | I26: =SUM(I24:I25) -> 63896955

Sheet 2
A1: Rovat száma | B1: Megnevezés | C1: 2022. évi eredeti előirányzat | D1: Módosítás összege | E1: 2022. évi módosított előirányzat
A2: B | B2: BEVÉTELEK
A3: B1 | B3: Működési célú támogatások államháztartáson belülről
A4: B11 | B4: Helyi önkormányzatok általános működésének és ágazati feladatainak állami támogatása | C4: 4289558 | D4: 569752 | E4: =SUM(C4:D4) -> 4859310
A5: B115 | B5: Működési célú költségvetési támogatások és kiegészítő támogatások | E5: =SUM(C5:D5) -> 0
A6: B14 | B6: Működési célú visszatérítendő támogatások, kölcsönök visszatérülése államháztartáson belülről | C6: 30700 | E6: =SUM(C6:D6) -> 30700
A7: B16 | B7: Egyéb működési célú támogatások bevételei államháztartáson belülről | C7: 2423193 | D7: 689951 | E7: =SUM(C7:D7) -> 3113144
B8: Működési célú támogatások államháztartáson belülről összesen | C8: =SUM(C4:C7) -> 6743451 | D8: =SUM(D4:D7) -> 1259703 | E8: =SUM(E4:E7) -> 8003154
A9: B2 | B9: Felhalmozási célú támogatások államháztartáson belülről
A10: B21 | B10: Felhalmozási célú önkormányzati támogatás
A11: B25 | B11: Egyéb felhalmozási célú támogatások bevételei államháztartáson belülről | C11: 15843790 | D11: -1168018 | E11: =SUM(C11:D11) -> 14675772
B12: Felhalmozási célú támogatások államháztartáson belülről összesen | C12: =SUM(C10:C11) -> 15843790 | D12: =SUM(D10:D11) -> -1168018 | E12: =SUM(E10:E11) -> 14675772
A13: B3 | B13: Közhatalmi bevételek
A14: B34 | B14: Vagyoni típusú adók (építményadó, magánszemélyek kommunális adója) | C14: 1124000 | E14: =SUM(C14:D14) -> 1124000
A15: B35 | B15: Termékek és szolgáltatások adói | E15: =SUM(C15:D15) -> 0
A16: B351 | B16: Értékesítési és forgalmi adók (iparűzési adó) | C16: 3800000 | E16: =SUM(C16:D16) -> 3800000
A17: B355 | B17: Egyéb áruhasználati és szolgáltatási adók ( idegenforgalmi adó) | C17: 30000 | E17: =SUM(C17:D17) -> 30000
A18: B36 | B18: Egyéb közhatalmi bevételek (különféle bírságok, talajterhelési díj) | C18: 9000 | D18: 26000 | E18: =SUM(C18:D18) -> 35000
B19: Közhatalmi bevételek összesen | C19: =SUM(C13:C18) -> 4963000 | D19: =SUM(D13:D18) -> 26000 | E19: =SUM(E13:E18) -> 4989000
A20: B4 | B20: Működési bevételek | C20: 4794968 | D20: 118583 | E20: =SUM(C20:D20) -> 4913551
A21: B5 | B21: Felhalmozási bevételek
A22: B52 | B22: Ingatlanok értékesítése | C22: 95500 | E22: =SUM(C22:D22) -> 95500
A23: B53 | B23: Egyéb tárgyi eszközök értékesítése | E23: =SUM(C23:D23) -> 0
A24: B55 | B24: Részesedések megszűnéséhez kapcsolódó bevételek | D24: 4840 | E24: =SUM(C24:D24) -> 4840
B25: Felhalmozási bevételek összesen | C25: =SUM(C22:C24) -> 95500 | D25: =SUM(D22:D24) -> 4840 | E25: =SUM(E22:E24) -> 100340
A26: B6 | B26: Működési célú átvett pénzeszközök | D26: 8700 | E26: =SUM(C26:D26) -> 8700
A27: B7 | B27: Felhalmozási célú átvett pénzeszközök
A28: B74 | B28: Felhalmozási célú visszatérítendő támogatások, kölcsönök visszatérülése államháztartáson kívülről | C28: 3000 | E28: =SUM(C28:D28) -> 3000
A29: B75 | B29: Egyéb felhalmozási célú átvett pénzeszközök | C29: 500 | D29: 509 | E29: =SUM(C29:D29) -> 1009
B30: Felhalmozási célú átvett pénzeszközök összesen | C30: =SUM(C28:C29) -> 3500 | D30: =SUM(D28:D29) -> 509 | E30: =SUM(E28:E29) -> 4009
A31: B1-B7 | B31: Költségvetési bevételek | C31: =SUM(C8+C12+C19+C20+C25+C26+C30) -> 32444209 | D31: =SUM(D8+D12+D19+D20+D25+D26+D30) -> 250317 | E31: =SUM(E8+E12+E19+E20+E25+E26+E30) -> 32694526
A32: B8 | B32: Finanszírozási bevételek
A33: B81 | B33: Belföldi finanszírozás bevételei
A34: B811 | B34: Hitel-, kölcsönfelvétel államháztartáson kívülről
A35: B8121 | B35: Forgatási célú belföldi értékpapírok beváltása, értékesítése | C35: 23709328 | E35: =SUM(C35:D35) -> 23709328
A36: B813 | B36: Maradvány igénybevétele | C36: 7492464 | D36: 637 | E36: =SUM(C36:D36) -> 7493101
B37: Finanszírozási bevételek összesen | C37: =SUM(C34:C36) -> 31201792 | D37: =SUM(D34:D36) -> 637 | E37: =SUM(E34:E36) -> 31202429
B38: BEVÉTELEK ÖSSZESEN: | C38: =SUM(C31+C37) -> 63646001 | D38: =SUM(D31+D37) -> 250954 | E38: =SUM(E31+E37) -> 63896955

Sheet 3
B1: Mutató | D1: 2022. bevétel eredeti előirányzata | F1: Mutató | H1: 2022. bevétel módosított előirányzata
A2: Hozzájárulás jogcíme | B2: lakosságszám | C2: mutató | D2: Normatíva Ft/fő | E2: Hozzájárulás ezer Ft-ban | F2: lakosságszám | G2: mutató | H2: Normatíva Ft/fő | I2: Hozzájárulás ezer Ft-ban | J2: Forintban
A3: 2. melléklet szerinti jogcímek
A4: 1.1. Települési önkormányzatok működésének általános támogatása
A5: 1.1.1.1. önkormányzati hivatal működésének támogatása - elismert hivatali létszám alapján | B5: 128.87 | D5: 5495500 | E5: 708205 | F5: 128.87 | H5: 5495500 | I5: 708205 | J5: 708205085
A6: Település-üzemeltetéshez kapcsolódó feladataellátás támogatása
A7: 1.1.1.2. zöldterület-gazdálkodás támogatása (hektár) | C7: 2372.9 | D7: 25200 | E7: 59797 | G7: 2372.9 | H7: 25200 | I7: 59797 | J7: 59797080
A8: 1.1.1.3. közvilágítás támogatása (km) | C8: 404.2 | D8: 415000 | E8: 167743 | G8: 404.2 | H8: 415000 | I8: 167743 | J8: 167743000
A9: 1.1.1.4. köztemető támogatása (m²) | C9: 323258 | D9: 70 | E9: 22628 | G9: 323258 | H9: 70 | I9: 22628 | J9: 22628060
A10: 1.1.1.5. közutak támogatása (km) | C10: 220.4 | D10: 480000 | E10: 105795 | G10: 220.4 | H10: 480000 | I10: 105795 | J10: 105794880
A11: 1.1.1.6. egyéb önkormányzati feladatok támogatása | B11: 56177 | D11: 2700 | E11: 151678 | F11: 56177 | H11: 2700 | I11: 151678 | J11: 151677900
A12: 1.1.1.7. Lakott külterülettel kapcsolatos feladatok támogatása | B12: 4358 | D12: 2550 | E12: 11113 | F12: 4358 | H12: 2550 | I12: 11113 | J12: 11112900
A13: 1.1.2.Nem közművel összegyűjtött háztartási szennyvíz ártalmatlanítása (köbméter) | E13: 100 | I13: 100 | J13: 100000
A14: 1.1.1 Települési önkormányzatok működésének támogatása jogcímeihez biztosított kiegészítő támogatás a 8/2022. (I.14.) Korm.rendelet alapján | I14: 23511 | J14: 23510725
A15: 1.2. Óvodaműködtetési támogatás
A16: 1.2.1.1. Óvodaműködtetési támogatás | C16: 1452.3 | D16: 110000 | E16: 159753 | G16: 1452.3 | H16: 110000 | I16: 159753 | J16: 159753000
A17: 1.2.1.1. Óvodaműködtetési kiegészítő támogatás a 8/2022. (I.14.) Korm.rendelet alapján | G17: 1452.3 | H17: 20000 | I17: 29046 | J17: 29046000
A18: 1.2.2.1. Az óvodában foglalkoztatott pedagógusok átlagbéralapú támogatása | C18: 131.1 | D18: 4861500 | E18: 637343 | G18: 131.1 | H18: 4861500 | I18: 637343 | J18: 637342650
A19: 1.2.2.1. Az óvodában foglalkoztatott pedagógusok átlagbéralapú kiegészítő támogatása a 8/2022. (I.14. Korm.rendelet alapján | G19: 131.1 | H19: 401400 | I19: 52623 | J19: 52623540
A20: 1.2.3. Kiegészítő támogatás az óvodapedagógusok minősítéséből adódó többletkiadásokhoz
A21: 1.2.3.1.1.1.1. Pedagógus II. kategóriába sorolt pedagógusok kiegészítő támogatása | C21: 38 | D21: 432000 | E21: 16416 | G21: 38 | H21: 432000 | I21: 16416 | J21: 16416000
A22: 1.2.3.1.1.1.1. Pedagógus II. kategóriába sorolt pedagógusok kiegészítő támogatása | D22: 363642 | G22: 38 | H22: 363642
A23: 1.2.3.1.1.1.1. Pedagógus II. kategóriába sorolt pedagógusok kiegészítő támogatása a 8/2022. (I.14.)Korm.rendelet alapján | G23: 38 | H23: 35690 | I23: 1356 | J23: 1356220
A24: 1.2.3.1.1.1.2. Mesterpedagógus, kutatótanár kategóriába sorolt pedagógusok kiegészítő támogatása | C24: 2 | D24: 1611000 | E24: 3222 | G24: 2 | H24: 1611000 | I24: 3222 | J24: 3222000
A25: 1.2.3.1.1.1.2. Mesterpedagógus, kutatótanár kategóriába sorolt pedagógusok kiegészítő támogatása a 8/2022. (I.14.) Korm.rendelet alapján | G25: 2 | H25: 132970 | I25: 266 | J25: 265940
A26: 1.2.5.1.1. Az óvodában foglalkoztatott pedagógusok nevelőmunkáját közvetlenük segítők átlagbéralapú támogatása | C26: 89 | D26: 3339000 | E26: 297171 | G26: 89 | H26: 3339000 | I26: 297171 | J26: 297171000
A27: 1.2.5.1.1. Az óvodában foglalkoztatott pedagógusok nevelőmunkáját közvetlenük segítők átlagbéralapú kiegészítő támogatása a 8/2022. (I.14.) Korm.rendelet alapján | G27: 89 | H27: 539000 | I27: 47971 | J27: 47971000
A28: 1.2.7. Diabétesz ellátási pótlék | C28: 1 | D28: 480000 | E28: 480 | G28: 1 | H28: 480000 | I28: 480 | J28: 480000
A29: 1.3.2.Szociális és gyermekjóléti alapszolgáltatás feladatai
A30: 1.3.2.1. Család és gyermekjóléti szolgálat | C30: 8.5 | D30: 4287440 | E30: 36443 | G30: 8.5 | H30: 4287440 | I30: 36443 | J30: 36443240
A31: 1.3.2.1. Család és gyermekjóléti szolgálat kiegészítő támogatása a 8/2022. (I.14.) Korm.rendelet alapján | G31: 8.5 | H31: 841500 | I31: 7153 | J31: 7152750
A32: 1.3.2.2. Család- és gyermekjóléti központ ( járáshoz tartozó összes településre) | C32: 22.9 | D32: 3864270 | E32: 88492 | G32: 22.9 | H32: 3864270 | I32: 88492 | J32: 88491783
A33: 1.3.2.2. Család- és gyermekjóléti központ ( járáshoz tartozó összes településre) kiegészítő támogatása a 8/2022. (I.14.) Korm.rendelet alapján | G33: 22.9 | H33: 979700 | I33: 23415 | J33: 23415130
A34: 1.3.2.2. Család- és gyermekjóléti központ kiegészítés a kijelölt intézmény esetében | C34: 1 | D34: 10460000 | E34: 10460 | G34: 1 | H34: 10460000 | I34: 10460 | J34: 10460000
A35: 1.3.2.3.2. Szociális étkeztetés - társulás által történő feladatellátás | C35: 325 | D35: 74590 | E35: 24242 | G35: 325 | H35: 74590 | I35: 24242 | J35: 24241750
A36: 1.3.2.3.2. Szociális étkeztetés - társulás által történő feladatellátás kiegészítő támogatása a 8/2022. (I.14.) Korm.rendelet alapján | G36: 325 | H36: 6600 | I36: 2145 | J36: 2145000
A37: 1.3.2.4. Házi segítségnyújtás
A38: 1.3.2.4.1. Szociális segítés | C38: 2 | D38: 25000 | E38: 50 | G38: 2 | H38: 25000 | I38: 50 | J38: 50000
A39: 1.3.2.4.3. Személyi gondozás - társulás által történő feladatellátás | C39: 53 | D39: 495480 | E39: 26260 | G39: 53 | H39: 495480 | I39: 26260 | J39: 26260440
A40: 1.3.2.4.3. Személyi gondozás - társulás által történő feladatellátás kiegészítő támogatása a 8/2022. (I.14.) Korm.rendelet alapján | G40: 53 | H40: 106600 | I40: 5650 | J40: 5649800
A41: 1.3.2.6. Időskorúak nappali intézményi ellátása társulás által történő feladatellátás | C41: 58 | D41: 338440 | E41: 19630 | G41: 58 | H41: 338440 | I41: 19630 | J41: 19629520
A42: 1.3.2.6. Időskorúak nappali intézményi ellátása társulás által történő feladatellátás kiegészítő táogatása a 8/2022. (I.14.) Korm.rendelet alapján | G42: 58 | H42: 85500 | I42: 4959 | J42: 4959000
A43: 1.3.2.8.2. Demens személyek nappali intézményi ellátása - társulás által történő feladatellátás | C43: 3 | D43: 824400 | E43: 2473 | G43: 3 | H43: 824400 | I43: 2473 | J43: 2473200
A44: 1.3.2.8.2. Demens személyek nappali intézményi ellátása - társulás által történő feladatellátás kiegészítő támogatása a 8/2022. (I.14.) Korm.rendelet alapján | G44: 3 | H44: 88000 | I44: 264 | J44: 264000
A45: 1.3.2.9.2. Pszichiátriai betegek nappali intézményi ellátása - társulás által történő feladatellátás | C45: 20 | D45: 460300 | E45: 9206 | G45: 20 | H45: 460300 | I45: 9206 | J45: 9206000
A46: 1.3.2.9.2. Pszichiátriai betegek nappali intézményi ellátása - társulás által történő feladatellátás kiegészítő támogatása a 8/2022. (I.14.) Korm.rendelet alapján | G46: 20 | H46: 45600 | I46: 912 | J46: 912000
A47: 1.3.2.10.2. Szenvedélybetegek nappali intézményi ellátása - társulás által történő feladatellátás | C47: 8 | D47: 460300 | E47: 3682 | G47: 8 | H47: 460300 | I47: 3682 | J47: 3682400
A48: 1.3.2.10.2. Szenvedélybetegek nappali intézményi ellátása - társulás által történő feladatellátás kiegészítő támogatása a 8/2022. (I.14.) Korm.rendelet alapján | G48: 8 | H48: 51600 | I48: 413 | J48: 412800
A49: 1.3.3. Bölcsőde, mini bölcsőde támogatása
A50: 1.3.3.1. Bölcsődei bértámogatás
A51: 1.3.3.1.1. Felsőfokú végzettségű kisgyermeknevelők, szaktanácsadók bértámogatása | C51: 25 | D51: 5100000 | E51: 127500 | G51: 25 | H51: 5100000 | I51: 127500 | J51: 127500000
A52: 1.3.3.1.1. Felsőfokú végzettségű kisgyermeknevelők, szaktanácsadók kiegészítő bértámogatása a 8/2022. (I.14.) Korm.rendelet alapján | G52: 25 | H52: 1890700 | I52: 47267 | J52: 47267500
A53: 1.3.3.1.2. Bölcsődei dajkák,középfokú végzettségű kisgyermeknevelők, szaktanácsadók bértámogatása | C53: 50 | D53: 4260000 | E53: 213000 | G53: 50 | H53: 4260000 | I53: 213000 | J53: 213000000
A54: 1.3.3.1.2. Bölcsődei dajkák,középfokú végzettségű kisgyermeknevelők, szaktanácsadók kiegészítő bértámogatása a 8/2022. (I.14.) Korm.rendelet alapján | G54: 50 | H54: 1193000 | I54: 59650 | J54: 59650000
A55: 1.3.3.2. Bölcsődei üzemeltetési támogatás | E55: 52161 | I55: 52161 | J55: 52161000
A56: 1.3.4. A települési önk. által biztosított egyes szociális szakosított ellátások, valamint a gyermekek átmeneti gondozásával kapcsolatos feladatok támogatása
A57: 1.3.4.1 Bértámogatása | C57: 33.2 | D57: 4500000 | E57: 149400 | G57: 33.2 | H57: 4500000 | I57: 149400 | J57: 149400000
A58: 1.3.4.1 Bértámogatás kiegészítő támogatása a 8/2022. (I.14.) Korm.rendelet alapján | G58: 33.2 | H58: 939900 | I58: 31205 | J58: 31204680
A59: 1.3.4.2. Intézmény üzemeltetési támogatás | E59: 22130 | I59: 22130 | J59: 22130000
A60: 1.4.1. Intézményi gyermekétkeztetés támogatása
A61: 1.4.1.1. Intézményi gyermekétkeztetés bértámogatás | C61: 106.75 | D61: 2442000 | E61: 260683 | G61: 106.75 | H61: 2442000 | I61: 260683 | J61: 260683500
A62: 1.4.1.1. Intézményi gyermekétkeztetés kiegészítő bértámogatás a 8/2022. (I.14.) Korm.rendelet alapján | G62: 106.75 | H62: 258300 | I62: 27574 | J62: 27573525
A63: 1.4.1.2. Intézményi gyermekétkeztetés - üzemeltetési támogatás | E63: 372501 | I63: 548801 | J63: 548801225
A64: 1.4.2. Szünidei étkeztetés támogatása | C64: 1618 | D64: 285 | E64: 461 | G64: 1618 | H64: 285 | I64: 461 | J64: 461130
A65: 1.5. A települési önkormányzatok kulturális feladatainak támogatása
A66: 1.5.1. Megyei jogú városok közművelődési feladatainak támogatása | C66: 56177 | D66: 964 | E66: 54155 | G66: 56177 | H66: 964 | I66: 54155 | J66: 54154628
A67: 1.5.5. Megyei hatókörű városi könyvtár kistelepülési könyvtári célú kiegészítő támogatása | E67: 175476 | I67: 175476 | J67: 175476000
A68: 3. melléklet: Helyi önkormányzatok kiegészítő támogatásai
A69: 2.2.3. Óvodai és iskolai szociális segítő tevékenység támogatása | E69: 54509 | I69: 54509 | J69: 54508948
A70: 2. 2.22 Szociális ágazati összevont pótlék és egészségügyi kiegészítő pótlék | I70: 28072 | J70: 28072358
A71: 2.3.2.1. Megyei hatókörű városi múzeumok feladatainak támogatása (Göcseji Múzeum) | E71: 110200 | I71: 110200 | J71: 110200000
A72: 2.3.2.2. Megyei hatáskörű városi könyvtárak feladatainak támogatása (Deák Ferenc Megyei és Városi Könyvtár) | E72: 135000 | I72: 135000 | J72: 135000000
A73: Állami hozzájárulás összesen: | E73: =SUM(E5:E72) -> 4289558 | I73: =SUM(I5:I72) -> 4859310 | J73: =SUM(J5:J72) -> 4859310287

Sheet 4
A1: Rovat száma | B1: Megnevezés | C1: 2022. évi eredeti előirányzat | D1: Módosítás összege | E1: 2022. évi módosított előirányzat
B2: Költségvetési kiadások
A3: K1 | B3: Személyi juttatások | C3: 5672655 | D3: =0+táj2!G738 -> 1936 | E3: ='7'!D17 -> 5674591
A4: K2 | B4: Munkaadókat terhelő járulékok és szociális hj. adó | C4: 830638 | D4: =0+táj2!H738 -> -53 | E4: ='7'!E17 -> 830585
A5: K3 | B5: Dologi kiadások | C5: 10858867 | D5: =0+táj2!I738 -> 264858 | E5: ='7'!F17 -> 11123725
A6: K4 | B6: Ellátottak pénzbeli juttatásai | C6: 109160 | D6: =0+táj2!J738 -> -4984 | E6: ='7'!G17 -> 104176
A7: K5 | B7: Egyéb működési célú kiadások | C7: 4384017 | D7: =0+táj2!K738 -> 240001 | E7: ='7'!H17 -> 4624018
B8: Működési költségvetés összesen: | C8: 21855337 | D8: =SUM(D3:D7) -> 501758 | E8: =SUM(E3:E7) -> 22357095
A9: K6 | B9: Beruházások | C9: 24359973 | D9: =0+táj2!L738 -> -511273 | E9: ='7'!I17 -> 23848700
A10: K7 | B10: Felújítások | C10: 7019595 | D10: =0+táj2!M738 -> 260959 | E10: ='7'!J17 -> 7280554
A11: K8 | B11: Egyéb felhalmozási célú kiadások | C11: 121662 | D11: =0+táj2!N738 -> -490 | E11: ='7'!K17 -> 121172
B12: Felhalmozási költségvetés összesen: | C12: 31501230 | D12: =SUM(D9:D11) -> -250804 | E12: =SUM(E9:E11) -> 31250426
A13: K1-K8 | B13: Költségvetési kiadások összesen: | C13: 53356567 | D13: =SUM(D8+D12) -> 250954 | E13: =SUM(E8+E12) -> 53607521
A14: K9 | B14: Finanszírozási kiadások | C14: 10289434 | D14: =0+táj2!O738+táj2!P738 -> 0 | E14: ='7'!L17+'7'!M17 -> 10289434
B15: Önkormányzat kiadásai összesen | C15: 63646001 | D15: =SUM(D13:D14) -> 250954 | E15: =SUM(E13:E14) -> 63896955

Sheet 5
A1: Cím szám | B1: Alcím szám | C1: Megnevezés | D1: Költségvetési bevételek | K1: Finanszírozási bevételek | N1: Összesen
D2: Működési célú támogatások áht-n belülről | E2: Felhalmozási célú támogatások áht-n belülről | F2: Közhatalmi bevételek | G2: Működési bevételek | H2: Felhalmozási bevételek | I2: Működési célú átvett pénzeszközök | J2: Felhalmozási célú átvett pénzeszközök | K2: Hitel-, kölcsönfelvétel áht-n kívülről | L2: Maradvány igénybevétele | M2: Egyéb finanszírozási bevétel
A3: 1 | C3: Önkormányzat
B4: 12 | C4: Szociális és igazgatási feladatok | D4: ='6'!E8 -> 0 | E4: ='6'!F8 -> 0 | F4: ='6'!G8 -> 0 | G4: ='6'!H8 -> 9906 | H4: ='6'!I8 -> 0 | I4: ='6'!J8 -> 0 | J4: ='6'!K8 -> 0 | K4: ='6'!L8 -> 0 | ... M4: ='6'!N8 -> 0 | N4: =SUM(D4:M4) -> 9906
B5: 13 | C5: Humánigazgatási feladatok | D5: ='6'!E19 -> 400892 | E5: ='6'!F19 -> 4000 | F5: ='6'!G19 -> 0 | G5: ='6'!H19 -> 6007 | H5: ='6'!I19 -> 0 | I5: ='6'!J19 -> 0 | J5: ='6'!K19 -> 0 | K5: ='6'!L19 -> 0 | ... M5: ='6'!N19 -> 0 | N5: =SUM(D5:M5) -> 410899
B6: 14 | C6: Főépítészi feladatok | D6: ='6'!E24 -> 0 | E6: ='6'!F24 -> 0 | F6: ='6'!G24 -> 0 | G6: ='6'!H24 -> 5292 | H6: ='6'!I24 -> 0 | I6: ='6'!J24 -> 0 | J6: ='6'!K24 -> 0 | K6: ='6'!L24 -> 0 | ... M6: ='6'!N24 -> 0 | N6: =SUM(D6:M6) -> 11443
B7: 15 | C7: Városüzemelési felad. | D7: ='6'!E38 -> 0 | E7: ='6'!F38 -> 0 | F7: ='6'!G38 -> 0 | G7: ='6'!H38 -> 527719 | H7: ='6'!I38 -> 0 | I7: ='6'!J38 -> 0 | J7: ='6'!K38 -> 509 | K7: ='6'!L38 -> 0 | ... M7: ='6'!N38 -> 0 | N7: =SUM(D7:M7) -> 553970
B8: 16 | C8: Városépítészeti feladatok | D8: ='6'!E88 -> 1098894 | E8: ='6'!F88 -> 14606859 | F8: ='6'!G88 -> 0 | G8: ='6'!H88 -> 1974517 | H8: ='6'!I88 -> 0 | I8: ='6'!J88 -> 0 | J8: ='6'!K88 -> 0 | K8: ='6'!L88 -> 0 | ... M8: ='6'!N88 -> 11843960 | N8: =SUM(D8:M8) -> 34925087
B9: 17 | C9: Vagyonkez. feladatok | D9: ='6'!E117 -> 0 | E9: ='6'!F117 -> 0 | F9: ='6'!G117 -> 0 | G9: ='6'!H117 -> 703228 | H9: ='6'!I117 -> 95500 | I9: ='6'!J117 -> 0 | J9: ='6'!K117 -> 3000 | K9: ='6'!L117 -> 0 | ... M9: ='6'!N117 -> 110368 | N9: =SUM(D9:M9) -> 979189
B10: 18 | C10: Jogi és közig. feladatok | D10: ='6'!E126 -> 3278 | E10: ='6'!F126 -> 64913 | F10: ='6'!G126 -> 29000 | G10: ='6'!H126 -> 40766 | H10: ='6'!I126 -> 0 | I10: ='6'!J126 -> 0 | J10: ='6'!K126 -> 0 | K10: ='6'!L126 -> 0 | ... M10: ='6'!N126 -> 0 | N10: =SUM(D10:M10) -> 137957
B11: 19 | C11: Pénzügyi lebonyolítás | D11: ='6'!E152 -> 5390010 | E11: ='6'!F152 -> 0 | F11: ='6'!G152 -> 4960000 | G11: ='6'!H152 -> 109727 | H11: ='6'!I152 -> 0 | I11: ='6'!J152 -> 8700 | J11: ='6'!K152 -> 500 | K11: ='6'!L152 -> 0 | ... M11: ='6'!N152 -> 11755000 | N11: =SUM(D11:M11) -> 23613733
B12: 22 | C12: Polgármesteri Kabinet | D12: ='6'!E156 -> 0 | E12: ='6'!F156 -> 0 | F12: ='6'!G156 -> 0 | G12: ='6'!H156 -> 0 | H12: ='6'!I156 -> 4840 | I12: ='6'!J156 -> 0 | J12: ='6'!K156 -> 0 | K12: ='6'!L156 -> 0 | ... M12: ='6'!N156 -> 0 | N12: =SUM(D12:M12) -> 4840
C13: Önkormányzat összesen költségvetési szervek nélkül | D13: =SUM(D4:D12) -> 6893074 | E13: =SUM(E4:E12) -> 14675772 | F13: =SUM(F4:F12) -> 4989000 | G13: =SUM(G4:G12) -> 3377162 | H13: =SUM(H4:H12) -> 100340 | I13: =SUM(I4:I12) -> 8700 | J13: =SUM(J4:J12) -> 4009 | K13: =SUM(K4:K12) -> 0 | ... M13: =SUM(M4:M12) -> 23709328 | N13: =SUM(D13:M13) -> 60647024
A14: 2 | C14: Költségvetési szervek | D14: ='9'!F22 -> 1110080 | E14: ='9'!G22 -> 0 | F14: ='9'!H22 -> 0 | G14: ='9'!I22 -> 1536389 | H14: ='9'!J22 -> 0 | I14: ='9'!K22 -> 0 | J14: ='9'!L22 -> 0 | K14: ='6'!L158 -> 0 | L14: ='9'!M22 -> 603462 | M14: ='6'!N158 -> 0 | N14: =SUM(D14:M14) -> 3249931
C15: Önkormányzat összesen: | D15: =SUM(D13:D14) -> 8003154 | E15: =SUM(E13:E14) -> 14675772 | F15: =SUM(F13:F14) -> 4989000 | G15: =SUM(G13:G14) -> 4913551 | H15: =SUM(H13:H14) -> 100340 | I15: =SUM(I13:I14) -> 8700 | J15: =SUM(J13:J14) -> 4009 | K15: =SUM(K13:K14) -> 0 | ... M15: =SUM(M13:M14) -> 23709328 | N15: =SUM(D15:M15) -> 63896955

Sheet 6
A1: Cím szám | B1: Alcím szám | C1: Megnevezés | D1: Tervezési alapegység | E1: Költségvetési bevételek | L1: Finanszírozási bevételek | O1: Összesen:
E2: Működési célú támogatások áht-n belülről | F2: Felhalmozási célú támogatások áht-n belülről | G2: Közhatalmi bevételek | H2: Működési bevételek | I2: Felhalmozási bevételek | J2: Működési célú átvett pénzeszközök | K2: Felhalmozási célú átvett pénzeszközök | L2: Hitel-, kölcsönfelvétel áht-n kívülről | M2: Maradvány igénybevétele | N2: Egyéb finanszírozási bevétel
A3: 1 | C3: Önkormányzat
A4: 1 | B4: 1 | C4: Szakosztályok
A5: 1 | B5: 12 | C5: Szociális és igazgatási feladatok
C6: 011130 Önkorm. és önkorm. hivatal. jogalk. és ált.ig.tev.
C7: - Egerszeg kártya értékesítés | D7: 221 902 | H7: =9906+táj1!H7 -> 9906 | O7: =SUM(H7:N7) -> 9906
C8: Szociális és igazgatási feladatok összesen: | E8: =SUM(E5:E7) -> 0 | F8: =SUM(F5:F7) -> 0 | G8: =SUM(G5:G7) -> 0 | H8: =SUM(H5:H7) -> 9906 | I8: =SUM(I5:I7) -> 0 | J8: =SUM(J5:J7) -> 0 | K8: =SUM(K5:K7) -> 0 | N8: =SUM(N7:N7) -> 0 | O8: =SUM(O7:O7) -> 9906
A9: 1 | B9: 13 | C9: Humánigazgatási feladatok
C10: 072112 Háziorvosi ügyeleti ellátás
C11: - körzeti orvosi ügyelet fenntartásához községek hozzájárulása | D11: 131705 | E11: =47392+táj1!E11 -> 47392 | O11: =SUM(E11:N11) -> 47392
C12: 101211 Fogyatékossággal élők tartós bentlakásos ellátása
C13: - Református Egyház által fizetendő bérleti díj | D13: 131703 | H13: =6007+táj1!H13 -> 6007 | O13: =SUM(E13:N13) -> 6007
C14: 013350 Önk-i vagyonnal való gazdálkodáshoz kapcs.fa. | O14: =SUM(E14:N14) -> 0
C15: - Czobor Mátyás mellszobor felállításához támogatás | D15: 132940 | F15: =0+táj1!F15 -> 4000 | O15: =SUM(E15:N15) -> 4000
C16: 018030 Támogatási célú finanszírozási műveletek
C17: - Hevesi Sándor Színház társműködtetöi támogatás | D17: 131508 | E17: =288500+táj1!E17 -> 288500 | O17: =SUM(E17:N17) -> 288500
C18: - Griff Bábszínház társműködtetöi támogatás | D18: 131509 | E18: =65000+táj1!E18 -> 65000 | O18: =SUM(E18:N18) -> 65000
C19: Humánigazgatási feladatok összesen: | E19: =SUM(E11:E18) -> 400892 | F19: =SUM(F11:F18) -> 4000 | G19: =SUM(G11:G18) -> 0 | H19: =SUM(H11:H18) -> 6007 | I19: =SUM(I11:I18) -> 0 | J19: =SUM(J11:J18) -> 0 | K19: =SUM(K11:K18) -> 0 | L19: =SUM(L11:L18) -> 0 | ... O19: =SUM(O11:O18) -> 410899
A20: 1 | B20: 14 | C20: Főépítészi feladatok
C21: 013350 Önk-i vagyonnal való gazdálkodáshoz kapcs.fa.
C22: - belterületbe vonással kapcsolatos bevétel | D22: 171967 | H22: =5080+táj1!H22 -> 5292 | O22: =SUM(E22:N22) -> 5292
C23: - Helyi építészeti értékek védelme | D23: 164903 | M23: =6151+táj1!M23 -> 6151 | O23: =SUM(E23:N23) -> 6151
C24: Főépítészi feladatok összesen: | H24: =SUM(H22:H23) -> 5292 | I24: =SUM(I22:I23) -> 0 | J24: =SUM(J22:J23) -> 0 | K24: =SUM(K22:K23) -> 0 | L24: =SUM(L22:L23) -> 0 | M24: =SUM(M22:M23) -> 6151 | N24: =SUM(N22:N23) -> 0 | O24: =SUM(O22:O23) -> 11443
A25: 1 | B25: 15 | C25: Városüzemelési feladatok
C26: 081061 Szabadidős park, fürdő és strandszolgáltatás
C27: - Gébárti fürdő lét. üzemelt. (Termál és Tóstrand) | D27: 151906 | H27: =39277+táj1!H27 -> 39277 | O27: =SUM(E27:N27) -> 39277
C28: - Aquapark üzemeltetés | D28: 151 907 | H28: =175260+táj1!H28 -> 175260 | O28: =SUM(E28:N28) -> 175260
C29: - ZG3 kút üzemeltetése | D29: 151 915 | H29: =2667+táj1!H29 -> 2667 | O29: =SUM(E29:N29) -> 2667
C30: 066010 Zöldterület kezelés
C31: - fa értékesítés bevétele | D31: 152 908 | H31: =3810+táj1!H31 -> 3810 | O31: =SUM(E31:N31) -> 3810
C32: - haszonbérleti szerződések, kishaszonbérlet | D32: 151506 | H32: =1905+táj1!H32 -> 1905 | O32: =SUM(E32:N32) -> 1905
C33: - környezetvéd.alap feltöltése | D33: 151607 | M33: =25742+táj1!M33 -> 25742 | O33: =SUM(E33:N33) -> 25742
C34: 045170 Parkoló, garázs üzemeltetése, fenntartása
C35: - parkolási közszolgáltatási tevékenység ellátásával kapcsolatos bevétel | D35: 151 910 | H35: =304800+táj1!H35 -> 304800 | O35: =SUM(E35:N35) -> 304800
C36: 045120 Út, autópálya építése
C37: - Göcseji u. 49.sz.társasház déli oldali járda | D37: 155460 | K37: =0+táj1!K37 -> 509 | O37: =SUM(E37:N37) -> 509
C38: Városüzemelési feladatok összesen: | E38: =SUM(E26:E37) -> 0 | F38: =SUM(F26:F37) -> 0 | G38: =SUM(G26:G37) -> 0 | H38: =SUM(H26:H37) -> 527719 | I38: =SUM(I26:I37) -> 0 | J38: =SUM(J26:J37) -> 0 | K38: =SUM(K26:K37) -> 509 | L38: =SUM(L26:L37) -> 0 | ... O38: =SUM(O26:O37) -> 553970
A39: 1 | B39: 16. | C39: Városépítészeti feladatok
C40: 052020 Szennyvíz gyűjtése, tisztítása, elhelyezése
C41: - ZALAVÍZ Zrt. nem vÍziközmű után fizetendő bérleti díj | D41: 161909 | H41: =34590+táj1!H41 -> 34590 | O41: =SUM(E41:N41) -> 34590
C42: - szennyvíz vagyon használati díja és Áfa visszaig. | D42: 164106 | H42: =523839+táj1!H42 -> 523839 | M42: =49165+táj1!M42 -> 49165 | O42: =SUM(E42:N42) -> 573004
C43: - ivóvíz vagyon használati díja és Áfa visszaig.+ KIEFO | D43: 164204 | H43: =179306+táj1!H43 -> 179306 | M43: =28607+táj1!M43 -> 28607 | O43: =SUM(E43:N43) -> 207913
C44: - Zalaegerszeg keleti vízbázisról ellátott települések ívóvízminőségének javítása KEHOP projekt | D44: 164205 | E44: =0+táj1!E44 -> 4455 | F44: =162723+táj1!F44 -> 158268 | H44: =41964+táj1!H44 -> 41964 | M44: =79403+táj1!M44 -> 79403 | O44: =SUM(E44:N44) -> 284090
C45: - Zalaegerszeg nyugati vízbázisról ellátott települések ívóvízminőségének javítása KEHOP projekt | D45: 164206 | E45: =635+táj1!E45 -> 635 | F45: =2181+táj1!F45 -> 2181 | H45: =0+táj1!H45 -> 0 | M45: =135+táj1!M45 -> 135 | O45: =SUM(E45:N45) -> 2951
C46: - VÁRA-ÉMI 2020-001 Szennyvíz Gépészet Projekt | D46: 164109 | F46: =63910+táj1!F46 -> 63910 | H46: =24651+táj1!H46 -> 24651 | O46: =SUM(E46:N46) -> 88561
C47: - KEHOP 2.1.11-21-2021-00002 Ivóvízhálózatok és szennyvízhálózatok hatékonyságnövelő fejlesztése | D47: 164207 | F47: =471765+táj1!F47 -> 471765 | H47: =181966+táj1!H47 -> 181966 | O47: =SUM(E47:N47) -> 653731
C48: 013350 Önk-i vagyonnal való gazdálkodáshoz kapcs. fa.
C49: - ELENA programhoz önerő és bérfedezet megtérülése | D49: 162695 | E49: =1600+táj1!E49 -> 1600 | O49: =SUM(E49:N49) -> 1600
C50: - EcoSmartCities Interreg HU-HR projekt | D50: 162607 | M50: =5095+táj1!M50 -> 5095 | O50: =SUM(E50:N50) -> 5095
C51: - Hotelfejlesztés engedélyes és kiviteli terveinek elkészítéséhez támogatás | D51: 162640 | M51: =137601+táj1!M51 -> 137601 | O51: =SUM(E51:N51) -> 137601
C52: - TOP-6.1.4-15-ZL1-2016-00002 Zalaegerszegi Göcseji Falumúzeum fejlesztése | D52: 163606 | E52: =13815+táj1!E52 -> 13815 | F52: =33971+táj1!F52 -> 33971 | O52: =SUM(E52:N52) -> 47786
C53: - TOP-6.4.1-15-ZL1-2016-00001 Gyalogos és kerékpárosbarát belváros közlekedési feltételeinek megteremtése Zalaegerszegen hivatásforgalmi kerékpárutak fejlesztésével és a Kosztolányi Dezső út kétirányúsításával | D53: 163607 | M53: =527824+táj1!M53 -> 527824 | O53: =SUM(E53:N53) -> 527824
C54: - TOP-6.1.4 -15-ZL1-2016-00003 Zöld Zala-part Turisztikai célú kerékpárút fejlesztés a Zala Mentén és Gébárton | D54: 163608 | F54: =140536+táj1!F54 -> 140536 | M54: =467164+táj1!M54 -> 467164 | O54: =SUM(E54:N54) -> 607700
C55: - TOP-6.1.5-15-ZL1-2016-00001 Ipari területeket feltáró utak kialakítása Zalaegerszegen | D55: 163609 | F55: =38040+táj1!F55 -> 38040 | M55: =159501+táj1!M55 -> 159501 | O55: =SUM(E55:N55) -> 197541
C56: - TOP-6.3.2-15-ZL1-2016-00002 Gébárti-tó és környékének rekreációs, szabadidős használatát elősegítő infrastruktúra kialakítása | D56: 163611 | M56: =140004+táj1!M56 -> 140004 | O56: =SUM(E56:N56) -> 140004
C57: - TOP-6.1.1-15-ZL1-2016-00001 Zalaegerszeg Északi Ipari Park feltárása és közművekkel való ellátása (részben nettó) | D57: 163612 | M57: =14360+táj1!M57 -> 14360 | O57: =SUM(E57:N57) -> 14360
C58: - TOP-6.1.3 -15-ZL1-2016-00001 Helyi termelői és kézműves piac kialakítása Zalaegerszegen ( nettó) | D58: 163613 | H58: =2994+táj1!H58 -> 2649 | M58: =11092+táj1!M58 -> 9816 | O58: =SUM(E58:N58) -> 12465
C59: - TOP-6.1.4-15-ZL1-2016-00001 "Zalaegerszeg turisztikai vonzerejének növelése a " SMART City" eszközrendszerével" | D59: 163614 | M59: =10677+táj1!M59 -> 10677 | O59: =SUM(E59:N59) -> 10677
C60: - TOP-6.3.2-15-ZL1-2016-00003 Városi terek élhetőbbé tétele - Vizslapark rekonstrukció | D60: 163616 | M60: =31299+táj1!M60 -> 31299 | O60: =SUM(E60:N60) -> 31299
C61: - TOP 6.5.1-15-ZL1-2016-0004 Landorhegyi Sportiskolai Általános Iskola energetikai korszerűsítése | D61: 163623 | M61: =2908+táj1!M61 -> 2908 | O61: =SUM(E61:N61) -> 2908
C62: -TOP-6.1.1-16 Zalaegerszegi Logisztikai Központ létrehozása (nettó fin.) | D62: 163625 | F62: =588000+táj1!F62 -> 588000 | M62: =493124+táj1!M62 -> 493124 | O62: =SUM(E62:N62) -> 1081124
C63: - TOP-6.1.2-16-ZL1-2017-00001 Inkubátorház bővítés Zalaegerszegen-III.ütem | D63: 163626 | H63: =338+táj1!H63 -> 338 | M63: =16176+táj1!M63 -> 16176 | O63: =SUM(E63:N63) -> 16514
C64: - TOP-6.1.4--16-ZL1-2017-00002 Göcseji Múzeum épületének felújítása és kiállító tereinek fejlesztése | D64: 163627 | F64: =2806+táj1!F64 -> 2806 | M64: =162459+táj1!M64 -> 162459 | O64: =SUM(E64:N64) -> 165265
C65: - TOP-6.1.1-16-ZL1-2017-00001 Üzemcsarnok építés a Zalaegerszeg 4815/6 hrsz-ú ingatlanon | D65: 163628 | H65: =1944+táj1!H65 -> 1944 | M65: =3390+táj1!M65 -> 3390 | O65: =SUM(E65:N65) -> 5334
C66: - TOP 6.1.4-16-ZL1-2017-00001 Alsóerdő komplex turisztikai fejlesztése | D66: 163629 | H66: =7689+táj1!H66 -> 7689 | M66: =35267+táj1!M66 -> 35267 | O66: =SUM(E66:N66) -> 42956
C67: - TOP 6.9.2-16-ZL1-2017-00001 A helyi identitás és kohézió erősítésének megteremtése Zalaegerszegen | D67: 163633 | M67: =100851+táj1!M67 -> 100851 | O67: =SUM(E67:N67) -> 100851
C68: - TOP-6.1.4-16-ZL1-2017-00003 Helyi termelői és kézműves piac kialakítása Zalaegerszegen - Göcsej Tudásközpont (nettó fiansz.) | D68: 163637 | H68: =16887+táj1!H68 -> 17232 | M68: =62545+táj1!M68 -> 63821 | O68: =SUM(E68:N68) -> 81053
C69: - TOP-6.5.1-16-ZL1-2017-00001 Liszt F.tagiskola energetikai korszerűsítése | D69: 163638 | M69: =4493+táj1!M69 -> 4493 | O69: =SUM(E69:N69) -> 4493
C70: - TOP-6.5.1-16-ZL1-2017-00005 Petőfi S. Székhelyiskola energetikai korszerűsítése | D70: 163639 | E70: =718+táj1!E70 -> 718 | M70: =3043+táj1!M70 -> 3043 | O70: =SUM(E70:N70) -> 3761
C71: - TOP-6.5.1-16-ZL1-2017-00006 Dózsa Gy. tagiskola energetikai korszerűsítése | D71: 163640 | M71: =1661+táj1!M71 -> 1661 | O71: =SUM(E71:N71) -> 1661
C72: -TOP-7.1.1-16-H-ESZA-2019-01185 Interaktív történelmi séták Zalaegerszegen | D72: 163648 | M72: =189+táj1!M72 -> 189 | O72: =SUM(E72:N72) -> 189
C73: - TOP-6.3.2-15-ZL1-2020-00004 "A Gébárti-tó és környékének rekreációs, szabadidős használatát elősegítő infrastruktúra kialakítása II. ütem " | D73: 163652 | M73: =255898+táj1!M73 -> 255898 | O73: =SUM(E73:N73) -> 255898
C74: - TOP-6.4.1-15-ZL1-2020-00002 Fenntartható közlekedésfejlesztési beavatkozások a belváros keleti kapujában (Tesco körforgalom) | D74: 163653 | M74: =758777+táj1!M74 -> 758777 | O74: =SUM(E74:N74) -> 758777
C75: - Mindszenty Múzeum és Zarándokközpont fejlesztése, zalaegerszegi "Mindszenty Út" megvalósítása MVP | D75: 163621 | H75: =3945+táj1!H75 -> 9901 | M75: =827668+táj1!M75 -> 827668 | N75: =4329000+táj1!N75 -> 4329000 | O75: =SUM(E75:N75) -> 5166569
C76: - Uszoda tervezés és megvalósítás MVP támogatásból | D76: 162687 | H76: =167944+táj1!H76 -> 167944 | M76: =615849+táj1!M76 -> 615849 | O76: =SUM(E76:N76) -> 783793
C77: - Alsóerdei Sport- és Rekreációs Központ fejlesztése MVP támogatással | D77: 163702 | H77: =299924+táj1!H77 -> 299924 | M77: =18803+táj1!M77 -> 18803 | N77: =1092900+táj1!N77 -> 1092900 | O77: =SUM(E77:N77) -> 1411627
C78: - Hevesi Sándor Színház felújítás és korszerűsítés előkészítése MVP | D78: 163641 | M78: =494+táj1!M78 -> 494 | O78: =SUM(E78:N78) -> 494
C79: - Új városi multifunkciós rendezvény- és sportcsarnok MVP projekt keretében | D79: 163644 | M79: =221147+táj1!M79 -> 221147 | O79: =SUM(E79:N79) -> 221147
C80: - Modern Városok Program keretében tervezett közúthálózat és kapcsolódó tereinek fejlesztései | D80: 163650 | E80: =0+táj1!E80 -> 700351 | F80: =5839220+táj1!F80 -> 5138869 | H80: =0+táj1!H80 -> 9807 | M80: =102949+táj1!M80 -> 102949 | N80: =6422060+táj1!N80 -> 6422060 | O80: =SUM(E80:N80) -> 12374036
C81: - KEHOP-5.4.1-16-2016-00433 Szemléletformálási programok | D81: 163643 | M81: =4471+táj1!M81 -> 4471 | O81: =SUM(E81:N81) -> 4471
C82: - KEHOP-1.2.1-18-2018-00024 ZMJV helyi klímastratégiájának kidolgozása, helyi klímatudatosságot erősítő szemléletformálás | D82: 163645 | M82: =7222+táj1!M82 -> 7222 | O82: =SUM(E82:N82) -> 7222
C83: - Északi Ipari park infrastuktúra fejlesztésével összefüggő közműfejlesztések és közműcsatlakozások | D83: 163654,163659,163660,163661 | E83: =0+táj1!E83 -> 348405 | F83: =8350000+táj1!F83 -> 7882788 | H83: =342165+táj1!H83 -> 463505 | O83: =SUM(E83:N83) -> 8694698
C84: - "Infrastrukturális fejlesztések Zalaegerszegen" | D84: 162630 | M84: =2293+táj1!M84 -> 2293 | O84: =SUM(E84:N84) -> 2293
C85: - "Zöld busz mintaprojekt" | D85: 163651 | M85: =37253+táj1!M85 -> 37253 | O85: =SUM(E85:N85) -> 37253
C86: - Zalaréti Kastély rendezvényközpont felújításának előkészítési munkálatai | D86: 163656 | E86: =28915+táj1!E86 -> 28915 | F86: =85725+táj1!F86 -> 85725 | O86: =SUM(E86:N86) -> 114640
C87: - egyéb létesítményi működési bevételek | D87: 161908 | H87: =0+táj1!H87 -> 7268 | O87: =SUM(E87:N87) -> 7268
C88: Városépítészeti feladatok összesen: | E88: =SUM(E40:E87) -> 1098894 | F88: =SUM(F40:F87) -> 14606859 | G88: =SUM(G40:G87) -> 0 | H88: =SUM(H40:H87) -> 1974517 | I88: =SUM(I40:I87) -> 0 | J88: =SUM(J40:J87) -> 0 | K88: =SUM(K40:K87) -> 0 | L88: =SUM(L40:L87) -> 0 | ... O88: =SUM(O40:O87) -> 34925087
A89: 1 | B89: 17 | C89: Vagyonkezelési feladatok
C90: 013350 Önk-i vagyonnal való gazdálkodáshoz kapcs. fa.
C91: - ingatlaneladás | D91: 171907 | I91: =69500+táj1!I91 -> 69500 | O91: =SUM(E91:N91) -> 69500
C92: - ingatlaneladás Városfejlesztő Zrt. bonyolításában | D92: 171923 | I92: =26000+táj1!I92 -> 26000 | O92: =SUM(E92:N92) -> 26000
C93: -Reptér Drónmotive projekthez kapcsolódó bevétel | D93: 171983 | H93: =180000+táj1!H93 -> 180000 | O93: =SUM(E93:N93) -> 180000
C94: 106010 Lakóingatl. szoc.célú bérbeadása, üzemeltetése
C95: - LÉSZ bérlemény üzemeltetés bevétele | D95: 171980 | H95: =48260+táj1!H95 -> 48260 | O95: =SUM(E95:N95) -> 48260
C96: 013350 Önk-i vagyonnal való gazdálkodáshoz kapcs. fa.
C97: - egyéb ingatlanhasznosítás (nem lakáscélú helyiségek bérl.díja) | D97: 171905 | H97: =71755+táj1!H97 -> 71755 | O97: =SUM(E97:N97) -> 71755
C98: - Inkubátorház bérleti díja | D98: 171909 | H98: =19812+táj1!H98 -> 19812 | O98: =SUM(E98:N98) -> 19812
C99: - volt laktanyával kapcsolatos bevétel | D99: 171904 | H99: =2000+táj1!H99 -> 2000 | O99: =SUM(E99:N99) -> 2000
C100: - tesztpálya területének bérleti díja | D100: 172909 | H100: =105900+táj1!H100 -> 105900 | O100: =SUM(E100:N100) -> 105900
...

Sheet 7
A1: Cím szám | B1: Alcím szám | C1: Megnevezés | D1: Költségvetési kiadások | L1: Finanszírozási kiadások | N1: Kiadások összesen
D2: Személyi juttatások | E2: Munkaadókat terhelő járulékok és szociális hj.adó | F2: Dologi kiadások | G2: Ellátottak pénzbeli juttatásai | H2: Egyéb működési célú kiadások | I2: Beruházások | J2: Felújítások | K2: Egyéb felhalmo-zási célú kiadások | L2: Hitel-, kölcsöntör-lesztés áht-n kívülre | M2: Egyéb finanszírozási kiadás
A3: 1 | C3: Önkormányzat
A4: 1 | B4: 1 | C4: Szakosztályok
B5: 12 | C5: Szociális és igazgatási feladatok | D5: ='8'!G46 -> 150 | E5: ='8'!H46 -> 4750 | F5: ='8'!I46 -> 32914 | G5: ='8'!J46 -> 90976 | H5: ='8'!K46 -> 3100 | I5: ='8'!L46 -> 0 | J5: ='8'!M46 -> 0 | K5: ='8'!N46 -> 27219 | ... M5: ='8'!P46 -> 0 | N5: =SUM(D5:M5) -> 159109
B6: 13 | C6: Humánigazgatási feladatok | D6: ='8'!G219 -> 4405 | E6: ='8'!H219 -> 1494 | F6: ='8'!I219 -> 53023 | G6: ='8'!J219 -> 6100 | H6: ='8'!K219 -> 1340909 | I6: ='8'!L219 -> 83038 | J6: ='8'!M219 -> 56665 | K6: ='8'!N219 -> 21650 | ... M6: ='8'!P219 -> 0 | N6: =SUM(D6:M6) -> 1567284
B7: 14 | C7: Főépítészi feladatok | D7: ='8'!G231 -> 0 | E7: ='8'!H231 -> 0 | F7: ='8'!I231 -> 8842 | G7: ='8'!J231 -> 0 | H7: ='8'!K231 -> 0 | I7: ='8'!L231 -> 19903 | J7: ='8'!M231 -> 0 | K7: ='8'!N231 -> 6151 | ... M7: ='8'!P231 -> 0 | N7: =SUM(D7:M7) -> 34896
B8: 15 | C8: Városüzemelési feladatok | D8: ='8'!G459 -> 8930 | E8: ='8'!H459 -> 1200 | F8: ='8'!I459 -> 1973676 | G8: ='8'!J459 -> 0 | H8: ='8'!K459 -> 637320 | I8: ='8'!L459 -> 250793 | J8: ='8'!M459 -> 246903 | K8: ='8'!N459 -> 2000 | ... M8: ='8'!P459 -> 0 | N8: =SUM(D8:M8) -> 3120822
B9: 16 | C9: Városépítészeti feladatok | D9: ='8'!G594 -> 34044 | E9: ='8'!H594 -> 6879 | F9: ='8'!I594 -> 5282800 | G9: ='8'!J594 -> 0 | H9: ='8'!K594 -> 3650 | I9: ='8'!L594 -> 23161908 | J9: ='8'!M594 -> 6956586 | K9: ='8'!N594 -> 8435 | ... M9: ='8'!P594 -> 0 | N9: =SUM(D9:M9) -> 35454302
B10: 17 | C10: Vagyonkezelési feladatok | D10: ='8'!G616 -> 0 | E10: ='8'!H616 -> 0 | F10: ='8'!I616 -> 83793 | G10: ='8'!J616 -> 0 | H10: ='8'!K616 -> 0 | I10: ='8'!L616 -> 31043 | J10: ='8'!M616 -> 0 | K10: ='8'!N616 -> 38000 | ... M10: ='8'!P616 -> 0 | N10: =SUM(D10:M10) -> 152836
B11: 18 | C11: Jogi és közig.feladatok | D11: ='8'!G641 -> 176407 | E11: ='8'!H641 -> 23863 | F11: ='8'!I641 -> 87905 | G11: ='8'!J641 -> 0 | H11: ='8'!K641 -> 6500 | I11: ='8'!L641 -> 72155 | J11: ='8'!M641 -> 9525 | K11: ='8'!N641 -> 0 | ... M11: ='8'!P641 -> 0 | N11: =SUM(D11:M11) -> 376355
B12: 19 | C12: Pénzügyi lebonyolítás | D12: ='8'!G668 -> 0 | E12: ='8'!H668 -> 0 | F12: ='8'!I668 -> 430873 | G12: ='8'!J668 -> 0 | H12: ='8'!K668 -> 1526659 | I12: ='8'!L668 -> 0 | J12: ='8'!M668 -> 0 | K12: ='8'!N668 -> 6617 | ... M12: ='8'!P668 -> 10171582 | N12: =SUM(D12:M12) -> 12253583
B13: 22 | C13: Polgármesteri Kabinet kiadásai | D13: ='8'!G721 -> 37195 | E13: ='8'!H721 -> 13001 | F13: ='8'!I721 -> 199038 | G13: ='8'!J721 -> 0 | H13: ='8'!K721 -> 342595 | I13: ='8'!L721 -> 13000 | J13: ='8'!M721 -> 0 | K13: ='8'!N721 -> 11100 | ... M13: ='8'!P721 -> 0 | N13: =SUM(D13:M13) -> 615929
B14: 30 | C14: Tartalékok | D14: ='8'!G735 -> 0 | E14: ='8'!H735 -> 0 | F14: ='8'!I735 -> 0 | G14: ='8'!J735 -> 0 | H14: ='8'!K735 -> 714842 | I14: ='8'!L735 -> 11032 | J14: ='8'!M735 -> 9680 | K14: ='8'!N735 -> 0 | ... M14: ='8'!P735 -> 0 | N14: =SUM(D14:M14) -> 735554
C15: Önkormányzat összesen költségvetési szervek nélkül | D15: =SUM(D3:D14) -> 261131 | E15: =SUM(E3:E14) -> 51187 | F15: =SUM(F5:F14) -> 8152864 | G15: =SUM(G5:G14) -> 97076 | H15: =SUM(H5:H14) -> 4575575 | I15: =SUM(I5:I14) -> 23642872 | J15: =SUM(J5:J14) -> 7279359 | K15: =SUM(K5:K14) -> 121172 | L15: =SUM(L5:L14) -> 117852 | M15: =SUM(M5:M14) -> 10171582 | N15: =SUM(N5:N14) -> 54470670
A16: 2 | C16: Költségvetési szervek | D16: ='10'!F22 -> 5413460 | E16: ='10'!G22 -> 779398 | F16: ='10'!H22 -> 2970861 | G16: ='10'!I22 -> 7100 | H16: ='10'!J22 -> 48443 | I16: ='10'!K22 -> 205828 | J16: ='10'!L22 -> 1195 | K16: ='10'!M22 -> 0 | N16: =SUM(D16:M16) -> 9426285
C17: Önkormányzat összesen: | D17: =SUM(D15:D16) -> 5674591 | E17: =SUM(E15:E16) -> 830585 | F17: =SUM(F15:F16) -> 11123725 | G17: =SUM(G15:G16) -> 104176 | H17: =SUM(H15:H16) -> 4624018 | I17: =SUM(I15:I16) -> 23848700 | J17: =SUM(J15:J16) -> 7280554 | K17: =SUM(K15:K16) -> 121172 | ... N17: =SUM(N15:N16) -> 63896955

Sheet 8
A1: Cím szám | B1: Alcím szám | C1: Sorszám | D1: Megnevezés | E1: feladat jellege | F1: Tervezési alapegység | G1: Költségvetési kiadások | O1: Finanszírozási kiadások | Q1: Kiadás összesen
G2: Személyi juttatások | H2: Munkaadókat terhelő járulékok és szociális hj.adó | I2: Dologi kiadások | J2: Ellátottak pénzbeli juttatásai | K2: Egyéb működési célú kiadások | L2: Beruházások | M2: Felújítások | N2: Egyéb felhalmo-zási célú kiadások | O2: Hitel-, kölcsöntör-lesztés áht-n kívülre | P2: Egyéb finanszírozási kiadás
A3: 1 | D3: Önkormányzat
A4: 1 | B4: 1 | D4: Szakosztályok
A5: 1 | B5: 12 | D5: Szociális és igazgatási feladatok
D6: 105010 Munkanélküli aktív korúak ellátásai
D7: - megélhetési támogatás | E7: 2 | F7: 121103 | J7: =6000+táj2!J7 -> 6000 | Q7: =SUM(G7:P7) -> 6000
D8: 106020 Lakásfenntartással, lakhatással összefüggő ellátások
D9: - lakásfenntartási segély | E9: 2 | F9: 121104 | J9: =20000+táj2!J9 -> 20000 | Q9: =SUM(G9:P9) -> 20000
D10: - önkormányzati bérlakásban élők lakásfenntartási segélye Lakásalapból | E10: 2 | F10: 121117 | J10: =9000+táj2!J10 -> 9000 | Q10: =SUM(G10:P10) -> 9000
D11: 107060 Egyéb szociális pénzbeli ellátások, támogatások
D12: - gyermekétkeztetési támogatás | E12: 2 | F12: 121111 | J12: =2000+táj2!J12 -> 2000 | Q12: =SUM(G12:P12) -> 2000
D13: - átmeneti segély | E13: 2 | F13: 121127 | J13: =4000+táj2!J13 -> 4000 | Q13: =SUM(G13:P13) -> 4000
D14: - egyszeri nevelési támogatás | E14: 2 | F14: 121115 | J14: =700+táj2!J14 -> 700 | Q14: =SUM(G14:P14) -> 700
D15: - szociális krízis alap | E15: 2 | F15: 121129 | J15: =3600+táj2!J15 -> 3600 | Q15: =SUM(G15:P15) -> 3600
D16: - tüzifa támogatás | E16: 2 | F16: 121106 | J16: =2400+táj2!J16 -> 2400 | Q16: =SUM(G16:P16) -> 2400
D17: 103010 Elhunyt személyek hátramaradottainak pénzbeli ellátása
D18: - temetési segély | E18: 2 | F18: 121131 | J18: =2000+táj2!J18 -> 2000 | Q18: =SUM(G18:P18) -> 2000
D19: 106020 Lakásfenntartással, lakhatással összefüggő ellátások
D20: - lakhatási krízis alap Lakásalapból | E20: 2 | F20: 121130 | J20: =1000+táj2!J20 -> 1000 | Q20: =SUM(G20:P20) -> 1000
D21: 107060 Egyéb szociális pénzbeli ellátások, támogatások
D22: - gyógyszertámogatás | E22: 1 | F22: 121204 | J22: =14000+táj2!J22 -> 14000 | Q22: =SUM(G22:P22) -> 14000
D23: - gyógyászati segédeszköz támogatás | E23: 1 | F23: 121132 | J23: =250+táj2!J23 -> 250 | Q23: =SUM(G23:P23) -> 250
D24: - köztemetés | E24: 1 | F24: 121203 | I24: =780+táj2!I24 -> 780 | J24: =5720+táj2!J24 -> 5720 | Q24: =SUM(G24:P24) -> 6500
D25: 094260 Hallgatói és oktatói ösztöndíjak, egyéb juttatások
D26: - Bursa Hungarica ösztöndíj | E26: 2 | F26: 121504 | J26: =4000+táj2!J26 -> 4000 | Q26: =SUM(G26:P26) -> 4000
D27: 061030 Lakáshoz jutást segítő támogatások
D28: - lakásgazdálkodási feladatokra | E28: 1 | F28: 121403 | I28: =50+táj2!I28 -> 50 | Q28: =SUM(G28:P28) -> 50
D29: 104042 Család- és gyermekjóléti szolgálat
D30: - Családsegítő Szolgálathoz krízissegélyezés | E30: 1 | F30: 121301 | J30: =2500+táj2!J30 -> 0 | Q30: =SUM(G30:P30) -> 0
D31: 011130 Önkorm. és önkorm. hivatal. jogalk. és ált.ig.tev.
D32: - Egerszegkártya | E32: 2 | F32: 221902 | I32: =31084+táj2!I32 -> 31084 | Q32: =SUM(G32:P32) -> 31084
D33: - Nemzedékek kézfogása | E33: 2 | F33: 22190** | H33: =4700+táj2!H33 -> 4700 | I33: =300+táj2!I33 -> 300 | J33: =16306+táj2!J33 -> 16306 | Q33: =SUM(G33:P33) -> 21306
D34: - bírtokvédelmi költség megelőlegezés | E34: 1 | F34: 121118 | I34: =300+táj2!I34 -> 300 | Q34: =SUM(G34:P34) -> 300
D35: - talált tárgyak felértékeltetése | E35: 1 | F35: 121515 | I35: =200+táj2!I35 -> 200 | Q35: =SUM(G35:P35) -> 200
D36: 032020 Tűz- és katasztrófavéd. tevékenység
D37: - helyi védelmi igazgatás | E37: 1 | F37: 121601 | G37: =150+táj2!G37 -> 150 | H37: =50+táj2!H37 -> 50 | I37: =200+táj2!I37 -> 200 | K37: =100+táj2!K37 -> 100 | Q37: =SUM(G37:P37) -> 500
D38: 109010 Szociális szolgáltatás igazgatása
D39: - "Lakhatásért" Közalapítvány támogatása | E39: 2 | F39: 121517 | K39: =3000+táj2!K39 -> 3000 | Q39: =SUM(G39:P39) -> 3000
D40: Szociális és igazgatási fa.működési kiadás összesen: | G40: =SUM(G7:G39) -> 150 | H40: =SUM(H7:H39) -> 4750 | I40: =SUM(I7:I39) -> 32914 | J40: =SUM(J7:J39) -> 90976 | K40: =SUM(K7:K39) -> 3100 | L40: =SUM(L7:L39) -> 0 | M40: =SUM(M7:M39) -> 0 | N40: =SUM(N7:N39) -> 0 | ... Q40: =SUM(Q7:Q39) -> 131890
D41: Beruházási és felújítási kiadások:
C42: 1./1 | D42: Önkormányzat által nyújtott lakástámogatás első lakáshoz jutók részére (Lakásalapból) | F42: 121401 | N42: =12400+táj2!N42 -> 12400 | Q42: =SUM(G42:P42) -> 12400
D43: 2020. évről áthúzódó feladat
C44: 1.a/1 | D44: Családok otthonteremtési kedvezménye (Lakásalap) | F44: 121405 | N44: =1000+táj2!N44 -> 1000 | Q44: =SUM(G44:P44) -> 1000
C45: 1.a/2 | D45: Kamatmentes kölcsön az ideiglenesen nehéz helyzetbe került zeg-i polgárok számára (Lakásalapból) | F45: 121402 | N45: =13819+táj2!N45 -> 13819 | Q45: =SUM(G45:P45) -> 13819
D46: Szociális és igazgatási fa. kiadásai összesen: | G46: =SUM(G40:G45) -> 150 | H46: =SUM(H40:H45) -> 4750 | I46: =SUM(I40:I45) -> 32914 | J46: =SUM(J40:J45) -> 90976 | K46: =SUM(K40:K45) -> 3100 | L46: =SUM(L40:L45) -> 0 | M46: =SUM(M40:M45) -> 0 | N46: =SUM(N40:N45) -> 27219 | ... Q46: =SUM(Q40:Q45) -> 159109
A47: 1 | B47: 13 | D47: Humánigazgatási feladatok
D48: Oktatási feladatok
D49: 098010 Oktatás igazgatása
D50: - Zalaegerszegi Szakképzési Centrum részére támogatás szakképzési ösztöndíj céljára | E50: 2 | F50: 131112 | K50: =12000+táj2!K50 -> 12000 | Q50: =SUM(G50:P50) -> 12000
D51: - intézmények és civil szervezetek támogatása, rendezvényeik finanszírozása | E51: 2 | F51: 131123 | K51: =3000+táj2!K51 -> 3000 | Q51: =SUM(G51:P51) -> 3000
D52: - pedagógus napi rendezvény szervezése | E52: 2 | F52: 131212 | G52: =423+táj2!G52 -> 423 | H52: =127+táj2!H52 -> 127 | I52: =200+táj2!I52 -> 200 | Q52: =SUM(G52:P52) -> 750
D53: - díszokleveles pedagógusok ünnepsége és jutalmazása | E53: 2 | F53: 131122 | G53: =1180+táj2!G53 -> 1180 | H53: =470+táj2!H53 -> 470 | K53: =350+táj2!K53 -> 350 | Q53: =SUM(G53:P53) -> 2000
D54: - angol nyelvű óvodai csoport dolgozói részére angol nyelvi felkészítő támogatása | E54: 2 | F54: 131124 | I54: =650+táj2!I54 -> 650 | Q54: =SUM(G54:P54) -> 650
D55: - Zeg.Felsőfokú Oktatásáért Közalapítvány támogatása | E55: 2 | F55: 131107 | K55: =60000+táj2!K55 -> 60000 | Q55: =SUM(G55:P55) -> 60000
D56: - nyári táboroztatás | E56: 2 | F56: 131128 | K56: =9200+táj2!K56 -> 9200 | Q56: =SUM(G56:P56) -> 9200
D57: Kulturális és ifjúsági feladatok
D58: 084070 A fiatalok társ. integrációját segítő struktúra, szakmai szolgált. fejlesztése, működtetése
D59: - ifjúsági rendezvények | E59: 2 | F59: 131201 | G59: =200+táj2!G59 -> 200 | H59: =80+táj2!H59 -> 80 | I59: =1420+táj2!I59 -> 1420 | Q59: =SUM(G59:P59) -> 1700
D60: - Zalaegerszegi Városi Diákönkormányzat | E60: 2 | F60: 131202 | G60: =200+táj2!G60 -> 200 | H60: =80+táj2!H60 -> 80 | I60: =470+táj2!I60 -> 470 | Q60: =SUM(G60:P60) -> 750
D61: - Zalaegerszegi Városi Diáknapok | E61: 2 | F61: 131205 | K61: =2000+táj2!K61 -> 2000 | Q61: =SUM(G61:P61) -> 2000
D62: - Zalaegerszegi Egyetemisták Egyesülete | E62: 2 | F62: 131206 | K62: =800+táj2!K62 -> 800 | Q62: =SUM(G62:P62) -> 800
D63: - Zalaegerszegi Ifjúsági Kerekasztal | E63: 2 | F63: 131209 | G63: =150+táj2!G63 -> 150 | H63: =61+táj2!H63 -> 61 | I63: =489+táj2!I63 -> 489 | Q63: =SUM(G63:P63) -> 700
D64: - UNICEF gyermekbarát település pályázat | E64: 2 | F64: 131211 | I64: =965+táj2!I64 -> 965 | Q64: =SUM(G64:P64) -> 965
D65: 094260 Hallgatói és oktatói ösztöndíjak, egyéb juttatások
D66: - felsőoktatási ösztöndíj és támogatás | E66: 2 | F66: 131101 | J66: =5500+táj2!J66 -> 5500 | K66: =6500+táj2!K66 -> 6500 | Q66: =SUM(G66:P66) -> 12000
D67: 074052 Kábítószer megelőzés programja
D68: - Zalaegerszegi Kábítószerügyi Egyeztető Fórum | E68: 2 | F68: 131120 | I68: =150+táj2!I68 -> 150 | Q68: =SUM(G68:P68) -> 150
D69: 082091 Közművelődés - közösségi és társ. részvétel fejleszt.
D70: - Magyar Kultúra Napja | E70: 2 | F70: 131346 | G70: =0+táj2!G70 -> 412 | H70: =0+táj2!H70 -> 54 | K70: =1400+táj2!K70 -> 934 | Q70: =SUM(G70:P70) -> 1400
D71: - Fazekas-keramikus találkozó | E71: 2 | F71: 131305 | K71: =1500+táj2!K71 -> 1500 | Q71: =SUM(G71:P71) -> 1500
D72: - Egerszeg búcsú | E72: 2 | F72: 131306 | K72: =700+táj2!K72 -> 700 | Q72: =SUM(G72:P72) -> 700
D73: - Betlehem működtetése | E73: 2 | F73: 131325 | I73: =1553+táj2!I73 -> 1553 | Q73: =SUM(G73:P73) -> 1553
D74: - Kvártélyház Kft. támogatása | E74: 2 | F74: 131321 | K74: =71000+táj2!K74 -> 71000 | Q74: =SUM(G74:P74) -> 71000
D75: - Zalaegerszegi Rendezvényszervező Kft. működési támogatása | E75: 2 | F75: 131313 | K75: =33800+táj2!K75 -> 33800 | Q75: =SUM(G75:P75) -> 33800
D76: - Keresztury Emlékbizottság | E76: 2 | F76: 131501 | I76: =250+táj2!I76 -> 250 | Q76: =SUM(G76:P76) -> 250
D77: - Gébárti Művésztelep | E77: 2 | F77: 131307 | K77: =600+táj2!K77 -> 600 | Q77: =SUM(G77:P77) -> 600
D78: - táncház mozgalom | E78: 2 | F78: 131340 | K78: =400+táj2!K78 -> 400 | Q78: =SUM(G78:P78) -> 400
D79: - folk hétvége | E79: 2 | F79: 131343 | K79: =400+táj2!K79 -> 400 | Q79: =SUM(G79:P79) -> 400
D80: - éves sajtófotó kiállítás | E80: 2 | F80: 131310 | K80: =500+táj2!K80 -> 500 | Q80: =SUM(G80:P80) -> 500
D81: - Kamaratáncfesztivál | E81: 2 | F81: 131315 | K81: =2000+táj2!K81 -> 2000 | Q81: =SUM(G81:P81) -> 2000
D82: - Kórusfesztivál | E82: 2 | F82: 131314 | K82: =1500+táj2!K82 -> 1500 | Q82: =SUM(G82:P82) -> 1500
D83: - Zalaegerszegi Szimfonikus Zenekar támogatása | E83: 2 | F83: 131348 | K83: =2500+táj2!K83 -> 2500 | Q83: =SUM(G83:P83) -> 2500
D84: - '47-es Honvéd Zászlóalj Hagyományőrző Egyesület támogatása | E84: 2 | F84: 131345 | K84: =200+táj2!K84 -> 200 | Q84: =SUM(G84:P84) -> 200
D85: 084031 Civil szervezetek műk. támogatása
D86: - Zalai Civil Életért Közhasznú Egy.támogatása (Civil ház működtetése) | E86: 2 | F86: 131401 | K86: =1800+táj2!K86 -> 1800 | Q86: =SUM(G86:P86) -> 1800
D87: - Pannon Tükör kulturális folyóirat támogatása | E87: 2 | F87: 131402 | K87: =5000+táj2!K87 -> 5000 | Q87: =SUM(G87:P87) -> 5000
D88: - önálló kulturális egyesületek, együttesek | E88: 2 | F88: 131403 | K88: =5250+táj2!K88 -> 5250 | Q88: =SUM(G88:P88) -> 5250
D89: - peremkerületek támogatása | E89: 2 | F89: 131404 | K89: =3500+táj2!K89 -> 3500 | Q89: =SUM(G89:P89) -> 3500
D90: - Zalai Táncegyüttes Egyesület támogatás | E90: 2 | F90: 131330 | K90: =2000+táj2!K90 -> 2000 | Q90: =SUM(G90:P90) -> 2000
D91: - Zalegerszeg Kultúrájáért Közalapítvány támogatása | E91: 2 | F91: 131507 | K91: =2000+táj2!K91 -> 2000 | Q91: =SUM(G91:P91) -> 2000
D92: - Zalaegerszegi Honvéd Klub támogatása | E92: 2 | F92: 171943 | K92: =400+táj2!K92 -> 400 | Q92: =SUM(G92:P92) -> 400
D93: - "Steet Food"Fesztivál | E93: 2 | F93: 131409 | K93: =1500+táj2!K93 -> 1500 | Q93: =SUM(G93:P93) -> 1500
D94: 082030 Művészeti tevékenység
D95: - művészeti ösztöndíjak | E95: 2 | F95: 131502 | J95: =600+táj2!J95 -> 600 | Q95: =SUM(G95:P95) -> 600
D96: - Térzenei koncertek EMT-TE-B-A-21-0515 | E96: 2 | F96: 131304 | I96: =2750+táj2!I96 -> 2750 | Q96: =SUM(G96:P96) -> 2750
D97: - Zalaegerszegi amatőr kórusok és gyeremekkórus találkozó támogatása EMT-TE-B-A-21-0516 | E97: 2 | F97: 131867 | I97: =4000+táj2!I97 -> 4000 | Q97: =SUM(G97:P97) -> 4000
D98: - István a király-ünnepi megemlékezés EMT-TE-B-A-21-0523 | E98: 2 | F98: 131868 | I98: =2018+táj2!I98 -> 2018 | Q98: =SUM(G98:P98) -> 2018
D99: - R&J szinergiái - Egy történet száz alakban EMT-TE-B-A-21-0517 | E99: 2 | F99: 131328 | I99: =2000+táj2!I99 -> 2000 | Q99: =SUM(G99:P99) -> 2000
D100: 018030 Támogatási célú finanszírozási műveletek
...

Sheet 9
A1: Címszám | B1: Sorszám | C1: Megnevezés | D1: 2022. évi eredeti előirányzat | E1: Módosítás összege | F1: Költségvetési bevételek | M1: Finanszírozási bevételek | P1: 2022. évi módosított előirányzat
F2: Működési célú támogatások áht-n belülről | G2: Felhalmozási célú támogatások áht-n belülről | H2: Közhatalmi bevételek | I2: Működési bevételek | J2: Felhalmozási bevételek | K2: Működési célú átvett pénzeszközök | L2: Felhalmozási célú átvett pénzeszközök | M2: Maradvány igénybevétele | N2: Központi, irányító szervi támogatás | O2: Egyéb finanszírozási bevétel
A3: 2 | C3: Költségvetési szervek
B4: 1 | C4: Polgármesteri Hivatal | D4: 1811959 | E4: =0+táj3!N4 -> 2908 | F4: =22319+táj3!D4 -> 22319 | G4: =0+táj3!E4 -> 0 | H4: =0+táj3!F4 -> 0 | I4: =19000+táj3!G4 -> 19000 | J4: =0+táj3!H4 -> 0 | K4: =0+táj3!I4 -> 0 | L4: =0+táj3!J4 -> 0 | M4: =168313+táj3!K4 -> 168313 | N4: =1602327+táj3!L4 -> 1605235 | O4: =0+táj3!M4 -> 0 | P4: =SUM(F4:O4) -> 1814867
B5: 2 | C5: Zalaegerszegi Gazdasági Ellátó Szervezet | D5: 1222244 | E5: =0+táj3!N5 -> 367 | F5: =0+táj3!D5 -> 0 | G5: =0+táj3!E5 -> 0 | H5: =0+táj3!F5 -> 0 | I5: =564200+táj3!G5 -> 564200 | J5: =0+táj3!H5 -> 0 | K5: =0+táj3!I5 -> 0 | L5: =0+táj3!J5 -> 0 | M5: =8831+táj3!K5 -> 8831 | N5: =649213+táj3!L5 -> 649580 | O5: =0+táj3!M5 -> 0 | P5: =SUM(F5:O5) -> 1222611
B6: 3 | C6: Zalaegerszegi Egyesített Bölcsődék | D6: 789793 | E6: =0+táj3!N6 -> 2079 | F6: =7542+táj3!D6 -> 7542 | G6: =0+táj3!E6 -> 0 | H6: =0+táj3!F6 -> 0 | I6: =62300+táj3!G6 -> 62300 | J6: =0+táj3!H6 -> 0 | K6: =0+táj3!I6 -> 0 | L6: =0+táj3!J6 -> 0 | M6: =9898+táj3!K6 -> 9898 | N6: =710053+táj3!L6 -> 712132 | P6: =SUM(F6:O6) -> 791872
B7: 4 | C7: Zalaegerszegi Egészségügyi Alapellátási Intézmény | D7: 613491 | E7: =0+táj3!N7 -> 0 | F7: =439340+táj3!D7 -> 439340 | G7: =0+táj3!E7 -> 0 | H7: =0+táj3!F7 -> 0 | I7: =0+táj3!G7 -> 0 | J7: =0+táj3!H7 -> 0 | K7: =0+táj3!I7 -> 0 | L7: =0+táj3!J7 -> 0 | M7: =49435+táj3!K7 -> 49435 | N7: =124716+táj3!L7 -> 124716 | O7: =0+táj3!M7 -> 0 | P7: =SUM(F7:O7) -> 613491
B8: 5 | C8: Zalaegerszegi Család- és Gyermekjóléti Központ | D8: 269962 | E8: =0+táj3!N8 -> 12838 | F8: =0+táj3!D8 -> 0 | G8: =0+táj3!E8 -> 0 | H8: =0+táj3!F8 -> 0 | I8: =1440+táj3!G8 -> 1440 | J8: =0+táj3!H8 -> 0 | K8: =0+táj3!I8 -> 0 | L8: =0+táj3!J8 -> 0 | M8: =23131+táj3!K8 -> 23131 | N8: =245391+táj3!L8 -> 258229 | O8: =0+táj3!M8 -> 0 | P8: =SUM(F8:O8) -> 282800
B9: 6 | C9: Zalaegerszegi Belvárosi I. számú Óvoda | D9: 417423 | E9: =0+táj3!N9 -> 0 | F9: =0+táj3!D9 -> 0 | G9: =0+táj3!E9 -> 0 | H9: =0+táj3!F9 -> 0 | I9: =17421+táj3!G9 -> 17421 | J9: =0+táj3!H9 -> 0 | K9: =0+táj3!I9 -> 0 | L9: =0+táj3!J9 -> 0 | M9: =22581+táj3!K9 -> 22581 | N9: =377421+táj3!L9 -> 377421 | O9: =0+táj3!M9 -> 0 | P9: =SUM(F9:O9) -> 417423
B10: 7 | C10: Zalaegerszegi Belvárosi II. számú Óvoda | D10: 376005 | E10: =0+táj3!N10 -> 0 | F10: =0+táj3!D10 -> 0 | G10: =0+táj3!E10 -> 0 | H10: =0+táj3!F10 -> 0 | I10: =25327+táj3!G10 -> 25327 | J10: =0+táj3!H10 -> 0 | K10: =0+táj3!I10 -> 0 | L10: =0+táj3!J10 -> 0 | M10: =8836+táj3!K10 -> 8836 | N10: =341842+táj3!L10 -> 341842 | O10: =0+táj3!M10 -> 0 | P10: =SUM(F10:O10) -> 376005
B11: 8 | C11: Zalaegerszegi Kertvárosi Óvoda | D11: 402562 | E11: =0+táj3!N11 -> 0 | F11: =0+táj3!D11 -> 0 | G11: =0+táj3!E11 -> 0 | H11: =0+táj3!F11 -> 0 | I11: =25139+táj3!G11 -> 25139 | J11: =0+táj3!H11 -> 0 | K11: =0+táj3!I11 -> 0 | L11: =0+táj3!J11 -> 0 | M11: =9885+táj3!K11 -> 9885 | N11: =367538+táj3!L11 -> 367538 | O11: =0+táj3!M11 -> 0 | P11: =SUM(F11:O11) -> 402562
B12: 9 | C12: Zalaegerszegi Landorhegyi Óvoda | D12: 375385 | E12: =0+táj3!N12 -> 0 | F12: =0+táj3!D12 -> 0 | G12: =0+táj3!E12 -> 0 | H12: =0+táj3!F12 -> 0 | I12: =16011+táj3!G12 -> 16011 | J12: =0+táj3!H12 -> 0 | K12: =0+táj3!I12 -> 0 | L12: =0+táj3!J12 -> 0 | M12: =17529+táj3!K12 -> 17529 | N12: =341845+táj3!L12 -> 341845 | O12: =0+táj3!M12 -> 0 | P12: =SUM(F12:O12) -> 375385
B13: 10 | C13: Közgyűjteményi és Közművelődési GESZ | D13: 66784 | E13: =0+táj3!N13 -> 0 | F13: =16166+táj3!D13 -> 16166 | G13: =0+táj3!E13 -> 0 | H13: =0+táj3!F13 -> 0 | I13: =1+táj3!G13 -> 1 | J13: =0+táj3!H13 -> 0 | K13: =0+táj3!I13 -> 0 | L13: =0+táj3!J13 -> 0 | M13: =197+táj3!K13 -> 197 | N13: =50420+táj3!L13 -> 50420 | O13: =0+táj3!M13 -> 0 | P13: =SUM(F13:O13) -> 66784
B14: 11 | C14: Keresztury Dezső Városi Művelődési Központ | D14: 486129 | E14: =0+táj3!N14 -> 12540 | F14: =35488+táj3!D14 -> 35488 | G14: =0+táj3!E14 -> 0 | H14: =0+táj3!F14 -> 0 | I14: =80000+táj3!G14 -> 80000 | J14: =0+táj3!H14 -> 0 | K14: =0+táj3!I14 -> 0 | L14: =0+táj3!J14 -> 0 | M14: =135392+táj3!K14 -> 135392 | N14: =235249+táj3!L14 -> 247789 | O14: =0+táj3!M14 -> 0 | P14: =SUM(F14:O14) -> 498669
B15: 12 | C15: Zalaegerszegi Turisztikai Hivatal és Információs Iroda | D15: 24245 | E15: =0+táj3!N15 -> 0 | F15: =0+táj3!D15 -> 0 | G15: =0+táj3!E15 -> 0 | H15: =0+táj3!F15 -> 0 | I15: =1500+táj3!G15 -> 1500 | J15: =0+táj3!H15 -> 0 | K15: =0+táj3!I15 -> 0 | L15: =0+táj3!J15 -> 0 | M15: =500+táj3!K15 -> 500 | N15: =22245+táj3!L15 -> 22245 | O15: =0+táj3!M15 -> 0 | P15: =SUM(F15:O15) -> 24245
B16: 13 | C16: Deák Ferenc Megyei és Városi Könyvtár | D16: 492549 | E16: =0+táj3!N16 -> 0 | F16: =38861+táj3!D16 -> 38861 | G16: =0+táj3!E16 -> 0 | H16: =0+táj3!F16 -> 0 | I16: =28000+táj3!G16 -> 28000 | J16: =0+táj3!H16 -> 0 | K16: =0+táj3!I16 -> 0 | L16: =0+táj3!J16 -> 0 | M16: =19555+táj3!K16 -> 19555 | N16: =406133+táj3!L16 -> 406133 | O16: =0+táj3!M16 -> 0 | P16: =SUM(F16:O16) -> 492549
B17: 14 | C17: Göcseji Múzeum | D17: 683147 | E17: =0+táj3!N17 -> 1920 | F17: =43244+táj3!D17 -> 45364 | G17: =0+táj3!E17 -> 0 | H17: =0+táj3!F17 -> 0 | I17: =326238+táj3!G17 -> 326238 | J17: =0+táj3!H17 -> 0 | K17: =0+táj3!I17 -> 0 | L17: =0+táj3!J17 -> 0 | M17: =15459+táj3!K17 -> 15459 | N17: =298206+táj3!L17 -> 298006 | O17: =0+táj3!M17 -> 0 | P17: =SUM(F17:O17) -> 685067
B18: 15 | C18: Hevesi Sándor Színház | D18: 846700 | E18: =0+táj3!N18 -> 0 | F18: =425000+táj3!D18 -> 425000 | G18: =0+táj3!E18 -> 0 | H18: =0+táj3!F18 -> 0 | I18: =167698+táj3!G18 -> 167698 | J18: =0+táj3!H18 -> 0 | K18: =0+táj3!I18 -> 0 | L18: =0+táj3!J18 -> 0 | M18: =46338+táj3!K18 -> 46338 | N18: =207664+táj3!L18 -> 207664 | O18: =0+táj3!M18 -> 0 | P18: =SUM(F18:O18) -> 846700
B19: 16 | C19: Griff Bábszínház | D19: 192072 | E19: =0+táj3!N19 -> 0 | F19: =80000+táj3!D19 -> 80000 | G19: =0+táj3!E19 -> 0 | H19: =0+táj3!F19 -> 0 | I19: =25531+táj3!G19 -> 25531 | J19: =0+táj3!H19 -> 0 | K19: =0+táj3!I19 -> 0 | L19: =0+táj3!J19 -> 0 | M19: =47082+táj3!K19 -> 47082 | N19: =39459+táj3!L19 -> 39459 | O19: =0+táj3!M19 -> 0 | P19: =SUM(F19:O19) -> 192072
B20: 17 | C20: Városi Sportlétesítmény Gondnokság Intézménye | D20: 164751 | E20: =0+táj3!N20 -> 0 | F20: =0+táj3!D20 -> 0 | G20: =0+táj3!E20 -> 0 | H20: =0+táj3!F20 -> 0 | I20: =63460+táj3!G20 -> 63460 | J20: =0+táj3!H20 -> 0 | K20: =0+táj3!I20 -> 0 | L20: =0+táj3!J20 -> 0 | M20: =14000+táj3!K20 -> 14000 | N20: =87291+táj3!L20 -> 87291 | O20: =0+táj3!M20 -> 0 | P20: =SUM(F20:O20) -> 164751
B21: 18 | C21: Vásárcsarnok | D21: 158432 | E21: =0+táj3!N21 -> 0 | F21: =0+táj3!D21 -> 0 | G21: =0+táj3!E21 -> 0 | H21: =0+táj3!F21 -> 0 | I21: =113123+táj3!G21 -> 113123 | J21: =0+táj3!H21 -> 0 | K21: =0+táj3!I21 -> 0 | L21: =0+táj3!J21 -> 0 | M21: =6500+táj3!K21 -> 6500 | N21: =38809+táj3!L21 -> 38809 | O21: =0+táj3!M21 -> 0 | P21: =SUM(F21:O21) -> 158432
C22: Összesen: | D22: =SUM(D4:D21) -> 9393633 | E22: =SUM(E4:E21) -> 32652 | F22: =SUM(F4:F21) -> 1110080 | G22: =SUM(G4:G21) -> 0 | H22: =SUM(H4:H21) -> 0 | I22: =SUM(I4:I21) -> 1536389 | J22: =SUM(J4:J21) -> 0 | K22: =SUM(K4:K21) -> 0 | ... P22: =SUM(P4:P21) -> 9426285

Sheet 10
A1: Cím szám | B1: Sorszám | C1: Megnevezés | D1: 2022. évi eredeti előirányzat | E1: Módosítás összege | F1: Költségvetési kiadások | N1: Finanszírozási kiadások | O1: 2022. évi módosított előirányzat
F2: Személyi juttatások | G2: Munkaadókat terhelő járulékok és szociális hj.adó | H2: Dologi kiadások | I2: Ellátottak pénzbeli juttatásai | J2: Egyéb működési célú kiadások | K2: Beruházások | L2: Felújítások | M2: Egyéb felhalmo-zási célú kiadások
A3: 2 | C3: Költségvetési szervek
B4: 1 | C4: Polgármesteri Hivatal | D4: 1811959 | E4: =0+táj4!M4 -> 2908 | F4: =1339235+táj4!D4 -> 1341808 | G4: =205539+táj4!E4 -> 205874 | H4: =202185+táj4!F4 -> 202185 | I4: =0+táj4!G4 -> 0 | J4: =0+táj4!H4 -> 0 | K4: =65000+táj4!I4 -> 65000 | L4: =0+táj4!J4 -> 0 | M4: =0+táj4!K4 -> 0 | N4: =0+táj4!L4 -> 0 | O4: =SUM(F4:N4) -> 1814867
B5: 2 | C5: Zalaegerszegi Gazdasági Ellátó Szervezet | D5: 1222244 | E5: =0+táj4!M5 -> 367 | F5: =174772+táj4!D5 -> 174772 | G5: =26853+táj4!E5 -> 26853 | H5: =1017619+táj4!F5 -> 1017986 | I5: =0+táj4!G5 -> 0 | J5: =0+táj4!H5 -> 0 | K5: =3000+táj4!I5 -> 3000 | L5: =0+táj4!J5 -> 0 | M5: =0+táj4!K5 -> 0 | N5: =0+táj4!L5 -> 0 | O5: =SUM(F5:N5) -> 1222611
B6: 3 | C6: Zalaegerszegi Egyesített Bölcsődék | D6: 789793 | E6: =0+táj4!M6 -> 2079 | F6: =588653+táj4!D6 -> 590474 | G6: =77072+táj4!E6 -> 77330 | H6: =122598+táj4!F6 -> 122598 | I6: =0+táj4!G6 -> 0 | J6: =200+táj4!H6 -> 200 | K6: =1270+táj4!I6 -> 1270 | L6: =0+táj4!J6 -> 0 | M6: =0+táj4!K6 -> 0 | N6: =0+táj4!L6 -> 0 | O6: =SUM(F6:N6) -> 791872
B7: 4 | C7: Zalaegerszegi Egészségügyi Alapellátási Intézmény | D7: 613491 | E7: =0+táj4!M7 -> 0 | F7: =377669+táj4!D7 -> 377669 | G7: =49097+táj4!E7 -> 49097 | H7: =182148+táj4!F7 -> 182148 | I7: =0+táj4!G7 -> 0 | J7: =0+táj4!H7 -> 0 | K7: =4577+táj4!I7 -> 4577 | L7: =0+táj4!J7 -> 0 | M7: =0+táj4!K7 -> 0 | N7: =0+táj4!L7 -> 0 | O7: =SUM(F7:N7) -> 613491
B8: 5 | C8: Zalaegerszegi Család- és Gyermekjóléti Központ | D8: 269962 | E8: =0+táj4!M8 -> 12838 | F8: =207985+táj4!D8 -> 217046 | G8: =32474+táj4!E8 -> 33751 | H8: =23013+táj4!F8 -> 23013 | I8: =4600+táj4!G8 -> 7100 | J8: =240+táj4!H8 -> 240 | K8: =1650+táj4!I8 -> 1650 | L8: =0+táj4!J8 -> 0 | M8: =0+táj4!K8 -> 0 | N8: =0+táj4!L8 -> 0 | O8: =SUM(F8:N8) -> 282800
B9: 6 | C9: Zalaegerszegi Belvárosi I. számú Óvoda | D9: 417423 | E9: =0+táj4!M9 -> 0 | F9: =299461+táj4!D9 -> 299461 | G9: =45015+táj4!E9 -> 45015 | H9: =72347+táj4!F9 -> 70847 | I9: =0+táj4!G9 -> 0 | J9: =100+táj4!H9 -> 100 | K9: =500+táj4!I9 -> 2000 | L9: =0+táj4!J9 -> 0 | M9: =0+táj4!K9 -> 0 | N9: =0+táj4!L9 -> 0 | O9: =SUM(F9:N9) -> 417423
B10: 7 | C10: Zalaegerszegi Belvárosi II. számú Óvoda | D10: 376005 | E10: =0+táj4!M10 -> 0 | F10: =238766+táj4!D10 -> 238766 | G10: =35837+táj4!E10 -> 35837 | H10: =100902+táj4!F10 -> 100902 | I10: =0+táj4!G10 -> 0 | J10: =0+táj4!H10 -> 0 | K10: =500+táj4!I10 -> 500 | L10: =0+táj4!J10 -> 0 | M10: =0+táj4!K10 -> 0 | N10: =0+táj4!L10 -> 0 | O10: =SUM(F10:N10) -> 376005
B11: 8 | C11: Zalaegerszegi Kertvárosi Óvoda | D11: 402562 | E11: =0+táj4!M11 -> 0 | F11: =252645+táj4!D11 -> 252645 | G11: =38305+táj4!E11 -> 38305 | H11: =111112+táj4!F11 -> 111112 | I11: =0+táj4!G11 -> 0 | J11: =0+táj4!H11 -> 0 | K11: =500+táj4!I11 -> 500 | L11: =0+táj4!J11 -> 0 | M11: =0+táj4!K11 -> 0 | N11: =0+táj4!L11 -> 0 | O11: =SUM(F11:N11) -> 402562
B12: 9 | C12: Zalaegerszegi Landorhegyi Óvoda | D12: 375385 | E12: =0+táj4!M12 -> 0 | F12: =261822+táj4!D12 -> 261822 | G12: =39630+táj4!E12 -> 39630 | H12: =73433+táj4!F12 -> 73238 | I12: =0+táj4!G12 -> 0 | J12: =0+táj4!H12 -> 0 | K12: =500+táj4!I12 -> 500 | L12: =0+táj4!J12 -> 195 | M12: =0+táj4!K12 -> 0 | N12: =0+táj4!L12 -> 0 | O12: =SUM(F12:N12) -> 375385
B13: 10 | C13: Közgyűjteményi és Közművelődési GESZ | D13: 66784 | E13: =0+táj4!M13 -> 0 | F13: =56478+táj4!D13 -> 56478 | G13: =7570+táj4!E13 -> 7570 | H13: =2686+táj4!F13 -> 2686 | I13: =0+táj4!G13 -> 0 | J13: =0+táj4!H13 -> 0 | K13: =50+táj4!I13 -> 50 | L13: =0+táj4!J13 -> 0 | M13: =0+táj4!K13 -> 0 | N13: =0+táj4!L13 -> 0 | O13: =SUM(F13:N13) -> 66784
B14: 11 | C14: Keresztury Dezső Városi Művelődési Központ | D14: 486129 | E14: =0+táj4!M14 -> 12540 | F14: =223694+táj4!D14 -> 223694 | G14: =29424+táj4!E14 -> 29424 | H14: =229211+táj4!F14 -> 229211 | I14: =0+táj4!G14 -> 0 | J14: =0+táj4!H14 -> 0 | K14: =3800+táj4!I14 -> 16340 | L14: =0+táj4!J14 -> 0 | M14: =0+táj4!K14 -> 0 | N14: =0+táj4!L14 -> 0 | O14: =SUM(F14:N14) -> 498669
B15: 12 | C15: Zalaegerszegi Turisztikai Hivatal és Információs Iroda | D15: 24245 | E15: =0+táj4!M15 -> 0 | F15: =18304+táj4!D15 -> 18304 | G15: =2485+táj4!E15 -> 2485 | H15: =3276+táj4!F15 -> 3276 | I15: =0+táj4!G15 -> 0 | J15: =0+táj4!H15 -> 0 | K15: =180+táj4!I15 -> 180 | L15: =0+táj4!J15 -> 0 | M15: =0+táj4!K15 -> 0 | N15: =0+táj4!L15 -> 0 | O15: =SUM(F15:N15) -> 24245
B16: 13 | C16: Deák Ferenc Megyei és Városi Könyvtár | D16: 492549 | E16: =0+táj4!M16 -> 0 | F16: =243037+táj4!D16 -> 243037 | G16: =32002+táj4!E16 -> 32002 | H16: =149700+táj4!F16 -> 149700 | I16: =0+táj4!G16 -> 0 | J16: =18000+táj4!H16 -> 18000 | K16: =48810+táj4!I16 -> 48810 | L16: =1000+táj4!J16 -> 1000 | M16: =0+táj4!K16 -> 0 | N16: =0+táj4!L16 -> 0 | O16: =SUM(F16:N16) -> 492549
B17: 14 | C17: Göcseji Múzeum | D17: 683147 | E17: =0+táj4!M17 -> 1920 | F17: =310399+táj4!D17 -> 310399 | G17: =46548+táj4!E17 -> 46548 | H17: =274030+táj4!F17 -> 274036 | I17: =0+táj4!G17 -> 0 | J17: =27989+táj4!H17 -> 29903 | K17: =24181+táj4!I17 -> 24181 | L17: =0+táj4!J17 -> 0 | M17: =0+táj4!K17 -> 0 | N17: =0+táj4!L17 -> 0 | O17: =SUM(F17:N17) -> 685067
B18: 15 | C18: Hevesi Sándor Színház | D18: 846700 | E18: =0+táj4!M18 -> 0 | F18: =567990+táj4!D18 -> 567990 | G18: =78280+táj4!E18 -> 78280 | H18: =198430+táj4!F18 -> 198430 | I18: =0+táj4!G18 -> 0 | J18: =0+táj4!H18 -> 0 | K18: =2000+táj4!I18 -> 2000 | L18: =0+táj4!J18 -> 0 | M18: =0+táj4!K18 -> 0 | N18: =0+táj4!L18 -> 0 | O18: =SUM(F18:N18) -> 846700
B19: 16 | C19: Griff Bábszínház | D19: 192072 | E19: =0+táj4!M19 -> 0 | F19: =90514+táj4!D19 -> 90514 | G19: =11710+táj4!E19 -> 11710 | H19: =71848+táj4!F19 -> 61848 | I19: =0+táj4!G19 -> 0 | J19: =0+táj4!H19 -> 0 | K19: =18000+táj4!I19 -> 28000 | L19: =0+táj4!J19 -> 0 | M19: =0+táj4!K19 -> 0 | N19: =0+táj4!L19 -> 0 | O19: =SUM(F19:N19) -> 192072
B20: 17 | C20: Városi Sportlétesítmény Gondnokság Intézménye | D20: 164751 | E20: =0+táj4!M20 -> 0 | F20: =81266+táj4!D20 -> 81266 | G20: =10685+táj4!E20 -> 10685 | H20: =70800+táj4!F20 -> 70800 | I20: =0+táj4!G20 -> 0 | J20: =0+táj4!H20 -> 0 | K20: =2000+táj4!I20 -> 2000 | L20: =0+táj4!J20 -> 0 | M20: =0+táj4!K20 -> 0 | N20: =0+táj4!L20 -> 0 | O20: =SUM(F20:N20) -> 164751
B21: 18 | C21: Vásárcsarnok | D21: 158432 | E21: =0+táj4!M21 -> 0 | F21: =67315+táj4!D21 -> 67315 | G21: =9002+táj4!E21 -> 9002 | H21: =76845+táj4!F21 -> 76845 | I21: =0+táj4!G21 -> 0 | J21: =0+táj4!H21 -> 0 | K21: =5270+táj4!I21 -> 5270 | L21: =0+táj4!J21 -> 0 | M21: =0+táj4!K21 -> 0 | N21: =0+táj4!L21 -> 0 | O21: =SUM(F21:N21) -> 158432
C22: Összesen: | D22: =SUM(D4:D21) -> 9393633 | E22: =SUM(E4:E21) -> 32652 | F22: =SUM(F4:F21) -> 5413460 | G22: =SUM(G4:G21) -> 779398 | H22: =SUM(H4:H21) -> 2970861 | I22: =SUM(I4:I21) -> 7100 | J22: =SUM(J4:J21) -> 48443 | K22: =SUM(K4:K21) -> 205828 | ... O22: =SUM(O4:O21) -> 9426285

Sheet táj1
A1: Cím szám | B1: Alcím szám | C1: Megnevezés | D1: Tervezési alapegység | E1: Költségvetési bevételek | L1: Finanszírozási bevételek | O1: Összesen:
E2: Működési célú támogatások áht-n belülről | F2: Felhalmozási célú támogatások áht-n belülről | G2: Közhatalmi bevételek | H2: Működési bevételek | I2: Felhalmozási bevételek | J2: Működési célú átvett pénzeszközök | K2: Felhalmozási célú átvett pénzeszközök | L2: Hitel-, kölcsönfelvétel áht-n kívülről | M2: Maradvány igénybevétele | N2: Egyéb finanszírozási bevétel
A3: 1 | C3: Önkormányzat
A4: 1 | B4: 1 | C4: Szakosztályok
A5: 1 | B5: 12 | C5: Szociális és igazgatási feladatok
C6: 011130 Önkorm. és önkorm. hivatal. jogalk. és ált.ig.tev.
C7: - Egerszeg kártya értékesítés | D7: 221 902 | O7: =SUM(H7:N7) -> 0
C8: Szociális és igazgatási feladatok összesen: | E8: =SUM(E5:E7) -> 0 | F8: =SUM(F5:F7) -> 0 | G8: =SUM(G5:G7) -> 0 | H8: =SUM(H5:H7) -> 0 | I8: =SUM(I5:I7) -> 0 | J8: =SUM(J5:J7) -> 0 | K8: =SUM(K5:K7) -> 0 | N8: =SUM(N7:N7) -> 0 | O8: =SUM(O7:O7) -> 0
A9: 1 | B9: 13 | C9: Humánigazgatási feladatok
C10: 072112 Háziorvosi ügyeleti ellátás
C11: - körzeti orvosi ügyelet fenntartásához községek hozzájárulása | D11: 131705 | O11: =SUM(E11:N11) -> 0
C12: 101211 Fogyatékossággal élők tartós bentlakásos ellátása
C13: - Református Egyház által fizetendő bérleti díj | D13: 131703 | O13: =SUM(E13:N13) -> 0
C14: 013350 Önk-i vagyonnal való gazdálkodáshoz kapcs.fa. | O14: =SUM(E14:N14) -> 0
C15: - Czobor Mátyás mellszobor felállításához támogatás | D15: 132940 | F15: 4000 | O15: =SUM(E15:N15) -> 4000
C16: 018030 Támogatási célú finanszírozási műveletek
C17: - Hevesi Sándor Színház társműködtetöi támogatás | D17: 131508 | O17: =SUM(E17:N17) -> 0
C18: - Griff Bábszínház társműködtetöi támogatás | D18: 131509 | O18: =SUM(E18:N18) -> 0
C19: Humánigazgatási feladatok összesen: | E19: =SUM(E11:E18) -> 0 | F19: =SUM(F11:F18) -> 4000 | G19: =SUM(G11:G18) -> 0 | H19: =SUM(H11:H18) -> 0 | I19: =SUM(I11:I18) -> 0 | J19: =SUM(J11:J18) -> 0 | K19: =SUM(K11:K18) -> 0 | L19: =SUM(L11:L18) -> 0 | ... O19: =SUM(O11:O18) -> 4000
A20: 1 | B20: 14 | C20: Főépítészi feladatok
C21: 013350 Önk-i vagyonnal való gazdálkodáshoz kapcs.fa.
C22: - belterületbe vonással kapcsolatos bevétel | D22: 171967 | H22: 212 | O22: =SUM(E22:N22) -> 212
C23: - Helyi építészeti értékek védelme | D23: 164903 | O23: =SUM(E23:N23) -> 0
C24: Főépítészi feladatok összesen: | H24: =SUM(H22:H23) -> 212 | I24: =SUM(I22:I23) -> 0 | J24: =SUM(J22:J23) -> 0 | K24: =SUM(K22:K23) -> 0 | L24: =SUM(L22:L23) -> 0 | M24: =SUM(M22:M23) -> 0 | N24: =SUM(N22:N23) -> 0 | O24: =SUM(O22:O23) -> 212
A25: 1 | B25: 15 | C25: Városüzemelési feladatok
C26: 081061 Szabadidős park, fürdő és strandszolgáltatás
C27: - Gébárti fürdő lét. üzemelt. (Termál és Tóstrand) | D27: 151906 | O27: =SUM(E27:N27) -> 0
C28: - Aquapark üzemeltetés | D28: 151 907 | O28: =SUM(E28:N28) -> 0
C29: - ZG3 kút üzemeltetése | D29: 151 915 | O29: =SUM(E29:N29) -> 0
C30: 066010 Zöldterület kezelés
C31: - fa értékesítés bevétele | D31: 152 908 | O31: =SUM(E31:N31) -> 0
C32: - haszonbérleti szerződések, kishaszonbérlet | D32: 151506 | O32: =SUM(E32:N32) -> 0
C33: - környezetvéd.alap feltöltése | D33: 151607 | O33: =SUM(E33:N33) -> 0
C34: 045170 Parkoló, garázs üzemeltetése, fenntartása
C35: - parkolási közszolgáltatási tevékenység ellátásával kapcsolatos bevétel | D35: 151 910 | O35: =SUM(E35:N35) -> 0
C36: 045120 Út, autópálya építése
C37: - Göcseji u. 49.sz.társasház déli oldali járda | D37: 155460 | K37: 509 | O37: =SUM(E37:N37) -> 509
C38: Városüzemelési feladatok összesen: | E38: =SUM(E26:E37) -> 0 | F38: =SUM(F26:F37) -> 0 | G38: =SUM(G26:G37) -> 0 | H38: =SUM(H26:H37) -> 0 | I38: =SUM(I26:I37) -> 0 | J38: =SUM(J26:J37) -> 0 | K38: =SUM(K26:K37) -> 509 | L38: =SUM(L26:L37) -> 0 | ... O38: =SUM(O26:O37) -> 509
A39: 1 | B39: 16. | C39: Városépítészeti feladatok
C40: 052020 Szennyvíz gyűjtése, tisztítása, elhelyezése
C41: - ZALAVÍZ Zrt. nem vÍziközmű után fizetendő bérleti díj | D41: 161909 | O41: =SUM(E41:N41) -> 0
C42: - szennyvíz vagyon használati díja és Áfa visszaig. | D42: 164106 | O42: =SUM(E42:N42) -> 0
C43: - ivóvíz vagyon használati díja és Áfa visszaig.+ KIEFO | D43: 164204 | O43: =SUM(E43:N43) -> 0
C44: - Zalaegerszeg keleti vízbázisról ellátott települések ívóvízminőségének javítása KEHOP projekt | D44: 164205 | E44: 4455 | F44: -4455 | O44: =SUM(E44:N44) -> 0
C45: - Zalaegerszeg nyugati vízbázisról ellátott települések ívóvízminőségének javítása KEHOP projekt | D45: 164206 | O45: =SUM(E45:N45) -> 0
C46: - VÁRA-ÉMI 2020-001 Szennyvíz Gépészet Projekt | D46: 164109 | O46: =SUM(E46:N46) -> 0
C47: - KEHOP 2.1.11-21-2021-00002 Ivóvízhálózatok és szennyvízhálózatok hatékonyságnövelő fejlesztése | D47: 164207 | O47: =SUM(E47:N47) -> 0
C48: 013350 Önk-i vagyonnal való gazdálkodáshoz kapcs. fa.
C49: - ELENA programhoz önerő és bérfedezet megtérülése | D49: 162695 | O49: =SUM(E49:N49) -> 0
C50: - EcoSmartCities Interreg HU-HR projekt | D50: 162607 | O50: =SUM(E50:N50) -> 0
C51: - Hotelfejlesztés engedélyes és kiviteli terveinek elkészítéséhez támogatás | D51: 162640 | O51: =SUM(E51:N51) -> 0
C52: - TOP-6.1.4-15-ZL1-2016-00002 Zalaegerszegi Göcseji Falumúzeum fejlesztése | D52: 163606 | O52: =SUM(E52:N52) -> 0
C53: - TOP-6.4.1-15-ZL1-2016-00001 Gyalogos és kerékpárosbarát belváros közlekedési feltételeinek megteremtése Zalaegerszegen hivatásforgalmi kerékpárutak fejlesztésével és a Kosztolányi Dezső út kétirányúsításával | D53: 163607 | O53: =SUM(E53:N53) -> 0
C54: - TOP-6.1.4 -15-ZL1-2016-00003 Zöld Zala-part Turisztikai célú kerékpárút fejlesztés a Zala Mentén és Gébárton | D54: 163608 | O54: =SUM(E54:N54) -> 0
C55: - TOP-6.1.5-15-ZL1-2016-00001 Ipari területeket feltáró utak kialakítása Zalaegerszegen | D55: 163609 | O55: =SUM(E55:N55) -> 0
C56: - TOP-6.3.2-15-ZL1-2016-00002 Gébárti-tó és környékének rekreációs, szabadidős használatát elősegítő infrastruktúra kialakítása | D56: 163611 | O56: =SUM(E56:N56) -> 0
C57: - TOP-6.1.1-15-ZL1-2016-00001 Zalaegerszeg Északi Ipari Park feltárása és közművekkel való ellátása (részben nettó) | D57: 163612 | O57: =SUM(E57:N57) -> 0
C58: - TOP-6.1.3 -15-ZL1-2016-00001 Helyi termelői és kézműves piac kialakítása Zalaegerszegen ( nettó) | D58: 163613 | H58: -345 | M58: -1276 | O58: =SUM(E58:N58) -> -1621
C59: - TOP-6.1.4-15-ZL1-2016-00001 "Zalaegerszeg turisztikai vonzerejének növelése a " SMART City" eszközrendszerével" | D59: 163614 | O59: =SUM(E59:N59) -> 0
C60: - TOP-6.3.2-15-ZL1-2016-00003 Városi terek élhetőbbé tétele - Vizslapark rekonstrukció | D60: 163616 | O60: =SUM(E60:N60) -> 0
C61: - TOP 6.5.1-15-ZL1-2016-0004 Landorhegyi Sportiskolai Általános Iskola energetikai korszerűsítése | D61: 163623 | O61: =SUM(E61:N61) -> 0
C62: -TOP-6.1.1-16 Zalaegerszegi Logisztikai Központ létrehozása (nettó fin.) | D62: 163625 | O62: =SUM(E62:N62) -> 0
C63: - TOP-6.1.2-16-ZL1-2017-00001 Inkubátorház bővítés Zalaegerszegen-III.ütem | D63: 163626 | O63: =SUM(E63:N63) -> 0
C64: - TOP-6.1.4--16-ZL1-2017-00002 Göcseji Múzeum épületének felújítása és kiállító tereinek fejlesztése | D64: 163627 | O64: =SUM(E64:N64) -> 0
C65: - TOP-6.1.1-16-ZL1-2017-00001 Üzemcsarnok építés a Zalaegerszeg 4815/6 hrsz-ú ingatlanon | D65: 163628 | O65: =SUM(E65:N65) -> 0
C66: - TOP 6.1.4-16-ZL1-2017-00001 Alsóerdő komplex turisztikai fejlesztése | D66: 163629 | O66: =SUM(E66:N66) -> 0
C67: - TOP 6.9.2-16-ZL1-2017-00001 A helyi identitás és kohézió erősítésének megteremtése Zalaegerszegen | D67: 163633 | O67: =SUM(E67:N67) -> 0
C68: - TOP-6.1.4-16-ZL1-2017-00003 Helyi termelői és kézműves piac kialakítása Zalaegerszegen - Göcsej Tudásközpont (nettó fiansz.) | D68: 163637 | H68: 345 | M68: 1276 | O68: =SUM(E68:N68) -> 1621
C69: - TOP-6.5.1-16-ZL1-2017-00001 Liszt F.tagiskola energetikai korszerűsítése | D69: 163638 | O69: =SUM(E69:N69) -> 0
C70: - TOP-6.5.1-16-ZL1-2017-00005 Petőfi S. Székhelyiskola energetikai korszerűsítése | D70: 163639 | O70: =SUM(E70:N70) -> 0
C71: - TOP-6.5.1-16-ZL1-2017-00006 Dózsa Gy. tagiskola energetikai korszerűsítése | D71: 163640 | O71: =SUM(E71:N71) -> 0
C72: -TOP-7.1.1-16-H-ESZA-2019-01185 Interaktív történelmi séták Zalaegerszegen | D72: 163648 | O72: =SUM(E72:N72) -> 0
C73: - TOP-6.3.2-15-ZL1-2020-00004 "A Gébárti-tó és környékének rekreációs, szabadidős használatát elősegítő infrastruktúra kialakítása II. ütem " | D73: 163652 | O73: =SUM(E73:N73) -> 0
C74: - TOP-6.4.1-15-ZL1-2020-00002 Fenntartható közlekedésfejlesztési beavatkozások a belváros keleti kapujában (Tesco körforgalom) | D74: 163653 | O74: =SUM(E74:N74) -> 0
C75: - Mindszenty Múzeum és Zarándokközpont fejlesztése, zalaegerszegi "Mindszenty Út" megvalósítása MVP | D75: 163621 | H75: 5956 | O75: =SUM(E75:N75) -> 5956
C76: - Uszoda tervezés és megvalósítás MVP támogatásból | D76: 162687 | O76: =SUM(E76:N76) -> 0
C77: - Alsóerdei Sport- és Rekreációs Központ fejlesztése MVP támogatással | D77: 163702 | O77: =SUM(E77:N77) -> 0
C78: - Hevesi Sándor Színház felújítás és korszerűsítés előkészítése MVP | D78: 163641 | O78: =SUM(E78:N78) -> 0
C79: - Új városi multifunkciós rendezvény- és sportcsarnok MVP projekt keretében | D79: 163644 | O79: =SUM(E79:N79) -> 0
C80: - Modern Városok Program keretében tervezett közúthálózat és kapcsolódó tereinek fejlesztései | D80: 163650 | E80: 700351 | F80: -700351 | H80: 9807 | O80: =SUM(E80:N80) -> 9807
C81: - KEHOP-5.4.1-16-2016-00433 Szemléletformálási programok | D81: 163643 | O81: =SUM(E81:N81) -> 0
C82: - KEHOP-1.2.1-18-2018-00024 ZMJV helyi klímastratégiájának kidolgozása, helyi klímatudatosságot erősítő szemléletformálás | D82: 163645 | O82: =SUM(E82:N82) -> 0
C83: - Északi Ipari park infrastuktúra fejlesztésével összefüggő közműfejlesztések és közműcsatlakozások | D83: 163654,163659,163660,163661 | E83: 348405 | F83: -467212 | H83: 121340 | O83: =SUM(E83:N83) -> 2533
C84: - "Infrastrukturális fejlesztések Zalaegerszegen" | D84: 162630 | O84: =SUM(E84:N84) -> 0
C85: "Zöld busz mintaprojekt" | D85: 163651 | O85: =SUM(E85:N85) -> 0
C86: - Zalaréti Kastély rendezvényközpont felújításának előkészítési munkálatai | D86: 163656 | O86: =SUM(E86:N86) -> 0
C87: - egyéb létesítményi működési bevételek | D87: 161908 | H87: 7268 | O87: =SUM(E87:N87) -> 7268
C88: Városépítészeti feladatok összesen: | E88: =SUM(E40:E87) -> 1053211 | F88: =SUM(F40:F87) -> -1172018 | G88: =SUM(G40:G87) -> 0 | H88: =SUM(H40:H87) -> 144371 | I88: =SUM(I40:I87) -> 0 | J88: =SUM(J40:J87) -> 0 | K88: =SUM(K40:K87) -> 0 | L88: =SUM(L40:L87) -> 0 | ... O88: =SUM(O40:O87) -> 25564
A89: 1 | B89: 17 | C89: Vagyonkezelési feladatok
C90: 013350 Önk-i vagyonnal való gazdálkodáshoz kapcs. fa.
C91: - ingatlaneladás | D91: 171907 | O91: =SUM(E91:N91) -> 0
C92: - ingatlaneladás Városfejlesztő Zrt. bonyolításában | D92: 171923 | O92: =SUM(E92:N92) -> 0
C93: -Reptér Drónmotive projekthez kapcsolódó bevétel | D93: 171983 | O93: =SUM(E93:N93) -> 0
C94: 106010 Lakóingatl. szoc.célú bérbeadása, üzemeltetése
C95: - LÉSZ bérlemény üzemeltetés bevétele | D95: 171980 | O95: =SUM(E95:N95) -> 0
C96: 013350 Önk-i vagyonnal való gazdálkodáshoz kapcs. fa.
C97: - egyéb ingatlanhasznosítás (nem lakáscélú helyiségek bérl.díja) | D97: 171905 | O97: =SUM(E97:N97) -> 0
C98: - Inkubátorház bérleti díja | D98: 171909 | O98: =SUM(E98:N98) -> 0
C99: - volt laktanyával kapcsolatos bevétel | D99: 171904 | O99: =SUM(E99:N99) -> 0
C100: - tesztpálya területének bérleti díja | D100: 172909 | O100: =SUM(E100:N100) -> 0
...

Sheet táj2
A1: Cím szám | B1: Alcím szám | C1: Sorszám | D1: Megnevezés | E1: feladat jellege | F1: Tervezési alapegység | G1: Költségvetési kiadások | O1: Finanszírozási kiadások | Q1: Kiadás összesen | R1: Módosítás hatáskör szerint
G2: Személyi juttatások | H2: Munkaadókat terhelő járulékok és szociális hj.adó | I2: Dologi kiadások | J2: Ellátottak pénzbeli juttatásai | K2: Egyéb működési célú kiadások | L2: Beruházások | M2: Felújítások | N2: Egyéb felhalmo-zási célú kiadások | O2: Hitel-, kölcsöntör-lesztés áht-n kívülre | P2: Egyéb finanszírozási kiadás
A3: 1 | D3: Önkormányzat
A4: 1 | B4: 1 | D4: Szakosztályok
A5: 1 | B5: 12 | D5: Szociális és igazgatási feladatok
D6: 105010 Munkanélküli aktív korúak ellátásai
D7: - megélhetési támogatás | E7: 2 | F7: 121103 | Q7: =SUM(G7:P7) -> 0
D8: 106020 Lakásfenntartással, lakhatással összefüggő ellátások
D9: - lakásfenntartási segély | E9: 2 | F9: 121104 | Q9: =SUM(G9:P9) -> 0
D10: - önkormányzati bérlakásban élők lakásfenntartási segélye Lakásalapból | E10: 2 | F10: 121117 | Q10: =SUM(G10:P10) -> 0
D11: 107060 Egyéb szociális pénzbeli ellátások, támogatások
D12: - gyermekétkeztetési támogatás | E12: 2 | F12: 121111 | Q12: =SUM(G12:P12) -> 0
D13: - átmeneti segély | E13: 2 | F13: 121127 | Q13: =SUM(G13:P13) -> 0
D14: - egyszeri nevelési támogatás | E14: 2 | F14: 121115 | Q14: =SUM(G14:P14) -> 0
D15: - szociális krízis alap | E15: 2 | F15: 121129 | Q15: =SUM(G15:P15) -> 0
D16: - tüzifa támogatás | E16: 2 | F16: 121106 | Q16: =SUM(G16:P16) -> 0
D17: 103010 Elhunyt személyek hátramaradottainak pénzbeli ellátása
D18: - temetési segély | E18: 2 | F18: 121131 | Q18: =SUM(G18:P18) -> 0
D19: 106020 Lakásfenntartással, lakhatással összefüggő ellátások
D20: - lakhatási krízis alap Lakásalapból | E20: 2 | F20: 121130 | Q20: =SUM(G20:P20) -> 0
D21: 107060 Egyéb szociális pénzbeli ellátások, támogatások
D22: - gyógyszertámogatás | E22: 1 | F22: 121204 | Q22: =SUM(G22:P22) -> 0
D23: - gyógyászati segédeszköz támogatás | E23: 1 | F23: 121132 | Q23: =SUM(G23:P23) -> 0
D24: - köztemetés | E24: 1 | F24: 121203 | Q24: =SUM(G24:P24) -> 0
D25: 094260 Hallgatói és oktatói ösztöndíjak, egyéb juttatások
D26: - Bursa Hungarica ösztöndíj | E26: 2 | F26: 121504 | Q26: =SUM(G26:P26) -> 0
D27: 061030 Lakáshoz jutást segítő támogatások
D28: - lakásgazdálkodási feladatokra | E28: 1 | F28: 121403 | Q28: =SUM(G28:P28) -> 0
D29: 104042 Család- és gyermekjóléti szolgálat
D30: - Családsegítő Szolgálathoz krízissegélyezés | E30: 1 | F30: 121301 | J30: -2500 | Q30: =SUM(G30:P30) -> -2500 | R30: kgy
D31: 011130 Önkorm. és önkorm. hivatal. jogalk. és ált.ig.tev.
D32: - Egerszegkártya | E32: 2 | F32: 221902 | Q32: =SUM(G32:P32) -> 0
D33: - Nemzedékek kézfogása | E33: 2 | F33: 22190** | Q33: =SUM(G33:P33) -> 0
D34: - bírtokvédelmi költség megelőlegezés | E34: 1 | F34: 121118 | Q34: =SUM(G34:P34) -> 0
D35: - talált tárgyak felértékeltetése | E35: 1 | F35: 121515 | Q35: =SUM(G35:P35) -> 0
D36: 032020 Tűz- és katasztrófavéd. tevékenység
D37: - helyi védelmi igazgatás | E37: 1 | F37: 121601 | Q37: =SUM(G37:P37) -> 0
D38: 109010 Szociális szolgáltatás igazgatása
D39: - "Lakhatásért" Közalapítvány támogatása | E39: 2 | F39: 121517 | Q39: =SUM(G39:P39) -> 0
D40: Szociális és igazgatási fa.működési kiadás összesen: | G40: =SUM(G7:G39) -> 0 | H40: =SUM(H7:H39) -> 0 | I40: =SUM(I7:I39) -> 0 | J40: =SUM(J7:J39) -> -2500 | K40: =SUM(K7:K39) -> 0 | L40: =SUM(L7:L39) -> 0 | M40: =SUM(M7:M39) -> 0 | N40: =SUM(N7:N39) -> 0 | ... Q40: =SUM(Q7:Q39) -> -2500
D41: Beruházási és felújítási kiadások:
C42: 1./1 | D42: Önkormányzat által nyújtott lakástámogatás első lakáshoz jutók részére (Lakásalapból) | F42: 121401 | Q42: =SUM(G42:P42) -> 0
D43: 2020. évről áthúzódó feladat
C44: 1.a/1 | D44: Családok otthonteremtési kedvezménye (Lakásalap) | F44: 121405 | Q44: =SUM(G44:P44) -> 0
C45: 1.a/2 | D45: Kamatmentes kölcsön az ideiglenesen nehéz helyzetbe került zeg-i polgárok számára (Lakásalapból) | F45: 121402 | Q45: =SUM(G45:P45) -> 0
D46: Szociális és igazgatási fa. kiadásai összesen: | G46: =SUM(G40:G45) -> 0 | H46: =SUM(H40:H45) -> 0 | I46: =SUM(I40:I45) -> 0 | J46: =SUM(J40:J45) -> -2500 | K46: =SUM(K40:K45) -> 0 | L46: =SUM(L40:L45) -> 0 | M46: =SUM(M40:M45) -> 0 | N46: =SUM(N40:N45) -> 0 | ... Q46: =SUM(Q40:Q45) -> -2500
A47: 1 | B47: 13 | D47: Humánigazgatási feladatok
D48: Oktatási feladatok
D49: 098010 Oktatás igazgatása
D50: - Zalaegerszegi Szakképzési Centrum részére támogatás szakképzési ösztöndíj céljára | E50: 2 | F50: 131112 | Q50: =SUM(G50:P50) -> 0
D51: - intézmények és civil szervezetek támogatása, rendezvényeik finanszírozása | E51: 2 | F51: 131123 | Q51: =SUM(G51:P51) -> 0
D52: - pedagógus napi rendezvény szervezése | E52: 2 | F52: 131212 | Q52: =SUM(G52:P52) -> 0
D53: - díszokleveles pedagógusok ünnepsége és jutalmazása | E53: 2 | F53: 131122 | Q53: =SUM(G53:P53) -> 0
D54: - angol nyelvű óvodai csoport dolgozói részére angol nyelvi felkészítő támogatása | E54: 2 | F54: 131124 | Q54: =SUM(G54:P54) -> 0
D55: - Zeg.Felsőfokú Oktatásáért Közalapítvány támogatása | E55: 2 | F55: 131107 | Q55: =SUM(G55:P55) -> 0
D56: - nyári táboroztatás | E56: 2 | F56: 131128 | Q56: =SUM(G56:P56) -> 0
D57: Kulturális és ifjúsági feladatok
D58: 084070 A fiatalok társ. integrációját segítő struktúra, szakmai szolgált. fejlesztése, működtetése
D59: - ifjúsági rendezvények | E59: 2 | F59: 131201 | Q59: =SUM(G59:P59) -> 0
D60: - Zalaegerszegi Városi Diákönkormányzat | E60: 2 | F60: 131202 | Q60: =SUM(G60:P60) -> 0
D61: - Zalaegerszegi Városi Diáknapok | E61: 2 | F61: 131205 | Q61: =SUM(G61:P61) -> 0
D62: - Zalaegerszegi Egyetemisták Egyesülete | E62: 2 | F62: 131206 | Q62: =SUM(G62:P62) -> 0
D63: - Zalaegerszegi Ifjúsági Kerekasztal | E63: 2 | F63: 131209 | Q63: =SUM(G63:P63) -> 0
D64: - UNICEF gyermekbarát település pályázat | E64: 2 | F64: 131211 | Q64: =SUM(G64:P64) -> 0
D65: 094260 Hallgatói és oktatói ösztöndíjak, egyéb juttatások
D66: - felsőoktatási ösztöndíj és támogatás | E66: 2 | F66: 131101 | Q66: =SUM(G66:P66) -> 0
D67: 074052 Kábítószer megelőzés programja
D68: - Zalaegerszegi Kábítószerügyi Egyeztető Fórum | E68: 2 | F68: 131120 | Q68: =SUM(G68:P68) -> 0
D69: 082091 Közművelődés - közösségi és társ. részvétel fejleszt.
D70: - Magyar Kultúra Napja | E70: 2 | F70: 131346 | G70: 412 | H70: 54 | K70: -466 | Q70: =SUM(G70:P70) -> 0 | R70: pm
D71: - Fazekas-keramikus találkozó | E71: 2 | F71: 131305 | Q71: =SUM(G71:P71) -> 0
D72: - Egerszeg búcsú | E72: 2 | F72: 131306 | Q72: =SUM(G72:P72) -> 0
D73: - Betlehem működtetése | E73: 2 | F73: 131325 | Q73: =SUM(G73:P73) -> 0
D74: - Kvártélyház Kft. támogatása | E74: 2 | F74: 131321 | Q74: =SUM(G74:P74) -> 0
D75: - Zalaegerszegi Rendezvényszervező Kft. működési támogatása | E75: 2 | F75: 131313 | Q75: =SUM(G75:P75) -> 0
D76: - Keresztury Emlékbizottság | E76: 2 | F76: 131501 | Q76: =SUM(G76:P76) -> 0
D77: - Gébárti Művésztelep | E77: 2 | F77: 131307 | Q77: =SUM(G77:P77) -> 0
D78: - táncház mozgalom | E78: 2 | F78: 131340 | Q78: =SUM(G78:P78) -> 0
D79: - folk hétvége | E79: 2 | F79: 131343 | Q79: =SUM(G79:P79) -> 0
D80: - éves sajtófotó kiállítás | E80: 2 | F80: 131310 | Q80: =SUM(G80:P80) -> 0
D81: - Kamaratáncfesztivál | E81: 2 | F81: 131315 | Q81: =SUM(G81:P81) -> 0
D82: - Kórusfesztivál | E82: 2 | F82: 131314 | Q82: =SUM(G82:P82) -> 0
... D84: - '47-es Honvéd Zászlóalj Hagyományőrző Egyesület támogatása | E84: 2 | F84: 131345 | Q84: =SUM(G84:P84) -> 0
D85: 084031 Civil szervezetek műk. támogatása
D86: - Zalai Civil Életért Közhasznú Egy.támogatása (Civil ház működtetése) | E86: 2 | F86: 131401 | Q86: =SUM(G86:P86) -> 0
D87: - Pannon Tükör kulturális folyóirat támogatása | E87: 2 | F87: 131402 | Q87: =SUM(G87:P87) -> 0
D88: - önálló kulturális egyesületek, együttesek | E88: 2 | F88: 131403 | Q88: =SUM(G88:P88) -> 0
D89: - peremkerületek támogatása | E89: 2 | F89: 131404 | Q89: =SUM(G89:P89) -> 0
D90: - Zalai Táncegyüttes Egyesület támogatás | E90: 2 | F90: 131330 | Q90: =SUM(G90:P90) -> 0
D91: - Zalegerszeg Kultúrájáért Közalapítvány támogatása | E91: 2 | F91: 131507 | Q91: =SUM(G91:P91) -> 0
D92: - Zalaegerszegi Honvéd Klub támogatása | E92: 2 | F92: 171943 | Q92: =SUM(G92:P92) -> 0
D93: - "Steet Food"Fesztivál | E93: 2 | F93: 131409 | Q93: =SUM(G93:P93) -> 0
D94: 082030 Művészeti tevékenység
D95: - művészeti ösztöndíjak | E95: 2 | F95: 131502 | Q95: =SUM(G95:P95) -> 0
D96: - Térzenei koncertek EMT-TE-B-A-21-0515 | E96: 2 | F96: 131304 | Q96: =SUM(G96:P96) -> 0
D97: - Zalaegerszegi amatőr kórusok és gyeremekkórus találkozó támogatása EMT-TE-B-A-21-0516 | E97: 2 | F97: 131867 | Q97: =SUM(G97:P97) -> 0
D98: - István a király-ünnepi megemlékezés EMT-TE-B-A-21-0523 | E98: 2 | F98: 131868 | Q98: =SUM(G98:P98) -> 0
D99: - R&J szinergiái - Egy történet száz alakban EMT-TE-B-A-21-0517 | E99: 2 | F99: 131328 | Q99: =SUM(G99:P99) -> 0
D100: 018030 Támogatási célú finanszírozási műveletek
D101: - Hevesi Sándor Színház társműködtetöi támogatás átadása | E101: 1 | F101: 131508 | Q101: =SUM(G101:P101) -> 0
...

Sheet táj3
A1: Címszám | B1: Sorszám | C1: Megnevezés | D1: Költségvetési bevételek | K1: Finanszírozási bevételek | N1: Bevételek összesen
D2: Működési célú támogatások áht-n belülről | E2: Felhalmozási célú támogatások áht-n belülről | F2: Közhatalmi bevételek | G2: Működési bevételek | H2: Felhalmozási bevételek | I2: Működési célú átvett pénzeszközök | J2: Felhalmozási célú átvett pénzeszközök | K2: Maradvány igénybevétele | L2: Központi, irányító szervi támogatás | M2: Egyéb finanszírozási bevétel
A3: 2 | C3: Költségvetési szervek
B4: 1 | C4: Polgármesteri Hivatal | L4: 2908 | N4: =SUM(D4:M4) -> 2908
B5: 2 | C5: Zalaegerszegi Gazdasági Ellátó Szervezet | L5: 367 | N5: =SUM(D5:M5) -> 367
B6: 3 | C6: Zalaegerszegi Egyesített Bölcsődék | L6: 2079 | N6: =SUM(D6:M6) -> 2079
B7: 4 | C7: Zalaegerszegi Egészségügyi Alapellátási Intézmény | N7: =SUM(D7:M7) -> 0
B8: 5 | C8: Zalaegerszegi Család- és Gyermekjóléti Központ | L8: 12838 | N8: =SUM(D8:M8) -> 12838
B9: 6 | C9: Zalaegerszegi Belvárosi I. számú Óvoda | N9: =SUM(D9:M9) -> 0
B10: 7 | C10: Zalaegerszegi Belvárosi II. számú Óvoda | N10: =SUM(D10:M10) -> 0
B11: 8 | C11: Zalaegerszegi Kertvárosi Óvoda | N11: =SUM(D11:M11) -> 0
B12: 9 | C12: Zalaegerszegi Landorhegyi Óvoda | N12: =SUM(D12:M12) -> 0
B13: 10 | C13: Közgyűjteményi és Közművelődési GESZ | N13: =SUM(D13:M13) -> 0
B14: 11 | C14: Keresztury Dezső Városi Művelődési Központ | L14: 12540 | N14: =SUM(D14:M14) -> 12540
B15: 12 | C15: Zalaegerszegi Turisztikai Hivatal és Információs Iroda | N15: =SUM(D15:M15) -> 0
B16: 13 | C16: Deák Ferenc Megyei és Városi Könyvtár | N16: =SUM(D16:M16) -> 0
B17: 14 | C17: Göcseji Múzeum | D17: 2120 | L17: -200 | N17: =SUM(D17:M17) -> 1920
B18: 15 | C18: Hevesi Sándor Színház | N18: =SUM(D18:M18) -> 0
B19: 16 | C19: Griff Bábszínház | N19: =SUM(D19:M19) -> 0
B20: 17 | C20: Városi Sportlétesítmény Gondnokság Intézménye | N20: =SUM(D20:M20) -> 0
B21: 18 | C21: Vásárcsarnok | N21: =SUM(D21:M21) -> 0
C22: Összesen: | D22: =SUM(D4:D21) -> 2120 | E22: =SUM(E4:E21) -> 0 | F22: =SUM(F4:F21) -> 0 | G22: =SUM(G4:G21) -> 0 | H22: =SUM(H4:H21) -> 0 | I22: =SUM(I4:I21) -> 0 | J22: =SUM(J4:J21) -> 0 | K22: =SUM(K4:K21) -> 0 | ... N22: =SUM(N4:N21) -> 32652

Sheet táj4
A1: Cím szám | B1: Sorszám | C1: Megnevezés | D1: Költségvetési kiadások | L1: Finanszírozási kiadások | M1: Kiadások összesen
D2: Személyi juttatások | E2: Munkaadókat terhelő járulékok és szociális hj.adó | F2: Dologi kiadások | G2: Ellátottak pénzbeli juttatásai | H2: Egyéb működési célú kiadások | I2: Beruházások | J2: Felújítások | K2: Egyéb felhalmo-zási célú kiadások
A3: 2 | C3: Költségvetési szervek
B4: 1 | C4: Polgármesteri Hivatal | D4: 2573 | E4: 335 | M4: =SUM(D4:L4) -> 2908
B5: 2 | C5: Zalaegerszegi Gazdasági Ellátó Szervezet | F5: 367 | M5: =SUM(D5:L5) -> 367
B6: 3 | C6: Zalaegerszegi Egyesített Bölcsődék | D6: 1821 | E6: 258 | M6: =SUM(D6:L6) -> 2079
B7: 4 | C7: Zalaegerszegi Egészségügyi Alapellátási Intézmény | M7: =SUM(D7:L7) -> 0
B8: 5 | C8: Zalaegerszegi Család- és Gyermekjóléti Központ | D8: 9061 | E8: 1277 | G8: 2500 | M8: =SUM(D8:L8) -> 12838
B9: 6 | C9: Zalaegerszegi Belvárosi I. számú Óvoda | F9: -1500 | I9: 1500 | M9: =SUM(D9:L9) -> 0
B10: 7 | C10: Zalaegerszegi Belvárosi II. számú Óvoda | M10: =SUM(D10:L10) -> 0
B11: 8 | C11: Zalaegerszegi Kertvárosi Óvoda | M11: =SUM(D11:L11) -> 0
B12: 9 | C12: Zalaegerszegi Landorhegyi Óvoda | F12: -195 | J12: 195 | M12: =SUM(D12:L12) -> 0
B13: 10 | C13: Közgyűjteményi és Közművelődési GESZ | M13: =SUM(D13:L13) -> 0
B14: 11 | C14: Keresztury Dezső Városi Művelődési Központ | I14: 12540 | M14: =SUM(D14:L14) -> 12540
B15: 12 | C15: Zalaegerszegi Turisztikai Hivatal és Információs Iroda | M15: =SUM(D15:L15) -> 0
B16: 13 | C16: Deák Ferenc Megyei és Városi Könyvtár | M16: =SUM(D16:L16) -> 0
B17: 14 | C17: Göcseji Múzeum | F17: 6 | H17: 1914 | M17: =SUM(D17:L17) -> 1920
B18: 15 | C18: Hevesi Sándor Színház | M18: =SUM(D18:L18) -> 0
B19: 16 | C19: Griff Bábszínház | F19: -10000 | I19: 10000 | M19: =SUM(D19:L19) -> 0
B20: 17 | C20: Városi Sportlétesítmény Gondnokság Intézménye | M20: =SUM(D20:L20) -> 0
B21: 18 | C21: Vásárcsarnok | M21: =SUM(D21:L21) -> 0
C22: Összesen: | D22: =SUM(D4:D21) -> 13455 | E22: =SUM(E4:E21) -> 1870 | F22: =SUM(F4:F21) -> -11322 | G22: =SUM(G4:G21) -> 2500 | H22: =SUM(H4:H21) -> 1914 | I22: =SUM(I4:I21) -> 24040 | J22: =SUM(J4:J21) -> 195 | K22: =SUM(K4:K21) -> 0 | ... M22: =SUM(M4:M21) -> 32652
