Workbook

Sheet Alibánfa
A2: Gördülő fejlesztési terv a 2021 - 2035 időszakra
A3: BERUHÁZÁSOK ÖSSZEFOGLALÓ TÁBLÁZATA
A4: A tervet benyújtó szervezet megnevezése: | K4: ALIBÁNFA | R4: ellátásért felelős / ellátásért felelősök képviselője / víziközmű-szolgáltató *
A5: Víziközmű-szolgáltató megnevezése: | K5: ÉSZAK ZALAI VÍZ- ÉS CSATORNAMŰ ZÁRTKÖRŰEN MŰKÖDŐ RÉSZVÉNYTÁRSASÁG
A6: Víziközmű-szolgáltatási ágazat megnevezése: | K6: SZENNYVÍZ ÁGAZAT
A7: Véleményeltérést megfogalmazó érintett fél megnevezése:
A8: Víziközmű-rendszer kódja: ** | K8: 21-32054-1-048-01-10 | R8: Zalaegerszeg-SZV
A9: V. Szennyvízelvezetés
A10: Fontossági sorrend | B10: Beruházás megnevezése | E10: Műszaki állapot felmérés, szükségességi indoklás | H10: Vízjogi létesítési/elvi engedély száma | I10: Az érintett ellátásért felelős(ök) megnevezése | J10: Tervezett nettó költség | K10: Forrás 2021 évre | L10: Megvalósítás időtartama | N10: Tervezett időtáv | O10: A beruházás ütemezése a tervezési időszak évei szerint
E11: Jelenlegi műszaki állapot | F11: Feladat szükségessége | G11: Megvalósítást követő várható műszaki állapot | J11: (eFt) | L11: Kezdés | M11: Befejezés | N11: (rövid / közép / hosszú) | O11: 1 | P11: 2 | Q11: 3 | R11: 4 | S11: 5 | T11: 6 | U11: 7 | V11: 8 | W11: 9 | X11: 10 | Y11: 11 | Z11: 12 | AA11: 13 | AB11: 14 | AC11: 15
B12: szakág | C12: Helyszín | D12: beruházás megnevezése
B14: SZENNYVÍZCSATORNA (GRAVITÁCIÓS)
B15: Épület, építmény
B17: SZENNYVÍZVEZETÉKEK (KÉNYSZERÁRAMOLTATÁSÚ)
B19: SZENNYVÍZÁTEMELŐK
B20: Épület, építmény
B21: Gép, berendezés
B22: Irányítástechnika, energiaellátás
B24: Összesen: | J24: =SUM(J14:J23) -> 0 | K24: 0 | O24: =SUM(O13:O23) -> 0 | P24: =SUM(P13:P23) -> 0 | Q24: =SUM(Q13:Q23) -> 0 | R24: =SUM(R13:R23) -> 0 | S24: =SUM(S13:S23) -> 0 | T24: =SUM(T13:T23) -> 0 | U24: =SUM(U13:U23) -> 0 | V24: =SUM(V13:V23) -> 0 | ... AC24: =SUM(AC13:AC23) -> 0
K25: Beruházásra forrás nem áll rendelkezésre.
B26: Tervezett feladatok nettó költsége a teljes ütem tekintetében (eFt) | C26: Rendelkezésre álló források számszerűsített értéke a teljes ütem tekintetében (eFt) | D26: Rendelkezésre álló források megnevezése
A27: I. ütem | B27: =O24 -> 0 | C27: 0 | D27: Fejlesztési díj (2021)
A28: II. ütem | B28: =SUM(P24:S24) -> 0 | C28: =C27*4 -> 0 | D28: Fejlesztési díj (2022-2025)
A29: III. ütem | B29: =SUM(T24:AC24) -> 0 | C29: =C27*10 -> 0 | D29: Fejlesztési díj (2026-2035)
B32: Jelenleg beruházási igény nem ismert, nincs rendelkezésre álló forrás beruházásra.

Sheet Alsónemesapáti
A2: Gördülő fejlesztési terv a 2021 - 2035 időszakra
A3: BERUHÁZÁSOK ÖSSZEFOGLALÓ TÁBLÁZATA
A4: A tervet benyújtó szervezet megnevezése: | K4: ALSÓNEMESAPÁTI | R4: ellátásért felelős / ellátásért felelősök képviselője / víziközmű-szolgáltató *
A5: Víziközmű-szolgáltató megnevezése: | K5: ÉSZAK ZALAI VÍZ- ÉS CSATORNAMŰ ZÁRTKÖRŰEN MŰKÖDŐ RÉSZVÉNYTÁRSASÁG
A6: Víziközmű-szolgáltatási ágazat megnevezése: | K6: SZENNYVÍZ ÁGAZAT
A7: Véleményeltérést megfogalmazó érintett fél megnevezése:
A8: Víziközmű-rendszer kódja: ** | K8: 21-32054-1-048-01-10 | R8: Zalaegerszeg-SZV
A9: V. Szennyvízelvezetés
A10: Fontossági sorrend | B10: Beruházás megnevezése | E10: Műszaki állapot felmérés, szükségességi indoklás | H10: Vízjogi létesítési/elvi engedély száma | I10: Az érintett ellátásért felelős(ök) megnevezése | J10: Tervezett nettó költség | K10: Forrás 2021 évre | L10: Megvalósítás időtartama | N10: Tervezett időtáv | O10: A beruházás ütemezése a tervezési időszak évei szerint
E11: Jelenlegi műszaki állapot | F11: Feladat szükségessége | G11: Megvalósítást követő várható műszaki állapot | J11: (eFt) | L11: Kezdés | M11: Befejezés | N11: (rövid / közép / hosszú) | O11: 1 | P11: 2 | Q11: 3 | R11: 4 | S11: 5 | T11: 6 | U11: 7 | V11: 8 | W11: 9 | X11: 10 | Y11: 11 | Z11: 12 | AA11: 13 | AB11: 14 | AC11: 15
B12: szakág | C12: Helyszín | D12: beruházás megnevezése
B14: SZENNYVÍZCSATORNA (GRAVITÁCIÓS)
B15: Épület, építmény
B17: SZENNYVÍZVEZETÉKEK (KÉNYSZERÁRAMOLTATÁSÚ)
B19: SZENNYVÍZÁTEMELŐK
B20: Épület, építmény
B21: Gép, berendezés
B22: Irányítástechnika, energiaellátás
B24: Összesen: | J24: =SUM(J14:J23) -> 0 | K24: 0 | O24: =SUM(O13:O23) -> 0 | P24: =SUM(P13:P23) -> 0 | Q24: =SUM(Q13:Q23) -> 0 | R24: =SUM(R13:R23) -> 0 | S24: =SUM(S13:S23) -> 0 | T24: =SUM(T13:T23) -> 0 | U24: =SUM(U13:U23) -> 0 | V24: =SUM(V13:V23) -> 0 | ... AC24: =SUM(AC13:AC23) -> 0
K25: Beruházásra forrás nem áll rendelkezésre.
B26: Tervezett feladatok nettó költsége a teljes ütem tekintetében (eFt) | C26: Rendelkezésre álló források számszerűsített értéke a teljes ütem tekintetében (eFt) | D26: Rendelkezésre álló források megnevezése
A27: I. ütem | B27: =O24 -> 0 | C27: 0 | D27: Fejlesztési díj (2021)
A28: II. ütem | B28: =SUM(P24:S24) -> 0 | C28: =C27*4 -> 0 | D28: Fejlesztési díj (2022-2025)
A29: III. ütem | B29: =SUM(T24:AC24) -> 0 | C29: =C27*10 -> 0 | D29: Fejlesztési díj (2026-2035)
B32: Jelenleg beruházási igény nem ismert, nincs rendelkezésre álló forrás beruházásra.

Sheet Babosdöbréte
A2: Gördülő fejlesztési terv a 2021 - 2035 időszakra
A3: BERUHÁZÁSOK ÖSSZEFOGLALÓ TÁBLÁZATA
A4: A tervet benyújtó szervezet megnevezése: | K4: BABOSDÖBRÉTE | R4: ellátásért felelős / ellátásért felelősök képviselője / víziközmű-szolgáltató *
A5: Víziközmű-szolgáltató megnevezése: | K5: ÉSZAK ZALAI VÍZ- ÉS CSATORNAMŰ ZÁRTKÖRŰEN MŰKÖDŐ RÉSZVÉNYTÁRSASÁG
A6: Víziközmű-szolgáltatási ágazat megnevezése: | K6: SZENNYVÍZ ÁGAZAT
A7: Véleményeltérést megfogalmazó érintett fél megnevezése:
A8: Víziközmű-rendszer kódja: ** | K8: 21-32054-1-048-01-10 | R8: Zalaegerszeg-SZV
A9: V. Szennyvízelvezetés
A10: Fontossági sorrend | B10: Beruházás megnevezése | E10: Műszaki állapot felmérés, szükségességi indoklás | H10: Vízjogi létesítési/elvi engedély száma | I10: Az érintett ellátásért felelős(ök) megnevezése | J10: Tervezett nettó költség | K10: Forrás 2021 évre | L10: Megvalósítás időtartama | N10: Tervezett időtáv | O10: A beruházás ütemezése a tervezési időszak évei szerint
E11: Jelenlegi műszaki állapot | F11: Feladat szükségessége | G11: Megvalósítást követő várható műszaki állapot | J11: (eFt) | L11: Kezdés | M11: Befejezés | N11: (rövid / közép / hosszú) | O11: 1 | P11: 2 | Q11: 3 | R11: 4 | S11: 5 | T11: 6 | U11: 7 | V11: 8 | W11: 9 | X11: 10 | Y11: 11 | Z11: 12 | AA11: 13 | AB11: 14 | AC11: 15
B12: szakág | C12: Helyszín | D12: beruházás megnevezése
B14: SZENNYVÍZCSATORNA (GRAVITÁCIÓS)
B15: Épület, építmény
B17: SZENNYVÍZVEZETÉKEK (KÉNYSZERÁRAMOLTATÁSÚ)
B19: SZENNYVÍZÁTEMELŐK
B20: Épület, építmény
B21: Gép, berendezés
B22: Irányítástechnika, energiaellátás
B24: Összesen: | J24: =SUM(J14:J23) -> 0 | K24: 0 | O24: =SUM(O13:O23) -> 0 | P24: =SUM(P13:P23) -> 0 | Q24: =SUM(Q13:Q23) -> 0 | R24: =SUM(R13:R23) -> 0 | S24: =SUM(S13:S23) -> 0 | T24: =SUM(T13:T23) -> 0 | U24: =SUM(U13:U23) -> 0 | V24: =SUM(V13:V23) -> 0 | ... AC24: =SUM(AC13:AC23) -> 0
K25: Beruházásra forrás nem áll rendelkezésre.
B26: Tervezett feladatok nettó költsége a teljes ütem tekintetében (eFt) | C26: Rendelkezésre álló források számszerűsített értéke a teljes ütem tekintetében (eFt) | D26: Rendelkezésre álló források megnevezése
A27: I. ütem | B27: =O24 -> 0 | C27: 0 | D27: Fejlesztési díj (2021)
A28: II. ütem | B28: =SUM(P24:S24) -> 0 | C28: =C27*4 -> 0 | D28: Fejlesztési díj (2022-2025)
A29: III. ütem | B29: =SUM(T24:AC24) -> 0 | C29: =C27*10 -> 0 | D29: Fejlesztési díj (2026-2035)
B32: Jelenleg beruházási igény nem ismert, nincs rendelkezésre álló forrás beruházásra.

Sheet Bagod
A2: Gördülő fejlesztési terv a 2021 - 2035 időszakra
A3: BERUHÁZÁSOK ÖSSZEFOGLALÓ TÁBLÁZATA
A4: A tervet benyújtó szervezet megnevezése: | K4: BAGOD | R4: ellátásért felelős / ellátásért felelősök képviselője / víziközmű-szolgáltató *
A5: Víziközmű-szolgáltató megnevezése: | K5: ÉSZAK ZALAI VÍZ- ÉS CSATORNAMŰ ZÁRTKÖRŰEN MŰKÖDŐ RÉSZVÉNYTÁRSASÁG
A6: Víziközmű-szolgáltatási ágazat megnevezése: | K6: SZENNYVÍZ ÁGAZAT
A7: Véleményeltérést megfogalmazó érintett fél megnevezése:
A8: Víziközmű-rendszer kódja: ** | K8: 21-32054-1-048-01-10 | R8: Zalaegerszeg-SZV
A9: V. Szennyvízelvezetés
A10: Fontossági sorrend | B10: Beruházás megnevezése | E10: Műszaki állapot felmérés, szükségességi indoklás | H10: Vízjogi létesítési/elvi engedély száma | I10: Az érintett ellátásért felelős(ök) megnevezése | J10: Tervezett nettó költség | K10: Forrás 2021 évre | L10: Megvalósítás időtartama | N10: Tervezett időtáv | O10: A beruházás ütemezése a tervezési időszak évei szerint
E11: Jelenlegi műszaki állapot | F11: Feladat szükségessége | G11: Megvalósítást követő várható műszaki állapot | J11: (eFt) | L11: Kezdés | M11: Befejezés | N11: (rövid / közép / hosszú) | O11: 1 | P11: 2 | Q11: 3 | R11: 4 | S11: 5 | T11: 6 | U11: 7 | V11: 8 | W11: 9 | X11: 10 | Y11: 11 | Z11: 12 | AA11: 13 | AB11: 14 | AC11: 15
B12: szakág | C12: Helyszín | D12: beruházás megnevezése
B14: SZENNYVÍZCSATORNA (GRAVITÁCIÓS)
B15: Épület, építmény
B17: SZENNYVÍZVEZETÉKEK (KÉNYSZERÁRAMOLTATÁSÚ)
B19: SZENNYVÍZÁTEMELŐK
B20: Épület, építmény
B21: Gép, berendezés
B22: Irányítástechnika, energiaellátás
B24: Összesen: | J24: =SUM(J14:J23) -> 0 | K24: 0 | O24: =SUM(O13:O23) -> 0 | P24: =SUM(P13:P23) -> 0 | Q24: =SUM(Q13:Q23) -> 0 | R24: =SUM(R13:R23) -> 0 | S24: =SUM(S13:S23) -> 0 | T24: =SUM(T13:T23) -> 0 | U24: =SUM(U13:U23) -> 0 | V24: =SUM(V13:V23) -> 0 | ... AC24: =SUM(AC13:AC23) -> 0
K25: Beruházásra forrás nem áll rendelkezésre.
B26: Tervezett feladatok nettó költsége a teljes ütem tekintetében (eFt) | C26: Rendelkezésre álló források számszerűsített értéke a teljes ütem tekintetében (eFt) | D26: Rendelkezésre álló források megnevezése
A27: I. ütem | B27: =O24 -> 0 | C27: 0 | D27: Fejlesztési díj (2021)
A28: II. ütem | B28: =SUM(P24:S24) -> 0 | C28: =C27*4 -> 0 | D28: Fejlesztési díj (2022-2025)
A29: III. ütem | B29: =SUM(T24:AC24) -> 0 | C29: =C27*10 -> 0 | D29: Fejlesztési díj (2026-2035)
B32: Jelenleg beruházási igény nem ismert, nincs rendelkezésre álló forrás beruházásra.

Sheet Bak
A2: Gördülő fejlesztési terv a 2021 - 2035 időszakra
A3: BERUHÁZÁSOK ÖSSZEFOGLALÓ TÁBLÁZATA
A4: A tervet benyújtó szervezet megnevezése: | K4: BAK | R4: ellátásért felelős / ellátásért felelősök képviselője / víziközmű-szolgáltató *
A5: Víziközmű-szolgáltató megnevezése: | K5: ÉSZAK ZALAI VÍZ- ÉS CSATORNAMŰ ZÁRTKÖRŰEN MŰKÖDŐ RÉSZVÉNYTÁRSASÁG
A6: Víziközmű-szolgáltatási ágazat megnevezése: | K6: SZENNYVÍZ ÁGAZAT
A7: Véleményeltérést megfogalmazó érintett fél megnevezése:
A8: Víziközmű-rendszer kódja: ** | K8: 21-32054-1-048-01-10 | R8: Zalaegerszeg-SZV
A9: V. Szennyvízelvezetés
A10: Fontossági sorrend | B10: Beruházás megnevezése | E10: Műszaki állapot felmérés, szükségességi indoklás | H10: Vízjogi létesítési/elvi engedély száma | I10: Az érintett ellátásért felelős(ök) megnevezése | J10: Tervezett nettó költség | K10: Forrás 2021 évre | L10: Megvalósítás időtartama | N10: Tervezett időtáv | O10: A beruházás ütemezése a tervezési időszak évei szerint
E11: Jelenlegi műszaki állapot | F11: Feladat szükségessége | G11: Megvalósítást követő várható műszaki állapot | J11: (eFt) | L11: Kezdés | M11: Befejezés | N11: (rövid / közép / hosszú) | O11: 1 | P11: 2 | Q11: 3 | R11: 4 | S11: 5 | T11: 6 | U11: 7 | V11: 8 | W11: 9 | X11: 10 | Y11: 11 | Z11: 12 | AA11: 13 | AB11: 14 | AC11: 15
B12: szakág | C12: Helyszín | D12: beruházás megnevezése
B14: SZENNYVÍZCSATORNA (GRAVITÁCIÓS)
B15: Épület, építmény
B17: SZENNYVÍZVEZETÉKEK (KÉNYSZERÁRAMOLTATÁSÚ)
B19: SZENNYVÍZÁTEMELŐK
B20: Épület, építmény
B21: Gép, berendezés
B22: Irányítástechnika, energiaellátás
B24: Összesen: | J24: =SUM(J14:J23) -> 0 | K24: 0 | O24: =SUM(O13:O23) -> 0 | P24: =SUM(P13:P23) -> 0 | Q24: =SUM(Q13:Q23) -> 0 | R24: =SUM(R13:R23) -> 0 | S24: =SUM(S13:S23) -> 0 | T24: =SUM(T13:T23) -> 0 | U24: =SUM(U13:U23) -> 0 | V24: =SUM(V13:V23) -> 0 | ... AC24: =SUM(AC13:AC23) -> 0
K25: Beruházásra forrás nem áll rendelkezésre.
B26: Tervezett feladatok nettó költsége a teljes ütem tekintetében (eFt) | C26: Rendelkezésre álló források számszerűsített értéke a teljes ütem tekintetében (eFt) | D26: Rendelkezésre álló források megnevezése
A27: I. ütem | B27: =O24 -> 0 | C27: 0 | D27: Fejlesztési díj (2021)
A28: II. ütem | B28: =SUM(P24:S24) -> 0 | C28: =C27*4 -> 0 | D28: Fejlesztési díj (2022-2025)
A29: III. ütem | B29: =SUM(T24:AC24) -> 0 | C29: =C27*10 -> 0 | D29: Fejlesztési díj (2026-2035)
B32: Jelenleg beruházási igény nem ismert, nincs rendelkezésre álló forrás beruházásra.

Sheet Bocfölde
A2: Gördülő fejlesztési terv a 2021 - 2035 időszakra
A3: BERUHÁZÁSOK ÖSSZEFOGLALÓ TÁBLÁZATA
A4: A tervet benyújtó szervezet megnevezése: | K4: BOCFÖLDE | R4: ellátásért felelős / ellátásért felelősök képviselője / víziközmű-szolgáltató *
A5: Víziközmű-szolgáltató megnevezése: | K5: ÉSZAK ZALAI VÍZ- ÉS CSATORNAMŰ ZÁRTKÖRŰEN MŰKÖDŐ RÉSZVÉNYTÁRSASÁG
A6: Víziközmű-szolgáltatási ágazat megnevezése: | K6: SZENNYVÍZ ÁGAZAT
A7: Véleményeltérést megfogalmazó érintett fél megnevezése:
A8: Víziközmű-rendszer kódja: ** | K8: 21-32054-1-048-01-10 | R8: Zalaegerszeg-SZV
A9: V. Szennyvízelvezetés
A10: Fontossági sorrend | B10: Beruházás megnevezése | E10: Műszaki állapot felmérés, szükségességi indoklás | H10: Vízjogi létesítési/elvi engedély száma | I10: Az érintett ellátásért felelős(ök) megnevezése | J10: Tervezett nettó költség | K10: Forrás 2021 évre | L10: Megvalósítás időtartama | N10: Tervezett időtáv | O10: A beruházás ütemezése a tervezési időszak évei szerint
E11: Jelenlegi műszaki állapot | F11: Feladat szükségessége | G11: Megvalósítást követő várható műszaki állapot | J11: (eFt) | L11: Kezdés | M11: Befejezés | N11: (rövid / közép / hosszú) | O11: 1 | P11: 2 | Q11: 3 | R11: 4 | S11: 5 | T11: 6 | U11: 7 | V11: 8 | W11: 9 | X11: 10 | Y11: 11 | Z11: 12 | AA11: 13 | AB11: 14 | AC11: 15
B12: szakág | C12: Helyszín | D12: beruházás megnevezése
B14: SZENNYVÍZCSATORNA (GRAVITÁCIÓS)
B15: Épület, építmény
B17: SZENNYVÍZVEZETÉKEK (KÉNYSZERÁRAMOLTATÁSÚ)
B19: SZENNYVÍZÁTEMELŐK
B20: Épület, építmény
B21: Gép, berendezés
B22: Irányítástechnika, energiaellátás
B24: Összesen: | J24: =SUM(J14:J23) -> 0 | K24: 0 | O24: =SUM(O13:O23) -> 0 | P24: =SUM(P13:P23) -> 0 | Q24: =SUM(Q13:Q23) -> 0 | R24: =SUM(R13:R23) -> 0 | S24: =SUM(S13:S23) -> 0 | T24: =SUM(T13:T23) -> 0 | U24: =SUM(U13:U23) -> 0 | V24: =SUM(V13:V23) -> 0 | ... AC24: =SUM(AC13:AC23) -> 0
K25: Beruházásra forrás nem áll rendelkezésre.
B26: Tervezett feladatok nettó költsége a teljes ütem tekintetében (eFt) | C26: Rendelkezésre álló források számszerűsített értéke a teljes ütem tekintetében (eFt) | D26: Rendelkezésre álló források megnevezése
A27: I. ütem | B27: =O24 -> 0 | C27: 0 | D27: Fejlesztési díj (2021)
A28: II. ütem | B28: =SUM(P24:S24) -> 0 | C28: =C27*4 -> 0 | D28: Fejlesztési díj (2022-2025)
A29: III. ütem | B29: =SUM(T24:AC24) -> 0 | C29: =C27*10 -> 0 | D29: Fejlesztési díj (2026-2035)
B32: Jelenleg beruházási igény nem ismert, nincs rendelkezésre álló forrás beruházásra.

Sheet Boncodfölde
A2: Gördülő fejlesztési terv a 2021 - 2035 időszakra
A3: BERUHÁZÁSOK ÖSSZEFOGLALÓ TÁBLÁZATA
A4: A tervet benyújtó szervezet megnevezése: | K4: BONCODFÖLDE | R4: ellátásért felelős / ellátásért felelősök képviselője / víziközmű-szolgáltató *
A5: Víziközmű-szolgáltató megnevezése: | K5: ÉSZAK ZALAI VÍZ- ÉS CSATORNAMŰ ZÁRTKÖRŰEN MŰKÖDŐ RÉSZVÉNYTÁRSASÁG
A6: Víziközmű-szolgáltatási ágazat megnevezése: | K6: SZENNYVÍZ ÁGAZAT
A7: Véleményeltérést megfogalmazó érintett fél megnevezése:
A8: Víziközmű-rendszer kódja: ** | K8: 21-32054-1-048-01-10 | R8: Zalaegerszeg-SZV
A9: V. Szennyvízelvezetés
A10: Fontossági sorrend | B10: Beruházás megnevezése | E10: Műszaki állapot felmérés, szükségességi indoklás | H10: Vízjogi létesítési/elvi engedély száma | I10: Az érintett ellátásért felelős(ök) megnevezése | J10: Tervezett nettó költség | K10: Forrás 2021 évre | L10: Megvalósítás időtartama | N10: Tervezett időtáv | O10: A beruházás ütemezése a tervezési időszak évei szerint
E11: Jelenlegi műszaki állapot | F11: Feladat szükségessége | G11: Megvalósítást követő várható műszaki állapot | J11: (eFt) | L11: Kezdés | M11: Befejezés | N11: (rövid / közép / hosszú) | O11: 1 | P11: 2 | Q11: 3 | R11: 4 | S11: 5 | T11: 6 | U11: 7 | V11: 8 | W11: 9 | X11: 10 | Y11: 11 | Z11: 12 | AA11: 13 | AB11: 14 | AC11: 15
B12: szakág | C12: Helyszín | D12: beruházás megnevezése
B14: SZENNYVÍZCSATORNA (GRAVITÁCIÓS)
B15: Épület, építmény
B17: SZENNYVÍZVEZETÉKEK (KÉNYSZERÁRAMOLTATÁSÚ)
B19: SZENNYVÍZÁTEMELŐK
B20: Épület, építmény
B21: Gép, berendezés
B22: Irányítástechnika, energiaellátás
B24: Összesen: | J24: =SUM(J14:J23) -> 0 | K24: 0 | O24: =SUM(O13:O23) -> 0 | P24: =SUM(P13:P23) -> 0 | Q24: =SUM(Q13:Q23) -> 0 | R24: =SUM(R13:R23) -> 0 | S24: =SUM(S13:S23) -> 0 | T24: =SUM(T13:T23) -> 0 | U24: =SUM(U13:U23) -> 0 | V24: =SUM(V13:V23) -> 0 | ... AC24: =SUM(AC13:AC23) -> 0
K25: Beruházásra forrás nem áll rendelkezésre.
B26: Tervezett feladatok nettó költsége a teljes ütem tekintetében (eFt) | C26: Rendelkezésre álló források számszerűsített értéke a teljes ütem tekintetében (eFt) | D26: Rendelkezésre álló források megnevezése
A27: I. ütem | B27: =O24 -> 0 | C27: 0 | D27: Fejlesztési díj (2021)
A28: II. ütem | B28: =SUM(P24:S24) -> 0 | C28: =C27*4 -> 0 | D28: Fejlesztési díj (2022-2025)
A29: III. ütem | B29: =SUM(T24:AC24) -> 0 | C29: =C27*10 -> 0 | D29: Fejlesztési díj (2026-2035)
B32: Jelenleg beruházási igény nem ismert, nincs rendelkezésre álló forrás beruházásra.

Sheet Böde
A2: Gördülő fejlesztési terv a 2021 - 2035 időszakra
A3: BERUHÁZÁSOK ÖSSZEFOGLALÓ TÁBLÁZATA
A4: A tervet benyújtó szervezet megnevezése: | K4: BÖDE | R4: ellátásért felelős / ellátásért felelősök képviselője / víziközmű-szolgáltató *
A5: Víziközmű-szolgáltató megnevezése: | K5: ÉSZAK ZALAI VÍZ- ÉS CSATORNAMŰ ZÁRTKÖRŰEN MŰKÖDŐ RÉSZVÉNYTÁRSASÁG
A6: Víziközmű-szolgáltatási ágazat megnevezése: | K6: SZENNYVÍZ ÁGAZAT
A7: Véleményeltérést megfogalmazó érintett fél megnevezése:
A8: Víziközmű-rendszer kódja: ** | K8: 21-32054-1-048-01-10 | R8: Zalaegerszeg-SZV
A9: V. Szennyvízelvezetés
A10: Fontossági sorrend | B10: Beruházás megnevezése | E10: Műszaki állapot felmérés, szükségességi indoklás | H10: Vízjogi létesítési/elvi engedély száma | I10: Az érintett ellátásért felelős(ök) megnevezése | J10: Tervezett nettó költség | K10: Forrás 2021 évre | L10: Megvalósítás időtartama | N10: Tervezett időtáv | O10: A beruházás ütemezése a tervezési időszak évei szerint
E11: Jelenlegi műszaki állapot | F11: Feladat szükségessége | G11: Megvalósítást követő várható műszaki állapot | J11: (eFt) | L11: Kezdés | M11: Befejezés | N11: (rövid / közép / hosszú) | O11: 1 | P11: 2 | Q11: 3 | R11: 4 | S11: 5 | T11: 6 | U11: 7 | V11: 8 | W11: 9 | X11: 10 | Y11: 11 | Z11: 12 | AA11: 13 | AB11: 14 | AC11: 15
B12: szakág | C12: Helyszín | D12: beruházás megnevezése
B14: SZENNYVÍZCSATORNA (GRAVITÁCIÓS)
B15: Épület, építmény
B17: SZENNYVÍZVEZETÉKEK (KÉNYSZERÁRAMOLTATÁSÚ)
B19: SZENNYVÍZÁTEMELŐK
B20: Épület, építmény
B21: Gép, berendezés
B22: Irányítástechnika, energiaellátás
B24: Összesen: | J24: =SUM(J14:J23) -> 0 | K24: 0 | O24: =SUM(O13:O23) -> 0 | P24: =SUM(P13:P23) -> 0 | Q24: =SUM(Q13:Q23) -> 0 | R24: =SUM(R13:R23) -> 0 | S24: =SUM(S13:S23) -> 0 | T24: =SUM(T13:T23) -> 0 | U24: =SUM(U13:U23) -> 0 | V24: =SUM(V13:V23) -> 0 | ... AC24: =SUM(AC13:AC23) -> 0
K25: Beruházásra forrás nem áll rendelkezésre.
B26: Tervezett feladatok nettó költsége a teljes ütem tekintetében (eFt) | C26: Rendelkezésre álló források számszerűsített értéke a teljes ütem tekintetében (eFt) | D26: Rendelkezésre álló források megnevezése
A27: I. ütem | B27: =O24 -> 0 | C27: 0 | D27: Fejlesztési díj (2021)
A28: II. ütem | B28: =SUM(P24:S24) -> 0 | C28: =C27*4 -> 0 | D28: Fejlesztési díj (2022-2025)
A29: III. ütem | B29: =SUM(T24:AC24) -> 0 | C29: =C27*10 -> 0 | D29: Fejlesztési díj (2026-2035)
B31: Jelenleg beruházási igény nem ismert, nincs rendelkezésre álló forrás beruházásra.

Sheet Búcsúszentlászló
A2: Gördülő fejlesztési terv a 2021 - 2035 időszakra
A3: BERUHÁZÁSOK ÖSSZEFOGLALÓ TÁBLÁZATA
A4: A tervet benyújtó szervezet megnevezése: | K4: BUCSUSZENTLÁSZLÓ | R4: ellátásért felelős / ellátásért felelősök képviselője / víziközmű-szolgáltató *
A5: Víziközmű-szolgáltató megnevezése: | K5: ÉSZAK ZALAI VÍZ- ÉS CSATORNAMŰ ZÁRTKÖRŰEN MŰKÖDŐ RÉSZVÉNYTÁRSASÁG
A6: Víziközmű-szolgáltatási ágazat megnevezése: | K6: SZENNYVÍZ ÁGAZAT
A7: Véleményeltérést megfogalmazó érintett fél megnevezése:
A8: Víziközmű-rendszer kódja: ** | K8: 21-32054-1-048-01-10 | R8: Zalaegerszeg-SZV
A9: V. Szennyvízelvezetés
A10: Fontossági sorrend | B10: Beruházás megnevezése | E10: Műszaki állapot felmérés, szükségességi indoklás | H10: Vízjogi létesítési/elvi engedély száma | I10: Az érintett ellátásért felelős(ök) megnevezése | J10: Tervezett nettó költség | K10: Forrás 2021 évre | L10: Megvalósítás időtartama | N10: Tervezett időtáv | O10: A beruházás ütemezése a tervezési időszak évei szerint
E11: Jelenlegi műszaki állapot | F11: Feladat szükségessége | G11: Megvalósítást követő várható műszaki állapot | J11: (eFt) | L11: Kezdés | M11: Befejezés | N11: (rövid / közép / hosszú) | O11: 1 | P11: 2 | Q11: 3 | R11: 4 | S11: 5 | T11: 6 | U11: 7 | V11: 8 | W11: 9 | X11: 10 | Y11: 11 | Z11: 12 | AA11: 13 | AB11: 14 | AC11: 15
B12: szakág | C12: Helyszín | D12: beruházás megnevezése
B14: SZENNYVÍZCSATORNA (GRAVITÁCIÓS)
B15: Épület, építmény
B17: SZENNYVÍZVEZETÉKEK (KÉNYSZERÁRAMOLTATÁSÚ)
B19: SZENNYVÍZÁTEMELŐK
B20: Épület, építmény
B21: Gép, berendezés
B22: Irányítástechnika, energiaellátás
B24: Összesen: | J24: =SUM(J14:J23) -> 0 | K24: 0 | O24: =SUM(O13:O23) -> 0 | P24: =SUM(P13:P23) -> 0 | Q24: =SUM(Q13:Q23) -> 0 | R24: =SUM(R13:R23) -> 0 | S24: =SUM(S13:S23) -> 0 | T24: =SUM(T13:T23) -> 0 | U24: =SUM(U13:U23) -> 0 | V24: =SUM(V13:V23) -> 0 | ... AC24: =SUM(AC13:AC23) -> 0
K25: Beruházásra forrás nem áll rendelkezésre.
B26: Tervezett feladatok nettó költsége a teljes ütem tekintetében (eFt) | C26: Rendelkezésre álló források számszerűsített értéke a teljes ütem tekintetében (eFt) | D26: Rendelkezésre álló források megnevezése
A27: I. ütem | B27: =O24 -> 0 | C27: 0 | D27: Fejlesztési díj (2021)
A28: II. ütem | B28: =SUM(P24:S24) -> 0 | C28: =C27*4 -> 0 | D28: Fejlesztési díj (2022-2025)
A29: III. ütem | B29: =SUM(T24:AC24) -> 0 | C29: =C27*10 -> 0 | D29: Fejlesztési díj (2026-2035)
B32: Jelenleg beruházási igény nem ismert, nincs rendelkezésre álló forrás beruházásra.

Sheet Csatár
A2: Gördülő fejlesztési terv a 2021 - 2035 időszakra
A3: BERUHÁZÁSOK ÖSSZEFOGLALÓ TÁBLÁZATA
A4: A tervet benyújtó szervezet megnevezése: | K4: CSATRÁ | R4: ellátásért felelős / ellátásért felelősök képviselője / víziközmű-szolgáltató *
A5: Víziközmű-szolgáltató megnevezése: | K5: ÉSZAK ZALAI VÍZ- ÉS CSATORNAMŰ ZÁRTKÖRŰEN MŰKÖDŐ RÉSZVÉNYTÁRSASÁG
A6: Víziközmű-szolgáltatási ágazat megnevezése: | K6: SZENNYVÍZ ÁGAZAT
A7: Véleményeltérést megfogalmazó érintett fél megnevezése:
A8: Víziközmű-rendszer kódja: ** | K8: 21-32054-1-048-01-10 | R8: Zalaegerszeg-SZV
A9: V. Szennyvízelvezetés
A10: Fontossági sorrend | B10: Beruházás megnevezése | E10: Műszaki állapot felmérés, szükségességi indoklás | H10: Vízjogi létesítési/elvi engedély száma | I10: Az érintett ellátásért felelős(ök) megnevezése | J10: Tervezett nettó költség | K10: Forrás 2021 évre | L10: Megvalósítás időtartama | N10: Tervezett időtáv | O10: A beruházás ütemezése a tervezési időszak évei szerint
E11: Jelenlegi műszaki állapot | F11: Feladat szükségessége | G11: Megvalósítást követő várható műszaki állapot | J11: (eFt) | L11: Kezdés | M11: Befejezés | N11: (rövid / közép / hosszú) | O11: 1 | P11: 2 | Q11: 3 | R11: 4 | S11: 5 | T11: 6 | U11: 7 | V11: 8 | W11: 9 | X11: 10 | Y11: 11 | Z11: 12 | AA11: 13 | AB11: 14 | AC11: 15
B12: szakág | C12: Helyszín | D12: beruházás megnevezése
B14: SZENNYVÍZCSATORNA (GRAVITÁCIÓS)
B15: Épület, építmény
B17: SZENNYVÍZVEZETÉKEK (KÉNYSZERÁRAMOLTATÁSÚ)
B19: SZENNYVÍZÁTEMELŐK
B20: Épület, építmény
B21: Gép, berendezés
B22: Irányítástechnika, energiaellátás
B24: Összesen: | J24: =SUM(J14:J23) -> 0 | K24: 0 | O24: =SUM(O13:O23) -> 0 | P24: =SUM(P13:P23) -> 0 | Q24: =SUM(Q13:Q23) -> 0 | R24: =SUM(R13:R23) -> 0 | S24: =SUM(S13:S23) -> 0 | T24: =SUM(T13:T23) -> 0 | U24: =SUM(U13:U23) -> 0 | V24: =SUM(V13:V23) -> 0 | ... AC24: =SUM(AC13:AC23) -> 0
K25: Beruházásra forrás nem áll rendelkezésre.
B26: Tervezett feladatok nettó költsége a teljes ütem tekintetében (eFt) | C26: Rendelkezésre álló források számszerűsített értéke a teljes ütem tekintetében (eFt) | D26: Rendelkezésre álló források megnevezése
A27: I. ütem | B27: =O24 -> 0 | C27: 0 | D27: Fejlesztési díj (2021)
A28: II. ütem | B28: =SUM(P24:S24) -> 0 | C28: =C27*4 -> 0 | D28: Fejlesztési díj (2022-2025)
A29: III. ütem | B29: =SUM(T24:AC24) -> 0 | C29: =C27*10 -> 0 | D29: Fejlesztési díj (2026-2035)
B31: Jelenleg beruházási igény nem ismert, nincs rendelkezésre álló forrás beruházásra.

Sheet Csonkahegyhát
A2: Gördülő fejlesztési terv a 2021 - 2035 időszakra
A3: BERUHÁZÁSOK ÖSSZEFOGLALÓ TÁBLÁZATA
A4: A tervet benyújtó szervezet megnevezése: | K4: CSONKAHEGYHÁT | R4: ellátásért felelős / ellátásért felelősök képviselője / víziközmű-szolgáltató *
A5: Víziközmű-szolgáltató megnevezése: | K5: ÉSZAK ZALAI VÍZ- ÉS CSATORNAMŰ ZÁRTKÖRŰEN MŰKÖDŐ RÉSZVÉNYTÁRSASÁG
A6: Víziközmű-szolgáltatási ágazat megnevezése: | K6: SZENNYVÍZ ÁGAZAT
A7: Véleményeltérést megfogalmazó érintett fél megnevezése:
A8: Víziközmű-rendszer kódja: ** | K8: 21-32054-1-048-01-10 | R8: Zalaegerszeg-SZV
A9: V. Szennyvízelvezetés
A10: Fontossági sorrend | B10: Beruházás megnevezése | E10: Műszaki állapot felmérés, szükségességi indoklás | H10: Vízjogi létesítési/elvi engedély száma | I10: Az érintett ellátásért felelős(ök) megnevezése | J10: Tervezett nettó költség | K10: Forrás 2021 évre | L10: Megvalósítás időtartama | N10: Tervezett időtáv | O10: A beruházás ütemezése a tervezési időszak évei szerint
E11: Jelenlegi műszaki állapot | F11: Feladat szükségessége | G11: Megvalósítást követő várható műszaki állapot | J11: (eFt) | L11: Kezdés | M11: Befejezés | N11: (rövid / közép / hosszú) | O11: 1 | P11: 2 | Q11: 3 | R11: 4 | S11: 5 | T11: 6 | U11: 7 | V11: 8 | W11: 9 | X11: 10 | Y11: 11 | Z11: 12 | AA11: 13 | AB11: 14 | AC11: 15
B12: szakág | C12: Helyszín | D12: beruházás megnevezése
B14: SZENNYVÍZCSATORNA (GRAVITÁCIÓS)
B15: Épület, építmény
B17: SZENNYVÍZVEZETÉKEK (KÉNYSZERÁRAMOLTATÁSÚ)
B19: SZENNYVÍZÁTEMELŐK
B20: Épület, építmény
B21: Gép, berendezés
B22: Irányítástechnika, energiaellátás
B24: Összesen: | J24: =SUM(J14:J23) -> 0 | K24: 0 | O24: =SUM(O13:O23) -> 0 | P24: =SUM(P13:P23) -> 0 | Q24: =SUM(Q13:Q23) -> 0 | R24: =SUM(R13:R23) -> 0 | S24: =SUM(S13:S23) -> 0 | T24: =SUM(T13:T23) -> 0 | U24: =SUM(U13:U23) -> 0 | V24: =SUM(V13:V23) -> 0 | ... AC24: =SUM(AC13:AC23) -> 0
K25: Beruházásra forrás nem áll rendelkezésre.
B26: Tervezett feladatok nettó költsége a teljes ütem tekintetében (eFt) | C26: Rendelkezésre álló források számszerűsített értéke a teljes ütem tekintetében (eFt) | D26: Rendelkezésre álló források megnevezése
A27: I. ütem | B27: =O24 -> 0 | C27: 0 | D27: Fejlesztési díj (2021)
A28: II. ütem | B28: =SUM(P24:S24) -> 0 | C28: =C27*4 -> 0 | D28: Fejlesztési díj (2022-2025)
A29: III. ütem | B29: =SUM(T24:AC24) -> 0 | C29: =C27*10 -> 0 | D29: Fejlesztési díj (2026-2035)
B32: Jelenleg beruházási igény nem ismert, nincs rendelkezésre álló forrás beruházásra.

Sheet Dobronhegy
A2: Gördülő fejlesztési terv a 2021 - 2035 időszakra
A3: BERUHÁZÁSOK ÖSSZEFOGLALÓ TÁBLÁZATA
A4: A tervet benyújtó szervezet megnevezése: | K4: DOBRONHEGY | R4: ellátásért felelős / ellátásért felelősök képviselője / víziközmű-szolgáltató *
A5: Víziközmű-szolgáltató megnevezése: | K5: ÉSZAK ZALAI VÍZ- ÉS CSATORNAMŰ ZÁRTKÖRŰEN MŰKÖDŐ RÉSZVÉNYTÁRSASÁG
A6: Víziközmű-szolgáltatási ágazat megnevezése: | K6: SZENNYVÍZ ÁGAZAT
A7: Véleményeltérést megfogalmazó érintett fél megnevezése:
A8: Víziközmű-rendszer kódja: ** | K8: 21-32054-1-048-01-10 | R8: Zalaegerszeg-SZV
A9: V. Szennyvízelvezetés
A10: Fontossági sorrend | B10: Beruházás megnevezése | E10: Műszaki állapot felmérés, szükségességi indoklás | H10: Vízjogi létesítési/elvi engedély száma | I10: Az érintett ellátásért felelős(ök) megnevezése | J10: Tervezett nettó költség | K10: Forrás 2021 évre | L10: Megvalósítás időtartama | N10: Tervezett időtáv | O10: A beruházás ütemezése a tervezési időszak évei szerint
E11: Jelenlegi műszaki állapot | F11: Feladat szükségessége | G11: Megvalósítást követő várható műszaki állapot | J11: (eFt) | L11: Kezdés | M11: Befejezés | N11: (rövid / közép / hosszú) | O11: 1 | P11: 2 | Q11: 3 | R11: 4 | S11: 5 | T11: 6 | U11: 7 | V11: 8 | W11: 9 | X11: 10 | Y11: 11 | Z11: 12 | AA11: 13 | AB11: 14 | AC11: 15
B12: szakág | C12: Helyszín | D12: beruházás megnevezése
B14: SZENNYVÍZCSATORNA (GRAVITÁCIÓS)
B15: Épület, építmény
B17: SZENNYVÍZVEZETÉKEK (KÉNYSZERÁRAMOLTATÁSÚ)
B19: SZENNYVÍZÁTEMELŐK
B20: Épület, építmény
B21: Gép, berendezés
B22: Irányítástechnika, energiaellátás
B24: Összesen: | J24: =SUM(J14:J23) -> 0 | K24: 0 | O24: =SUM(O13:O23) -> 0 | P24: =SUM(P13:P23) -> 0 | Q24: =SUM(Q13:Q23) -> 0 | R24: =SUM(R13:R23) -> 0 | S24: =SUM(S13:S23) -> 0 | T24: =SUM(T13:T23) -> 0 | U24: =SUM(U13:U23) -> 0 | V24: =SUM(V13:V23) -> 0 | ... AC24: =SUM(AC13:AC23) -> 0
K25: Beruházásra forrás nem áll rendelkezésre.
B26: Tervezett feladatok nettó költsége a teljes ütem tekintetében (eFt) | C26: Rendelkezésre álló források számszerűsített értéke a teljes ütem tekintetében (eFt) | D26: Rendelkezésre álló források megnevezése
A27: I. ütem | B27: =O24 -> 0 | C27: 0 | D27: Fejlesztési díj (2021)
A28: II. ütem | B28: =SUM(P24:S24) -> 0 | C28: =C27*4 -> 0 | D28: Fejlesztési díj (2022-2025)
A29: III. ütem | B29: =SUM(T24:AC24) -> 0 | C29: =C27*10 -> 0 | D29: Fejlesztési díj (2026-2035)
B31: Jelenleg beruházási igény nem ismert, nincs rendelkezésre álló forrás beruházásra.

Sheet Egervár
A2: Gördülő fejlesztési terv a 2021 - 2035 időszakra
A3: BERUHÁZÁSOK ÖSSZEFOGLALÓ TÁBLÁZATA
A4: A tervet benyújtó szervezet megnevezése: | K4: EGERVÁR | R4: ellátásért felelős / ellátásért felelősök képviselője / víziközmű-szolgáltató *
A5: Víziközmű-szolgáltató megnevezése: | K5: ÉSZAK ZALAI VÍZ- ÉS CSATORNAMŰ ZÁRTKÖRŰEN MŰKÖDŐ RÉSZVÉNYTÁRSASÁG
A6: Víziközmű-szolgáltatási ágazat megnevezése: | K6: SZENNYVÍZ ÁGAZAT
A7: Véleményeltérést megfogalmazó érintett fél megnevezése:
A8: Víziközmű-rendszer kódja: ** | K8: 21-32054-1-048-01-10 | R8: Zalaegerszeg-SZV
A9: V. Szennyvízelvezetés
A10: Fontossági sorrend | B10: Beruházás megnevezése | E10: Műszaki állapot felmérés, szükségességi indoklás | H10: Vízjogi létesítési/elvi engedély száma | I10: Az érintett ellátásért felelős(ök) megnevezése | J10: Tervezett nettó költség | K10: Forrás 2021 évre | L10: Megvalósítás időtartama | N10: Tervezett időtáv | O10: A beruházás ütemezése a tervezési időszak évei szerint
E11: Jelenlegi műszaki állapot | F11: Feladat szükségessége | G11: Megvalósítást követő várható műszaki állapot | J11: (eFt) | L11: Kezdés | M11: Befejezés | N11: (rövid / közép / hosszú) | O11: 1 | P11: 2 | Q11: 3 | R11: 4 | S11: 5 | T11: 6 | U11: 7 | V11: 8 | W11: 9 | X11: 10 | Y11: 11 | Z11: 12 | AA11: 13 | AB11: 14 | AC11: 15
B12: szakág | C12: Helyszín | D12: beruházás megnevezése
B14: SZENNYVÍZCSATORNA (GRAVITÁCIÓS)
B15: Épület, építmény
B17: SZENNYVÍZVEZETÉKEK (KÉNYSZERÁRAMOLTATÁSÚ)
A18: 3 | C18: Egervár | D18: Ipari Park szennyvízmű ellátás | I18: Egervár | J18: =SUM(O18:Z18) -> 53525 | L18: 44378 | M18: 20201.12.31 | N18: rövid | O18: 53525
B19: SZENNYVÍZÁTEMELŐK
B20: Épület, építmény
B21: Gép, berendezés
B22: Irányítástechnika, energiaellátás
B24: Összesen: | J24: =SUM(J14:J23) -> 53525 | K24: =C27+C28 -> 53525 | O24: =SUM(O13:O23) -> 53525 | P24: =SUM(P13:P23) -> 0 | Q24: =SUM(Q13:Q23) -> 0 | R24: =SUM(R13:R23) -> 0 | S24: =SUM(S13:S23) -> 0 | T24: =SUM(T13:T23) -> 0 | U24: =SUM(U13:U23) -> 0 | V24: =SUM(V13:V23) -> 0 | ... AC24: =SUM(AC13:AC23) -> 0
B26: Tervezett feladatok nettó költsége a teljes ütem tekintetében (eFt) | C26: Rendelkezésre álló források számszerűsített értéke a teljes ütem tekintetében (eFt) | D26: Rendelkezésre álló források megnevezése
A27: I. ütem | B27: =O24 -> 53525 | C27: 0 | D27: Fejlesztési díj (2021)
C28: 53525 | D28: KPA
A29: II. ütem | B29: =SUM(P24:S24) -> 0 | C29: 0 | D29: Fejlesztési díj (2022-2025)
A30: III. ütem | B30: =SUM(T24:AC24) -> 0 | C30: 0 | D30: Fejlesztési díj (2026-2035)

Sheet Gősfa
A2: Gördülő fejlesztési terv a 2021 - 2035 időszakra
A3: BERUHÁZÁSOK ÖSSZEFOGLALÓ TÁBLÁZATA
A4: A tervet benyújtó szervezet megnevezése: | K4: GŐSFA | R4: ellátásért felelős / ellátásért felelősök képviselője / víziközmű-szolgáltató *
A5: Víziközmű-szolgáltató megnevezése: | K5: ÉSZAK ZALAI VÍZ- ÉS CSATORNAMŰ ZÁRTKÖRŰEN MŰKÖDŐ RÉSZVÉNYTÁRSASÁG
A6: Víziközmű-szolgáltatási ágazat megnevezése: | K6: SZENNYVÍZ ÁGAZAT
A7: Véleményeltérést megfogalmazó érintett fél megnevezése:
A8: Víziközmű-rendszer kódja: ** | K8: 21-32054-1-048-01-10 | R8: Zalaegerszeg-SZV
A9: V. Szennyvízelvezetés
A10: Fontossági sorrend | B10: Beruházás megnevezése | E10: Műszaki állapot felmérés, szükségességi indoklás | H10: Vízjogi létesítési/elvi engedély száma | I10: Az érintett ellátásért felelős(ök) megnevezése | J10: Tervezett nettó költség | K10: Forrás 2021 évre | L10: Megvalósítás időtartama | N10: Tervezett időtáv | O10: A beruházás ütemezése a tervezési időszak évei szerint
E11: Jelenlegi műszaki állapot | F11: Feladat szükségessége | G11: Megvalósítást követő várható műszaki állapot | J11: (eFt) | L11: Kezdés | M11: Befejezés | N11: (rövid / közép / hosszú) | O11: 1 | P11: 2 | Q11: 3 | R11: 4 | S11: 5 | T11: 6 | U11: 7 | V11: 8 | W11: 9 | X11: 10 | Y11: 11 | Z11: 12 | AA11: 13 | AB11: 14 | AC11: 15
B12: szakág | C12: Helyszín | D12: beruházás megnevezése
B14: SZENNYVÍZCSATORNA (GRAVITÁCIÓS)
B15: Épület, építmény
B17: SZENNYVÍZVEZETÉKEK (KÉNYSZERÁRAMOLTATÁSÚ)
B19: SZENNYVÍZÁTEMELŐK
B20: Épület, építmény
B21: Gép, berendezés
B22: Irányítástechnika, energiaellátás
B24: Összesen: | J24: =SUM(J14:J23) -> 0 | K24: 0 | O24: =SUM(O13:O23) -> 0 | P24: =SUM(P13:P23) -> 0 | Q24: =SUM(Q13:Q23) -> 0 | R24: =SUM(R13:R23) -> 0 | S24: =SUM(S13:S23) -> 0 | T24: =SUM(T13:T23) -> 0 | U24: =SUM(U13:U23) -> 0 | V24: =SUM(V13:V23) -> 0 | ... AC24: =SUM(AC13:AC23) -> 0
K25: Beruházásra forrás nem áll rendelkezésre.
B26: Tervezett feladatok nettó költsége a teljes ütem tekintetében (eFt) | C26: Rendelkezésre álló források számszerűsített értéke a teljes ütem tekintetében (eFt) | D26: Rendelkezésre álló források megnevezése
A27: I. ütem | B27: =O24 -> 0 | C27: 0 | D27: Fejlesztési díj (2021)
A28: II. ütem | B28: =SUM(P24:S24) -> 0 | C28: =C27*4 -> 0 | D28: Fejlesztési díj (2022-2025)
A29: III. ütem | B29: =SUM(T24:AC24) -> 0 | C29: =C27*10 -> 0 | D29: Fejlesztési díj (2026-2035)
B31: Jelenleg beruházási igény nem ismert, nincs rendelkezésre álló forrás beruházásra.

Sheet Hagyárosbörönd
A2: Gördülő fejlesztési terv a 2021 - 2035 időszakra
A3: BERUHÁZÁSOK ÖSSZEFOGLALÓ TÁBLÁZATA
A4: A tervet benyújtó szervezet megnevezése: | K4: HAGYÁROSBÖRÖND | R4: ellátásért felelős / ellátásért felelősök képviselője / víziközmű-szolgáltató *
A5: Víziközmű-szolgáltató megnevezése: | K5: ÉSZAK ZALAI VÍZ- ÉS CSATORNAMŰ ZÁRTKÖRŰEN MŰKÖDŐ RÉSZVÉNYTÁRSASÁG
A6: Víziközmű-szolgáltatási ágazat megnevezése: | K6: SZENNYVÍZ ÁGAZAT
A7: Véleményeltérést megfogalmazó érintett fél megnevezése:
A8: Víziközmű-rendszer kódja: ** | K8: 21-32054-1-048-01-10 | R8: Zalaegerszeg-SZV
A9: V. Szennyvízelvezetés
A10: Fontossági sorrend | B10: Beruházás megnevezése | E10: Műszaki állapot felmérés, szükségességi indoklás | H10: Vízjogi létesítési/elvi engedély száma | I10: Az érintett ellátásért felelős(ök) megnevezése | J10: Tervezett nettó költség | K10: Forrás 2021 évre | L10: Megvalósítás időtartama | N10: Tervezett időtáv | O10: A beruházás ütemezése a tervezési időszak évei szerint
E11: Jelenlegi műszaki állapot | F11: Feladat szükségessége | G11: Megvalósítást követő várható műszaki állapot | J11: (eFt) | L11: Kezdés | M11: Befejezés | N11: (rövid / közép / hosszú) | O11: 1 | P11: 2 | Q11: 3 | R11: 4 | S11: 5 | T11: 6 | U11: 7 | V11: 8 | W11: 9 | X11: 10 | Y11: 11 | Z11: 12 | AA11: 13 | AB11: 14 | AC11: 15
B12: szakág | C12: Helyszín | D12: beruházás megnevezése
B14: SZENNYVÍZCSATORNA (GRAVITÁCIÓS)
B15: Épület, építmény
B17: SZENNYVÍZVEZETÉKEK (KÉNYSZERÁRAMOLTATÁSÚ)
B19: SZENNYVÍZÁTEMELŐK
B20: Épület, építmény
B21: Gép, berendezés
B22: Irányítástechnika, energiaellátás
B24: Összesen: | J24: =SUM(J14:J23) -> 0 | K24: 0 | O24: =SUM(O13:O23) -> 0 | P24: =SUM(P13:P23) -> 0 | Q24: =SUM(Q13:Q23) -> 0 | R24: =SUM(R13:R23) -> 0 | S24: =SUM(S13:S23) -> 0 | T24: =SUM(T13:T23) -> 0 | U24: =SUM(U13:U23) -> 0 | V24: =SUM(V13:V23) -> 0 | ... AC24: =SUM(AC13:AC23) -> 0
K25: Beruházásra forrás nem áll rendelkezésre.
B26: Tervezett feladatok nettó költsége a teljes ütem tekintetében (eFt) | C26: Rendelkezésre álló források számszerűsített értéke a teljes ütem tekintetében (eFt) | D26: Rendelkezésre álló források megnevezése
A27: I. ütem | B27: =O24 -> 0 | C27: 0 | D27: Fejlesztési díj (2021)
A28: II. ütem | B28: =SUM(P24:S24) -> 0 | C28: =C27*4 -> 0 | D28: Fejlesztési díj (2022-2025)
A29: III. ütem | B29: =SUM(T24:AC24) -> 0 | C29: =C27*10 -> 0 | D29: Fejlesztési díj (2026-2035)
B31: Jelenleg beruházási igény nem ismert, nincs rendelkezésre álló forrás beruházásra.

Sheet Hottó
A2: Gördülő fejlesztési terv a 2021 - 2035 időszakra
A3: BERUHÁZÁSOK ÖSSZEFOGLALÓ TÁBLÁZATA
A4: A tervet benyújtó szervezet megnevezése: | K4: HOTTÓ | R4: ellátásért felelős / ellátásért felelősök képviselője / víziközmű-szolgáltató *
A5: Víziközmű-szolgáltató megnevezése: | K5: ÉSZAK ZALAI VÍZ- ÉS CSATORNAMŰ ZÁRTKÖRŰEN MŰKÖDŐ RÉSZVÉNYTÁRSASÁG
A6: Víziközmű-szolgáltatási ágazat megnevezése: | K6: SZENNYVÍZ ÁGAZAT
A7: Véleményeltérést megfogalmazó érintett fél megnevezése:
A8: Víziközmű-rendszer kódja: ** | K8: 21-32054-1-048-01-10 | R8: Zalaegerszeg-SZV
A9: V. Szennyvízelvezetés
A10: Fontossági sorrend | B10: Beruházás megnevezése | E10: Műszaki állapot felmérés, szükségességi indoklás | H10: Vízjogi létesítési/elvi engedély száma | I10: Az érintett ellátásért felelős(ök) megnevezése | J10: Tervezett nettó költség | K10: Forrás 2021 évre | L10: Megvalósítás időtartama | N10: Tervezett időtáv | O10: A beruházás ütemezése a tervezési időszak évei szerint
E11: Jelenlegi műszaki állapot | F11: Feladat szükségessége | G11: Megvalósítást követő várható műszaki állapot | J11: (eFt) | L11: Kezdés | M11: Befejezés | N11: (rövid / közép / hosszú) | O11: 1 | P11: 2 | Q11: 3 | R11: 4 | S11: 5 | T11: 6 | U11: 7 | V11: 8 | W11: 9 | X11: 10 | Y11: 11 | Z11: 12 | AA11: 13 | AB11: 14 | AC11: 15
B12: szakág | C12: Helyszín | D12: beruházás megnevezése
B14: SZENNYVÍZCSATORNA (GRAVITÁCIÓS)
B15: Épület, építmény
B17: SZENNYVÍZVEZETÉKEK (KÉNYSZERÁRAMOLTATÁSÚ)
B19: SZENNYVÍZÁTEMELŐK
B20: Épület, építmény
B21: Gép, berendezés
B22: Irányítástechnika, energiaellátás
B24: Összesen: | J24: =SUM(J14:J23) -> 0 | K24: 0 | O24: =SUM(O13:O23) -> 0 | P24: =SUM(P13:P23) -> 0 | Q24: =SUM(Q13:Q23) -> 0 | R24: =SUM(R13:R23) -> 0 | S24: =SUM(S13:S23) -> 0 | T24: =SUM(T13:T23) -> 0 | U24: =SUM(U13:U23) -> 0 | V24: =SUM(V13:V23) -> 0 | ... AC24: =SUM(AC13:AC23) -> 0
K25: Beruházásra forrás nem áll rendelkezésre.
B26: Tervezett feladatok nettó költsége a teljes ütem tekintetében (eFt) | C26: Rendelkezésre álló források számszerűsített értéke a teljes ütem tekintetében (eFt) | D26: Rendelkezésre álló források megnevezése
A27: I. ütem | B27: =O24 -> 0 | C27: 0 | D27: Fejlesztési díj (2021)
A28: II. ütem | B28: =SUM(P24:S24) -> 0 | C28: =C27*4 -> 0 | D28: Fejlesztési díj (2022-2025)
A29: III. ütem | B29: =SUM(T24:AC24) -> 0 | C29: =C27*10 -> 0 | D29: Fejlesztési díj (2026-2035)
B31: Jelenleg beruházási igény nem ismert, nincs rendelkezésre álló forrás beruházásra.

Sheet Kávás
A2: Gördülő fejlesztési terv a 2021 - 2035 időszakra
A3: BERUHÁZÁSOK ÖSSZEFOGLALÓ TÁBLÁZATA
A4: A tervet benyújtó szervezet megnevezése: | K4: KÁVÁS | R4: ellátásért felelős / ellátásért felelősök képviselője / víziközmű-szolgáltató *
A5: Víziközmű-szolgáltató megnevezése: | K5: ÉSZAK ZALAI VÍZ- ÉS CSATORNAMŰ ZÁRTKÖRŰEN MŰKÖDŐ RÉSZVÉNYTÁRSASÁG
A6: Víziközmű-szolgáltatási ágazat megnevezése: | K6: SZENNYVÍZ ÁGAZAT
A7: Véleményeltérést megfogalmazó érintett fél megnevezése:
A8: Víziközmű-rendszer kódja: ** | K8: 21-32054-1-048-01-10 | R8: Zalaegerszeg-SZV
A9: V. Szennyvízelvezetés
A10: Fontossági sorrend | B10: Beruházás megnevezése | E10: Műszaki állapot felmérés, szükségességi indoklás | H10: Vízjogi létesítési/elvi engedély száma | I10: Az érintett ellátásért felelős(ök) megnevezése | J10: Tervezett nettó költség | K10: Forrás 2021 évre | L10: Megvalósítás időtartama | N10: Tervezett időtáv | O10: A beruházás ütemezése a tervezési időszak évei szerint
E11: Jelenlegi műszaki állapot | F11: Feladat szükségessége | G11: Megvalósítást követő várható műszaki állapot | J11: (eFt) | L11: Kezdés | M11: Befejezés | N11: (rövid / közép / hosszú) | O11: 1 | P11: 2 | Q11: 3 | R11: 4 | S11: 5 | T11: 6 | U11: 7 | V11: 8 | W11: 9 | X11: 10 | Y11: 11 | Z11: 12 | AA11: 13 | AB11: 14 | AC11: 15
B12: szakág | C12: Helyszín | D12: beruházás megnevezése
B14: SZENNYVÍZCSATORNA (GRAVITÁCIÓS)
B15: Épület, építmény
B17: SZENNYVÍZVEZETÉKEK (KÉNYSZERÁRAMOLTATÁSÚ)
B19: SZENNYVÍZÁTEMELŐK
B20: Épület, építmény
B21: Gép, berendezés
B22: Irányítástechnika, energiaellátás
B24: Összesen: | J24: =SUM(J14:J23) -> 0 | K24: 0 | O24: =SUM(O13:O23) -> 0 | P24: =SUM(P13:P23) -> 0 | Q24: =SUM(Q13:Q23) -> 0 | R24: =SUM(R13:R23) -> 0 | S24: =SUM(S13:S23) -> 0 | T24: =SUM(T13:T23) -> 0 | U24: =SUM(U13:U23) -> 0 | V24: =SUM(V13:V23) -> 0 | ... AC24: =SUM(AC13:AC23) -> 0
K25: Beruházásra forrás nem áll rendelkezésre.
B26: Tervezett feladatok nettó költsége a teljes ütem tekintetében (eFt) | C26: Rendelkezésre álló források számszerűsített értéke a teljes ütem tekintetében (eFt) | D26: Rendelkezésre álló források megnevezése
A27: I. ütem | B27: =O24 -> 0 | C27: 0 | D27: Fejlesztési díj (2021)
A28: II. ütem | B28: =SUM(P24:S24) -> 0 | C28: =C27*4 -> 0 | D28: Fejlesztési díj (2022-2025)
A29: III. ütem | B29: =SUM(T24:AC24) -> 0 | C29: =C27*10 -> 0 | D29: Fejlesztési díj (2026-2035)
B31: Jelenleg beruházási igény nem ismert, nincs rendelkezésre álló forrás beruházásra.

Sheet Kemendollár
A2: Gördülő fejlesztési terv a 2021 - 2035 időszakra
A3: BERUHÁZÁSOK ÖSSZEFOGLALÓ TÁBLÁZATA
A4: A tervet benyújtó szervezet megnevezése: | K4: KEMENDOLLÁR | R4: ellátásért felelős / ellátásért felelősök képviselője / víziközmű-szolgáltató *
A5: Víziközmű-szolgáltató megnevezése: | K5: ÉSZAK ZALAI VÍZ- ÉS CSATORNAMŰ ZÁRTKÖRŰEN MŰKÖDŐ RÉSZVÉNYTÁRSASÁG
A6: Víziközmű-szolgáltatási ágazat megnevezése: | K6: SZENNYVÍZ ÁGAZAT
A7: Véleményeltérést megfogalmazó érintett fél megnevezése:
A8: Víziközmű-rendszer kódja: ** | K8: 21-32054-1-048-01-10 | R8: Zalaegerszeg-SZV
A9: V. Szennyvízelvezetés
A10: Fontossági sorrend | B10: Beruházás megnevezése | E10: Műszaki állapot felmérés, szükségességi indoklás | H10: Vízjogi létesítési/elvi engedély száma | I10: Az érintett ellátásért felelős(ök) megnevezése | J10: Tervezett nettó költség | K10: Forrás 2021 évre | L10: Megvalósítás időtartama | N10: Tervezett időtáv | O10: A beruházás ütemezése a tervezési időszak évei szerint
E11: Jelenlegi műszaki állapot | F11: Feladat szükségessége | G11: Megvalósítást követő várható műszaki állapot | J11: (eFt) | L11: Kezdés | M11: Befejezés | N11: (rövid / közép / hosszú) | O11: 1 | P11: 2 | Q11: 3 | R11: 4 | S11: 5 | T11: 6 | U11: 7 | V11: 8 | W11: 9 | X11: 10 | Y11: 11 | Z11: 12 | AA11: 13 | AB11: 14 | AC11: 15
B12: szakág | C12: Helyszín | D12: beruházás megnevezése
B14: SZENNYVÍZCSATORNA (GRAVITÁCIÓS)
B15: Épület, építmény
B17: SZENNYVÍZVEZETÉKEK (KÉNYSZERÁRAMOLTATÁSÚ)
B19: SZENNYVÍZÁTEMELŐK
B20: Épület, építmény
B21: Gép, berendezés
B22: Irányítástechnika, energiaellátás
B24: Összesen: | J24: =SUM(J14:J23) -> 0 | K24: 0 | O24: =SUM(O13:O23) -> 0 | P24: =SUM(P13:P23) -> 0 | Q24: =SUM(Q13:Q23) -> 0 | R24: =SUM(R13:R23) -> 0 | S24: =SUM(S13:S23) -> 0 | T24: =SUM(T13:T23) -> 0 | U24: =SUM(U13:U23) -> 0 | V24: =SUM(V13:V23) -> 0 | ... AC24: =SUM(AC13:AC23) -> 0
K25: Beruházásra forrás nem áll rendelkezésre.
B26: Tervezett feladatok nettó költsége a teljes ütem tekintetében (eFt) | C26: Rendelkezésre álló források számszerűsített értéke a teljes ütem tekintetében (eFt) | D26: Rendelkezésre álló források megnevezése
A27: I. ütem | B27: =O24 -> 0 | C27: 0 | D27: Fejlesztési díj (2021)
A28: II. ütem | B28: =SUM(P24:S24) -> 0 | C28: =C27*4 -> 0 | D28: Fejlesztési díj (2022-2025)
A29: III. ütem | B29: =SUM(T24:AC24) -> 0 | C29: =C27*10 -> 0 | D29: Fejlesztési díj (2026-2035)
B31: Jelenleg beruházási igény nem ismert, nincs rendelkezésre álló forrás beruházásra.

Sheet Keménfa
A2: Gördülő fejlesztési terv a 2021 - 2035 időszakra
A3: BERUHÁZÁSOK ÖSSZEFOGLALÓ TÁBLÁZATA
A4: A tervet benyújtó szervezet megnevezése: | K4: KEMÉNFA | R4: ellátásért felelős / ellátásért felelősök képviselője / víziközmű-szolgáltató *
A5: Víziközmű-szolgáltató megnevezése: | K5: ÉSZAK ZALAI VÍZ- ÉS CSATORNAMŰ ZÁRTKÖRŰEN MŰKÖDŐ RÉSZVÉNYTÁRSASÁG
A6: Víziközmű-szolgáltatási ágazat megnevezése: | K6: SZENNYVÍZ ÁGAZAT
A7: Véleményeltérést megfogalmazó érintett fél megnevezése:
A8: Víziközmű-rendszer kódja: ** | K8: 21-32054-1-048-01-10 | R8: Zalaegerszeg-SZV
A9: V. Szennyvízelvezetés
A10: Fontossági sorrend | B10: Beruházás megnevezése | E10: Műszaki állapot felmérés, szükségességi indoklás | H10: Vízjogi létesítési/elvi engedély száma | I10: Az érintett ellátásért felelős(ök) megnevezése | J10: Tervezett nettó költség | K10: Forrás 2021 évre | L10: Megvalósítás időtartama | N10: Tervezett időtáv | O10: A beruházás ütemezése a tervezési időszak évei szerint
E11: Jelenlegi műszaki állapot | F11: Feladat szükségessége | G11: Megvalósítást követő várható műszaki állapot | J11: (eFt) | L11: Kezdés | M11: Befejezés | N11: (rövid / közép / hosszú) | O11: 1 | P11: 2 | Q11: 3 | R11: 4 | S11: 5 | T11: 6 | U11: 7 | V11: 8 | W11: 9 | X11: 10 | Y11: 11 | Z11: 12 | AA11: 13 | AB11: 14 | AC11: 15
B12: szakág | C12: Helyszín | D12: beruházás megnevezése
B14: SZENNYVÍZCSATORNA (GRAVITÁCIÓS)
B15: Épület, építmény
B17: SZENNYVÍZVEZETÉKEK (KÉNYSZERÁRAMOLTATÁSÚ)
B19: SZENNYVÍZÁTEMELŐK
B20: Épület, építmény
B21: Gép, berendezés
B22: Irányítástechnika, energiaellátás
B24: Összesen: | J24: =SUM(J14:J23) -> 0 | K24: 0 | O24: =SUM(O13:O23) -> 0 | P24: =SUM(P13:P23) -> 0 | Q24: =SUM(Q13:Q23) -> 0 | R24: =SUM(R13:R23) -> 0 | S24: =SUM(S13:S23) -> 0 | T24: =SUM(T13:T23) -> 0 | U24: =SUM(U13:U23) -> 0 | V24: =SUM(V13:V23) -> 0 | ... AC24: =SUM(AC13:AC23) -> 0
K25: Beruházásra forrás nem áll rendelkezésre.
B26: Tervezett feladatok nettó költsége a teljes ütem tekintetében (eFt) | C26: Rendelkezésre álló források számszerűsített értéke a teljes ütem tekintetében (eFt) | D26: Rendelkezésre álló források megnevezése
A27: I. ütem | B27: =O24 -> 0 | C27: 0 | D27: Fejlesztési díj (2021)
A28: II. ütem | B28: =SUM(P24:S24) -> 0 | C28: =C27*4 -> 0 | D28: Fejlesztési díj (2022-2025)
A29: III. ütem | B29: =SUM(T24:AC24) -> 0 | C29: =C27*10 -> 0 | D29: Fejlesztési díj (2026-2035)
B31: Jelenleg beruházási igény nem ismert, nincs rendelkezésre álló forrás beruházásra.

Sheet Kisbucsa
A2: Gördülő fejlesztési terv a 2021 - 2035 időszakra
A3: BERUHÁZÁSOK ÖSSZEFOGLALÓ TÁBLÁZATA
A4: A tervet benyújtó szervezet megnevezése: | K4: KISBUCSA | R4: ellátásért felelős / ellátásért felelősök képviselője / víziközmű-szolgáltató *
A5: Víziközmű-szolgáltató megnevezése: | K5: ÉSZAK ZALAI VÍZ- ÉS CSATORNAMŰ ZÁRTKÖRŰEN MŰKÖDŐ RÉSZVÉNYTÁRSASÁG
A6: Víziközmű-szolgáltatási ágazat megnevezése: | K6: SZENNYVÍZ ÁGAZAT
A7: Véleményeltérést megfogalmazó érintett fél megnevezése:
A8: Víziközmű-rendszer kódja: ** | K8: 21-32054-1-048-01-10 | R8: Zalaegerszeg-SZV
A9: V. Szennyvízelvezetés
A10: Fontossági sorrend | B10: Beruházás megnevezése | E10: Műszaki állapot felmérés, szükségességi indoklás | H10: Vízjogi létesítési/elvi engedély száma | I10: Az érintett ellátásért felelős(ök) megnevezése | J10: Tervezett nettó költség | K10: Forrás 2021 évre | L10: Megvalósítás időtartama | N10: Tervezett időtáv | O10: A beruházás ütemezése a tervezési időszak évei szerint
E11: Jelenlegi műszaki állapot | F11: Feladat szükségessége | G11: Megvalósítást követő várható műszaki állapot | J11: (eFt) | L11: Kezdés | M11: Befejezés | N11: (rövid / közép / hosszú) | O11: 1 | P11: 2 | Q11: 3 | R11: 4 | S11: 5 | T11: 6 | U11: 7 | V11: 8 | W11: 9 | X11: 10 | Y11: 11 | Z11: 12 | AA11: 13 | AB11: 14 | AC11: 15
B12: szakág | C12: Helyszín | D12: beruházás megnevezése
B14: SZENNYVÍZCSATORNA (GRAVITÁCIÓS)
B15: Épület, építmény
B17: SZENNYVÍZVEZETÉKEK (KÉNYSZERÁRAMOLTATÁSÚ)
B19: SZENNYVÍZÁTEMELŐK
B20: Épület, építmény
B21: Gép, berendezés
B22: Irányítástechnika, energiaellátás
B24: Összesen: | J24: =SUM(J14:J23) -> 0 | K24: 0 | O24: =SUM(O13:O23) -> 0 | P24: =SUM(P13:P23) -> 0 | Q24: =SUM(Q13:Q23) -> 0 | R24: =SUM(R13:R23) -> 0 | S24: =SUM(S13:S23) -> 0 | T24: =SUM(T13:T23) -> 0 | U24: =SUM(U13:U23) -> 0 | V24: =SUM(V13:V23) -> 0 | ... AC24: =SUM(AC13:AC23) -> 0
K25: Beruházásra forrás nem áll rendelkezésre.
B26: Tervezett feladatok nettó költsége a teljes ütem tekintetében (eFt) | C26: Rendelkezésre álló források számszerűsített értéke a teljes ütem tekintetében (eFt) | D26: Rendelkezésre álló források megnevezése
A27: I. ütem | B27: =O24 -> 0 | C27: 0 | D27: Fejlesztési díj (2021)
A28: II. ütem | B28: =SUM(P24:S24) -> 0 | C28: =C27*4 -> 0 | D28: Fejlesztési díj (2022-2025)
A29: III. ütem | B29: =SUM(T24:AC24) -> 0 | C29: =C27*10 -> 0 | D29: Fejlesztési díj (2026-2035)
B31: Jelenleg beruházási igény nem ismert, nincs rendelkezésre álló forrás beruházásra.

Sheet Kiskutas
A2: Gördülő fejlesztési terv a 2021 - 2035 időszakra
A3: BERUHÁZÁSOK ÖSSZEFOGLALÓ TÁBLÁZATA
A4: A tervet benyújtó szervezet megnevezése: | K4: KISKUTAS | R4: ellátásért felelős / ellátásért felelősök képviselője / víziközmű-szolgáltató *
A5: Víziközmű-szolgáltató megnevezése: | K5: ÉSZAK ZALAI VÍZ- ÉS CSATORNAMŰ ZÁRTKÖRŰEN MŰKÖDŐ RÉSZVÉNYTÁRSASÁG
A6: Víziközmű-szolgáltatási ágazat megnevezése: | K6: SZENNYVÍZ ÁGAZAT
A7: Véleményeltérést megfogalmazó érintett fél megnevezése:
A8: Víziközmű-rendszer kódja: ** | K8: 21-32054-1-048-01-10 | R8: Zalaegerszeg-SZV
A9: V. Szennyvízelvezetés
A10: Fontossági sorrend | B10: Beruházás megnevezése | E10: Műszaki állapot felmérés, szükségességi indoklás | H10: Vízjogi létesítési/elvi engedély száma | I10: Az érintett ellátásért felelős(ök) megnevezése | J10: Tervezett nettó költség | K10: Forrás 2021 évre | L10: Megvalósítás időtartama | N10: Tervezett időtáv | O10: A beruházás ütemezése a tervezési időszak évei szerint
E11: Jelenlegi műszaki állapot | F11: Feladat szükségessége | G11: Megvalósítást követő várható műszaki állapot | J11: (eFt) | L11: Kezdés | M11: Befejezés | N11: (rövid / közép / hosszú) | O11: 1 | P11: 2 | Q11: 3 | R11: 4 | S11: 5 | T11: 6 | U11: 7 | V11: 8 | W11: 9 | X11: 10 | Y11: 11 | Z11: 12 | AA11: 13 | AB11: 14 | AC11: 15
B12: szakág | C12: Helyszín | D12: beruházás megnevezése
B14: SZENNYVÍZCSATORNA (GRAVITÁCIÓS)
B15: Épület, építmény
B17: SZENNYVÍZVEZETÉKEK (KÉNYSZERÁRAMOLTATÁSÚ)
B19: SZENNYVÍZÁTEMELŐK
B20: Épület, építmény
B21: Gép, berendezés
B22: Irányítástechnika, energiaellátás
B24: Összesen: | J24: =SUM(J14:J23) -> 0 | K24: 0 | O24: =SUM(O13:O23) -> 0 | P24: =SUM(P13:P23) -> 0 | Q24: =SUM(Q13:Q23) -> 0 | R24: =SUM(R13:R23) -> 0 | S24: =SUM(S13:S23) -> 0 | T24: =SUM(T13:T23) -> 0 | U24: =SUM(U13:U23) -> 0 | V24: =SUM(V13:V23) -> 0 | ... AC24: =SUM(AC13:AC23) -> 0
K25: Beruházásra forrás nem áll rendelkezésre.
B26: Tervezett feladatok nettó költsége a teljes ütem tekintetében (eFt) | C26: Rendelkezésre álló források számszerűsített értéke a teljes ütem tekintetében (eFt) | D26: Rendelkezésre álló források megnevezése
A27: I. ütem | B27: =O24 -> 0 | C27: 0 | D27: Fejlesztési díj (2021)
A28: II. ütem | B28: =SUM(P24:S24) -> 0 | C28: =C27*4 -> 0 | D28: Fejlesztési díj (2022-2025)
A29: III. ütem | B29: =SUM(T24:AC24) -> 0 | C29: =C27*10 -> 0 | D29: Fejlesztési díj (2026-2035)
B31: Jelenleg beruházási igény nem ismert, nincs rendelkezésre álló forrás beruházásra.

Sheet Kispáli
A2: Gördülő fejlesztési terv a 2021 - 2035 időszakra
A3: BERUHÁZÁSOK ÖSSZEFOGLALÓ TÁBLÁZATA
A4: A tervet benyújtó szervezet megnevezése: | K4: KISPÁLI | R4: ellátásért felelős / ellátásért felelősök képviselője / víziközmű-szolgáltató *
A5: Víziközmű-szolgáltató megnevezése: | K5: ÉSZAK ZALAI VÍZ- ÉS CSATORNAMŰ ZÁRTKÖRŰEN MŰKÖDŐ RÉSZVÉNYTÁRSASÁG
A6: Víziközmű-szolgáltatási ágazat megnevezése: | K6: SZENNYVÍZ ÁGAZAT
A7: Véleményeltérést megfogalmazó érintett fél megnevezése:
A8: Víziközmű-rendszer kódja: ** | K8: 21-32054-1-048-01-10 | R8: Zalaegerszeg-SZV
A9: V. Szennyvízelvezetés
A10: Fontossági sorrend | B10: Beruházás megnevezése | E10: Műszaki állapot felmérés, szükségességi indoklás | H10: Vízjogi létesítési/elvi engedély száma | I10: Az érintett ellátásért felelős(ök) megnevezése | J10: Tervezett nettó költség | K10: Forrás 2021 évre | L10: Megvalósítás időtartama | N10: Tervezett időtáv | O10: A beruházás ütemezése a tervezési időszak évei szerint
E11: Jelenlegi műszaki állapot | F11: Feladat szükségessége | G11: Megvalósítást követő várható műszaki állapot | J11: (eFt) | L11: Kezdés | M11: Befejezés | N11: (rövid / közép / hosszú) | O11: 1 | P11: 2 | Q11: 3 | R11: 4 | S11: 5 | T11: 6 | U11: 7 | V11: 8 | W11: 9 | X11: 10 | Y11: 11 | Z11: 12 | AA11: 13 | AB11: 14 | AC11: 15
B12: szakág | C12: Helyszín | D12: beruházás megnevezése
B14: SZENNYVÍZCSATORNA (GRAVITÁCIÓS)
B15: Épület, építmény
B17: SZENNYVÍZVEZETÉKEK (KÉNYSZERÁRAMOLTATÁSÚ)
B19: SZENNYVÍZÁTEMELŐK
B20: Épület, építmény
B21: Gép, berendezés
B22: Irányítástechnika, energiaellátás
B24: Összesen: | J24: =SUM(J14:J23) -> 0 | K24: 0 | O24: =SUM(O13:O23) -> 0 | P24: =SUM(P13:P23) -> 0 | Q24: =SUM(Q13:Q23) -> 0 | R24: =SUM(R13:R23) -> 0 | S24: =SUM(S13:S23) -> 0 | T24: =SUM(T13:T23) -> 0 | U24: =SUM(U13:U23) -> 0 | V24: =SUM(V13:V23) -> 0 | ... AC24: =SUM(AC13:AC23) -> 0
K25: Beruházásra forrás nem áll rendelkezésre.
B26: Tervezett feladatok nettó költsége a teljes ütem tekintetében (eFt) | C26: Rendelkezésre álló források számszerűsített értéke a teljes ütem tekintetében (eFt) | D26: Rendelkezésre álló források megnevezése
A27: I. ütem | B27: =O24 -> 0 | C27: 0 | D27: Fejlesztési díj (2021)
A28: II. ütem | B28: =SUM(P24:S24) -> 0 | C28: =C27*4 -> 0 | D28: Fejlesztési díj (2022-2025)
A29: III. ütem | B29: =SUM(T24:AC24) -> 0 | C29: =C27*10 -> 0 | D29: Fejlesztési díj (2026-2035)
B31: Jelenleg beruházási igény nem ismert, nincs rendelkezésre álló forrás beruházásra.

Sheet Lakhegy
A2: Gördülő fejlesztési terv a 2021 - 2035 időszakra
A3: BERUHÁZÁSOK ÖSSZEFOGLALÓ TÁBLÁZATA
A4: A tervet benyújtó szervezet megnevezése: | K4: LAKHEGY | R4: ellátásért felelős / ellátásért felelősök képviselője / víziközmű-szolgáltató *
A5: Víziközmű-szolgáltató megnevezése: | K5: ÉSZAK ZALAI VÍZ- ÉS CSATORNAMŰ ZÁRTKÖRŰEN MŰKÖDŐ RÉSZVÉNYTÁRSASÁG
A6: Víziközmű-szolgáltatási ágazat megnevezése: | K6: SZENNYVÍZ ÁGAZAT
A7: Véleményeltérést megfogalmazó érintett fél megnevezése:
A8: Víziközmű-rendszer kódja: ** | K8: 21-32054-1-048-01-10 | R8: Zalaegerszeg-SZV
A9: V. Szennyvízelvezetés
A10: Fontossági sorrend | B10: Beruházás megnevezése | E10: Műszaki állapot felmérés, szükségességi indoklás | H10: Vízjogi létesítési/elvi engedély száma | I10: Az érintett ellátásért felelős(ök) megnevezése | J10: Tervezett nettó költség | K10: Forrás 2021 évre | L10: Megvalósítás időtartama | N10: Tervezett időtáv | O10: A beruházás ütemezése a tervezési időszak évei szerint
E11: Jelenlegi műszaki állapot | F11: Feladat szükségessége | G11: Megvalósítást követő várható műszaki állapot | J11: (eFt) | L11: Kezdés | M11: Befejezés | N11: (rövid / közép / hosszú) | O11: 1 | P11: 2 | Q11: 3 | R11: 4 | S11: 5 | T11: 6 | U11: 7 | V11: 8 | W11: 9 | X11: 10 | Y11: 11 | Z11: 12 | AA11: 13 | AB11: 14 | AC11: 15
B12: szakág | C12: Helyszín | D12: beruházás megnevezése
B14: SZENNYVÍZCSATORNA (GRAVITÁCIÓS)
B15: Épület, építmény
B17: SZENNYVÍZVEZETÉKEK (KÉNYSZERÁRAMOLTATÁSÚ)
B19: SZENNYVÍZÁTEMELŐK
B20: Épület, építmény
B21: Gép, berendezés
B22: Irányítástechnika, energiaellátás
B24: Összesen: | J24: =SUM(J14:J23) -> 0 | K24: 0 | O24: =SUM(O13:O23) -> 0 | P24: =SUM(P13:P23) -> 0 | Q24: =SUM(Q13:Q23) -> 0 | R24: =SUM(R13:R23) -> 0 | S24: =SUM(S13:S23) -> 0 | T24: =SUM(T13:T23) -> 0 | U24: =SUM(U13:U23) -> 0 | V24: =SUM(V13:V23) -> 0 | ... AC24: =SUM(AC13:AC23) -> 0
K25: Beruházásra forrás nem áll rendelkezésre.
B26: Tervezett feladatok nettó költsége a teljes ütem tekintetében (eFt) | C26: Rendelkezésre álló források számszerűsített értéke a teljes ütem tekintetében (eFt) | D26: Rendelkezésre álló források megnevezése
A27: I. ütem | B27: =O24 -> 0 | C27: 0 | D27: Fejlesztési díj (2021)
A28: II. ütem | B28: =SUM(P24:S24) -> 0 | C28: =C27*4 -> 0 | D28: Fejlesztési díj (2022-2025)
A29: III. ütem | B29: =SUM(T24:AC24) -> 0 | C29: =C27*10 -> 0 | D29: Fejlesztési díj (2026-2035)
B31: Jelenleg beruházási igény nem ismert, nincs rendelkezésre álló forrás beruházásra.

Sheet Nagykutas
A2: Gördülő fejlesztési terv a 2021 - 2035 időszakra
A3: BERUHÁZÁSOK ÖSSZEFOGLALÓ TÁBLÁZATA
A4: A tervet benyújtó szervezet megnevezése: | K4: NAGYKUTAS | R4: ellátásért felelős / ellátásért felelősök képviselője / víziközmű-szolgáltató *
A5: Víziközmű-szolgáltató megnevezése: | K5: ÉSZAK ZALAI VÍZ- ÉS CSATORNAMŰ ZÁRTKÖRŰEN MŰKÖDŐ RÉSZVÉNYTÁRSASÁG
A6: Víziközmű-szolgáltatási ágazat megnevezése: | K6: SZENNYVÍZ ÁGAZAT
A7: Véleményeltérést megfogalmazó érintett fél megnevezése:
A8: Víziközmű-rendszer kódja: ** | K8: 21-32054-1-048-01-10 | R8: Zalaegerszeg-SZV
A9: V. Szennyvízelvezetés
A10: Fontossági sorrend | B10: Beruházás megnevezése | E10: Műszaki állapot felmérés, szükségességi indoklás | H10: Vízjogi létesítési/elvi engedély száma | I10: Az érintett ellátásért felelős(ök) megnevezése | J10: Tervezett nettó költség | K10: Forrás 2021 évre | L10: Megvalósítás időtartama | N10: Tervezett időtáv | O10: A beruházás ütemezése a tervezési időszak évei szerint
E11: Jelenlegi műszaki állapot | F11: Feladat szükségessége | G11: Megvalósítást követő várható műszaki állapot | J11: (eFt) | L11: Kezdés | M11: Befejezés | N11: (rövid / közép / hosszú) | O11: 1 | P11: 2 | Q11: 3 | R11: 4 | S11: 5 | T11: 6 | U11: 7 | V11: 8 | W11: 9 | X11: 10 | Y11: 11 | Z11: 12 | AA11: 13 | AB11: 14 | AC11: 15
B12: szakág | C12: Helyszín | D12: beruházás megnevezése
B14: SZENNYVÍZCSATORNA (GRAVITÁCIÓS)
B15: Épület, építmény
B17: SZENNYVÍZVEZETÉKEK (KÉNYSZERÁRAMOLTATÁSÚ)
B19: SZENNYVÍZÁTEMELŐK
B20: Épület, építmény
B21: Gép, berendezés
B22: Irányítástechnika, energiaellátás
B24: Összesen: | J24: =SUM(J14:J23) -> 0 | K24: 0 | O24: =SUM(O13:O23) -> 0 | P24: =SUM(P13:P23) -> 0 | Q24: =SUM(Q13:Q23) -> 0 | R24: =SUM(R13:R23) -> 0 | S24: =SUM(S13:S23) -> 0 | T24: =SUM(T13:T23) -> 0 | U24: =SUM(U13:U23) -> 0 | V24: =SUM(V13:V23) -> 0 | ... AC24: =SUM(AC13:AC23) -> 0
K25: Beruházásra forrás nem áll rendelkezésre.
B26: Tervezett feladatok nettó költsége a teljes ütem tekintetében (eFt) | C26: Rendelkezésre álló források számszerűsített értéke a teljes ütem tekintetében (eFt) | D26: Rendelkezésre álló források megnevezése
A27: I. ütem | B27: =O24 -> 0 | C27: 0 | D27: Fejlesztési díj (2021)
A28: II. ütem | B28: =SUM(P24:S24) -> 0 | C28: =C27*4 -> 0 | D28: Fejlesztési díj (2022-2025)
A29: III. ütem | B29: =SUM(T24:AC24) -> 0 | C29: =C27*10 -> 0 | D29: Fejlesztési díj (2026-2035)
B31: Jelenleg beruházási igény nem ismert, nincs rendelkezésre álló forrás beruházásra.

Sheet Nagypáli
A2: Gördülő fejlesztési terv a 2021 - 2035 időszakra
A3: BERUHÁZÁSOK ÖSSZEFOGLALÓ TÁBLÁZATA
A4: A tervet benyújtó szervezet megnevezése: | K4: NAGYPÁLI | R4: ellátásért felelős / ellátásért felelősök képviselője / víziközmű-szolgáltató *
A5: Víziközmű-szolgáltató megnevezése: | K5: ÉSZAK ZALAI VÍZ- ÉS CSATORNAMŰ ZÁRTKÖRŰEN MŰKÖDŐ RÉSZVÉNYTÁRSASÁG
A6: Víziközmű-szolgáltatási ágazat megnevezése: | K6: SZENNYVÍZ ÁGAZAT
A7: Véleményeltérést megfogalmazó érintett fél megnevezése:
A8: Víziközmű-rendszer kódja: ** | K8: 21-32054-1-048-01-10 | R8: Zalaegerszeg-SZV
A9: V. Szennyvízelvezetés
A10: Fontossági sorrend | B10: Beruházás megnevezése | E10: Műszaki állapot felmérés, szükségességi indoklás | H10: Vízjogi létesítési/elvi engedély száma | I10: Az érintett ellátásért felelős(ök) megnevezése | J10: Tervezett nettó költség | K10: Forrás 2021 évre | L10: Megvalósítás időtartama | N10: Tervezett időtáv | O10: A beruházás ütemezése a tervezési időszak évei szerint
E11: Jelenlegi műszaki állapot | F11: Feladat szükségessége | G11: Megvalósítást követő várható műszaki állapot | J11: (eFt) | L11: Kezdés | M11: Befejezés | N11: (rövid / közép / hosszú) | O11: 1 | P11: 2 | Q11: 3 | R11: 4 | S11: 5 | T11: 6 | U11: 7 | V11: 8 | W11: 9 | X11: 10 | Y11: 11 | Z11: 12 | AA11: 13 | AB11: 14 | AC11: 15
B12: szakág | C12: Helyszín | D12: beruházás megnevezése
B14: SZENNYVÍZCSATORNA (GRAVITÁCIÓS)
B15: Épület, építmény
B17: SZENNYVÍZVEZETÉKEK (KÉNYSZERÁRAMOLTATÁSÚ)
B19: SZENNYVÍZÁTEMELŐK
B20: Épület, építmény
B21: Gép, berendezés
B22: Irányítástechnika, energiaellátás
B24: Összesen: | J24: =SUM(J14:J23) -> 0 | K24: 0 | O24: =SUM(O13:O23) -> 0 | P24: =SUM(P13:P23) -> 0 | Q24: =SUM(Q13:Q23) -> 0 | R24: =SUM(R13:R23) -> 0 | S24: =SUM(S13:S23) -> 0 | T24: =SUM(T13:T23) -> 0 | U24: =SUM(U13:U23) -> 0 | V24: =SUM(V13:V23) -> 0 | ... AC24: =SUM(AC13:AC23) -> 0
K25: Beruházásra forrás nem áll rendelkezésre.
B26: Tervezett feladatok nettó költsége a teljes ütem tekintetében (eFt) | C26: Rendelkezésre álló források számszerűsített értéke a teljes ütem tekintetében (eFt) | D26: Rendelkezésre álló források megnevezése
A27: I. ütem | B27: =O24 -> 0 | C27: 0 | D27: Fejlesztési díj (2021)
A28: II. ütem | B28: =SUM(P24:S25) -> 0 | C28: =C27*4 -> 0 | D28: Fejlesztési díj (2022-2025)
A29: III. ütem | B29: =SUM(T24:AC24) -> 0 | C29: =C27*10 -> 0 | D29: Fejlesztési díj (2026-2035)
B31: Jelenleg beruházási igény nem ismert, nincs rendelkezésre álló forrás beruházásra.

Sheet Nemesapáti
A2: Gördülő fejlesztési terv a 2021 - 2035 időszakra
A3: BERUHÁZÁSOK ÖSSZEFOGLALÓ TÁBLÁZATA
A4: A tervet benyújtó szervezet megnevezése: | K4: NEMESAPÁTI | R4: ellátásért felelős / ellátásért felelősök képviselője / víziközmű-szolgáltató *
A5: Víziközmű-szolgáltató megnevezése: | K5: ÉSZAK ZALAI VÍZ- ÉS CSATORNAMŰ ZÁRTKÖRŰEN MŰKÖDŐ RÉSZVÉNYTÁRSASÁG
A6: Víziközmű-szolgáltatási ágazat megnevezése: | K6: SZENNYVÍZ ÁGAZAT
A7: Véleményeltérést megfogalmazó érintett fél megnevezése:
A8: Víziközmű-rendszer kódja: ** | K8: 21-32054-1-048-01-10 | R8: Zalaegerszeg-SZV
A9: V. Szennyvízelvezetés
A10: Fontossági sorrend | B10: Beruházás megnevezése | E10: Műszaki állapot felmérés, szükségességi indoklás | H10: Vízjogi létesítési/elvi engedély száma | I10: Az érintett ellátásért felelős(ök) megnevezése | J10: Tervezett nettó költség | K10: Forrás 2021 évre | L10: Megvalósítás időtartama | N10: Tervezett időtáv | O10: A beruházás ütemezése a tervezési időszak évei szerint
E11: Jelenlegi műszaki állapot | F11: Feladat szükségessége | G11: Megvalósítást követő várható műszaki állapot | J11: (eFt) | L11: Kezdés | M11: Befejezés | N11: (rövid / közép / hosszú) | O11: 1 | P11: 2 | Q11: 3 | R11: 4 | S11: 5 | T11: 6 | U11: 7 | V11: 8 | W11: 9 | X11: 10 | Y11: 11 | Z11: 12 | AA11: 13 | AB11: 14 | AC11: 15
B12: szakág | C12: Helyszín | D12: beruházás megnevezése
B14: SZENNYVÍZCSATORNA (GRAVITÁCIÓS)
B15: Épület, építmény
B17: SZENNYVÍZVEZETÉKEK (KÉNYSZERÁRAMOLTATÁSÚ)
B19: SZENNYVÍZÁTEMELŐK
B20: Épület, építmény
B21: Gép, berendezés
B22: Irányítástechnika, energiaellátás
B24: Összesen: | J24: =SUM(J14:J23) -> 0 | K24: 0 | O24: =SUM(O13:O23) -> 0 | P24: =SUM(P13:P23) -> 0 | Q24: =SUM(Q13:Q23) -> 0 | R24: =SUM(R13:R23) -> 0 | S24: =SUM(S13:S23) -> 0 | T24: =SUM(T13:T23) -> 0 | U24: =SUM(U13:U23) -> 0 | V24: =SUM(V13:V23) -> 0 | ... AC24: =SUM(AC13:AC23) -> 0
K25: Beruházásra forrás nem áll rendelkezésre.
B26: Tervezett feladatok nettó költsége a teljes ütem tekintetében (eFt) | C26: Rendelkezésre álló források számszerűsített értéke a teljes ütem tekintetében (eFt) | D26: Rendelkezésre álló források megnevezése
A27: I. ütem | B27: =O24 -> 0 | C27: 0 | D27: Fejlesztési díj (2021)
A28: II. ütem | B28: =SUM(P24:S24) -> 0 | C28: =C27*4 -> 0 | D28: Fejlesztési díj (2022-2025)
A29: III. ütem | B29: =SUM(T24:AC24) -> 0 | C29: =C27*10 -> 0 | D29: Fejlesztési díj (2026-2035)
B31: Jelenleg beruházási igény nem ismert, nincs rendelkezésre álló forrás beruházásra.

Sheet Nemeshetés
A2: Gördülő fejlesztési terv a 2021 - 2035 időszakra
A3: BERUHÁZÁSOK ÖSSZEFOGLALÓ TÁBLÁZATA
A4: A tervet benyújtó szervezet megnevezése: | K4: NEMESHETÉS | R4: ellátásért felelős / ellátásért felelősök képviselője / víziközmű-szolgáltató *
A5: Víziközmű-szolgáltató megnevezése: | K5: ÉSZAK ZALAI VÍZ- ÉS CSATORNAMŰ ZÁRTKÖRŰEN MŰKÖDŐ RÉSZVÉNYTÁRSASÁG
A6: Víziközmű-szolgáltatási ágazat megnevezése: | K6: SZENNYVÍZ ÁGAZAT
A7: Véleményeltérést megfogalmazó érintett fél megnevezése:
A8: Víziközmű-rendszer kódja: ** | K8: 21-32054-1-048-01-10 | R8: Zalaegerszeg-SZV
A9: V. Szennyvízelvezetés
A10: Fontossági sorrend | B10: Beruházás megnevezése | E10: Műszaki állapot felmérés, szükségességi indoklás | H10: Vízjogi létesítési/elvi engedély száma | I10: Az érintett ellátásért felelős(ök) megnevezése | J10: Tervezett nettó költség | K10: Forrás 2021 évre | L10: Megvalósítás időtartama | N10: Tervezett időtáv | O10: A beruházás ütemezése a tervezési időszak évei szerint
E11: Jelenlegi műszaki állapot | F11: Feladat szükségessége | G11: Megvalósítást követő várható műszaki állapot | J11: (eFt) | L11: Kezdés | M11: Befejezés | N11: (rövid / közép / hosszú) | O11: 1 | P11: 2 | Q11: 3 | R11: 4 | S11: 5 | T11: 6 | U11: 7 | V11: 8 | W11: 9 | X11: 10 | Y11: 11 | Z11: 12 | AA11: 13 | AB11: 14 | AC11: 15
B12: szakág | C12: Helyszín | D12: beruházás megnevezése
B14: SZENNYVÍZCSATORNA (GRAVITÁCIÓS)
B15: Épület, építmény
B17: SZENNYVÍZVEZETÉKEK (KÉNYSZERÁRAMOLTATÁSÚ)
B19: SZENNYVÍZÁTEMELŐK
B20: Épület, építmény
B21: Gép, berendezés
B22: Irányítástechnika, energiaellátás
B24: Összesen: | J24: =SUM(J14:J23) -> 0 | K24: 0 | O24: =SUM(O13:O23) -> 0 | P24: =SUM(P13:P23) -> 0 | Q24: =SUM(Q13:Q23) -> 0 | R24: =SUM(R13:R23) -> 0 | S24: =SUM(S13:S23) -> 0 | T24: =SUM(T13:T23) -> 0 | U24: =SUM(U13:U23) -> 0 | V24: =SUM(V13:V23) -> 0 | ... AC24: =SUM(AC13:AC23) -> 0
K25: Beruházásra forrás nem áll rendelkezésre.
B26: Tervezett feladatok nettó költsége a teljes ütem tekintetében (eFt) | C26: Rendelkezésre álló források számszerűsített értéke a teljes ütem tekintetében (eFt) | D26: Rendelkezésre álló források megnevezése
A27: I. ütem | B27: =O24 -> 0 | C27: 0 | D27: Fejlesztési díj (2021)
A28: II. ütem | B28: =SUM(P24:S24) -> 0 | C28: =C27*4 -> 0 | D28: Fejlesztési díj (2022-2025)
A29: III. ütem | B29: =SUM(T24:AC24) -> 0 | C29: =C27*10 -> 0 | D29: Fejlesztési díj (2026-2035)
B31: Jelenleg beruházási igény nem ismert, nincs rendelkezésre álló forrás beruházásra.

Sheet Nemesándorháza
A2: Gördülő fejlesztési terv a 2021 - 2035 időszakra
A3: BERUHÁZÁSOK ÖSSZEFOGLALÓ TÁBLÁZATA
A4: A tervet benyújtó szervezet megnevezése: | K4: NEMESSÁNDORHÁZA | R4: ellátásért felelős / ellátásért felelősök képviselője / víziközmű-szolgáltató *
A5: Víziközmű-szolgáltató megnevezése: | K5: ÉSZAK ZALAI VÍZ- ÉS CSATORNAMŰ ZÁRTKÖRŰEN MŰKÖDŐ RÉSZVÉNYTÁRSASÁG
A6: Víziközmű-szolgáltatási ágazat megnevezése: | K6: SZENNYVÍZ ÁGAZAT
A7: Véleményeltérést megfogalmazó érintett fél megnevezése:
A8: Víziközmű-rendszer kódja: ** | K8: 21-32054-1-048-01-10 | R8: Zalaegerszeg-SZV
A9: V. Szennyvízelvezetés
A10: Fontossági sorrend | B10: Beruházás megnevezése | E10: Műszaki állapot felmérés, szükségességi indoklás | H10: Vízjogi létesítési/elvi engedély száma | I10: Az érintett ellátásért felelős(ök) megnevezése | J10: Tervezett nettó költség | K10: Forrás 2021 évre | L10: Megvalósítás időtartama | N10: Tervezett időtáv | O10: A beruházás ütemezése a tervezési időszak évei szerint
E11: Jelenlegi műszaki állapot | F11: Feladat szükségessége | G11: Megvalósítást követő várható műszaki állapot | J11: (eFt) | L11: Kezdés | M11: Befejezés | N11: (rövid / közép / hosszú) | O11: 1 | P11: 2 | Q11: 3 | R11: 4 | S11: 5 | T11: 6 | U11: 7 | V11: 8 | W11: 9 | X11: 10 | Y11: 11 | Z11: 12 | AA11: 13 | AB11: 14 | AC11: 15
B12: szakág | C12: Helyszín | D12: beruházás megnevezése
B14: SZENNYVÍZCSATORNA (GRAVITÁCIÓS)
B15: Épület, építmény
B17: SZENNYVÍZVEZETÉKEK (KÉNYSZERÁRAMOLTATÁSÚ)
B19: SZENNYVÍZÁTEMELŐK
B20: Épület, építmény
B21: Gép, berendezés
B22: Irányítástechnika, energiaellátás
B24: Összesen: | J24: =SUM(J14:J23) -> 0 | K24: 0 | O24: =SUM(O13:O23) -> 0 | P24: =SUM(P13:P23) -> 0 | Q24: =SUM(Q13:Q23) -> 0 | R24: =SUM(R13:R23) -> 0 | S24: =SUM(S13:S23) -> 0 | T24: =SUM(T13:T23) -> 0 | U24: =SUM(U13:U23) -> 0 | V24: =SUM(V13:V23) -> 0 | ... AC24: =SUM(AC13:AC23) -> 0
K25: Beruházásra forrás nem áll rendelkezésre.
B26: Tervezett feladatok nettó költsége a teljes ütem tekintetében (eFt) | C26: Rendelkezésre álló források számszerűsített értéke a teljes ütem tekintetében (eFt) | D26: Rendelkezésre álló források megnevezése
A27: I. ütem | B27: =O24 -> 0 | C27: 0 | D27: Fejlesztési díj (2021)
A28: II. ütem | B28: =SUM(P24:S24) -> 0 | C28: =C27*4 -> 0 | D28: Fejlesztési díj (2022-2025)
A29: III. ütem | B29: =SUM(T24:AC24) -> 0 | C29: =C27*10 -> 0 | D29: Fejlesztési díj (2026-2035)
B31: Jelenleg beruházási igény nem ismert, nincs rendelkezésre álló forrás beruházásra.

Sheet Nemesszentandrás
A2: Gördülő fejlesztési terv a 2021 - 2035 időszakra
A3: BERUHÁZÁSOK ÖSSZEFOGLALÓ TÁBLÁZATA
A4: A tervet benyújtó szervezet megnevezése: | K4: NEMESSZENTANDRÁS | R4: ellátásért felelős / ellátásért felelősök képviselője / víziközmű-szolgáltató *
A5: Víziközmű-szolgáltató megnevezése: | K5: ÉSZAK ZALAI VÍZ- ÉS CSATORNAMŰ ZÁRTKÖRŰEN MŰKÖDŐ RÉSZVÉNYTÁRSASÁG
A6: Víziközmű-szolgáltatási ágazat megnevezése: | K6: SZENNYVÍZ ÁGAZAT
A7: Véleményeltérést megfogalmazó érintett fél megnevezése:
A8: Víziközmű-rendszer kódja: ** | K8: 21-32054-1-048-01-10 | R8: Zalaegerszeg-SZV
A9: V. Szennyvízelvezetés
A10: Fontossági sorrend | B10: Beruházás megnevezése | E10: Műszaki állapot felmérés, szükségességi indoklás | H10: Vízjogi létesítési/elvi engedély száma | I10: Az érintett ellátásért felelős(ök) megnevezése | J10: Tervezett nettó költség | K10: Forrás 2021 évre | L10: Megvalósítás időtartama | N10: Tervezett időtáv | O10: A beruházás ütemezése a tervezési időszak évei szerint
E11: Jelenlegi műszaki állapot | F11: Feladat szükségessége | G11: Megvalósítást követő várható műszaki állapot | J11: (eFt) | L11: Kezdés | M11: Befejezés | N11: (rövid / közép / hosszú) | O11: 1 | P11: 2 | Q11: 3 | R11: 4 | S11: 5 | T11: 6 | U11: 7 | V11: 8 | W11: 9 | X11: 10 | Y11: 11 | Z11: 12 | AA11: 13 | AB11: 14 | AC11: 15
B12: szakág | C12: Helyszín | D12: beruházás megnevezése
B14: SZENNYVÍZCSATORNA (GRAVITÁCIÓS)
B15: Épület, építmény
B17: SZENNYVÍZVEZETÉKEK (KÉNYSZERÁRAMOLTATÁSÚ)
B19: SZENNYVÍZÁTEMELŐK
B20: Épület, építmény
B21: Gép, berendezés
B22: Irányítástechnika, energiaellátás
B24: Összesen: | J24: =SUM(J14:J23) -> 0 | K24: 0 | O24: =SUM(O13:O23) -> 0 | P24: =SUM(P13:P23) -> 0 | Q24: =SUM(Q13:Q23) -> 0 | R24: =SUM(R13:R23) -> 0 | S24: =SUM(S13:S23) -> 0 | T24: =SUM(T13:T23) -> 0 | U24: =SUM(U13:U23) -> 0 | V24: =SUM(V13:V23) -> 0 | ... AC24: =SUM(AC13:AC23) -> 0
K25: Beruházásra forrás nem áll rendelkezésre.
B26: Tervezett feladatok nettó költsége a teljes ütem tekintetében (eFt) | C26: Rendelkezésre álló források számszerűsített értéke a teljes ütem tekintetében (eFt) | D26: Rendelkezésre álló források megnevezése
A27: I. ütem | B27: =O24 -> 0 | C27: 0 | D27: Fejlesztési díj (2021)
A28: II. ütem | B28: =SUM(P24:S24) -> 0 | C28: =C27*4 -> 0 | D28: Fejlesztési díj (2022-2025)
A29: III. ütem | B29: =SUM(T24:AC24) -> 0 | C29: =C27*10 -> 0 | D29: Fejlesztési díj (2026-2035)
B31: Jelenleg beruházási igény nem ismert, nincs rendelkezésre álló forrás beruházásra.

Sheet Németfalu
A2: Gördülő fejlesztési terv a 2021 - 2035 időszakra
A3: BERUHÁZÁSOK ÖSSZEFOGLALÓ TÁBLÁZATA
A4: A tervet benyújtó szervezet megnevezése: | K4: NÉMETFALU | R4: ellátásért felelős / ellátásért felelősök képviselője / víziközmű-szolgáltató *
A5: Víziközmű-szolgáltató megnevezése: | K5: ÉSZAK ZALAI VÍZ- ÉS CSATORNAMŰ ZÁRTKÖRŰEN MŰKÖDŐ RÉSZVÉNYTÁRSASÁG
A6: Víziközmű-szolgáltatási ágazat megnevezése: | K6: SZENNYVÍZ ÁGAZAT
A7: Véleményeltérést megfogalmazó érintett fél megnevezése:
A8: Víziközmű-rendszer kódja: ** | K8: 21-32054-1-048-01-10 | R8: Zalaegerszeg-SZV
A9: V. Szennyvízelvezetés
A10: Fontossági sorrend | B10: Beruházás megnevezése | E10: Műszaki állapot felmérés, szükségességi indoklás | H10: Vízjogi létesítési/elvi engedély száma | I10: Az érintett ellátásért felelős(ök) megnevezése | J10: Tervezett nettó költség | K10: Forrás 2021 évre | L10: Megvalósítás időtartama | N10: Tervezett időtáv | O10: A beruházás ütemezése a tervezési időszak évei szerint
E11: Jelenlegi műszaki állapot | F11: Feladat szükségessége | G11: Megvalósítást követő várható műszaki állapot | J11: (eFt) | L11: Kezdés | M11: Befejezés | N11: (rövid / közép / hosszú) | O11: 1 | P11: 2 | Q11: 3 | R11: 4 | S11: 5 | T11: 6 | U11: 7 | V11: 8 | W11: 9 | X11: 10 | Y11: 11 | Z11: 12 | AA11: 13 | AB11: 14 | AC11: 15
B12: szakág | C12: Helyszín | D12: beruházás megnevezése
B14: SZENNYVÍZCSATORNA (GRAVITÁCIÓS)
B15: Épület, építmény
B17: SZENNYVÍZVEZETÉKEK (KÉNYSZERÁRAMOLTATÁSÚ)
B19: SZENNYVÍZÁTEMELŐK
B20: Épület, építmény
B21: Gép, berendezés
B22: Irányítástechnika, energiaellátás
B24: Összesen: | J24: =SUM(J14:J23) -> 0 | K24: 0 | O24: =SUM(O13:O23) -> 0 | P24: =SUM(P13:P23) -> 0 | Q24: =SUM(Q13:Q23) -> 0 | R24: =SUM(R13:R23) -> 0 | S24: =SUM(S13:S23) -> 0 | T24: =SUM(T13:T23) -> 0 | U24: =SUM(U13:U23) -> 0 | V24: =SUM(V13:V23) -> 0 | ... AC24: =SUM(AC13:AC23) -> 0
K25: Beruházásra forrás nem áll rendelkezésre.
B26: Tervezett feladatok nettó költsége a teljes ütem tekintetében (eFt) | C26: Rendelkezésre álló források számszerűsített értéke a teljes ütem tekintetében (eFt) | D26: Rendelkezésre álló források megnevezése
A27: I. ütem | B27: =O24 -> 0 | C27: 0 | D27: Fejlesztési díj (2021)
A28: II. ütem | B28: =SUM(P24:S24) -> 0 | C28: =C27*4 -> 0 | D28: Fejlesztési díj (2022-2025)
A29: III. ütem | B29: =SUM(T24:AC24) -> 0 | C29: =C27*10 -> 0 | D29: Fejlesztési díj (2026-2035)
B31: Jelenleg beruházási igény nem ismert, nincs rendelkezésre álló forrás beruházásra.

Sheet Ozmánbük
A2: Gördülő fejlesztési terv a 2021 - 2035 időszakra
A3: BERUHÁZÁSOK ÖSSZEFOGLALÓ TÁBLÁZATA
A4: A tervet benyújtó szervezet megnevezése: | K4: OZMÁNBÜK | R4: ellátásért felelős / ellátásért felelősök képviselője / víziközmű-szolgáltató *
A5: Víziközmű-szolgáltató megnevezése: | K5: ÉSZAK ZALAI VÍZ- ÉS CSATORNAMŰ ZÁRTKÖRŰEN MŰKÖDŐ RÉSZVÉNYTÁRSASÁG
A6: Víziközmű-szolgáltatási ágazat megnevezése: | K6: SZENNYVÍZ ÁGAZAT
A7: Véleményeltérést megfogalmazó érintett fél megnevezése:
A8: Víziközmű-rendszer kódja: ** | K8: 21-32054-1-048-01-10 | R8: Zalaegerszeg-SZV
A9: V. Szennyvízelvezetés
A10: Fontossági sorrend | B10: Beruházás megnevezése | E10: Műszaki állapot felmérés, szükségességi indoklás | H10: Vízjogi létesítési/elvi engedély száma | I10: Az érintett ellátásért felelős(ök) megnevezése | J10: Tervezett nettó költség | K10: Forrás 2021 évre | L10: Megvalósítás időtartama | N10: Tervezett időtáv | O10: A beruházás ütemezése a tervezési időszak évei szerint
E11: Jelenlegi műszaki állapot | F11: Feladat szükségessége | G11: Megvalósítást követő várható műszaki állapot | J11: (eFt) | L11: Kezdés | M11: Befejezés | N11: (rövid / közép / hosszú) | O11: 1 | P11: 2 | Q11: 3 | R11: 4 | S11: 5 | T11: 6 | U11: 7 | V11: 8 | W11: 9 | X11: 10 | Y11: 11 | Z11: 12 | AA11: 13 | AB11: 14 | AC11: 15
B12: szakág | C12: Helyszín | D12: beruházás megnevezése
B14: SZENNYVÍZCSATORNA (GRAVITÁCIÓS)
B15: Épület, építmény
B17: SZENNYVÍZVEZETÉKEK (KÉNYSZERÁRAMOLTATÁSÚ)
B19: SZENNYVÍZÁTEMELŐK
B20: Épület, építmény
B21: Gép, berendezés
B22: Irányítástechnika, energiaellátás
B24: Összesen: | J24: =SUM(J14:J23) -> 0 | K24: 0 | O24: =SUM(O13:O23) -> 0 | P24: =SUM(P13:P23) -> 0 | Q24: =SUM(Q13:Q23) -> 0 | R24: =SUM(R13:R23) -> 0 | S24: =SUM(S13:S23) -> 0 | T24: =SUM(T13:T23) -> 0 | U24: =SUM(U13:U23) -> 0 | V24: =SUM(V13:V23) -> 0 | ... AC24: =SUM(AC13:AC23) -> 0
K25: Beruházásra forrás nem áll rendelkezésre.
B26: Tervezett feladatok nettó költsége a teljes ütem tekintetében (eFt) | C26: Rendelkezésre álló források számszerűsített értéke a teljes ütem tekintetében (eFt) | D26: Rendelkezésre álló források megnevezése
A27: I. ütem | B27: =O24 -> 0 | C27: 0 | D27: Fejlesztési díj (2021)
A28: II. ütem | B28: =SUM(P24:S24) -> 0 | C28: =C27*4 -> 0 | D28: Fejlesztési díj (2022-2025)
A29: III. ütem | B29: =SUM(T24:AC24) -> 0 | C29: =C27*10 -> 0 | D29: Fejlesztési díj (2026-2035)
B31: Jelenleg beruházási igény nem ismert, nincs rendelkezésre álló forrás beruházásra.

Sheet Pethőhenye
A2: Gördülő fejlesztési terv a 2021 - 2035 időszakra
A3: BERUHÁZÁSOK ÖSSZEFOGLALÓ TÁBLÁZATA
A4: A tervet benyújtó szervezet megnevezése: | K4: PETHŐHENYE | R4: ellátásért felelős / ellátásért felelősök képviselője / víziközmű-szolgáltató *
A5: Víziközmű-szolgáltató megnevezése: | K5: ÉSZAK ZALAI VÍZ- ÉS CSATORNAMŰ ZÁRTKÖRŰEN MŰKÖDŐ RÉSZVÉNYTÁRSASÁG
A6: Víziközmű-szolgáltatási ágazat megnevezése: | K6: SZENNYVÍZ ÁGAZAT
A7: Véleményeltérést megfogalmazó érintett fél megnevezése:
A8: Víziközmű-rendszer kódja: ** | K8: 21-32054-1-048-01-10 | R8: Zalaegerszeg-SZV
A9: V. Szennyvízelvezetés
A10: Fontossági sorrend | B10: Beruházás megnevezése | E10: Műszaki állapot felmérés, szükségességi indoklás | H10: Vízjogi létesítési/elvi engedély száma | I10: Az érintett ellátásért felelős(ök) megnevezése | J10: Tervezett nettó költség | K10: Forrás 2021 évre | L10: Megvalósítás időtartama | N10: Tervezett időtáv | O10: A beruházás ütemezése a tervezési időszak évei szerint
E11: Jelenlegi műszaki állapot | F11: Feladat szükségessége | G11: Megvalósítást követő várható műszaki állapot | J11: (eFt) | L11: Kezdés | M11: Befejezés | N11: (rövid / közép / hosszú) | O11: 1 | P11: 2 | Q11: 3 | R11: 4 | S11: 5 | T11: 6 | U11: 7 | V11: 8 | W11: 9 | X11: 10 | Y11: 11 | Z11: 12 | AA11: 13 | AB11: 14 | AC11: 15
B12: szakág | C12: Helyszín | D12: beruházás megnevezése
B14: SZENNYVÍZCSATORNA (GRAVITÁCIÓS)
B15: Épület, építmény
B17: SZENNYVÍZVEZETÉKEK (KÉNYSZERÁRAMOLTATÁSÚ)
B19: SZENNYVÍZÁTEMELŐK
B20: Épület, építmény
B21: Gép, berendezés
B22: Irányítástechnika, energiaellátás
B24: Összesen: | J24: =SUM(J14:J23) -> 0 | K24: 0 | O24: =SUM(O13:O23) -> 0 | P24: =SUM(P13:P23) -> 0 | Q24: =SUM(Q13:Q23) -> 0 | R24: =SUM(R13:R23) -> 0 | S24: =SUM(S13:S23) -> 0 | T24: =SUM(T13:T23) -> 0 | U24: =SUM(U13:U23) -> 0 | V24: =SUM(V13:V23) -> 0 | ... AC24: =SUM(AC13:AC23) -> 0
K25: Beruházásra forrás nem áll rendelkezésre.
B26: Tervezett feladatok nettó költsége a teljes ütem tekintetében (eFt) | C26: Rendelkezésre álló források számszerűsített értéke a teljes ütem tekintetében (eFt) | D26: Rendelkezésre álló források megnevezése
A27: I. ütem | B27: =O24 -> 0 | C27: 0 | D27: Fejlesztési díj (2021)
A28: II. ütem | B28: =SUM(P24:S24) -> 0 | C28: =C27*4 -> 0 | D28: Fejlesztési díj (2022-2025)
A29: III. ütem | B29: =SUM(T24:AC24) -> 0 | C29: =C27*10 -> 0 | D29: Fejlesztési díj (2026-2035)
B31: Jelenleg beruházási igény nem ismert, nincs rendelkezésre álló forrás beruházásra.

Sheet Pókaszepetk
A2: Gördülő fejlesztési terv a 2021 - 2035 időszakra
A3: BERUHÁZÁSOK ÖSSZEFOGLALÓ TÁBLÁZATA
A4: A tervet benyújtó szervezet megnevezése: | K4: PÓKASZEPETK | R4: ellátásért felelős / ellátásért felelősök képviselője / víziközmű-szolgáltató *
A5: Víziközmű-szolgáltató megnevezése: | K5: ÉSZAK ZALAI VÍZ- ÉS CSATORNAMŰ ZÁRTKÖRŰEN MŰKÖDŐ RÉSZVÉNYTÁRSASÁG
A6: Víziközmű-szolgáltatási ágazat megnevezése: | K6: SZENNYVÍZ ÁGAZAT
A7: Véleményeltérést megfogalmazó érintett fél megnevezése:
A8: Víziközmű-rendszer kódja: ** | K8: 21-32054-1-048-01-10 | R8: Zalaegerszeg-SZV
A9: V. Szennyvízelvezetés
A10: Fontossági sorrend | B10: Beruházás megnevezése | E10: Műszaki állapot felmérés, szükségességi indoklás | H10: Vízjogi létesítési/elvi engedély száma | I10: Az érintett ellátásért felelős(ök) megnevezése | J10: Tervezett nettó költség | K10: Forrás 2021 évre | L10: Megvalósítás időtartama | N10: Tervezett időtáv | O10: A beruházás ütemezése a tervezési időszak évei szerint
E11: Jelenlegi műszaki állapot | F11: Feladat szükségessége | G11: Megvalósítást követő várható műszaki állapot | J11: (eFt) | L11: Kezdés | M11: Befejezés | N11: (rövid / közép / hosszú) | O11: 1 | P11: 2 | Q11: 3 | R11: 4 | S11: 5 | T11: 6 | U11: 7 | V11: 8 | W11: 9 | X11: 10 | Y11: 11 | Z11: 12 | AA11: 13 | AB11: 14 | AC11: 15
B12: szakág | C12: Helyszín | D12: beruházás megnevezése
B14: SZENNYVÍZCSATORNA (GRAVITÁCIÓS)
B15: Épület, építmény
B17: SZENNYVÍZVEZETÉKEK (KÉNYSZERÁRAMOLTATÁSÚ)
B19: SZENNYVÍZÁTEMELŐK
B20: Épület, építmény
B21: Gép, berendezés
B22: Irányítástechnika, energiaellátás
B24: Összesen: | J24: =SUM(J14:J23) -> 0 | K24: 0 | O24: =SUM(O13:O23) -> 0 | P24: =SUM(P13:P23) -> 0 | Q24: =SUM(Q13:Q23) -> 0 | R24: =SUM(R13:R23) -> 0 | S24: =SUM(S13:S23) -> 0 | T24: =SUM(T13:T23) -> 0 | U24: =SUM(U13:U23) -> 0 | V24: =SUM(V13:V23) -> 0 | ... AC24: =SUM(AC13:AC23) -> 0
K25: Beruházásra forrás nem áll rendelkezésre.
B26: Tervezett feladatok nettó költsége a teljes ütem tekintetében (eFt) | C26: Rendelkezésre álló források számszerűsített értéke a teljes ütem tekintetében (eFt) | D26: Rendelkezésre álló források megnevezése
A27: I. ütem | B27: =O24 -> 0 | C27: 0 | D27: Fejlesztési díj (2021)
A28: II. ütem | B28: =SUM(P24:S24) -> 0 | C28: =C27*4 -> 0 | D28: Fejlesztési díj (2022-2025)
A29: III. ütem | B29: =SUM(T24:AC24) -> 0 | C29: =C27*10 -> 0 | D29: Fejlesztési díj (2026-2035)
B31: Jelenleg beruházási igény nem ismert, nincs rendelkezésre álló forrás beruházásra.

Sheet Pusztaszenlászló
A2: Gördülő fejlesztési terv a 2021 - 2035 időszakra
A3: BERUHÁZÁSOK ÖSSZEFOGLALÓ TÁBLÁZATA
A4: A tervet benyújtó szervezet megnevezése: | K4: PUSZTASZENTLÁSZLÓ | R4: ellátásért felelős / ellátásért felelősök képviselője / víziközmű-szolgáltató *
A5: Víziközmű-szolgáltató megnevezése: | K5: ÉSZAK ZALAI VÍZ- ÉS CSATORNAMŰ ZÁRTKÖRŰEN MŰKÖDŐ RÉSZVÉNYTÁRSASÁG
A6: Víziközmű-szolgáltatási ágazat megnevezése: | K6: SZENNYVÍZ ÁGAZAT
A7: Véleményeltérést megfogalmazó érintett fél megnevezése:
A8: Víziközmű-rendszer kódja: ** | K8: 21-32054-1-048-01-10 | R8: Zalaegerszeg-SZV
A9: V. Szennyvízelvezetés
A10: Fontossági sorrend | B10: Beruházás megnevezése | E10: Műszaki állapot felmérés, szükségességi indoklás | H10: Vízjogi létesítési/elvi engedély száma | I10: Az érintett ellátásért felelős(ök) megnevezése | J10: Tervezett nettó költség | K10: Forrás 2021 évre | L10: Megvalósítás időtartama | N10: Tervezett időtáv | O10: A beruházás ütemezése a tervezési időszak évei szerint
E11: Jelenlegi műszaki állapot | F11: Feladat szükségessége | G11: Megvalósítást követő várható műszaki állapot | J11: (eFt) | L11: Kezdés | M11: Befejezés | N11: (rövid / közép / hosszú) | O11: 1 | P11: 2 | Q11: 3 | R11: 4 | S11: 5 | T11: 6 | U11: 7 | V11: 8 | W11: 9 | X11: 10 | Y11: 11 | Z11: 12 | AA11: 13 | AB11: 14 | AC11: 15
B12: szakág | C12: Helyszín | D12: beruházás megnevezése
B14: SZENNYVÍZCSATORNA (GRAVITÁCIÓS)
B15: Épület, építmény
B17: SZENNYVÍZVEZETÉKEK (KÉNYSZERÁRAMOLTATÁSÚ)
B19: SZENNYVÍZÁTEMELŐK
B20: Épület, építmény
B21: Gép, berendezés
B22: Irányítástechnika, energiaellátás
B24: Összesen: | J24: =SUM(J14:J23) -> 0 | K24: 0 | O24: =SUM(O13:O23) -> 0 | P24: =SUM(P13:P23) -> 0 | Q24: =SUM(Q13:Q23) -> 0 | R24: =SUM(R13:R23) -> 0 | S24: =SUM(S13:S23) -> 0 | T24: =SUM(T13:T23) -> 0 | U24: =SUM(U13:U23) -> 0 | V24: =SUM(V13:V23) -> 0 | ... AC24: =SUM(AC13:AC23) -> 0
K25: Beruházásra forrás nem áll rendelkezésre.
B26: Tervezett feladatok nettó költsége a teljes ütem tekintetében (eFt) | C26: Rendelkezésre álló források számszerűsített értéke a teljes ütem tekintetében (eFt) | D26: Rendelkezésre álló források megnevezése
A27: I. ütem | B27: =O24 -> 0 | C27: 0 | D27: Fejlesztési díj (2021)
A28: II. ütem | B28: =SUM(P24:S24) -> 0 | C28: =C27*4 -> 0 | D28: Fejlesztési díj (2022-2025)
A29: III. ütem | B29: =SUM(T24:AC24) -> 0 | C29: =C27*10 -> 0 | D29: Fejlesztési díj (2026-2035)
B31: Jelenleg beruházási igény nem ismert, nincs rendelkezésre álló forrás beruházásra.

Sheet Salomvár
A2: Gördülő fejlesztési terv a 2021 - 2035 időszakra
A3: BERUHÁZÁSOK ÖSSZEFOGLALÓ TÁBLÁZATA
A4: A tervet benyújtó szervezet megnevezése: | K4: SALOMVÁR | R4: ellátásért felelős / ellátásért felelősök képviselője / víziközmű-szolgáltató *
A5: Víziközmű-szolgáltató megnevezése: | K5: ÉSZAK ZALAI VÍZ- ÉS CSATORNAMŰ ZÁRTKÖRŰEN MŰKÖDŐ RÉSZVÉNYTÁRSASÁG
A6: Víziközmű-szolgáltatási ágazat megnevezése: | K6: SZENNYVÍZ ÁGAZAT
A7: Véleményeltérést megfogalmazó érintett fél megnevezése:
A8: Víziközmű-rendszer kódja: ** | K8: 21-32054-1-048-01-10 | R8: Zalaegerszeg-SZV
A9: V. Szennyvízelvezetés
A10: Fontossági sorrend | B10: Beruházás megnevezése | E10: Műszaki állapot felmérés, szükségességi indoklás | H10: Vízjogi létesítési/elvi engedély száma | I10: Az érintett ellátásért felelős(ök) megnevezése | J10: Tervezett nettó költség | K10: Forrás 2021 évre | L10: Megvalósítás időtartama | N10: Tervezett időtáv | O10: A beruházás ütemezése a tervezési időszak évei szerint
E11: Jelenlegi műszaki állapot | F11: Feladat szükségessége | G11: Megvalósítást követő várható műszaki állapot | J11: (eFt) | L11: Kezdés | M11: Befejezés | N11: (rövid / közép / hosszú) | O11: 1 | P11: 2 | Q11: 3 | R11: 4 | S11: 5 | T11: 6 | U11: 7 | V11: 8 | W11: 9 | X11: 10 | Y11: 11 | Z11: 12 | AA11: 13 | AB11: 14 | AC11: 15
B12: szakág | C12: Helyszín | D12: beruházás megnevezése
B14: SZENNYVÍZCSATORNA (GRAVITÁCIÓS)
B15: Épület, építmény
B17: SZENNYVÍZVEZETÉKEK (KÉNYSZERÁRAMOLTATÁSÚ)
B19: SZENNYVÍZÁTEMELŐK
B20: Épület, építmény
B21: Gép, berendezés
B22: Irányítástechnika, energiaellátás
B24: Összesen: | J24: =SUM(J14:J23) -> 0 | K24: 0 | O24: =SUM(O13:O23) -> 0 | P24: =SUM(P13:P23) -> 0 | Q24: =SUM(Q13:Q23) -> 0 | R24: =SUM(R13:R23) -> 0 | S24: =SUM(S13:S23) -> 0 | T24: =SUM(T13:T23) -> 0 | U24: =SUM(U13:U23) -> 0 | V24: =SUM(V13:V23) -> 0 | ... AC24: =SUM(AC13:AC23) -> 0
K25: Beruházásra forrás nem áll rendelkezésre.
B26: Tervezett feladatok nettó költsége a teljes ütem tekintetében (eFt) | C26: Rendelkezésre álló források számszerűsített értéke a teljes ütem tekintetében (eFt) | D26: Rendelkezésre álló források megnevezése
A27: I. ütem | B27: =O24 -> 0 | C27: 0 | D27: Fejlesztési díj (2021)
A28: II. ütem | B28: =SUM(P24:S24) -> 0 | C28: =C27*4 -> 0 | D28: Fejlesztési díj (2022-2025)
A29: III. ütem | B29: =SUM(T24:AC24) -> 0 | C29: =C27*10 -> 0 | D29: Fejlesztési díj (2026-2035)
B31: Jelenleg beruházási igény nem ismert, nincs rendelkezésre álló forrás beruházásra.

Sheet Sárhida
A2: Gördülő fejlesztési terv a 2021 - 2035 időszakra
A3: BERUHÁZÁSOK ÖSSZEFOGLALÓ TÁBLÁZATA
A4: A tervet benyújtó szervezet megnevezése: | K4: SÁRHIDA | R4: ellátásért felelős / ellátásért felelősök képviselője / víziközmű-szolgáltató *
A5: Víziközmű-szolgáltató megnevezése: | K5: ÉSZAK ZALAI VÍZ- ÉS CSATORNAMŰ ZÁRTKÖRŰEN MŰKÖDŐ RÉSZVÉNYTÁRSASÁG
A6: Víziközmű-szolgáltatási ágazat megnevezése: | K6: SZENNYVÍZ ÁGAZAT
A7: Véleményeltérést megfogalmazó érintett fél megnevezése:
A8: Víziközmű-rendszer kódja: ** | K8: 21-32054-1-048-01-10 | R8: Zalaegerszeg-SZV
A9: V. Szennyvízelvezetés
A10: Fontossági sorrend | B10: Beruházás megnevezése | E10: Műszaki állapot felmérés, szükségességi indoklás | H10: Vízjogi létesítési/elvi engedély száma | I10: Az érintett ellátásért felelős(ök) megnevezése | J10: Tervezett nettó költség | K10: Forrás 2021 évre | L10: Megvalósítás időtartama | N10: Tervezett időtáv | O10: A beruházás ütemezése a tervezési időszak évei szerint
E11: Jelenlegi műszaki állapot | F11: Feladat szükségessége | G11: Megvalósítást követő várható műszaki állapot | J11: (eFt) | L11: Kezdés | M11: Befejezés | N11: (rövid / közép / hosszú) | O11: 1 | P11: 2 | Q11: 3 | R11: 4 | S11: 5 | T11: 6 | U11: 7 | V11: 8 | W11: 9 | X11: 10 | Y11: 11 | Z11: 12 | AA11: 13 | AB11: 14 | AC11: 15
B12: szakág | C12: Helyszín | D12: beruházás megnevezése
B14: SZENNYVÍZCSATORNA (GRAVITÁCIÓS)
B15: Épület, építmény
B17: SZENNYVÍZVEZETÉKEK (KÉNYSZERÁRAMOLTATÁSÚ)
B19: SZENNYVÍZÁTEMELŐK
B20: Épület, építmény
B21: Gép, berendezés
B22: Irányítástechnika, energiaellátás
B24: Összesen: | J24: =SUM(J14:J23) -> 0 | K24: 0 | O24: =SUM(O13:O23) -> 0 | P24: =SUM(P13:P23) -> 0 | Q24: =SUM(Q13:Q23) -> 0 | R24: =SUM(R13:R23) -> 0 | S24: =SUM(S13:S23) -> 0 | T24: =SUM(T13:T23) -> 0 | U24: =SUM(U13:U23) -> 0 | V24: =SUM(V13:V23) -> 0 | ... AC24: =SUM(AC13:AC23) -> 0
K25: Beruházásra forrás nem áll rendelkezésre.
B26: Tervezett feladatok nettó költsége a teljes ütem tekintetében (eFt) | C26: Rendelkezésre álló források számszerűsített értéke a teljes ütem tekintetében (eFt) | D26: Rendelkezésre álló források megnevezése
A27: I. ütem | B27: =O24 -> 0 | C27: 0 | D27: Fejlesztési díj (2021)
A28: II. ütem | B28: =SUM(P24:S24) -> 0 | C28: =C27*4 -> 0 | D28: Fejlesztési díj (2022-2025)
A29: III. ütem | B29: =SUM(T24:AC24) -> 0 | C29: =C27*10 -> 0 | D29: Fejlesztési díj (2026-2035)
B31: Jelenleg beruházási igény nem ismert, nincs rendelkezésre álló forrás beruházásra.

Sheet Söjtör
A2: Gördülő fejlesztési terv a 2021 - 2035 időszakra
A3: BERUHÁZÁSOK ÖSSZEFOGLALÓ TÁBLÁZATA
A4: A tervet benyújtó szervezet megnevezése: | K4: SÖJTÖR | R4: ellátásért felelős / ellátásért felelősök képviselője / víziközmű-szolgáltató *
A5: Víziközmű-szolgáltató megnevezése: | K5: ÉSZAK ZALAI VÍZ- ÉS CSATORNAMŰ ZÁRTKÖRŰEN MŰKÖDŐ RÉSZVÉNYTÁRSASÁG
A6: Víziközmű-szolgáltatási ágazat megnevezése: | K6: SZENNYVÍZ ÁGAZAT
A7: Véleményeltérést megfogalmazó érintett fél megnevezése:
A8: Víziközmű-rendszer kódja: ** | K8: 21-32054-1-048-01-10 | R8: Zalaegerszeg-SZV
A9: V. Szennyvízelvezetés
A10: Fontossági sorrend | B10: Beruházás megnevezése | E10: Műszaki állapot felmérés, szükségességi indoklás | H10: Vízjogi létesítési/elvi engedély száma | I10: Az érintett ellátásért felelős(ök) megnevezése | J10: Tervezett nettó költség | K10: Forrás 2021 évre | L10: Megvalósítás időtartama | N10: Tervezett időtáv | O10: A beruházás ütemezése a tervezési időszak évei szerint
E11: Jelenlegi műszaki állapot | F11: Feladat szükségessége | G11: Megvalósítást követő várható műszaki állapot | J11: (eFt) | L11: Kezdés | M11: Befejezés | N11: (rövid / közép / hosszú) | O11: 1 | P11: 2 | Q11: 3 | R11: 4 | S11: 5 | T11: 6 | U11: 7 | V11: 8 | W11: 9 | X11: 10 | Y11: 11 | Z11: 12 | AA11: 13 | AB11: 14 | AC11: 15
B12: szakág | C12: Helyszín | D12: beruházás megnevezése
B14: SZENNYVÍZCSATORNA (GRAVITÁCIÓS)
B15: Épület, építmény
B17: SZENNYVÍZVEZETÉKEK (KÉNYSZERÁRAMOLTATÁSÚ)
B19: SZENNYVÍZÁTEMELŐK
B20: Épület, építmény
B21: Gép, berendezés
B22: Irányítástechnika, energiaellátás
B24: Összesen: | J24: =SUM(J14:J23) -> 0 | K24: 0 | O24: =SUM(O13:O23) -> 0 | P24: =SUM(P13:P23) -> 0 | Q24: =SUM(Q13:Q23) -> 0 | R24: =SUM(R13:R23) -> 0 | S24: =SUM(S13:S23) -> 0 | T24: =SUM(T13:T23) -> 0 | U24: =SUM(U13:U23) -> 0 | V24: =SUM(V13:V23) -> 0 | ... AC24: =SUM(AC13:AC23) -> 0
K25: Beruházásra forrás nem áll rendelkezésre.
B26: Tervezett feladatok nettó költsége a teljes ütem tekintetében (eFt) | C26: Rendelkezésre álló források számszerűsített értéke a teljes ütem tekintetében (eFt) | D26: Rendelkezésre álló források megnevezése
A27: I. ütem | B27: =O24 -> 0 | C27: 0 | D27: Fejlesztési díj (2021)
A28: II. ütem | B28: =SUM(P24:S24) -> 0 | C28: =C27*4 -> 0 | D28: Fejlesztési díj (2022-2025)
A29: III. ütem | B29: =SUM(T24:AC24) -> 0 | C29: =C27*10 -> 0 | D29: Fejlesztési díj (2026-2035)
B31: Jelenleg beruházási igény nem ismert, nincs rendelkezésre álló forrás beruházásra.

Sheet Teskánd
A2: Gördülő fejlesztési terv a 2021 - 2035 időszakra
A3: BERUHÁZÁSOK ÖSSZEFOGLALÓ TÁBLÁZATA
A4: A tervet benyújtó szervezet megnevezése: | K4: TESKÁND | R4: ellátásért felelős / ellátásért felelősök képviselője / víziközmű-szolgáltató *
A5: Víziközmű-szolgáltató megnevezése: | K5: ÉSZAK ZALAI VÍZ- ÉS CSATORNAMŰ ZÁRTKÖRŰEN MŰKÖDŐ RÉSZVÉNYTÁRSASÁG
A6: Víziközmű-szolgáltatási ágazat megnevezése: | K6: SZENNYVÍZ ÁGAZAT
A7: Véleményeltérést megfogalmazó érintett fél megnevezése:
A8: Víziközmű-rendszer kódja: ** | K8: 21-32054-1-048-01-10 | R8: Zalaegerszeg-SZV
A9: V. Szennyvízelvezetés
A10: Fontossági sorrend | B10: Beruházás megnevezése | E10: Műszaki állapot felmérés, szükségességi indoklás | H10: Vízjogi létesítési/elvi engedély száma | I10: Az érintett ellátásért felelős(ök) megnevezése | J10: Tervezett nettó költség | K10: Forrás 2021 évre | L10: Megvalósítás időtartama | N10: Tervezett időtáv | O10: A beruházás ütemezése a tervezési időszak évei szerint
E11: Jelenlegi műszaki állapot | F11: Feladat szükségessége | G11: Megvalósítást követő várható műszaki állapot | J11: (eFt) | L11: Kezdés | M11: Befejezés | N11: (rövid / közép / hosszú) | O11: 1 | P11: 2 | Q11: 3 | R11: 4 | S11: 5 | T11: 6 | U11: 7 | V11: 8 | W11: 9 | X11: 10 | Y11: 11 | Z11: 12 | AA11: 13 | AB11: 14 | AC11: 15
B12: szakág | C12: Helyszín | D12: beruházás megnevezése
B14: SZENNYVÍZCSATORNA (GRAVITÁCIÓS)
B15: Épület, építmény
B17: SZENNYVÍZVEZETÉKEK (KÉNYSZERÁRAMOLTATÁSÚ)
B19: SZENNYVÍZÁTEMELŐK
B20: Épület, építmény
B21: Gép, berendezés
B22: Irányítástechnika, energiaellátás
B24: Összesen: | J24: =SUM(J14:J23) -> 0 | K24: 0 | O24: =SUM(O13:O23) -> 0 | P24: =SUM(P13:P23) -> 0 | Q24: =SUM(Q13:Q23) -> 0 | R24: =SUM(R13:R23) -> 0 | S24: =SUM(S13:S23) -> 0 | T24: =SUM(T13:T23) -> 0 | U24: =SUM(U13:U23) -> 0 | V24: =SUM(V13:V23) -> 0 | ... AC24: =SUM(AC13:AC23) -> 0
K25: Beruházásra forrás nem áll rendelkezésre.
B26: Tervezett feladatok nettó költsége a teljes ütem tekintetében (eFt) | C26: Rendelkezésre álló források számszerűsített értéke a teljes ütem tekintetében (eFt) | D26: Rendelkezésre álló források megnevezése
A27: I. ütem | B27: =O24 -> 0 | C27: 0 | D27: Fejlesztési díj (2021)
A28: II. ütem | B28: =SUM(P24:S24) -> 0 | C28: =C27*4 -> 0 | D28: Fejlesztési díj (2022-2025)
A29: III. ütem | B29: =SUM(T24:AC24) -> 0 | C29: =C27*10 -> 0 | D29: Fejlesztési díj (2026-2035)
B31: Jelenleg beruházási igény nem ismert, nincs rendelkezésre álló forrás beruházásra.

Sheet Vasboldogasszony
A2: Gördülő fejlesztési terv a 2021 - 2035 időszakra
A3: BERUHÁZÁSOK ÖSSZEFOGLALÓ TÁBLÁZATA
A4: A tervet benyújtó szervezet megnevezése: | K4: VASBOLDOGASSZONY | R4: ellátásért felelős / ellátásért felelősök képviselője / víziközmű-szolgáltató *
A5: Víziközmű-szolgáltató megnevezése: | K5: ÉSZAK ZALAI VÍZ- ÉS CSATORNAMŰ ZÁRTKÖRŰEN MŰKÖDŐ RÉSZVÉNYTÁRSASÁG
A6: Víziközmű-szolgáltatási ágazat megnevezése: | K6: SZENNYVÍZ ÁGAZAT
A7: Véleményeltérést megfogalmazó érintett fél megnevezése:
A8: Víziközmű-rendszer kódja: ** | K8: 21-32054-1-048-01-10 | R8: Zalaegerszeg-SZV
A9: V. Szennyvízelvezetés
A10: Fontossági sorrend | B10: Beruházás megnevezése | E10: Műszaki állapot felmérés, szükségességi indoklás | H10: Vízjogi létesítési/elvi engedély száma | I10: Az érintett ellátásért felelős(ök) megnevezése | J10: Tervezett nettó költség | K10: Forrás 2021 évre | L10: Megvalósítás időtartama | N10: Tervezett időtáv | O10: A beruházás ütemezése a tervezési időszak évei szerint
E11: Jelenlegi műszaki állapot | F11: Feladat szükségessége | G11: Megvalósítást követő várható műszaki állapot | J11: (eFt) | L11: Kezdés | M11: Befejezés | N11: (rövid / közép / hosszú) | O11: 1 | P11: 2 | Q11: 3 | R11: 4 | S11: 5 | T11: 6 | U11: 7 | V11: 8 | W11: 9 | X11: 10 | Y11: 11 | Z11: 12 | AA11: 13 | AB11: 14 | AC11: 15
B12: szakág | C12: Helyszín | D12: beruházás megnevezése
B14: SZENNYVÍZCSATORNA (GRAVITÁCIÓS)
B15: Épület, építmény
B17: SZENNYVÍZVEZETÉKEK (KÉNYSZERÁRAMOLTATÁSÚ)
B19: SZENNYVÍZÁTEMELŐK
B20: Épület, építmény
B21: Gép, berendezés
B22: Irányítástechnika, energiaellátás
B24: Összesen: | J24: =SUM(J14:J23) -> 0 | K24: 0 | O24: =SUM(O13:O23) -> 0 | P24: =SUM(P13:P23) -> 0 | Q24: =SUM(Q13:Q23) -> 0 | R24: =SUM(R13:R23) -> 0 | S24: =SUM(S13:S23) -> 0 | T24: =SUM(T13:T23) -> 0 | U24: =SUM(U13:U23) -> 0 | V24: =SUM(V13:V23) -> 0 | ... AC24: =SUM(AC13:AC23) -> 0
K25: Beruházásra forrás nem áll rendelkezésre.
B26: Tervezett feladatok nettó költsége a teljes ütem tekintetében (eFt) | C26: Rendelkezésre álló források számszerűsített értéke a teljes ütem tekintetében (eFt) | D26: Rendelkezésre álló források megnevezése
A27: I. ütem | B27: =O24 -> 0 | C27: 0 | D27: Fejlesztési díj (2021)
A28: II. ütem | B28: =SUM(P24:S24) -> 0 | C28: =C27*4 -> 0 | D28: Fejlesztési díj (2022-2025)
A29: III. ütem | B29: =SUM(T24:AC24) -> 0 | C29: =C27*10 -> 0 | D29: Fejlesztési díj (2026-2035)
B31: Jelenleg beruházási igény nem ismert, nincs rendelkezésre álló forrás beruházásra.

Sheet Vaspör
A2: Gördülő fejlesztési terv a 2021 - 2035 időszakra
A3: BERUHÁZÁSOK ÖSSZEFOGLALÓ TÁBLÁZATA
A4: A tervet benyújtó szervezet megnevezése: | K4: VASPÖR | R4: ellátásért felelős / ellátásért felelősök képviselője / víziközmű-szolgáltató *
A5: Víziközmű-szolgáltató megnevezése: | K5: ÉSZAK ZALAI VÍZ- ÉS CSATORNAMŰ ZÁRTKÖRŰEN MŰKÖDŐ RÉSZVÉNYTÁRSASÁG
A6: Víziközmű-szolgáltatási ágazat megnevezése: | K6: SZENNYVÍZ ÁGAZAT
A7: Véleményeltérést megfogalmazó érintett fél megnevezése:
A8: Víziközmű-rendszer kódja: ** | K8: 21-32054-1-048-01-10 | R8: Zalaegerszeg-SZV
A9: V. Szennyvízelvezetés
A10: Fontossági sorrend | B10: Beruházás megnevezése | E10: Műszaki állapot felmérés, szükségességi indoklás | H10: Vízjogi létesítési/elvi engedély száma | I10: Az érintett ellátásért felelős(ök) megnevezése | J10: Tervezett nettó költség | K10: Forrás 2021 évre | L10: Megvalósítás időtartama | N10: Tervezett időtáv | O10: A beruházás ütemezése a tervezési időszak évei szerint
E11: Jelenlegi műszaki állapot | F11: Feladat szükségessége | G11: Megvalósítást követő várható műszaki állapot | J11: (eFt) | L11: Kezdés | M11: Befejezés | N11: (rövid / közép / hosszú) | O11: 1 | P11: 2 | Q11: 3 | R11: 4 | S11: 5 | T11: 6 | U11: 7 | V11: 8 | W11: 9 | X11: 10 | Y11: 11 | Z11: 12 | AA11: 13 | AB11: 14 | AC11: 15
B12: szakág | C12: Helyszín | D12: beruházás megnevezése
B14: SZENNYVÍZCSATORNA (GRAVITÁCIÓS)
B15: Épület, építmény
B17: SZENNYVÍZVEZETÉKEK (KÉNYSZERÁRAMOLTATÁSÚ)
B19: SZENNYVÍZÁTEMELŐK
B20: Épület, építmény
B21: Gép, berendezés
B22: Irányítástechnika, energiaellátás
B24: Összesen: | J24: =SUM(J14:J23) -> 0 | K24: 0 | O24: =SUM(O13:O23) -> 0 | P24: =SUM(P13:P23) -> 0 | Q24: =SUM(Q13:Q23) -> 0 | R24: =SUM(R13:R23) -> 0 | S24: =SUM(S13:S23) -> 0 | T24: =SUM(T13:T23) -> 0 | U24: =SUM(U13:U23) -> 0 | V24: =SUM(V13:V23) -> 0 | ... AC24: =SUM(AC13:AC23) -> 0
K25: Beruházásra forrás nem áll rendelkezésre.
B26: Tervezett feladatok nettó költsége a teljes ütem tekintetében (eFt) | C26: Rendelkezésre álló források számszerűsített értéke a teljes ütem tekintetében (eFt) | D26: Rendelkezésre álló források megnevezése
A27: I. ütem | B27: =O24 -> 0 | C27: 0 | D27: Fejlesztési díj (2021)
A28: II. ütem | B28: =SUM(P24:S24) -> 0 | C28: =C27*4 -> 0 | D28: Fejlesztési díj (2022-2025)
A29: III. ütem | B29: =SUM(T24:AC24) -> 0 | C29: =C27*10 -> 0 | D29: Fejlesztési díj (2026-2035)
B31: Jelenleg beruházási igény nem ismert, nincs rendelkezésre álló forrás beruházásra.

Sheet Vöckönd
A2: Gördülő fejlesztési terv a 2021 - 2035 időszakra
A3: BERUHÁZÁSOK ÖSSZEFOGLALÓ TÁBLÁZATA
A4: A tervet benyújtó szervezet megnevezése: | K4: VÖCKÖND | R4: ellátásért felelős / ellátásért felelősök képviselője / víziközmű-szolgáltató *
A5: Víziközmű-szolgáltató megnevezése: | K5: ÉSZAK ZALAI VÍZ- ÉS CSATORNAMŰ ZÁRTKÖRŰEN MŰKÖDŐ RÉSZVÉNYTÁRSASÁG
A6: Víziközmű-szolgáltatási ágazat megnevezése: | K6: SZENNYVÍZ ÁGAZAT
A7: Véleményeltérést megfogalmazó érintett fél megnevezése:
A8: Víziközmű-rendszer kódja: ** | K8: 21-32054-1-048-01-10 | R8: Zalaegerszeg-SZV
A9: V. Szennyvízelvezetés
A10: Fontossági sorrend | B10: Beruházás megnevezése | E10: Műszaki állapot felmérés, szükségességi indoklás | H10: Vízjogi létesítési/elvi engedély száma | I10: Az érintett ellátásért felelős(ök) megnevezése | J10: Tervezett nettó költség | K10: Forrás 2021 évre | L10: Megvalósítás időtartama | N10: Tervezett időtáv | O10: A beruházás ütemezése a tervezési időszak évei szerint
E11: Jelenlegi műszaki állapot | F11: Feladat szükségessége | G11: Megvalósítást követő várható műszaki állapot | J11: (eFt) | L11: Kezdés | M11: Befejezés | N11: (rövid / közép / hosszú) | O11: 1 | P11: 2 | Q11: 3 | R11: 4 | S11: 5 | T11: 6 | U11: 7 | V11: 8 | W11: 9 | X11: 10 | Y11: 11 | Z11: 12 | AA11: 13 | AB11: 14 | AC11: 15
B13: szakág | C13: Helyszín | D13: beruházás megnevezése
B14: SZENNYVÍZCSATORNA (GRAVITÁCIÓS)
B15: Épület, építmény
B17: SZENNYVÍZVEZETÉKEK (KÉNYSZERÁRAMOLTATÁSÚ)
B19: SZENNYVÍZÁTEMELŐK
B20: Épület, építmény
B21: Gép, berendezés
B22: Irányítástechnika, energiaellátás
B24: Összesen: | J24: =SUM(J14:J23) -> 0 | K24: 0 | O24: =SUM(O13:O23) -> 0 | P24: =SUM(P13:P23) -> 0 | Q24: =SUM(Q13:Q23) -> 0 | R24: =SUM(R13:R23) -> 0 | S24: =SUM(S13:S23) -> 0 | T24: =SUM(T13:T23) -> 0 | U24: =SUM(U13:U23) -> 0 | V24: =SUM(V13:V23) -> 0 | ... AC24: =SUM(AC13:AC23) -> 0
K25: Beruházásra forrás nem áll rendelkezésre.
B26: Tervezett feladatok nettó költsége a teljes ütem tekintetében (eFt) | C26: Rendelkezésre álló források számszerűsített értéke a teljes ütem tekintetében (eFt) | D26: Rendelkezésre álló források megnevezése
A27: I. ütem | B27: =O24 -> 0 | C27: 0 | D27: Fejlesztési díj (2021)
A28: II. ütem | B28: =SUM(P24:S24) -> 0 | C28: =C27*4 -> 0 | D28: Fejlesztési díj (2022-2025)
A29: III. ütem | B29: =SUM(T24:AC24) -> 0 | C29: =C27*10 -> 0 | D29: Fejlesztési díj (2026-2035)
B31: Jelenleg beruházási igény nem ismert, nincs rendelkezésre álló forrás beruházásra.

Sheet Zalaboldogfa
A2: Gördülő fejlesztési terv a 2021 - 2035 időszakra
A3: BERUHÁZÁSOK ÖSSZEFOGLALÓ TÁBLÁZATA
A4: A tervet benyújtó szervezet megnevezése: | K4: ZALABOLDOGFA | R4: ellátásért felelős / ellátásért felelősök képviselője / víziközmű-szolgáltató *
A5: Víziközmű-szolgáltató megnevezése: | K5: ÉSZAK ZALAI VÍZ- ÉS CSATORNAMŰ ZÁRTKÖRŰEN MŰKÖDŐ RÉSZVÉNYTÁRSASÁG
A6: Víziközmű-szolgáltatási ágazat megnevezése: | K6: SZENNYVÍZ ÁGAZAT
A7: Véleményeltérést megfogalmazó érintett fél megnevezése:
A8: Víziközmű-rendszer kódja: ** | K8: 21-32054-1-048-01-10 | R8: Zalaegerszeg-SZV
A9: V. Szennyvízelvezetés
A10: Fontossági sorrend | B10: Beruházás megnevezése | E10: Műszaki állapot felmérés, szükségességi indoklás | H10: Vízjogi létesítési/elvi engedély száma | I10: Az érintett ellátásért felelős(ök) megnevezése | J10: Tervezett nettó költség | K10: Forrás 2021 évre | L10: Megvalósítás időtartama | N10: Tervezett időtáv | O10: A beruházás ütemezése a tervezési időszak évei szerint
E11: Jelenlegi műszaki állapot | F11: Feladat szükségessége | G11: Megvalósítást követő várható műszaki állapot | J11: (eFt) | L11: Kezdés | M11: Befejezés | N11: (rövid / közép / hosszú) | O11: 1 | P11: 2 | Q11: 3 | R11: 4 | S11: 5 | T11: 6 | U11: 7 | V11: 8 | W11: 9 | X11: 10 | Y11: 11 | Z11: 12 | AA11: 13 | AB11: 14 | AC11: 15
B12: szakág | C12: Helyszín | D12: beruházás megnevezése
B14: SZENNYVÍZCSATORNA (GRAVITÁCIÓS)
B15: Épület, építmény
B17: SZENNYVÍZVEZETÉKEK (KÉNYSZERÁRAMOLTATÁSÚ)
B19: SZENNYVÍZÁTEMELŐK
B20: Épület, építmény
B21: Gép, berendezés
B22: Irányítástechnika, energiaellátás
B24: Összesen: | J24: =SUM(J14:J23) -> 0 | K24: 0 | O24: =SUM(O13:O23) -> 0 | P24: =SUM(P13:P23) -> 0 | Q24: =SUM(Q13:Q23) -> 0 | R24: =SUM(R13:R23) -> 0 | S24: =SUM(S13:S23) -> 0 | T24: =SUM(T13:T23) -> 0 | U24: =SUM(U13:U23) -> 0 | V24: =SUM(V13:V23) -> 0 | ... AC24: =SUM(AC13:AC23) -> 0
K25: Beruházásra forrás nem áll rendelkezésre.
B26: Tervezett feladatok nettó költsége a teljes ütem tekintetében (eFt) | C26: Rendelkezésre álló források számszerűsített értéke a teljes ütem tekintetében (eFt) | D26: Rendelkezésre álló források megnevezése
A27: I. ütem | B27: =O24 -> 0 | C27: 0 | D27: Fejlesztési díj (2021)
A28: II. ütem | B28: =SUM(P24:S24) -> 0 | C28: =C27*4 -> 0 | D28: Fejlesztési díj (2022-2025)
A29: III. ütem | B29: =SUM(T24:AC24) -> 0 | C29: =C27*10 -> 0 | D29: Fejlesztési díj (2026-2035)
B31: Jelenleg beruházási igény nem ismert, nincs rendelkezésre álló forrás beruházásra.

Sheet Zalacséb
A2: Gördülő fejlesztési terv a 2021 - 2035 időszakra
A3: BERUHÁZÁSOK ÖSSZEFOGLALÓ TÁBLÁZATA
A4: A tervet benyújtó szervezet megnevezése: | K4: ZALACSÉB | R4: ellátásért felelős / ellátásért felelősök képviselője / víziközmű-szolgáltató *
A5: Víziközmű-szolgáltató megnevezése: | K5: ÉSZAK ZALAI VÍZ- ÉS CSATORNAMŰ ZÁRTKÖRŰEN MŰKÖDŐ RÉSZVÉNYTÁRSASÁG
A6: Víziközmű-szolgáltatási ágazat megnevezése: | K6: SZENNYVÍZ ÁGAZAT
A7: Véleményeltérést megfogalmazó érintett fél megnevezése:
A8: Víziközmű-rendszer kódja: ** | K8: 21-32054-1-048-01-10 | R8: Zalaegerszeg-SZV
A9: V. Szennyvízelvezetés
A10: Fontossági sorrend | B10: Beruházás megnevezése | E10: Műszaki állapot felmérés, szükségességi indoklás | H10: Vízjogi létesítési/elvi engedély száma | I10: Az érintett ellátásért felelős(ök) megnevezése | J10: Tervezett nettó költség | K10: Forrás 2021 évre | L10: Megvalósítás időtartama | N10: Tervezett időtáv | O10: A beruházás ütemezése a tervezési időszak évei szerint
E11: Jelenlegi műszaki állapot | F11: Feladat szükségessége | G11: Megvalósítást követő várható műszaki állapot | J11: (eFt) | L11: Kezdés | M11: Befejezés | N11: (rövid / közép / hosszú) | O11: 1 | P11: 2 | Q11: 3 | R11: 4 | S11: 5 | T11: 6 | U11: 7 | V11: 8 | W11: 9 | X11: 10 | Y11: 11 | Z11: 12 | AA11: 13 | AB11: 14 | AC11: 15
B12: szakág | C12: Helyszín | D12: beruházás megnevezése
B14: SZENNYVÍZCSATORNA (GRAVITÁCIÓS)
B15: Épület, építmény
B17: SZENNYVÍZVEZETÉKEK (KÉNYSZERÁRAMOLTATÁSÚ)
B19: SZENNYVÍZÁTEMELŐK
B20: Épület, építmény
B21: Gép, berendezés
B22: Irányítástechnika, energiaellátás
B24: Összesen: | J24: =SUM(J14:J23) -> 0 | K24: 0 | O24: =SUM(O13:O23) -> 0 | P24: =SUM(P13:P23) -> 0 | Q24: =SUM(Q13:Q23) -> 0 | R24: =SUM(R13:R23) -> 0 | S24: =SUM(S13:S23) -> 0 | T24: =SUM(T13:T23) -> 0 | U24: =SUM(U13:U23) -> 0 | V24: =SUM(V13:V23) -> 0 | ... AC24: =SUM(AC13:AC23) -> 0
K25: Beruházásra forrás nem áll rendelkezésre.
B26: Tervezett feladatok nettó költsége a teljes ütem tekintetében (eFt) | C26: Rendelkezésre álló források számszerűsített értéke a teljes ütem tekintetében (eFt) | D26: Rendelkezésre álló források megnevezése
A27: I. ütem | B27: =O24 -> 0 | C27: 0 | D27: Fejlesztési díj (2021)
A28: II. ütem | B28: =SUM(P24:S24) -> 0 | C28: =C27*4 -> 0 | D28: Fejlesztési díj (2022-2025)
A29: III. ütem | B29: =SUM(T24:AC24) -> 0 | C29: =C27*10 -> 0 | D29: Fejlesztési díj (2026-2035)
B31: Jelenleg beruházási igény nem ismert, nincs rendelkezésre álló forrás beruházásra.

Sheet Zalaegerszeg
A2: Gördülő fejlesztési terv a 2021 - 2035 időszakra
A3: BERUHÁZÁSOK ÖSSZEFOGLALÓ TÁBLÁZATA
A4: A tervet benyújtó szervezet megnevezése: | K4: ZALAEGERSZEG | R4: ellátásért felelős / ellátásért felelősök képviselője / víziközmű-szolgáltató *
A5: Víziközmű-szolgáltató megnevezése: | K5: ÉSZAK ZALAI VÍZ- ÉS CSATORNAMŰ ZÁRTKÖRŰEN MŰKÖDŐ RÉSZVÉNYTÁRSASÁG
A6: Víziközmű-szolgáltatási ágazat megnevezése: | K6: SZENNYVÍZ ÁGAZAT
A7: Véleményeltérést megfogalmazó érintett fél megnevezése:
A8: Víziközmű-rendszer kódja: ** | K8: 21-32054-1-048-01-10 | R8: Zalaegerszeg-SZV
A9: V. Szennyvízelvezetés
A10: Fontossági sorrend | B10: Beruházás megnevezése | E10: Műszaki állapot felmérés, szükségességi indoklás | H10: Vízjogi létesítési/elvi engedély száma | I10: Az érintett ellátásért felelős(ök) megnevezése | J10: Tervezett nettó költség | K10: Forrás 2021 évre | L10: Megvalósítás időtartama | N10: Tervezett időtáv | O10: A beruházás ütemezése a tervezési időszak évei szerint
E11: Jelenlegi műszaki állapot | F11: Feladat szükségessége | G11: Megvalósítást követő várható műszaki állapot | J11: (eFt) | L11: Kezdés | M11: Befejezés | N11: (rövid / közép / hosszú) | O11: 1 | P11: 2 | Q11: 3 | R11: 4 | S11: 5 | T11: 6 | U11: 7 | V11: 8 | W11: 9 | X11: 10 | Y11: 11 | Z11: 12 | AA11: 13 | AB11: 14 | AC11: 15
B12: szakág | C12: Helyszín | D12: beruházás megnevezése
B14: SZENNYVÍZCSATORNA (GRAVITÁCIÓS)
B15: Épület, építmény
A16: 1 | C16: Zalaegerszeg Öveges ÁMK | D16: Közterületen történő szennyvízelvezetés engedélyes és kiviteli tervdokumentációjának elkészítése | H16: - | I16: Zalaegerszeg | J16: =SUM(O16:AC16) -> 120 | L16: 44197 | M16: 44561 | N16: rövid | O16: 120
A17: 2 | C17: Zalaegerszeg Bor u. | D17: Szennyvízelvezetés engedélyes és kivteli tervdokumentációjának elkészítése | H17: - | I17: Zalaegerszeg | J17: =SUM(O17:AC17) -> 920 | L17: 44197 | M17: 44561 | N17: rövid | O17: 920
A18: 4 | C18: Zalaegerszeg Azáleás u. | D18: szennyvízelvezetés kiépítése | E18: Az üzemelő viziközmű technológiailag elavult, üzemeltetése, és javítása már nem gazdaságos. Jelenleg a piacon magasabb műszaki tartalmak érhetőek el | F18: A viziközmű rendszer hatékonyságának növelése, az üzemeltetési költségek szinten tartása miatt szükséges | G18: A beavatkozás után egy hatékonyan működő viziközmű elemet kapunk, mely a kor elvárásainak megfelel. A rendszer üzembiztos, hatékony, és korszerű lesz | H18: - | I18: Zalaegerszeg | J18: =SUM(O18:AC18) -> 30000 | L18: 44927 | M18: 45291 | N18: közép | Q18: 30000
B19: SZENNYVÍZVEZETÉKEK (KÉNYSZERÁRAMOLTATÁSÚ)
B21: SZENNYVÍZÁTEMELŐK
B22: Épület, építmény
B23: Gép, berendezés
B24: Irányítástechnika, energiaellátás
A26: VI. Szennyvíztisztítás
B27: SZENNYVÍZTISZTÍTÓ-TELEP
B28: Épület, építmény
A29: 5 | C29: Zalaegerszeg szennyvíztisztító telep biológiai medence | D29: 1. biológia műtárgy újjáépítése | E29: A műtárgy állaga előrehaladott elhasználódást mutat. | F29: A viziközmű műtárgy/berendezés nem tudja betölteni funkcióját, technológiai paraméterek nem teljesülnek. Határérték túllépés várható | G29: A viziközmű elem állapota megközelíti az új elem berendezés állapotát. Az üzembiztonság jelentősen növekszik, balesetveszélyes állapot megszűnik. Teljesíthető határértékek. | H29: - | I29: Zalaegerszeg | J29: =SUM(O29:AC29) -> 4000000 | L29: 45658 | M29: 46022 | N29: közép | S29: 4000000
B30: Gép, berendezés
B31: Irányítástechnika, energiaellátás
B32: EGYEDI SZENNYVÍZKEZELŐ LÉTESÍTMÉNY
B33: Épület, építmény
B35: Gép, berendezés
B37: Irányítástechnika, energiaellátás
B39: TERMÉSZETKÖZELI SZENNYVÍZTISZTÍTÓK
B40: Épület, építmény
B42: Gép, berendezés
B44: Irányítástechnika, energiaellátás
B46: EGYEDI ZÁRT SZENNYVÍZTÁROLÓ
B47: Épület, építmény
... B51: Irányítástechnika, energiaellátás
B54: Összesen: | J54: =SUM(J14:J53) -> 4031040 | K54: =C57 -> 1040 | O54: =SUM(O13:O53) -> 1040 | P54: =SUM(P13:P53) -> 0 | Q54: =SUM(Q13:Q53) -> 30000 | R54: =SUM(R13:R53) -> 0 | S54: =SUM(S13:S53) -> 4000000 | T54: =SUM(T13:T53) -> 0 | U54: =SUM(U13:U53) -> 0 | V54: =SUM(V13:V53) -> 0 | ... AC54: =SUM(AC13:AC53) -> 0
K55: Beruházásra fejlesztési forrás biztosított
B56: Tervezett feladatok nettó költsége a teljes ütem tekintetében (eFt) | C56: Rendelkezésre álló források számszerűsített értéke a teljes ütem tekintetében (eFt) | D56: Rendelkezésre álló források megnevezése
A57: I. ütem | B57: =O54 -> 1040 | C57: 1040 | D57: Használati díj (2021)
A58: II. ütem | B58: =SUM(P54:S54) -> 4030000 | C58: 0 | D58: Fejlesztési díj (2022-2025)
A59: III. ütem | B59: =SUM(T54:AC54) -> 0 | C59: 0 | D59: Fejlesztési díj (2026-2035)

Sheet Zalaistvánd
A2: Gördülő fejlesztési terv a 2021 - 2035 időszakra
A3: BERUHÁZÁSOK ÖSSZEFOGLALÓ TÁBLÁZATA
A4: A tervet benyújtó szervezet megnevezése: | K4: ZALAISTVÁND | R4: ellátásért felelős / ellátásért felelősök képviselője / víziközmű-szolgáltató *
A5: Víziközmű-szolgáltató megnevezése: | K5: ÉSZAK ZALAI VÍZ- ÉS CSATORNAMŰ ZÁRTKÖRŰEN MŰKÖDŐ RÉSZVÉNYTÁRSASÁG
A6: Víziközmű-szolgáltatási ágazat megnevezése: | K6: SZENNYVÍZ ÁGAZAT
A7: Véleményeltérést megfogalmazó érintett fél megnevezése:
A8: Víziközmű-rendszer kódja: ** | K8: 21-32054-1-048-01-10 | R8: Zalaegerszeg-SZV
A9: V. Szennyvízelvezetés
A10: Fontossági sorrend | B10: Beruházás megnevezése | E10: Műszaki állapot felmérés, szükségességi indoklás | H10: Vízjogi létesítési/elvi engedély száma | I10: Az érintett ellátásért felelős(ök) megnevezése | J10: Tervezett nettó költség | K10: Forrás 2021 évre | L10: Megvalósítás időtartama | N10: Tervezett időtáv | O10: A beruházás ütemezése a tervezési időszak évei szerint
E11: Jelenlegi műszaki állapot | F11: Feladat szükségessége | G11: Megvalósítást követő várható műszaki állapot | J11: (eFt) | L11: Kezdés | M11: Befejezés | N11: (rövid / közép / hosszú) | O11: 1 | P11: 2 | Q11: 3 | R11: 4 | S11: 5 | T11: 6 | U11: 7 | V11: 8 | W11: 9 | X11: 10 | Y11: 11 | Z11: 12 | AA11: 13 | AB11: 14 | AC11: 15
B12: szakág | C12: Helyszín | D12: beruházás megnevezése
B14: SZENNYVÍZCSATORNA (GRAVITÁCIÓS)
B15: Épület, építmény
B17: SZENNYVÍZVEZETÉKEK (KÉNYSZERÁRAMOLTATÁSÚ)
B19: SZENNYVÍZÁTEMELŐK
B20: Épület, építmény
B21: Gép, berendezés
B22: Irányítástechnika, energiaellátás
B24: Összesen: | J24: =SUM(J14:J23) -> 0 | K24: 0 | O24: =SUM(O13:O23) -> 0 | P24: =SUM(P13:P23) -> 0 | Q24: =SUM(Q13:Q23) -> 0 | R24: =SUM(R13:R23) -> 0 | S24: =SUM(S13:S23) -> 0 | T24: =SUM(T13:T23) -> 0 | U24: =SUM(U13:U23) -> 0 | V24: =SUM(V13:V23) -> 0 | ... AC24: =SUM(AC13:AC23) -> 0
K25: Beruházásra forrás nem áll rendelkezésre.
B26: Tervezett feladatok nettó költsége a teljes ütem tekintetében (eFt) | C26: Rendelkezésre álló források számszerűsített értéke a teljes ütem tekintetében (eFt) | D26: Rendelkezésre álló források megnevezése
A27: I. ütem | B27: =O24 -> 0 | C27: 0 | D27: Fejlesztési díj (2021)
A28: II. ütem | B28: =SUM(P24:S24) -> 0 | C28: =C27*4 -> 0 | D28: Fejlesztési díj (2022-2025)
A29: III. ütem | B29: =SUM(T24:AC24) -> 0 | C29: =C27*10 -> 0 | D29: Fejlesztési díj (2026-2035)
B31: Jelenleg beruházási igény nem ismert, nincs rendelkezésre álló forrás beruházásra.

Sheet Zalaszentgyörgy
A2: Gördülő fejlesztési terv a 2021 - 2035 időszakra
A3: BERUHÁZÁSOK ÖSSZEFOGLALÓ TÁBLÁZATA
A4: A tervet benyújtó szervezet megnevezése: | K4: ZALASZENTGYÖRGY | R4: ellátásért felelős / ellátásért felelősök képviselője / víziközmű-szolgáltató *
A5: Víziközmű-szolgáltató megnevezése: | K5: ÉSZAK ZALAI VÍZ- ÉS CSATORNAMŰ ZÁRTKÖRŰEN MŰKÖDŐ RÉSZVÉNYTÁRSASÁG
A6: Víziközmű-szolgáltatási ágazat megnevezése: | K6: SZENNYVÍZ ÁGAZAT
A7: Véleményeltérést megfogalmazó érintett fél megnevezése:
A8: Víziközmű-rendszer kódja: ** | K8: 21-32054-1-048-01-10 | R8: Zalaegerszeg-SZV
A9: V. Szennyvízelvezetés
A10: Fontossági sorrend | B10: Beruházás megnevezése | E10: Műszaki állapot felmérés, szükségességi indoklás | H10: Vízjogi létesítési/elvi engedély száma | I10: Az érintett ellátásért felelős(ök) megnevezése | J10: Tervezett nettó költség | K10: Forrás 2021 évre | L10: Megvalósítás időtartama | N10: Tervezett időtáv | O10: A beruházás ütemezése a tervezési időszak évei szerint
E11: Jelenlegi műszaki állapot | F11: Feladat szükségessége | G11: Megvalósítást követő várható műszaki állapot | J11: (eFt) | L11: Kezdés | M11: Befejezés | N11: (rövid / közép / hosszú) | O11: 1 | P11: 2 | Q11: 3 | R11: 4 | S11: 5 | T11: 6 | U11: 7 | V11: 8 | W11: 9 | X11: 10 | Y11: 11 | Z11: 12 | AA11: 13 | AB11: 14 | AC11: 15
B12: szakág | C12: Helyszín | D12: beruházás megnevezése
B14: SZENNYVÍZCSATORNA (GRAVITÁCIÓS)
B15: Épület, építmény
B17: SZENNYVÍZVEZETÉKEK (KÉNYSZERÁRAMOLTATÁSÚ)
B19: SZENNYVÍZÁTEMELŐK
B20: Épület, építmény
B21: Gép, berendezés
B22: Irányítástechnika, energiaellátás
B24: Összesen: | J24: =SUM(J14:J23) -> 0 | K24: 0 | O24: =SUM(O13:O23) -> 0 | P24: =SUM(P13:P23) -> 0 | Q24: =SUM(Q13:Q23) -> 0 | R24: =SUM(R13:R23) -> 0 | S24: =SUM(S13:S23) -> 0 | T24: =SUM(T13:T23) -> 0 | U24: =SUM(U13:U23) -> 0 | V24: =SUM(V13:V23) -> 0 | ... AC24: =SUM(AC13:AC23) -> 0
K25: Beruházásra forrás nem áll rendelkezésre.
B26: Tervezett feladatok nettó költsége a teljes ütem tekintetében (eFt) | C26: Rendelkezésre álló források számszerűsített értéke a teljes ütem tekintetében (eFt) | D26: Rendelkezésre álló források megnevezése
A27: I. ütem | B27: =O24 -> 0 | C27: 0 | D27: Fejlesztési díj (2021)
A28: II. ütem | B28: =SUM(P24:S24) -> 0 | C28: =C27*4 -> 0 | D28: Fejlesztési díj (2022-2025)
A29: III. ütem | B29: =SUM(T24:AC24) -> 0 | C29: =C27*10 -> 0 | D29: Fejlesztési díj (2026-2035)
B31: Jelenleg beruházási igény nem ismert, nincs rendelkezésre álló forrás beruházásra.

Sheet Zalaszentiván
A2: Gördülő fejlesztési terv a 2021 - 2035 időszakra
A3: BERUHÁZÁSOK ÖSSZEFOGLALÓ TÁBLÁZATA
A4: A tervet benyújtó szervezet megnevezése: | K4: ZALASZENTIVÁN | R4: ellátásért felelős / ellátásért felelősök képviselője / víziközmű-szolgáltató *
A5: Víziközmű-szolgáltató megnevezése: | K5: ÉSZAK ZALAI VÍZ- ÉS CSATORNAMŰ ZÁRTKÖRŰEN MŰKÖDŐ RÉSZVÉNYTÁRSASÁG
A6: Víziközmű-szolgáltatási ágazat megnevezése: | K6: SZENNYVÍZ ÁGAZAT
A7: Véleményeltérést megfogalmazó érintett fél megnevezése:
A8: Víziközmű-rendszer kódja: ** | K8: 21-32054-1-048-01-10 | R8: Zalaegerszeg-SZV
A9: V. Szennyvízelvezetés
A10: Fontossági sorrend | B10: Beruházás megnevezése | E10: Műszaki állapot felmérés, szükségességi indoklás | H10: Vízjogi létesítési/elvi engedély száma | I10: Az érintett ellátásért felelős(ök) megnevezése | J10: Tervezett nettó költség | K10: Forrás 2021 évre | L10: Megvalósítás időtartama | N10: Tervezett időtáv | O10: A beruházás ütemezése a tervezési időszak évei szerint
E11: Jelenlegi műszaki állapot | F11: Feladat szükségessége | G11: Megvalósítást követő várható műszaki állapot | J11: (eFt) | L11: Kezdés | M11: Befejezés | N11: (rövid / közép / hosszú) | O11: 1 | P11: 2 | Q11: 3 | R11: 4 | S11: 5 | T11: 6 | U11: 7 | V11: 8 | W11: 9 | X11: 10 | Y11: 11 | Z11: 12 | AA11: 13 | AB11: 14 | AC11: 15
B12: szakág | C12: Helyszín | D12: beruházás megnevezése
B14: SZENNYVÍZCSATORNA (GRAVITÁCIÓS)
B15: Épület, építmény
B17: SZENNYVÍZVEZETÉKEK (KÉNYSZERÁRAMOLTATÁSÚ)
B19: SZENNYVÍZÁTEMELŐK
B20: Épület, építmény
B21: Gép, berendezés
B22: Irányítástechnika, energiaellátás
B24: Összesen: | J24: =SUM(J14:J23) -> 0 | K24: 0 | O24: =SUM(O13:O23) -> 0 | P24: =SUM(P13:P23) -> 0 | Q24: =SUM(Q13:Q23) -> 0 | R24: =SUM(R13:R23) -> 0 | S24: =SUM(S13:S23) -> 0 | T24: =SUM(T13:T23) -> 0 | U24: =SUM(U13:U23) -> 0 | V24: =SUM(V13:V23) -> 0 | ... AC24: =SUM(AC13:AC23) -> 0
K25: Beruházásra forrás nem áll rendelkezésre.
B26: Tervezett feladatok nettó költsége a teljes ütem tekintetében (eFt) | C26: Rendelkezésre álló források számszerűsített értéke a teljes ütem tekintetében (eFt) | D26: Rendelkezésre álló források megnevezése
A27: I. ütem | B27: =O24 -> 0 | C27: 0 | D27: Fejlesztési díj (2021)
A28: II. ütem | B28: =SUM(P24:S24) -> 0 | C28: =C27*4 -> 0 | D28: Fejlesztési díj (2022-2025)
A29: III. ütem | B29: =SUM(T24:AC24) -> 0 | C29: =C27*10 -> 0 | D29: Fejlesztési díj (2026-2035)
B31: Jelenleg beruházási igény nem ismert, nincs rendelkezésre álló forrás beruházásra.

Sheet Zalaszentlőrinc
A2: Gördülő fejlesztési terv a 2021 - 2035 időszakra
A3: BERUHÁZÁSOK ÖSSZEFOGLALÓ TÁBLÁZATA
A4: A tervet benyújtó szervezet megnevezése: | K4: ZALASZENTLŐRINC | R4: ellátásért felelős / ellátásért felelősök képviselője / víziközmű-szolgáltató *
A5: Víziközmű-szolgáltató megnevezése: | K5: ÉSZAK ZALAI VÍZ- ÉS CSATORNAMŰ ZÁRTKÖRŰEN MŰKÖDŐ RÉSZVÉNYTÁRSASÁG
A6: Víziközmű-szolgáltatási ágazat megnevezése: | K6: SZENNYVÍZ ÁGAZAT
A7: Véleményeltérést megfogalmazó érintett fél megnevezése:
A8: Víziközmű-rendszer kódja: ** | K8: 21-32054-1-048-01-10 | R8: Zalaegerszeg-SZV
A9: V. Szennyvízelvezetés
A10: Fontossági sorrend | B10: Beruházás megnevezése | E10: Műszaki állapot felmérés, szükségességi indoklás | H10: Vízjogi létesítési/elvi engedély száma | I10: Az érintett ellátásért felelős(ök) megnevezése | J10: Tervezett nettó költség | K10: Forrás 2021 évre | L10: Megvalósítás időtartama | N10: Tervezett időtáv | O10: A beruházás ütemezése a tervezési időszak évei szerint
E11: Jelenlegi műszaki állapot | F11: Feladat szükségessége | G11: Megvalósítást követő várható műszaki állapot | J11: (eFt) | L11: Kezdés | M11: Befejezés | N11: (rövid / közép / hosszú) | O11: 1 | P11: 2 | Q11: 3 | R11: 4 | S11: 5 | T11: 6 | U11: 7 | V11: 8 | W11: 9 | X11: 10 | Y11: 11 | Z11: 12 | AA11: 13 | AB11: 14 | AC11: 15
B12: szakág | C12: Helyszín | D12: beruházás megnevezése
B14: SZENNYVÍZCSATORNA (GRAVITÁCIÓS)
B15: Épület, építmény
B17: SZENNYVÍZVEZETÉKEK (KÉNYSZERÁRAMOLTATÁSÚ)
B19: SZENNYVÍZÁTEMELŐK
B20: Épület, építmény
B21: Gép, berendezés
B22: Irányítástechnika, energiaellátás
B24: Összesen: | J24: =SUM(J14:J23) -> 0 | K24: 0 | O24: =SUM(O13:O23) -> 0 | P24: =SUM(P13:P23) -> 0 | Q24: =SUM(Q13:Q23) -> 0 | R24: =SUM(R13:R23) -> 0 | S24: =SUM(S13:S23) -> 0 | T24: =SUM(T13:T23) -> 0 | U24: =SUM(U13:U23) -> 0 | V24: =SUM(V13:V23) -> 0 | ... AC24: =SUM(AC13:AC23) -> 0
K25: Beruházásra forrás nem áll rendelkezésre.
B26: Tervezett feladatok nettó költsége a teljes ütem tekintetében (eFt) | C26: Rendelkezésre álló források számszerűsített értéke a teljes ütem tekintetében (eFt) | D26: Rendelkezésre álló források megnevezése
A27: I. ütem | B27: =O24 -> 0 | C27: 0 | D27: Fejlesztési díj (2021)
A28: II. ütem | B28: =SUM(P24:S24) -> 0 | C28: =C27*4 -> 0 | D28: Fejlesztési díj (2022-2025)
A29: III. ütem | B29: =SUM(T24:AC24) -> 0 | C29: =C27*10 -> 0 | D29: Fejlesztési díj (2026-2035)
B31: Jelenleg beruházási igény nem ismert, nincs rendelkezésre álló forrás beruházásra.

Sheet VKR összesítő
A2: Gördülő fejlesztési terv a 2021 - 2035 időszakra
A3: BERUHÁZÁSOK ÖSSZEFOGLALÓ TÁBLÁZATA
A4: A tervet benyújtó szervezet megnevezése: | K4: ZALAEGERSZEG | R4: ellátásért felelős / ellátásért felelősök képviselője / víziközmű-szolgáltató *
A5: Víziközmű-szolgáltató megnevezése: | K5: ÉSZAK ZALAI VÍZ- ÉS CSATORNAMŰ ZÁRTKÖRŰEN MŰKÖDŐ RÉSZVÉNYTÁRSASÁG
A6: Víziközmű-szolgáltatási ágazat megnevezése: | K6: SZENNYVÍZ ÁGAZAT
A7: Véleményeltérést megfogalmazó érintett fél megnevezése:
A8: Víziközmű-rendszer kódja: ** | K8: 21-32054-1-048-01-10 | R8: Zalaegerszeg-SZV
A9: V. Szennyvízelvezetés
A10: Fontossági sorrend | B10: Beruházás megnevezése | E10: Műszaki állapot felmérés, szükségességi indoklás | H10: Vízjogi létesítési/elvi engedély száma | I10: Az érintett ellátásért felelős(ök) megnevezése | J10: Tervezett nettó költség | K10: Forrás 2021 évre | L10: Megvalósítás időtartama | N10: Tervezett időtáv | O10: A beruházás ütemezése a tervezési időszak évei szerint
E11: Jelenlegi műszaki állapot | F11: Feladat szükségessége | G11: Megvalósítást követő várható műszaki állapot | J11: (eFt) | L11: Kezdés | M11: Befejezés | N11: (rövid / közép / hosszú) | O11: 1 | P11: 2 | Q11: 3 | R11: 4 | S11: 5 | T11: 6 | U11: 7 | V11: 8 | W11: 9 | X11: 10 | Y11: 11 | Z11: 12 | AA11: 13 | AB11: 14 | AC11: 15
B12: szakág | C12: Helyszín | D12: beruházás megnevezése
B14: SZENNYVÍZCSATORNA (GRAVITÁCIÓS)
B15: Épület, építmény
A16: =Zalaegerszeg!A16 -> 1 | C16: =Zalaegerszeg!C16 -> Zalaegerszeg Öveges ÁMK | D16: =Zalaegerszeg!D16 -> Közterületen történő szennyvízelvezetés engedélyes és kiviteli tervdokumentációjának elkészítése | H16: =Zalaegerszeg!H16 -> - | I16: =Zalaegerszeg!I16 -> Zalaegerszeg | J16: =SUM(O16:AC16) -> 120 | L16: =Zalaegerszeg!L16 -> 44197 | M16: =Zalaegerszeg!M16 -> 44561 | N16: =Zalaegerszeg!N16 -> rövid | O16: 120
A17: =Zalaegerszeg!A17 -> 2 | C17: =Zalaegerszeg!C17 -> Zalaegerszeg Bor u. | D17: =Zalaegerszeg!D17 -> Szennyvízelvezetés engedélyes és kivteli tervdokumentációjának elkészítése | H17: =Zalaegerszeg!H17 -> - | I17: =Zalaegerszeg!I17 -> Zalaegerszeg | J17: =SUM(O17:AC17) -> 920 | L17: =Zalaegerszeg!L17 -> 44197 | M17: =Zalaegerszeg!M17 -> 44561 | N17: =Zalaegerszeg!N17 -> rövid | O17: 920
A18: =Zalaegerszeg!A18 -> 4 | C18: =Zalaegerszeg!C18 -> Zalaegerszeg Azáleás u. | D18: =Zalaegerszeg!D18 -> szennyvízelvezetés kiépítése | E18: =Zalaegerszeg!E18 -> Az üzemelő viziközmű technológiailag elavult, üzemeltetése, és javítása már nem gazdaságos. Jelenleg a piacon magasabb műszaki tartalmak érhetőek el | F18: =Zalaegerszeg!F18 -> A viziközmű rendszer hatékonyságának növelése, az üzemeltetési költségek szinten tartása miatt szükséges | G18: =Zalaegerszeg!G18 -> A beavatkozás után egy hatékonyan működő viziközmű elemet kapunk, mely a kor elvárásainak megfelel. A rendszer üzembiztos, hatékony, és korszerű lesz | H18: =Zalaegerszeg!H18 -> - | I18: =Zalaegerszeg!I18 -> Zalaegerszeg | J18: =SUM(O18:AC18) -> 30000 | L18: =Zalaegerszeg!L18 -> 44927 | M18: =Zalaegerszeg!M18 -> 45291 | N18: =Zalaegerszeg!N18 -> közép | Q18: =Zalaegerszeg!Q18 -> 30000
A19: =Egervár!A18 -> 3 | C19: =Egervár!C18 -> Egervár | D19: =Egervár!D18 -> Ipari Park szennyvízmű ellátás | I19: =Egervár!I18 -> Egervár | J19: =SUM(O19:AC19) -> 53525 | L19: =Egervár!L18 -> 44378 | M19: =Egervár!M18 -> 20201.12.31 | N19: =Egervár!N18 -> rövid | O19: =Egervár!O18 -> 53525
B20: SZENNYVÍZVEZETÉKEK (KÉNYSZERÁRAMOLTATÁSÚ)
B22: SZENNYVÍZÁTEMELŐK
B23: Épület, építmény
B25: Gép, berendezés
B27: Irányítástechnika, energiaellátás
B28: összesen: | J28: =SUM(J14:J27) -> 84565
A29: VI. Szennyvíztisztítás
B30: SZENNYVÍZTISZTÍTÓ-TELEP
B31: Épület, építmény
A32: =Zalaegerszeg!A29 -> 5 | C32: =Zalaegerszeg!C29 -> Zalaegerszeg szennyvíztisztító telep biológiai medence | D32: =Zalaegerszeg!D29 -> 1. biológia műtárgy újjáépítése | E32: =Zalaegerszeg!E29 -> A műtárgy állaga előrehaladott elhasználódást mutat. | F32: =Zalaegerszeg!F29 -> A viziközmű műtárgy/berendezés nem tudja betölteni funkcióját, technológiai paraméterek nem teljesülnek. Határérték túllépés várható | G32: =Zalaegerszeg!G29 -> A viziközmű elem állapota megközelíti az új elem berendezés állapotát. Az üzembiztonság jelentősen növekszik, balesetveszélyes állapot megszűnik. Teljesíthető határértékek. | H32: =Zalaegerszeg!H29 -> - | I32: =Zalaegerszeg!I29 -> Zalaegerszeg | J32: =Zalaegerszeg!J29 -> 4000000 | L32: =Zalaegerszeg!L29 -> 45658 | M32: =Zalaegerszeg!M29 -> 46022 | N32: =Zalaegerszeg!N29 -> közép | S32: =Zalaegerszeg!S29 -> 4000000
B33: Gép, berendezés
B34: Irányítástechnika, energiaellátás
B35: EGYEDI SZENNYVÍZKEZELŐ LÉTESÍTMÉNY
B36: Épület, építmény
B38: Gép, berendezés
B40: Irányítástechnika, energiaellátás
B42: TERMÉSZETKÖZELI SZENNYVÍZTISZTÍTÓK
B43: Épület, építmény
B45: Gép, berendezés
B47: Irányítástechnika, energiaellátás
B49: EGYEDI ZÁRT SZENNYVÍZTÁROLÓ
B50: Épület, építmény
... B54: Irányítástechnika, energiaellátás
B57: Összesen: | J57: =SUM(J28:J56) -> 4084565 | K57: =C60+C61 -> 54565 | O57: =SUM(O13:O56) -> 54565 | P57: =SUM(P13:P56) -> 0 | Q57: =SUM(Q13:Q56) -> 30000 | R57: =SUM(R13:R56) -> 0 | S57: =SUM(S13:S56) -> 4000000 | T57: =SUM(T13:T56) -> 0 | U57: =SUM(U13:U56) -> 0 | V57: =SUM(V13:V56) -> 0 | ... AC57: =SUM(AC13:AC56) -> 0
K58: Beruházásra fejlesztési forrás biztosított
B59: Tervezett feladatok nettó költsége a teljes ütem tekintetében (eFt) | C59: Rendelkezésre álló források számszerűsített értéke a teljes ütem tekintetében (eFt) | D59: Rendelkezésre álló források megnevezése
A60: I. ütem | B60: =Alibánfa!B27+Alsónemesapáti!B27+Babosdöbréte!B27+Bagod!B27+Bak!B27+Bocfölde!B27+Boncodfölde!B27+Böde!B27+Búcsúszentlászló!B27+Csatár!B27+Csonkahegyhát!B27+Dobronhegy!B27+Egervár!B27+Gősfa!B27+Hagyárosbörönd!B27+Hottó!B27+Kávás!B27+Kemendollár!B27+Keménfa!B27+Kisbucsa!B27+Kiskutas!B27+Kispáli!B27+Lakhegy!B27+Nagykutas!B27+Nagypáli!B27+Nemesapáti!B27+Nemeshetés!B27+Nemesándorháza!B27+Nemesszentandrás!B27+Németfalu!B27+Ozmánbük!B27+Pethőhenye!B27+Pókaszepetk!B27+Pusztaszenlászló!B27+Salomvár!B27+Sárhida!B27+Söjtör!B27+Teskánd!B27+Vasboldogasszony!B27+Vaspör!B27+Vöckönd!B27+Zalaboldogfa!B27+Zalacséb!B27+Zalaegerszeg!B57+Zalaistvánd!B27+Zalaszentgyörgy!B27+Zalaszentiván!B27+Zalaszentlőrinc!B27 -> 54565 | C60: =Zalaegerszeg!C57 -> 1040 | D60: Haználati díj (2021)
C61: =Egervár!C28 -> 53525 | D61: KPA
A62: II. ütem | B62: =Alibánfa!B28+Alsónemesapáti!B28+Babosdöbréte!B28+Bagod!B28+Bak!B28+Bocfölde!B28+Boncodfölde!B28+Böde!B28+Búcsúszentlászló!B28+Csatár!B28+Csonkahegyhát!B28+Dobronhegy!B28+Egervár!B29+Gősfa!B28+Hagyárosbörönd!B28+Hottó!B28+Kávás!B28+Kemendollár!B28+Keménfa!B28+Kisbucsa!B28+Kiskutas!B28+Kispáli!B28+Lakhegy!B28+Nagykutas!B28+Nagypáli!B28+Nemesapáti!B28+Nemeshetés!B28+Nemesándorháza!B28+Nemesszentandrás!B28+Németfalu!B28+Ozmánbük!B28+Pethőhenye!B28+Pókaszepetk!B28+Pusztaszenlászló!B28+Salomvár!B28+Sárhida!B28+Söjtör!B28+Teskánd!B28+Vasboldogasszony!B28+Vaspör!B28+Vöckönd!B28+Zalaboldogfa!B28+Zalacséb!B28+Zalaegerszeg!B58+Zalaistvánd!B28+Zalaszentgyörgy!B28+Zalaszentiván!B28+Zalaszentlőrinc!B28 -> 4030000 | C62: =Alibánfa!C28+Alsónemesapáti!C28+Babosdöbréte!C28+Bagod!C28+Bak!C28+Bocfölde!C28+Boncodfölde!C28+Böde!C28+Búcsúszentlászló!C28+Csatár!C28+Csonkahegyhát!C28+Dobronhegy!C28+Egervár!C29+Gősfa!C28+Hagyárosbörönd!C28+Hottó!C28+Kávás!C28+Kemendollár!C28+Keménfa!C28+Kisbucsa!C28+Kiskutas!C28+Kispáli!C28+Lakhegy!C28+Nagykutas!C28+Nagypáli!C28+Nemesapáti!C28+Nemeshetés!C28+Nemesándorháza!C28+Nemesszentandrás!C28+Németfalu!C28+Ozmánbük!C28+Pethőhenye!C28+Pókaszepetk!C28+Pusztaszenlászló!C28+Salomvár!C28+Sárhida!C28+Söjtör!C28+Teskánd!C28+Vasboldogasszony!C28+Vaspör!C28+Vöckönd!C28+Zalaboldogfa!C28+Zalacséb!C28+Zalaegerszeg!C58+Zalaistvánd!C28+Zalaszentgyörgy!C28+Zalaszentiván!C28+Zalaszentlőrinc!C28 -> 0 | D62: Fejlesztési díj (2022-2025)
A63: III. ütem | B63: =Alibánfa!B29+Alsónemesapáti!B29+Babosdöbréte!B29+Bagod!B29+Bak!B29+Bocfölde!B29+Boncodfölde!B29+Böde!B29+Búcsúszentlászló!B29+Csatár!B29+Csonkahegyhát!B29+Dobronhegy!B29+Egervár!B30+Gősfa!B29+Hagyárosbörönd!B29+Hottó!B29+Kávás!B29+Kemendollár!B29+Keménfa!B29+Kisbucsa!B29+Kiskutas!B29+Kispáli!B29+Lakhegy!B29+Nagykutas!B29+Nagypáli!B29+Nemesapáti!B29+Nemeshetés!B29+Nemesándorháza!B29+Nemesszentandrás!B29+Németfalu!B29+Ozmánbük!B29+Pethőhenye!B29+Pókaszepetk!B29+Pusztaszenlászló!B29+Salomvár!B29+Sárhida!B29+Söjtör!B29+Teskánd!B29+Vasboldogasszony!B29+Vaspör!B29+Vöckönd!B29+Zalaboldogfa!B29+Zalacséb!B29+Zalaegerszeg!B59+Zalaistvánd!B29+Zalaszentgyörgy!B29+Zalaszentiván!B29+Zalaszentlőrinc!B29 -> 0 | C63: =Alibánfa!C29+Alsónemesapáti!C29+Babosdöbréte!C29+Bagod!C29+Bak!C29+Bocfölde!C29+Boncodfölde!C29+Böde!C29+Búcsúszentlászló!C29+Csatár!C29+Csonkahegyhát!C29+Dobronhegy!C29+Egervár!C30+Gősfa!C29+Hagyárosbörönd!C29+Hottó!C29+Kávás!C29+Kemendollár!C29+Keménfa!C29+Kisbucsa!C29+Kiskutas!C29+Kispáli!C29+Lakhegy!C29+Nagykutas!C29+Nagypáli!C29+Nemesapáti!C29+Nemeshetés!C29+Nemesándorháza!C29+Nemesszentandrás!C29+Németfalu!C29+Ozmánbük!C29+Pethőhenye!C29+Pókaszepetk!C29+Pusztaszenlászló!C29+Salomvár!C29+Sárhida!C29+Söjtör!C29+Teskánd!C29+Vasboldogasszony!C29+Vaspör!C29+Vöckönd!C29+Zalaboldogfa!C29+Zalacséb!C29+Zalaegerszeg!C59+Zalaistvánd!C29+Zalaszentgyörgy!C29+Zalaszentiván!C29+Zalaszentlőrinc!C29 -> 0 | D63: Fejlesztési díj (2026-2035)
