Workbook
Name _GoBack: '2'!#REF!

Sheet 1
A1: Megnevezés | B1: 2026. évi eredeti előirányzat | C1: 2026. évi módosított előirányzat | D1: Teljesítés az I. félévben | E1: Teljesítés %-a | G1: Megnevezés | H1: 2026. évi eredeti előirányzat | I1: 2026. évi módosított előirányzat | J1: Teljesítés az I. félévben | K1: Teljesítés %-a
A2: I. Működési célú bevételek | G2: I. Működési célú kiadások
A3: 1.) Működési célú támogatások államháztartáson belülről | B3: 9763426527 | C3: 10434964504 | D3: ='6'!I214 -> 5980533360 | E3: =D3/C3*100 -> 57.312446 | G3: 1.) Költségvetési szervek kiadásai | H3: 13639731562 | I3: 14073301370 | J3: ='10'!H22+'10'!I22+'10'!J22+'10'!K22+'10'!L22 -> 6970716233 | K3: =J3/I3*100 -> 49.531493
A4: 2.) Közhatalmi bevételek | B4: 9682800000 | C4: 9682800000 | D4: ='6'!K214 -> 5327871376 | E4: =D4/C4*100 -> 55.024077 | G4: 2.) Önkormányzat szakosztályainak kiadásai | H4: 7041320625 | I4: 7429533465 | J4: ='8'!K578+'8'!L578+'8'!M578+'8'!N578-'8'!M514 -> 2354148627 | K4: =J4/I4*100 -> 31.686359
A5: 3.) Működési bevételek | B5: 5019473934 | C5: 5173641252 | D5: ='6'!L214-D18 -> 2332003466 | E5: =D5/C5*100 -> 45.074704 | G5: 3.) Egyéb működési célú kiadások (költségvetési szervek és tartalék nélkül) | H5: 6928639061 | I5: 7148046704 | J5: ='8'!O578 -> 3457493241 | K5: =J5/I5*100 -> 48.369763
A6: 4.) Működési célú átvett pénzeszközök | B6: 3000000 | C6: 34210000 | D6: ='6'!N214 -> 34142275 | E6: =D6/C6*100 -> 99.802032 | G6: 4.) Céltartalékból működésre | H6: 560609897 | I6: 556000976 | K6: =J6/I6*100 -> 0
A7: Költségvetési műk. bevételei összesen: | B7: =SUM(B3+B4+B5+B6) -> 24468700461 | C7: =SUM(C3+C4+C5+C6) -> 25325615756 | D7: =SUM(D3+D4+D5+D6) -> 13674550477 | E7: =D7/C7*100 -> 53.994938 | G7: 5.) Általános tartalék | H7: 10000000 | I7: 15991706 | K7: =J7/I7*100 -> 0
A8: Finanszírozási bevételek | G8: Költségvetési műk. kiadásai összesen: | H8: =SUM(H2:H7) -> 28180301145 | I8: =SUM(I2:I7) -> 29222874221 | J8: =SUM(J2:J7) -> 12782358101 | K8: =J8/I8*100 -> 43.740934
A9: 5.) Előző év költségvetési maradványának igénybevétele | B9: 1355728334 | C9: 1541386115 | D9: 1541386115 | E9: =D9/C9*100 -> 100 | G9: 6.) Egyéb finanszírozási kiadás (államháztartáson belüli megelőlegezés visszafizetése) | H9: 244127650 | I9: 244127650 | J9: ='8'!T497 -> 244127650 | K9: =J9/I9*100 -> 100
A10: 6.) Forgatási célú értékpapír beváltás | B10: 2600000000 | C10: 2600000000 | E10: =D10/C10*100 -> 0
A11: 7.) Államháztartáson belüli megelőlegezések
A12: MŰKÖDÉSI CÉLÚ BEVÉTELEK ÖSSZ: | B12: =SUM(B7:B11) -> 28424428795 | C12: =SUM(C7:C11) -> 29467001871 | D12: =SUM(D7:D11) -> 15215936592 | E12: =D12/C12*100 -> 51.637206 | G12: MŰKÖDÉSI CÉLÚ KIADÁSOK ÖSSZ.: | H12: =SUM(H8:H11) -> 28424428795 | I12: =SUM(I8:I11) -> 29467001871 | J12: =SUM(J8:J11) -> 13026485751 | K12: =J12/I12*100 -> 44.207028
A13: II. Felhalmozási célú bevételek | G13: II. Felhalmozási célú kiadások
A14: 1.) Felhalmozási célú támogatások államháztartáson belülről | B14: 4881455631 | C14: 7575458642 | D14: ='6'!J214 -> 3147958744 | E14: =D14/C14*100 -> 41.554695 | G14: 1.) Egyéb felhalmozási célú kiadások | H14: 125794890 | I14: 126179089 | J14: ='8'!R580 -> 36480089 | K14: =J14/I14*100 -> 28.911359
A15: 2.) Felhalmozási bevételek | B15: 174046508 | C15: 174046508 | D15: ='6'!M214 -> 45791436 | E15: =D15/C15*100 -> 26.309885 | G15: ebből: költségvetési szervek | H15: 0 | I15: 0 | J15: ='8'!R579 -> 0
A16: 3.) Közhatalmi bevételek | B16: 0 | C16: 0 | D16: 0 | G16: 2.) Beruházás | H16: 6871822071 | I16: 9047123926 | J16: ='8'!P580 -> 951777550 | K16: =J16/I16*100 -> 10.520222
A17: 4.) Felhalmozási célú átvett pénzeszközök | B17: 0 | C17: 628380 | D17: ='6'!O214 -> 3443477 | E17: =D17/C17*100 -> 547.99278 | G17: ebből: költségvetési szervek | H17: 202558834 | I17: 326481003 | J17: ='8'!P579 -> 103050513 | K17: =J17/I17*100 -> 31.564015
A18: 5.) Fejlesztéshez működési jellegű bevétel (HD, áfa visszaigénylés) | B18: 720931677 | C18: 787530512 | D18: 187096248 | E18: =D18/C18*100 -> 23.757333 | G18: 3.) Felújítás | H18: 3672194497 | I18: 4480028372 | J18: ='8'!Q580 -> 946269419 | K18: =J18/I18*100 -> 21.121951
A19: Költségvetési felhalm. bevételei összesen: | B19: =SUM(B14:B18) -> 5776433816 | C19: =SUM(C14:C18) -> 8537664042 | D19: =SUM(D14:D18) -> 3384289905 | E19: =D19/C19*100 -> 39.63953 | G19: ebből: költségvetési szervek | H19: 3441757 | I19: 60482095 | J19: ='8'!Q579 -> 5414957 | K19: =J19/I19*100 -> 8.9529918
A20: Finanszírozási bevételek | G20: 4.) Céltartalék | H20: 20000000 | I20: 10901400 | K20: =J20/I20*100 -> 0
A21: 6.) Hitelfelvétel | B21: 0 | C21: 500000000 | E21: =D21/C21*100 -> 0 | G21: 5.)Fejlesztési hitel kamata | H21: 58226153 | I21: 58226153 | J21: ='8'!M514 -> 30176382 | K21: =J21/I21*100 -> 51.826164
A22: 7.) Előző év költségvetési maradványának igénybevétele | B22: 3827275063 | C22: 4040466166 | D22: 4040466166 | E22: =D22/C22*100 -> 100 | G22: Költségvetési felh.célú kiadásai összesen: | H22: =H14+H16+H18+H20+H21 -> 1.0748038e+10 | I22: =I14+I16+I18+I20+I21 -> 1.3722459e+10 | J22: =J14+J16+J18+J20+J21 -> 1964703440 | K22: =J22/I22*100 -> 14.31743
A23: 8.) Forgatási célú értékpapír beváltás projektekhez kapcsolódóan | B23: 1262180000 | C23: 1262180000 | D23: ='6'!R124 -> 1160710000 | E23: =D23/C23*100 -> 91.960735 | G23: Finanszírozási kiadások
G24: 6.) Hitel- és kölcsön törlesztések | H24: 117851268 | I24: 617851268 | J24: ='8'!S580 -> 58925634 | K24: =J24/I24*100 -> 9.5371875
A25: FELHALMOZÁSI CÉLÚ BEVÉTELEK ÖSSZESEN: | B25: =SUM(B19:B24) -> 10865888879 | C25: =SUM(C19:C24) -> 14340310208 | D25: =SUM(D19:D24) -> 8585466071 | E25: =D25/C25*100 -> 59.869459 | G25: FELHALMOZÁSI CÉLÚ KIADÁSOK ÖSSZESEN: | H25: =SUM(H22:H24) -> 1.0865889e+10 | I25: =SUM(I22:I24) -> 1.434031e+10 | J25: =SUM(J22:J24) -> 2023629074 | K25: =J25/I25*100 -> 14.111473
A26: ÖNKORMÁNYZAT ÖSSZESEN: | B26: =SUM(B12+B25) -> 39290317674 | C26: =SUM(C12+C25) -> 43807312079 | D26: =SUM(D12+D25) -> 23801402663 | E26: =D26/C26*100 -> 54.332032 | G26: ÖNKORMÁNYZAT ÖSSZESEN: | H26: =H12+H25 -> 3.9290318e+10 | I26: =I12+I25 -> 4.3807312e+10 | J26: =J12+J25 -> 15050114825 | K26: =J26/I26*100 -> 34.355257
A27: 9.) Forgatási célú értékpapír beváltás | B27: 5000000000 | C27: 5000000000 | D27: ='6'!R170 -> 4203470000 | E27: =D27/C27*100 -> 84.0694 | G27: 7.) Forgatási célú értékpapír vásárlás hazai forrásból átmenetileg szabad pénzeszközökből | H27: 5000000000 | I27: 5000000000 | J27: ='8'!T516+'8'!T517 -> 4489890000 | K27: =J27/I27*100 -> 89.7978
A28: MINDÖSSZESEN: | B28: =SUM(B26:B27) -> 44290317674 | C28: =SUM(C26:C27) -> 48807312079 | D28: =SUM(D26:D27) -> 28004872663 | E28: =D28/C28*100 -> 57.378437 | G28: MINDÖSSZESEN: | H28: =SUM(H26:H27) -> 4.4290318e+10 | I28: =SUM(I26:I27) -> 4.8807312e+10 | J28: =SUM(J26:J27) -> 19540004825 | K28: =J28/I28*100 -> 40.034995

Sheet 2
A1: Rovat száma | B1: Megnevezés | C1: 2026. évi eredeti előirányzat | D1: 2026. évi módosított előirányzat | E1: Teljesítés az I. félévben | F1: Teljesítés %-a
A2: B | B2: BEVÉTELEK
A3: B1 | B3: Működési célú támogatások államháztartáson belülről
A4: B11 | B4: Önkormányzatok működési támogatásai | C4: 7260136532 | D4: 7670360464 | E4: 4154295715 | F4: =E4/D4*100 -> 54.160371
A5: B12 | B5: Elvonások és befizetések bevételei | D5: 60225000 | E5: 60225000 | F5: =E5/D5*100 -> 100
A6: B14 | B6: Működési célú visszatérítendő támogatások, kölcsönök visszatérülése államháztartáson belülről | C6: 35700000 | D6: 35700000 | E6: 20700000 | F6: =E6/D6*100 -> 57.983193
A7: B16 | B7: Egyéb működési célú támogatások bevételei államháztartáson belülről | C7: 2467589995 | D7: 2668679040 | E7: 1745312645 | F7: =E7/D7*100 -> 65.399871
B8: Működési célú támogatások államháztartáson belülről összesen | C8: =SUM(C4:C7) -> 9763426527 | D8: =SUM(D4:D7) -> 10434964504 | E8: =SUM(E4:E7) -> 5980533360 | F8: =E8/D8*100 -> 57.312446
A9: B2 | B9: Felhalmozási célú támogatások államháztartáson belülről | D9: 0
A10: B25 | B10: Egyéb felhalmozási célú támogatások bevételei államháztartáson belülről | C10: 4881455631 | D10: 7575458642 | E10: 3147958744 | F10: =E10/D10*100 -> 41.554695
B11: Felhalmozási célú támogatások államháztartáson belülről összesen | C11: =SUM(C9:C10) -> 4881455631 | D11: =SUM(D9:D10) -> 7575458642 | E11: =SUM(E9:E10) -> 3147958744 | F11: =E11/D11*100 -> 41.554695
A12: B3 | B12: Közhatalmi bevételek
A13: B311 | B13: Magánszemélyek jövedelemadói
A14: B34 | B14: Vagyoni típusú adók (építményadó, magánszemélyek kommunális adója) | C14: 1575000000 | D14: 1575000000 | E14: 797695165 | F14: =E14/D14*100 -> 50.647312
A15: B35 | B15: Termékek és szolgáltatások adói
A16: B351 | B16: Értékesítési és forgalmi adók (iparűzési adó) | C16: 7950000000 | D16: 7950000000 | E16: 4428109086 | F16: =E16/D16*100 -> 55.699485
A17: B355 | B17: Egyéb áruhasználati és szolgáltatási adók ( idegenforgalmi adó) | C17: 37000000 | D17: 37000000 | E17: 15151687 | F17: =E17/D17*100 -> 40.950505
A18: B36 | B18: Egyéb közhatalmi bevételek (talajterhelési díj, közterület használati díj, különféle bírságok) | C18: 120800000 | D18: 120800000 | E18: 86915438 | F18: =E18/D18*100 -> 71.949866
B19: Közhatalmi bevételek összesen | C19: =SUM(C12:C18) -> 9682800000 | D19: =SUM(D12:D18) -> 9682800000 | E19: =SUM(E12:E18) -> 5327871376 | F19: =E19/D19*100 -> 55.024077
A20: B4 | B20: Működési bevételek | C20: 5740405611 | D20: 5961171764 | E20: 2519099714 | F20: =E20/D20*100 -> 42.258466
A21: B5 | B21: Felhalmozási bevételek
A22: B52 | B22: Ingatlanok értékesítése | C22: 174046508 | D22: 174046508 | E22: 45620539 | F22: =E22/D22*100 -> 26.211695
A23: B53 | B23: Egyéb tárgyi eszközök értékesítése | E23: 170897
B24: Felhalmozási bevételek összesen | C24: =SUM(C22:C23) -> 174046508 | D24: =SUM(D22:D23) -> 174046508 | E24: =SUM(E22:E23) -> 45791436 | F24: =E24/D24*100 -> 26.309885
A25: B6 | B25: Működési célú átvett pénzeszközök | C25: 3000000 | D25: 34210000 | E25: 34142275 | F25: =E25/D25*100 -> 99.802032
A26: B7 | B26: Felhalmozási célú átvett pénzeszközök
A27: B75 | B27: Egyéb felhalmozási célú átvett pénzeszközök | D27: 628380 | E27: 3443477 | F27: =E27/D27*100 -> 547.99278
B28: Felhalmozási célú átvett pénzeszközök összesen | C28: =SUM(C27:C27) -> 0 | D28: =SUM(D27:D27) -> 628380 | E28: =SUM(E27:E27) -> 3443477 | F28: =E28/D28*100 -> 547.99278
A29: B1-B7 | B29: Költségvetési bevételek | C29: =SUM(C8+C11+C19+C20+C24+C25+C28) -> 30245134277 | D29: =SUM(D8+D11+D19+D20+D24+D25+D28) -> 33863279798 | E29: =SUM(E8+E11+E19+E20+E24+E25+E28) -> 17058840382 | F29: =E29/D29*100 -> 50.37563
A30: B8 | B30: Finanszírozási bevételek | D30: 0
A31: B81 | B31: Belföldi finanszírozás bevételei | D31: 0
A32: B811 | B32: Hitel-, kölcsönfelvétel államháztartáson kívülről | D32: 500000000 | E32: 0 | F32: =E32/D32*100 -> 0
A33: B8121 | B33: Forgatási célú belföldi értékpapírok beváltása, értékesítése | C33: 8862180000 | D33: 8862180000 | E33: 5364180000 | F33: =E33/D33*100 -> 60.528899
A34: B813 | B34: Maradvány igénybevétele | C34: 5183003397 | D34: 5581852281 | E34: 5581852281 | F34: =E34/D34*100 -> 100
B35: Finanszírozási bevételek összesen | C35: =SUM(C32:C34) -> 14045183397 | D35: =SUM(D32:D34) -> 14944032281 | E35: =SUM(E32:E34) -> 10946032281 | F35: =E35/D35*100 -> 73.246846
B36: BEVÉTELEK ÖSSZESEN: | C36: =SUM(C29+C35) -> 44290317674 | D36: =SUM(D29+D35) -> 48807312079 | E36: =SUM(E29+E35) -> 28004872663 | F36: =E36/D36*100 -> 57.378437

Sheet 3
A1: Hozzájárulás jogcíme | B1: 2026. eredeti előirányzat | E1: 2026. módosított előirányzat | H1: változás az I. névben | I1: változás az II. névben | J1: Teljesítés összege 2026. I. félévben | K1: Teljesítés %-a
B2: mutató | C2: Normatíva Ft/fő | D2: Állami támogatás (Ft) | E2: mutató | F2: Normatíva Ft/fő | G2: Állami támogatás (Ft)
A3: 2. melléklet szerinti jogcímek
A4: 1.1. Települési önkormányzatok működésének általános támogatása
A5: 1.1.1. Önkormányzati hivatal működésének támogatása - elismert hivatali létszám alapján | B5: 125.17 | C5: 7475000 | D5: =B5*C5 -> 935645750 | E5: 125.17 | F5: 7475000 | G5: =E5*F5 -> 935645750 | J5: 486535790 | K5: =J5/G5*100 -> 52
A6: Település-üzemeltetéshez kapcsolódó feladataellátás támogatása
A7: 1.1.2. zöldterület-gazdálkodás támogatása (hektár) | B7: 2403.8 | C7: 26000 | D7: =B7*C7 -> 62498800 | E7: 2403.8 | F7: 26000 | G7: =E7*F7 -> 62498800 | J7: 32499376 | K7: =J7/G7*100 -> 52
A8: 1.1.3. közvilágítás támogatása | D8: 204055000 | G8: 204055000 | J8: 106108600 | K8: =J8/G8*100 -> 52
A9: 1.1.4. köztemető támogatása (m²) | B9: 320382 | C9: 85 | D9: =B9*C9 -> 27232470 | E9: 320382 | F9: 85 | G9: =E9*F9 -> 27232470 | J9: 14160884 | K9: =J9/G9*100 -> 51.999999
A10: 1.1.5. közutak támogatása (km) | B10: 203.082 | C10: 485000 | D10: =B10*C10 -> 98494770 | E10: 203.082 | F10: 485000 | G10: =E10*F10 -> 98494770 | J10: 51217280 | K10: =J10/G10*100 -> 52
A11: 1.1.6. Egyéb önkormányzati feladatok támogatása (lakosságszám) | B11: 53675 | C11: 2800 | D11: =B11*C11 -> 150290000 | E11: 53675 | F11: 2800 | G11: =E11*F11 -> 150290000 | J11: 78150800 | K11: =J11/G11*100 -> 52
A12: 1.1.7. Lakott külterülettel kapcsolatos feladatok támogatása | B12: 5093 | C12: 2550 | D12: =B12*C12 -> 12987150 | E12: 5093 | F12: 2550 | G12: =E12*F12 -> 12987150 | J12: 6753318 | K12: =J12/G12*100 -> 52
A13: 1.1.8. Nem közművel összegyűjtött háztartási szennyvíz ártalmatlanítása (m3) | B13: 2000 | C13: 1500 | D13: =B13*C13 -> 3000000 | E13: 2000 | F13: 1500 | G13: =E13*F13 -> 3000000 | J13: 1560000 | K13: =J13/G13*100 -> 52
A14: 1.2.1.Óvodaműködtetési támogatás
A15: 1.2.1. Óvodaműködtetési támogatás | B15: 1278.7 | C15: 172374 | D15: =B15*C15 -> 2.2041463e+08 | E15: 1278.7 | F15: 172374 | G15: =E15*F15 -> 2.2041463e+08 | J15: 114615691 | K15: =J15/G15*100 -> 52.000037
A16: 1.2.2. Az óvodában foglalkoztatott pedagógusok átlagbéralapú támogatása | B16: 116.4 | C16: 11460000 | D16: =B16*C16 -> 1333944000 | E16: 116.4 | F16: 11460000 | G16: =E16*F16 -> 1333944000 | J16: 693650800 | K16: =J16/G16*100 -> 51.999994
A17: 2025. évi egyszeri kiegészítő tanárbér 36/2026. (III.5.) Korm. rendelet alapján (óvodában) | G17: 20044080 | I17: 24555720 | J17: 20044080 | K17: =J17/G17*100 -> 100
A18: 1.2.3. Kiegészítő támogatás az óvodapedagógusok minősítéséből adódó többletkiadásokhoz
A19: 1.2.3.1.1.1. Pedagógus II. kategóriába sorolt pedagógusok kiegészítő támogatása | B19: 43.7 | C19: 956000 | D19: =B19*C19 -> 41777200 | E19: 43.7 | F19: 956000 | G19: =E19*F19 -> 41777200 | J19: 21724144 | K19: =J19/G19*100 -> 52
A20: 1.2.3.1.1.2. Mesterpedagógus, kutatótanár kategóriába sorolt pedagógusok kiegészítő támogatása | B20: 3.6 | C20: 3565000 | D20: =B20*C20 -> 12834000 | E20: 3.6 | F20: 3565000 | G20: =E20*F20 -> 12834000 | J20: 6673680 | K20: =J20/G20*100 -> 52
A21: 1.2.5. Az óvodában foglalkoztatott pedagógusok nevelőmunkáját közvetlenül segítők átlagbéralapú támogatása | B21: 81 | C21: 5567000 | D21: =B21*C21 -> 450927000 | E21: 81 | F21: 5567000 | G21: =E21*F21 -> 450927000 | J21: 234482040 | K21: =J21/G21*100 -> 52
A22: 1.3.2.Szociális és gyermekjóléti alapszolgáltatás feladatai
A23: 1.3.2.1. Család-és gyermekjóléti szolgálat | B23: 8.9 | C23: 7855000 | D23: =B23*C23 -> 69909500 | E23: 8.9 | F23: 7855000 | G23: =E23*F23 -> 69909500 | J23: 36352940 | K23: =J23/G23*100 -> 52
A24: 1.3.2.2. Család- és gyermekjóléti központ ( járáshoz tartozó összes településre) | B24: 22.4 | C24: 7270000 | D24: 179048000 | E24: 22.4 | F24: 7270000 | G24: 179048000 | J24: 93104960 | K24: =J24/G24*100 -> 52
A25: 1.3.2.2.2. Óvodai és iskolai szociális segítő tevékenység támogatása | B25: 13726 | C25: 5640 | D25: =B25*C25 -> 77414640 | E25: 13726 | F25: 5640 | G25: =E25*F25 -> 77414640 | J25: 40255615 | K25: =J25/G25*100 -> 52.000003
A26: 1.3.2.3 Szociális étkeztetés - társulás által történő feladatellátás | B26: 305 | C26: 103990 | D26: =B26*C26 -> 31716950 | E26: 305 | F26: 103990 | G26: =E26*F26 -> 31716950 | J26: 16492814 | K26: =J26/G26*100 -> 52
A27: 1.3.2.4. Házi segítségnyújtás
A28: 1.3.2.4.1. Szociális segítés | B28: 2 | C28: 25000 | D28: =B28*C28 -> 50000 | E28: 2 | F28: 25000 | G28: =E28*F28 -> 50000 | J28: 26000 | K28: =J28/G28*100 -> 52
A29: 1.3.2.4.2. Személyi gondozás - társulás által történő feladatellátás | B29: 49 | C29: 928930 | D29: =B29*C29 -> 45517570 | E29: 49 | F29: 928930 | G29: =E29*F29 -> 45517570 | J29: 23669136 | K29: =J29/G29*100 -> 51.999999
A30: 1.3.2.6. Időskorúak nappali intézményi ellátása társulás által történő feladatellátás | B30: 55 | C30: 606400 | D30: =B30*C30 -> 33352000 | E30: 55 | F30: 606400 | G30: =E30*F30 -> 33352000 | J30: 17343040 | K30: =J30/G30*100 -> 52
A31: 1.3.2.8. Demens személyek nappali intézményi ellátása - társulás által történő feladatellátás | B31: 4 | C31: 1187880 | D31: =B31*C31 -> 4751520 | E31: 4 | F31: 1187880 | G31: =E31*F31 -> 4751520 | J31: 2470790 | K31: =J31/G31*100 -> 51.999992
A32: 1.3.2.9. Pszichiátriai betegek nappali intézményi ellátása - társulás által történő feladatellátás | B32: 20 | C32: 637180 | D32: =B32*C32 -> 12743600 | E32: 20 | F32: 637180 | G32: =E32*F32 -> 12743600 | J32: 6626672 | K32: =J32/G32*100 -> 52
A33: 1.3.2.10. Szenvedélybetegek nappali intézményi ellátása - társulás által történő feladatellátás | B33: 8 | C33: 603600 | D33: =B33*C33 -> 4828800 | E33: 8 | F33: 603600 | G33: =E33*F33 -> 4828800 | J33: 2510976 | K33: =J33/G33*100 -> 52
A34: 1.3.3. Bölcsőde, mini bölcsőde támogatása
A35: 1.3.3. Bölcsődei bértámogatás
A36: 1.3.3.1.1. Felsőfokú végzettségű kisgyermeknevelők, szaktanácsadók bértámogatása | B36: 26.2 | C36: 11312000 | D36: =B36*C36 -> 296374400 | E36: 26.2 | F36: 11312000 | G36: =E36*F36 -> 296374400 | J36: 154114688 | K36: =J36/G36*100 -> 52
A37: 2025. évi egyszeri kiegészítő tanárbér 36/2026. (III.5.) Korm. rendelet alapján (bölcsődében) | G37: 4511640 | J37: 4511640
A38: 1.3.3.1.2. Bölcsődei dajkák,középfokú végzettségű kisgyermeknevelők, szaktanácsadók bértámogatása | B38: 54.8 | C38: 8538000 | D38: =B38*C38 -> 467882400 | E38: 54.8 | F38: 8538000 | G38: =E38*F38 -> 467882400 | J38: 243298848 | K38: =J38/G38*100 -> 52
A39: 1.3.3.2. Bölcsődei üzemeltetési támogatás | D39: 117701040 | G39: 117701040 | J39: 61204541 | K39: =J39/G39*100 -> 52
A40: 1.3.4. A települési önk. által biztosított egyes szociális szakosított ellátások, valamint a gyermekek átmeneti gondozásával kapcsolatos feladatok támogatása
...

Sheet 4
A3: Rovat száma | B3: Megnevezés | C3: 2026. évi eredeti előirányzat | D3: 2026. évi módosított előirányzat | E3: 2026. I. félévi teljesítés | F3: Teljesítés %-a
B4: Költségvetési kiadások
A5: K1 | B5: Személyi juttatások | C5: 8806752914 | D5: 9082140958 | E5: ='7'!H17 -> 4335078287 | F5: =E5/D5*100 -> 47.731898
A6: K2 | B6: Munkaadókat terhelő járulékok és szociális hj. adó | C6: 1310324181 | D6: 1349272014 | E6: ='7'!I17 -> 603070817 | F6: =E6/D6*100 -> 44.696015
A7: K3 | B7: Dologi kiadások | C7: 1.0473812e+10 | D7: 10879972700 | E7: ='7'!J17 -> 4281683432 | F7: =E7/D7*100 -> 39.353807
A8: K4 | B8: Ellátottak pénzbeli juttatásai | C8: 112689501 | D8: 113747051 | E8: ='7'!K17 -> 38630818 | F8: =E8/D8*100 -> 33.962039
A9: K5 | B9: Egyéb működési célú kiadások | C9: 7534948958 | D9: 7855967651 | E9: ='7'!L17 -> 3554071129 | F9: =E9/D9*100 -> 45.240399
B10: Működési költségvetés összesen: | C10: =SUM(C5:C9) -> 2.8238527e+10 | D10: =SUM(D5:D9) -> 29281100374 | E10: =SUM(E5:E9) -> 12812534483 | F10: =E10/D10*100 -> 43.757012
A11: K6 | B11: Beruházások | C11: 6881822071 | D11: 9048025326 | E11: ='7'!M17 -> 951777550 | F11: =E11/D11*100 -> 10.519174
A12: K7 | B12: Felújítások | C12: 3682194497 | D12: 4490028372 | E12: ='7'!N17 -> 946269419 | F12: =E12/D12*100 -> 21.07491
A13: K8 | B13: Egyéb felhalmozási célú kiadások | C13: 125794890 | D13: 126179089 | E13: ='7'!O17 -> 36480089 | F13: =E13/D13*100 -> 28.911359
B14: Felhalmozási költségvetés összesen: | C14: =SUM(C11:C13) -> 10689811458 | D14: =SUM(D11:D13) -> 13664232787 | E14: =SUM(E11:E13) -> 1934527058 | F14: =E14/D14*100 -> 14.157597
A15: K1-K8 | B15: Költségvetési kiadások összesen: | C15: =SUM(C14,C10) -> 3.8928339e+10 | D15: =SUM(D14,D10) -> 42945333161 | E15: =SUM(E14,E10) -> 14747061541 | F15: =E15/D15*100 -> 34.339148
A16: K9 | B16: Finanszírozási kiadások | C16: 5361978918 | D16: 5861978918 | E16: ='7'!P17+'7'!Q17 -> 4792943284 | F16: =E16/D16*100 -> 81.76323
B17: Önkormányzat kiadásai összesen | C17: =SUM(C15:C16) -> 4.4290318e+10 | D17: =SUM(D15:D16) -> 48807312079 | E17: =SUM(E15:E16) -> 19540004825 | F17: =E17/D17*100 -> 40.034995

Sheet 5
A1: Cím szám | B1: Alcím szám | C1: Megnevezés | D1: Előirányzat | F1: Teljesítés | H1: Költségvetési bevételek | O1: Finanszírozási bevételek
D2: Eredeti | E2: Módosított | F2: Összege | G2: %-a | H2: Működési célú támogatások áht-n belülről | I2: Felhalmozási célú támogatások áht-n belülről | J2: Közhatalmi bevételek | K2: Működési bevételek | L2: Felhalmozási bevételek | M2: Működési célú átvett pénzeszközök | N2: Felhalmozási célú átvett pénzeszközök | O2: Hitel-, kölcsönfelvétel áht-n kívülről | P2: Maradvány igénybevétele | Q2: Egyéb finanszírozási bevétel
C3: Önkormányzat
B4: 12 | C4: Szociális és igazgatási feladatok | D4: 30000000 | E4: 30000000 | F4: ='6'!G13 -> 16105667 | G4: =F4/E4*100 -> 53.685557 | H4: ='6'!I13 -> 663726 | I4: ='6'!J13 -> 0 | J4: ='6'!K13 -> 1962839 | K4: ='6'!L13 -> 10142000 | L4: ='6'!M13 -> 0 | M4: ='6'!N13 -> 1682102 | N4: ='6'!O13 -> 1655000 | O4: ='6'!P13 -> 0 | ... Q4: ='6'!R13 -> 0
B5: 13 | C5: Humánigazgatási feladatok | D5: 159519000 | E5: 302369000 | F5: ='6'!G34 -> 298934798 | G5: =F5/E5*100 -> 98.864235 | H5: ='6'!I34 -> 293672710 | I5: ='6'!J34 -> 0 | J5: ='6'!K34 -> 0 | K5: ='6'!L34 -> 4759424 | L5: ='6'!M34 -> 0 | M5: ='6'!N34 -> 474797 | N5: ='6'!O34 -> 27867 | O5: ='6'!P34 -> 0 | ... Q5: ='6'!R34 -> 0
B6: 14 | C6: Főépítészi feladatok | D6: 5080000 | E6: 5080000 | F6: ='6'!G38 -> 0 | G6: =F6/E6*100 -> 0 | H6: ='6'!I38 -> 0 | I6: ='6'!J38 -> 0 | J6: ='6'!K38 -> 0 | K6: ='6'!L38 -> 0 | L6: ='6'!M38 -> 0 | M6: ='6'!N38 -> 0 | N6: ='6'!O38 -> 0 | O6: ='6'!P38 -> 0 | ... Q6: ='6'!R38 -> 0
B7: 15 | C7: Városüzemelési felad. | D7: 899087798 | E7: 899087798 | F7: ='6'!G68 -> 281797687 | G7: =F7/E7*100 -> 31.342622 | H7: ='6'!I68 -> 85432 | I7: ='6'!J68 -> 0 | J7: ='6'!K68 -> 1986000 | K7: ='6'!L68 -> 242784490 | L7: ='6'!M68 -> 0 | M7: ='6'!N68 -> 1077967 | N7: ='6'!O68 -> 0 | O7: ='6'!P68 -> 0 | ... Q7: ='6'!R68 -> 0
B8: 16 | C8: Városépítészeti feladatok | D8: 11754812908 | E8: 14711236111 | F8: ='6'!G124 -> 8251026483 | G8: =F8/E8*100 -> 56.086561 | H8: ='6'!I124 -> 511671801 | I8: ='6'!J124 -> 3138708744 | J8: ='6'!K124 -> 0 | K8: ='6'!L124 -> 285742577 | L8: ='6'!M124 -> 0 | M8: ='6'!N124 -> 779418 | N8: ='6'!O124 -> 0 | O8: ='6'!P124 -> 0 | ... Q8: ='6'!R124 -> 1160710000
B9: 17 | C9: Vagyonkezelési feladatok | D9: 1307621987 | E9: 1411141407 | F9: ='6'!G156 -> 823227261 | G9: =F9/E9*100 -> 58.337687 | H9: ='6'!I156 -> 0 | I9: ='6'!J156 -> 0 | J9: ='6'!K156 -> 0 | K9: ='6'!L156 -> 763845251 | L9: ='6'!M156 -> 45683531 | M9: ='6'!N156 -> 0 | N9: ='6'!O156 -> 0 | O9: ='6'!P156 -> 0 | ... Q9: ='6'!R156 -> 0
B10: 18 | C10: Jogi és közig. feladatok | D10: 152640000 | E10: 152640000 | F10: ='6'!G167 -> 68577511 | G10: =F10/E10*100 -> 44.927615 | H10: ='6'!I167 -> 0 | I10: ='6'!J167 -> 0 | J10: ='6'!K167 -> 40050005 | K10: ='6'!L167 -> 28527506 | L10: ='6'!M167 -> 0 | M10: ='6'!N167 -> 0 | N10: ='6'!O167 -> 0 | O10: ='6'!P167 -> 0 | ... Q10: ='6'!R167 -> 0
B11: 19 | C11: Pénzügyi lebonyolítás | D11: 26280892411 | E11: 27138446944 | F11: ='6'!G201 -> 15439536566 | G11: =F11/E11*100 -> 56.891747 | H11: ='6'!I201 -> 4369412398 | I11: ='6'!J201 -> 0 | J11: ='6'!K201 -> 5280582532 | K11: ='6'!L201 -> 186951890 | L11: ='6'!M201 -> 0 | M11: ='6'!N201 -> 26600000 | N11: ='6'!O201 -> 1032230 | O11: ='6'!P201 -> 0 | ... Q11: ='6'!R201 -> 4203470000
B12: 22 | C12: Polgármesteri Kabinet | D12: 0 | E12: 460179 | F12: ='6'!G211 -> 3593957 | G12: =F12/E12*100 -> 780.99109 | H12: ='6'!I211 -> 512730 | I12: ='6'!J211 -> 0 | J12: ='6'!K211 -> 0 | K12: ='6'!L211 -> 158236 | L12: ='6'!M211 -> 0 | M12: ='6'!N211 -> 2922991 | N12: ='6'!O211 -> 0 | O12: ='6'!P211 -> 0 | ... Q12: ='6'!R211 -> 0
C13: Önkormányzat összesen költségvetési szervek nélkül | D13: =SUM(D4:D12) -> 40589654104 | E13: =SUM(E4:E12) -> 44650461439 | F13: =SUM(F4:F12) -> 25182799930 | G13: =F13/E13*100 -> 56.399865 | H13: =SUM(H4:H12) -> 5176018797 | I13: =SUM(I4:I12) -> 3138708744 | J13: =SUM(J4:J12) -> 5324581376 | K13: =SUM(K4:K12) -> 1522911374 | L13: =SUM(L4:L12) -> 45683531 | M13: =SUM(M4:M12) -> 33537275 | N13: =SUM(N4:N12) -> 2715097 | O13: =SUM(O4:O12) -> 0 | ... Q13: =SUM(Q4:Q12) -> 5364180000
A14: 2 | C14: Költségvetési szervek | D14: 3700663570 | E14: 4156850640 | F14: ='6'!G213 -> 2822072733 | G14: =F14/E14*100 -> 67.889683 | H14: ='6'!I213 -> 804514563 | I14: ='6'!J213 -> 9250000 | J14: ='6'!K213 -> 3290000 | K14: ='6'!L213 -> 996188340 | L14: ='6'!M213 -> 107905 | M14: ='6'!N213 -> 605000 | N14: ='6'!O213 -> 728380 | O14: ='6'!P213 -> 0 | ... Q14: ='6'!R213 -> 0
C15: Önkormányzat összesen: | D15: =SUM(D13:D14) -> 44290317674 | E15: =SUM(E13:E14) -> 48807312079 | F15: =SUM(F13:F14) -> 28004872663 | G15: =F15/E15*100 -> 57.378437 | H15: =SUM(H13:H14) -> 5980533360 | I15: =SUM(I13:I14) -> 3147958744 | J15: =SUM(J13:J14) -> 5327871376 | K15: =SUM(K13:K14) -> 2519099714 | L15: =SUM(L13:L14) -> 45791436 | M15: =SUM(M13:M14) -> 34142275 | N15: =SUM(N13:N14) -> 3443477 | O15: =SUM(O13:O14) -> 0 | ... Q15: =SUM(Q13:Q14) -> 5364180000

Sheet 6
A1: Cím szám | B1: Alcím szám | C1: Megnevezés | D1: Tervezési alapegység | E1: Előirányzat | G1: Teljesítés | I1: Költségvetési bevételek | P1: Finanszírozási bevételek
E2: Eredeti | F2: Módosított | G2: Összege | H2: %-a | I2: Működési célú támogatások áht-n belülről | J2: Felhalmozási célú támogatások áht-n belülről | K2: Közhatalmi bevételek | L2: Működési bevételek | M2: Felhalmozási bevételek | N2: Működési célú átvett pénzeszközök | O2: Felhalmozási célú átvett pénzeszközök | P2: Hitel-, kölcsönfelvétel áht-n kívülről | Q2: Maradvány igénybevétele | R2: Egyéb finanszírozási bevétel
A3: 1 | C3: Önkormányzat
A4: 1 | B4: 1 | C4: Szakosztályok
A5: 1 | B5: 12 | C5: Szociális és igazgatási feladatok
C6: 011130 Önkorm. és önkorm. hivatal. jogalk. és ált.ig.tev.
C7: - Egerszeg kártya értékesítés | D7: 221902 | E7: 24000000 | F7: 24000000 | G7: =SUM(I7:R7) -> 10142000 | H7: =G7/F7*100 -> 42.258333 | L7: 10142000
C8: - igazgatási bírság | D8: 121602 | E8: 3000000 | F8: 3000000 | G8: =SUM(I8:R8) -> 1962839 | H8: =G8/F8*100 -> 65.427967 | K8: 1962839
C9: 107060 Egyéb szociális pénzbeli ellátások, támogatások | G9: =SUM(I9:R9) -> 0
C10: - köztemetés megtérítése | D10: 121203 | E10: 3000000 | F10: 3000000 | G10: =SUM(I10:R10) -> 2345828 | H10: =G10/F10*100 -> 78.194267 | I10: 663726 | N10: 1682102
C11: Önkormányzat által nyújtott lakástámogatás első lakáshoz jutók részére (Lakásalapból) | D11: 121401 | G11: =SUM(I11:R11) -> 926600 | O11: 926600
C12: Családok otthonteremtési kedvezménye (Lakásalap) | D12: 121405 | G12: =SUM(I12:R12) -> 728400 | O12: 728400
C13: Szociális és igazgatási feladatok összesen: | E13: =SUM(E7:E12) -> 30000000 | F13: =SUM(F7:F12) -> 30000000 | G13: =SUM(G7:G12) -> 16105667 | H13: =G13/F13*100 -> 53.685557 | I13: =SUM(I7:I12) -> 663726 | J13: =SUM(J7:J12) -> 0 | K13: =SUM(K7:K12) -> 1962839 | L13: =SUM(L7:L12) -> 10142000 | M13: =SUM(M7:M12) -> 0 | N13: =SUM(N7:N12) -> 1682102 | O13: =SUM(O7:O12) -> 1655000 | P13: =SUM(P7:P12) -> 0 | ... R13: =SUM(R7:R12) -> 0
A14: 1 | B14: 13 | C14: Humánigazgatási feladatok
C15: 074052 Kábítószer megelőzés programja
C16: - Zalaegerszegi Kábítószerügyi Egyeztető Fórum | D16: 131120 | F16: 2850000 | G16: =SUM(I16:R16) -> 2850000 | H16: =G16/F16*100 -> 100 | I16: 2850000
C17: 082091 Közművelődés - közösségi és társ. részvétel fejleszt.
C18: - Zalaegerszegi Rendezvényszervező Kft. visszafizetés | D18: 131313 | G18: =SUM(I18:R18) -> 300 | N18: 300
C19: - Egerszegi Advent | D19: 131329 | G19: =SUM(I19:R19) -> 100000 | N19: 100000
C20: 101211 Fogyatékossággal élők tartós bentlakásos ellátása | G20: =SUM(I20:R20) -> 0
C21: - Református Egyház által fizetendő bérleti díj | D21: 131703 | E21: 9519000 | F21: 9519000 | G21: =SUM(I21:R21) -> 4759424 | H21: =G21/F21*100 -> 49.999202 | L21: 4759424
C22: 109010 Szociális szolgáltatás igazgatása
C23: - Városi Idősügyi Tanács feladatai támogatás visszafizetése | D23: 131706 | G23: =SUM(I23:R23) -> 4515 | N23: 4515
C24: 018030 Támogatási célú finanszírozási műveletek
C25: - Mindszentyneum állami támogatása | D25: 131513 | E25: 150000000 | F25: 150000000 | G25: =SUM(I25:R25) -> 150000000 | H25: =G25/F25*100 -> 100 | I25: 150000000
C26: 081030 Sportlétes., edzőtáborok működtetése és fejlesztése | G26: =SUM(I26:R26) -> 0
C27: - Zalaegerszegi Sport és Tanuszoda műk. támogatása a Honvédelmi Minisztériumtól | D27: 191801 | F27: 140000000 | G27: =SUM(I27:R27) -> 140000000 | H27: =G27/F27*100 -> 100 | I27: 140000000
C28: 098010 Oktatás igazgatása
C29: - Zeg. Felsőfokú Oktatásáért Közalapítvány támogatása | D29: 131107 | G29: =SUM(I29:R29) -> 369982 | N29: 369982
C30: - szakképzési ösztöndíj támogatásból visszafizetés | D30: 131112 | G30: =SUM(I30:R30) -> 27720 | I30: 27720
C31: 104031 Gyermekek bölcsődében, minibölcsődében történő ellátása
C32: - Bölcsődei ellátás biztosítása | D32: 131717 | G32: =SUM(I32:R32) -> 794990 | I32: 794990
C33: - Uszodafejlesztés | D33: 132953 | G33: =SUM(I33:R33) -> 27867 | O33: 27867
C34: Humánigazgatási feladatok összesen: | E34: =SUM(E14:E33) -> 159519000 | F34: =SUM(F14:F33) -> 302369000 | G34: =SUM(G14:G33) -> 298934798 | H34: =G34/F34*100 -> 98.864235 | I34: =SUM(I14:I33) -> 293672710 | J34: =SUM(J14:J33) -> 0 | K34: =SUM(K14:K33) -> 0 | L34: =SUM(L14:L33) -> 4759424 | M34: =SUM(M14:M33) -> 0 | N34: =SUM(N14:N33) -> 474797 | O34: =SUM(O14:O33) -> 27867 | P34: =SUM(P14:P33) -> 0 | ... R34: =SUM(R14:R33) -> 0
A35: 1 | B35: 14 | C35: Főépítészi feladatok
C36: 013350 Önk-i vagyonnal való gazdálkodáshoz kapcs.fa.
C37: - belterületbe vonással kapcsolatos bevétel | D37: 171967 | E37: 5080000 | F37: 5080000 | G37: =SUM(I37:R37) -> 0 | H37: =G37/F37*100 -> 0
C38: Főépítészi feladatok összesen: | E38: =SUM(E35:E37) -> 5080000 | F38: =SUM(F35:F37) -> 5080000 | G38: =SUM(G35:G37) -> 0 | H38: =G38/F38*100 -> 0 | I38: =SUM(I35:I37) -> 0 | J38: =SUM(J35:J37) -> 0 | K38: =SUM(K35:K37) -> 0 | L38: =SUM(L35:L37) -> 0 | M38: =SUM(M35:M37) -> 0 | N38: =SUM(N35:N37) -> 0 | O38: =SUM(O35:O37) -> 0 | P38: =SUM(P35:P37) -> 0 | ... R38: =SUM(R35:R37) -> 0
A39: 1 | B39: 15 | C39: Városüzemeltetési feladatok
C40: 081061 Szabadidős park, fürdő és strandszolgáltatás
...

Sheet 7
A1: Cím szám | B1: Alcím szám | C1: Megnevezés | D1: Előirányzat | F1: Teljesítés | H1: Költségvetési kiadások | P1: Finanszírozási kiadások
D2: Eredeti | E2: Módosított | F2: Összege | G2: %-a | H2: Személyi juttatások | I2: Munkaadókat terhelő járulékok és szociális hj.adó | J2: Dologi kiadások | K2: Ellátottak pénzbeli juttatásai | L2: Egyéb működési célú kiadások | M2: Beruházások | N2: Felújítások | O2: Egyéb felhalmo-zási célú kiadások | P2: Hitel-, kölcsöntör-lesztés áht-n kívülre | Q2: Egyéb finanszírozási kiadás
A3: 1 | C3: Önkormányzat
A4: 1 | B4: 1 | C4: Szakosztályok
B5: 12 | C5: Szociális és igazgatási feladatok | D5: 183013453 | E5: 174136503 | F5: =SUM(H5:Q5) -> 58851171 | G5: =F5/E5*100 -> 33.795999 | H5: ='8'!K45 -> 0 | I5: ='8'!L45 -> 928425 | J5: ='8'!M45 -> 20149928 | K5: ='8'!N45 -> 32455818 | L5: ='8'!O45 -> 5317000 | M5: ='8'!P45 -> 0 | N5: ='8'!Q45 -> 0 | O5: ='8'!R45 -> 0 | ... Q5: ='8'!T45 -> 0
B6: 13 | C6: Humánigazgatási feladatok | D6: 1470096161 | E6: 1596356161 | F6: =SUM(H6:Q6) -> 1059366717 | G6: =F6/E6*100 -> 66.361552 | H6: ='8'!K185 -> 3965231 | I6: ='8'!L185 -> 1074672 | J6: ='8'!M185 -> 11857779 | K6: ='8'!N185 -> 5300000 | L6: ='8'!O185 -> 1036958865 | M6: ='8'!P185 -> 210170 | N6: ='8'!Q185 -> 0 | O6: ='8'!R185 -> 0 | ... Q6: ='8'!T185 -> 0
B7: 14 | C7: Főépítészi feladatok | D7: 35652900 | E7: 35652900 | F7: =SUM(H7:Q7) -> 6112550 | G7: =F7/E7*100 -> 17.144608 | H7: ='8'!K197 -> 160000 | I7: ='8'!L197 -> 0 | J7: ='8'!M197 -> 776400 | K7: ='8'!N197 -> 0 | L7: ='8'!O197 -> 0 | M7: ='8'!P197 -> 5176150 | N7: ='8'!Q197 -> 0 | O7: ='8'!R197 -> 0 | ... Q7: ='8'!T197 -> 0
B8: 15 | C8: Városüzemeltetési feladatok | D8: 4780978284 | E8: 4918021820 | F8: =SUM(H8:Q8) -> 1819839848 | G8: =F8/E8*100 -> 37.003493 | H8: ='8'!K323 -> 8230684 | I8: ='8'!L323 -> 1175906 | J8: ='8'!M323 -> 1171412206 | K8: ='8'!N323 -> 0 | L8: ='8'!O323 -> 498031814 | M8: ='8'!P323 -> 29467435 | N8: ='8'!Q323 -> 111521803 | O8: ='8'!R323 -> 0 | ... Q8: ='8'!T323 -> 0
B9: 16 | C9: Városépítészeti feladatok | D9: 12445694932 | E9: 15466321432 | F9: =SUM(H9:Q9) -> 2058547861 | G9: =F9/E9*100 -> 13.309874 | H9: ='8'!K449 -> 0 | I9: ='8'!L449 -> 34643 | J9: ='8'!M449 -> 402110056 | K9: ='8'!N449 -> 0 | L9: ='8'!O449 -> 540000 | M9: ='8'!P449 -> 796560598 | N9: ='8'!Q449 -> 826247832 | O9: ='8'!R449 -> 33054732 | ... Q9: ='8'!T449 -> 0
B10: 17 | C10: Vagyonkezelési feladatok | D10: 202468291 | E10: 212647711 | F10: =SUM(H10:Q10) -> 56291676 | G10: =F10/E10*100 -> 26.4718 | H10: ='8'!K467 -> 0 | I10: ='8'!L467 -> 0 | J10: ='8'!M467 -> 53959143 | K10: ='8'!N467 -> 0 | L10: ='8'!O467 -> 0 | M10: ='8'!P467 -> 207508 | N10: ='8'!Q467 -> 2125025 | O10: ='8'!R467 -> 0 | ... Q10: ='8'!T467 -> 0
B11: 18 | C11: Jogi és közig.feladatok | D11: 753817822 | E11: 755097822 | F11: =SUM(H11:Q11) -> 322457938 | G11: =F11/E11*100 -> 42.704128 | H11: ='8'!K493 -> 197081434 | I11: ='8'!L493 -> 22024541 | J11: ='8'!M493 -> 73644367 | K11: ='8'!N493 -> 0 | L11: ='8'!O493 -> 14340000 | M11: ='8'!P493 -> 14407794 | N11: ='8'!Q493 -> 959802 | O11: ='8'!R493 -> 0 | ... Q11: ='8'!T493 -> 0
B12: 19 | C12: Pénzügyi lebonyolítás | D12: 9.2320445e+09 | E12: 9845749731 | F12: =SUM(H12:Q12) -> 6745314558 | G12: =F12/E12*100 -> 68.509913 | H12: ='8'!K523 -> 12182099 | I12: ='8'!L523 -> 2207595 | J12: ='8'!M523 -> 254737123 | K12: ='8'!N523 -> 0 | L12: ='8'!O523 -> 1679819100 | M12: ='8'!P523 -> 0 | N12: ='8'!Q523 -> 0 | O12: ='8'!R523 -> 3425357 | ... Q12: ='8'!T523 -> 4734017650
B13: 22 | C13: Polgármesteri Kabinet kiadásai | D13: 750209270 | E13: 760169449 | F13: =SUM(H13:Q13) -> 334040803 | G13: =F13/E13*100 -> 43.94294 | H13: ='8'!K563 -> 25507050 | I13: ='8'!L563 -> 10285453 | J13: ='8'!M563 -> 73064456 | K13: ='8'!N563 -> 0 | L13: ='8'!O563 -> 222486462 | M13: ='8'!P563 -> 2697382 | N13: ='8'!Q563 -> 0 | O13: ='8'!R563 -> 0 | ... Q13: ='8'!T563 -> 0
B14: 30 | C14: Tartalékok | D14: 590609897 | E14: 582894082 | F14: =SUM(H14:Q14) -> 0 | G14: =F14/E14*100 -> 0 | H14: ='8'!K577 -> 0 | I14: ='8'!L577 -> 0 | J14: ='8'!M577 -> 0 | K14: ='8'!N577 -> 0 | L14: ='8'!O577 -> 0 | M14: ='8'!P577 -> 0 | N14: ='8'!Q577 -> 0 | O14: ='8'!R577 -> 0 | ... Q14: ='8'!T577 -> 0
C15: Önkormányzat összesen költségvetési szervek nélkül | D15: =SUM(D5:D14) -> 3.0444586e+10 | E15: =SUM(E5:E14) -> 34347047611 | F15: =SUM(F5:F14) -> 12460823122 | G15: =F15/E15*100 -> 36.279168 | H15: =SUM(H5:H14) -> 247126498 | I15: =SUM(I5:I14) -> 37731235 | J15: =SUM(J5:J14) -> 2061711458 | K15: =SUM(K5:K14) -> 37755818 | L15: =SUM(L5:L14) -> 3457493241 | M15: =SUM(M5:M14) -> 848727037 | N15: =SUM(N5:N14) -> 940854462 | O15: =SUM(O5:O14) -> 36480089 | ... Q15: =SUM(Q5:Q14) -> 4734017650
A16: 2 | C16: Költségvetési szervek | D16: 13845732153 | E16: 14460264468 | F16: =SUM(H16:Q16) -> 7079181703 | G16: =F16/E16*100 -> 48.956101 | H16: ='8'!K579 -> 4087951789 | I16: ='8'!L579 -> 565339582 | J16: ='8'!M579 -> 2219971974 | K16: ='8'!N579 -> 875000 | L16: ='8'!O579 -> 96577888 | M16: ='8'!P579 -> 103050513 | N16: ='8'!Q579 -> 5414957 | O16: ='8'!R579 -> 0 | ... Q16: ='8'!T579 -> 0
C17: Önkormányzat összesen: | D17: =SUM(D15:D16) -> 4.4290318e+10 | E17: =SUM(E15:E16) -> 48807312079 | F17: =SUM(F15:F16) -> 19540004825 | G17: =F17/E17*100 -> 40.034995 | H17: =SUM(H15:H16) -> 4335078287 | I17: =SUM(I15:I16) -> 603070817 | J17: =SUM(J15:J16) -> 4281683432 | K17: =SUM(K15:K16) -> 38630818 | L17: =SUM(L15:L16) -> 3554071129 | M17: =SUM(M15:M16) -> 951777550 | N17: =SUM(N15:N16) -> 946269419 | O17: =SUM(O15:O16) -> 36480089 | ... Q17: =SUM(Q15:Q16) -> 4734017650

Sheet 8
A1: Cím szám | B1: Alcím szám | C1: Sorszám | D1: Megnevezés | E1: feladat jellege | F1: Tervezési alapegység | G1: Előirányzat | I1: Teljesítés | K1: Költségvetési kiadások | S1: Finanszírozási kiadások
G2: Eredeti | H2: Módosított | I2: Összege | J2: %-a | K2: Személyi juttatások | L2: Munkaadókat terhelő járulékok és szociális hj.adó | M2: Dologi kiadások | N2: Ellátottak pénzbeli juttatásai | O2: Egyéb működési célú kiadások | P2: Beruházások | Q2: Felújítások | R2: Egyéb felhalmozási célú kiadások | S2: Hitel-, kölcsöntör-lesztés áht-n kívülre | T2: Egyéb finanszírozási kiadás
A3: 1 | D3: Önkormányzat
A4: 1 | B4: 1 | D4: Szakosztályok
A5: 1 | B5: 12 | D5: Szociális és igazgatási feladatok
D6: 105010 Munkanélküli aktív korúak ellátásai
D7: - megélhetési támogatás | E7: 2 | F7: 121103 | G7: 5000000 | H7: 5000000 | I7: =SUM(K7:T7) -> 957600 | J7: =I7/H7*100 -> 19.152 | N7: 957600
D8: 106020 Lakásfenntartással, lakhatással összefüggő ellátások
D9: - lakásfenntartási segély | E9: 2 | F9: 121104 | G9: 20000000 | H9: 20000000 | I9: =SUM(K9:T9) -> 8246000 | J9: =I9/H9*100 -> 41.23 | N9: 8246000
D10: - önkormányzati bérlakásban élők lakásfenntartási segélye Lakásalapból | E10: 2 | F10: 121117 | G10: 9000000 | H10: 9000000 | I10: =SUM(K10:T10) -> 2974000 | J10: =I10/H10*100 -> 33.044444 | N10: 2974000
D11: - gázártámogatás | E11: 2 | F11: 121202 | G11: 3900000 | H11: 3900000 | I11: =SUM(K11:T11) -> 0 | J11: =I11/H11*100 -> 0
D12: - villamosenergia támogatás | E12: 2 | F12: 121205 | G12: 3900000 | H12: 3900000 | I12: =SUM(K12:T12) -> 16675 | J12: =I12/H12*100 -> 0.4275641 | N12: 16675
D13: 107060 Egyéb szociális pénzbeli ellátások, támogatások
D14: - gyermekétkeztetési támogatás | E14: 2 | F14: 121111 | G14: 2000000 | H14: 2000000 | I14: =SUM(K14:T14) -> 1158135 | J14: =I14/H14*100 -> 57.90675 | N14: 1158135
D15: - átmeneti segély | E15: 2 | F15: 121127 | G15: 4000000 | H15: 4000000 | I15: =SUM(K15:T15) -> 2963988 | J15: =I15/H15*100 -> 74.0997 | N15: 2963988
D16: - egyszeri nevelési juttatás | E16: 2 | F16: 121115 | G16: 1650000 | H16: 1650000 | I16: =SUM(K16:T16) -> 0 | J16: =I16/H16*100 -> 0
D17: - szociális krízis alap | E17: 2 | F17: 121129 | G17: 3600000 | H17: 3600000 | I17: =SUM(K17:T17) -> 1997263 | J17: =I17/H17*100 -> 55.479528 | N17: 1997263
D18: - tűzifa támogatás | E18: 2 | F18: 121106 | G18: 4500000 | H18: 4500000 | I18: =SUM(K18:T18) -> 2565000 | J18: =I18/H18*100 -> 57 | N18: 2565000
D19: 103010 Elhunyt személyek hátramaradottainak pénzbeli ellátása
D20: - temetési segély | E20: 2 | F20: 121131 | G20: 2000000 | H20: 2000000 | I20: =SUM(K20:T20) -> 779100 | J20: =I20/H20*100 -> 38.955 | N20: 779100
D21: 106020 Lakásfenntartással, lakhatással összefüggő ellátások
D22: - lakhatási krízis alap Lakásalapból | E22: 2 | F22: 121130 | G22: 1000000 | H22: 1000000 | I22: =SUM(K22:T22) -> 0 | J22: =I22/H22*100 -> 0
D23: 107060 Egyéb szociális pénzbeli ellátások, támogatások
D24: - gyógyszertámogatás | E24: 1 | F24: 121204 | G24: 15616000 | H24: 15116000 | I24: =SUM(K24:T24) -> 3897000 | J24: =I24/H24*100 -> 25.78063 | N24: 3897000
D25: - gyógyászati segédeszköz-támogatás | E25: 1 | F25: 121132 | G25: 1500000 | H25: 1500000 | I25: =SUM(K25:T25) -> 312928 | J25: =I25/H25*100 -> 20.861867 | N25: 312928
D26: - köztemetés | E26: 1 | F26: 121203 | G26: 6500000 | H26: 6500000 | I26: =SUM(K26:T26) -> 3510300 | J26: =I26/H26*100 -> 54.004615 | M26: 742671 | N26: 2750629 | O26: 17000
D27: 094260 Hallgatói és oktatói ösztöndíjak, egyéb juttatások
D28: - Bursa Hungarica ösztöndíj | E28: 2 | F28: 121504 | G28: 6500000 | H28: 6500000 | I28: =SUM(K28:T28) -> 2800000 | J28: =I28/H28*100 -> 43.076923 | O28: 2800000
D29: 104042 Család- és gyermekjóléti szolgálat | I29: =SUM(K29:T29) -> 0
D30: - Családsegítő Szolgálathoz krízissegélyezés | E30: 1 | F30: 121301 | G30: 2500000 | H30: 0 | I30: =SUM(K30:T30) -> 0
D31: 011130 Önkorm. és önkorm. hivatal. jogalk. és ált.ig.tev.
D32: - Egerszegkártya | E32: 2 | F32: 221902 | G32: 64023952 | H32: 59497002 | I32: =SUM(K32:T32) -> 19245332 | J32: =I32/H32*100 -> 32.346726 | M32: 19245332
D33: - Nemzedékek kézfogása | E33: 2 | F33: 22190** | G33: 16923501 | H33: 16173501 | I33: =SUM(K33:T33) -> 4927850 | J33: =I33/H33*100 -> 30.468666 | L33: 928425 | M33: 161925 | N33: 3837500
D34: - bírtokvédelmi költség megelőlegezése | E34: 1 | F34: 121118 | G34: 200000 | H34: 0 | I34: =SUM(K34:T34) -> 0
D35: - talált tárgyak felértékeltetése | E35: 1 | F35: 121515 | G35: 200000 | H35: 200000 | I35: =SUM(K35:T35) -> 0 | J35: =I35/H35*100 -> 0
D36: 032020 Tűz- és katasztrófavéd. tevékenység | I36: =SUM(K36:T36) -> 0
D37: - helyi védelmi igazgatás | E37: 1 | F37: 121601 | G37: 500000 | H37: 100000 | I37: =SUM(K37:T37) -> 0 | J37: =I37/H37*100 -> 0
D38: 109010 Szociális szolgáltatás igazgatása | I38: =SUM(K38:T38) -> 0
D39: - "Lakhatásért" Közalapítvány támogatása | E39: 2 | F39: 121517 | G39: 5000000 | H39: 5000000 | I39: =SUM(K39:T39) -> 2500000 | J39: =I39/H39*100 -> 50 | O39: 2500000
D40: Szociális és igazgatási feladatok működési kiadása összesen: | G40: =SUM(G7:G39) -> 180013453 | H40: =SUM(H7:H39) -> 171136503 | I40: =SUM(I7:I39) -> 58851171 | J40: =I40/H40*100 -> 34.388438 | K40: =SUM(K7:K39) -> 0 | L40: =SUM(L7:L39) -> 928425 | M40: =SUM(M7:M39) -> 20149928 | N40: =SUM(N7:N39) -> 32455818 | O40: =SUM(O7:O39) -> 5317000 | P40: =SUM(P7:P39) -> 0 | Q40: =SUM(Q7:Q39) -> 0 | R40: =SUM(R7:R39) -> 0 | ... T40: =SUM(T7:T39) -> 0
...

Sheet 9
A1: Cím szám | B1: Sorszám | C1: Költségvetési szerv megnevezése | D1: Előirányzat | F1: Teljesítés | H1: Költségvetési bevételek | O1: Finanszírozási bevételek
D2: Eredeti | E2: Módosított | F2: Összege | G2: %-a | H2: Működési célú támogatások áht-n belülről | I2: Felhalmozási célú támogatások áht-n belülről | J2: Közhatalmi bevételek | K2: Működési bevételek | L2: Felhalmozási bevételek | M2: Működési célú átvett pénzeszközök | N2: Felhalmozási célú átvett pénzeszközök | O2: Maradvány igénybevétele | P2: Központi, irányító szervi támogatás | Q2: Egyéb finanszírozási bevétel
A3: 2 | C3: Költségvetési szervek
B4: 1 | C4: Polgármesteri Hivatal | D4: 2651314659 | E4: 2709646154 | F4: =SUM(H4:Q4) -> 1349756540 | G4: =F4/E4*100 -> 49.813019 | H4: 42792808 | J4: 3290000 | K4: 17725317 | L4: 90551 | O4: 58597840 | P4: 1227260024 | Q4: 0
B5: 2 | C5: Zalaegerszegi Gazdasági Ellátó Szervezet | D5: 2362959237 | E5: 2431963171 | F5: =SUM(H5:Q5) -> 1458475294 | G5: =F5/E5*100 -> 59.971109 | H5: 124883500 | K5: 388263149 | L5: 2787 | O5: 247187862 | P5: 698137996 | Q5: 0
B6: 3 | C6: Zalaegerszegi Egyesített Bölcsődék | D6: 1411740771 | E6: 1517000556 | F6: =SUM(H6:Q6) -> 784924734 | G6: =F6/E6*100 -> 51.741888 | K6: 77833333 | O6: 132848818 | P6: 574242583 | Q6: 0
B7: 4 | C7: Zalaegerszegi Család- és Gyermekjóléti Központ | D7: 422734128 | E7: 551237830 | F7: =SUM(H7:Q7) -> 331197114 | G7: =F7/E7*100 -> 60.082436 | K7: 426003 | O7: 136931873 | P7: 193839238 | Q7: 0
B8: 5 | C8: Zalaegerszegi Belvárosi I. számú Óvoda | D8: 755622630 | E8: 770397556 | F8: =SUM(H8:Q8) -> 387111558 | G8: =F8/E8*100 -> 50.248285 | K8: 11291017 | L8: 1575 | O8: 38821633 | P8: 336997333 | Q8: 0
B9: 6 | C9: Zalaegerszegi Belvárosi II. számú Óvoda | D9: 624827808 | E9: 650636449 | F9: =SUM(H9:Q9) -> 340581574 | G9: =F9/E9*100 -> 52.345911 | H9: 200000 | I9: 200000 | K9: 23680230 | N9: 546000 | O9: 30911722 | P9: 285043622 | Q9: 0
B10: 7 | C10: Zalaegerszegi Kertvárosi Óvoda | D10: 719884049 | E10: 727056381 | F10: =SUM(H10:Q10) -> 380730972 | G10: =F10/E10*100 -> 52.366086 | K10: 15441287 | L10: 787 | O10: 25375276 | P10: 339913622 | Q10: 0
B11: 8 | C11: Zalaegerszegi Landorhegyi Óvoda | D11: 675353199 | E11: 693737942 | F11: =SUM(H11:Q11) -> 355348823 | G11: =F11/E11*100 -> 51.222342 | K11: 14290768 | L11: 12205 | O11: 22176872 | P11: 318868978 | Q11: 0
B12: 9 | C12: Közgyűjteményi és Közművelődési GESZ | D12: 123644602 | E12: 126335290 | F12: =SUM(H12:Q12) -> 67313998 | G12: =F12/E12*100 -> 53.282023 | K12: 120877 | O12: 4944121 | P12: 62249000 | Q12: 0
B13: 10 | C13: Keresztury Dezső Városi Művelődési Központ | D13: 765091393 | E13: 803335789 | F13: =SUM(H13:Q13) -> 440079683 | G13: =F13/E13*100 -> 54.781536 | H13: 33899000 | I13: 9000000 | K13: 123853719 | M13: 305000 | O13: 26738723 | P13: 246283241 | Q13: 0
B14: 11 | C14: Zalaegerszegi Turisztikai Hivatal és Információs Iroda | D14: 34435000 | E14: 39081108 | F14: =SUM(H14:Q14) -> 19787222 | G14: =F14/E14*100 -> 50.631169 | H14: 2000000 | K14: 966739 | O14: 2146108 | P14: 14674375 | Q14: 0
B15: 12 | C15: Deák Ferenc Megyei és Városi Könyvtár | D15: 620405814 | E15: 640613281 | F15: =SUM(H15:Q15) -> 325665226 | G15: =F15/E15*100 -> 50.836477 | H15: 3150000 | I15: 50000 | K15: 15088802 | M15: 300000 | N15: 182380 | O15: 25422031 | P15: 281472013 | Q15: 0
B16: 13 | C16: Zalaegerszegi Múzeumok Igazgatósága | D16: 775865313 | E16: 853362492 | F16: =SUM(H16:Q16) -> 556507736 | G16: =F16/E16*100 -> 65.213522 | H16: 154261593 | K16: 61353178 | O16: 107338516 | P16: 233554449 | Q16: 0
B17: 14 | C17: Hevesi Sándor Színház | D17: 1332800330 | E17: 1353063239 | F17: =SUM(H17:Q17) -> 909754118 | G17: =F17/E17*100 -> 67.23663 | H17: 356427662 | K17: 145577841 | O17: 83614128 | P17: 324134487 | Q17: 0
B18: 15 | C18: Griff Bábszínház | D18: 236404983 | E18: 244417206 | F18: =SUM(H18:Q18) -> 169804009 | G18: =F18/E18*100 -> 69.473018 | H18: 86900000 | K18: 9326278 | O18: 15972316 | P18: 57605415 | Q18: 0
B19: 16 | C19: Városi Sportlétesítmény Gondnokság Intézménye | D19: 277021000 | E19: 279581489 | F19: =SUM(H19:Q19) -> 155842183 | G19: =F19/E19*100 -> 55.741238 | K19: 71859023 | O19: 21560489 | P19: 62422671 | Q19: 0
B20: 17 | C20: Vásárcsarnok | D20: 35332011 | E20: 43306491 | F20: =SUM(H20:Q20) -> 43306491 | G20: =F20/E20*100 -> 100 | K20: 11398104 | O20: 10968390 | P20: 20939997 | Q20: 0
B21: 18 | C21: Göcseji Tudásközpont - Zalaegerszegi Helyi Termék Piac | D21: 20295226 | E21: 25492044 | F21: =SUM(H21:Q21) -> 25492044 | G21: =F21/E21*100 -> 100 | K21: 7692675 | O21: 15831827 | P21: 1967542 | Q21: 0
C22: Költségvetési szervek mindösszesen: | D22: =SUM(D3:D21) -> 13845732153 | E22: =SUM(E3:E21) -> 14460264468 | F22: =SUM(F3:F21) -> 8101679319 | G22: =F22/E22*100 -> 56.027186 | H22: =SUM(H3:H21) -> 804514563 | I22: =SUM(I3:I21) -> 9250000 | J22: =SUM(J3:J21) -> 3290000 | K22: =SUM(K3:K21) -> 996188340 | L22: =SUM(L3:L21) -> 107905 | M22: =SUM(M3:M21) -> 605000 | N22: =SUM(N3:N21) -> 728380 | O22: =SUM(O3:O21) -> 1007388545 | ... Q22: =SUM(Q3:Q21) -> 0

Sheet 10
A1: Cím szám | B1: Sorszám | C1: Költségvetési szerv megnevezése | D1: Előirányzat | F1: Teljesítés | H1: Költségvetési kiadások | P1: Finanszírozási kiadások
D2: Eredeti | E2: Módosított | F2: összege | G2: %-a | H2: Személyi juttatások | I2: Munkaadókat terhelő járulékok és szociális hozzájárulási adó | J2: Dologi kiadások | K2: Ellátottak pénzbeli juttatásai | L2: Egyéb működési célú kiadások | M2: Beruházások | N2: Felújítások | O2: Egyéb felhalmozási célú kiadások
A3: 2 | C3: Költségvetési szervek
B4: 1 | C4: Polgármesteri Hivatal | D4: 2651314659 | E4: 2709646154 | F4: =SUM(H4:P4) -> 1346431355 | G4: =F4/E4*100 -> 49.690302 | H4: 1042314996 | I4: 159759542 | J4: 138271380 | M4: 6085437 | O4: 0 | P4: 0
B5: 2 | C5: Zalaegerszegi Gazdasági Ellátó Szervezet | D5: 2362959237 | E5: 2431963171 | F5: =SUM(H5:P5) -> 1241167359 | G5: =F5/E5*100 -> 51.035615 | H5: 187672112 | I5: 27591220 | J5: 1007452644 | L5: 15820000 | M5: 2334205 | N5: 297178 | O5: 0 | P5: 0
B6: 3 | C6: Zalaegerszegi Egyesített Bölcsődék | D6: 1411740771 | E6: 1517000556 | F6: =SUM(H6:P6) -> 723373402 | G6: =F6/E6*100 -> 47.684452 | H6: 504063320 | I6: 75474978 | J6: 106791003 | L6: 8475000 | M6: 27706244 | N6: 862857 | O6: 0 | P6: 0
B7: 4 | C7: Zalaegerszegi Család- és Gyermekjóléti Központ | D7: 422734128 | E7: 551237830 | F7: =SUM(H7:P7) -> 238049415 | G7: =F7/E7*100 -> 43.184521 | H7: 172246142 | I7: 23095183 | J7: 13237904 | K7: 875000 | L7: 28250000 | M7: 345186 | O7: 0 | P7: 0
B8: 5 | C8: Zalaegerszegi Belvárosi I. számú Óvoda | D8: 755622630 | E8: 770397556 | F8: =SUM(H8:P8) -> 364523542 | G8: =F8/E8*100 -> 47.31629 | H8: 275031612 | I8: 36912272 | J8: 52579658 | O8: 0 | P8: 0
B9: 6 | C9: Zalaegerszegi Belvárosi II. számú Óvoda | D9: 624827808 | E9: 650636449 | F9: =SUM(H9:P9) -> 310587443 | G9: =F9/E9*100 -> 47.735943 | H9: 200651225 | I9: 27677103 | J9: 78473694 | M9: 1216478 | N9: 2568943 | O9: 0 | P9: 0
B10: 7 | C10: Zalaegerszegi Kertvárosi Óvoda | D10: 719884049 | E10: 727056381 | F10: =SUM(H10:P10) -> 361719046 | G10: =F10/E10*100 -> 49.751169 | H10: 231723112 | I10: 32994579 | J10: 93452500 | M10: 2270620 | N10: 1278235 | O10: 0 | P10: 0
B11: 8 | C11: Zalaegerszegi Landorhegyi Óvoda | D11: 675353199 | E11: 693737942 | F11: =SUM(H11:P11) -> 329161985 | G11: =F11/E11*100 -> 47.447597 | H11: 240768692 | I11: 35787381 | J11: 51665808 | M11: 940104 | O11: 0 | P11: 0
B12: 9 | C12: Közgyűjteményi és Közművelődési GESZ | D12: 123644602 | E12: 126335290 | F12: =SUM(H12:P12) -> 65207262 | G12: =F12/E12*100 -> 51.614448 | H12: 55650715 | I12: 7548581 | J12: 1862836 | M12: 145130 | O12: 0 | P12: 0
B13: 10 | C13: Keresztury Dezső Városi Művelődési Központ | D13: 765091393 | E13: 803335789 | F13: =SUM(H13:P13) -> 399243721 | G13: =F13/E13*100 -> 49.698237 | H13: 190094551 | I13: 28483107 | J13: 175211720 | L13: 472730 | M13: 4981613 | O13: 0 | P13: 0
B14: 11 | C14: Zalaegerszegi Turisztikai Hivatal és Információs Iroda | D14: 34435000 | E14: 39081108 | F14: =SUM(H14:P14) -> 16339785 | G14: =F14/E14*100 -> 41.809933 | H14: 12562889 | I14: 1560104 | J14: 2144922 | M14: 71870 | O14: 0 | P14: 0
B15: 12 | C15: Deák Ferenc Megyei és Városi Könyvtár | D15: 620405814 | E15: 640613281 | F15: =SUM(H15:P15) -> 278367625 | G15: =F15/E15*100 -> 43.453302 | H15: 161457533 | I15: 22692812 | J15: 45357438 | L15: 13560000 | M15: 35299842 | O15: 0 | P15: 0
B16: 13 | C16: Zalaegerszegi Múzeumok Igazgatósága | D16: 775865313 | E16: 853362492 | F16: =SUM(H16:P16) -> 341459204 | G16: =F16/E16*100 -> 40.013383 | H16: 194132677 | I16: 25736011 | J16: 103644732 | L16: 14843716 | M16: 2694324 | N16: 407744 | O16: 0 | P16: 0
B17: 14 | C17: Hevesi Sándor Színház | D17: 1332800330 | E17: 1353063239 | F17: =SUM(H17:P17) -> 739305246 | G17: =F17/E17*100 -> 54.639371 | H17: 464488089 | I17: 43608359 | J17: 216344149 | L17: 496907 | M17: 14367742 | O17: 0 | P17: 0
B18: 15 | C18: Griff Bábszínház | D18: 236404983 | E18: 244417206 | F18: =SUM(H18:P18) -> 118375215 | G18: =F18/E18*100 -> 48.431621 | H18: 76632637 | I18: 6814308 | J18: 34039564 | M18: 888706 | O18: 0 | P18: 0
B19: 16 | C19: Városi Sportlétesítmény Gondnokság Intézménye | D19: 277021000 | E19: 279581489 | F19: =SUM(H19:P19) -> 137071563 | G19: =F19/E19*100 -> 49.02741 | H19: 58316465 | I19: 7363698 | J19: 67688388 | M19: 3703012 | O19: 0 | P19: 0
B20: 17 | C20: Vásárcsarnok | D20: 35332011 | E20: 43306491 | F20: =SUM(H20:P20) -> 43306491 | G20: =F20/E20*100 -> 100 | H20: 13244304 | I20: 1518463 | J20: 25016151 | L20: 3527573 | O20: 0 | P20: 0
B21: 18 | C21: Göcseji Tudásközpont - Zalaegerszegi Helyi Termék Piac | D21: 20295226 | E21: 25492044 | F21: =SUM(H21:P21) -> 25492044 | G21: =F21/E21*100 -> 100 | H21: 6900718 | I21: 721881 | J21: 6737483 | L21: 11131962 | O21: 0 | P21: 0
C22: Költségvetési szervek mindösszesen: | D22: =SUM(D3:D21) -> 13845732153 | E22: =SUM(E3:E21) -> 14460264468 | F22: =SUM(F3:F21) -> 7079181703 | G22: =F22/E22*100 -> 48.956101 | H22: =SUM(H3:H21) -> 4087951789 | I22: =SUM(I3:I21) -> 565339582 | J22: =SUM(J3:J21) -> 2219971974 | K22: =SUM(K3:K21) -> 875000 | L22: =SUM(L3:L21) -> 96577888 | M22: =SUM(M3:M21) -> 103050513 | N22: =SUM(N3:N21) -> 5414957 | O22: =SUM(O3:O21) -> 0 | P22: =SUM(P3:P21) -> 0
