Workbook

Sheet Babosdöbréte
A1: Gördülő fejlesztési terv a 2020 - 2034 időszakra
A2: BERUHÁZÁSOK ÖSSZEFOGLALÓ TÁBLÁZATA
A3: A tervet benyújtó szervezet megnevezése: | K3: BABOSDÖBRÉTE | R3: ellátásért felelős / ellátásért felelősök képviselője / víziközmű-szolgáltató *
A4: Víziközmű-szolgáltató megnevezése: | K4: ÉSZAK ZALAI VÍZ- ÉS CSATORNAMŰ ZÁRTKÖRŰEN MŰKÖDŐ RÉSZVÉNYTÁRSASÁG
A5: Víziközmű-szolgáltatási ágazat megnevezése: | K5: IVÓVÍZ ÁGAZAT
A6: Véleményeltérést megfogalmazó érintett fél megnevezése:
A7: Víziközmű-rendszer kódja: ** | K7: 11-32054-1-025-01-14 | R7: Zalaegerszeg-IV
A8: I. Felszín alatti vízkivétel
A9: Fontossági sorrend | B9: Felujítás és pótlás megnevezése | E9: Műszaki állapot felmérés, szükségességi indoklás | H9: Vízjogi létesítési/elvi engedély száma | I9: Az érintett ellátásért felelős(ök) megnevezése | J9: Tervezett nettó költség | K9: Forrás 2020 évre | L9: Megvalósítás időtartama | N9: Tervezett időtáv | O9: A beruházás ütemezése a tervezési időszak évei szerint
E10: Jelenlegi műszaki állapot | F10: Feladat szükségessége | G10: Megvalósítást követő várható műszaki állapot | J10: (eFt) | L10: Kezdés | M10: Befejezés | N10: (rövid / közép / hosszú) | O10: 1 | P10: 2 | Q10: 3 | R10: 4 | S10: 5 | T10: 6 | U10: 7 | V10: 8 | W10: 9 | X10: 10 | Y10: 11 | Z10: 12 | AA10: 13 | AB10: 14 | AC10: 15
B11: szakág | C11: Helyszín | D11: beruházás megnevezése
B13: MÉLYFÚRÁSÚ KÚT, HAGYOMÁNYOS ÁTMÉRŐVEL
B14: Épület, építmény
B16: Gép, berendezés
B18: Irányítástechnika, energiaellátás
B20: Összesen: | J20: =SUM(J12:J18) -> 0
A22: III. Vízműtelep és vízkezelő létesítmények
C23: Helyszín | D23: beruházás megnevezése
B24: VÍZMŰTELEP
B25: Épület, építmény
B27: Gép, berendezés
B29: Irányítástechnika, energiaellátás
B31: VÍZKEZELŐ LÉTESÍTMÉNYEK
B32: Épület, építmény
B34: Gép, berendezés
B36: Irányítástechnika, energiaellátás
B38: Összesen | J38: =SUM(J24:J37) -> 0
A40: IV. Vízelosztás
C41: Helyszín | D41: beruházás megnevezése
B42: IVÓVÍZHÁLÓZAT
B43: Épület, építmény
B45: Gép, berendezés
B47: Irányítástechnika, energiaellátás
B49: VÍZTÁROLÓK
B50: Épület, építmény
B52: Gép, berendezés
B54: Irányítástechnika, energiaellátás
B56: NYOMÁSFOKOZÓK
B57: Épület, építmény
B59: Gép, berendezés
B61: Irányítástechnika, energiaellátás
B63: Összesen: | J63: =SUM(J42:J62) -> 0 | K63: 0 | O63: =SUM(O11:O62) -> 0 | P63: =SUM(P11:P62) -> 0 | Q63: =SUM(Q11:Q62) -> 0 | R63: =SUM(R11:R62) -> 0 | S63: =SUM(S11:S62) -> 0 | T63: =SUM(T11:T62) -> 0 | U63: =SUM(U11:U62) -> 0 | V63: =SUM(V11:V62) -> 0 | ... AC63: =SUM(AC11:AC62) -> 0
B66: Tervezett feladatok nettó költsége a teljes ütem tekintetében (eFt) | C66: Rendelkezésre álló források számszerűsített értéke a teljes ütem tekintetében (eFt) | D66: Forrás megnevezése a teljes ütem tekintetében
A67: I. ütem | B67: =SUM(O63) -> 0 | C67: =K63 -> 0 | D67: Fejlesztési díj (2020)
A68: II. ütem | B68: =SUM(P63:S63) -> 0 | C68: =C67*4 -> 0 | D68: Fejlesztési díj (2021-2024)
A69: III. ütem | B69: =SUM(T63:AC63) -> 0 | C69: =C67*10 -> 0 | D69: Fejlesztési díj (2025-2034)
B72: Jelenleg beruházási igény nem ismert, nincs rendelkezésre álló forrás beruházásra.

Sheet Bagod
A1: Gördülő fejlesztési terv a 2020 - 2034 időszakra
A2: BERUHÁZÁSOK ÖSSZEFOGLALÓ TÁBLÁZATA
A3: A tervet benyújtó szervezet megnevezése: | K3: BAGOD | R3: ellátásért felelős / ellátásért felelősök képviselője / víziközmű-szolgáltató *
A4: Víziközmű-szolgáltató megnevezése: | K4: ÉSZAK ZALAI VÍZ- ÉS CSATORNAMŰ ZÁRTKÖRŰEN MŰKÖDŐ RÉSZVÉNYTÁRSASÁG
A5: Víziközmű-szolgáltatási ágazat megnevezése: | K5: IVÓVÍZ ÁGAZAT
A6: Véleményeltérést megfogalmazó érintett fél megnevezése:
A7: Víziközmű-rendszer kódja: ** | K7: 11-32054-1-025-01-14 | R7: Zalaegerszeg-IV
A8: I. Felszín alatti vízkivétel
A9: Fontossági sorrend | B9: Felujítás és pótlás megnevezése | E9: Műszaki állapot felmérés, szükségességi indoklás | H9: Vízjogi létesítési/elvi engedély száma | I9: Az érintett ellátásért felelős(ök) megnevezése | J9: Tervezett nettó költség | K9: Forrás 2020 évre | L9: Megvalósítás időtartama | N9: Tervezett időtáv | O9: A beruházás ütemezése a tervezési időszak évei szerint
E10: Jelenlegi műszaki állapot | F10: Feladat szükségessége | G10: Megvalósítást követő várható műszaki állapot | J10: (eFt) | L10: Kezdés | M10: Befejezés | N10: (rövid / közép / hosszú) | O10: 1 | P10: 2 | Q10: 3 | R10: 4 | S10: 5 | T10: 6 | U10: 7 | V10: 8 | W10: 9 | X10: 10 | Y10: 11 | Z10: 12 | AA10: 13 | AB10: 14 | AC10: 15
B11: szakág | C11: Helyszín | D11: beruházás megnevezése
B13: MÉLYFÚRÁSÚ KÚT, HAGYOMÁNYOS ÁTMÉRŐVEL
B14: Épület, építmény
B16: Gép, berendezés
B18: Irányítástechnika, energiaellátás
B20: Összesen: | J20: =SUM(J12:J19) -> 0
A22: III. Vízműtelep és vízkezelő létesítmények
C23: Helyszín | D23: beruházás megnevezése
B24: VÍZMŰTELEP
B25: Épület, építmény
B27: Gép, berendezés
B29: Irányítástechnika, energiaellátás
B31: VÍZKEZELŐ LÉTESÍTMÉNYEK
B32: Épület, építmény
B34: Gép, berendezés
B36: Irányítástechnika, energiaellátás
B38: Összesen | J38: =SUM(J24:J37) -> 0
A40: IV. Vízelosztás
C41: Helyszín | D41: beruházás megnevezése
B42: IVÓVÍZHÁLÓZAT
B43: Épület, építmény
B45: Gép, berendezés
B47: Irányítástechnika, energiaellátás
B49: VÍZTÁROLÓK
B50: Épület, építmény
B52: Gép, berendezés
B54: Irányítástechnika, energiaellátás
B56: NYOMÁSFOKOZÓK
B57: Épület, építmény
B59: Gép, berendezés
B61: Irányítástechnika, energiaellátás
B63: Összesen: | J63: =SUM(J42:J62) -> 0 | K63: 0 | O63: =SUM(O11:O62) -> 0 | P63: =SUM(P11:P62) -> 0 | Q63: =SUM(Q11:Q62) -> 0 | R63: =SUM(R11:R62) -> 0 | S63: =SUM(S11:S62) -> 0 | T63: =SUM(T11:T62) -> 0 | U63: =SUM(U11:U62) -> 0 | V63: =SUM(V11:V62) -> 0 | ... AC63: =SUM(AC11:AC62) -> 0
B66: Tervezett feladatok nettó költsége a teljes ütem tekintetében (eFt) | C66: Rendelkezésre álló források számszerűsített értéke a teljes ütem tekintetében (eFt) | D66: Forrás megnevezése a teljes ütem tekintetében
A67: I. ütem | B67: =SUM(O63) -> 0 | C67: =K63 -> 0 | D67: Fejlesztési díj (2020)
A68: II. ütem | B68: =SUM(P63:S63) -> 0 | C68: =C67*4 -> 0 | D68: Fejlesztési díj (2021-2024)
A69: III. ütem | B69: =SUM(T63:AC63) -> 0 | C69: =C67*10 -> 0 | D69: Fejlesztési díj (2025-2034)
B72: Jelenleg beruházási igény nem ismert, nincs rendelkezésre álló forrás beruházásra.

Sheet Becsvölgye
A1: Gördülő fejlesztési terv a 2020 - 2034 időszakra
A2: BERUHÁZÁSOK ÖSSZEFOGLALÓ TÁBLÁZATA
A3: A tervet benyújtó szervezet megnevezése: | K3: BECSVÖLGYE | R3: ellátásért felelős / ellátásért felelősök képviselője / víziközmű-szolgáltató *
A4: Víziközmű-szolgáltató megnevezése: | K4: ÉSZAK ZALAI VÍZ- ÉS CSATORNAMŰ ZÁRTKÖRŰEN MŰKÖDŐ RÉSZVÉNYTÁRSASÁG
A5: Víziközmű-szolgáltatási ágazat megnevezése: | K5: IVÓVÍZ ÁGAZAT
A6: Véleményeltérést megfogalmazó érintett fél megnevezése:
A7: Víziközmű-rendszer kódja: ** | K7: 11-32054-1-025-01-14 | R7: Zalaegerszeg-IV
A8: I. Felszín alatti vízkivétel
A9: Fontossági sorrend | B9: Felujítás és pótlás megnevezése | E9: Műszaki állapot felmérés, szükségességi indoklás | H9: Vízjogi létesítési/elvi engedély száma | I9: Az érintett ellátásért felelős(ök) megnevezése | J9: Tervezett nettó költség | K9: Forrás 2020 évre | L9: Megvalósítás időtartama | N9: Tervezett időtáv | O9: A beruházás ütemezése a tervezési időszak évei szerint
E10: Jelenlegi műszaki állapot | F10: Feladat szükségessége | G10: Megvalósítást követő várható műszaki állapot | J10: (eFt) | L10: Kezdés | M10: Befejezés | N10: (rövid / közép / hosszú) | O10: 1 | P10: 2 | Q10: 3 | R10: 4 | S10: 5 | T10: 6 | U10: 7 | V10: 8 | W10: 9 | X10: 10 | Y10: 11 | Z10: 12 | AA10: 13 | AB10: 14 | AC10: 15
B11: szakág | C11: Helyszín | D11: beruházás megnevezése
B13: MÉLYFÚRÁSÚ KÚT, HAGYOMÁNYOS ÁTMÉRŐVEL
B14: Épület, építmény
B16: Gép, berendezés
B18: Irányítástechnika, energiaellátás
B20: Összesen: | J20: =SUM(J12:J19) -> 0
A22: III. Vízműtelep és vízkezelő létesítmények
C23: Helyszín | D23: beruházás megnevezése
B24: VÍZMŰTELEP
B25: Épület, építmény
B27: Gép, berendezés
B29: Irányítástechnika, energiaellátás
B31: VÍZKEZELŐ LÉTESÍTMÉNYEK
B32: Épület, építmény
B34: Gép, berendezés
B36: Irányítástechnika, energiaellátás
B38: Összesen | J38: =SUM(J24:J37) -> 0
A40: IV. Vízelosztás
C41: Helyszín | D41: beruházás megnevezése
B42: IVÓVÍZHÁLÓZAT
B43: Épület, építmény
B45: Gép, berendezés
B47: Irányítástechnika, energiaellátás
B49: VÍZTÁROLÓK
B50: Épület, építmény
B52: Gép, berendezés
B54: Irányítástechnika, energiaellátás
B56: NYOMÁSFOKOZÓK
B57: Épület, építmény
B59: Gép, berendezés
B61: Irányítástechnika, energiaellátás
B63: Összesen: | J63: =SUM(J42:J62) -> 0 | K63: 0 | O63: =SUM(O11:O62) -> 0 | P63: =SUM(P11:P62) -> 0 | Q63: =SUM(Q11:Q62) -> 0 | R63: =SUM(R11:R62) -> 0 | S63: =SUM(S11:S62) -> 0 | T63: =SUM(T11:T62) -> 0 | U63: =SUM(U11:U62) -> 0 | V63: =SUM(V11:V62) -> 0 | ... AC63: =SUM(AC11:AC62) -> 0
B66: Tervezett feladatok nettó költsége a teljes ütem tekintetében (eFt) | C66: Rendelkezésre álló források számszerűsített értéke a teljes ütem tekintetében (eFt) | D66: Forrás megnevezése a teljes ütem tekintetében
A67: I. ütem | B67: =SUM(O63) -> 0 | C67: =K63 -> 0 | D67: Fejlesztési díj (2020)
A68: II. ütem | B68: =SUM(P63:S63) -> 0 | C68: =C67*4 -> 0 | D68: Fejlesztési díj (2021-2024)
A69: III. ütem | B69: =SUM(T63:AC63) -> 0 | C69: =C67*10 -> 0 | D69: Fejlesztési díj (2025-2034)
B72: Jelenleg beruházási igény nem ismert, nincs rendelkezésre álló forrás beruházásra.

Sheet Bocfölde
A1: Gördülő fejlesztési terv a 2020 - 2034 időszakra
A2: BERUHÁZÁSOK ÖSSZEFOGLALÓ TÁBLÁZATA
A3: A tervet benyújtó szervezet megnevezése: | K3: BOCFÖLDE | R3: ellátásért felelős / ellátásért felelősök képviselője / víziközmű-szolgáltató *
A4: Víziközmű-szolgáltató megnevezése: | K4: ÉSZAK ZALAI VÍZ- ÉS CSATORNAMŰ ZÁRTKÖRŰEN MŰKÖDŐ RÉSZVÉNYTÁRSASÁG
A5: Víziközmű-szolgáltatási ágazat megnevezése: | K5: IVÓVÍZ ÁGAZAT
A6: Véleményeltérést megfogalmazó érintett fél megnevezése:
A7: Víziközmű-rendszer kódja: ** | K7: 11-32054-1-025-01-14 | R7: Zalaegerszeg-IV
A8: I. Felszín alatti vízkivétel
A9: Fontossági sorrend | B9: Felujítás és pótlás megnevezése | E9: Műszaki állapot felmérés, szükségességi indoklás | H9: Vízjogi létesítési/elvi engedély száma | I9: Az érintett ellátásért felelős(ök) megnevezése | J9: Tervezett nettó költség | K9: Forrás 2020 évre | L9: Megvalósítás időtartama | N9: Tervezett időtáv | O9: A beruházás ütemezése a tervezési időszak évei szerint
E10: Jelenlegi műszaki állapot | F10: Feladat szükségessége | G10: Megvalósítást követő várható műszaki állapot | J10: (eFt) | L10: Kezdés | M10: Befejezés | N10: (rövid / közép / hosszú) | O10: 1 | P10: 2 | Q10: 3 | R10: 4 | S10: 5 | T10: 6 | U10: 7 | V10: 8 | W10: 9 | X10: 10 | Y10: 11 | Z10: 12 | AA10: 13 | AB10: 14 | AC10: 15
B11: szakág | C11: Helyszín | D11: beruházás megnevezése
B13: MÉLYFÚRÁSÚ KÚT, HAGYOMÁNYOS ÁTMÉRŐVEL
B14: Épület, építmény
B16: Gép, berendezés
B18: Irányítástechnika, energiaellátás
B20: Összesen: | J20: =SUM(J12:J19) -> 0
A22: III. Vízműtelep és vízkezelő létesítmények
C23: Helyszín | D23: beruházás megnevezése
B24: VÍZMŰTELEP
B25: Épület, építmény
B27: Gép, berendezés
B29: Irányítástechnika, energiaellátás
B31: VÍZKEZELŐ LÉTESÍTMÉNYEK
B32: Épület, építmény
B34: Gép, berendezés
B36: Irányítástechnika, energiaellátás
B38: Összesen | J38: =SUM(J24:J37) -> 0
A40: IV. Vízelosztás
C41: Helyszín | D41: beruházás megnevezése
B42: IVÓVÍZHÁLÓZAT
B43: Épület, építmény
B45: Gép, berendezés
B47: Irányítástechnika, energiaellátás
B49: VÍZTÁROLÓK
B50: Épület, építmény
B52: Gép, berendezés
B54: Irányítástechnika, energiaellátás
B56: NYOMÁSFOKOZÓK
B57: Épület, építmény
B59: Gép, berendezés
B61: Irányítástechnika, energiaellátás
B63: Összesen: | J63: =SUM(J42:J62) -> 0 | K63: =SUM(C67:C68) -> 0 | O63: =SUM(O12:O62) -> 0 | P63: =SUM(P12:P62) -> 0 | Q63: =SUM(Q12:Q62) -> 0 | R63: =SUM(R12:R62) -> 0 | S63: =SUM(S12:S62) -> 0 | T63: =SUM(T12:T62) -> 0 | U63: =SUM(U12:U62) -> 0 | V63: =SUM(V12:V62) -> 0 | ... AC63: =SUM(AC12:AC62) -> 0
B66: Tervezett feladatok nettó költsége a teljes ütem tekintetében (eFt) | C66: Rendelkezésre álló források számszerűsített értéke a teljes ütem tekintetében (eFt) | D66: Forrás megnevezése a teljes ütem tekintetében
A67: I. ütem | B67: =SUM(O63) -> 0 | C67: =K62 -> 0 | D67: Fejlesztési díj (2020)
A68: I. ütem | C68: 0 | D68: viziközmű fejlesztési hozzájárulás
A69: II. ütem | B69: =SUM(P63:S63) -> 0 | C69: =C67*4 -> 0 | D69: Fejlesztési díj (2021-2024)
A70: III. ütem | B70: =SUM(T63:AC63) -> 0 | C70: =C67*10 -> 0 | D70: Fejlesztési díj (2025-2034)
B73: Jelenleg beruházási igény nem ismert.

Sheet Boncodfölde
A1: Gördülő fejlesztési terv a 2020 - 2034 időszakra
A2: BERUHÁZÁSOK ÖSSZEFOGLALÓ TÁBLÁZATA
A3: A tervet benyújtó szervezet megnevezése: | K3: BONCODFÖLDE | R3: ellátásért felelős / ellátásért felelősök képviselője / víziközmű-szolgáltató *
A4: Víziközmű-szolgáltató megnevezése: | K4: ÉSZAK ZALAI VÍZ- ÉS CSATORNAMŰ ZÁRTKÖRŰEN MŰKÖDŐ RÉSZVÉNYTÁRSASÁG
A5: Víziközmű-szolgáltatási ágazat megnevezése: | K5: IVÓVÍZ ÁGAZAT
A6: Véleményeltérést megfogalmazó érintett fél megnevezése:
A7: Víziközmű-rendszer kódja: ** | K7: 11-32054-1-025-01-14 | R7: Zalaegerszeg-IV
A8: I. Felszín alatti vízkivétel
A9: Fontossági sorrend | B9: Felujítás és pótlás megnevezése | E9: Műszaki állapot felmérés, szükségességi indoklás | H9: Vízjogi létesítési/elvi engedély száma | I9: Az érintett ellátásért felelős(ök) megnevezése | J9: Tervezett nettó költség | K9: Forrás 2020 évre | L9: Megvalósítás időtartama | N9: Tervezett időtáv | O9: A beruházás ütemezése a tervezési időszak évei szerint
E10: Jelenlegi műszaki állapot | F10: Feladat szükségessége | G10: Megvalósítást követő várható műszaki állapot | J10: (eFt) | L10: Kezdés | M10: Befejezés | N10: (rövid / közép / hosszú) | O10: 1 | P10: 2 | Q10: 3 | R10: 4 | S10: 5 | T10: 6 | U10: 7 | V10: 8 | W10: 9 | X10: 10 | Y10: 11 | Z10: 12 | AA10: 13 | AB10: 14 | AC10: 15
B11: szakág | C11: Helyszín | D11: beruházás megnevezése
B13: MÉLYFÚRÁSÚ KÚT, HAGYOMÁNYOS ÁTMÉRŐVEL
B14: Épület, építmény
B16: Gép, berendezés
B18: Irányítástechnika, energiaellátás
B20: Összesen: | J20: =SUM(J12:J19) -> 0
A22: III. Vízműtelep és vízkezelő létesítmények
C23: Helyszín | D23: beruházás megnevezése
B24: VÍZMŰTELEP
B25: Épület, építmény
B27: Gép, berendezés
B29: Irányítástechnika, energiaellátás
B31: VÍZKEZELŐ LÉTESÍTMÉNYEK
B32: Épület, építmény
B34: Gép, berendezés
B36: Irányítástechnika, energiaellátás
B38: Összesen | J38: =SUM(J24:J37) -> 0
A40: IV. Vízelosztás
C41: Helyszín | D41: beruházás megnevezése
B42: IVÓVÍZHÁLÓZAT
B43: Épület, építmény
B45: Gép, berendezés
B47: Irányítástechnika, energiaellátás
B49: VÍZTÁROLÓK
B50: Épület, építmény
B52: Gép, berendezés
B54: Irányítástechnika, energiaellátás
B56: NYOMÁSFOKOZÓK
B57: Épület, építmény
B59: Gép, berendezés
B61: Irányítástechnika, energiaellátás
B63: Összesen: | J63: =SUM(J42:J62) -> 0 | K63: 0 | O63: =SUM(O12:O62) -> 0 | P63: =SUM(P12:P62) -> 0 | Q63: =SUM(Q12:Q62) -> 0 | R63: =SUM(R12:R62) -> 0 | S63: =SUM(S12:S62) -> 0 | T63: =SUM(T12:T62) -> 0 | U63: =SUM(U12:U62) -> 0 | V63: =SUM(V12:V62) -> 0 | ... AC63: =SUM(AC12:AC62) -> 0
B66: Tervezett feladatok nettó költsége a teljes ütem tekintetében (eFt) | C66: Rendelkezésre álló források számszerűsített értéke a teljes ütem tekintetében (eFt) | D66: Forrás megnevezése a teljes ütem tekintetében
A67: I. ütem | B67: =SUM(O63) -> 0 | C67: =K63 -> 0 | D67: Fejlesztési díj (2020)
A68: II. ütem | B68: =SUM(P63:S63) -> 0 | C68: =C67*4 -> 0 | D68: Fejlesztési díj (2021-2024)
A69: III. ütem | B69: =SUM(T63:AC63) -> 0 | C69: =C67*10 -> 0 | D69: Fejlesztési díj (2025-2034)
B72: Jelenleg beruházási igény nem ismert, nincs rendelkezésre álló forrás beruházásra.

Sheet Böde
A1: Gördülő fejlesztési terv a 2020 - 2034 időszakra
A2: BERUHÁZÁSOK ÖSSZEFOGLALÓ TÁBLÁZATA
A3: A tervet benyújtó szervezet megnevezése: | K3: BÖDE | R3: ellátásért felelős / ellátásért felelősök képviselője / víziközmű-szolgáltató *
A4: Víziközmű-szolgáltató megnevezése: | K4: ÉSZAK ZALAI VÍZ- ÉS CSATORNAMŰ ZÁRTKÖRŰEN MŰKÖDŐ RÉSZVÉNYTÁRSASÁG
A5: Víziközmű-szolgáltatási ágazat megnevezése: | K5: IVÓVÍZ ÁGAZAT
A6: Véleményeltérést megfogalmazó érintett fél megnevezése:
A7: Víziközmű-rendszer kódja: ** | K7: 11-32054-1-025-01-14 | R7: Zalaegerszeg-IV
A8: I. Felszín alatti vízkivétel
A9: Fontossági sorrend | B9: Felujítás és pótlás megnevezése | E9: Műszaki állapot felmérés, szükségességi indoklás | H9: Vízjogi létesítési/elvi engedély száma | I9: Az érintett ellátásért felelős(ök) megnevezése | J9: Tervezett nettó költség | K9: Forrás 2020 évre | L9: Megvalósítás időtartama | N9: Tervezett időtáv | O9: A beruházás ütemezése a tervezési időszak évei szerint
E10: Jelenlegi műszaki állapot | F10: Feladat szükségessége | G10: Megvalósítást követő várható műszaki állapot | J10: (eFt) | L10: Kezdés | M10: Befejezés | N10: (rövid / közép / hosszú) | O10: 1 | P10: 2 | Q10: 3 | R10: 4 | S10: 5 | T10: 6 | U10: 7 | V10: 8 | W10: 9 | X10: 10 | Y10: 11 | Z10: 12 | AA10: 13 | AB10: 14 | AC10: 15
B11: szakág | C11: Helyszín | D11: beruházás megnevezése
B13: MÉLYFÚRÁSÚ KÚT, HAGYOMÁNYOS ÁTMÉRŐVEL
B14: Épület, építmény
B16: Gép, berendezés
B18: Irányítástechnika, energiaellátás
B20: Összesen: | J20: =SUM(J12:J18) -> 0
A22: III. Vízműtelep és vízkezelő létesítmények
C23: Helyszín | D23: beruházás megnevezése
B24: VÍZMŰTELEP
B25: Épület, építmény
B27: Gép, berendezés
B29: Irányítástechnika, energiaellátás
B31: VÍZKEZELŐ LÉTESÍTMÉNYEK
B32: Épület, építmény
B34: Gép, berendezés
B36: Irányítástechnika, energiaellátás
B38: Összesen | J38: =SUM(J24:J37) -> 0
A40: IV. Vízelosztás
C41: Helyszín | D41: beruházás megnevezése
B42: IVÓVÍZHÁLÓZAT
B43: Épület, építmény
B45: Gép, berendezés
B47: Irányítástechnika, energiaellátás
B49: VÍZTÁROLÓK
B50: Épület, építmény
B52: Gép, berendezés
B54: Irányítástechnika, energiaellátás
B56: NYOMÁSFOKOZÓK
B57: Épület, építmény
B59: Gép, berendezés
B61: Irányítástechnika, energiaellátás
B63: Összesen: | J63: =SUM(J42:J62) -> 0 | K63: 0 | O63: =SUM(O12:O62) -> 0 | P63: =SUM(P12:P62) -> 0 | Q63: =SUM(Q12:Q62) -> 0 | R63: =SUM(R12:R62) -> 0 | S63: =SUM(S12:S62) -> 0 | T63: =SUM(T12:T62) -> 0 | U63: =SUM(U12:U62) -> 0 | V63: =SUM(V12:V62) -> 0 | ... AC63: =SUM(AC12:AC62) -> 0
B66: Tervezett feladatok nettó költsége a teljes ütem tekintetében (eFt) | C66: Rendelkezésre álló források számszerűsített értéke a teljes ütem tekintetében (eFt) | D66: Forrás megnevezése a teljes ütem tekintetében
A67: I. ütem | B67: =SUM(O63) -> 0 | C67: =K63 -> 0 | D67: Fejlesztési díj (2020)
A68: II. ütem | B68: =SUM(P63:S63) -> 0 | C68: =C67*4 -> 0 | D68: Fejlesztési díj (2021-2024)
A69: III. ütem | B69: =SUM(T63:AC63) -> 0 | C69: =C67*10 -> 0 | D69: Fejlesztési díj (2025-2034)
B72: Jelenleg beruházási igény nem ismert, nincs rendelkezésre álló forrás beruházásra.

Sheet Csatár
A1: Gördülő fejlesztési terv a 2020 - 2034 időszakra
A2: BERUHÁZÁSOK ÖSSZEFOGLALÓ TÁBLÁZATA
A3: A tervet benyújtó szervezet megnevezése: | K3: CSATÁR | R3: ellátásért felelős / ellátásért felelősök képviselője / víziközmű-szolgáltató *
A4: Víziközmű-szolgáltató megnevezése: | K4: ÉSZAK ZALAI VÍZ- ÉS CSATORNAMŰ ZÁRTKÖRŰEN MŰKÖDŐ RÉSZVÉNYTÁRSASÁG
A5: Víziközmű-szolgáltatási ágazat megnevezése: | K5: IVÓVÍZ ÁGAZAT
A6: Véleményeltérést megfogalmazó érintett fél megnevezése:
A7: Víziközmű-rendszer kódja: ** | K7: 11-32054-1-025-01-14 | R7: Zalaegerszeg-IV
A8: I. Felszín alatti vízkivétel
A9: Fontossági sorrend | B9: Felujítás és pótlás megnevezése | E9: Műszaki állapot felmérés, szükségességi indoklás | H9: Vízjogi létesítési/elvi engedély száma | I9: Az érintett ellátásért felelős(ök) megnevezése | J9: Tervezett nettó költség | K9: Forrás 2020 évre | L9: Megvalósítás időtartama | N9: Tervezett időtáv | O9: A beruházás ütemezése a tervezési időszak évei szerint
E10: Jelenlegi műszaki állapot | F10: Feladat szükségessége | G10: Megvalósítást követő várható műszaki állapot | J10: (eFt) | L10: Kezdés | M10: Befejezés | N10: (rövid / közép / hosszú) | O10: 1 | P10: 2 | Q10: 3 | R10: 4 | S10: 5 | T10: 6 | U10: 7 | V10: 8 | W10: 9 | X10: 10 | Y10: 11 | Z10: 12 | AA10: 13 | AB10: 14 | AC10: 15
B11: szakág | C11: Helyszín | D11: beruházás megnevezése
B13: MÉLYFÚRÁSÚ KÚT, HAGYOMÁNYOS ÁTMÉRŐVEL
B14: Épület, építmény
B16: Gép, berendezés
B18: Irányítástechnika, energiaellátás
B20: Összesen: | J20: =SUM(J12:J18) -> 0
A22: III. Vízműtelep és vízkezelő létesítmények
C23: Helyszín | D23: beruházás megnevezése
B24: VÍZMŰTELEP
B25: Épület, építmény
B27: Gép, berendezés
B29: Irányítástechnika, energiaellátás
B31: VÍZKEZELŐ LÉTESÍTMÉNYEK
B32: Épület, építmény
B34: Gép, berendezés
B36: Irányítástechnika, energiaellátás
B38: Összesen | J38: =SUM(J24:J37) -> 0
A40: IV. Vízelosztás
C41: Helyszín | D41: beruházás megnevezése
B42: IVÓVÍZHÁLÓZAT
B43: Épület, építmény
B45: Gép, berendezés
B47: Irányítástechnika, energiaellátás
B49: VÍZTÁROLÓK
B50: Épület, építmény
B52: Gép, berendezés
B54: Irányítástechnika, energiaellátás
B56: NYOMÁSFOKOZÓK
B57: Épület, építmény
B59: Gép, berendezés
B61: Irányítástechnika, energiaellátás
B63: Összesen: | J63: =SUM(J42:J62) -> 0 | K63: 0 | O63: =SUM(O12:O62) -> 0 | P63: =SUM(P12:P62) -> 0 | Q63: =SUM(Q12:Q62) -> 0 | R63: =SUM(R12:R62) -> 0 | S63: =SUM(S12:S62) -> 0 | T63: =SUM(T12:T62) -> 0 | U63: =SUM(U12:U62) -> 0 | V63: =SUM(V12:V62) -> 0 | ... AC63: =SUM(AC12:AC62) -> 0
B66: Tervezett feladatok nettó költsége a teljes ütem tekintetében (eFt) | C66: Rendelkezésre álló források számszerűsített értéke a teljes ütem tekintetében (eFt) | D66: Forrás megnevezése a teljes ütem tekintetében
A67: I. ütem | B67: =SUM(O63) -> 0 | C67: =K63 -> 0 | D67: Fejlesztési díj (2020)
A68: II. ütem | B68: =SUM(P63:S63) -> 0 | C68: =C67*4 -> 0 | D68: Fejlesztési díj (2021-2024)
A69: III. ütem | B69: =SUM(T63:AC63) -> 0 | C69: =C67*10 -> 0 | D69: Fejlesztési díj (2025-2034)
B72: Jelenleg beruházási igény nem ismert, nincs rendelkezésre álló forrás beruházásra.

Sheet Csonkahegyhát
A1: Gördülő fejlesztési terv a 2020 - 2034 időszakra
A2: BERUHÁZÁSOK ÖSSZEFOGLALÓ TÁBLÁZATA
A3: A tervet benyújtó szervezet megnevezése: | K3: CSONKAHEGYHÁT | R3: ellátásért felelős / ellátásért felelősök képviselője / víziközmű-szolgáltató *
A4: Víziközmű-szolgáltató megnevezése: | K4: ÉSZAK ZALAI VÍZ- ÉS CSATORNAMŰ ZÁRTKÖRŰEN MŰKÖDŐ RÉSZVÉNYTÁRSASÁG
A5: Víziközmű-szolgáltatási ágazat megnevezése: | K5: IVÓVÍZ ÁGAZAT
A6: Véleményeltérést megfogalmazó érintett fél megnevezése:
A7: Víziközmű-rendszer kódja: ** | K7: 11-32054-1-025-01-14 | R7: Zalaegerszeg-IV
A8: I. Felszín alatti vízkivétel
A9: Fontossági sorrend | B9: Felujítás és pótlás megnevezése | E9: Műszaki állapot felmérés, szükségességi indoklás | H9: Vízjogi létesítési/elvi engedély száma | I9: Az érintett ellátásért felelős(ök) megnevezése | J9: Tervezett nettó költség | K9: Forrás 2020 évre | L9: Megvalósítás időtartama | N9: Tervezett időtáv | O9: A beruházás ütemezése a tervezési időszak évei szerint
E10: Jelenlegi műszaki állapot | F10: Feladat szükségessége | G10: Megvalósítást követő várható műszaki állapot | J10: (eFt) | L10: Kezdés | M10: Befejezés | N10: (rövid / közép / hosszú) | O10: 1 | P10: 2 | Q10: 3 | R10: 4 | S10: 5 | T10: 6 | U10: 7 | V10: 8 | W10: 9 | X10: 10 | Y10: 11 | Z10: 12 | AA10: 13 | AB10: 14 | AC10: 15
B11: szakág | C11: Helyszín | D11: beruházás megnevezése
B13: MÉLYFÚRÁSÚ KÚT, HAGYOMÁNYOS ÁTMÉRŐVEL
B14: Épület, építmény
B16: Gép, berendezés
B18: Irányítástechnika, energiaellátás
B20: Összesen: | J20: =SUM(J12:J19) -> 0
A22: III. Vízműtelep és vízkezelő létesítmények
C23: Helyszín | D23: beruházás megnevezése
B24: VÍZMŰTELEP
B25: Épület, építmény
B27: Gép, berendezés
B29: Irányítástechnika, energiaellátás
B31: VÍZKEZELŐ LÉTESÍTMÉNYEK
B32: Épület, építmény
B34: Gép, berendezés
B36: Irányítástechnika, energiaellátás
B38: Összesen | J38: =SUM(J24:J37) -> 0
A40: IV. Vízelosztás
C41: Helyszín | D41: beruházás megnevezése
B42: IVÓVÍZHÁLÓZAT
B43: Épület, építmény
B45: Gép, berendezés
B47: Irányítástechnika, energiaellátás
B49: VÍZTÁROLÓK
B50: Épület, építmény
B52: Gép, berendezés
B54: Irányítástechnika, energiaellátás
B56: NYOMÁSFOKOZÓK
B57: Épület, építmény
B59: Gép, berendezés
B61: Irányítástechnika, energiaellátás
B63: Összesen: | J63: =SUM(J42:J62) -> 0 | K63: 0 | O63: =SUM(O11:O62) -> 0 | P63: =SUM(P11:P62) -> 0 | Q63: =SUM(Q11:Q62) -> 0 | R63: =SUM(R11:R62) -> 0 | S63: =SUM(S11:S62) -> 0 | T63: =SUM(T11:T62) -> 0 | U63: =SUM(U11:U62) -> 0 | V63: =SUM(V11:V62) -> 0 | ... AC63: =SUM(AC11:AC62) -> 0
B66: Tervezett feladatok nettó költsége a teljes ütem tekintetében (eFt) | C66: Rendelkezésre álló források számszerűsített értéke a teljes ütem tekintetében (eFt) | D66: Forrás megnevezése a teljes ütem tekintetében
A67: I. ütem | B67: =SUM(O63) -> 0 | C67: =K63 -> 0 | D67: Fejlesztési díj (2020)
A68: II. ütem | B68: =SUM(P63:S63) -> 0 | C68: =C67*4 -> 0 | D68: Fejlesztési díj (2021-2024)
A69: III. ütem | B69: =SUM(T63:AC63) -> 0 | C69: =C67*10 -> 0 | D69: Fejlesztési díj (2025-2034)
B72: Jelenleg beruházási igény nem ismert, nincs rendelkezésre álló forrás beruházásra.

Sheet Dobronhegy
A1: Gördülő fejlesztési terv a 2020 - 2034 időszakra
A2: BERUHÁZÁSOK ÖSSZEFOGLALÓ TÁBLÁZATA
A3: A tervet benyújtó szervezet megnevezése: | K3: DOBRONHEGY | R3: ellátásért felelős / ellátásért felelősök képviselője / víziközmű-szolgáltató *
A4: Víziközmű-szolgáltató megnevezése: | K4: ÉSZAK ZALAI VÍZ- ÉS CSATORNAMŰ ZÁRTKÖRŰEN MŰKÖDŐ RÉSZVÉNYTÁRSASÁG
A5: Víziközmű-szolgáltatási ágazat megnevezése: | K5: IVÓVÍZ ÁGAZAT
A6: Véleményeltérést megfogalmazó érintett fél megnevezése:
A7: Víziközmű-rendszer kódja: ** | K7: 11-32054-1-025-01-14 | R7: Zalaegerszeg-IV
A8: I. Felszín alatti vízkivétel
A9: Fontossági sorrend | B9: Felujítás és pótlás megnevezése | E9: Műszaki állapot felmérés, szükségességi indoklás | H9: Vízjogi létesítési/elvi engedély száma | I9: Az érintett ellátásért felelős(ök) megnevezése | J9: Tervezett nettó költség | K9: Forrás 2020 évre | L9: Megvalósítás időtartama | N9: Tervezett időtáv | O9: A beruházás ütemezése a tervezési időszak évei szerint
E10: Jelenlegi műszaki állapot | F10: Feladat szükségessége | G10: Megvalósítást követő várható műszaki állapot | J10: (eFt) | L10: Kezdés | M10: Befejezés | N10: (rövid / közép / hosszú) | O10: 1 | P10: 2 | Q10: 3 | R10: 4 | S10: 5 | T10: 6 | U10: 7 | V10: 8 | W10: 9 | X10: 10 | Y10: 11 | Z10: 12 | AA10: 13 | AB10: 14 | AC10: 15
B11: szakág | C11: Helyszín | D11: beruházás megnevezése
B13: MÉLYFÚRÁSÚ KÚT, HAGYOMÁNYOS ÁTMÉRŐVEL
B14: Épület, építmény
B16: Gép, berendezés
B18: Irányítástechnika, energiaellátás
B20: Összesen: | J20: =SUM(J12:J19) -> 0
A22: III. Vízműtelep és vízkezelő létesítmények
C23: Helyszín | D23: beruházás megnevezése
B24: VÍZMŰTELEP
B25: Épület, építmény
B27: Gép, berendezés
B29: Irányítástechnika, energiaellátás
B31: VÍZKEZELŐ LÉTESÍTMÉNYEK
B32: Épület, építmény
B34: Gép, berendezés
B36: Irányítástechnika, energiaellátás
B38: Összesen | J38: =SUM(J24:J37) -> 0
A40: IV. Vízelosztás
C41: Helyszín | D41: beruházás megnevezése
B42: IVÓVÍZHÁLÓZAT
B43: Épület, építmény
B45: Gép, berendezés
B47: Irányítástechnika, energiaellátás
B49: VÍZTÁROLÓK
B50: Épület, építmény
B52: Gép, berendezés
B54: Irányítástechnika, energiaellátás
B56: NYOMÁSFOKOZÓK
B57: Épület, építmény
B59: Gép, berendezés
B61: Irányítástechnika, energiaellátás
B63: Összesen: | J63: =SUM(J42:J62) -> 0 | K63: 0 | O63: =SUM(O12:O62) -> 0 | P63: =SUM(P12:P62) -> 0 | Q63: =SUM(Q12:Q62) -> 0 | R63: =SUM(R12:R62) -> 0 | S63: =SUM(S12:S62) -> 0 | T63: =SUM(T12:T62) -> 0 | U63: =SUM(U12:U62) -> 0 | V63: =SUM(V12:V62) -> 0 | ... AC63: =SUM(AC12:AC62) -> 0
B66: Tervezett feladatok nettó költsége a teljes ütem tekintetében (eFt) | C66: Rendelkezésre álló források számszerűsített értéke a teljes ütem tekintetében (eFt) | D66: Forrás megnevezése a teljes ütem tekintetében
A67: I. ütem | B67: =SUM(O63) -> 0 | C67: =K63 -> 0 | D67: Fejlesztési díj (2020)
A68: II. ütem | B68: =SUM(P63:S63) -> 0 | C68: =C67*4 -> 0 | D68: Fejlesztési díj (2021-2024)
A69: III. ütem | B69: =SUM(T63:AC63) -> 0 | C69: =C67*10 -> 0 | D69: Fejlesztési díj (2025-2034)
B72: Jelenleg beruházási igény nem ismert, nincs rendelkezésre álló forrás beruházásra.

Sheet Hagyárosbörönd
A1: Gördülő fejlesztési terv a 2020 - 2034 időszakra
A2: BERUHÁZÁSOK ÖSSZEFOGLALÓ TÁBLÁZATA
A3: A tervet benyújtó szervezet megnevezése: | K3: HAGYÁROSBÖRÖND | R3: ellátásért felelős / ellátásért felelősök képviselője / víziközmű-szolgáltató *
A4: Víziközmű-szolgáltató megnevezése: | K4: ÉSZAK ZALAI VÍZ- ÉS CSATORNAMŰ ZÁRTKÖRŰEN MŰKÖDŐ RÉSZVÉNYTÁRSASÁG
A5: Víziközmű-szolgáltatási ágazat megnevezése: | K5: IVÓVÍZ ÁGAZAT
A6: Véleményeltérést megfogalmazó érintett fél megnevezése:
A7: Víziközmű-rendszer kódja: ** | K7: 11-32054-1-025-01-14 | R7: Zalaegerszeg-IV
A8: I. Felszín alatti vízkivétel
A9: Fontossági sorrend | B9: Felujítás és pótlás megnevezése | E9: Műszaki állapot felmérés, szükségességi indoklás | H9: Vízjogi létesítési/elvi engedély száma | I9: Az érintett ellátásért felelős(ök) megnevezése | J9: Tervezett nettó költség | K9: Forrás 2020 évre | L9: Megvalósítás időtartama | N9: Tervezett időtáv | O9: A beruházás ütemezése a tervezési időszak évei szerint
E10: Jelenlegi műszaki állapot | F10: Feladat szükségessége | G10: Megvalósítást követő várható műszaki állapot | J10: (eFt) | L10: Kezdés | M10: Befejezés | N10: (rövid / közép / hosszú) | O10: 1 | P10: 2 | Q10: 3 | R10: 4 | S10: 5 | T10: 6 | U10: 7 | V10: 8 | W10: 9 | X10: 10 | Y10: 11 | Z10: 12 | AA10: 13 | AB10: 14 | AC10: 15
B11: szakág | C11: Helyszín | D11: beruházás megnevezése
B13: MÉLYFÚRÁSÚ KÚT, HAGYOMÁNYOS ÁTMÉRŐVEL
B14: Épület, építmény
B16: Gép, berendezés
B18: Irányítástechnika, energiaellátás
B20: Összesen: | J20: =SUM(J12:J19) -> 0
A22: III. Vízműtelep és vízkezelő létesítmények
C23: Helyszín | D23: beruházás megnevezése
B24: VÍZMŰTELEP
B25: Épület, építmény
B27: Gép, berendezés
B29: Irányítástechnika, energiaellátás
B31: VÍZKEZELŐ LÉTESÍTMÉNYEK
B32: Épület, építmény
B34: Gép, berendezés
B36: Irányítástechnika, energiaellátás
B38: Összesen | J38: =SUM(J24:J37) -> 0
A40: IV. Vízelosztás
C41: Helyszín | D41: beruházás megnevezése
B42: IVÓVÍZHÁLÓZAT
B43: Épület, építmény
B45: Gép, berendezés
B47: Irányítástechnika, energiaellátás
B49: VÍZTÁROLÓK
B50: Épület, építmény
B52: Gép, berendezés
B54: Irányítástechnika, energiaellátás
B56: NYOMÁSFOKOZÓK
B57: Épület, építmény
B59: Gép, berendezés
B61: Irányítástechnika, energiaellátás
B63: Összesen: | J63: =SUM(J42:J62) -> 0 | K63: 0 | O63: =SUM(O12:O62) -> 0 | P63: =SUM(P12:P62) -> 0 | Q63: =SUM(Q12:Q62) -> 0 | R63: =SUM(R12:R62) -> 0 | S63: =SUM(S12:S62) -> 0 | T63: =SUM(T12:T62) -> 0 | U63: =SUM(U12:U62) -> 0 | V63: =SUM(V12:V62) -> 0 | ... AC63: =SUM(AC12:AC62) -> 0
B66: Tervezett feladatok nettó költsége a teljes ütem tekintetében (eFt) | C66: Rendelkezésre álló források számszerűsített értéke a teljes ütem tekintetében (eFt) | D66: Forrás megnevezése a teljes ütem tekintetében
A67: I. ütem | B67: =SUM(O63) -> 0 | C67: =K63 -> 0 | D67: Fejlesztési díj (2020)
A68: II. ütem | B68: =SUM(P63:S63) -> 0 | C68: =C67*4 -> 0 | D68: Fejlesztési díj (2021-2024)
A69: III. ütem | B69: =SUM(T63:AC63) -> 0 | C69: =C67*10 -> 0 | D69: Fejlesztési díj (2025-2034)
B72: Jelenleg beruházási igény nem ismert, nincs rendelkezésre álló forrás beruházásra.

Sheet Hottó
A1: Gördülő fejlesztési terv a 2020 - 2034 időszakra
A2: BERUHÁZÁSOK ÖSSZEFOGLALÓ TÁBLÁZATA
A3: A tervet benyújtó szervezet megnevezése: | K3: HOTTÓ | R3: ellátásért felelős / ellátásért felelősök képviselője / víziközmű-szolgáltató *
A4: Víziközmű-szolgáltató megnevezése: | K4: ÉSZAK ZALAI VÍZ- ÉS CSATORNAMŰ ZÁRTKÖRŰEN MŰKÖDŐ RÉSZVÉNYTÁRSASÁG
A5: Víziközmű-szolgáltatási ágazat megnevezése: | K5: IVÓVÍZ ÁGAZAT
A6: Véleményeltérést megfogalmazó érintett fél megnevezése:
A7: Víziközmű-rendszer kódja: ** | K7: 11-32054-1-025-01-14 | R7: Zalaegerszeg-IV
A8: I. Felszín alatti vízkivétel
A9: Fontossági sorrend | B9: Felujítás és pótlás megnevezése | E9: Műszaki állapot felmérés, szükségességi indoklás | H9: Vízjogi létesítési/elvi engedély száma | I9: Az érintett ellátásért felelős(ök) megnevezése | J9: Tervezett nettó költség | K9: Forrás 2020 évre | L9: Megvalósítás időtartama | N9: Tervezett időtáv | O9: A beruházás ütemezése a tervezési időszak évei szerint
E10: Jelenlegi műszaki állapot | F10: Feladat szükségessége | G10: Megvalósítást követő várható műszaki állapot | J10: (eFt) | L10: Kezdés | M10: Befejezés | N10: (rövid / közép / hosszú) | O10: 1 | P10: 2 | Q10: 3 | R10: 4 | S10: 5 | T10: 6 | U10: 7 | V10: 8 | W10: 9 | X10: 10 | Y10: 11 | Z10: 12 | AA10: 13 | AB10: 14 | AC10: 15
B11: szakág | C11: Helyszín | D11: beruházás megnevezése
B13: MÉLYFÚRÁSÚ KÚT, HAGYOMÁNYOS ÁTMÉRŐVEL
B14: Épület, építmény
B16: Gép, berendezés
B18: Irányítástechnika, energiaellátás
B20: Összesen: | J20: =SUM(J12:J18) -> 0
A22: III. Vízműtelep és vízkezelő létesítmények
C23: Helyszín | D23: beruházás megnevezése
B24: VÍZMŰTELEP
B25: Épület, építmény
B27: Gép, berendezés
B29: Irányítástechnika, energiaellátás
B31: VÍZKEZELŐ LÉTESÍTMÉNYEK
B32: Épület, építmény
B34: Gép, berendezés
B36: Irányítástechnika, energiaellátás
B38: Összesen | J38: =SUM(J24:J37) -> 0
A40: IV. Vízelosztás
C41: Helyszín | D41: beruházás megnevezése
B42: IVÓVÍZHÁLÓZAT
B43: Épület, építmény
B45: Gép, berendezés
B47: Irányítástechnika, energiaellátás
B49: VÍZTÁROLÓK
B50: Épület, építmény
B52: Gép, berendezés
B54: Irányítástechnika, energiaellátás
B56: NYOMÁSFOKOZÓK
B57: Épület, építmény
B59: Gép, berendezés
B61: Irányítástechnika, energiaellátás
B63: Összesen: | J63: =SUM(J42:J62) -> 0 | K63: 0 | O63: =SUM(O12:O62) -> 0 | P63: =SUM(P12:P62) -> 0 | Q63: =SUM(Q12:Q62) -> 0 | R63: =SUM(R12:R62) -> 0 | S63: =SUM(S12:S62) -> 0 | T63: =SUM(T12:T62) -> 0 | U63: =SUM(U12:U62) -> 0 | V63: =SUM(V12:V62) -> 0 | ... AC63: =SUM(AC12:AC62) -> 0
B66: Tervezett feladatok nettó költsége a teljes ütem tekintetében (eFt) | C66: Rendelkezésre álló források számszerűsített értéke a teljes ütem tekintetében (eFt) | D66: Forrás megnevezése a teljes ütem tekintetében
A67: I. ütem | B67: =SUM(O63) -> 0 | C67: =K63 -> 0 | D67: Fejlesztési díj (2020)
A68: II. ütem | B68: =SUM(P63:S63) -> 0 | C68: =C67*4 -> 0 | D68: Fejlesztési díj (2021-2024)
A69: III. ütem | B69: =SUM(T63:AC63) -> 0 | C69: =C67*10 -> 0 | D69: Fejlesztési díj (2025-2034)
B72: Jelenleg beruházási igény nem ismert, nincs rendelkezésre álló forrás beruházásra.

Sheet Kávás
A1: Gördülő fejlesztési terv a 2020 - 2034 időszakra
A2: BERUHÁZÁSOK ÖSSZEFOGLALÓ TÁBLÁZATA
A3: A tervet benyújtó szervezet megnevezése: | K3: KÁVÁS | R3: ellátásért felelős / ellátásért felelősök képviselője / víziközmű-szolgáltató *
A4: Víziközmű-szolgáltató megnevezése: | K4: ÉSZAK ZALAI VÍZ- ÉS CSATORNAMŰ ZÁRTKÖRŰEN MŰKÖDŐ RÉSZVÉNYTÁRSASÁG
A5: Víziközmű-szolgáltatási ágazat megnevezése: | K5: IVÓVÍZ ÁGAZAT
A6: Véleményeltérést megfogalmazó érintett fél megnevezése:
A7: Víziközmű-rendszer kódja: ** | K7: 11-32054-1-025-01-14 | R7: Zalaegerszeg-IV
A8: I. Felszín alatti vízkivétel
A9: Fontossági sorrend | B9: Felujítás és pótlás megnevezése | E9: Műszaki állapot felmérés, szükségességi indoklás | H9: Vízjogi létesítési/elvi engedély száma | I9: Az érintett ellátásért felelős(ök) megnevezése | J9: Tervezett nettó költség | K9: Forrás 2020 évre | L9: Megvalósítás időtartama | N9: Tervezett időtáv | O9: A beruházás ütemezése a tervezési időszak évei szerint
E10: Jelenlegi műszaki állapot | F10: Feladat szükségessége | G10: Megvalósítást követő várható műszaki állapot | J10: (eFt) | L10: Kezdés | M10: Befejezés | N10: (rövid / közép / hosszú) | O10: 1 | P10: 2 | Q10: 3 | R10: 4 | S10: 5 | T10: 6 | U10: 7 | V10: 8 | W10: 9 | X10: 10 | Y10: 11 | Z10: 12 | AA10: 13 | AB10: 14 | AC10: 15
B11: szakág | C11: Helyszín | D11: beruházás megnevezése
B13: MÉLYFÚRÁSÚ KÚT, HAGYOMÁNYOS ÁTMÉRŐVEL
B14: Épület, építmény
B16: Gép, berendezés
B18: Irányítástechnika, energiaellátás
B20: Összesen: | J20: =SUM(J12:J19) -> 0
A22: III. Vízműtelep és vízkezelő létesítmények
C23: Helyszín | D23: beruházás megnevezése
B24: VÍZMŰTELEP
B25: Épület, építmény
B27: Gép, berendezés
B29: Irányítástechnika, energiaellátás
B31: VÍZKEZELŐ LÉTESÍTMÉNYEK
B32: Épület, építmény
B34: Gép, berendezés
B36: Irányítástechnika, energiaellátás
B38: Összesen | J38: =SUM(J24:J37) -> 0
A40: IV. Vízelosztás
C41: Helyszín | D41: beruházás megnevezése
B42: IVÓVÍZHÁLÓZAT
B43: Épület, építmény
B45: Gép, berendezés
B47: Irányítástechnika, energiaellátás
B49: VÍZTÁROLÓK
B50: Épület, építmény
B52: Gép, berendezés
B54: Irányítástechnika, energiaellátás
B56: NYOMÁSFOKOZÓK
B57: Épület, építmény
B59: Gép, berendezés
B61: Irányítástechnika, energiaellátás
B63: Összesen: | J63: =SUM(J42:J62) -> 0 | K63: 0 | O63: =SUM(O12:O62) -> 0 | P63: =SUM(P12:P62) -> 0 | Q63: =SUM(Q12:Q62) -> 0 | R63: =SUM(R12:R62) -> 0 | S63: =SUM(S12:S62) -> 0 | T63: =SUM(T12:T62) -> 0 | U63: =SUM(U12:U62) -> 0 | V63: =SUM(V12:V62) -> 0 | ... AC63: =SUM(AC12:AC62) -> 0
B66: Tervezett feladatok nettó költsége a teljes ütem tekintetében (eFt) | C66: Rendelkezésre álló források számszerűsített értéke a teljes ütem tekintetében (eFt) | D66: Forrás megnevezése a teljes ütem tekintetében
A67: I. ütem | B67: =SUM(O63) -> 0 | C67: =K63 -> 0 | D67: Fejlesztési díj (2020)
A68: II. ütem | B68: =SUM(P63:S63) -> 0 | C68: =C67*4 -> 0 | D68: Fejlesztési díj (2021-2024)
A69: III. ütem | B69: =SUM(T63:AC63) -> 0 | C69: =C67*10 -> 0 | D69: Fejlesztési díj (2025-2034)
B72: Jelenleg beruházási igény nem ismert, nincs rendelkezésre álló forrás beruházásra.

Sheet Kiskutas
A1: Gördülő fejlesztési terv a 2020 - 2034 időszakra
A2: BERUHÁZÁSOK ÖSSZEFOGLALÓ TÁBLÁZATA
A3: A tervet benyújtó szervezet megnevezése: | K3: KISKUTAS | R3: ellátásért felelős / ellátásért felelősök képviselője / víziközmű-szolgáltató *
A4: Víziközmű-szolgáltató megnevezése: | K4: ÉSZAK ZALAI VÍZ- ÉS CSATORNAMŰ ZÁRTKÖRŰEN MŰKÖDŐ RÉSZVÉNYTÁRSASÁG
A5: Víziközmű-szolgáltatási ágazat megnevezése: | K5: IVÓVÍZ ÁGAZAT
A6: Véleményeltérést megfogalmazó érintett fél megnevezése:
A7: Víziközmű-rendszer kódja: ** | K7: 11-32054-1-025-01-14 | R7: Zalaegerszeg-IV
A8: I. Felszín alatti vízkivétel
A9: Fontossági sorrend | B9: Felujítás és pótlás megnevezése | E9: Műszaki állapot felmérés, szükségességi indoklás | H9: Vízjogi létesítési/elvi engedély száma | I9: Az érintett ellátásért felelős(ök) megnevezése | J9: Tervezett nettó költség | K9: Forrás 2020 évre | L9: Megvalósítás időtartama | N9: Tervezett időtáv | O9: A beruházás ütemezése a tervezési időszak évei szerint
E10: Jelenlegi műszaki állapot | F10: Feladat szükségessége | G10: Megvalósítást követő várható műszaki állapot | J10: (eFt) | L10: Kezdés | M10: Befejezés | N10: (rövid / közép / hosszú) | O10: 1 | P10: 2 | Q10: 3 | R10: 4 | S10: 5 | T10: 6 | U10: 7 | V10: 8 | W10: 9 | X10: 10 | Y10: 11 | Z10: 12 | AA10: 13 | AB10: 14 | AC10: 15
B11: szakág | C11: Helyszín | D11: beruházás megnevezése
B13: MÉLYFÚRÁSÚ KÚT, HAGYOMÁNYOS ÁTMÉRŐVEL
B14: Épület, építmény
B16: Gép, berendezés
B18: Irányítástechnika, energiaellátás
B20: Összesen: | J20: =SUM(J12:J18) -> 0
A22: III. Vízműtelep és vízkezelő létesítmények
C23: Helyszín | D23: beruházás megnevezése
B24: VÍZMŰTELEP
B25: Épület, építmény
B27: Gép, berendezés
B29: Irányítástechnika, energiaellátás
B31: VÍZKEZELŐ LÉTESÍTMÉNYEK
B32: Épület, építmény
B34: Gép, berendezés
B36: Irányítástechnika, energiaellátás
B38: Összesen | J38: =SUM(J24:J37) -> 0
A40: IV. Vízelosztás
C41: Helyszín | D41: beruházás megnevezése
B42: IVÓVÍZHÁLÓZAT
B43: Épület, építmény
B45: Gép, berendezés
B47: Irányítástechnika, energiaellátás
B49: VÍZTÁROLÓK
B50: Épület, építmény
B52: Gép, berendezés
B54: Irányítástechnika, energiaellátás
B56: NYOMÁSFOKOZÓK
B57: Épület, építmény
B59: Gép, berendezés
B61: Irányítástechnika, energiaellátás
B63: Összesen: | J63: =SUM(J42:J62) -> 0 | K63: =SUM(C67) -> 0 | O63: =SUM(O12:O62) -> 0 | P63: =SUM(P12:P62) -> 0 | Q63: =SUM(Q12:Q62) -> 0 | R63: =SUM(R12:R62) -> 0 | S63: =SUM(S12:S62) -> 0 | T63: =SUM(T12:T62) -> 0 | U63: =SUM(U12:U62) -> 0 | V63: =SUM(V12:V62) -> 0 | ... AC63: =SUM(AC12:AC62) -> 0
B66: Tervezett feladatok nettó költsége a teljes ütem tekintetében (eFt) | C66: Rendelkezésre álló források számszerűsített értéke a teljes ütem tekintetében (eFt) | D66: Forrás megnevezése a teljes ütem tekintetében
A67: I. ütem | B67: =SUM(O63) -> 0 | C67: 0 | D67: Fejlesztési díj (2020)
A68: II. ütem | B68: =SUM(P63:S63) -> 0 | C68: =C67*4 -> 0 | D68: Fejlesztési díj (2021-2024)
A69: III. ütem | B69: =SUM(T63:AC63) -> 0 | C69: =C67*10 -> 0 | D69: Fejlesztési díj (2025-2034)
B72: Jelenleg beruházási igény nem ismert.

Sheet Kispáli
A1: Gördülő fejlesztési terv a 2020 - 2034 időszakra
A2: BERUHÁZÁSOK ÖSSZEFOGLALÓ TÁBLÁZATA
A3: A tervet benyújtó szervezet megnevezése: | K3: KISPÁLI | R3: ellátásért felelős / ellátásért felelősök képviselője / víziközmű-szolgáltató *
A4: Víziközmű-szolgáltató megnevezése: | K4: ÉSZAK ZALAI VÍZ- ÉS CSATORNAMŰ ZÁRTKÖRŰEN MŰKÖDŐ RÉSZVÉNYTÁRSASÁG
A5: Víziközmű-szolgáltatási ágazat megnevezése: | K5: IVÓVÍZ ÁGAZAT
A6: Véleményeltérést megfogalmazó érintett fél megnevezése:
A7: Víziközmű-rendszer kódja: ** | K7: 11-32054-1-025-01-14 | R7: Zalaegerszeg-IV
A8: I. Felszín alatti vízkivétel
A9: Fontossági sorrend | B9: Felujítás és pótlás megnevezése | E9: Műszaki állapot felmérés, szükségességi indoklás | H9: Vízjogi létesítési/elvi engedély száma | I9: Az érintett ellátásért felelős(ök) megnevezése | J9: Tervezett nettó költség | K9: Forrás 2020 évre | L9: Megvalósítás időtartama | N9: Tervezett időtáv | O9: A beruházás ütemezése a tervezési időszak évei szerint
E10: Jelenlegi műszaki állapot | F10: Feladat szükségessége | G10: Megvalósítást követő várható műszaki állapot | J10: (eFt) | L10: Kezdés | M10: Befejezés | N10: (rövid / közép / hosszú) | O10: 1 | P10: 2 | Q10: 3 | R10: 4 | S10: 5 | T10: 6 | U10: 7 | V10: 8 | W10: 9 | X10: 10 | Y10: 11 | Z10: 12 | AA10: 13 | AB10: 14 | AC10: 15
B11: szakág | C11: Helyszín | D11: beruházás megnevezése
B13: MÉLYFÚRÁSÚ KÚT, HAGYOMÁNYOS ÁTMÉRŐVEL
B14: Épület, építmény
B16: Gép, berendezés
B18: Irányítástechnika, energiaellátás
B20: Összesen: | J20: =SUM(J12:J19) -> 0
A22: III. Vízműtelep és vízkezelő létesítmények
C23: Helyszín | D23: beruházás megnevezése
B24: VÍZMŰTELEP
B25: Épület, építmény
B27: Gép, berendezés
B29: Irányítástechnika, energiaellátás
B31: VÍZKEZELŐ LÉTESÍTMÉNYEK
B32: Épület, építmény
B34: Gép, berendezés
B36: Irányítástechnika, energiaellátás
B38: Összesen | J38: =SUM(J24:J37) -> 0
A40: IV. Vízelosztás
C41: Helyszín | D41: beruházás megnevezése
B42: IVÓVÍZHÁLÓZAT
B43: Épület, építmény
B45: Gép, berendezés
B47: Irányítástechnika, energiaellátás
B49: VÍZTÁROLÓK
B50: Épület, építmény
B52: Gép, berendezés
B54: Irányítástechnika, energiaellátás
B56: NYOMÁSFOKOZÓK
B57: Épület, építmény
B59: Gép, berendezés
B61: Irányítástechnika, energiaellátás
B63: Összesen: | J63: =SUM(J42:J62) -> 0 | K63: 0 | O63: =SUM(O11:O62) -> 0 | P63: =SUM(P11:P62) -> 0 | Q63: =SUM(Q11:Q62) -> 0 | R63: =SUM(R11:R62) -> 0 | S63: =SUM(S11:S62) -> 0 | T63: =SUM(T11:T62) -> 0 | U63: =SUM(U11:U62) -> 0 | V63: =SUM(V11:V62) -> 0 | ... AC63: =SUM(AC11:AC62) -> 0
B66: Tervezett feladatok nettó költsége a teljes ütem tekintetében (eFt) | C66: Rendelkezésre álló források számszerűsített értéke a teljes ütem tekintetében (eFt) | D66: Forrás megnevezése a teljes ütem tekintetében
A67: I. ütem | B67: =SUM(O63) -> 0 | C67: =K63 -> 0 | D67: Fejlesztési díj (2020)
A68: II. ütem | B68: =SUM(P63:S63) -> 0 | C68: =C67*4 -> 0 | D68: Fejlesztési díj (2021-2024)
A69: III. ütem | B69: =SUM(T63:AC63) -> 0 | C69: =C67*10 -> 0 | D69: Fejlesztési díj (2025-2034)
B72: Jelenleg beruházási igény nem ismert, nincs rendelkezésre álló forrás beruházásra.

Sheet Kustánszeg
A1: Gördülő fejlesztési terv a 2020 - 2034 időszakra
A2: BERUHÁZÁSOK ÖSSZEFOGLALÓ TÁBLÁZATA
A3: A tervet benyújtó szervezet megnevezése: | K3: KUSTÁNSZEG | R3: ellátásért felelős / ellátásért felelősök képviselője / víziközmű-szolgáltató *
A4: Víziközmű-szolgáltató megnevezése: | K4: ÉSZAK ZALAI VÍZ- ÉS CSATORNAMŰ ZÁRTKÖRŰEN MŰKÖDŐ RÉSZVÉNYTÁRSASÁG
A5: Víziközmű-szolgáltatási ágazat megnevezése: | K5: IVÓVÍZ ÁGAZAT
A6: Véleményeltérést megfogalmazó érintett fél megnevezése:
A7: Víziközmű-rendszer kódja: ** | K7: 11-32054-1-025-01-14 | R7: Zalaegerszeg-IV
A8: I. Felszín alatti vízkivétel
A9: Fontossági sorrend | B9: Felujítás és pótlás megnevezése | E9: Műszaki állapot felmérés, szükségességi indoklás | H9: Vízjogi létesítési/elvi engedély száma | I9: Az érintett ellátásért felelős(ök) megnevezése | J9: Tervezett nettó költség | K9: Forrás 2020 évre | L9: Megvalósítás időtartama | N9: Tervezett időtáv | O9: A beruházás ütemezése a tervezési időszak évei szerint
E10: Jelenlegi műszaki állapot | F10: Feladat szükségessége | G10: Megvalósítást követő várható műszaki állapot | J10: (eFt) | L10: Kezdés | M10: Befejezés | N10: (rövid / közép / hosszú) | O10: 1 | P10: 2 | Q10: 3 | R10: 4 | S10: 5 | T10: 6 | U10: 7 | V10: 8 | W10: 9 | X10: 10 | Y10: 11 | Z10: 12 | AA10: 13 | AB10: 14 | AC10: 15
B11: szakág | C11: Helyszín | D11: beruházás megnevezése
B13: MÉLYFÚRÁSÚ KÚT, HAGYOMÁNYOS ÁTMÉRŐVEL
B14: Épület, építmény
B16: Gép, berendezés
B18: Irányítástechnika, energiaellátás
B20: Összesen: | J20: =SUM(J12:J19) -> 0
A22: III. Vízműtelep és vízkezelő létesítmények
C23: Helyszín | D23: beruházás megnevezése
B24: VÍZMŰTELEP
B25: Épület, építmény
B27: Gép, berendezés
B29: Irányítástechnika, energiaellátás
B31: VÍZKEZELŐ LÉTESÍTMÉNYEK
B32: Épület, építmény
B34: Gép, berendezés
B36: Irányítástechnika, energiaellátás
B38: Összesen | J38: =SUM(J24:J37) -> 0
A40: IV. Vízelosztás
C41: Helyszín | D41: beruházás megnevezése
B42: IVÓVÍZHÁLÓZAT
B43: Épület, építmény
B45: Gép, berendezés
B47: Irányítástechnika, energiaellátás
B49: VÍZTÁROLÓK
B50: Épület, építmény
B52: Gép, berendezés
B54: Irányítástechnika, energiaellátás
B56: NYOMÁSFOKOZÓK
B57: Épület, építmény
B59: Gép, berendezés
B61: Irányítástechnika, energiaellátás
B63: Összesen: | J63: =SUM(J42:J62) -> 0 | K63: 0 | O63: =SUM(O12:O62) -> 0 | P63: =SUM(P12:P62) -> 0 | Q63: =SUM(Q12:Q62) -> 0 | R63: =SUM(R12:R62) -> 0 | S63: =SUM(S12:S62) -> 0 | T63: =SUM(T12:T62) -> 0 | U63: =SUM(U12:U62) -> 0 | V63: =SUM(V12:V62) -> 0 | ... AC63: =SUM(AC12:AC62) -> 0
B66: Tervezett feladatok nettó költsége a teljes ütem tekintetében (eFt) | C66: Rendelkezésre álló források számszerűsített értéke a teljes ütem tekintetében (eFt) | D66: Forrás megnevezése a teljes ütem tekintetében
A67: I. ütem | B67: =SUM(O63) -> 0 | C67: =K63 -> 0 | D67: Fejlesztési díj (2020)
A68: II. ütem | B68: =SUM(P63:S63) -> 0 | C68: =C67*4 -> 0 | D68: Fejlesztési díj (2021-2024)
A69: III. ütem | B69: =SUM(T63:AC63) -> 0 | C69: =C67*10 -> 0 | D69: Fejlesztési díj (2025-2034)
B72: Jelenleg beruházási igény nem ismert, nincs rendelkezésre álló forrás beruházásra.

Sheet Milejszeg
A1: Gördülő fejlesztési terv a 2020 - 2034 időszakra
A2: BERUHÁZÁSOK ÖSSZEFOGLALÓ TÁBLÁZATA
A3: A tervet benyújtó szervezet megnevezése: | K3: MILEJSZEG | R3: ellátásért felelős / ellátásért felelősök képviselője / víziközmű-szolgáltató *
A4: Víziközmű-szolgáltató megnevezése: | K4: ÉSZAK ZALAI VÍZ- ÉS CSATORNAMŰ ZÁRTKÖRŰEN MŰKÖDŐ RÉSZVÉNYTÁRSASÁG
A5: Víziközmű-szolgáltatási ágazat megnevezése: | K5: IVÓVÍZ ÁGAZAT
A6: Véleményeltérést megfogalmazó érintett fél megnevezése:
A7: Víziközmű-rendszer kódja: ** | K7: 11-32054-1-025-01-14 | R7: Zalaegerszeg-IV
A8: I. Felszín alatti vízkivétel
A9: Fontossági sorrend | B9: Felujítás és pótlás megnevezése | E9: Műszaki állapot felmérés, szükségességi indoklás | H9: Vízjogi létesítési/elvi engedély száma | I9: Az érintett ellátásért felelős(ök) megnevezése | J9: Tervezett nettó költség | K9: Forrás 2020 évre | L9: Megvalósítás időtartama | N9: Tervezett időtáv | O9: A beruházás ütemezése a tervezési időszak évei szerint
E10: Jelenlegi műszaki állapot | F10: Feladat szükségessége | G10: Megvalósítást követő várható műszaki állapot | J10: (eFt) | L10: Kezdés | M10: Befejezés | N10: (rövid / közép / hosszú) | O10: 1 | P10: 2 | Q10: 3 | R10: 4 | S10: 5 | T10: 6 | U10: 7 | V10: 8 | W10: 9 | X10: 10 | Y10: 11 | Z10: 12 | AA10: 13 | AB10: 14 | AC10: 15
B11: szakág | C11: Helyszín | D11: beruházás megnevezése
B13: MÉLYFÚRÁSÚ KÚT, HAGYOMÁNYOS ÁTMÉRŐVEL
B14: Épület, építmény
B16: Gép, berendezés
B18: Irányítástechnika, energiaellátás
B20: Összesen: | J20: =SUM(J12:J19) -> 0
A22: III. Vízműtelep és vízkezelő létesítmények
C23: Helyszín | D23: beruházás megnevezése
B24: VÍZMŰTELEP
B25: Épület, építmény
B27: Gép, berendezés
B29: Irányítástechnika, energiaellátás
B31: VÍZKEZELŐ LÉTESÍTMÉNYEK
B32: Épület, építmény
B34: Gép, berendezés
B36: Irányítástechnika, energiaellátás
B38: Összesen | J38: =SUM(J24:J37) -> 0
A40: IV. Vízelosztás
C41: Helyszín | D41: beruházás megnevezése
B42: IVÓVÍZHÁLÓZAT
B43: Épület, építmény
B45: Gép, berendezés
B47: Irányítástechnika, energiaellátás
B49: VÍZTÁROLÓK
B50: Épület, építmény
B52: Gép, berendezés
B54: Irányítástechnika, energiaellátás
B56: NYOMÁSFOKOZÓK
B57: Épület, építmény
B59: Gép, berendezés
B61: Irányítástechnika, energiaellátás
B63: Összesen: | J63: =SUM(J42:J62) -> 0 | K63: 0 | O63: =SUM(O12:O62) -> 0 | P63: =SUM(P12:P62) -> 0 | Q63: =SUM(Q12:Q62) -> 0 | R63: =SUM(R12:R62) -> 0 | S63: =SUM(S12:S62) -> 0 | T63: =SUM(T12:T62) -> 0 | U63: =SUM(U12:U62) -> 0 | V63: =SUM(V12:V62) -> 0 | ... AC63: =SUM(AC12:AC62) -> 0
B66: Tervezett feladatok nettó költsége a teljes ütem tekintetében (eFt) | C66: Rendelkezésre álló források számszerűsített értéke a teljes ütem tekintetében (eFt) | D66: Forrás megnevezése a teljes ütem tekintetében
A67: I. ütem | B67: =SUM(O63) -> 0 | C67: =K63 -> 0 | D67: Fejlesztési díj (2020)
A68: II. ütem | B68: =SUM(P63:S63) -> 0 | C68: =C67*4 -> 0 | D68: Fejlesztési díj (2021-2024)
A69: III. ütem | B69: =SUM(T63:AC63) -> 0 | C69: =C67*10 -> 0 | D69: Fejlesztési díj (2025-2034)
B72: Jelenleg beruházási igény nem ismert, nincs rendelkezésre álló forrás beruházásra.

Sheet Nagykutas
A1: Gördülő fejlesztési terv a 2020 - 2034 időszakra
A2: BERUHÁZÁSOK ÖSSZEFOGLALÓ TÁBLÁZATA
A3: A tervet benyújtó szervezet megnevezése: | K3: NAGYKUTAS | R3: ellátásért felelős / ellátásért felelősök képviselője / víziközmű-szolgáltató *
A4: Víziközmű-szolgáltató megnevezése: | K4: ÉSZAK ZALAI VÍZ- ÉS CSATORNAMŰ ZÁRTKÖRŰEN MŰKÖDŐ RÉSZVÉNYTÁRSASÁG
A5: Víziközmű-szolgáltatási ágazat megnevezése: | K5: IVÓVÍZ ÁGAZAT
A6: Véleményeltérést megfogalmazó érintett fél megnevezése:
A7: Víziközmű-rendszer kódja: ** | K7: 11-32054-1-025-01-14 | R7: Zalaegerszeg-IV
A8: I. Felszín alatti vízkivétel
A9: Fontossági sorrend | B9: Felujítás és pótlás megnevezése | E9: Műszaki állapot felmérés, szükségességi indoklás | H9: Vízjogi létesítési/elvi engedély száma | I9: Az érintett ellátásért felelős(ök) megnevezése | J9: Tervezett nettó költség | K9: Forrás 2020 évre | L9: Megvalósítás időtartama | N9: Tervezett időtáv | O9: A beruházás ütemezése a tervezési időszak évei szerint
E10: Jelenlegi műszaki állapot | F10: Feladat szükségessége | G10: Megvalósítást követő várható műszaki állapot | J10: (eFt) | L10: Kezdés | M10: Befejezés | N10: (rövid / közép / hosszú) | O10: 1 | P10: 2 | Q10: 3 | R10: 4 | S10: 5 | T10: 6 | U10: 7 | V10: 8 | W10: 9 | X10: 10 | Y10: 11 | Z10: 12 | AA10: 13 | AB10: 14 | AC10: 15
B11: szakág | C11: Helyszín | D11: beruházás megnevezése
B13: MÉLYFÚRÁSÚ KÚT, HAGYOMÁNYOS ÁTMÉRŐVEL
B14: Épület, építmény
B16: Gép, berendezés
B18: Irányítástechnika, energiaellátás
B20: Összesen: | J20: =SUM(J12:J18) -> 0
A22: III. Vízműtelep és vízkezelő létesítmények
C23: Helyszín | D23: beruházás megnevezése
B24: VÍZMŰTELEP
B25: Épület, építmény
B27: Gép, berendezés
B29: Irányítástechnika, energiaellátás
B31: VÍZKEZELŐ LÉTESÍTMÉNYEK
B32: Épület, építmény
B34: Gép, berendezés
B36: Irányítástechnika, energiaellátás
B38: Összesen | J38: =SUM(J24:J37) -> 0
A40: IV. Vízelosztás
C41: Helyszín | D41: beruházás megnevezése
B42: IVÓVÍZHÁLÓZAT
B43: Épület, építmény
B45: Gép, berendezés
B47: Irányítástechnika, energiaellátás
B49: VÍZTÁROLÓK
B50: Épület, építmény
B52: Gép, berendezés
B54: Irányítástechnika, energiaellátás
B56: NYOMÁSFOKOZÓK
B57: Épület, építmény
B59: Gép, berendezés
B61: Irányítástechnika, energiaellátás
B63: Összesen: | J63: =SUM(J42:J62) -> 0 | K63: =SUM(C67) -> 0 | O63: =SUM(O12:O62) -> 0 | P63: =SUM(P12:P62) -> 0 | Q63: =SUM(Q12:Q62) -> 0 | R63: =SUM(R12:R62) -> 0 | S63: =SUM(S12:S62) -> 0 | T63: =SUM(T12:T62) -> 0 | U63: =SUM(U12:U62) -> 0 | V63: =SUM(V12:V62) -> 0 | ... AC63: =SUM(AC12:AC62) -> 0
B66: Tervezett feladatok nettó költsége a teljes ütem tekintetében (eFt) | C66: Rendelkezésre álló források számszerűsített értéke a teljes ütem tekintetében (eFt) | D66: Forrás megnevezése a teljes ütem tekintetében
A67: I. ütem | B67: =SUM(O63) -> 0 | C67: 0 | D67: Fejlesztési díj (2020)
A68: II. ütem | B68: =SUM(P63:S63) -> 0 | C68: =C67*4 -> 0 | D68: Fejlesztési díj (2021-2024)
A69: III. ütem | B69: =SUM(T63:AC63) -> 0 | C69: =C67*10 -> 0 | D69: Fejlesztési díj (2025-2034)
B72: Jelenleg beruházási igény nem ismert.

Sheet Nagypáli
A1: Gördülő fejlesztési terv a 2020 - 2034 időszakra
A2: BERUHÁZÁSOK ÖSSZEFOGLALÓ TÁBLÁZATA
A3: A tervet benyújtó szervezet megnevezése: | K3: NAGYPÁLI | R3: ellátásért felelős / ellátásért felelősök képviselője / víziközmű-szolgáltató *
A4: Víziközmű-szolgáltató megnevezése: | K4: ÉSZAK ZALAI VÍZ- ÉS CSATORNAMŰ ZÁRTKÖRŰEN MŰKÖDŐ RÉSZVÉNYTÁRSASÁG
A5: Víziközmű-szolgáltatási ágazat megnevezése: | K5: IVÓVÍZ ÁGAZAT
A6: Véleményeltérést megfogalmazó érintett fél megnevezése:
A7: Víziközmű-rendszer kódja: ** | K7: 11-32054-1-025-01-14 | R7: Zalaegerszeg-IV
A8: I. Felszín alatti vízkivétel
A9: Fontossági sorrend | B9: Felujítás és pótlás megnevezése | E9: Műszaki állapot felmérés, szükségességi indoklás | H9: Vízjogi létesítési/elvi engedély száma | I9: Az érintett ellátásért felelős(ök) megnevezése | J9: Tervezett nettó költség | K9: Forrás 2020 évre | L9: Megvalósítás időtartama | N9: Tervezett időtáv | O9: A beruházás ütemezése a tervezési időszak évei szerint
E10: Jelenlegi műszaki állapot | F10: Feladat szükségessége | G10: Megvalósítást követő várható műszaki állapot | J10: (eFt) | L10: Kezdés | M10: Befejezés | N10: (rövid / közép / hosszú) | O10: 1 | P10: 2 | Q10: 3 | R10: 4 | S10: 5 | T10: 6 | U10: 7 | V10: 8 | W10: 9 | X10: 10 | Y10: 11 | Z10: 12 | AA10: 13 | AB10: 14 | AC10: 15
B11: szakág | C11: Helyszín | D11: beruházás megnevezése
B13: MÉLYFÚRÁSÚ KÚT, HAGYOMÁNYOS ÁTMÉRŐVEL
B14: Épület, építmény
B16: Gép, berendezés
B18: Irányítástechnika, energiaellátás
B20: Összesen: | J20: =SUM(J12:J19) -> 0
A22: III. Vízműtelep és vízkezelő létesítmények
C23: Helyszín | D23: beruházás megnevezése
B24: VÍZMŰTELEP
B25: Épület, építmény
B27: Gép, berendezés
B29: Irányítástechnika, energiaellátás
B31: VÍZKEZELŐ LÉTESÍTMÉNYEK
B32: Épület, építmény
B34: Gép, berendezés
B36: Irányítástechnika, energiaellátás
B38: Összesen | J38: =SUM(J24:J37) -> 0
A40: IV. Vízelosztás
C41: Helyszín | D41: beruházás megnevezése
B42: IVÓVÍZHÁLÓZAT
B43: Épület, építmény
B45: Gép, berendezés
B47: Irányítástechnika, energiaellátás
B49: VÍZTÁROLÓK
B50: Épület, építmény
B52: Gép, berendezés
B54: Irányítástechnika, energiaellátás
B56: NYOMÁSFOKOZÓK
B57: Épület, építmény
B59: Gép, berendezés
B61: Irányítástechnika, energiaellátás
B63: Összesen: | J63: =SUM(J42:J62) -> 0 | K63: 0 | O63: =SUM(O11:O62) -> 0 | P63: =SUM(P11:P62) -> 0 | Q63: =SUM(Q11:Q62) -> 0 | R63: =SUM(R11:R62) -> 0 | S63: =SUM(S11:S62) -> 0 | T63: =SUM(T11:T62) -> 0 | U63: =SUM(U11:U62) -> 0 | V63: =SUM(V11:V62) -> 0 | ... AC63: =SUM(AC11:AC62) -> 0
B66: Tervezett feladatok nettó költsége a teljes ütem tekintetében (eFt) | C66: Rendelkezésre álló források számszerűsített értéke a teljes ütem tekintetében (eFt) | D66: Forrás megnevezése a teljes ütem tekintetében
A67: I. ütem | B67: =SUM(O63) -> 0 | C67: =K63 -> 0 | D67: Fejlesztési díj (2020)
A68: II. ütem | B68: =SUM(P63:S63) -> 0 | C68: =C67*4 -> 0 | D68: Fejlesztési díj (2021-2024)
A69: III. ütem | B69: =SUM(T63:AC63) -> 0 | C69: =C67*10 -> 0 | D69: Fejlesztési díj (2025-2034)
B72: Jelenleg beruházási igény nem ismert, nincs rendelkezésre álló forrás beruházásra.

Sheet Németfalu
A1: Gördülő fejlesztési terv a 2020 - 2034 időszakra
A2: BERUHÁZÁSOK ÖSSZEFOGLALÓ TÁBLÁZATA
A3: A tervet benyújtó szervezet megnevezése: | K3: NÉMETFALU | R3: ellátásért felelős / ellátásért felelősök képviselője / víziközmű-szolgáltató *
A4: Víziközmű-szolgáltató megnevezése: | K4: ÉSZAK ZALAI VÍZ- ÉS CSATORNAMŰ ZÁRTKÖRŰEN MŰKÖDŐ RÉSZVÉNYTÁRSASÁG
A5: Víziközmű-szolgáltatási ágazat megnevezése: | K5: IVÓVÍZ ÁGAZAT
A6: Véleményeltérést megfogalmazó érintett fél megnevezése:
A7: Víziközmű-rendszer kódja: ** | K7: 11-32054-1-025-01-14 | R7: Zalaegerszeg-IV
A8: I. Felszín alatti vízkivétel
A9: Fontossági sorrend | B9: Felujítás és pótlás megnevezése | E9: Műszaki állapot felmérés, szükségességi indoklás | H9: Vízjogi létesítési/elvi engedély száma | I9: Az érintett ellátásért felelős(ök) megnevezése | J9: Tervezett nettó költség | K9: Forrás 2020 évre | L9: Megvalósítás időtartama | N9: Tervezett időtáv | O9: A beruházás ütemezése a tervezési időszak évei szerint
E10: Jelenlegi műszaki állapot | F10: Feladat szükségessége | G10: Megvalósítást követő várható műszaki állapot | J10: (eFt) | L10: Kezdés | M10: Befejezés | N10: (rövid / közép / hosszú) | O10: 1 | P10: 2 | Q10: 3 | R10: 4 | S10: 5 | T10: 6 | U10: 7 | V10: 8 | W10: 9 | X10: 10 | Y10: 11 | Z10: 12 | AA10: 13 | AB10: 14 | AC10: 15
B11: szakág | C11: Helyszín | D11: beruházás megnevezése
B13: MÉLYFÚRÁSÚ KÚT, HAGYOMÁNYOS ÁTMÉRŐVEL
B14: Épület, építmény
B16: Gép, berendezés
B18: Irányítástechnika, energiaellátás
B20: Összesen: | J20: =SUM(J12:J19) -> 0
A22: III. Vízműtelep és vízkezelő létesítmények
C23: Helyszín | D23: beruházás megnevezése
B24: VÍZMŰTELEP
B25: Épület, építmény
B27: Gép, berendezés
B29: Irányítástechnika, energiaellátás
B31: VÍZKEZELŐ LÉTESÍTMÉNYEK
B32: Épület, építmény
B34: Gép, berendezés
B36: Irányítástechnika, energiaellátás
B38: Összesen | J38: =SUM(J24:J37) -> 0
A40: IV. Vízelosztás
C41: Helyszín | D41: beruházás megnevezése
B42: IVÓVÍZHÁLÓZAT
B43: Épület, építmény
B45: Gép, berendezés
B47: Irányítástechnika, energiaellátás
B49: VÍZTÁROLÓK
B50: Épület, építmény
B52: Gép, berendezés
B54: Irányítástechnika, energiaellátás
B56: NYOMÁSFOKOZÓK
B57: Épület, építmény
B59: Gép, berendezés
B61: Irányítástechnika, energiaellátás
B63: Összesen: | J63: =SUM(J42:J62) -> 0 | O63: =SUM(O12:O62) -> 0 | P63: =SUM(P12:P62) -> 0 | Q63: =SUM(Q12:Q62) -> 0 | R63: =SUM(R12:R62) -> 0 | S63: =SUM(S12:S62) -> 0 | T63: =SUM(T12:T62) -> 0 | U63: =SUM(U12:U62) -> 0 | V63: =SUM(V12:V62) -> 0 | ... AC63: =SUM(AC12:AC62) -> 0
B66: Tervezett feladatok nettó költsége a teljes ütem tekintetében (eFt) | C66: Rendelkezésre álló források számszerűsített értéke a teljes ütem tekintetében (eFt) | D66: Forrás megnevezése a teljes ütem tekintetében
A67: I. ütem | B67: =SUM(O63) -> 0 | C67: 0 | D67: Fejlesztési díj (2020)
A68: II. ütem | B68: =SUM(P63:S63) -> 0 | C68: 0 | D68: Fejlesztési díj (2021-2024)
A69: III. ütem | B69: =SUM(T63:AC63) -> 0 | C69: 0 | D69: Fejlesztési díj (2025-2034)
B72: Jelenleg beruházási igény nem ismert, nincs rendelkezésre álló forrás beruházásra. | C72: Jelenleg beruházási igény nem ismert, nincs rendelkezésre álló forrás beruházásra.

Sheet Pálfiszeg
A1: Gördülő fejlesztési terv a 2020 - 2034 időszakra
A2: BERUHÁZÁSOK ÖSSZEFOGLALÓ TÁBLÁZATA
A3: A tervet benyújtó szervezet megnevezése: | K3: PÁLFISZEG | R3: ellátásért felelős / ellátásért felelősök képviselője / víziközmű-szolgáltató *
A4: Víziközmű-szolgáltató megnevezése: | K4: ÉSZAK ZALAI VÍZ- ÉS CSATORNAMŰ ZÁRTKÖRŰEN MŰKÖDŐ RÉSZVÉNYTÁRSASÁG
A5: Víziközmű-szolgáltatási ágazat megnevezése: | K5: IVÓVÍZ ÁGAZAT
A6: Véleményeltérést megfogalmazó érintett fél megnevezése:
A7: Víziközmű-rendszer kódja: ** | K7: 11-32054-1-025-01-14 | R7: Zalaegerszeg-IV
A8: I. Felszín alatti vízkivétel
A9: Fontossági sorrend | B9: Felujítás és pótlás megnevezése | E9: Műszaki állapot felmérés, szükségességi indoklás | H9: Vízjogi létesítési/elvi engedély száma | I9: Az érintett ellátásért felelős(ök) megnevezése | J9: Tervezett nettó költség | K9: Forrás 2020 évre | L9: Megvalósítás időtartama | N9: Tervezett időtáv | O9: A beruházás ütemezése a tervezési időszak évei szerint
E10: Jelenlegi műszaki állapot | F10: Feladat szükségessége | G10: Megvalósítást követő várható műszaki állapot | J10: (eFt) | L10: Kezdés | M10: Befejezés | N10: (rövid / közép / hosszú) | O10: 1 | P10: 2 | Q10: 3 | R10: 4 | S10: 5 | T10: 6 | U10: 7 | V10: 8 | W10: 9 | X10: 10 | Y10: 11 | Z10: 12 | AA10: 13 | AB10: 14 | AC10: 15
B11: szakág | C11: Helyszín | D11: beruházás megnevezése
B13: MÉLYFÚRÁSÚ KÚT, HAGYOMÁNYOS ÁTMÉRŐVEL
B14: Épület, építmény
B16: Gép, berendezés
B18: Irányítástechnika, energiaellátás
B20: Összesen: | J20: =SUM(J12:J19) -> 0
A22: III. Vízműtelep és vízkezelő létesítmények
C23: Helyszín | D23: beruházás megnevezése
B24: VÍZMŰTELEP
B25: Épület, építmény
B27: Gép, berendezés
B29: Irányítástechnika, energiaellátás
B31: VÍZKEZELŐ LÉTESÍTMÉNYEK
B32: Épület, építmény
B34: Gép, berendezés
B36: Irányítástechnika, energiaellátás
B38: Összesen | J38: =SUM(J24:J37) -> 0
A40: IV. Vízelosztás
C41: Helyszín | D41: beruházás megnevezése
B42: IVÓVÍZHÁLÓZAT
B43: Épület, építmény
B45: Gép, berendezés
B47: Irányítástechnika, energiaellátás
B49: VÍZTÁROLÓK
B50: Épület, építmény
B52: Gép, berendezés
B54: Irányítástechnika, energiaellátás
B56: NYOMÁSFOKOZÓK
B57: Épület, építmény
B59: Gép, berendezés
B61: Irányítástechnika, energiaellátás
B63: Összesen: | J63: =SUM(J42:J62) -> 0 | K63: 0 | O63: =SUM(O12:O62) -> 0 | P63: =SUM(P12:P62) -> 0 | Q63: =SUM(Q12:Q62) -> 0 | R63: =SUM(R12:R62) -> 0 | S63: =SUM(S12:S62) -> 0 | T63: =SUM(T12:T62) -> 0 | U63: =SUM(U12:U62) -> 0 | V63: =SUM(V12:V62) -> 0 | ... AC63: =SUM(AC12:AC62) -> 0
B66: Tervezett feladatok nettó költsége a teljes ütem tekintetében (eFt) | C66: Rendelkezésre álló források számszerűsített értéke a teljes ütem tekintetében (eFt) | D66: Forrás megnevezése a teljes ütem tekintetében
A67: I. ütem | B67: =SUM(O63) -> 0 | C67: =K63 -> 0 | D67: Fejlesztési díj (2020)
A68: II. ütem | B68: =SUM(P63:S63) -> 0 | C68: =C67*4 -> 0 | D68: Fejlesztési díj (2021-2024)
A69: III. ütem | B69: =SUM(T63:AC63) -> 0 | C69: =C67*10 -> 0 | D69: Fejlesztési díj (2025-2034)
B72: Jelenleg beruházási igény nem ismert, nincs rendelkezésre álló forrás beruházásra.

Sheet Sárhida
A1: Gördülő fejlesztési terv a 2020 - 2034 időszakra
A2: BERUHÁZÁSOK ÖSSZEFOGLALÓ TÁBLÁZATA
A3: A tervet benyújtó szervezet megnevezése: | K3: SÁRHIDA | R3: ellátásért felelős / ellátásért felelősök képviselője / víziközmű-szolgáltató *
A4: Víziközmű-szolgáltató megnevezése: | K4: ÉSZAK ZALAI VÍZ- ÉS CSATORNAMŰ ZÁRTKÖRŰEN MŰKÖDŐ RÉSZVÉNYTÁRSASÁG
A5: Víziközmű-szolgáltatási ágazat megnevezése: | K5: IVÓVÍZ ÁGAZAT
A6: Véleményeltérést megfogalmazó érintett fél megnevezése:
A7: Víziközmű-rendszer kódja: ** | K7: 11-32054-1-025-01-14 | R7: Zalaegerszeg-IV
A8: I. Felszín alatti vízkivétel
A9: Fontossági sorrend | B9: Felujítás és pótlás megnevezése | E9: Műszaki állapot felmérés, szükségességi indoklás | H9: Vízjogi létesítési/elvi engedély száma | I9: Az érintett ellátásért felelős(ök) megnevezése | J9: Tervezett nettó költség | K9: Forrás 2020 évre | L9: Megvalósítás időtartama | N9: Tervezett időtáv | O9: A beruházás ütemezése a tervezési időszak évei szerint
E10: Jelenlegi műszaki állapot | F10: Feladat szükségessége | G10: Megvalósítást követő várható műszaki állapot | J10: (eFt) | L10: Kezdés | M10: Befejezés | N10: (rövid / közép / hosszú) | O10: 1 | P10: 2 | Q10: 3 | R10: 4 | S10: 5 | T10: 6 | U10: 7 | V10: 8 | W10: 9 | X10: 10 | Y10: 11 | Z10: 12 | AA10: 13 | AB10: 14 | AC10: 15
B11: szakág | C11: Helyszín | D11: beruházás megnevezése
B13: MÉLYFÚRÁSÚ KÚT, HAGYOMÁNYOS ÁTMÉRŐVEL
B14: Épület, építmény
B16: Gép, berendezés
B18: Irányítástechnika, energiaellátás
B20: Összesen: | J20: =SUM(J12:J18) -> 0
A22: III. Vízműtelep és vízkezelő létesítmények
C23: Helyszín | D23: beruházás megnevezése
B24: VÍZMŰTELEP
B25: Épület, építmény
B27: Gép, berendezés
B29: Irányítástechnika, energiaellátás
B31: VÍZKEZELŐ LÉTESÍTMÉNYEK
B32: Épület, építmény
B34: Gép, berendezés
B36: Irányítástechnika, energiaellátás
B38: Összesen | J38: =SUM(J24:J37) -> 0
A40: IV. Vízelosztás
C41: Helyszín | D41: beruházás megnevezése
B42: IVÓVÍZHÁLÓZAT
B43: Épület, építmény
B45: Gép, berendezés
B47: Irányítástechnika, energiaellátás
B49: VÍZTÁROLÓK
B50: Épület, építmény
B52: Gép, berendezés
B54: Irányítástechnika, energiaellátás
B56: NYOMÁSFOKOZÓK
B57: Épület, építmény
B59: Gép, berendezés
B61: Irányítástechnika, energiaellátás
B63: Összesen: | J63: =SUM(J42:J62) -> 0 | K63: =SUM(C67) -> 0 | O63: =SUM(O12:O62) -> 0 | P63: =SUM(P12:P62) -> 0 | Q63: =SUM(Q12:Q62) -> 0 | R63: =SUM(R12:R62) -> 0 | S63: =SUM(S12:S62) -> 0 | T63: =SUM(T12:T62) -> 0 | U63: =SUM(U12:U62) -> 0 | V63: =SUM(V12:V62) -> 0 | ... AC63: =SUM(AC12:AC62) -> 0
B66: Tervezett feladatok nettó költsége a teljes ütem tekintetében (eFt) | C66: Rendelkezésre álló források számszerűsített értéke a teljes ütem tekintetében (eFt) | D66: Forrás megnevezése a teljes ütem tekintetében
A67: I. ütem | B67: =SUM(O63) -> 0 | C67: 0 | D67: Fejlesztési díj (2020)
A68: II. ütem | B68: =SUM(P63:S63) -> 0 | C68: =C67*4 -> 0 | D68: Fejlesztési díj (2021-2024)
A69: III. ütem | B69: =SUM(T63:AC63) -> 0 | C69: =C67*10 -> 0 | D69: Fejlesztési díj (2025-2034)
B72: Jelenleg beruházási igény nem ismert.

Sheet Teskánd
A1: Gördülő fejlesztési terv a 2020 - 2034 időszakra
A2: BERUHÁZÁSOK ÖSSZEFOGLALÓ TÁBLÁZATA
A3: A tervet benyújtó szervezet megnevezése: | K3: TESKÁND | R3: ellátásért felelős / ellátásért felelősök képviselője / víziközmű-szolgáltató *
A4: Víziközmű-szolgáltató megnevezése: | K4: ÉSZAK ZALAI VÍZ- ÉS CSATORNAMŰ ZÁRTKÖRŰEN MŰKÖDŐ RÉSZVÉNYTÁRSASÁG
A5: Víziközmű-szolgáltatási ágazat megnevezése: | K5: IVÓVÍZ ÁGAZAT
A6: Véleményeltérést megfogalmazó érintett fél megnevezése:
A7: Víziközmű-rendszer kódja: ** | K7: 11-32054-1-025-01-14 | R7: Zalaegerszeg-IV
A8: I. Felszín alatti vízkivétel
A9: Fontossági sorrend | B9: Felujítás és pótlás megnevezése | E9: Műszaki állapot felmérés, szükségességi indoklás | H9: Vízjogi létesítési/elvi engedély száma | I9: Az érintett ellátásért felelős(ök) megnevezése | J9: Tervezett nettó költség | K9: Forrás 2020 évre | L9: Megvalósítás időtartama | N9: Tervezett időtáv | O9: A beruházás ütemezése a tervezési időszak évei szerint
E10: Jelenlegi műszaki állapot | F10: Feladat szükségessége | G10: Megvalósítást követő várható műszaki állapot | J10: (eFt) | L10: Kezdés | M10: Befejezés | N10: (rövid / közép / hosszú) | O10: 1 | P10: 2 | Q10: 3 | R10: 4 | S10: 5 | T10: 6 | U10: 7 | V10: 8 | W10: 9 | X10: 10 | Y10: 11 | Z10: 12 | AA10: 13 | AB10: 14 | AC10: 15
B11: szakág | C11: Helyszín | D11: beruházás megnevezése
B13: MÉLYFÚRÁSÚ KÚT, HAGYOMÁNYOS ÁTMÉRŐVEL
B14: Épület, építmény
B16: Gép, berendezés
B18: Irányítástechnika, energiaellátás
B20: Összesen: | J20: =SUM(J12:J18) -> 0
A22: III. Vízműtelep és vízkezelő létesítmények
C23: Helyszín | D23: beruházás megnevezése
B24: VÍZMŰTELEP
B25: Épület, építmény
B27: Gép, berendezés
B29: Irányítástechnika, energiaellátás
B31: VÍZKEZELŐ LÉTESÍTMÉNYEK
B32: Épület, építmény
B34: Gép, berendezés
B36: Irányítástechnika, energiaellátás
B38: Összesen | J38: =SUM(J24:J37) -> 0
A40: IV. Vízelosztás
C41: Helyszín | D41: beruházás megnevezése
B42: IVÓVÍZHÁLÓZAT
B43: Épület, építmény
B45: Gép, berendezés
B47: Irányítástechnika, energiaellátás
B49: VÍZTÁROLÓK
B50: Épület, építmény
B52: Gép, berendezés
B54: Irányítástechnika, energiaellátás
B56: NYOMÁSFOKOZÓK
B57: Épület, építmény
B59: Gép, berendezés
B61: Irányítástechnika, energiaellátás
B63: Összesen: | J63: =SUM(J42:J62) -> 0 | K63: 0 | O63: =SUM(O12:O62) -> 0 | P63: =SUM(P12:P62) -> 0 | Q63: =SUM(Q12:Q62) -> 0 | R63: =SUM(R12:R62) -> 0 | S63: =SUM(S12:S62) -> 0 | T63: =SUM(T12:T62) -> 0 | U63: =SUM(U12:U62) -> 0 | V63: =SUM(V12:V62) -> 0 | ... AC63: =SUM(AC12:AC62) -> 0
B66: Tervezett feladatok nettó költsége a teljes ütem tekintetében (eFt) | C66: Rendelkezésre álló források számszerűsített értéke a teljes ütem tekintetében (eFt) | D66: Forrás megnevezése a teljes ütem tekintetében
A67: I. ütem | B67: =SUM(O63) -> 0 | C67: =K63 -> 0 | D67: Fejlesztési díj (2020)
A68: II. ütem | B68: =SUM(P63:S63) -> 0 | C68: =C67*4 -> 0 | D68: Fejlesztési díj (2021-2024)
A69: III. ütem | B69: =SUM(T63:AC63) -> 0 | C69: =C67*10 -> 0 | D69: Fejlesztési díj (2025-2034)
B72: Jelenleg beruházási igény nem ismert, nincs rendelkezésre álló forrás beruházásra.

Sheet Zalaboldogfa
A1: Gördülő fejlesztési terv a 2020 - 2034 időszakra
A2: BERUHÁZÁSOK ÖSSZEFOGLALÓ TÁBLÁZATA
A3: A tervet benyújtó szervezet megnevezése: | K3: ZALABOLDOGFA | R3: ellátásért felelős / ellátásért felelősök képviselője / víziközmű-szolgáltató *
A4: Víziközmű-szolgáltató megnevezése: | K4: ÉSZAK ZALAI VÍZ- ÉS CSATORNAMŰ ZÁRTKÖRŰEN MŰKÖDŐ RÉSZVÉNYTÁRSASÁG
A5: Víziközmű-szolgáltatási ágazat megnevezése: | K5: IVÓVÍZ ÁGAZAT
A6: Véleményeltérést megfogalmazó érintett fél megnevezése:
A7: Víziközmű-rendszer kódja: ** | K7: 11-32054-1-025-01-14 | R7: Zalaegerszeg-IV
A8: I. Felszín alatti vízkivétel
A9: Fontossági sorrend | B9: Felujítás és pótlás megnevezése | E9: Műszaki állapot felmérés, szükségességi indoklás | H9: Vízjogi létesítési/elvi engedély száma | I9: Az érintett ellátásért felelős(ök) megnevezése | J9: Tervezett nettó költség | K9: Forrás 2020 évre | L9: Megvalósítás időtartama | N9: Tervezett időtáv | O9: A beruházás ütemezése a tervezési időszak évei szerint
E10: Jelenlegi műszaki állapot | F10: Feladat szükségessége | G10: Megvalósítást követő várható műszaki állapot | J10: (eFt) | L10: Kezdés | M10: Befejezés | N10: (rövid / közép / hosszú) | O10: 1 | P10: 2 | Q10: 3 | R10: 4 | S10: 5 | T10: 6 | U10: 7 | V10: 8 | W10: 9 | X10: 10 | Y10: 11 | Z10: 12 | AA10: 13 | AB10: 14 | AC10: 15
B11: szakág | C11: Helyszín | D11: beruházás megnevezése
B13: MÉLYFÚRÁSÚ KÚT, HAGYOMÁNYOS ÁTMÉRŐVEL
B14: Épület, építmény
B16: Gép, berendezés
B18: Irányítástechnika, energiaellátás
B20: Összesen: | J20: =SUM(J12:J19) -> 0
A22: III. Vízműtelep és vízkezelő létesítmények
C23: Helyszín | D23: beruházás megnevezése
B24: VÍZMŰTELEP
B25: Épület, építmény
B27: Gép, berendezés
B29: Irányítástechnika, energiaellátás
B31: VÍZKEZELŐ LÉTESÍTMÉNYEK
B32: Épület, építmény
B34: Gép, berendezés
B36: Irányítástechnika, energiaellátás
B38: Összesen | J38: =SUM(J24:J37) -> 0
A40: IV. Vízelosztás
C41: Helyszín | D41: beruházás megnevezése
B42: IVÓVÍZHÁLÓZAT
B43: Épület, építmény
B45: Gép, berendezés
B47: Irányítástechnika, energiaellátás
B49: VÍZTÁROLÓK
B50: Épület, építmény
B52: Gép, berendezés
B54: Irányítástechnika, energiaellátás
B56: NYOMÁSFOKOZÓK
B57: Épület, építmény
B59: Gép, berendezés
B61: Irányítástechnika, energiaellátás
B63: Összesen: | J63: =SUM(J42:J62) -> 0 | K63: 0 | O63: =SUM(O12:O62) -> 0 | P63: =SUM(P12:P62) -> 0 | Q63: =SUM(Q12:Q62) -> 0 | R63: =SUM(R12:R62) -> 0 | S63: =SUM(S12:S62) -> 0 | T63: =SUM(T12:T62) -> 0 | U63: =SUM(U12:U62) -> 0 | V63: =SUM(V12:V62) -> 0 | ... AC63: =SUM(AC12:AC62) -> 0
B66: Tervezett feladatok nettó költsége a teljes ütem tekintetében (eFt) | C66: Rendelkezésre álló források számszerűsített értéke a teljes ütem tekintetében (eFt) | D66: Forrás megnevezése a teljes ütem tekintetében
A67: I. ütem | B67: =SUM(O63) -> 0 | C67: =K63 -> 0 | D67: Fejlesztési díj (2020)
A68: II. ütem | B68: =SUM(P63:S63) -> 0 | C68: =C67*4 -> 0 | D68: Fejlesztési díj (2021-2024)
A69: III. ütem | B69: =SUM(T63:AC63) -> 0 | C69: =C67*10 -> 0 | D69: Fejlesztési díj (2025-2034)
B72: Jelenleg beruházási igény nem ismert, nincs rendelkezésre álló forrás beruházásra.

Sheet Zalaegerszeg
A1: Gördülő fejlesztési terv a 2020 - 2034 időszakra
A2: BERUHÁZÁSOK ÖSSZEFOGLALÓ TÁBLÁZATA
A3: A tervet benyújtó szervezet megnevezése: | K3: ZALAEGERSZEG | R3: ellátásért felelős / ellátásért felelősök képviselője / víziközmű-szolgáltató *
A4: Víziközmű-szolgáltató megnevezése: | K4: ÉSZAK ZALAI VÍZ- ÉS CSATORNAMŰ ZÁRTKÖRŰEN MŰKÖDŐ RÉSZVÉNYTÁRSASÁG
A5: Víziközmű-szolgáltatási ágazat megnevezése: | K5: IVÓVÍZ ÁGAZAT
A6: Véleményeltérést megfogalmazó érintett fél megnevezése:
A7: Víziközmű-rendszer kódja: ** | K7: 11-32054-1-025-01-14 | R7: ZALAEGERSZEG-IV
A8: I. Felszín alatti vízkivétel
A9: Fontossági sorrend | B9: Felujítás és pótlás megnevezése | E9: Műszaki állapot felmérés, szükségességi indoklás | H9: Vízjogi létesítési/elvi engedély száma | I9: Az érintett ellátásért felelős(ök) megnevezése | J9: Tervezett nettó költség | K9: Forrás 2020 évre | L9: Megvalósítás időtartama | N9: Tervezett időtáv | O9: A beruházás ütemezése a tervezési időszak évei szerint
E10: Jelenlegi műszaki állapot | F10: Feladat szükségessége | G10: Megvalósítást követő várható műszaki állapot | J10: (eFt) | L10: Kezdés | M10: Befejezés | N10: (rövid / közép / hosszú) | O10: 1 | P10: 2 | Q10: 3 | R10: 4 | S10: 5 | T10: 6 | U10: 7 | V10: 8 | W10: 9 | X10: 10 | Y10: 11 | Z10: 12 | AA10: 13 | AB10: 14 | AC10: 15
B11: szakág | C11: Helyszín | D11: beruházás megnevezése
B13: MÉLYFÚRÁSÚ KÚT, HAGYOMÁNYOS ÁTMÉRŐVEL
B14: Épület, építmény
A15: 2 | C15: Zalaegerszeg É-i városrész | D15: É-i vízbázis előkészítése | I15: Zalaegerszeg | J15: =SUM(O15:AC15) -> 30000 | L15: 43831 | M15: 44196 | N15: rövid | O15: 30000
B16: Gép, berendezés
B18: Irányítástechnika, energiaellátás
B20: Összesen: | J20: =SUM(J12:J18) -> 30000
A22: III. Vízműtelep és vízkezelő létesítmények
C23: Helyszín | D23: beruházás megnevezése
B24: VÍZMŰTELEP
B25: Épület, építmény
B27: Gép, berendezés
B29: Irányítástechnika, energiaellátás
B31: VÍZKEZELŐ LÉTESÍTMÉNYEK
B32: Épület, építmény
B34: Gép, berendezés
A35: 1 | C35: Zalaegerszeg Keleti vízbázisról ellátott települések | D35: ivóvízminőség javítása és vízellátásának fejlesztése | I35: Zalaegerszeg | J35: =SUM(O35:AC35) -> 1588332 | L35: 43831 | M35: 44196 | N35: rövid | O35: 1588332
C36: Zalaegerszeg Keleti vízbázisról ellátott települések | D36: ivóvízminőség javítása és vízellátásának fejlesztése | I36: Zalaegerszeg | J36: =SUM(O36:AC36) -> 533824 | L36: 44197 | M36: 44561 | N36: közép | P36: 533824
B37: Irányítástechnika, energiaellátás
B39: Összesen | J39: =SUM(J24:J38) -> 2122156
A41: IV. Vízelosztás
C42: Helyszín | D42: beruházás megnevezése
B43: IVÓVÍZHÁLÓZAT
B44: Épület, építmény
A45: 3 | C45: Nyugat- és Dél-Dúnántúli ivóvízminőség-javító program | D45: ivóvízminőség javítása és vízellátásának fejlesztése | I45: Zalaegerszeg | J45: =SUM(O45:AC45) -> 45450 | L45: 43831 | M45: 44196 | N45: rövid | O45: 45450
C46: Nyugat- és Dél-Dúnántúli ivóvízminőség-javító program | D46: ivóvízminőség javítása és vízellátásának fejlesztése | I46: Zalaegerszeg | J46: =SUM(O46:AC46) -> 110050 | L46: 44197 | M46: 44926 | N46: közép | P46: 64600 | Q46: 45450
B48: Irányítástechnika, energiaellátás
B50: VÍZTÁROLÓK
B51: Épület, építmény
B52: Gép, berendezés
B54: Irányítástechnika, energiaellátás
B56: NYOMÁSFOKOZÓK
B57: Épület, építmény
B58: Gép, berendezés
B60: Irányítástechnika, energiaellátás
B62: Összesen: | J62: =SUM(J43:J61) -> 155500 | K62: =SUM(C66:C68) -> 1663782 | O62: =SUM(O12:O61) -> 1663782 | P62: =SUM(P12:P61) -> 598424 | Q62: =SUM(Q12:Q61) -> 45450 | R62: =SUM(R12:R61) -> 0 | S62: =SUM(S12:S61) -> 0 | T62: =SUM(T12:T61) -> 0 | U62: =SUM(U12:U61) -> 0 | V62: =SUM(V12:V61) -> 0 | ... AC62: =SUM(AC12:AC61) -> 0
O63: 2020 évre a fejlesztési forrás biztosított
B65: Tervezett feladatok nettó költsége a teljes ütem tekintetében (eFt) | C65: Rendelkezésre álló források számszerűsített értéke a teljes ütem tekintetében (eFt) | D65: Forrás megnevezése a teljes ütem tekintetében
A66: I. ütem | B66: =SUM(O62) -> 1663782 | C66: 0 | D66: Viziközmű fejlesztési hozzájárulás
A67: I. ütem | C67: 1633782 | D67: KEHOP pályázati forrás
A68: I. ütem | C68: 30000 | D68: Önkormányzati saját forrás
A69: II. ütem | B69: =SUM(P62:S62) -> 643874 | C69: 643874 | D69: KEHOP pályázati forrás
A70: III. ütem | B70: =SUM(T62:AC62) -> 0 | C70: 0 | D70: Fejlesztési díj (2025-2034)

Sheet Zalaszentgyörgy
A1: Gördülő fejlesztési terv a 2020 - 2034 időszakra
A2: BERUHÁZÁSOK ÖSSZEFOGLALÓ TÁBLÁZATA
A3: A tervet benyújtó szervezet megnevezése: | K3: ZALASZENTGYÖRGY | R3: ellátásért felelős / ellátásért felelősök képviselője / víziközmű-szolgáltató *
A4: Víziközmű-szolgáltató megnevezése: | K4: ÉSZAK ZALAI VÍZ- ÉS CSATORNAMŰ ZÁRTKÖRŰEN MŰKÖDŐ RÉSZVÉNYTÁRSASÁG
A5: Víziközmű-szolgáltatási ágazat megnevezése: | K5: IVÓVÍZ ÁGAZAT
A6: Véleményeltérést megfogalmazó érintett fél megnevezése:
A7: Víziközmű-rendszer kódja: ** | K7: 11-32054-1-025-01-14 | R7: Zalaegerszeg-IV
A8: I. Felszín alatti vízkivétel
A9: Fontossági sorrend | B9: Felujítás és pótlás megnevezése | E9: Műszaki állapot felmérés, szükségességi indoklás | H9: Vízjogi létesítési/elvi engedély száma | I9: Az érintett ellátásért felelős(ök) megnevezése | J9: Tervezett nettó költség | K9: Forrás 2020 évre | L9: Megvalósítás időtartama | N9: Tervezett időtáv | O9: A beruházás ütemezése a tervezési időszak évei szerint
E10: Jelenlegi műszaki állapot | F10: Feladat szükségessége | G10: Megvalósítást követő várható műszaki állapot | J10: (eFt) | L10: Kezdés | M10: Befejezés | N10: (rövid / közép / hosszú) | O10: 1 | P10: 2 | Q10: 3 | R10: 4 | S10: 5 | T10: 6 | U10: 7 | V10: 8 | W10: 9 | X10: 10 | Y10: 11 | Z10: 12 | AA10: 13 | AB10: 14 | AC10: 15
B11: szakág | C11: Helyszín | D11: beruházás megnevezése
B13: MÉLYFÚRÁSÚ KÚT, HAGYOMÁNYOS ÁTMÉRŐVEL
B14: Épület, építmény
B16: Gép, berendezés
B18: Irányítástechnika, energiaellátás
B20: Összesen: | J20: =SUM(J12:J19) -> 0
A22: III. Vízműtelep és vízkezelő létesítmények
C23: Helyszín | D23: beruházás megnevezése
B24: VÍZMŰTELEP
B25: Épület, építmény
B27: Gép, berendezés
B29: Irányítástechnika, energiaellátás
B31: VÍZKEZELŐ LÉTESÍTMÉNYEK
B32: Épület, építmény
B34: Gép, berendezés
B36: Irányítástechnika, energiaellátás
B38: Összesen | J38: =SUM(J24:J37) -> 0
A40: IV. Vízelosztás
C41: Helyszín | D41: beruházás megnevezése
B42: IVÓVÍZHÁLÓZAT
B43: Épület, építmény
B45: Gép, berendezés
B47: Irányítástechnika, energiaellátás
B49: VÍZTÁROLÓK
B50: Épület, építmény
B52: Gép, berendezés
B54: Irányítástechnika, energiaellátás
B56: NYOMÁSFOKOZÓK
B57: Épület, építmény
B59: Gép, berendezés
B61: Irányítástechnika, energiaellátás
B63: Összesen: | J63: =SUM(J42:J62) -> 0 | K63: 0 | O63: =SUM(O12:O62) -> 0 | P63: =SUM(P12:P62) -> 0 | Q63: =SUM(Q12:Q62) -> 0 | R63: =SUM(R12:R62) -> 0 | S63: =SUM(S12:S62) -> 0 | T63: =SUM(T12:T62) -> 0 | U63: =SUM(U12:U62) -> 0 | V63: =SUM(V12:V62) -> 0 | ... AC63: =SUM(AC12:AC62) -> 0
B66: Tervezett feladatok nettó költsége a teljes ütem tekintetében (eFt) | C66: Rendelkezésre álló források számszerűsített értéke a teljes ütem tekintetében (eFt) | D66: Forrás megnevezése a teljes ütem tekintetében
A67: I. ütem | B67: =SUM(O63) -> 0 | C67: =K63 -> 0 | D67: Fejlesztési díj (2020)
A68: II. ütem | B68: =SUM(P63:S63) -> 0 | C68: =C67*4 -> 0 | D68: Fejlesztési díj (2021-2024)
A69: III. ütem | B69: =SUM(T63:AC63) -> 0 | C69: =C67*10 -> 0 | D69: Fejlesztési díj (2025-2034)
B72: Jelenleg beruházási igény nem ismert, nincs rendelkezésre álló forrás beruházásra.

Sheet VKR_összesítő
A1: Gördülő fejlesztési terv a 2020 - 2034 időszakra
A2: BERUHÁZÁSOK ÖSSZEFOGLALÓ TÁBLÁZATA
A3: A tervet benyújtó szervezet megnevezése: | K3: BABOSDÖBRÉTE, BOCFÖLDE, BÖDE, CSATÁR, HOTTÓ, KISKUTAS, NAGYKUTAS, SÁRHIDA, TESKÁND, ZALAEGERSZEG | R3: ellátásért felelős / ellátásért felelősök képviselője / víziközmű-szolgáltató *
A4: Víziközmű-szolgáltató megnevezése: | K4: ÉSZAK ZALAI VÍZ- ÉS CSATORNAMŰ ZÁRTKÖRŰEN MŰKÖDŐ RÉSZVÉNYTÁRSASÁG
A5: Víziközmű-szolgáltatási ágazat megnevezése: | K5: IVÓVÍZ ÁGAZAT
A6: Véleményeltérést megfogalmazó érintett fél megnevezése:
A7: Víziközmű-rendszer kódja: ** | K7: 11-32054-1-025-01-14 | R7: ZALAEGERSZEG-IV
A8: I. Felszín alatti vízkivétel
A9: Fontossági sorrend | B9: Felujítás és pótlás megnevezése | E9: Műszaki állapot felmérés, szükségességi indoklás | H9: Vízjogi létesítési/elvi engedély száma | I9: Az érintett ellátásért felelős(ök) megnevezése | J9: Tervezett nettó költség | K9: Forrás 2020 évre | L9: Megvalósítás időtartama | N9: Tervezett időtáv | O9: A beruházás ütemezése a tervezési időszak évei szerint
E10: Jelenlegi műszaki állapot | F10: Feladat szükségessége | G10: Megvalósítást követő várható műszaki állapot | J10: (eFt) | L10: Kezdés | M10: Befejezés | N10: (rövid / közép / hosszú) | O10: 1 | P10: 2 | Q10: 3 | R10: 4 | S10: 5 | T10: 6 | U10: 7 | V10: 8 | W10: 9 | X10: 10 | Y10: 11 | Z10: 12 | AA10: 13 | AB10: 14 | AC10: 15
B11: szakág | C11: Helyszín | D11: beruházás megnevezése
B13: MÉLYFÚRÁSÚ KÚT, HAGYOMÁNYOS ÁTMÉRŐVEL
B14: Épület, építmény
A15: =Zalaegerszeg!A15 -> 2 | C15: =Zalaegerszeg!C15 -> Zalaegerszeg É-i városrész | D15: =Zalaegerszeg!D15 -> É-i vízbázis előkészítése | I15: =Zalaegerszeg!I15 -> Zalaegerszeg | J15: =Zalaegerszeg!J15 -> 30000 | L15: =Zalaegerszeg!L15 -> 43831 | M15: =Zalaegerszeg!M15 -> 44196 | N15: =Zalaegerszeg!N15 -> rövid | O15: =Zalaegerszeg!O15 -> 30000
B16: Gép, berendezés
B18: Irányítástechnika, energiaellátás
B20: Összesen: | J20: =SUM(J13:J18) -> 30000
A22: III. Vízműtelep és vízkezelő létesítmények
C23: Helyszín | D23: beruházás megnevezése
B24: VÍZMŰTELEP
B25: Épület, építmény
B27: Gép, berendezés
B29: Irányítástechnika, energiaellátás
B31: VÍZKEZELŐ LÉTESÍTMÉNYEK
B32: Épület, építmény
B34: Gép, berendezés
A35: =Zalaegerszeg!A35 -> 1 | C35: =Zalaegerszeg!C35 -> Zalaegerszeg Keleti vízbázisról ellátott települések | D35: =Zalaegerszeg!D35 -> ivóvízminőség javítása és vízellátásának fejlesztése | I35: =Zalaegerszeg!I35 -> Zalaegerszeg | J35: =Zalaegerszeg!J35 -> 1588332 | L35: =Zalaegerszeg!L35 -> 43831 | M35: =Zalaegerszeg!M35 -> 44196 | N35: =Zalaegerszeg!N35 -> rövid | O35: =Zalaegerszeg!O35 -> 1588332
C36: =Zalaegerszeg!C36 -> Zalaegerszeg Keleti vízbázisról ellátott települések | D36: =Zalaegerszeg!D36 -> ivóvízminőség javítása és vízellátásának fejlesztése | I36: =Zalaegerszeg!I36 -> Zalaegerszeg | J36: =Zalaegerszeg!J36 -> 533824 | L36: =Zalaegerszeg!L36 -> 44197 | M36: =Zalaegerszeg!M36 -> 44561 | N36: =Zalaegerszeg!N36 -> közép | P36: =Zalaegerszeg!P36 -> 533824
B37: Irányítástechnika, energiaellátás
B39: Összesen | J39: =SUM(J24:J38) -> 2122156
A41: IV. Vízelosztás
C42: Helyszín | D42: beruházás megnevezése
B43: IVÓVÍZHÁLÓZAT
B44: Épület, építmény
A45: =Zalaegerszeg!A45 -> 3 | C45: =Zalaegerszeg!C45 -> Nyugat- és Dél-Dúnántúli ivóvízminőség-javító program | D45: =Zalaegerszeg!D45 -> ivóvízminőség javítása és vízellátásának fejlesztése | I45: =Zalaegerszeg!I45 -> Zalaegerszeg | J45: =Zalaegerszeg!J45 -> 45450 | L45: =Zalaegerszeg!L45 -> 43831 | M45: =Zalaegerszeg!M45 -> 44196 | N45: =Zalaegerszeg!N45 -> rövid | O45: =Zalaegerszeg!O45 -> 45450
C46: =Zalaegerszeg!C46 -> Nyugat- és Dél-Dúnántúli ivóvízminőség-javító program | D46: =Zalaegerszeg!D46 -> ivóvízminőség javítása és vízellátásának fejlesztése | I46: =Zalaegerszeg!I46 -> Zalaegerszeg | J46: =Zalaegerszeg!J46 -> 110050 | L46: =Zalaegerszeg!L46 -> 44197 | M46: =Zalaegerszeg!M46 -> 44926 | N46: =Zalaegerszeg!N46 -> közép | P46: =Zalaegerszeg!P46 -> 64600
B48: Gép, berendezés
B50: Irányítástechnika, energiaellátás
B52: VÍZTÁROLÓK
B53: Épület, építmény
B55: Gép, berendezés
B57: Irányítástechnika, energiaellátás
B59: NYOMÁSFOKOZÓK
B60: Épület, építmény
B62: Gép, berendezés
B64: Irányítástechnika, energiaellátás
B66: Összesen: | J66: =SUM(J43:J65) -> 155500 | K66: =Bocfölde!K63+Kiskutas!K63+Nagykutas!K63+Sárhida!K63+Zalaegerszeg!K62 -> 1663782 | O66: =SUM(O12:O65) -> 1663782 | P66: =SUM(P12:P65) -> 598424 | Q66: =SUM(Q12:Q65) -> 0 | R66: =SUM(R12:R65) -> 0 | S66: =SUM(S12:S65) -> 0 | T66: =SUM(T12:T65) -> 0 | U66: =SUM(U12:U65) -> 0 | V66: =SUM(V12:V65) -> 0 | ... AC66: =SUM(AC12:AC65) -> 0
K67: 2020 évre a forrás biztosított
B69: Tervezett feladatok nettó költsége a teljes ütem tekintetében (eFt) | C69: Rendelkezésre álló források számszerűsített értéke a teljes ütem tekintetében (eFt) | D69: Forrás megnevezése a teljes ütem tekintetében
A70: I. ütem | B70: =SUM(O66) -> 1663782 | C70: =Kiskutas!C67+Nagykutas!C67+Sárhida!C67 -> 0 | D70: Fejlesztési díj
A71: I. ütem | C71: =Bocfölde!C68+Zalaegerszeg!C66 -> 0 | D71: Viziközmű fejlesztési hozzájárulás
A72: I. ütem | C72: =Zalaegerszeg!C67 -> 1633782 | D72: KEHOP pályázati forrás
A73: I. ütem | C73: =Zalaegerszeg!C68 -> 30000 | D73: Önkormányzati saját forrás
A74: II. ütem | B74: =SUM(P66:S66) -> 598424 | C74: =Babosdöbréte!C68+Bocfölde!C69+Böde!C68+Csatár!C68+Hottó!C68+Kiskutas!C68+Nagykutas!C68+Sárhida!C68+Teskánd!C68+Zalaegerszeg!C69 -> 643874 | D74: KEHOP pályázati forrás
A75: III. ütem | B75: =SUM(T66:AC66) -> 0 | C75: =Babosdöbréte!C69+Bocfölde!C70+Böde!C69+Csatár!C69+Hottó!C69+Kiskutas!C69+Nagykutas!C69+Sárhida!C69+Teskánd!C69+Zalaegerszeg!C70 -> 0 | D75: Fejlesztési díj (2025-2034)
