Workbook

Sheet Babosdöbréte
A1: Gördülő fejlesztési terv a 2017 - 2031 időszakra
A2: FELÚJÍTÁSOK ÉS PÓTLÁSOK ÖSSZEFOGLALÓ TÁBLÁZATA
A3: A tervet benyújtó szervezet megnevezése: | K3: BABOSDÖBRÉTE | R3: ellátásért felelős / ellátásért felelősök képviselője / víziközmű-szolgáltató *
A4: Víziközmű-szolgáltató megnevezése: | K4: ÉSZAK ZALAI VÍZ- ÉS CSATORNAMŰ ZÁRTKÖRŰEN MŰKÖDŐ RÉSZVÉNYTÁRSASÁG
A5: Víziközmű-szolgáltatási ágazat megnevezése: | K5: IVÓVÍZ ÁGAZAT
A6: Véleményeltérést megfogalmazó érintett fél megnevezése:
A7: Víziközmű-rendszer kódja: ** | K7: 11-32054-1-010-00-14 | R7: BABOSDÖBRÉTE-IV
A8: I. Felszín alatti vízkivétel
A9: Fontossági sorrend | B9: Felujítás és pótlás megnevezése | E9: Műszaki állapot felmérés, szükségességi indoklás | H9: Vízjogi létesítési/elvi engedély száma | I9: Az érintett ellátásért felelős(ök) megnevezése | J9: Tervezett nettó költség | K9: Forrás 2017 évre | L9: Megvalósítás időtartama | N9: Tervezett időtáv | O9: A beruházás ütemezése a tervezési időszak évei szerint
E10: Jelenlegi műszaki állapot | F10: Feladat szükségessége | G10: Megvalósítást követő várható műszaki állapot | J10: (eFt) | L10: Kezdés | M10: Befejezés | N10: (rövid / közép / hosszú) | O10: 1 | P10: 2 | Q10: 3 | R10: 4 | S10: 5 | T10: 6 | U10: 7 | V10: 8 | W10: 9 | X10: 10 | Y10: 11 | Z10: 12 | AA10: 13 | AB10: 14 | AC10: 15
B11: szakág | C11: Helyszín | D11: beruházás megnevezése
A12: 1 | D12: Rendkívüli helyzetből adódó azonnali feladatok (max. 5%) | F12: működőképeség biztosítása | I12: Babosdöbréte | J12: =SUM(O12:AC12) -> 687 | L12: 42736 | M12: 48213 | O12: =0.05*$K$120 -> 45.8 | P12: =0.05*$K$120 -> 45.8 | Q12: =0.05*$K$120 -> 45.8 | R12: =0.05*$K$120 -> 45.8 | S12: =0.05*$K$120 -> 45.8 | T12: =0.05*$K$120 -> 45.8 | U12: =0.05*$K$120 -> 45.8 | V12: =0.05*$K$120 -> 45.8 | ... AC12: =0.05*$K$120 -> 45.8
B13: MÉLYFÚRÁSÚ KÚT, HAGYOMÁNYOS ÁTMÉRŐVEL
B14: Épület, építmény
A15: 48 | C15: Zalaegerszeg … kút | D15: kútfelújítás | E15: Az objektum kora, műszaki állapota miatt fennáll a meghibásodás veszélye. Feladat szükségessége | F15: A felhasználók folyamatos vízellátásának biztosítására | G15: Az elvárt vízigényeket kielégítő megfelelő műszaki állapotú vízbázis. | I15: Zalaegerszeg tulajdonosközösség | J15: =SUM(O15:AC15) -> 30 | L15: 44562 | M15: 44926 | N15: hosszú | T15: 30
A16: 79 | C16: Zalaegerszeg … kút | D16: kútfelújítás | E16: Az objektum kora, műszaki állapota miatt fennáll a meghibásodás veszélye. Feladat szükségessége | F16: A felhasználók folyamatos vízellátásának biztosítására | G16: Az elvárt vízigényeket kielégítő megfelelő műszaki állapotú vízbázis. | I16: Zalaegerszeg tulajdonosközösség | J16: =SUM(O16:AC16) -> 30 | L16: 46388 | M16: 46752 | N16: hosszú | Y16: 30
B18: Gép, berendezés
A19: 66 | C19: Zalaegerszeg … kút | D19: Szivattyú csere 2 db | E19: A szivattyú kora, műszaki állapota miatt fennáll a meghibásodás veszélye. | F19: A folyamatos víztermelés biztosítása. | G19: A Q–H diagramhoz illeszkedő energiahatékony szivattyú üzemeltetése. | I19: Zalaegerszeg tulajdonosközösség | J19: =SUM(O19:AC19) -> 3 | L19: 44927 | M19: 45291 | N19: hosszú | U19: 3
C20: Zalaegerszeg … kút | D20: Gépészeti felújítás 2 db | E20: A szerelvények és vezetékek, műszaki állapota miatt fennáll a meghibásodás veszélye. | F20: A folyamatos víztermelés biztosítása. | G20: A gépészeti funkciókat kifogástalanul ellátó szerelvények. | I20: Zalaegerszeg tulajdonosközösség | J20: =SUM(O20:AC20) -> 10 | L20: 44927 | M20: 45291 | N20: hosszú | U20: 10
A21: 70 | C21: Zalaegerszeg … kút | D21: Szivattyú csere 2 db | E21: A szivattyú kora, műszaki állapota miatt fennáll a meghibásodás veszélye. | F21: A folyamatos víztermelés biztosítása. | G21: A Q–H diagramhoz illeszkedő energiahatékony szivattyú üzemeltetése. | I21: Zalaegerszeg tulajdonosközösség | J21: =SUM(O21:AC21) -> 3 | L21: 45292 | M21: 45657 | N21: hosszú | V21: 3
C22: Zalaegerszeg … kút | D22: Gépészeti felújítás 2 db | E22: A szerelvények és vezetékek, műszaki állapota miatt fennáll a meghibásodás veszélye. | F22: A folyamatos víztermelés biztosítása. | G22: A gépészeti funkciókat kifogástalanul ellátó szerelvények. | I22: Zalaegerszeg tulajdonosközösség | J22: =SUM(O22:AC22) -> 10 | L22: 45292 | M22: 45657 | N22: hosszú | V22: 10
A23: 72 | C23: Zalaegerszeg … kút | D23: Szivattyú csere 2 db | E23: A szivattyú kora, műszaki állapota miatt fennáll a meghibásodás veszélye. | F23: A folyamatos víztermelés biztosítása. | G23: A Q–H diagramhoz illeszkedő energiahatékony szivattyú üzemeltetése. | I23: Zalaegerszeg tulajdonosközösség | J23: =SUM(O23:AC23) -> 3 | L23: 45658 | M23: 46022 | N23: hosszú | W23: 3
C24: Zalaegerszeg … kút | D24: Gépészeti felújítás 2 db | E24: A szerelvények és vezetékek, műszaki állapota miatt fennáll a meghibásodás veszélye. | F24: A folyamatos víztermelés biztosítása. | G24: A gépészeti funkciókat kifogástalanul ellátó szerelvények. | I24: Zalaegerszeg tulajdonosközösség | J24: =SUM(O24:AC24) -> 10 | L24: 45658 | M24: 46022 | N24: hosszú | W24: 10
A25: 75 | C25: Zalaegerszeg … kút | D25: Szivattyú csere 2 db | E25: A szivattyú kora, műszaki állapota miatt fennáll a meghibásodás veszélye. | F25: A folyamatos víztermelés biztosítása. | G25: A Q–H diagramhoz illeszkedő energiahatékony szivattyú üzemeltetése. | I25: Zalaegerszeg tulajdonosközösség | J25: =SUM(O25:AC25) -> 3 | L25: 46023 | M25: 46387 | N25: hosszú | X25: 3
C26: Zalaegerszeg … kút | D26: Gépészeti felújítás 2 db | E26: A szerelvények és vezetékek, műszaki állapota miatt fennáll a meghibásodás veszélye. | F26: A folyamatos víztermelés biztosítása. | G26: A gépészeti funkciókat kifogástalanul ellátó szerelvények. | I26: Zalaegerszeg tulajdonosközösség | J26: =SUM(O26:AC26) -> 10 | L26: 46023 | M26: 46387 | N26: hosszú | X26: 10
A27: 80 | C27: Zalaegerszeg … kút | D27: Szivattyú csere 2 db | E27: A szivattyú kora, műszaki állapota miatt fennáll a meghibásodás veszélye. | F27: A folyamatos víztermelés biztosítása. | G27: A Q–H diagramhoz illeszkedő energiahatékony szivattyú üzemeltetése. | I27: Zalaegerszeg tulajdonosközösség | J27: =SUM(O27:AC27) -> 3 | L27: 46388 | M27: 46752 | N27: hosszú | Y27: 3
C28: Zalaegerszeg … kút | D28: Gépészeti felújítás 2 db | E28: A szerelvények és vezetékek, műszaki állapota miatt fennáll a meghibásodás veszélye. | F28: A folyamatos víztermelés biztosítása. | G28: A gépészeti funkciókat kifogástalanul ellátó szerelvények. | I28: Zalaegerszeg tulajdonosközösség | J28: =SUM(O28:AC28) -> 10 | L28: 46388 | M28: 46752 | N28: hosszú | Y28: 10
A29: 85 | C29: Zalaegerszeg … kút | D29: Szivattyú csere 2 db | E29: A szivattyú kora, műszaki állapota miatt fennáll a meghibásodás veszélye. | F29: A folyamatos víztermelés biztosítása. | G29: A Q–H diagramhoz illeszkedő energiahatékony szivattyú üzemeltetése. | I29: Zalaegerszeg tulajdonosközösség | J29: =SUM(O29:AC29) -> 3 | L29: 46753 | M29: 47118 | N29: hosszú | Z29: 3
C30: Zalaegerszeg … kút | D30: Gépészeti felújítás 2 db | E30: A szerelvények és vezetékek, műszaki állapota miatt fennáll a meghibásodás veszélye. | F30: A folyamatos víztermelés biztosítása. | G30: A gépészeti funkciókat kifogástalanul ellátó szerelvények. | I30: Zalaegerszeg tulajdonosközösség | J30: =SUM(O30:AC30) -> 10 | L30: 46753 | M30: 47118 | N30: hosszú | Z30: 10
A31: 88 | C31: Zalaegerszeg … kút | D31: Szivattyú csere 2 db | E31: A szivattyú kora, műszaki állapota miatt fennáll a meghibásodás veszélye. | F31: A folyamatos víztermelés biztosítása. | G31: A Q–H diagramhoz illeszkedő energiahatékony szivattyú üzemeltetése. | I31: Zalaegerszeg tulajdonosközösség | J31: =SUM(O31:AC31) -> 3 | L31: 47119 | M31: 47483 | N31: hosszú | AA31: 3
C32: Zalaegerszeg … kút | D32: Gépészeti felújítás 2 db | E32: A szerelvények és vezetékek, műszaki állapota miatt fennáll a meghibásodás veszélye. | F32: A folyamatos víztermelés biztosítása. | G32: A gépészeti funkciókat kifogástalanul ellátó szerelvények. | I32: Zalaegerszeg tulajdonosközösség | J32: =SUM(O32:AC32) -> 10 | L32: 47119 | M32: 47483 | N32: hosszú | AA32: 10
A33: 90 | C33: Zalaegerszeg … kút | D33: Szivattyú csere 2 db | E33: A szivattyú kora, műszaki állapota miatt fennáll a meghibásodás veszélye. | F33: A folyamatos víztermelés biztosítása. | G33: A Q–H diagramhoz illeszkedő energiahatékony szivattyú üzemeltetése. | I33: Zalaegerszeg tulajdonosközösség | J33: =SUM(O33:AC33) -> 3 | L33: 47484 | M33: 47848 | N33: hosszú | AB33: 3
C34: Zalaegerszeg … kút | D34: Gépészeti felújítás 2 db | E34: A szerelvények és vezetékek, műszaki állapota miatt fennáll a meghibásodás veszélye. | F34: A folyamatos víztermelés biztosítása. | G34: A gépészeti funkciókat kifogástalanul ellátó szerelvények. | I34: Zalaegerszeg tulajdonosközösség | J34: =SUM(O34:AC34) -> 10 | L34: 47484 | M34: 47848 | N34: hosszú | AB34: 10
A35: 92 | C35: Zalaegerszeg … kút | D35: Szivattyú csere 2 db | E35: A szivattyú kora, műszaki állapota miatt fennáll a meghibásodás veszélye. | F35: A folyamatos víztermelés biztosítása. | G35: A Q–H diagramhoz illeszkedő energiahatékony szivattyú üzemeltetése. | I35: Zalaegerszeg tulajdonosközösség | J35: =SUM(O35:AC35) -> 3 | L35: 47849 | M35: 48213 | N35: hosszú | AC35: 3
C36: Zalaegerszeg … kút | D36: Gépészeti felújítás 2 db | E36: A szerelvények és vezetékek, műszaki állapota miatt fennáll a meghibásodás veszélye. | F36: A folyamatos víztermelés biztosítása. | G36: A gépészeti funkciókat kifogástalanul ellátó szerelvények. | I36: Zalaegerszeg tulajdonosközösség | J36: =SUM(O36:AC36) -> 10 | L36: 47849 | M36: 48213 | N36: hosszú | AC36: 10
B38: Irányítástechnika, energiaellátás
A39: 7 | C39: Zalaegerszeg D1 - D3 kút | D39: 20 kV hálózat felújítása, oszlopszigetelő és távtartó csere, túláramvédelem felújítás | E39: Az elektromos, irányítástechnikai szerelvények és vezetékek, műszaki állapota miatt fennáll a meghibásodás veszélye. | F39: A búvárszivattyú elektromos megtáplálása, a folyamatos távfelügyelet biztosítása. | G39: A búvárszivattyú elektromos paramétereihez illeszkedő erősáramú és vezérlőszekrény. | I39: Zalaegerszeg tulajdonosközösség | J39: =SUM(O39:AC39) -> 8 | L39: 42736 | M39: 43100 | N39: rövid | O39: 8
A40: 11 | C40: Zalaegerszeg 11 - 15 kútcsoport | D40: 20 kV hálózat felújítás, oszloptranszformátor alatti erősáramú szekrény csere | E40: Az elektromos, irányítástechnikai szerelvények és vezetékek, műszaki állapota miatt fennáll a meghibásodás veszélye. | F40: A búvárszivattyú elektromos megtáplálása, a folyamatos távfelügyelet biztosítása. | G40: A búvárszivattyú elektromos paramétereihez illeszkedő erősáramú és vezérlőszekrény. | I40: Zalaegerszeg tulajdonosközösség | J40: =SUM(O40:AC40) -> 13 | L40: 42736 | M40: 43100 | N40: rövid | O40: 13
A41: 26 | C41: Zalaegerszeg Keleti kútcsoport | D41: GPRS kommunikációra történő átállás | E41: Az elektromos, irányítástechnikai szerelvények és vezetékek, műszaki állapota miatt fennáll a meghibásodás veszélye. | F41: A búvárszivattyú elektromos megtáplálása, a folyamatos távfelügyelet biztosítása. | G41: A búvárszivattyú elektromos paramétereihez illeszkedő erősáramú és vezérlőszekrény. | I41: Zalaegerszeg tulajdonosközösség | J41: =SUM(O41:AC41) -> 30 | L41: 43101 | M41: 43465 | N41: közép | P41: 30
A42: 67 | C42: Zalaegerszeg … kút | D42: elektromos és iráűnyítástechnikai szekrény csere (2 db) | E42: Az elektromos, irányítástechnikai szerelvények és vezetékek, műszaki állapota miatt fennáll a meghibásodás veszélye. | F42: A búvárszivattyú elektromos megtáplálása, a folyamatos távfelügyelet biztosítása. | G42: A búvárszivattyú elektromos paramétereihez illeszkedő erősáramú és vezérlőszekrény. | I42: Zalaegerszeg tulajdonosközösség | J42: =SUM(O42:AC42) -> 30 | L42: 44927 | M42: 45291 | N42: hosszú | U42: 30
...

Sheet Bagod
A1: Gördülő fejlesztési terv a 2017 - 2031 időszakra
A2: FELÚJÍTÁSOK ÉS PÓTLÁSOK ÖSSZEFOGLALÓ TÁBLÁZATA
A3: A tervet benyújtó szervezet megnevezése: | K3: BAGOD | R3: ellátásért felelős / ellátásért felelősök képviselője / víziközmű-szolgáltató *
A4: Víziközmű-szolgáltató megnevezése: | K4: ÉSZAK ZALAI VÍZ- ÉS CSATORNAMŰ ZÁRTKÖRŰEN MŰKÖDŐ RÉSZVÉNYTÁRSASÁG
A5: Víziközmű-szolgáltatási ágazat megnevezése: | K5: IVÓVÍZ ÁGAZAT
A6: Véleményeltérést megfogalmazó érintett fél megnevezése:
A7: Víziközmű-rendszer kódja: ** | K7: 11-30368-1-006-00-02 | R7: BAGOD-IV
A8: I. Felszín alatti vízkivétel
A9: Fontossági sorrend | B9: Felujítás és pótlás megnevezése | E9: Műszaki állapot felmérés, szükségességi indoklás | H9: Vízjogi létesítési/elvi engedély száma | I9: Az érintett ellátásért felelős(ök) megnevezése | J9: Tervezett nettó költség | K9: Forrás 2017 évre | L9: Megvalósítás időtartama | N9: Tervezett időtáv | O9: A beruházás ütemezése a tervezési időszak évei szerint
E10: Jelenlegi műszaki állapot | F10: Feladat szükségessége | G10: Megvalósítást követő várható műszaki állapot | J10: (eFt) | L10: Kezdés | M10: Befejezés | N10: (rövid / közép / hosszú) | O10: 1 | P10: 2 | Q10: 3 | R10: 4 | S10: 5 | T10: 6 | U10: 7 | V10: 8 | W10: 9 | X10: 10 | Y10: 11 | Z10: 12 | AA10: 13 | AB10: 14 | AC10: 15
B11: szakág | C11: Helyszín | D11: beruházás megnevezése
A12: 1 | D12: Rendkívüli helyzetből adódó azonnali feladatok (max. 5%) | F12: működőképeség biztosítása | I12: Bagod | J12: =SUM(O12:AC12) -> 1425 | L12: 42736 | M12: 48213 | O12: 95 | P12: 95 | Q12: 95 | R12: 95 | S12: 95 | T12: 95 | U12: 95 | V12: 95 | W12: 95 | X12: 95 | Y12: 95 | Z12: 95 | AA12: 95 | AB12: 95 | AC12: 95
B13: MÉLYFÚRÁSÚ KÚT, HAGYOMÁNYOS ÁTMÉRŐVEL
B14: Épület, építmény
B16: Gép, berendezés
B18: Irányítástechnika, energiaellátás
B20: Összesen: | J20: =SUM(J12:J19) -> 1425
A22: III. Vízműtelep és vízkezelő létesítmények
C23: Helyszín | D23: beruházás megnevezése
B24: VÍZMŰTELEP
B25: Épület, építmény
B27: Gép, berendezés
B29: Irányítástechnika, energiaellátás
B31: VÍZKEZELŐ LÉTESÍTMÉNYEK
B32: Épület, építmény
B34: Gép, berendezés
B36: Irányítástechnika, energiaellátás
B38: Összesen | J38: =SUM(J24:J37) -> 0
A40: IV. Vízelosztás
C41: Helyszín | D41: beruházás megnevezése
B42: IVÓVÍZHÁLÓZAT
B43: Épület, építmény
A44: 2 | C44: Bagod - Zalaboldogfa | D44: gerincvezeték csere (d225 70 fm) I. ütem | E44: A vezeték állapota anyaga, kora, minősége miatt nem megfelelő, elavult. | F44: A bekötővezeték anyaga vízbiztonsági kockázatot rejt magában, illetve nagyobb a valószínűsége a meghibásodásnak. | G44: A vízvezeték kiváltás, a vízigények figyelembevételével megfelelő átmérőjű és anyagú hálózatot kapunk. | H44: - | I44: Bagod tulajdonosközösség | J44: =SUM(O44:AC44) -> 890 | L44: 42826 | M44: 43100 | N44: rövid | O44: 890
A45: 3 | C45: Bagod - Zalaboldogfa | D45: gerincvezeték csere (d225 825 fm) II-IV. ütem | E45: A vezeték állapota anyaga, kora, minősége miatt nem megfelelő, elavult. | F45: A vezeték elavult műszaki állapota miatt gyakoriak a csőtörések | G45: A vízvezeték kiváltás, a vízigények figyelembevételével megfelelő átmérőjű és anyagú hálózatot kapunk. | H45: - | I45: Bagod tulajdonosközösség | J45: =SUM(O45:AC45) -> 8416 | L45: 43191 | M45: 44561 | N45: közép | P45: 2721 | Q45: 2421 | R45: 2721 | S45: 553
A46: 4 | C46: Bagod | D46: gerinchálózat szerelvény csere | E46: A szerelvény állapota anyaga, kora, minősége miatt nem megfelelő, elavult. | F46: A vezeték elavult műszaki állapota miatt gyakoriak a csőtörések | G46: A szerelvény kiváltás, a vízigények figyelembevételével megfelelő átmérőjű és anyagú hálózatot kapunk. | H46: - | I46: Bagod | J46: =SUM(O46:AC46) -> 300 | L46: 43556 | M46: 201912.31 | N46: közép | Q46: 300
A47: 10 | C47: Zalaszentgyörgy - Kávás | D47: gerincvezeték csere (d160 260 fm) I. ütem | E47: A vezeték állapota anyaga, kora, minősége miatt nem megfelelő, elavult. | F47: A vezeték elavult műszaki állapota miatt gyakoriak a csőtörések | G47: A vízvezeték kiváltás, a vízigények figyelembevételével megfelelő átmérőjű és anyagú hálózatot kapunk. | I47: Bagod tulajdonosközösség | J47: =SUM(O47:AC47) -> 2168 | L47: 44287 | M47: 44560 | N47: közép | S47: 2168
A48: 11 | C48: Zalaszentgyörgy - Kávás | D48: gerincvezeték csere (d160 600 fm) II. ütem | E48: A vezeték állapota anyaga, kora, minősége miatt nem megfelelő, elavult. | F48: A vezeték elavult műszaki állapota miatt gyakoriak a csőtörések | G48: A vízvezeték kiváltás, a vízigények figyelembevételével megfelelő átmérőjű és anyagú hálózatot kapunk. | H48: - | I48: Bagod tulajdonosközösség | J48: =SUM(O48:AC48) -> 5442 | L48: 44652 | M48: 45291 | N48: hosszú | T48: 2721 | U48: 2721
A49: 12 | C49: Bagod Vitenyédi út | D49: gerincvezeték csere (d225 1210 fm) | E49: A vezeték állapota anyaga, kora, minősége miatt nem megfelelő, elavult. | F49: A vezeték elavult műszaki állapota miatt gyakoriak a csőtörések | G49: A vízvezeték kiváltás, a vízigények figyelembevételével megfelelő átmérőjű és anyagú hálózatot kapunk. | I49: Bagod tulajdonosközösség | J49: =SUM(O49:AC49) -> 12417 | L49: 45383 | M49: 47118 | N49: hosszú | V49: 2721 | W49: 2721 | X49: 2721 | Y49: 2721 | Z49: 1533
A50: 19 | C50: Bagod Ady Endre utca | D50: gerincvezeték csere (d225 800 fm) | E50: A vezeték állapota anyaga, kora, minősége miatt nem megfelelő, elavult. | F50: A vezeték elavult műszaki állapota miatt gyakoriak a csőtörések | G50: A vízvezeték kiváltás, a vízigények figyelembevételével megfelelő átmérőjű és anyagú hálózatot kapunk. | H50: - | I50: Bagod tulajdonosközösség | J50: =SUM(O50:AC50) -> 8163 | L50: 47209 | M50: 48213 | N50: hosszú | AA50: 2721 | AB50: 2721 | AC50: 2721
B52: Gép, berendezés
...

Sheet Becsvölgye
A1: Gördülő fejlesztési terv a 2017 - 2031 időszakra
A2: FELÚJÍTÁSOK ÉS PÓTLÁSOK ÖSSZEFOGLALÓ TÁBLÁZATA
A3: A tervet benyújtó szervezet megnevezése: | K3: BECSVÖLGYE | R3: ellátásért felelős / ellátásért felelősök képviselője / víziközmű-szolgáltató *
A4: Víziközmű-szolgáltató megnevezése: | K4: ÉSZAK ZALAI VÍZ- ÉS CSATORNAMŰ ZÁRTKÖRŰEN MŰKÖDŐ RÉSZVÉNYTÁRSASÁG
A5: Víziközmű-szolgáltatási ágazat megnevezése: | K5: IVÓVÍZ ÁGAZAT
A6: Véleményeltérést megfogalmazó érintett fél megnevezése:
A7: Víziközmű-rendszer kódja: ** | K7: 11-18360-1-002-00-14 | R7: BECSVÖLGYE-IV
A8: I. Felszín alatti vízkivétel
A9: Fontossági sorrend | B9: Felujítás és pótlás megnevezése | E9: Műszaki állapot felmérés, szükségességi indoklás | H9: Vízjogi létesítési/elvi engedély száma | I9: Az érintett ellátásért felelős(ök) megnevezése | J9: Tervezett nettó költség | K9: Forrás 2017 évre | L9: Megvalósítás időtartama | N9: Tervezett időtáv | O9: A beruházás ütemezése a tervezési időszak évei szerint
E10: Jelenlegi műszaki állapot | F10: Feladat szükségessége | G10: Megvalósítást követő várható műszaki állapot | J10: (eFt) | L10: Kezdés | M10: Befejezés | N10: (rövid / közép / hosszú) | O10: 1 | P10: 2 | Q10: 3 | R10: 4 | S10: 5 | T10: 6 | U10: 7 | V10: 8 | W10: 9 | X10: 10 | Y10: 11 | Z10: 12 | AA10: 13 | AB10: 14 | AC10: 15
B11: szakág | C11: Helyszín | D11: beruházás megnevezése
A12: 1 | D12: Rendkívüli helyzetből adódó azonnali feladatok (max. 5%) | F12: működőképeség biztosítása | I12: Becsvölgye | J12: =SUM(O12:AC12) -> 1146 | L12: 42736 | M12: 48213 | O12: =0.05*K69 -> 76.4 | P12: =0.05*$K$69 -> 76.4 | Q12: =0.05*$K$69 -> 76.4 | R12: =0.05*$K$69 -> 76.4 | S12: =0.05*$K$69 -> 76.4 | T12: =0.05*$K$69 -> 76.4 | U12: =0.05*$K$69 -> 76.4 | V12: =0.05*$K$69 -> 76.4 | W12: =0.05*$K$69 -> 76.4 | ... AC12: =0.05*$K$69 -> 76.4
B13: MÉLYFÚRÁSÚ KÚT, HAGYOMÁNYOS ÁTMÉRŐVEL
B14: Épület, építmény
B16: Gép, berendezés
B18: Irányítástechnika, energiaellátás
B20: Összesen: | J20: =SUM(J12:J19) -> 1146
A22: III. Vízműtelep és vízkezelő létesítmények
C23: Helyszín | D23: beruházás megnevezése
B24: VÍZMŰTELEP
B25: Épület, építmény
B27: Gép, berendezés
B29: Irányítástechnika, energiaellátás
B31: VÍZKEZELŐ LÉTESÍTMÉNYEK
B32: Épület, építmény
B34: Gép, berendezés
B36: Irányítástechnika, energiaellátás
B38: Összesen | J38: =SUM(J24:J37) -> 0
A40: IV. Vízelosztás
C41: Helyszín | D41: beruházás megnevezése
B42: IVÓVÍZHÁLÓZAT
B43: Épület, építmény
A44: 2 | C44: Becsvölgye Arany János utca | D44: csőhíd csere (NA100 5 fm) | E44: A vezeték állapota anyaga, kora, minősége miatt nem megfelelő, elavult. | F44: A vezeték elavult műszaki állapota miatt gyakoriak a csőtörések | G44: A vízvezeték kiváltás, a vízigények figyelembevételével megfelelő átmérőjű és anyagú hálózatot kapunk. | H44: - | I44: Becsvölgye | J44: =SUM(O44:AC44) -> 400 | L44: 42826 | M44: 43100 | N44: rövid | O44: 400
A45: 5 | C45: Becsvölgye Kopácsai u. temető | D45: gerinchálózat szerelvényeinek (tűzcsap) ütemezett cseréje | E45: A szerelvény állapota anyaga, kora, minősége miatt nem megfelelő, elavult. | F45: A szerelvény elavult műszaki állapota miatt gyakoriak a csőtörések | G45: A szerelvény kiváltás, a vízigények figyelembevételével megfelelő átmérőjű és anyagú hálózatot kapunk. | I45: Becsvölgye | J45: =SUM(O45:AC45) -> 352 | L45: 42826 | M45: 43100 | N45: rövid | O45: 352
A46: 8 | C46: Becsvölgye | D46: Tartalékkeret képzése rekonstrukcióra | E46: A vezeték állapota anyaga, kora, minősége miatt nem megfelelő, elavult. | F46: A bekötővezeték anyaga vízbiztonsági kockázatot rejt magában, illetve nagyobb a valószínűsége a meghibásodásnak. | G46: A vízvezeték kiváltás, a vízigények figyelembevételével megfelelő átmérőjű és anyagú hálózatot kapunk. | H46: - | I46: Becsvölgye | J46: =SUM(O46:AC46) -> 5808 | L46: 43191 | M46: 44561 | N46: közép | P46: 1452 | Q46: 1452 | R46: 1452 | S46: 1452
A47: 12 | C47: Becsvölgye | D47: Tartalékkeret képzése rekonstrukcióra | E47: A vezeték állapota anyaga, kora, minősége miatt nem megfelelő, elavult. | F47: A bekötővezeték anyaga vízbiztonsági kockázatot rejt magában, illetve nagyobb a valószínűsége a meghibásodásnak. | G47: A vízvezeték kiváltás, a vízigények figyelembevételével megfelelő átmérőjű és anyagú hálózatot kapunk. | H47: - | I47: Becsvölgye | J47: =SUM(O47:AC47) -> 10483 | L47: 45383 | M47: 48213 | N47: hosszú | V47: 319 | W47: 1452 | X47: 1452 | Y47: 1452 | Z47: 1452 | AA47: 1452 | AB47: 1452 | AC47: 1452
B49: Gép, berendezés
B51: Irányítástechnika, energiaellátás
B53: VÍZTÁROLÓK
B54: Épület, építmény
...

Sheet Bocfölde
A1: Gördülő fejlesztési terv a 2017 - 2031 időszakra
A2: FELÚJÍTÁSOK ÉS PÓTLÁSOK ÖSSZEFOGLALÓ TÁBLÁZATA
A3: A tervet benyújtó szervezet megnevezése: | K3: BOCFÖLDE | R3: ellátásért felelős / ellátásért felelősök képviselője / víziközmű-szolgáltató *
A4: Víziközmű-szolgáltató megnevezése: | K4: ÉSZAK ZALAI VÍZ- ÉS CSATORNAMŰ ZÁRTKÖRŰEN MŰKÖDŐ RÉSZVÉNYTÁRSASÁG
A5: Víziközmű-szolgáltatási ágazat megnevezése: | K5: IVÓVÍZ ÁGAZAT
A6: Véleményeltérést megfogalmazó érintett fél megnevezése:
A7: Víziközmű-rendszer kódja: ** | K7: 11-32054-1-010-00-14 | R7: BOCFÖLDE-IV
A8: I. Felszín alatti vízkivétel
A9: Fontossági sorrend | B9: Felujítás és pótlás megnevezése | E9: Műszaki állapot felmérés, szükségességi indoklás | H9: Vízjogi létesítési/elvi engedély száma | I9: Az érintett ellátásért felelős(ök) megnevezése | J9: Tervezett nettó költség | K9: Forrás 2017 évre | L9: Megvalósítás időtartama | N9: Tervezett időtáv | O9: A beruházás ütemezése a tervezési időszak évei szerint
E10: Jelenlegi műszaki állapot | F10: Feladat szükségessége | G10: Megvalósítást követő várható műszaki állapot | J10: (eFt) | L10: Kezdés | M10: Befejezés | N10: (rövid / közép / hosszú) | O10: 1 | P10: 2 | Q10: 3 | R10: 4 | S10: 5 | T10: 6 | U10: 7 | V10: 8 | W10: 9 | X10: 10 | Y10: 11 | Z10: 12 | AA10: 13 | AB10: 14 | AC10: 15
B11: szakág | C11: Helyszín | D11: beruházás megnevezése
A12: 1 | D12: Rendkívüli helyzetből adódó azonnali feladatok (max. 5%) | F12: működőképeség biztosítása | I12: Bocfölde | J12: =SUM(O12:AC12) -> 2648.25 | L12: 42736 | M12: 48213 | O12: =0.05*$K$118 -> 176.55 | P12: =0.05*$K$118 -> 176.55 | Q12: =0.05*$K$118 -> 176.55 | R12: =0.05*$K$118 -> 176.55 | S12: =0.05*$K$118 -> 176.55 | T12: =0.05*$K$118 -> 176.55 | U12: =0.05*$K$118 -> 176.55 | V12: =0.05*$K$118 -> 176.55 | ... AC12: =0.05*$K$118 -> 176.55
B13: MÉLYFÚRÁSÚ KÚT, HAGYOMÁNYOS ÁTMÉRŐVEL
B14: Épület, építmény
A15: 48 | C15: Zalaegerszeg … kút | D15: kútfelújítás | E15: Az objektum kora, műszaki állapota miatt fennáll a meghibásodás veszélye. Feladat szükségessége | F15: A felhasználók folyamatos vízellátásának biztosítására | G15: Az elvárt vízigényeket kielégítő megfelelő műszaki állapotú vízbázis. | I15: Zalaegerszeg tulajdonosközösség | J15: =SUM(O15:AC15) -> 90 | L15: 44562 | M15: 44926 | N15: hosszú | T15: 90
A16: 79 | C16: Zalaegerszeg … kút | D16: kútfelújítás | E16: Az objektum kora, műszaki állapota miatt fennáll a meghibásodás veszélye. Feladat szükségessége | F16: A felhasználók folyamatos vízellátásának biztosítására | G16: Az elvárt vízigényeket kielégítő megfelelő műszaki állapotú vízbázis. | I16: Zalaegerszeg tulajdonosközösség | J16: =SUM(O16:AC16) -> 90 | L16: 46388 | M16: 46752 | N16: hosszú | Y16: 90
B18: Gép, berendezés
A19: 66 | C19: Zalaegerszeg … kút | D19: Szivattyú csere 2 db | E19: A szivattyú kora, műszaki állapota miatt fennáll a meghibásodás veszélye. | F19: A folyamatos víztermelés biztosítása. | G19: A Q–H diagramhoz illeszkedő energiahatékony szivattyú üzemeltetése. | I19: Zalaegerszeg tulajdonosközösség | J19: =SUM(O19:AC19) -> 9 | L19: 44927 | M19: 45291 | N19: hosszú | U19: 9
C20: Zalaegerszeg … kút | D20: Gépészeti felújítás 2 db | E20: A szerelvények és vezetékek, műszaki állapota miatt fennáll a meghibásodás veszélye. | F20: A folyamatos víztermelés biztosítása. | G20: A gépészeti funkciókat kifogástalanul ellátó szerelvények. | I20: Zalaegerszeg tulajdonosközösség | J20: =SUM(O20:AC20) -> 30 | L20: 44927 | M20: 45291 | N20: hosszú | U20: 30
A21: 70 | C21: Zalaegerszeg … kút | D21: Szivattyú csere 2 db | E21: A szivattyú kora, műszaki állapota miatt fennáll a meghibásodás veszélye. | F21: A folyamatos víztermelés biztosítása. | G21: A Q–H diagramhoz illeszkedő energiahatékony szivattyú üzemeltetése. | I21: Zalaegerszeg tulajdonosközösség | J21: =SUM(O21:AC21) -> 9 | L21: 45292 | M21: 45657 | N21: hosszú | V21: 9
C22: Zalaegerszeg … kút | D22: Gépészeti felújítás 2 db | E22: A szerelvények és vezetékek, műszaki állapota miatt fennáll a meghibásodás veszélye. | F22: A folyamatos víztermelés biztosítása. | G22: A gépészeti funkciókat kifogástalanul ellátó szerelvények. | I22: Zalaegerszeg tulajdonosközösség | J22: =SUM(O22:AC22) -> 30 | L22: 45292 | M22: 45657 | N22: hosszú | V22: 30
A23: 72 | C23: Zalaegerszeg … kút | D23: Szivattyú csere 2 db | E23: A szivattyú kora, műszaki állapota miatt fennáll a meghibásodás veszélye. | F23: A folyamatos víztermelés biztosítása. | G23: A Q–H diagramhoz illeszkedő energiahatékony szivattyú üzemeltetése. | I23: Zalaegerszeg tulajdonosközösség | J23: =SUM(O23:AC23) -> 9 | L23: 45658 | M23: 46022 | N23: hosszú | W23: 9
C24: Zalaegerszeg … kút | D24: Gépészeti felújítás 2 db | E24: A szerelvények és vezetékek, műszaki állapota miatt fennáll a meghibásodás veszélye. | F24: A folyamatos víztermelés biztosítása. | G24: A gépészeti funkciókat kifogástalanul ellátó szerelvények. | I24: Zalaegerszeg tulajdonosközösség | J24: =SUM(O24:AC24) -> 30 | L24: 45658 | M24: 46022 | N24: hosszú | W24: 30
A25: 75 | C25: Zalaegerszeg … kút | D25: Szivattyú csere 2 db | E25: A szivattyú kora, műszaki állapota miatt fennáll a meghibásodás veszélye. | F25: A folyamatos víztermelés biztosítása. | G25: A Q–H diagramhoz illeszkedő energiahatékony szivattyú üzemeltetése. | I25: Zalaegerszeg tulajdonosközösség | J25: =SUM(O25:AC25) -> 9 | L25: 46023 | M25: 46387 | N25: hosszú | X25: 9
C26: Zalaegerszeg … kút | D26: Gépészeti felújítás 2 db | E26: A szerelvények és vezetékek, műszaki állapota miatt fennáll a meghibásodás veszélye. | F26: A folyamatos víztermelés biztosítása. | G26: A gépészeti funkciókat kifogástalanul ellátó szerelvények. | I26: Zalaegerszeg tulajdonosközösség | J26: =SUM(O26:AC26) -> 30 | L26: 46023 | M26: 46387 | N26: hosszú | X26: 30
A27: 80 | C27: Zalaegerszeg … kút | D27: Szivattyú csere 2 db | E27: A szivattyú kora, műszaki állapota miatt fennáll a meghibásodás veszélye. | F27: A folyamatos víztermelés biztosítása. | G27: A Q–H diagramhoz illeszkedő energiahatékony szivattyú üzemeltetése. | I27: Zalaegerszeg tulajdonosközösség | J27: =SUM(O27:AC27) -> 9 | L27: 46388 | M27: 46752 | N27: hosszú | Y27: 9
C28: Zalaegerszeg … kút | D28: Gépészeti felújítás 2 db | E28: A szerelvények és vezetékek, műszaki állapota miatt fennáll a meghibásodás veszélye. | F28: A folyamatos víztermelés biztosítása. | G28: A gépészeti funkciókat kifogástalanul ellátó szerelvények. | I28: Zalaegerszeg tulajdonosközösség | J28: =SUM(O28:AC28) -> 30 | L28: 46388 | M28: 46752 | N28: hosszú | Y28: 30
A29: 85 | C29: Zalaegerszeg … kút | D29: Szivattyú csere 2 db | E29: A szivattyú kora, műszaki állapota miatt fennáll a meghibásodás veszélye. | F29: A folyamatos víztermelés biztosítása. | G29: A Q–H diagramhoz illeszkedő energiahatékony szivattyú üzemeltetése. | I29: Zalaegerszeg tulajdonosközösség | J29: =SUM(O29:AC29) -> 9 | L29: 46753 | M29: 47118 | N29: hosszú | Z29: 9
C30: Zalaegerszeg … kút | D30: Gépészeti felújítás 2 db | E30: A szerelvények és vezetékek, műszaki állapota miatt fennáll a meghibásodás veszélye. | F30: A folyamatos víztermelés biztosítása. | G30: A gépészeti funkciókat kifogástalanul ellátó szerelvények. | I30: Zalaegerszeg tulajdonosközösség | J30: =SUM(O30:AC30) -> 30 | L30: 46753 | M30: 47118 | N30: hosszú | Z30: 30
A31: 88 | C31: Zalaegerszeg … kút | D31: Szivattyú csere 2 db | E31: A szivattyú kora, műszaki állapota miatt fennáll a meghibásodás veszélye. | F31: A folyamatos víztermelés biztosítása. | G31: A Q–H diagramhoz illeszkedő energiahatékony szivattyú üzemeltetése. | I31: Zalaegerszeg tulajdonosközösség | J31: =SUM(O31:AC31) -> 9 | L31: 47119 | M31: 47483 | N31: hosszú | AA31: 9
C32: Zalaegerszeg … kút | D32: Gépészeti felújítás 2 db | E32: A szerelvények és vezetékek, műszaki állapota miatt fennáll a meghibásodás veszélye. | F32: A folyamatos víztermelés biztosítása. | G32: A gépészeti funkciókat kifogástalanul ellátó szerelvények. | I32: Zalaegerszeg tulajdonosközösség | J32: =SUM(O32:AC32) -> 30 | L32: 47119 | M32: 47483 | N32: hosszú | AA32: 30
A33: 90 | C33: Zalaegerszeg … kút | D33: Szivattyú csere 2 db | E33: A szivattyú kora, műszaki állapota miatt fennáll a meghibásodás veszélye. | F33: A folyamatos víztermelés biztosítása. | G33: A Q–H diagramhoz illeszkedő energiahatékony szivattyú üzemeltetése. | I33: Zalaegerszeg tulajdonosközösség | J33: =SUM(O33:AC33) -> 9 | L33: 47484 | M33: 47848 | N33: hosszú | AB33: 9
C34: Zalaegerszeg … kút | D34: Gépészeti felújítás 2 db | E34: A szerelvények és vezetékek, műszaki állapota miatt fennáll a meghibásodás veszélye. | F34: A folyamatos víztermelés biztosítása. | G34: A gépészeti funkciókat kifogástalanul ellátó szerelvények. | I34: Zalaegerszeg tulajdonosközösség | J34: =SUM(O34:AC34) -> 30 | L34: 47484 | M34: 47848 | N34: hosszú | AB34: 30
A35: 92 | C35: Zalaegerszeg … kút | D35: Szivattyú csere 2 db | E35: A szivattyú kora, műszaki állapota miatt fennáll a meghibásodás veszélye. | F35: A folyamatos víztermelés biztosítása. | G35: A Q–H diagramhoz illeszkedő energiahatékony szivattyú üzemeltetése. | I35: Zalaegerszeg tulajdonosközösség | J35: =SUM(O35:AC35) -> 9 | L35: 47849 | M35: 48213 | N35: hosszú | AC35: 9
C36: Zalaegerszeg … kút | D36: Gépészeti felújítás 2 db | E36: A szerelvények és vezetékek, műszaki állapota miatt fennáll a meghibásodás veszélye. | F36: A folyamatos víztermelés biztosítása. | G36: A gépészeti funkciókat kifogástalanul ellátó szerelvények. | I36: Zalaegerszeg tulajdonosközösség | J36: =SUM(O36:AC36) -> 30 | L36: 47849 | M36: 48213 | N36: hosszú | AC36: 30
B38: Irányítástechnika, energiaellátás
A39: 7 | C39: Zalaegerszeg D1 - D3 kút | D39: 20 kV hálózat felújítása, oszlopszigetelő és távtartó csere, túláramvédelem felújítás | E39: Az elektromos, irányítástechnikai szerelvények és vezetékek, műszaki állapota miatt fennáll a meghibásodás veszélye. | F39: A búvárszivattyú elektromos megtáplálása, a folyamatos távfelügyelet biztosítása. | G39: A búvárszivattyú elektromos paramétereihez illeszkedő erősáramú és vezérlőszekrény. | I39: Zalaegerszeg tulajdonosközösség | J39: =SUM(O39:AC39) -> 23 | L39: 42736 | M39: 43100 | N39: rövid | O39: 23
A40: 11 | C40: Zalaegerszeg 11 - 15 kútcsoport | D40: 20 kV hálózat felújítás, oszloptranszformátor alatti erősáramú szekrény csere | E40: Az elektromos, irányítástechnikai szerelvények és vezetékek, műszaki állapota miatt fennáll a meghibásodás veszélye. | F40: A búvárszivattyú elektromos megtáplálása, a folyamatos távfelügyelet biztosítása. | G40: A búvárszivattyú elektromos paramétereihez illeszkedő erősáramú és vezérlőszekrény. | I40: Zalaegerszeg tulajdonosközösség | J40: =SUM(O40:AC40) -> 38 | L40: 42736 | M40: 43100 | N40: rövid | O40: 38
A41: 26 | C41: Zalaegerszeg Keleti kútcsoport | D41: GPRS kommunikációra történő átállás | E41: Az elektromos, irányítástechnikai szerelvények és vezetékek, műszaki állapota miatt fennáll a meghibásodás veszélye. | F41: A búvárszivattyú elektromos megtáplálása, a folyamatos távfelügyelet biztosítása. | G41: A búvárszivattyú elektromos paramétereihez illeszkedő erősáramú és vezérlőszekrény. | I41: Zalaegerszeg tulajdonosközösség | J41: =SUM(O41:AC41) -> 91 | L41: 43101 | M41: 43465 | N41: közép | P41: 91
A42: 67 | C42: Zalaegerszeg … kút | D42: elektromos és iráűnyítástechnikai szekrény csere (2 db) | E42: Az elektromos, irányítástechnikai szerelvények és vezetékek, műszaki állapota miatt fennáll a meghibásodás veszélye. | F42: A búvárszivattyú elektromos megtáplálása, a folyamatos távfelügyelet biztosítása. | G42: A búvárszivattyú elektromos paramétereihez illeszkedő erősáramú és vezérlőszekrény. | I42: Zalaegerszeg tulajdonosközösség | J42: =SUM(O42:AC42) -> 90 | L42: 44927 | M42: 45291 | N42: hosszú | U42: 90
...

Sheet Boncodfölde
A1: Gördülő fejlesztési terv a 2017 - 2031 időszakra
A2: FELÚJÍTÁSOK ÉS PÓTLÁSOK ÖSSZEFOGLALÓ TÁBLÁZATA
A3: A tervet benyújtó szervezet megnevezése: | K3: BONCODFÖLDE | R3: ellátásért felelős / ellátásért felelősök képviselője / víziközmű-szolgáltató *
A4: Víziközmű-szolgáltató megnevezése: | K4: ÉSZAK ZALAI VÍZ- ÉS CSATORNAMŰ ZÁRTKÖRŰEN MŰKÖDŐ RÉSZVÉNYTÁRSASÁG
A5: Víziközmű-szolgáltatási ágazat megnevezése: | K5: IVÓVÍZ ÁGAZAT
A6: Véleményeltérést megfogalmazó érintett fél megnevezése:
A7: Víziközmű-rendszer kódja: ** | K7: 11-30368-1-006-00-02 | R7: BONCODFÖLDE-IV
A8: I. Felszín alatti vízkivétel
A9: Fontossági sorrend | B9: Felujítás és pótlás megnevezése | E9: Műszaki állapot felmérés, szükségességi indoklás | H9: Vízjogi létesítési/elvi engedély száma | I9: Az érintett ellátásért felelős(ök) megnevezése | J9: Tervezett nettó költség | K9: Forrás 2017 évre | L9: Megvalósítás időtartama | N9: Tervezett időtáv | O9: A beruházás ütemezése a tervezési időszak évei szerint
E10: Jelenlegi műszaki állapot | F10: Feladat szükségessége | G10: Megvalósítást követő várható műszaki állapot | J10: (eFt) | L10: Kezdés | M10: Befejezés | N10: (rövid / közép / hosszú) | O10: 1 | P10: 2 | Q10: 3 | R10: 4 | S10: 5 | T10: 6 | U10: 7 | V10: 8 | W10: 9 | X10: 10 | Y10: 11 | Z10: 12 | AA10: 13 | AB10: 14 | AC10: 15
B11: szakág | C11: Helyszín | D11: beruházás megnevezése
A12: 1 | D12: Rendkívüli helyzetből adódó azonnali feladatok (max. 5%) | F12: működőképeség biztosítása | I12: Boncodfölde | J12: =SUM(O12:AC12) -> 902.25 | L12: 42736 | M12: 48213 | O12: =0.05*$K$71 -> 60.15 | P12: =0.05*$K$71 -> 60.15 | Q12: =0.05*$K$71 -> 60.15 | R12: =0.05*$K$71 -> 60.15 | S12: =0.05*$K$71 -> 60.15 | T12: =0.05*$K$71 -> 60.15 | U12: =0.05*$K$71 -> 60.15 | V12: =0.05*$K$71 -> 60.15 | ... AC12: =0.05*$K$71 -> 60.15
B13: MÉLYFÚRÁSÚ KÚT, HAGYOMÁNYOS ÁTMÉRŐVEL
B14: Épület, építmény
B16: Gép, berendezés
B18: Irányítástechnika, energiaellátás
B20: Összesen: | J20: =SUM(J12:J19) -> 902.25
A22: III. Vízműtelep és vízkezelő létesítmények
C23: Helyszín | D23: beruházás megnevezése
B24: VÍZMŰTELEP
B25: Épület, építmény
B27: Gép, berendezés
B29: Irányítástechnika, energiaellátás
B31: VÍZKEZELŐ LÉTESÍTMÉNYEK
B32: Épület, építmény
B34: Gép, berendezés
B36: Irányítástechnika, energiaellátás
B38: Összesen | J38: =SUM(J24:J37) -> 0
A40: IV. Vízelosztás
C41: Helyszín | D41: beruházás megnevezése
B42: IVÓVÍZHÁLÓZAT
B43: Épület, építmény
A44: 2 | C44: Bagod - Zalaboldogfa | D44: gerincvezeték csere (d225 70 fm) I. ütem | E44: A vezeték állapota anyaga, kora, minősége miatt nem megfelelő, elavult. | F44: A bekötővezeték anyaga vízbiztonsági kockázatot rejt magában, illetve nagyobb a valószínűsége a meghibásodásnak. | G44: A vízvezeték kiváltás, a vízigények figyelembevételével megfelelő átmérőjű és anyagú hálózatot kapunk. | H44: - | I44: Bagod tulajdonosközösség | J44: =SUM(O44:AC44) -> 234 | L44: 42826 | M44: 43100 | N44: rövid | O44: 234
A45: 3 | C45: Bagod - Zalaboldogfa | D45: gerincvezeték csere (d225 825 fm) II-IV. ütem | E45: A vezeték állapota anyaga, kora, minősége miatt nem megfelelő, elavult. | F45: A vezeték elavult műszaki állapota miatt gyakoriak a csőtörések | G45: A vízvezeték kiváltás, a vízigények figyelembevételével megfelelő átmérőjű és anyagú hálózatot kapunk. | H45: - | I45: Bagod tulajdonosközösség | J45: =SUM(O45:AC45) -> 3475 | L45: 43191 | M45: 44561 | N45: közép | P45: 1143 | Q45: 1043 | R45: 1143 | S45: 146
A46: 5 | C46: Boncodfölde | D46: gerinchálózat szerelvény csere | E46: A szerelvény állapota anyaga, kora, minősége miatt nem megfelelő, elavult. | F46: A vezeték elavult műszaki állapota miatt gyakoriak a csőtörések | G46: A szerelvény kiváltás, a vízigények figyelembevételével megfelelő átmérőjű és anyagú hálózatot kapunk. | H46: - | I46: Boncodfölde | J46: =SUM(O46:AC46) -> 100 | L46: 43556 | M46: 201912.31 | N46: közép | Q46: 100
A47: 10 | C47: Zalaszentgyörgy - Kávás | D47: gerincvezeték csere (d160 260 fm) I. ütem | E47: A vezeték állapota anyaga, kora, minősége miatt nem megfelelő, elavult. | F47: A vezeték elavult műszaki állapota miatt gyakoriak a csőtörések | G47: A vízvezeték kiváltás, a vízigények figyelembevételével megfelelő átmérőjű és anyagú hálózatot kapunk. | I47: Bagod tulajdonosközösség | J47: =SUM(O47:AC47) -> 997 | L47: 44287 | M47: 44560 | N47: közép | S47: 997
A48: 11 | C48: Zalaszentgyörgy - Kávás | D48: gerincvezeték csere (d160 600 fm) II. ütem | E48: A vezeték állapota anyaga, kora, minősége miatt nem megfelelő, elavult. | F48: A vezeték elavult műszaki állapota miatt gyakoriak a csőtörések | G48: A vízvezeték kiváltás, a vízigények figyelembevételével megfelelő átmérőjű és anyagú hálózatot kapunk. | H48: - | I48: Bagod tulajdonosközösség | J48: =SUM(O48:AC48) -> 2286 | L48: 44652 | M48: 45291 | N48: hosszú | T48: 1143 | U48: 1143
A49: 12 | C49: Bagod Vitenyédi út | D49: gerincvezeték csere (d225 1210 fm) | E49: A vezeték állapota anyaga, kora, minősége miatt nem megfelelő, elavult. | F49: A vezeték elavult műszaki állapota miatt gyakoriak a csőtörések | G49: A vízvezeték kiváltás, a vízigények figyelembevételével megfelelő átmérőjű és anyagú hálózatot kapunk. | I49: Bagod tulajdonosközösség | J49: =SUM(O49:AC49) -> 4975 | L49: 45383 | M49: 47118 | N49: hosszú | V49: 1143 | W49: 1143 | X49: 1143 | Y49: 1143 | Z49: 403
A50: 14 | C50: Boncodfölde | D50: gerinchálózat szerelvény csere | E50: A szerelvény állapota anyaga, kora, minősége miatt nem megfelelő, elavult. | F50: A vezeték elavult műszaki állapota miatt gyakoriak a csőtörések | G50: A szerelvény kiváltás, a vízigények figyelembevételével megfelelő átmérőjű és anyagú hálózatot kapunk. | H50: - | I50: Boncodfölde | J50: =SUM(O50:AC50) -> 740 | L50: 46844 | M50: 47118 | N50: hosszú | Z50: 740
A51: 19 | C51: Bagod Ady Endre utca | D51: gerincvezeték csere (d225 800 fm) | E51: A vezeték állapota anyaga, kora, minősége miatt nem megfelelő, elavult. | F51: A vezeték elavult műszaki állapota miatt gyakoriak a csőtörések | G51: A vízvezeték kiváltás, a vízigények figyelembevételével megfelelő átmérőjű és anyagú hálózatot kapunk. | H51: - | I51: Bagod tulajdonosközösség | J51: =SUM(O51:AC51) -> 3429 | L51: 47209 | M51: 48213 | N51: hosszú | AA51: 1143 | AB51: 1143 | AC51: 1143
...

Sheet Böde
A1: Gördülő fejlesztési terv a 2017 - 2031 időszakra
A2: FELÚJÍTÁSOK ÉS PÓTLÁSOK ÖSSZEFOGLALÓ TÁBLÁZATA
A3: A tervet benyújtó szervezet megnevezése: | K3: BÖDE | R3: ellátásért felelős / ellátásért felelősök képviselője / víziközmű-szolgáltató *
A4: Víziközmű-szolgáltató megnevezése: | K4: ÉSZAK ZALAI VÍZ- ÉS CSATORNAMŰ ZÁRTKÖRŰEN MŰKÖDŐ RÉSZVÉNYTÁRSASÁG
A5: Víziközmű-szolgáltatási ágazat megnevezése: | K5: IVÓVÍZ ÁGAZAT
A6: Véleményeltérést megfogalmazó érintett fél megnevezése:
A7: Víziközmű-rendszer kódja: ** | K7: 11-32054-1-010-00-14 | R7: BÖDE-IV
A8: I. Felszín alatti vízkivétel
A9: Fontossági sorrend | B9: Felujítás és pótlás megnevezése | E9: Műszaki állapot felmérés, szükségességi indoklás | H9: Vízjogi létesítési/elvi engedély száma | I9: Az érintett ellátásért felelős(ök) megnevezése | J9: Tervezett nettó költség | K9: Forrás 2017 évre | L9: Megvalósítás időtartama | N9: Tervezett időtáv | O9: A beruházás ütemezése a tervezési időszak évei szerint
E10: Jelenlegi műszaki állapot | F10: Feladat szükségessége | G10: Megvalósítást követő várható műszaki állapot | J10: (eFt) | L10: Kezdés | M10: Befejezés | N10: (rövid / közép / hosszú) | O10: 1 | P10: 2 | Q10: 3 | R10: 4 | S10: 5 | T10: 6 | U10: 7 | V10: 8 | W10: 9 | X10: 10 | Y10: 11 | Z10: 12 | AA10: 13 | AB10: 14 | AC10: 15
B11: szakág | C11: Helyszín | D11: beruházás megnevezése
A12: 1 | D12: Rendkívüli helyzetből adódó azonnali feladatok (max. 5%) | F12: működőképeség biztosítása | I12: Böde | J12: =SUM(O12:AC12) -> 307.5 | L12: 42736 | M12: 48213 | O12: =0.05*$K$118 -> 20.5 | P12: =0.05*$K$118 -> 20.5 | Q12: =0.05*$K$118 -> 20.5 | R12: =0.05*$K$118 -> 20.5 | S12: =0.05*$K$118 -> 20.5 | T12: =0.05*$K$118 -> 20.5 | U12: =0.05*$K$118 -> 20.5 | V12: =0.05*$K$118 -> 20.5 | ... AC12: =0.05*$K$118 -> 20.5
B13: MÉLYFÚRÁSÚ KÚT, HAGYOMÁNYOS ÁTMÉRŐVEL
B14: Épület, építmény
A15: 48 | C15: Zalaegerszeg … kút | D15: kútfelújítás | E15: Az objektum kora, műszaki állapota miatt fennáll a meghibásodás veszélye. Feladat szükségessége | F15: A felhasználók folyamatos vízellátásának biztosítására | G15: Az elvárt vízigényeket kielégítő megfelelő műszaki állapotú vízbázis. | I15: Zalaegerszeg tulajdonosközösség | J15: =SUM(O15:AC15) -> 18 | L15: 44562 | M15: 44926 | N15: hosszú | T15: 18
A16: 79 | C16: Zalaegerszeg … kút | D16: kútfelújítás | E16: Az objektum kora, műszaki állapota miatt fennáll a meghibásodás veszélye. Feladat szükségessége | F16: A felhasználók folyamatos vízellátásának biztosítására | G16: Az elvárt vízigényeket kielégítő megfelelő műszaki állapotú vízbázis. | I16: Zalaegerszeg tulajdonosközösség | J16: =SUM(O16:AC16) -> 18 | L16: 46388 | M16: 46752 | N16: hosszú | Y16: 18
B18: Gép, berendezés
A19: 66 | C19: Zalaegerszeg … kút | D19: Szivattyú csere 2 db | E19: A szivattyú kora, műszaki állapota miatt fennáll a meghibásodás veszélye. | F19: A folyamatos víztermelés biztosítása. | G19: A Q–H diagramhoz illeszkedő energiahatékony szivattyú üzemeltetése. | I19: Zalaegerszeg tulajdonosközösség | J19: =SUM(O19:AC19) -> 2 | L19: 44927 | M19: 45291 | N19: hosszú | U19: 2
C20: Zalaegerszeg … kút | D20: Gépészeti felújítás 2 db | E20: A szerelvények és vezetékek, műszaki állapota miatt fennáll a meghibásodás veszélye. | F20: A folyamatos víztermelés biztosítása. | G20: A gépészeti funkciókat kifogástalanul ellátó szerelvények. | I20: Zalaegerszeg tulajdonosközösség | J20: =SUM(O20:AC20) -> 6 | L20: 44927 | M20: 45291 | N20: hosszú | U20: 6
A21: 70 | C21: Zalaegerszeg … kút | D21: Szivattyú csere 2 db | E21: A szivattyú kora, műszaki állapota miatt fennáll a meghibásodás veszélye. | F21: A folyamatos víztermelés biztosítása. | G21: A Q–H diagramhoz illeszkedő energiahatékony szivattyú üzemeltetése. | I21: Zalaegerszeg tulajdonosközösség | J21: =SUM(O21:AC21) -> 2 | L21: 45292 | M21: 45657 | N21: hosszú | V21: 2
C22: Zalaegerszeg … kút | D22: Gépészeti felújítás 2 db | E22: A szerelvények és vezetékek, műszaki állapota miatt fennáll a meghibásodás veszélye. | F22: A folyamatos víztermelés biztosítása. | G22: A gépészeti funkciókat kifogástalanul ellátó szerelvények. | I22: Zalaegerszeg tulajdonosközösség | J22: =SUM(O22:AC22) -> 6 | L22: 45292 | M22: 45657 | N22: hosszú | V22: 6
A23: 72 | C23: Zalaegerszeg … kút | D23: Szivattyú csere 2 db | E23: A szivattyú kora, műszaki állapota miatt fennáll a meghibásodás veszélye. | F23: A folyamatos víztermelés biztosítása. | G23: A Q–H diagramhoz illeszkedő energiahatékony szivattyú üzemeltetése. | I23: Zalaegerszeg tulajdonosközösség | J23: =SUM(O23:AC23) -> 2 | L23: 45658 | M23: 46022 | N23: hosszú | W23: 2
C24: Zalaegerszeg … kút | D24: Gépészeti felújítás 2 db | E24: A szerelvények és vezetékek, műszaki állapota miatt fennáll a meghibásodás veszélye. | F24: A folyamatos víztermelés biztosítása. | G24: A gépészeti funkciókat kifogástalanul ellátó szerelvények. | I24: Zalaegerszeg tulajdonosközösség | J24: =SUM(O24:AC24) -> 6 | L24: 45658 | M24: 46022 | N24: hosszú | W24: 6
A25: 75 | C25: Zalaegerszeg … kút | D25: Szivattyú csere 2 db | E25: A szivattyú kora, műszaki állapota miatt fennáll a meghibásodás veszélye. | F25: A folyamatos víztermelés biztosítása. | G25: A Q–H diagramhoz illeszkedő energiahatékony szivattyú üzemeltetése. | I25: Zalaegerszeg tulajdonosközösség | J25: =SUM(O25:AC25) -> 2 | L25: 46023 | M25: 46387 | N25: hosszú | X25: 2
C26: Zalaegerszeg … kút | D26: Gépészeti felújítás 2 db | E26: A szerelvények és vezetékek, műszaki állapota miatt fennáll a meghibásodás veszélye. | F26: A folyamatos víztermelés biztosítása. | G26: A gépészeti funkciókat kifogástalanul ellátó szerelvények. | I26: Zalaegerszeg tulajdonosközösség | J26: =SUM(O26:AC26) -> 6 | L26: 46023 | M26: 46387 | N26: hosszú | X26: 6
A27: 80 | C27: Zalaegerszeg … kút | D27: Szivattyú csere 2 db | E27: A szivattyú kora, műszaki állapota miatt fennáll a meghibásodás veszélye. | F27: A folyamatos víztermelés biztosítása. | G27: A Q–H diagramhoz illeszkedő energiahatékony szivattyú üzemeltetése. | I27: Zalaegerszeg tulajdonosközösség | J27: =SUM(O27:AC27) -> 2 | L27: 46388 | M27: 46752 | N27: hosszú | Y27: 2
C28: Zalaegerszeg … kút | D28: Gépészeti felújítás 2 db | E28: A szerelvények és vezetékek, műszaki állapota miatt fennáll a meghibásodás veszélye. | F28: A folyamatos víztermelés biztosítása. | G28: A gépészeti funkciókat kifogástalanul ellátó szerelvények. | I28: Zalaegerszeg tulajdonosközösség | J28: =SUM(O28:AC28) -> 6 | L28: 46388 | M28: 46752 | N28: hosszú | Y28: 6
A29: 85 | C29: Zalaegerszeg … kút | D29: Szivattyú csere 2 db | E29: A szivattyú kora, műszaki állapota miatt fennáll a meghibásodás veszélye. | F29: A folyamatos víztermelés biztosítása. | G29: A Q–H diagramhoz illeszkedő energiahatékony szivattyú üzemeltetése. | I29: Zalaegerszeg tulajdonosközösség | J29: =SUM(O29:AC29) -> 2 | L29: 46753 | M29: 47118 | N29: hosszú | Z29: 2
C30: Zalaegerszeg … kút | D30: Gépészeti felújítás 2 db | E30: A szerelvények és vezetékek, műszaki állapota miatt fennáll a meghibásodás veszélye. | F30: A folyamatos víztermelés biztosítása. | G30: A gépészeti funkciókat kifogástalanul ellátó szerelvények. | I30: Zalaegerszeg tulajdonosközösség | J30: =SUM(O30:AC30) -> 6 | L30: 46753 | M30: 47118 | N30: hosszú | Z30: 6
A31: 88 | C31: Zalaegerszeg … kút | D31: Szivattyú csere 2 db | E31: A szivattyú kora, műszaki állapota miatt fennáll a meghibásodás veszélye. | F31: A folyamatos víztermelés biztosítása. | G31: A Q–H diagramhoz illeszkedő energiahatékony szivattyú üzemeltetése. | I31: Zalaegerszeg tulajdonosközösség | J31: =SUM(O31:AC31) -> 2 | L31: 47119 | M31: 47483 | N31: hosszú | AA31: 2
C32: Zalaegerszeg … kút | D32: Gépészeti felújítás 2 db | E32: A szerelvények és vezetékek, műszaki állapota miatt fennáll a meghibásodás veszélye. | F32: A folyamatos víztermelés biztosítása. | G32: A gépészeti funkciókat kifogástalanul ellátó szerelvények. | I32: Zalaegerszeg tulajdonosközösség | J32: =SUM(O32:AC32) -> 6 | L32: 47119 | M32: 47483 | N32: hosszú | AA32: 6
A33: 90 | C33: Zalaegerszeg … kút | D33: Szivattyú csere 2 db | E33: A szivattyú kora, műszaki állapota miatt fennáll a meghibásodás veszélye. | F33: A folyamatos víztermelés biztosítása. | G33: A Q–H diagramhoz illeszkedő energiahatékony szivattyú üzemeltetése. | I33: Zalaegerszeg tulajdonosközösség | J33: =SUM(O33:AC33) -> 2 | L33: 47484 | M33: 47848 | N33: hosszú | AB33: 2
C34: Zalaegerszeg … kút | D34: Gépészeti felújítás 2 db | E34: A szerelvények és vezetékek, műszaki állapota miatt fennáll a meghibásodás veszélye. | F34: A folyamatos víztermelés biztosítása. | G34: A gépészeti funkciókat kifogástalanul ellátó szerelvények. | I34: Zalaegerszeg tulajdonosközösség | J34: =SUM(O34:AC34) -> 6 | L34: 47484 | M34: 47848 | N34: hosszú | AB34: 6
A35: 92 | C35: Zalaegerszeg … kút | D35: Szivattyú csere 2 db | E35: A szivattyú kora, műszaki állapota miatt fennáll a meghibásodás veszélye. | F35: A folyamatos víztermelés biztosítása. | G35: A Q–H diagramhoz illeszkedő energiahatékony szivattyú üzemeltetése. | I35: Zalaegerszeg tulajdonosközösség | J35: =SUM(O35:AC35) -> 2 | L35: 47849 | M35: 48213 | N35: hosszú | AC35: 2
C36: Zalaegerszeg … kút | D36: Gépészeti felújítás 2 db | E36: A szerelvények és vezetékek, műszaki állapota miatt fennáll a meghibásodás veszélye. | F36: A folyamatos víztermelés biztosítása. | G36: A gépészeti funkciókat kifogástalanul ellátó szerelvények. | I36: Zalaegerszeg tulajdonosközösség | J36: =SUM(O36:AC36) -> 6 | L36: 47849 | M36: 48213 | N36: hosszú | AC36: 6
B38: Irányítástechnika, energiaellátás
A39: 7 | C39: Zalaegerszeg D1 - D3 kút | D39: 20 kV hálózat felújítása, oszlopszigetelő és távtartó csere, túláramvédelem felújítás | E39: Az elektromos, irányítástechnikai szerelvények és vezetékek, műszaki állapota miatt fennáll a meghibásodás veszélye. | F39: A búvárszivattyú elektromos megtáplálása, a folyamatos távfelügyelet biztosítása. | G39: A búvárszivattyú elektromos paramétereihez illeszkedő erősáramú és vezérlőszekrény. | I39: Zalaegerszeg tulajdonosközösség | J39: =SUM(O39:AC39) -> 5 | L39: 42736 | M39: 43100 | N39: rövid | O39: 5
A40: 11 | C40: Zalaegerszeg 11 - 15 kútcsoport | D40: 20 kV hálózat felújítás, oszloptranszformátor alatti erősáramú szekrény csere | E40: Az elektromos, irányítástechnikai szerelvények és vezetékek, műszaki állapota miatt fennáll a meghibásodás veszélye. | F40: A búvárszivattyú elektromos megtáplálása, a folyamatos távfelügyelet biztosítása. | G40: A búvárszivattyú elektromos paramétereihez illeszkedő erősáramú és vezérlőszekrény. | I40: Zalaegerszeg tulajdonosközösség | J40: =SUM(O40:AC40) -> 8 | L40: 42736 | M40: 43100 | N40: rövid | O40: 8
A41: 26 | C41: Zalaegerszeg Keleti kútcsoport | D41: GPRS kommunikációra történő átállás | E41: Az elektromos, irányítástechnikai szerelvények és vezetékek, műszaki állapota miatt fennáll a meghibásodás veszélye. | F41: A búvárszivattyú elektromos megtáplálása, a folyamatos távfelügyelet biztosítása. | G41: A búvárszivattyú elektromos paramétereihez illeszkedő erősáramú és vezérlőszekrény. | I41: Zalaegerszeg tulajdonosközösség | J41: =SUM(O41:AC41) -> 18 | L41: 43101 | M41: 43465 | N41: közép | P41: 18
A42: 67 | C42: Zalaegerszeg … kút | D42: elektromos és iráűnyítástechnikai szekrény csere (2 db) | E42: Az elektromos, irányítástechnikai szerelvények és vezetékek, műszaki állapota miatt fennáll a meghibásodás veszélye. | F42: A búvárszivattyú elektromos megtáplálása, a folyamatos távfelügyelet biztosítása. | G42: A búvárszivattyú elektromos paramétereihez illeszkedő erősáramú és vezérlőszekrény. | I42: Zalaegerszeg tulajdonosközösség | J42: =SUM(O42:AC42) -> 18 | L42: 44927 | M42: 45291 | N42: hosszú | U42: 18
...

Sheet Csatár
A1: Gördülő fejlesztési terv a 2017 - 2031 időszakra
A2: FELÚJÍTÁSOK ÉS PÓTLÁSOK ÖSSZEFOGLALÓ TÁBLÁZATA
A3: A tervet benyújtó szervezet megnevezése: | K3: CSATÁR | R3: ellátásért felelős / ellátásért felelősök képviselője / víziközmű-szolgáltató *
A4: Víziközmű-szolgáltató megnevezése: | K4: ÉSZAK ZALAI VÍZ- ÉS CSATORNAMŰ ZÁRTKÖRŰEN MŰKÖDŐ RÉSZVÉNYTÁRSASÁG
A5: Víziközmű-szolgáltatási ágazat megnevezése: | K5: IVÓVÍZ ÁGAZAT
A6: Véleményeltérést megfogalmazó érintett fél megnevezése:
A7: Víziközmű-rendszer kódja: ** | K7: 11-32054-1-010-00-14 | R7: CSATÁR-IV
A8: I. Felszín alatti vízkivétel
A9: Fontossági sorrend | B9: Felujítás és pótlás megnevezése | E9: Műszaki állapot felmérés, szükségességi indoklás | H9: Vízjogi létesítési/elvi engedély száma | I9: Az érintett ellátásért felelős(ök) megnevezése | J9: Tervezett nettó költség | K9: Forrás 2017 évre | L9: Megvalósítás időtartama | N9: Tervezett időtáv | O9: A beruházás ütemezése a tervezési időszak évei szerint
E10: Jelenlegi műszaki állapot | F10: Feladat szükségessége | G10: Megvalósítást követő várható műszaki állapot | J10: (eFt) | L10: Kezdés | M10: Befejezés | N10: (rövid / közép / hosszú) | O10: 1 | P10: 2 | Q10: 3 | R10: 4 | S10: 5 | T10: 6 | U10: 7 | V10: 8 | W10: 9 | X10: 10 | Y10: 11 | Z10: 12 | AA10: 13 | AB10: 14 | AC10: 15
B11: szakág | C11: Helyszín | D11: beruházás megnevezése
A12: 1 | D12: Rendkívüli helyzetből adódó azonnali feladatok (max. 5%) | F12: működőképeség biztosítása | I12: Csatár | J12: =SUM(O12:AC12) -> 807 | L12: 42736 | M12: 48213 | O12: =0.05*$K$118 -> 53.8 | P12: =0.05*$K$118 -> 53.8 | Q12: =0.05*$K$118 -> 53.8 | R12: =0.05*$K$118 -> 53.8 | S12: =0.05*$K$118 -> 53.8 | T12: =0.05*$K$118 -> 53.8 | U12: =0.05*$K$118 -> 53.8 | V12: =0.05*$K$118 -> 53.8 | ... AC12: =0.05*$K$118 -> 53.8
B13: MÉLYFÚRÁSÚ KÚT, HAGYOMÁNYOS ÁTMÉRŐVEL
B14: Épület, építmény
A15: 48 | C15: Zalaegerszeg … kút | D15: kútfelújítás | E15: Az objektum kora, műszaki állapota miatt fennáll a meghibásodás veszélye. Feladat szükségessége | F15: A felhasználók folyamatos vízellátásának biztosítására | G15: Az elvárt vízigényeket kielégítő megfelelő műszaki állapotú vízbázis. | I15: Zalaegerszeg tulajdonosközösség | J15: =SUM(O15:AC15) -> 36 | L15: 44562 | M15: 44926 | N15: hosszú | T15: 36
A16: 79 | C16: Zalaegerszeg … kút | D16: kútfelújítás | E16: Az objektum kora, műszaki állapota miatt fennáll a meghibásodás veszélye. Feladat szükségessége | F16: A felhasználók folyamatos vízellátásának biztosítására | G16: Az elvárt vízigényeket kielégítő megfelelő műszaki állapotú vízbázis. | I16: Zalaegerszeg tulajdonosközösség | J16: =SUM(O16:AC16) -> 36 | L16: 46388 | M16: 46752 | N16: hosszú | Y16: 36
B18: Gép, berendezés
A19: 66 | C19: Zalaegerszeg … kút | D19: Szivattyú csere 2 db | E19: A szivattyú kora, műszaki állapota miatt fennáll a meghibásodás veszélye. | F19: A folyamatos víztermelés biztosítása. | G19: A Q–H diagramhoz illeszkedő energiahatékony szivattyú üzemeltetése. | I19: Zalaegerszeg tulajdonosközösség | J19: =SUM(O19:AC19) -> 4 | L19: 44927 | M19: 45291 | N19: hosszú | U19: 4
C20: Zalaegerszeg … kút | D20: Gépészeti felújítás 2 db | E20: A szerelvények és vezetékek, műszaki állapota miatt fennáll a meghibásodás veszélye. | F20: A folyamatos víztermelés biztosítása. | G20: A gépészeti funkciókat kifogástalanul ellátó szerelvények. | I20: Zalaegerszeg tulajdonosközösség | J20: =SUM(O20:AC20) -> 12 | L20: 44927 | M20: 45291 | N20: hosszú | U20: 12
A21: 70 | C21: Zalaegerszeg … kút | D21: Szivattyú csere 2 db | E21: A szivattyú kora, műszaki állapota miatt fennáll a meghibásodás veszélye. | F21: A folyamatos víztermelés biztosítása. | G21: A Q–H diagramhoz illeszkedő energiahatékony szivattyú üzemeltetése. | I21: Zalaegerszeg tulajdonosközösség | J21: =SUM(O21:AC21) -> 4 | L21: 45292 | M21: 45657 | N21: hosszú | V21: 4
C22: Zalaegerszeg … kút | D22: Gépészeti felújítás 2 db | E22: A szerelvények és vezetékek, műszaki állapota miatt fennáll a meghibásodás veszélye. | F22: A folyamatos víztermelés biztosítása. | G22: A gépészeti funkciókat kifogástalanul ellátó szerelvények. | I22: Zalaegerszeg tulajdonosközösség | J22: =SUM(O22:AC22) -> 12 | L22: 45292 | M22: 45657 | N22: hosszú | V22: 12
A23: 72 | C23: Zalaegerszeg … kút | D23: Szivattyú csere 2 db | E23: A szivattyú kora, műszaki állapota miatt fennáll a meghibásodás veszélye. | F23: A folyamatos víztermelés biztosítása. | G23: A Q–H diagramhoz illeszkedő energiahatékony szivattyú üzemeltetése. | I23: Zalaegerszeg tulajdonosközösség | J23: =SUM(O23:AC23) -> 4 | L23: 45658 | M23: 46022 | N23: hosszú | W23: 4
C24: Zalaegerszeg … kút | D24: Gépészeti felújítás 2 db | E24: A szerelvények és vezetékek, műszaki állapota miatt fennáll a meghibásodás veszélye. | F24: A folyamatos víztermelés biztosítása. | G24: A gépészeti funkciókat kifogástalanul ellátó szerelvények. | I24: Zalaegerszeg tulajdonosközösség | J24: =SUM(O24:AC24) -> 12 | L24: 45658 | M24: 46022 | N24: hosszú | W24: 12
A25: 75 | C25: Zalaegerszeg … kút | D25: Szivattyú csere 2 db | E25: A szivattyú kora, műszaki állapota miatt fennáll a meghibásodás veszélye. | F25: A folyamatos víztermelés biztosítása. | G25: A Q–H diagramhoz illeszkedő energiahatékony szivattyú üzemeltetése. | I25: Zalaegerszeg tulajdonosközösség | J25: =SUM(O25:AC25) -> 4 | L25: 46023 | M25: 46387 | N25: hosszú | X25: 4
C26: Zalaegerszeg … kút | D26: Gépészeti felújítás 2 db | E26: A szerelvények és vezetékek, műszaki állapota miatt fennáll a meghibásodás veszélye. | F26: A folyamatos víztermelés biztosítása. | G26: A gépészeti funkciókat kifogástalanul ellátó szerelvények. | I26: Zalaegerszeg tulajdonosközösség | J26: =SUM(O26:AC26) -> 12 | L26: 46023 | M26: 46387 | N26: hosszú | X26: 12
A27: 80 | C27: Zalaegerszeg … kút | D27: Szivattyú csere 2 db | E27: A szivattyú kora, műszaki állapota miatt fennáll a meghibásodás veszélye. | F27: A folyamatos víztermelés biztosítása. | G27: A Q–H diagramhoz illeszkedő energiahatékony szivattyú üzemeltetése. | I27: Zalaegerszeg tulajdonosközösség | J27: =SUM(O27:AC27) -> 4 | L27: 46388 | M27: 46752 | N27: hosszú | Y27: 4
C28: Zalaegerszeg … kút | D28: Gépészeti felújítás 2 db | E28: A szerelvények és vezetékek, műszaki állapota miatt fennáll a meghibásodás veszélye. | F28: A folyamatos víztermelés biztosítása. | G28: A gépészeti funkciókat kifogástalanul ellátó szerelvények. | I28: Zalaegerszeg tulajdonosközösség | J28: =SUM(O28:AC28) -> 12 | L28: 46388 | M28: 46752 | N28: hosszú | Y28: 12
A29: 85 | C29: Zalaegerszeg … kút | D29: Szivattyú csere 2 db | E29: A szivattyú kora, műszaki állapota miatt fennáll a meghibásodás veszélye. | F29: A folyamatos víztermelés biztosítása. | G29: A Q–H diagramhoz illeszkedő energiahatékony szivattyú üzemeltetése. | I29: Zalaegerszeg tulajdonosközösség | J29: =SUM(O29:AC29) -> 4 | L29: 46753 | M29: 47118 | N29: hosszú | Z29: 4
C30: Zalaegerszeg … kút | D30: Gépészeti felújítás 2 db | E30: A szerelvények és vezetékek, műszaki állapota miatt fennáll a meghibásodás veszélye. | F30: A folyamatos víztermelés biztosítása. | G30: A gépészeti funkciókat kifogástalanul ellátó szerelvények. | I30: Zalaegerszeg tulajdonosközösség | J30: =SUM(O30:AC30) -> 12 | L30: 46753 | M30: 47118 | N30: hosszú | Z30: 12
A31: 88 | C31: Zalaegerszeg … kút | D31: Szivattyú csere 2 db | E31: A szivattyú kora, műszaki állapota miatt fennáll a meghibásodás veszélye. | F31: A folyamatos víztermelés biztosítása. | G31: A Q–H diagramhoz illeszkedő energiahatékony szivattyú üzemeltetése. | I31: Zalaegerszeg tulajdonosközösség | J31: =SUM(O31:AC31) -> 4 | L31: 47119 | M31: 47483 | N31: hosszú | AA31: 4
C32: Zalaegerszeg … kút | D32: Gépészeti felújítás 2 db | E32: A szerelvények és vezetékek, műszaki állapota miatt fennáll a meghibásodás veszélye. | F32: A folyamatos víztermelés biztosítása. | G32: A gépészeti funkciókat kifogástalanul ellátó szerelvények. | I32: Zalaegerszeg tulajdonosközösség | J32: =SUM(O32:AC32) -> 12 | L32: 47119 | M32: 47483 | N32: hosszú | AA32: 12
