Workbook

Sheet Babosdöbréte
A1: Gördülő fejlesztési terv a 2017 - 2031 időszakra
A2: FELÚJÍTÁSOK ÉS PÓTLÁSOK ÖSSZEFOGLALÓ TÁBLÁZATA
A3: A tervet benyújtó szervezet megnevezése: | K3: BABOSDÖBRÉTE | R3: ellátásért felelős / ellátásért felelősök képviselője / víziközmű-szolgáltató *
A4: Víziközmű-szolgáltató megnevezése: | K4: ÉSZAK ZALAI VÍZ- ÉS CSATORNAMŰ ZÁRTKÖRŰEN MŰKÖDŐ RÉSZVÉNYTÁRSASÁG
A5: Víziközmű-szolgáltatási ágazat megnevezése: | K5: IVÓVÍZ ÁGAZAT
A6: Véleményeltérést megfogalmazó érintett fél megnevezése:
A7: Víziközmű-rendszer kódja: ** | K7: 11-32054-1-010-00-14 | R7: BABOSDÖBRÉTE-IV
A8: I. Felszín alatti vízkivétel
A9: Fontossági sorrend | B9: Felujítás és pótlás megnevezése | E9: Műszaki állapot felmérés, szükségességi indoklás | H9: Vízjogi létesítési/elvi engedély száma | I9: Az érintett ellátásért felelős(ök) megnevezése | J9: Tervezett nettó költség | K9: Forrás 2017 évre | L9: Megvalósítás időtartama | N9: Tervezett időtáv | O9: A beruházás ütemezése a tervezési időszak évei szerint
E10: Jelenlegi műszaki állapot | F10: Feladat szükségessége | G10: Megvalósítást követő várható műszaki állapot | J10: (eFt) | L10: Kezdés | M10: Befejezés | N10: (rövid / közép / hosszú) | O10: 1 | P10: 2 | Q10: 3 | R10: 4 | S10: 5 | T10: 6 | U10: 7 | V10: 8 | W10: 9 | X10: 10 | Y10: 11 | Z10: 12 | AA10: 13 | AB10: 14 | AC10: 15
B11: szakág | C11: Helyszín | D11: beruházás megnevezése
A12: 1 | D12: Rendkívüli helyzetből adódó azonnali feladatok (max. 5%) | F12: működőképeség biztosítása | I12: Babosdöbréte | J12: =SUM(O12:AC12) -> 687 | L12: 42736 | M12: 48213 | O12: =0.05*$K$120 -> 45.8 | P12: =0.05*$K$120 -> 45.8 | Q12: =0.05*$K$120 -> 45.8 | R12: =0.05*$K$120 -> 45.8 | S12: =0.05*$K$120 -> 45.8 | T12: =0.05*$K$120 -> 45.8 | U12: =0.05*$K$120 -> 45.8 | V12: =0.05*$K$120 -> 45.8 | ... AC12: =0.05*$K$120 -> 45.8
B13: MÉLYFÚRÁSÚ KÚT, HAGYOMÁNYOS ÁTMÉRŐVEL
B14: Épület, építmény
A15: 48 | C15: Zalaegerszeg … kút | D15: kútfelújítás | E15: Az objektum kora, műszaki állapota miatt fennáll a meghibásodás veszélye. Feladat szükségessége | F15: A felhasználók folyamatos vízellátásának biztosítására | G15: Az elvárt vízigényeket kielégítő megfelelő műszaki állapotú vízbázis. | I15: Zalaegerszeg tulajdonosközösség | J15: =SUM(O15:AC15) -> 30 | L15: 44562 | M15: 44926 | N15: hosszú | T15: 30
A16: 79 | C16: Zalaegerszeg … kút | D16: kútfelújítás | E16: Az objektum kora, műszaki állapota miatt fennáll a meghibásodás veszélye. Feladat szükségessége | F16: A felhasználók folyamatos vízellátásának biztosítására | G16: Az elvárt vízigényeket kielégítő megfelelő műszaki állapotú vízbázis. | I16: Zalaegerszeg tulajdonosközösség | J16: =SUM(O16:AC16) -> 30 | L16: 46388 | M16: 46752 | N16: hosszú | Y16: 30
B18: Gép, berendezés
A19: 66 | C19: Zalaegerszeg … kút | D19: Szivattyú csere 2 db | E19: A szivattyú kora, műszaki állapota miatt fennáll a meghibásodás veszélye. | F19: A folyamatos víztermelés biztosítása. | G19: A Q–H diagramhoz illeszkedő energiahatékony szivattyú üzemeltetése. | I19: Zalaegerszeg tulajdonosközösség | J19: =SUM(O19:AC19) -> 3 | L19: 44927 | M19: 45291 | N19: hosszú | U19: 3
C20: Zalaegerszeg … kút | D20: Gépészeti felújítás 2 db | E20: A szerelvények és vezetékek, műszaki állapota miatt fennáll a meghibásodás veszélye. | F20: A folyamatos víztermelés biztosítása. | G20: A gépészeti funkciókat kifogástalanul ellátó szerelvények. | I20: Zalaegerszeg tulajdonosközösség | J20: =SUM(O20:AC20) -> 10 | L20: 44927 | M20: 45291 | N20: hosszú | U20: 10
A21: 70 | C21: Zalaegerszeg … kút | D21: Szivattyú csere 2 db | E21: A szivattyú kora, műszaki állapota miatt fennáll a meghibásodás veszélye. | F21: A folyamatos víztermelés biztosítása. | G21: A Q–H diagramhoz illeszkedő energiahatékony szivattyú üzemeltetése. | I21: Zalaegerszeg tulajdonosközösség | J21: =SUM(O21:AC21) -> 3 | L21: 45292 | M21: 45657 | N21: hosszú | V21: 3
C22: Zalaegerszeg … kút | D22: Gépészeti felújítás 2 db | E22: A szerelvények és vezetékek, műszaki állapota miatt fennáll a meghibásodás veszélye. | F22: A folyamatos víztermelés biztosítása. | G22: A gépészeti funkciókat kifogástalanul ellátó szerelvények. | I22: Zalaegerszeg tulajdonosközösség | J22: =SUM(O22:AC22) -> 10 | L22: 45292 | M22: 45657 | N22: hosszú | V22: 10
A23: 72 | C23: Zalaegerszeg … kút | D23: Szivattyú csere 2 db | E23: A szivattyú kora, műszaki állapota miatt fennáll a meghibásodás veszélye. | F23: A folyamatos víztermelés biztosítása. | G23: A Q–H diagramhoz illeszkedő energiahatékony szivattyú üzemeltetése. | I23: Zalaegerszeg tulajdonosközösség | J23: =SUM(O23:AC23) -> 3 | L23: 45658 | M23: 46022 | N23: hosszú | W23: 3
C24: Zalaegerszeg … kút | D24: Gépészeti felújítás 2 db | E24: A szerelvények és vezetékek, műszaki állapota miatt fennáll a meghibásodás veszélye. | F24: A folyamatos víztermelés biztosítása. | G24: A gépészeti funkciókat kifogástalanul ellátó szerelvények. | I24: Zalaegerszeg tulajdonosközösség | J24: =SUM(O24:AC24) -> 10 | L24: 45658 | M24: 46022 | N24: hosszú | W24: 10
A25: 75 | C25: Zalaegerszeg … kút | D25: Szivattyú csere 2 db | E25: A szivattyú kora, műszaki állapota miatt fennáll a meghibásodás veszélye. | F25: A folyamatos víztermelés biztosítása. | G25: A Q–H diagramhoz illeszkedő energiahatékony szivattyú üzemeltetése. | I25: Zalaegerszeg tulajdonosközösség | J25: =SUM(O25:AC25) -> 3 | L25: 46023 | M25: 46387 | N25: hosszú | X25: 3
C26: Zalaegerszeg … kút | D26: Gépészeti felújítás 2 db | E26: A szerelvények és vezetékek, műszaki állapota miatt fennáll a meghibásodás veszélye. | F26: A folyamatos víztermelés biztosítása. | G26: A gépészeti funkciókat kifogástalanul ellátó szerelvények. | I26: Zalaegerszeg tulajdonosközösség | J26: =SUM(O26:AC26) -> 10 | L26: 46023 | M26: 46387 | N26: hosszú | X26: 10
A27: 80 | C27: Zalaegerszeg … kút | D27: Szivattyú csere 2 db | E27: A szivattyú kora, műszaki állapota miatt fennáll a meghibásodás veszélye. | F27: A folyamatos víztermelés biztosítása. | G27: A Q–H diagramhoz illeszkedő energiahatékony szivattyú üzemeltetése. | I27: Zalaegerszeg tulajdonosközösség | J27: =SUM(O27:AC27) -> 3 | L27: 46388 | M27: 46752 | N27: hosszú | Y27: 3
C28: Zalaegerszeg … kút | D28: Gépészeti felújítás 2 db | E28: A szerelvények és vezetékek, műszaki állapota miatt fennáll a meghibásodás veszélye. | F28: A folyamatos víztermelés biztosítása. | G28: A gépészeti funkciókat kifogástalanul ellátó szerelvények. | I28: Zalaegerszeg tulajdonosközösség | J28: =SUM(O28:AC28) -> 10 | L28: 46388 | M28: 46752 | N28: hosszú | Y28: 10
A29: 85 | C29: Zalaegerszeg … kút | D29: Szivattyú csere 2 db | E29: A szivattyú kora, műszaki állapota miatt fennáll a meghibásodás veszélye. | F29: A folyamatos víztermelés biztosítása. | G29: A Q–H diagramhoz illeszkedő energiahatékony szivattyú üzemeltetése. | I29: Zalaegerszeg tulajdonosközösség | J29: =SUM(O29:AC29) -> 3 | L29: 46753 | M29: 47118 | N29: hosszú | Z29: 3
C30: Zalaegerszeg … kút | D30: Gépészeti felújítás 2 db | E30: A szerelvények és vezetékek, műszaki állapota miatt fennáll a meghibásodás veszélye. | F30: A folyamatos víztermelés biztosítása. | G30: A gépészeti funkciókat kifogástalanul ellátó szerelvények. | I30: Zalaegerszeg tulajdonosközösség | J30: =SUM(O30:AC30) -> 10 | L30: 46753 | M30: 47118 | N30: hosszú | Z30: 10
A31: 88 | C31: Zalaegerszeg … kút | D31: Szivattyú csere 2 db | E31: A szivattyú kora, műszaki állapota miatt fennáll a meghibásodás veszélye. | F31: A folyamatos víztermelés biztosítása. | G31: A Q–H diagramhoz illeszkedő energiahatékony szivattyú üzemeltetése. | I31: Zalaegerszeg tulajdonosközösség | J31: =SUM(O31:AC31) -> 3 | L31: 47119 | M31: 47483 | N31: hosszú | AA31: 3
C32: Zalaegerszeg … kút | D32: Gépészeti felújítás 2 db | E32: A szerelvények és vezetékek, műszaki állapota miatt fennáll a meghibásodás veszélye. | F32: A folyamatos víztermelés biztosítása. | G32: A gépészeti funkciókat kifogástalanul ellátó szerelvények. | I32: Zalaegerszeg tulajdonosközösség | J32: =SUM(O32:AC32) -> 10 | L32: 47119 | M32: 47483 | N32: hosszú | AA32: 10
A33: 90 | C33: Zalaegerszeg … kút | D33: Szivattyú csere 2 db | E33: A szivattyú kora, műszaki állapota miatt fennáll a meghibásodás veszélye. | F33: A folyamatos víztermelés biztosítása. | G33: A Q–H diagramhoz illeszkedő energiahatékony szivattyú üzemeltetése. | I33: Zalaegerszeg tulajdonosközösség | J33: =SUM(O33:AC33) -> 3 | L33: 47484 | M33: 47848 | N33: hosszú | AB33: 3
C34: Zalaegerszeg … kút | D34: Gépészeti felújítás 2 db | E34: A szerelvények és vezetékek, műszaki állapota miatt fennáll a meghibásodás veszélye. | F34: A folyamatos víztermelés biztosítása. | G34: A gépészeti funkciókat kifogástalanul ellátó szerelvények. | I34: Zalaegerszeg tulajdonosközösség | J34: =SUM(O34:AC34) -> 10 | L34: 47484 | M34: 47848 | N34: hosszú | AB34: 10
A35: 92 | C35: Zalaegerszeg … kút | D35: Szivattyú csere 2 db | E35: A szivattyú kora, műszaki állapota miatt fennáll a meghibásodás veszélye. | F35: A folyamatos víztermelés biztosítása. | G35: A Q–H diagramhoz illeszkedő energiahatékony szivattyú üzemeltetése. | I35: Zalaegerszeg tulajdonosközösség | J35: =SUM(O35:AC35) -> 3 | L35: 47849 | M35: 48213 | N35: hosszú | AC35: 3
C36: Zalaegerszeg … kút | D36: Gépészeti felújítás 2 db | E36: A szerelvények és vezetékek, műszaki állapota miatt fennáll a meghibásodás veszélye. | F36: A folyamatos víztermelés biztosítása. | G36: A gépészeti funkciókat kifogástalanul ellátó szerelvények. | I36: Zalaegerszeg tulajdonosközösség | J36: =SUM(O36:AC36) -> 10 | L36: 47849 | M36: 48213 | N36: hosszú | AC36: 10
B38: Irányítástechnika, energiaellátás
A39: 7 | C39: Zalaegerszeg D1 - D3 kút | D39: 20 kV hálózat felújítása, oszlopszigetelő és távtartó csere, túláramvédelem felújítás | E39: Az elektromos, irányítástechnikai szerelvények és vezetékek, műszaki állapota miatt fennáll a meghibásodás veszélye. | F39: A búvárszivattyú elektromos megtáplálása, a folyamatos távfelügyelet biztosítása. | G39: A búvárszivattyú elektromos paramétereihez illeszkedő erősáramú és vezérlőszekrény. | I39: Zalaegerszeg tulajdonosközösség | J39: =SUM(O39:AC39) -> 8 | L39: 42736 | M39: 43100 | N39: rövid | O39: 8
A40: 11 | C40: Zalaegerszeg 11 - 15 kútcsoport | D40: 20 kV hálózat felújítás, oszloptranszformátor alatti erősáramú szekrény csere | E40: Az elektromos, irányítástechnikai szerelvények és vezetékek, műszaki állapota miatt fennáll a meghibásodás veszélye. | F40: A búvárszivattyú elektromos megtáplálása, a folyamatos távfelügyelet biztosítása. | G40: A búvárszivattyú elektromos paramétereihez illeszkedő erősáramú és vezérlőszekrény. | I40: Zalaegerszeg tulajdonosközösség | J40: =SUM(O40:AC40) -> 13 | L40: 42736 | M40: 43100 | N40: rövid | O40: 13
A41: 26 | C41: Zalaegerszeg Keleti kútcsoport | D41: GPRS kommunikációra történő átállás | E41: Az elektromos, irányítástechnikai szerelvények és vezetékek, műszaki állapota miatt fennáll a meghibásodás veszélye. | F41: A búvárszivattyú elektromos megtáplálása, a folyamatos távfelügyelet biztosítása. | G41: A búvárszivattyú elektromos paramétereihez illeszkedő erősáramú és vezérlőszekrény. | I41: Zalaegerszeg tulajdonosközösség | J41: =SUM(O41:AC41) -> 30 | L41: 43101 | M41: 43465 | N41: közép | P41: 30
A42: 67 | C42: Zalaegerszeg … kút | D42: elektromos és iráűnyítástechnikai szekrény csere (2 db) | E42: Az elektromos, irányítástechnikai szerelvények és vezetékek, műszaki állapota miatt fennáll a meghibásodás veszélye. | F42: A búvárszivattyú elektromos megtáplálása, a folyamatos távfelügyelet biztosítása. | G42: A búvárszivattyú elektromos paramétereihez illeszkedő erősáramú és vezérlőszekrény. | I42: Zalaegerszeg tulajdonosközösség | J42: =SUM(O42:AC42) -> 30 | L42: 44927 | M42: 45291 | N42: hosszú | U42: 30
A43: 71 | C43: Zalaegerszeg … kút | D43: elektromos és iráűnyítástechnikai szekrény csere (2 db) | E43: Az elektromos, irányítástechnikai szerelvények és vezetékek, műszaki állapota miatt fennáll a meghibásodás veszélye. | F43: A búvárszivattyú elektromos megtáplálása, a folyamatos távfelügyelet biztosítása. | G43: A búvárszivattyú elektromos paramétereihez illeszkedő erősáramú és vezérlőszekrény. | I43: Zalaegerszeg tulajdonosközösség | J43: =SUM(O43:AC43) -> 30 | L43: 45292 | M43: 45657 | N43: hosszú | V43: 30
A44: 73 | C44: Zalaegerszeg … kút | D44: elektromos és iráűnyítástechnikai szekrény csere (2 db) | E44: Az elektromos, irányítástechnikai szerelvények és vezetékek, műszaki állapota miatt fennáll a meghibásodás veszélye. | F44: A búvárszivattyú elektromos megtáplálása, a folyamatos távfelügyelet biztosítása. | G44: A búvárszivattyú elektromos paramétereihez illeszkedő erősáramú és vezérlőszekrény. | I44: Zalaegerszeg tulajdonosközösség | J44: =SUM(O44:AC44) -> 30 | L44: 45658 | M44: 46022 | N44: hosszú | W44: 30
A45: 76 | C45: Zalaegerszeg … kút | D45: elektromos és iráűnyítástechnikai szekrény csere (2 db) | E45: Az elektromos, irányítástechnikai szerelvények és vezetékek, műszaki állapota miatt fennáll a meghibásodás veszélye. | F45: A búvárszivattyú elektromos megtáplálása, a folyamatos távfelügyelet biztosítása. | G45: A búvárszivattyú elektromos paramétereihez illeszkedő erősáramú és vezérlőszekrény. | I45: Zalaegerszeg tulajdonosközösség | J45: =SUM(O45:AC45) -> 30 | L45: 46023 | M45: 46387 | N45: hosszú | X45: 30
A46: 81 | C46: Zalaegerszeg … kút | D46: elektromos és iráűnyítástechnikai szekrény csere (2 db) | E46: Az elektromos, irányítástechnikai szerelvények és vezetékek, műszaki állapota miatt fennáll a meghibásodás veszélye. | F46: A búvárszivattyú elektromos megtáplálása, a folyamatos távfelügyelet biztosítása. | G46: A búvárszivattyú elektromos paramétereihez illeszkedő erősáramú és vezérlőszekrény. | I46: Zalaegerszeg tulajdonosközösség | J46: =SUM(O46:AC46) -> 30 | L46: 46388 | M46: 46752 | N46: hosszú | Y46: 30
A47: 86 | C47: Zalaegerszeg … kút | D47: elektromos és iráűnyítástechnikai szekrény csere (2 db) | E47: Az elektromos, irányítástechnikai szerelvények és vezetékek, műszaki állapota miatt fennáll a meghibásodás veszélye. | F47: A búvárszivattyú elektromos megtáplálása, a folyamatos távfelügyelet biztosítása. | G47: A búvárszivattyú elektromos paramétereihez illeszkedő erősáramú és vezérlőszekrény. | I47: Zalaegerszeg tulajdonosközösség | J47: =SUM(O47:AC47) -> 30 | L47: 46753 | M47: 47118 | N47: hosszú | Z47: 30
A48: 89 | C48: Zalaegerszeg … kút | D48: elektromos és iráűnyítástechnikai szekrény csere (2 db) | E48: Az elektromos, irányítástechnikai szerelvények és vezetékek, műszaki állapota miatt fennáll a meghibásodás veszélye. | F48: A búvárszivattyú elektromos megtáplálása, a folyamatos távfelügyelet biztosítása. | G48: A búvárszivattyú elektromos paramétereihez illeszkedő erősáramú és vezérlőszekrény. | I48: Zalaegerszeg tulajdonosközösség | J48: =SUM(O48:AC48) -> 30 | L48: 47119 | M48: 47483 | N48: hosszú | AA48: 30
A49: 91 | C49: Zalaegerszeg … kút | D49: elektromos és iráűnyítástechnikai szekrény csere (2 db) | E49: Az elektromos, irányítástechnikai szerelvények és vezetékek, műszaki állapota miatt fennáll a meghibásodás veszélye. | F49: A búvárszivattyú elektromos megtáplálása, a folyamatos távfelügyelet biztosítása. | G49: A búvárszivattyú elektromos paramétereihez illeszkedő erősáramú és vezérlőszekrény. | I49: Zalaegerszeg tulajdonosközösség | J49: =SUM(O49:AC49) -> 30 | L49: 47484 | M49: 47848 | N49: hosszú | AB49: 30
A50: 93 | C50: Zalaegerszeg … kút | D50: elektromos és iráűnyítástechnikai szekrény csere (2 db) | E50: Az elektromos, irányítástechnikai szerelvények és vezetékek, műszaki állapota miatt fennáll a meghibásodás veszélye. | F50: A búvárszivattyú elektromos megtáplálása, a folyamatos távfelügyelet biztosítása. | G50: A búvárszivattyú elektromos paramétereihez illeszkedő erősáramú és vezérlőszekrény. | I50: Zalaegerszeg tulajdonosközösség | J50: =SUM(O50:AC50) -> 30 | L50: 47849 | M50: 48213 | N50: hosszú | AC50: 30
B52: Összesen: | J52: =SUM(J12:J39) -> 872
A54: III. Vízműtelep és vízkezelő létesítmények
C55: Helyszín | D55: beruházás megnevezése
B56: VÍZMŰTELEP
B57: Épület, építmény
B59: Gép, berendezés
B61: Irányítástechnika, energiaellátás
A62: 40 | C62: Zalaegerszeg Keleti vízműtelep | D62: PLC - PLC közti kommunikáció felújítása | E62: Az elektromos, irányítástechnikai szerelvények és vezetékek, műszaki állapota miatt fennáll a meghibásodás veszélye | F62: A vízműtelep elektromos megtáplálása, a folyamatos távfelügyelet biztosítása. | G62: Az elektromos paramétereihez illeszkedő erős- és gyengeáramú vezérlőszekrény. | I62: Zalaegerszeg tulajdonosközösség | J62: =SUM(O62:AC62) -> 5 | L62: 43556 | M62: 43830 | N62: közép | Q62: 5
A63: 45 | C63: Zalaegerszeg Keleti vízműtelep | D63: URH alnokok megszűntetése | E63: Az elektromos, irányítástechnikai szerelvények és vezetékek, műszaki állapota miatt fennáll a meghibásodás veszélye | F63: A vízműtelep elektromos megtáplálása, a folyamatos távfelügyelet biztosítása. | G63: Az elektromos paramétereihez illeszkedő erős- és gyengeáramú vezérlőszekrény. | I63: Zalaegerszeg tulajdonosközösség | J63: =SUM(O63:AC63) -> 34 | L63: 43922 | M63: 44196 | N63: közép | R63: 34
A64: 46 | C64: Zalaegerszeg Nyugati vízműtelep | D64: 20 KV-os főelosztó felújítása, feszültségváltó, megszakító csere mindkét betáp oldalon | E64: Az elektromos, irányítástechnikai szerelvények és vezetékek, műszaki állapota miatt fennáll a meghibásodás veszélye | F64: A vízműtelep elektromos megtáplálása, a folyamatos távfelügyelet biztosítása. | G64: Az elektromos paramétereihez illeszkedő erős- és gyengeáramú vezérlőszekrény. | I64: Zalaegerszeg tulajdonosközösség | J64: =SUM(O64:AC64) -> 105 | L64: 43922 | M64: 44196 | N64: közép | R64: 105
B66: VÍZKEZELŐ LÉTESÍTMÉNYEK
B67: Épület, építmény
B69: Gép, berendezés
A70: 69 | C70: Zalaegerszeg Keleti vastalanító | D70: gépszeti rekonstrukció | E70: A technológia, szerelvények és vezetékek, műszaki állapota miatt fennáll a meghibásodás veszélye. | F70: A tisztítás technológia jelenlegi műszaki állapota miatt nem képes az elvárt paramétereket biztosítani. Az avultsági szint miatt fennáll a meghibásodás veszélye. | G70: Megfelelő hatékonyságú technológia. A gépészeti funkciókat kifogástalanul ellátó szerelvények. | I70: Zalaegerszeg tulajdonosközösség | J70: =SUM(O70:AC70) -> 500 | L70: 45383 | M70: 46022 | N70: hosszú | V70: 250 | W70: 250
B72: Irányítástechnika, energiaellátás
B74: Összesen | J74: =SUM(J56:J73) -> 644
A76: IV. Vízelosztás
C77: Helyszín | D77: beruházás megnevezése
B78: IVÓVÍZHÁLÓZAT
B79: Épület, építmény
A80: 6 | C80: Zalaegerszeg Vizslapark | D80: gerincvezeték csere | E80: A vezeték állapota anyaga, kora, minősége miatt nem megfelelő, elavult. | F80: A vezeték elavult műszaki állapota miatt gyakoriak a csőtörések. | G80: A vízvezeték kiváltás a vízigények figyelembevételével megfelelő átmérőjű és anyagú hálózatot kapunk. | I80: Zalaegerszeg tulajdonközösség | J80: =SUM(O80:AC80) -> 175 | L80: 42795 | M80: 42825 | N80: rövid | O80: 175
A81: 41 | C81: Zalaegerszeg 74 - 76. út | D81: csomópont rekonstrukció | E81: A vezeték állapota anyaga, kora, minősége miatt nem megfelelő, elavult. | F81: A vezeték elavult műszaki állapota miatt gyakoriak a csőtörések. | G81: A vízvezeték kiváltás a vízigények figyelembevételével megfelelő átmérőjű és anyagú hálózatot kapunk. | I81: Zalaegerszeg tulajdonközösség | J81: =SUM(O81:AC81) -> 50 | L81: 43556 | M81: 43585 | N81: közép | Q81: 50
A82: 47 | C82: Zalaegerszeg Juhász Gy. - Zrínyi út között | D82: gerincvezeték csere (D315 400 fm) | E82: A vezeték állapota anyaga, kora, minősége miatt nem megfelelő, elavult. | F82: A vezeték elavult műszaki állapota miatt gyakoriak a csőtörések. | G82: A vízvezeték kiváltás a vízigények figyelembevételével megfelelő átmérőjű és anyagú hálózatot kapunk. | I82: Zalaegerszeg tulajdonközösség | J82: =SUM(O82:AC82) -> 105 | L82: 44287 | M82: 44316 | N82: közép | S82: 105
A83: 49 | C83: Zalaegerszeg Dózsa iskola régi szennyvíztelep között | D83: gerincvezeték csere (D355 520 fm) | E83: A vezeték állapota anyaga, kora, minősége miatt nem megfelelő, elavult. | F83: A vezeték elavult műszaki állapota miatt gyakoriak a csőtörések. | G83: A vízvezeték kiváltás a vízigények figyelembevételével megfelelő átmérőjű és anyagú hálózatot kapunk. | I83: Zalaegerszeg tulajdonközösség | J83: =SUM(O83:AC83) -> 110 | L83: 44652 | M83: 44926 | N83: hosszú | T83: 110
A84: 51 | C84: Babosdöbréte | D84: tartalékkeret képzése rekonstrukcióhoz | E84: A vezeték állapota anyaga, kora, minősége miatt nem megfelelő, elavult. | F84: A vezeték elavult műszaki állapota miatt gyakoriak a csőtörések. | G84: A vízvezeték kiváltás a vízigények figyelembevételével megfelelő átmérőjű és anyagú hálózatot kapunk. | I84: Babosdöbréte | J84: =SUM(O84:AC84) -> 5609 | L84: 44652 | M84: 47968 | N84: hosszú | T84: 341 | U84: 562 | V84: 577 | W84: 577 | X84: 587 | Y84: 547 | Z84: 687 | AA84: 577 | AB84: 577 | AC84: 577
A85: 68 | C85: Bocfölde tároló töltő vezeték | D85: gerincvezeték csere (D250 1600 fm) I. ütem | E85: A vezeték állapota anyaga, kora, minősége miatt nem megfelelő, elavult. | F85: A vezeték elavult műszaki állapota miatt gyakoriak a csőtörések. | G85: A vízvezeték kiváltás a vízigények figyelembevételével megfelelő átmérőjű és anyagú hálózatot kapunk. | I85: Zalaegerszeg tulajdonközösség | J85: =SUM(O85:AC85) -> 265 | L85: 45017 | M85: 45046 | N85: hosszú | U85: 265
A86: 74 | C86: Zalaegerszeg Keleti átemelő | D86: kimenő ág csere | E86: A vezeték állapota anyaga, kora, minősége miatt nem megfelelő, elavult. | F86: A vezeték elavult műszaki állapota miatt gyakoriak a csőtörések. | G86: A vízvezeték kiváltás a vízigények figyelembevételével megfelelő átmérőjű és anyagú hálózatot kapunk. | I86: Zalaegerszeg tulajdonközösség | J86: =SUM(O86:AC86) -> 210 | L86: 46113 | M86: 46142 | N86: hosszú | X86: 210
A87: 83 | C87: Zalaegerszeg Bíró M. út (Berzsenyi - Petőfi u. között) | D87: gerincvezeték csere (D355 330 fm)) | E87: A vezeték állapota anyaga, kora, minősége miatt nem megfelelő, elavult. | F87: A vezeték elavult műszaki állapota miatt gyakoriak a csőtörések. | G87: A vízvezeték kiváltás a vízigények figyelembevételével megfelelő átmérőjű és anyagú hálózatot kapunk. | I87: Zalaegerszeg tulajdonközösség | J87: =SUM(O87:AC87) -> 125 | L87: 46844 | M87: 46873 | N87: hosszú | Z87: 125
A88: 87 | C88: Zalaegerszeg | D88: gerincvezeték csere | E88: A vezeték állapota anyaga, kora, minősége miatt nem megfelelő, elavult. | F88: A vezeték elavult műszaki állapota miatt gyakoriak a csőtörések. | G88: A vízvezeték kiváltás a vízigények figyelembevételével megfelelő átmérőjű és anyagú hálózatot kapunk. | I88: Zalaegerszeg tulajdonközösség | J88: =SUM(O88:AC88) -> 750 | L88: 47209 | M88: 47968 | N88: hosszú | AA88: 250 | AB88: 250 | AC88: 250
B90: Gép, berendezés
B92: Irányítástechnika, energiaellátás
B94: VÍZTÁROLÓK
B95: Épület, építmény
A96: 82 | C96: Zalaegerszeg Jánkahegyi víztároló | D96: építészeti rekonstrukció | E96: Az épület/építmény minősége és állaga leromlott. | F96: Az épület/építmény feladata a víziközmű létesítmények védelme, vagyon és vízbiztonsági szempontból. Jelenlegi állapotban nem biztosítja a fenti funkciókat. A víztároló létesítmények nem megfelelő állapota. | G96: Az épület/építmény megfelelő műszaki állapota révén ellátja a vagyon- és vízbiztonsági feladatait. | I96: Zalaegerszeg tulajdonosközösség | J96: =SUM(O96:AC96) -> 250 | L96: 46388 | M96: 46752 | N96: hosszú | Y96: 250
B98: Gép, berendezés
A99: 25 | C99: Zalaegerszeg Keleti előtároló | D99: gépészeti rekonstrukció | E99: A technológia, szerelvények és vezetékek, műszaki állapota miatt fennáll a meghibásodás veszélye. | F99: A víztárolás gépészeti berendezései nem töltik be funkciójukat (nyitás-zárás). Az avultsági szint miatt fennáll a meghibásodás veszélye. | G99: Megfelelő hatékonyságú technológia. A gépészeti funkciókat kifogástalanul ellátó szerelvények. | I99: Zalaegerszeg tulajdonosközösség | J99: =SUM(O99:AC99) -> 75 | L99: 43191 | M99: 43465 | N99: közép | P99: 75
A100: 42 | C100: Zalaegerszeg Jánkahegyi víztároló | D100: gépészeti rekonstrukció | E100: A technológia, szerelvények és vezetékek, műszaki állapota miatt fennáll a meghibásodás veszélye. | F100: A víztárolás gépészeti berendezései nem töltik be funkciójukat (nyitás-zárás). Az avultsági szint miatt fennáll a meghibásodás veszélye. | G100: Megfelelő hatékonyságú technológia. A gépészeti funkciókat kifogástalanul ellátó szerelvények. | I100: Zalaegerszeg tulajdonosközösség | J100: =SUM(O100:AC100) -> 75 | L100: 43466 | M100: 43830 | N100: közép | Q100: 75
B102: Irányítástechnika, energiaellátás
B104: NYOMÁSFOKOZÓK
B105: Épület, építmény
A106: 27 | C106: Zalaegerszeg II. átemelő | D106: szigetelés felújítás | E106: Az épület/építmény minősége és állaga leromlott. | F106: Az épület/építmény feladata a víziközmű létesítmények védelme, vagyon és vízbiztonsági szempontból. Jelenlegi állapotban nem biztosítja a fenti funkciókat. A víztároló létesítmények nem megfelelő állapota. | G106: Az épület/építmény megfelelő műszaki állapota révén ellátja a vagyon- és vízbiztonsági feladatait. | I106: Zalaegerszeg tulajdonosközösség | J106: =SUM(O106:AC106) -> 35 | L106: 43101 | M106: 43465 | N106: közép | P106: 35
B108: Gép, berendezés
A109: 43 | C109: Babosdöbréte Rám nyomásfokozó | D109: Szivattyú csere (EMU K64-6), teljes gépészeti rekonstrukció | E109: A szivattyú kora, műszaki állapota miatt fennáll a meghibásodás veszélye. Feladat szükségessége | F109: A folyamatos víztermelés biztosítása. | G109: A Q–H diagramhoz illeszkedő energiahatékony szivattyú üzemeltetése. | I109: Babosdöbréte | J109: =SUM(O109:AC109) -> 2236 | L109: 43466 | M109: 44561 | N109: közép | Q109: 740 | R109: 731 | S109: 765
C110: Babosdöbréte Rám nyomásfokozó | D110: Szivattyú csere (EMU K64-6), teljes gépészeti rekonstrukció | E110: A szivattyú kora, műszaki állapota miatt fennáll a meghibásodás veszélye. Feladat szükségessége | F110: A folyamatos víztermelés biztosítása. | G110: A Q–H diagramhoz illeszkedő energiahatékony szivattyú üzemeltetése. | I110: Babosdöbréte | J110: =SUM(O110:AC110) -> 264 | L110: 44562 | M110: 44926 | N110: hosszú | T110: 264
A111: 50 | C111: Zalaegerszeg Keleti átemelő | D111: Szivattyú csere (EMU 980-2, Worthington 2 db), teljes gépészeti rekonstrukció | E111: A szivattyú kora, műszaki állapota miatt fennáll a meghibásodás veszélye. Feladat szükségessége | F111: A folyamatos víztermelés biztosítása. | G111: A Q–H diagramhoz illeszkedő energiahatékony szivattyú üzemeltetése. | I111: Zalaegerszeg tulajdonosközösség | J111: =SUM(O111:AC111) -> 125 | L111: 44562 | M111: 44926 | N111: hosszú | T111: 125
A112: 77 | C112: Nagykutasi átemelő | D112: Szivattyú csere (EMU K64-6 2 db), teljes gépészeti rekonstrukció | E112: A szivattyú kora, műszaki állapota miatt fennáll a meghibásodás veszélye. Feladat szükségessége | F112: A folyamatos víztermelés biztosítása. | G112: A Q–H diagramhoz illeszkedő energiahatékony szivattyú üzemeltetése. | I112: Zalaegerszeg tulajdonosközösség | J112: =SUM(O112:AC112) -> 15 | L112: 46023 | M112: 46387 | N112: hosszú | X112: 15
A113: 84 | C113: Teskánd Babosdöbrétei átemelő | D113: Szivattyú csere (EMU K64-10 2 db), teljes gépészeti rekonstrukció | E113: A szivattyú kora, műszaki állapota miatt fennáll a meghibásodás veszélye. Feladat szükségessége | F113: A folyamatos víztermelés biztosítása. | G113: A Q–H diagramhoz illeszkedő energiahatékony szivattyú üzemeltetése. | I113: Zalaegerszeg tulajdonosközösség | J113: =SUM(O113:AC113) -> 15 | L113: 46753 | M113: 47118 | N113: hosszú | Z113: 15
B115: Irányítástechnika, energiaellátás
A116: 12 | C116: Babosdöbréte Rám nyomásfokozó | D116: villamos és irányítástechnikai felújítás | E116: Az elektromos, irányítástechnikai szerelvények és vezetékek, műszaki állapota miatt fennáll a meghibásodás veszélye. | F116: A szivattyú elektromos megtáplálása, a folyamatos távfelügyelet biztosítása. | G116: A szivattyú elektromos paramétereihez illeszkedő erősáramú és vezérlőszekrény. | I116: Babosdöbréte | J116: =SUM(O116:AC116) -> 674 | L116: 42826 | M116: 43100 | N116: rövid | O116: 674
C117: Babosdöbréte Rám nyomásfokozó | D117: villamos és irányítástechnikai felújítás | E117: Az elektromos, irányítástechnikai szerelvények és vezetékek, műszaki állapota miatt fennáll a meghibásodás veszélye. | F117: A szivattyú elektromos megtáplálása, a folyamatos távfelügyelet biztosítása. | G117: A szivattyú elektromos paramétereihez illeszkedő erősáramú és vezérlőszekrény. | I117: Babosdöbréte | J117: =SUM(O117:AC117) -> 728 | L117: 43191 | M117: 43465 | N117: közép | P117: 728
A118: 78 | C118: Nagykutas átemelő | D118: elektromos és irányítástechnikai szekrény csere | E118: Az elektromos, irányítástechnikai szerelvények és vezetékek, műszaki állapota miatt fennáll a meghibásodás veszélye. | F118: A szivattyú elektromos megtáplálása, a folyamatos távfelügyelet biztosítása. | G118: A szivattyú elektromos paramétereihez illeszkedő erősáramú és vezérlőszekrény. | I118: Zalaegerszeg tulajdonosközösség | J118: =SUM(O118:AC118) -> 15 | L118: 46113 | M118: 46387 | N118: hosszú | X118: 15
B120: Összesen: | J120: =SUM(J78:J119) -> 11906 | K120: 916 | O120: =SUM(O11:O119) -> 915.8 | P120: =SUM(P11:P119) -> 913.8 | Q120: =SUM(Q11:Q119) -> 915.8 | R120: =SUM(R11:R119) -> 915.8 | S120: =SUM(S11:S119) -> 915.8 | T120: =SUM(T11:T119) -> 915.8 | U120: =SUM(U11:U119) -> 915.8 | V120: =SUM(V11:V119) -> 915.8 | ... AC120: =SUM(AC11:AC119) -> 915.8
...

Sheet Bagod
A1: Gördülő fejlesztési terv a 2017 - 2031 időszakra
A2: FELÚJÍTÁSOK ÉS PÓTLÁSOK ÖSSZEFOGLALÓ TÁBLÁZATA
A3: A tervet benyújtó szervezet megnevezése: | K3: BAGOD | R3: ellátásért felelős / ellátásért felelősök képviselője / víziközmű-szolgáltató *
A4: Víziközmű-szolgáltató megnevezése: | K4: ÉSZAK ZALAI VÍZ- ÉS CSATORNAMŰ ZÁRTKÖRŰEN MŰKÖDŐ RÉSZVÉNYTÁRSASÁG
A5: Víziközmű-szolgáltatási ágazat megnevezése: | K5: IVÓVÍZ ÁGAZAT
A6: Véleményeltérést megfogalmazó érintett fél megnevezése:
A7: Víziközmű-rendszer kódja: ** | K7: 11-30368-1-006-00-02 | R7: BAGOD-IV
A8: I. Felszín alatti vízkivétel
A9: Fontossági sorrend | B9: Felujítás és pótlás megnevezése | E9: Műszaki állapot felmérés, szükségességi indoklás | H9: Vízjogi létesítési/elvi engedély száma | I9: Az érintett ellátásért felelős(ök) megnevezése | J9: Tervezett nettó költség | K9: Forrás 2017 évre | L9: Megvalósítás időtartama | N9: Tervezett időtáv | O9: A beruházás ütemezése a tervezési időszak évei szerint
E10: Jelenlegi műszaki állapot | F10: Feladat szükségessége | G10: Megvalósítást követő várható műszaki állapot | J10: (eFt) | L10: Kezdés | M10: Befejezés | N10: (rövid / közép / hosszú) | O10: 1 | P10: 2 | Q10: 3 | R10: 4 | S10: 5 | T10: 6 | U10: 7 | V10: 8 | W10: 9 | X10: 10 | Y10: 11 | Z10: 12 | AA10: 13 | AB10: 14 | AC10: 15
B11: szakág | C11: Helyszín | D11: beruházás megnevezése
A12: 1 | D12: Rendkívüli helyzetből adódó azonnali feladatok (max. 5%) | F12: működőképeség biztosítása | I12: Bagod | J12: =SUM(O12:AC12) -> 1425 | L12: 42736 | M12: 48213 | O12: 95 | P12: 95 | Q12: 95 | R12: 95 | S12: 95 | T12: 95 | U12: 95 | V12: 95 | W12: 95 | X12: 95 | Y12: 95 | Z12: 95 | AA12: 95 | AB12: 95 | AC12: 95
B13: MÉLYFÚRÁSÚ KÚT, HAGYOMÁNYOS ÁTMÉRŐVEL
B14: Épület, építmény
B16: Gép, berendezés
B18: Irányítástechnika, energiaellátás
B20: Összesen: | J20: =SUM(J12:J19) -> 1425
A22: III. Vízműtelep és vízkezelő létesítmények
C23: Helyszín | D23: beruházás megnevezése
B24: VÍZMŰTELEP
B25: Épület, építmény
B27: Gép, berendezés
B29: Irányítástechnika, energiaellátás
B31: VÍZKEZELŐ LÉTESÍTMÉNYEK
B32: Épület, építmény
B34: Gép, berendezés
B36: Irányítástechnika, energiaellátás
B38: Összesen | J38: =SUM(J24:J37) -> 0
A40: IV. Vízelosztás
C41: Helyszín | D41: beruházás megnevezése
B42: IVÓVÍZHÁLÓZAT
B43: Épület, építmény
A44: 2 | C44: Bagod - Zalaboldogfa | D44: gerincvezeték csere (d225 70 fm) I. ütem | E44: A vezeték állapota anyaga, kora, minősége miatt nem megfelelő, elavult. | F44: A bekötővezeték anyaga vízbiztonsági kockázatot rejt magában, illetve nagyobb a valószínűsége a meghibásodásnak. | G44: A vízvezeték kiváltás, a vízigények figyelembevételével megfelelő átmérőjű és anyagú hálózatot kapunk. | H44: - | I44: Bagod tulajdonosközösség | J44: =SUM(O44:AC44) -> 890 | L44: 42826 | M44: 43100 | N44: rövid | O44: 890
A45: 3 | C45: Bagod - Zalaboldogfa | D45: gerincvezeték csere (d225 825 fm) II-IV. ütem | E45: A vezeték állapota anyaga, kora, minősége miatt nem megfelelő, elavult. | F45: A vezeték elavult műszaki állapota miatt gyakoriak a csőtörések | G45: A vízvezeték kiváltás, a vízigények figyelembevételével megfelelő átmérőjű és anyagú hálózatot kapunk. | H45: - | I45: Bagod tulajdonosközösség | J45: =SUM(O45:AC45) -> 8416 | L45: 43191 | M45: 44561 | N45: közép | P45: 2721 | Q45: 2421 | R45: 2721 | S45: 553
A46: 4 | C46: Bagod | D46: gerinchálózat szerelvény csere | E46: A szerelvény állapota anyaga, kora, minősége miatt nem megfelelő, elavult. | F46: A vezeték elavult műszaki állapota miatt gyakoriak a csőtörések | G46: A szerelvény kiváltás, a vízigények figyelembevételével megfelelő átmérőjű és anyagú hálózatot kapunk. | H46: - | I46: Bagod | J46: =SUM(O46:AC46) -> 300 | L46: 43556 | M46: 201912.31 | N46: közép | Q46: 300
A47: 10 | C47: Zalaszentgyörgy - Kávás | D47: gerincvezeték csere (d160 260 fm) I. ütem | E47: A vezeték állapota anyaga, kora, minősége miatt nem megfelelő, elavult. | F47: A vezeték elavult műszaki állapota miatt gyakoriak a csőtörések | G47: A vízvezeték kiváltás, a vízigények figyelembevételével megfelelő átmérőjű és anyagú hálózatot kapunk. | I47: Bagod tulajdonosközösség | J47: =SUM(O47:AC47) -> 2168 | L47: 44287 | M47: 44560 | N47: közép | S47: 2168
A48: 11 | C48: Zalaszentgyörgy - Kávás | D48: gerincvezeték csere (d160 600 fm) II. ütem | E48: A vezeték állapota anyaga, kora, minősége miatt nem megfelelő, elavult. | F48: A vezeték elavult műszaki állapota miatt gyakoriak a csőtörések | G48: A vízvezeték kiváltás, a vízigények figyelembevételével megfelelő átmérőjű és anyagú hálózatot kapunk. | H48: - | I48: Bagod tulajdonosközösség | J48: =SUM(O48:AC48) -> 5442 | L48: 44652 | M48: 45291 | N48: hosszú | T48: 2721 | U48: 2721
A49: 12 | C49: Bagod Vitenyédi út | D49: gerincvezeték csere (d225 1210 fm) | E49: A vezeték állapota anyaga, kora, minősége miatt nem megfelelő, elavult. | F49: A vezeték elavult műszaki állapota miatt gyakoriak a csőtörések | G49: A vízvezeték kiváltás, a vízigények figyelembevételével megfelelő átmérőjű és anyagú hálózatot kapunk. | I49: Bagod tulajdonosközösség | J49: =SUM(O49:AC49) -> 12417 | L49: 45383 | M49: 47118 | N49: hosszú | V49: 2721 | W49: 2721 | X49: 2721 | Y49: 2721 | Z49: 1533
A50: 19 | C50: Bagod Ady Endre utca | D50: gerincvezeték csere (d225 800 fm) | E50: A vezeték állapota anyaga, kora, minősége miatt nem megfelelő, elavult. | F50: A vezeték elavult műszaki állapota miatt gyakoriak a csőtörések | G50: A vízvezeték kiváltás, a vízigények figyelembevételével megfelelő átmérőjű és anyagú hálózatot kapunk. | H50: - | I50: Bagod tulajdonosközösség | J50: =SUM(O50:AC50) -> 8163 | L50: 47209 | M50: 48213 | N50: hosszú | AA50: 2721 | AB50: 2721 | AC50: 2721
B52: Gép, berendezés
B54: Irányítástechnika, energiaellátás
B56: VÍZTÁROLÓK
B57: Épület, építmény
B59: Gép, berendezés
B61: Irányítástechnika, energiaellátás
B63: NYOMÁSFOKOZÓK
B64: Épület, építmény
B66: Gép, berendezés
A67: 13 | C67: Bagod Szentpál nyomásfokozó | D67: Szivattyú csere (CRIE3-5 2 db; CR45-3) | E67: A szivattyú kora, műszaki állapota miatt fennáll a meghibásodás veszélye. | F67: A folyamatos víztermelés biztosítása | G67: A Q–H diagramhoz illeszkedő energiahatékony szivattyú üzemeltetése | I67: Bagod | J67: =SUM(O67:AC67) -> 1188 | L67: 46753 | M67: 47118 | N67: hosszú | Z67: 1188
B69: Irányítástechnika, energiaellátás
B71: Összesen: | J71: =SUM(J42:J70) -> 38984 | K71: 2816 | O71: =SUM(O11:O70) -> 985 | P71: =SUM(P11:P70) -> 2816 | Q71: =SUM(Q11:Q70) -> 2816 | R71: =SUM(R11:R70) -> 2816 | S71: =SUM(S11:S70) -> 2816 | T71: =SUM(T11:T70) -> 2816 | U71: =SUM(U11:U70) -> 2816 | V71: =SUM(V11:V70) -> 2816 | ... AC71: =SUM(AC11:AC70) -> 2816
K72: 2017 évre a fejlesztési forrás biztosított
B74: Rendelkezésre álló források megnevezése | C74: Rendelkezésre álló források számszerűsített értéke a teljes ütem tekintetében (eFt)
A75: I. ütem | B75: Használati díj (2017) | C75: =K71 -> 2816
A76: II. ütem | B76: Használati díj (2018-2021) | C76: =C75*4 -> 11264
A77: III. ütem | B77: Használati díj (2022-2031) | C77: =C75*10 -> 28160

Sheet Becsvölgye
A1: Gördülő fejlesztési terv a 2017 - 2031 időszakra
A2: FELÚJÍTÁSOK ÉS PÓTLÁSOK ÖSSZEFOGLALÓ TÁBLÁZATA
A3: A tervet benyújtó szervezet megnevezése: | K3: BECSVÖLGYE | R3: ellátásért felelős / ellátásért felelősök képviselője / víziközmű-szolgáltató *
A4: Víziközmű-szolgáltató megnevezése: | K4: ÉSZAK ZALAI VÍZ- ÉS CSATORNAMŰ ZÁRTKÖRŰEN MŰKÖDŐ RÉSZVÉNYTÁRSASÁG
A5: Víziközmű-szolgáltatási ágazat megnevezése: | K5: IVÓVÍZ ÁGAZAT
A6: Véleményeltérést megfogalmazó érintett fél megnevezése:
A7: Víziközmű-rendszer kódja: ** | K7: 11-18360-1-002-00-14 | R7: BECSVÖLGYE-IV
A8: I. Felszín alatti vízkivétel
A9: Fontossági sorrend | B9: Felujítás és pótlás megnevezése | E9: Műszaki állapot felmérés, szükségességi indoklás | H9: Vízjogi létesítési/elvi engedély száma | I9: Az érintett ellátásért felelős(ök) megnevezése | J9: Tervezett nettó költség | K9: Forrás 2017 évre | L9: Megvalósítás időtartama | N9: Tervezett időtáv | O9: A beruházás ütemezése a tervezési időszak évei szerint
E10: Jelenlegi műszaki állapot | F10: Feladat szükségessége | G10: Megvalósítást követő várható műszaki állapot | J10: (eFt) | L10: Kezdés | M10: Befejezés | N10: (rövid / közép / hosszú) | O10: 1 | P10: 2 | Q10: 3 | R10: 4 | S10: 5 | T10: 6 | U10: 7 | V10: 8 | W10: 9 | X10: 10 | Y10: 11 | Z10: 12 | AA10: 13 | AB10: 14 | AC10: 15
B11: szakág | C11: Helyszín | D11: beruházás megnevezése
A12: 1 | D12: Rendkívüli helyzetből adódó azonnali feladatok (max. 5%) | F12: működőképeség biztosítása | I12: Becsvölgye | J12: =SUM(O12:AC12) -> 1146 | L12: 42736 | M12: 48213 | O12: =0.05*K69 -> 76.4 | P12: =0.05*$K$69 -> 76.4 | Q12: =0.05*$K$69 -> 76.4 | R12: =0.05*$K$69 -> 76.4 | S12: =0.05*$K$69 -> 76.4 | T12: =0.05*$K$69 -> 76.4 | U12: =0.05*$K$69 -> 76.4 | V12: =0.05*$K$69 -> 76.4 | W12: =0.05*$K$69 -> 76.4 | ... AC12: =0.05*$K$69 -> 76.4
B13: MÉLYFÚRÁSÚ KÚT, HAGYOMÁNYOS ÁTMÉRŐVEL
B14: Épület, építmény
B16: Gép, berendezés
B18: Irányítástechnika, energiaellátás
B20: Összesen: | J20: =SUM(J12:J19) -> 1146
A22: III. Vízműtelep és vízkezelő létesítmények
C23: Helyszín | D23: beruházás megnevezése
B24: VÍZMŰTELEP
B25: Épület, építmény
B27: Gép, berendezés
B29: Irányítástechnika, energiaellátás
B31: VÍZKEZELŐ LÉTESÍTMÉNYEK
B32: Épület, építmény
B34: Gép, berendezés
B36: Irányítástechnika, energiaellátás
B38: Összesen | J38: =SUM(J24:J37) -> 0
A40: IV. Vízelosztás
C41: Helyszín | D41: beruházás megnevezése
B42: IVÓVÍZHÁLÓZAT
B43: Épület, építmény
A44: 2 | C44: Becsvölgye Arany János utca | D44: csőhíd csere (NA100 5 fm) | E44: A vezeték állapota anyaga, kora, minősége miatt nem megfelelő, elavult. | F44: A vezeték elavult műszaki állapota miatt gyakoriak a csőtörések | G44: A vízvezeték kiváltás, a vízigények figyelembevételével megfelelő átmérőjű és anyagú hálózatot kapunk. | H44: - | I44: Becsvölgye | J44: =SUM(O44:AC44) -> 400 | L44: 42826 | M44: 43100 | N44: rövid | O44: 400
A45: 5 | C45: Becsvölgye Kopácsai u. temető | D45: gerinchálózat szerelvényeinek (tűzcsap) ütemezett cseréje | E45: A szerelvény állapota anyaga, kora, minősége miatt nem megfelelő, elavult. | F45: A szerelvény elavult műszaki állapota miatt gyakoriak a csőtörések | G45: A szerelvény kiváltás, a vízigények figyelembevételével megfelelő átmérőjű és anyagú hálózatot kapunk. | I45: Becsvölgye | J45: =SUM(O45:AC45) -> 352 | L45: 42826 | M45: 43100 | N45: rövid | O45: 352
A46: 8 | C46: Becsvölgye | D46: Tartalékkeret képzése rekonstrukcióra | E46: A vezeték állapota anyaga, kora, minősége miatt nem megfelelő, elavult. | F46: A bekötővezeték anyaga vízbiztonsági kockázatot rejt magában, illetve nagyobb a valószínűsége a meghibásodásnak. | G46: A vízvezeték kiváltás, a vízigények figyelembevételével megfelelő átmérőjű és anyagú hálózatot kapunk. | H46: - | I46: Becsvölgye | J46: =SUM(O46:AC46) -> 5808 | L46: 43191 | M46: 44561 | N46: közép | P46: 1452 | Q46: 1452 | R46: 1452 | S46: 1452
A47: 12 | C47: Becsvölgye | D47: Tartalékkeret képzése rekonstrukcióra | E47: A vezeték állapota anyaga, kora, minősége miatt nem megfelelő, elavult. | F47: A bekötővezeték anyaga vízbiztonsági kockázatot rejt magában, illetve nagyobb a valószínűsége a meghibásodásnak. | G47: A vízvezeték kiváltás, a vízigények figyelembevételével megfelelő átmérőjű és anyagú hálózatot kapunk. | H47: - | I47: Becsvölgye | J47: =SUM(O47:AC47) -> 10483 | L47: 45383 | M47: 48213 | N47: hosszú | V47: 319 | W47: 1452 | X47: 1452 | Y47: 1452 | Z47: 1452 | AA47: 1452 | AB47: 1452 | AC47: 1452
B49: Gép, berendezés
B51: Irányítástechnika, energiaellátás
B53: VÍZTÁROLÓK
B54: Épület, építmény
B56: Gép, berendezés
A57: 11 | C57: Kustánszeg víztorony | D57: Gépészeti rekonstrukció | E57: A technológia, szerelvények és vezetékek, műszaki állapota miatt fennáll a meghibásodás veszélye. | F57: A víztárolás gépészeti berendezései nem töltik be funkciójukat (nyitás-zárás). Az avultsági szint miatt fennáll a meghibásodás veszélye | G57: Megfelelő hatékonyságú technológia. A gépészeti funkciókat kifogástalanul ellátó szerelvények | I57: Becsvölgye tulajdonosközösség | J57: =SUM(O57:AC57) -> 2213 | L57: 44927 | M57: 45657 | N57: hosszú | U57: 1080 | V57: 1133
B59: Irányítástechnika, energiaellátás
A60: 10 | C60: Kustánszeg víztorony | D60: Elektromos és irányítástechnikai felújítás | E60: Az elektromos, irányítástechnikai szerelvények és vezetékek, műszaki állapota miatt fennáll a meghibásodás veszélye. | F60: A víztárolók elektromos megtáplálása, a folyamatos távfelügyelet biztosítása. | G60: Az elektromos paramétereihez illeszkedő erős- és gyengeáramú vezérlőszekrény. | I60: Becsvölgye tulajdonosközösség | J60: =SUM(O60:AC60) -> 1824 | L60: 44562 | M60: 45291 | N60: hosszú | T60: 1452 | U60: 372
B62: NYOMÁSFOKOZÓK
B63: Épület, építmény
B65: Gép, berendezés
B67: Irányítástechnika, energiaellátás
B69: Összesen: | J69: =SUM(J42:J68) -> 21080 | K69: 1528 | O69: =SUM(O11:O68) -> 828.4 | P69: =SUM(P11:P68) -> 1528.4 | Q69: =SUM(Q11:Q68) -> 1528.4 | R69: =SUM(R11:R68) -> 1528.4 | S69: =SUM(S11:S68) -> 1528.4 | T69: =SUM(T11:T68) -> 1528.4 | U69: =SUM(U11:U68) -> 1528.4 | V69: =SUM(V11:V68) -> 1528.4 | ... AC69: =SUM(AC11:AC68) -> 1528.4
K70: 2017 évre a fejlesztési forrás biztosított
B72: Rendelkezésre álló források megnevezése | C72: Rendelkezésre álló források számszerűsített értéke a teljes ütem tekintetében (eFt)
A73: I. ütem | B73: Használati díj (2017) | C73: =K69 -> 1528
A74: II. ütem | B74: Használati díj (2018-2021) | C74: =C73*4 -> 6112
A75: III. ütem | B75: Használati díj (2022-2031) | C75: =C73*10 -> 15280

Sheet Bocfölde
A1: Gördülő fejlesztési terv a 2017 - 2031 időszakra
A2: FELÚJÍTÁSOK ÉS PÓTLÁSOK ÖSSZEFOGLALÓ TÁBLÁZATA
A3: A tervet benyújtó szervezet megnevezése: | K3: BOCFÖLDE | R3: ellátásért felelős / ellátásért felelősök képviselője / víziközmű-szolgáltató *
A4: Víziközmű-szolgáltató megnevezése: | K4: ÉSZAK ZALAI VÍZ- ÉS CSATORNAMŰ ZÁRTKÖRŰEN MŰKÖDŐ RÉSZVÉNYTÁRSASÁG
A5: Víziközmű-szolgáltatási ágazat megnevezése: | K5: IVÓVÍZ ÁGAZAT
A6: Véleményeltérést megfogalmazó érintett fél megnevezése:
A7: Víziközmű-rendszer kódja: ** | K7: 11-32054-1-010-00-14 | R7: BOCFÖLDE-IV
A8: I. Felszín alatti vízkivétel
A9: Fontossági sorrend | B9: Felujítás és pótlás megnevezése | E9: Műszaki állapot felmérés, szükségességi indoklás | H9: Vízjogi létesítési/elvi engedély száma | I9: Az érintett ellátásért felelős(ök) megnevezése | J9: Tervezett nettó költség | K9: Forrás 2017 évre | L9: Megvalósítás időtartama | N9: Tervezett időtáv | O9: A beruházás ütemezése a tervezési időszak évei szerint
E10: Jelenlegi műszaki állapot | F10: Feladat szükségessége | G10: Megvalósítást követő várható műszaki állapot | J10: (eFt) | L10: Kezdés | M10: Befejezés | N10: (rövid / közép / hosszú) | O10: 1 | P10: 2 | Q10: 3 | R10: 4 | S10: 5 | T10: 6 | U10: 7 | V10: 8 | W10: 9 | X10: 10 | Y10: 11 | Z10: 12 | AA10: 13 | AB10: 14 | AC10: 15
B11: szakág | C11: Helyszín | D11: beruházás megnevezése
A12: 1 | D12: Rendkívüli helyzetből adódó azonnali feladatok (max. 5%) | F12: működőképeség biztosítása | I12: Bocfölde | J12: =SUM(O12:AC12) -> 2648.25 | L12: 42736 | M12: 48213 | O12: =0.05*$K$118 -> 176.55 | P12: =0.05*$K$118 -> 176.55 | Q12: =0.05*$K$118 -> 176.55 | R12: =0.05*$K$118 -> 176.55 | S12: =0.05*$K$118 -> 176.55 | T12: =0.05*$K$118 -> 176.55 | U12: =0.05*$K$118 -> 176.55 | V12: =0.05*$K$118 -> 176.55 | ... AC12: =0.05*$K$118 -> 176.55
B13: MÉLYFÚRÁSÚ KÚT, HAGYOMÁNYOS ÁTMÉRŐVEL
B14: Épület, építmény
A15: 48 | C15: Zalaegerszeg … kút | D15: kútfelújítás | E15: Az objektum kora, műszaki állapota miatt fennáll a meghibásodás veszélye. Feladat szükségessége | F15: A felhasználók folyamatos vízellátásának biztosítására | G15: Az elvárt vízigényeket kielégítő megfelelő műszaki állapotú vízbázis. | I15: Zalaegerszeg tulajdonosközösség | J15: =SUM(O15:AC15) -> 90 | L15: 44562 | M15: 44926 | N15: hosszú | T15: 90
A16: 79 | C16: Zalaegerszeg … kút | D16: kútfelújítás | E16: Az objektum kora, műszaki állapota miatt fennáll a meghibásodás veszélye. Feladat szükségessége | F16: A felhasználók folyamatos vízellátásának biztosítására | G16: Az elvárt vízigényeket kielégítő megfelelő műszaki állapotú vízbázis. | I16: Zalaegerszeg tulajdonosközösség | J16: =SUM(O16:AC16) -> 90 | L16: 46388 | M16: 46752 | N16: hosszú | Y16: 90
B18: Gép, berendezés
A19: 66 | C19: Zalaegerszeg … kút | D19: Szivattyú csere 2 db | E19: A szivattyú kora, műszaki állapota miatt fennáll a meghibásodás veszélye. | F19: A folyamatos víztermelés biztosítása. | G19: A Q–H diagramhoz illeszkedő energiahatékony szivattyú üzemeltetése. | I19: Zalaegerszeg tulajdonosközösség | J19: =SUM(O19:AC19) -> 9 | L19: 44927 | M19: 45291 | N19: hosszú | U19: 9
C20: Zalaegerszeg … kút | D20: Gépészeti felújítás 2 db | E20: A szerelvények és vezetékek, műszaki állapota miatt fennáll a meghibásodás veszélye. | F20: A folyamatos víztermelés biztosítása. | G20: A gépészeti funkciókat kifogástalanul ellátó szerelvények. | I20: Zalaegerszeg tulajdonosközösség | J20: =SUM(O20:AC20) -> 30 | L20: 44927 | M20: 45291 | N20: hosszú | U20: 30
A21: 70 | C21: Zalaegerszeg … kút | D21: Szivattyú csere 2 db | E21: A szivattyú kora, műszaki állapota miatt fennáll a meghibásodás veszélye. | F21: A folyamatos víztermelés biztosítása. | G21: A Q–H diagramhoz illeszkedő energiahatékony szivattyú üzemeltetése. | I21: Zalaegerszeg tulajdonosközösség | J21: =SUM(O21:AC21) -> 9 | L21: 45292 | M21: 45657 | N21: hosszú | V21: 9
C22: Zalaegerszeg … kút | D22: Gépészeti felújítás 2 db | E22: A szerelvények és vezetékek, műszaki állapota miatt fennáll a meghibásodás veszélye. | F22: A folyamatos víztermelés biztosítása. | G22: A gépészeti funkciókat kifogástalanul ellátó szerelvények. | I22: Zalaegerszeg tulajdonosközösség | J22: =SUM(O22:AC22) -> 30 | L22: 45292 | M22: 45657 | N22: hosszú | V22: 30
A23: 72 | C23: Zalaegerszeg … kút | D23: Szivattyú csere 2 db | E23: A szivattyú kora, műszaki állapota miatt fennáll a meghibásodás veszélye. | F23: A folyamatos víztermelés biztosítása. | G23: A Q–H diagramhoz illeszkedő energiahatékony szivattyú üzemeltetése. | I23: Zalaegerszeg tulajdonosközösség | J23: =SUM(O23:AC23) -> 9 | L23: 45658 | M23: 46022 | N23: hosszú | W23: 9
C24: Zalaegerszeg … kút | D24: Gépészeti felújítás 2 db | E24: A szerelvények és vezetékek, műszaki állapota miatt fennáll a meghibásodás veszélye. | F24: A folyamatos víztermelés biztosítása. | G24: A gépészeti funkciókat kifogástalanul ellátó szerelvények. | I24: Zalaegerszeg tulajdonosközösség | J24: =SUM(O24:AC24) -> 30 | L24: 45658 | M24: 46022 | N24: hosszú | W24: 30
A25: 75 | C25: Zalaegerszeg … kút | D25: Szivattyú csere 2 db | E25: A szivattyú kora, műszaki állapota miatt fennáll a meghibásodás veszélye. | F25: A folyamatos víztermelés biztosítása. | G25: A Q–H diagramhoz illeszkedő energiahatékony szivattyú üzemeltetése. | I25: Zalaegerszeg tulajdonosközösség | J25: =SUM(O25:AC25) -> 9 | L25: 46023 | M25: 46387 | N25: hosszú | X25: 9
C26: Zalaegerszeg … kút | D26: Gépészeti felújítás 2 db | E26: A szerelvények és vezetékek, műszaki állapota miatt fennáll a meghibásodás veszélye. | F26: A folyamatos víztermelés biztosítása. | G26: A gépészeti funkciókat kifogástalanul ellátó szerelvények. | I26: Zalaegerszeg tulajdonosközösség | J26: =SUM(O26:AC26) -> 30 | L26: 46023 | M26: 46387 | N26: hosszú | X26: 30
A27: 80 | C27: Zalaegerszeg … kút | D27: Szivattyú csere 2 db | E27: A szivattyú kora, műszaki állapota miatt fennáll a meghibásodás veszélye. | F27: A folyamatos víztermelés biztosítása. | G27: A Q–H diagramhoz illeszkedő energiahatékony szivattyú üzemeltetése. | I27: Zalaegerszeg tulajdonosközösség | J27: =SUM(O27:AC27) -> 9 | L27: 46388 | M27: 46752 | N27: hosszú | Y27: 9
C28: Zalaegerszeg … kút | D28: Gépészeti felújítás 2 db | E28: A szerelvények és vezetékek, műszaki állapota miatt fennáll a meghibásodás veszélye. | F28: A folyamatos víztermelés biztosítása. | G28: A gépészeti funkciókat kifogástalanul ellátó szerelvények. | I28: Zalaegerszeg tulajdonosközösség | J28: =SUM(O28:AC28) -> 30 | L28: 46388 | M28: 46752 | N28: hosszú | Y28: 30
A29: 85 | C29: Zalaegerszeg … kút | D29: Szivattyú csere 2 db | E29: A szivattyú kora, műszaki állapota miatt fennáll a meghibásodás veszélye. | F29: A folyamatos víztermelés biztosítása. | G29: A Q–H diagramhoz illeszkedő energiahatékony szivattyú üzemeltetése. | I29: Zalaegerszeg tulajdonosközösség | J29: =SUM(O29:AC29) -> 9 | L29: 46753 | M29: 47118 | N29: hosszú | Z29: 9
C30: Zalaegerszeg … kút | D30: Gépészeti felújítás 2 db | E30: A szerelvények és vezetékek, műszaki állapota miatt fennáll a meghibásodás veszélye. | F30: A folyamatos víztermelés biztosítása. | G30: A gépészeti funkciókat kifogástalanul ellátó szerelvények. | I30: Zalaegerszeg tulajdonosközösség | J30: =SUM(O30:AC30) -> 30 | L30: 46753 | M30: 47118 | N30: hosszú | Z30: 30
A31: 88 | C31: Zalaegerszeg … kút | D31: Szivattyú csere 2 db | E31: A szivattyú kora, műszaki állapota miatt fennáll a meghibásodás veszélye. | F31: A folyamatos víztermelés biztosítása. | G31: A Q–H diagramhoz illeszkedő energiahatékony szivattyú üzemeltetése. | I31: Zalaegerszeg tulajdonosközösség | J31: =SUM(O31:AC31) -> 9 | L31: 47119 | M31: 47483 | N31: hosszú | AA31: 9
C32: Zalaegerszeg … kút | D32: Gépészeti felújítás 2 db | E32: A szerelvények és vezetékek, műszaki állapota miatt fennáll a meghibásodás veszélye. | F32: A folyamatos víztermelés biztosítása. | G32: A gépészeti funkciókat kifogástalanul ellátó szerelvények. | I32: Zalaegerszeg tulajdonosközösség | J32: =SUM(O32:AC32) -> 30 | L32: 47119 | M32: 47483 | N32: hosszú | AA32: 30
A33: 90 | C33: Zalaegerszeg … kút | D33: Szivattyú csere 2 db | E33: A szivattyú kora, műszaki állapota miatt fennáll a meghibásodás veszélye. | F33: A folyamatos víztermelés biztosítása. | G33: A Q–H diagramhoz illeszkedő energiahatékony szivattyú üzemeltetése. | I33: Zalaegerszeg tulajdonosközösség | J33: =SUM(O33:AC33) -> 9 | L33: 47484 | M33: 47848 | N33: hosszú | AB33: 9
C34: Zalaegerszeg … kút | D34: Gépészeti felújítás 2 db | E34: A szerelvények és vezetékek, műszaki állapota miatt fennáll a meghibásodás veszélye. | F34: A folyamatos víztermelés biztosítása. | G34: A gépészeti funkciókat kifogástalanul ellátó szerelvények. | I34: Zalaegerszeg tulajdonosközösség | J34: =SUM(O34:AC34) -> 30 | L34: 47484 | M34: 47848 | N34: hosszú | AB34: 30
A35: 92 | C35: Zalaegerszeg … kút | D35: Szivattyú csere 2 db | E35: A szivattyú kora, műszaki állapota miatt fennáll a meghibásodás veszélye. | F35: A folyamatos víztermelés biztosítása. | G35: A Q–H diagramhoz illeszkedő energiahatékony szivattyú üzemeltetése. | I35: Zalaegerszeg tulajdonosközösség | J35: =SUM(O35:AC35) -> 9 | L35: 47849 | M35: 48213 | N35: hosszú | AC35: 9
C36: Zalaegerszeg … kút | D36: Gépészeti felújítás 2 db | E36: A szerelvények és vezetékek, műszaki állapota miatt fennáll a meghibásodás veszélye. | F36: A folyamatos víztermelés biztosítása. | G36: A gépészeti funkciókat kifogástalanul ellátó szerelvények. | I36: Zalaegerszeg tulajdonosközösség | J36: =SUM(O36:AC36) -> 30 | L36: 47849 | M36: 48213 | N36: hosszú | AC36: 30
B38: Irányítástechnika, energiaellátás
A39: 7 | C39: Zalaegerszeg D1 - D3 kút | D39: 20 kV hálózat felújítása, oszlopszigetelő és távtartó csere, túláramvédelem felújítás | E39: Az elektromos, irányítástechnikai szerelvények és vezetékek, műszaki állapota miatt fennáll a meghibásodás veszélye. | F39: A búvárszivattyú elektromos megtáplálása, a folyamatos távfelügyelet biztosítása. | G39: A búvárszivattyú elektromos paramétereihez illeszkedő erősáramú és vezérlőszekrény. | I39: Zalaegerszeg tulajdonosközösség | J39: =SUM(O39:AC39) -> 23 | L39: 42736 | M39: 43100 | N39: rövid | O39: 23
A40: 11 | C40: Zalaegerszeg 11 - 15 kútcsoport | D40: 20 kV hálózat felújítás, oszloptranszformátor alatti erősáramú szekrény csere | E40: Az elektromos, irányítástechnikai szerelvények és vezetékek, műszaki állapota miatt fennáll a meghibásodás veszélye. | F40: A búvárszivattyú elektromos megtáplálása, a folyamatos távfelügyelet biztosítása. | G40: A búvárszivattyú elektromos paramétereihez illeszkedő erősáramú és vezérlőszekrény. | I40: Zalaegerszeg tulajdonosközösség | J40: =SUM(O40:AC40) -> 38 | L40: 42736 | M40: 43100 | N40: rövid | O40: 38
A41: 26 | C41: Zalaegerszeg Keleti kútcsoport | D41: GPRS kommunikációra történő átállás | E41: Az elektromos, irányítástechnikai szerelvények és vezetékek, műszaki állapota miatt fennáll a meghibásodás veszélye. | F41: A búvárszivattyú elektromos megtáplálása, a folyamatos távfelügyelet biztosítása. | G41: A búvárszivattyú elektromos paramétereihez illeszkedő erősáramú és vezérlőszekrény. | I41: Zalaegerszeg tulajdonosközösség | J41: =SUM(O41:AC41) -> 91 | L41: 43101 | M41: 43465 | N41: közép | P41: 91
A42: 67 | C42: Zalaegerszeg … kút | D42: elektromos és iráűnyítástechnikai szekrény csere (2 db) | E42: Az elektromos, irányítástechnikai szerelvények és vezetékek, műszaki állapota miatt fennáll a meghibásodás veszélye. | F42: A búvárszivattyú elektromos megtáplálása, a folyamatos távfelügyelet biztosítása. | G42: A búvárszivattyú elektromos paramétereihez illeszkedő erősáramú és vezérlőszekrény. | I42: Zalaegerszeg tulajdonosközösség | J42: =SUM(O42:AC42) -> 90 | L42: 44927 | M42: 45291 | N42: hosszú | U42: 90
A43: 71 | C43: Zalaegerszeg … kút | D43: elektromos és iráűnyítástechnikai szekrény csere (2 db) | E43: Az elektromos, irányítástechnikai szerelvények és vezetékek, műszaki állapota miatt fennáll a meghibásodás veszélye. | F43: A búvárszivattyú elektromos megtáplálása, a folyamatos távfelügyelet biztosítása. | G43: A búvárszivattyú elektromos paramétereihez illeszkedő erősáramú és vezérlőszekrény. | I43: Zalaegerszeg tulajdonosközösség | J43: =SUM(O43:AC43) -> 90 | L43: 45292 | M43: 45657 | N43: hosszú | V43: 90
A44: 73 | C44: Zalaegerszeg … kút | D44: elektromos és iráűnyítástechnikai szekrény csere (2 db) | E44: Az elektromos, irányítástechnikai szerelvények és vezetékek, műszaki állapota miatt fennáll a meghibásodás veszélye. | F44: A búvárszivattyú elektromos megtáplálása, a folyamatos távfelügyelet biztosítása. | G44: A búvárszivattyú elektromos paramétereihez illeszkedő erősáramú és vezérlőszekrény. | I44: Zalaegerszeg tulajdonosközösség | J44: =SUM(O44:AC44) -> 90 | L44: 45658 | M44: 46022 | N44: hosszú | W44: 90
A45: 76 | C45: Zalaegerszeg … kút | D45: elektromos és iráűnyítástechnikai szekrény csere (2 db) | E45: Az elektromos, irányítástechnikai szerelvények és vezetékek, műszaki állapota miatt fennáll a meghibásodás veszélye. | F45: A búvárszivattyú elektromos megtáplálása, a folyamatos távfelügyelet biztosítása. | G45: A búvárszivattyú elektromos paramétereihez illeszkedő erősáramú és vezérlőszekrény. | I45: Zalaegerszeg tulajdonosközösség | J45: =SUM(O45:AC45) -> 90 | L45: 46023 | M45: 46387 | N45: hosszú | X45: 90
A46: 81 | C46: Zalaegerszeg … kút | D46: elektromos és iráűnyítástechnikai szekrény csere (2 db) | E46: Az elektromos, irányítástechnikai szerelvények és vezetékek, műszaki állapota miatt fennáll a meghibásodás veszélye. | F46: A búvárszivattyú elektromos megtáplálása, a folyamatos távfelügyelet biztosítása. | G46: A búvárszivattyú elektromos paramétereihez illeszkedő erősáramú és vezérlőszekrény. | I46: Zalaegerszeg tulajdonosközösség | J46: =SUM(O46:AC46) -> 90 | L46: 46388 | M46: 46752 | N46: hosszú | Y46: 90
A47: 86 | C47: Zalaegerszeg … kút | D47: elektromos és iráűnyítástechnikai szekrény csere (2 db) | E47: Az elektromos, irányítástechnikai szerelvények és vezetékek, műszaki állapota miatt fennáll a meghibásodás veszélye. | F47: A búvárszivattyú elektromos megtáplálása, a folyamatos távfelügyelet biztosítása. | G47: A búvárszivattyú elektromos paramétereihez illeszkedő erősáramú és vezérlőszekrény. | I47: Zalaegerszeg tulajdonosközösség | J47: =SUM(O47:AC47) -> 90 | L47: 46753 | M47: 47118 | N47: hosszú | Z47: 90
A48: 89 | C48: Zalaegerszeg … kút | D48: elektromos és iráűnyítástechnikai szekrény csere (2 db) | E48: Az elektromos, irányítástechnikai szerelvények és vezetékek, műszaki állapota miatt fennáll a meghibásodás veszélye. | F48: A búvárszivattyú elektromos megtáplálása, a folyamatos távfelügyelet biztosítása. | G48: A búvárszivattyú elektromos paramétereihez illeszkedő erősáramú és vezérlőszekrény. | I48: Zalaegerszeg tulajdonosközösség | J48: =SUM(O48:AC48) -> 90 | L48: 47119 | M48: 47483 | N48: hosszú | AA48: 90
A49: 91 | C49: Zalaegerszeg … kút | D49: elektromos és iráűnyítástechnikai szekrény csere (2 db) | E49: Az elektromos, irányítástechnikai szerelvények és vezetékek, műszaki állapota miatt fennáll a meghibásodás veszélye. | F49: A búvárszivattyú elektromos megtáplálása, a folyamatos távfelügyelet biztosítása. | G49: A búvárszivattyú elektromos paramétereihez illeszkedő erősáramú és vezérlőszekrény. | I49: Zalaegerszeg tulajdonosközösség | J49: =SUM(O49:AC49) -> 90 | L49: 47484 | M49: 47848 | N49: hosszú | AB49: 90
A50: 93 | C50: Zalaegerszeg … kút | D50: elektromos és iráűnyítástechnikai szekrény csere (2 db) | E50: Az elektromos, irányítástechnikai szerelvények és vezetékek, műszaki állapota miatt fennáll a meghibásodás veszélye. | F50: A búvárszivattyú elektromos megtáplálása, a folyamatos távfelügyelet biztosítása. | G50: A búvárszivattyú elektromos paramétereihez illeszkedő erősáramú és vezérlőszekrény. | I50: Zalaegerszeg tulajdonosközösség | J50: =SUM(O50:AC50) -> 90 | L50: 47849 | M50: 48213 | N50: hosszú | AC50: 90
B52: Összesen: | J52: =SUM(J12:J51) -> 4141.25
A54: III. Vízműtelep és vízkezelő létesítmények
C55: Helyszín | D55: beruházás megnevezése
B56: VÍZMŰTELEP
B57: Épület, építmény
B59: Gép, berendezés
B61: Irányítástechnika, energiaellátás
A62: 40 | C62: Zalaegerszeg Keleti vízműtelep | D62: PLC - PLC közti kommunikáció felújítása | E62: Az elektromos, irányítástechnikai szerelvények és vezetékek, műszaki állapota miatt fennáll a meghibásodás veszélye | F62: A vízműtelep elektromos megtáplálása, a folyamatos távfelügyelet biztosítása. | G62: Az elektromos paramétereihez illeszkedő erős- és gyengeáramú vezérlőszekrény. | I62: Zalaegerszeg tulajdonosközösség | J62: =SUM(O62:AC62) -> 15 | L62: 43556 | M62: 43830 | N62: közép | Q62: 15
A63: 45 | C63: Zalaegerszeg Keleti vízműtelep | D63: URH alnokok megszűntetése | E63: Az elektromos, irányítástechnikai szerelvények és vezetékek, műszaki állapota miatt fennáll a meghibásodás veszélye | F63: A vízműtelep elektromos megtáplálása, a folyamatos távfelügyelet biztosítása. | G63: Az elektromos paramétereihez illeszkedő erős- és gyengeáramú vezérlőszekrény. | I63: Zalaegerszeg tulajdonosközösség | J63: =SUM(O63:AC63) -> 102 | L63: 43922 | M63: 44196 | N63: közép | R63: 102
A64: 46 | C64: Zalaegerszeg Nyugati vízműtelep | D64: 20 KV-os főelosztó felújítása, feszültségváltó, megszakító csere mindkét betáp oldalon | E64: Az elektromos, irányítástechnikai szerelvények és vezetékek, műszaki állapota miatt fennáll a meghibásodás veszélye | F64: A vízműtelep elektromos megtáplálása, a folyamatos távfelügyelet biztosítása. | G64: Az elektromos paramétereihez illeszkedő erős- és gyengeáramú vezérlőszekrény. | I64: Zalaegerszeg tulajdonosközösség | J64: =SUM(O64:AC64) -> 315 | L64: 43922 | M64: 44196 | N64: közép | R64: 315
B66: VÍZKEZELŐ LÉTESÍTMÉNYEK
B67: Épület, építmény
B69: Gép, berendezés
A70: 69 | C70: Zalaegerszeg Keleti vastalanító | D70: gépszeti rekonstrukció | E70: A technológia, szerelvények és vezetékek, műszaki állapota miatt fennáll a meghibásodás veszélye. | F70: A tisztítás technológia jelenlegi műszaki állapota miatt nem képes az elvárt paramétereket biztosítani. Az avultsági szint miatt fennáll a meghibásodás veszélye. | G70: Megfelelő hatékonyságú technológia. A gépészeti funkciókat kifogástalanul ellátó szerelvények. | I70: Zalaegerszeg tulajdonosközösség | J70: =SUM(O70:AC70) -> 1500 | L70: 45383 | M70: 46022 | N70: hosszú | V70: 750 | W70: 750
B72: Irányítástechnika, energiaellátás
B74: Összesen | J74: =SUM(J56:J73) -> 1932
A76: IV. Vízelosztás
C77: Helyszín | D77: beruházás megnevezése
B78: IVÓVÍZHÁLÓZAT
B79: Épület, építmény
A80: 6 | C80: Zalaegerszeg Vizslapark | D80: gerincvezeték csere | E80: A vezeték állapota anyaga, kora, minősége miatt nem megfelelő, elavult. | F80: A vezeték elavult műszaki állapota miatt gyakoriak a csőtörések. | G80: A vízvezeték kiváltás a vízigények figyelembevételével megfelelő átmérőjű és anyagú hálózatot kapunk. | I80: Zalaegerszeg tulajdonközösség | J80: =SUM(O80:AC80) -> 525 | L80: 42795 | M80: 42825 | N80: rövid | O80: 525
A81: 13 | C81: Bocfölde | D81: tartalékkeret képzése rekonstrukcióhoz | E81: A vezeték állapota anyaga, kora, minősége miatt nem megfelelő, elavult. | F81: A vezeték elavult műszaki állapota miatt gyakoriak a csőtörések. | G81: A vízvezeték kiváltás a vízigények figyelembevételével megfelelő átmérőjű és anyagú hálózatot kapunk. | I81: Bocfölde | J81: =SUM(O81:AC81) -> 2768 | L81: 42826 | M81: 43100 | N81: rövid | O81: 2768
A82: 31 | C82: Bocfölde | D82: tartalékkeret képzése rekonstrukcióhoz | E82: A vezeték állapota anyaga, kora, minősége miatt nem megfelelő, elavult. | F82: A vezeték elavult műszaki állapota miatt gyakoriak a csőtörések. | G82: A vízvezeték kiváltás a vízigények figyelembevételével megfelelő átmérőjű és anyagú hálózatot kapunk. | I82: Bocfölde | J82: =SUM(O82:AC82) -> 11873 | L82: 43191 | M82: 44561 | N82: közép | P82: 2933 | Q82: 2964 | R82: 2937 | S82: 3039
A83: 41 | C83: Zalaegerszeg 74 - 76. út | D83: csomópont rekonstrukció | E83: A vezeték állapota anyaga, kora, minősége miatt nem megfelelő, elavult. | F83: A vezeték elavult műszaki állapota miatt gyakoriak a csőtörések. | G83: A vízvezeték kiváltás a vízigények figyelembevételével megfelelő átmérőjű és anyagú hálózatot kapunk. | I83: Zalaegerszeg tulajdonközösség | J83: =SUM(O83:AC83) -> 150 | L83: 43556 | M83: 43585 | N83: közép | Q83: 150
A84: 47 | C84: Zalaegerszeg Juhász Gy. - Zrínyi út között | D84: gerincvezeték csere (D315 400 fm) | E84: A vezeték állapota anyaga, kora, minősége miatt nem megfelelő, elavult. | F84: A vezeték elavult műszaki állapota miatt gyakoriak a csőtörések. | G84: A vízvezeték kiváltás a vízigények figyelembevételével megfelelő átmérőjű és anyagú hálózatot kapunk. | I84: Zalaegerszeg tulajdonközösség | J84: =SUM(O84:AC84) -> 315 | L84: 44287 | M84: 44316 | N84: közép | S84: 315
A85: 49 | C85: Zalaegerszeg Dózsa iskola régi szennyvíztelep között | D85: gerincvezeték csere (D355 520 fm) | E85: A vezeték állapota anyaga, kora, minősége miatt nem megfelelő, elavult. | F85: A vezeték elavult műszaki állapota miatt gyakoriak a csőtörések. | G85: A vízvezeték kiváltás a vízigények figyelembevételével megfelelő átmérőjű és anyagú hálózatot kapunk. | I85: Zalaegerszeg tulajdonközösség | J85: =SUM(O85:AC85) -> 330 | L85: 44652 | M85: 44926 | N85: hosszú | T85: 330
A86: 52 | C86: Bocfölde | D86: tartalékkeret képzése rekonstrukcióhoz | E86: A vezeték állapota anyaga, kora, minősége miatt nem megfelelő, elavult. | F86: A vezeték elavult műszaki állapota miatt gyakoriak a csőtörések. | G86: A vízvezeték kiváltás a vízigények figyelembevételével megfelelő átmérőjű és anyagú hálózatot kapunk. | I86: Bocfölde | J86: =SUM(O86:AC86) -> 25059 | L86: 44652 | M86: 48213 | N86: hosszú | T86: 2559 | U86: 2430 | V86: 2475 | W86: 2475 | X86: 2505 | Y86: 2385 | Z86: 2805 | AA86: 2475 | AB86: 2475 | AC86: 2475
A87: 68 | C87: Bocfölde tároló töltő vezeték | D87: gerincvezeték csere (D250 1600 fm) I. ütem | E87: A vezeték állapota anyaga, kora, minősége miatt nem megfelelő, elavult. | F87: A vezeték elavult műszaki állapota miatt gyakoriak a csőtörések. | G87: A vízvezeték kiváltás a vízigények figyelembevételével megfelelő átmérőjű és anyagú hálózatot kapunk. | I87: Zalaegerszeg tulajdonközösség | J87: =SUM(O87:AC87) -> 795 | L87: 45017 | M87: 45046 | N87: hosszú | U87: 795
A88: 74 | C88: Zalaegerszeg Keleti átemelő | D88: kimenő ág csere | E88: A vezeték állapota anyaga, kora, minősége miatt nem megfelelő, elavult. | F88: A vezeték elavult műszaki állapota miatt gyakoriak a csőtörések. | G88: A vízvezeték kiváltás a vízigények figyelembevételével megfelelő átmérőjű és anyagú hálózatot kapunk. | I88: Zalaegerszeg tulajdonközösség | J88: =SUM(O88:AC88) -> 630 | L88: 46113 | M88: 46142 | N88: hosszú | X88: 630
A89: 83 | C89: Zalaegerszeg Bíró M. út (Berzsenyi - Petőfi u. között) | D89: gerincvezeték csere (D355 330 fm)) | E89: A vezeték állapota anyaga, kora, minősége miatt nem megfelelő, elavult. | F89: A vezeték elavult műszaki állapota miatt gyakoriak a csőtörések. | G89: A vízvezeték kiváltás a vízigények figyelembevételével megfelelő átmérőjű és anyagú hálózatot kapunk. | I89: Zalaegerszeg tulajdonközösség | J89: =SUM(O89:AC89) -> 375 | L89: 46844 | M89: 46873 | N89: hosszú | Z89: 375
A90: 87 | C90: Zalaegerszeg | D90: gerincvezeték csere | E90: A vezeték állapota anyaga, kora, minősége miatt nem megfelelő, elavult. | F90: A vezeték elavult műszaki állapota miatt gyakoriak a csőtörések. | G90: A vízvezeték kiváltás a vízigények figyelembevételével megfelelő átmérőjű és anyagú hálózatot kapunk. | I90: Zalaegerszeg tulajdonközösség | J90: =SUM(O90:AC90) -> 2250 | L90: 47209 | M90: 47968 | N90: hosszú | AA90: 750 | AB90: 750 | AC90: 750
B92: Gép, berendezés
B94: Irányítástechnika, energiaellátás
B96: VÍZTÁROLÓK
B97: Épület, építmény
A98: 82 | C98: Zalaegerszeg Jánkahegyi víztároló | D98: építészeti rekonstrukció | E98: Az épület/építmény minősége és állaga leromlott. | F98: Az épület/építmény feladata a víziközmű létesítmények védelme, vagyon és vízbiztonsági szempontból. Jelenlegi állapotban nem biztosítja a fenti funkciókat. A víztároló létesítmények nem megfelelő állapota. | G98: Az épület/építmény megfelelő műszaki állapota révén ellátja a vagyon- és vízbiztonsági feladatait. | I98: Zalaegerszeg tulajdonosközösség | J98: =SUM(O98:AC98) -> 750 | L98: 46388 | M98: 46752 | N98: hosszú | Y98: 750
B100: Gép, berendezés
A101: 25 | C101: Zalaegerszeg Keleti előtároló | D101: gépészeti rekonstrukció | E101: A technológia, szerelvények és vezetékek, műszaki állapota miatt fennáll a meghibásodás veszélye. | F101: A víztárolás gépészeti berendezései nem töltik be funkciójukat (nyitás-zárás). Az avultsági szint miatt fennáll a meghibásodás veszélye. | G101: Megfelelő hatékonyságú technológia. A gépészeti funkciókat kifogástalanul ellátó szerelvények. | I101: Zalaegerszeg tulajdonosközösség | J101: =SUM(O101:AC101) -> 225 | L101: 43191 | M101: 43465 | N101: közép | P101: 225
A102: 42 | C102: Zalaegerszeg Jánkahegyi víztároló | D102: gépészeti rekonstrukció | E102: A technológia, szerelvények és vezetékek, műszaki állapota miatt fennáll a meghibásodás veszélye. | F102: A víztárolás gépészeti berendezései nem töltik be funkciójukat (nyitás-zárás). Az avultsági szint miatt fennáll a meghibásodás veszélye. | G102: Megfelelő hatékonyságú technológia. A gépészeti funkciókat kifogástalanul ellátó szerelvények. | I102: Zalaegerszeg tulajdonosközösség | J102: =SUM(O102:AC102) -> 225 | L102: 43466 | M102: 43830 | N102: közép | Q102: 225
B104: Irányítástechnika, energiaellátás
B106: NYOMÁSFOKOZÓK
B107: Épület, építmény
A108: 27 | C108: Zalaegerszeg II. átemelő | D108: szigetelés felújítás | E108: Az épület/építmény minősége és állaga leromlott. | F108: Az épület/építmény feladata a víziközmű létesítmények védelme, vagyon és vízbiztonsági szempontból. Jelenlegi állapotban nem biztosítja a fenti funkciókat. A víztároló létesítmények nem megfelelő állapota. | G108: Az épület/építmény megfelelő műszaki állapota révén ellátja a vagyon- és vízbiztonsági feladatait. | I108: Zalaegerszeg tulajdonosközösség | J108: =SUM(O108:AC108) -> 105 | L108: 43101 | M108: 43465 | N108: közép | P108: 105
B110: Gép, berendezés
A111: 50 | C111: Zalaegerszeg Keleti átemelő | D111: Szivattyú csere (EMU 980-2, Worthington 2 db), teljes gépészeti rekonstrukció | E111: A szivattyú kora, műszaki állapota miatt fennáll a meghibásodás veszélye. Feladat szükségessége | F111: A folyamatos víztermelés biztosítása. | G111: A Q–H diagramhoz illeszkedő energiahatékony szivattyú üzemeltetése. | I111: Zalaegerszeg tulajdonosközösség | J111: =SUM(O111:AC111) -> 375 | L111: 44562 | M111: 44926 | N111: hosszú | T111: 375
A112: 77 | C112: Nagykutasi átemelő | D112: Szivattyú csere (EMU K64-6 2 db), teljes gépészeti rekonstrukció | E112: A szivattyú kora, műszaki állapota miatt fennáll a meghibásodás veszélye. Feladat szükségessége | F112: A folyamatos víztermelés biztosítása. | G112: A Q–H diagramhoz illeszkedő energiahatékony szivattyú üzemeltetése. | I112: Zalaegerszeg tulajdonosközösség | J112: =SUM(O112:AC112) -> 45 | L112: 46023 | M112: 46387 | N112: hosszú | X112: 45
A113: 84 | C113: Teskánd Babosdöbrétei átemelő | D113: Szivattyú csere (EMU K64-10 2 db), teljes gépészeti rekonstrukció | E113: A szivattyú kora, műszaki állapota miatt fennáll a meghibásodás veszélye. Feladat szükségessége | F113: A folyamatos víztermelés biztosítása. | G113: A Q–H diagramhoz illeszkedő energiahatékony szivattyú üzemeltetése. | I113: Zalaegerszeg tulajdonosközösség | J113: =SUM(O113:AC113) -> 45 | L113: 46753 | M113: 47118 | N113: hosszú | Z113: 45
B115: Irányítástechnika, energiaellátás
A116: 78 | C116: Nagykutas átemelő | D116: elektromos és irányítástechnikai szekrény csere | E116: Az elektromos, irányítástechnikai szerelvények és vezetékek, műszaki állapota miatt fennáll a meghibásodás veszélye. | F116: A szivattyú elektromos megtáplálása, a folyamatos távfelügyelet biztosítása. | G116: A szivattyú elektromos paramétereihez illeszkedő erősáramú és vezérlőszekrény. | I116: Zalaegerszeg tulajdonosközösség | J116: =SUM(O116:AC116) -> 45 | L116: 46113 | M116: 46387 | N116: hosszú | X116: 45
B118: Összesen: | J118: =SUM(J78:J117) -> 46885 | K118: 3531 | O118: =SUM(O12:O117) -> 3530.55 | P118: =SUM(P12:P117) -> 3530.55 | Q118: =SUM(Q12:Q117) -> 3530.55 | R118: =SUM(R12:R117) -> 3530.55 | S118: =SUM(S12:S117) -> 3530.55 | T118: =SUM(T12:T117) -> 3530.55 | U118: =SUM(U12:U117) -> 3530.55 | V118: =SUM(V12:V117) -> 3530.55 | ... AC118: =SUM(AC12:AC117) -> 3530.55
K119: 2017 évre a fejlesztési forrás biztosított
B121: Rendelkezésre álló források megnevezése | C121: Rendelkezésre álló források számszerűsített értéke a teljes ütem tekintetében (eFt)
...

Sheet Boncodfölde
A1: Gördülő fejlesztési terv a 2017 - 2031 időszakra
A2: FELÚJÍTÁSOK ÉS PÓTLÁSOK ÖSSZEFOGLALÓ TÁBLÁZATA
A3: A tervet benyújtó szervezet megnevezése: | K3: BONCODFÖLDE | R3: ellátásért felelős / ellátásért felelősök képviselője / víziközmű-szolgáltató *
A4: Víziközmű-szolgáltató megnevezése: | K4: ÉSZAK ZALAI VÍZ- ÉS CSATORNAMŰ ZÁRTKÖRŰEN MŰKÖDŐ RÉSZVÉNYTÁRSASÁG
A5: Víziközmű-szolgáltatási ágazat megnevezése: | K5: IVÓVÍZ ÁGAZAT
A6: Véleményeltérést megfogalmazó érintett fél megnevezése:
A7: Víziközmű-rendszer kódja: ** | K7: 11-30368-1-006-00-02 | R7: BONCODFÖLDE-IV
A8: I. Felszín alatti vízkivétel
A9: Fontossági sorrend | B9: Felujítás és pótlás megnevezése | E9: Műszaki állapot felmérés, szükségességi indoklás | H9: Vízjogi létesítési/elvi engedély száma | I9: Az érintett ellátásért felelős(ök) megnevezése | J9: Tervezett nettó költség | K9: Forrás 2017 évre | L9: Megvalósítás időtartama | N9: Tervezett időtáv | O9: A beruházás ütemezése a tervezési időszak évei szerint
E10: Jelenlegi műszaki állapot | F10: Feladat szükségessége | G10: Megvalósítást követő várható műszaki állapot | J10: (eFt) | L10: Kezdés | M10: Befejezés | N10: (rövid / közép / hosszú) | O10: 1 | P10: 2 | Q10: 3 | R10: 4 | S10: 5 | T10: 6 | U10: 7 | V10: 8 | W10: 9 | X10: 10 | Y10: 11 | Z10: 12 | AA10: 13 | AB10: 14 | AC10: 15
B11: szakág | C11: Helyszín | D11: beruházás megnevezése
A12: 1 | D12: Rendkívüli helyzetből adódó azonnali feladatok (max. 5%) | F12: működőképeség biztosítása | I12: Boncodfölde | J12: =SUM(O12:AC12) -> 902.25 | L12: 42736 | M12: 48213 | O12: =0.05*$K$71 -> 60.15 | P12: =0.05*$K$71 -> 60.15 | Q12: =0.05*$K$71 -> 60.15 | R12: =0.05*$K$71 -> 60.15 | S12: =0.05*$K$71 -> 60.15 | T12: =0.05*$K$71 -> 60.15 | U12: =0.05*$K$71 -> 60.15 | V12: =0.05*$K$71 -> 60.15 | ... AC12: =0.05*$K$71 -> 60.15
B13: MÉLYFÚRÁSÚ KÚT, HAGYOMÁNYOS ÁTMÉRŐVEL
B14: Épület, építmény
B16: Gép, berendezés
B18: Irányítástechnika, energiaellátás
B20: Összesen: | J20: =SUM(J12:J19) -> 902.25
A22: III. Vízműtelep és vízkezelő létesítmények
C23: Helyszín | D23: beruházás megnevezése
B24: VÍZMŰTELEP
B25: Épület, építmény
B27: Gép, berendezés
B29: Irányítástechnika, energiaellátás
B31: VÍZKEZELŐ LÉTESÍTMÉNYEK
B32: Épület, építmény
B34: Gép, berendezés
B36: Irányítástechnika, energiaellátás
B38: Összesen | J38: =SUM(J24:J37) -> 0
A40: IV. Vízelosztás
C41: Helyszín | D41: beruházás megnevezése
B42: IVÓVÍZHÁLÓZAT
B43: Épület, építmény
A44: 2 | C44: Bagod - Zalaboldogfa | D44: gerincvezeték csere (d225 70 fm) I. ütem | E44: A vezeték állapota anyaga, kora, minősége miatt nem megfelelő, elavult. | F44: A bekötővezeték anyaga vízbiztonsági kockázatot rejt magában, illetve nagyobb a valószínűsége a meghibásodásnak. | G44: A vízvezeték kiváltás, a vízigények figyelembevételével megfelelő átmérőjű és anyagú hálózatot kapunk. | H44: - | I44: Bagod tulajdonosközösség | J44: =SUM(O44:AC44) -> 234 | L44: 42826 | M44: 43100 | N44: rövid | O44: 234
A45: 3 | C45: Bagod - Zalaboldogfa | D45: gerincvezeték csere (d225 825 fm) II-IV. ütem | E45: A vezeték állapota anyaga, kora, minősége miatt nem megfelelő, elavult. | F45: A vezeték elavult műszaki állapota miatt gyakoriak a csőtörések | G45: A vízvezeték kiváltás, a vízigények figyelembevételével megfelelő átmérőjű és anyagú hálózatot kapunk. | H45: - | I45: Bagod tulajdonosközösség | J45: =SUM(O45:AC45) -> 3475 | L45: 43191 | M45: 44561 | N45: közép | P45: 1143 | Q45: 1043 | R45: 1143 | S45: 146
A46: 5 | C46: Boncodfölde | D46: gerinchálózat szerelvény csere | E46: A szerelvény állapota anyaga, kora, minősége miatt nem megfelelő, elavult. | F46: A vezeték elavult műszaki állapota miatt gyakoriak a csőtörések | G46: A szerelvény kiváltás, a vízigények figyelembevételével megfelelő átmérőjű és anyagú hálózatot kapunk. | H46: - | I46: Boncodfölde | J46: =SUM(O46:AC46) -> 100 | L46: 43556 | M46: 201912.31 | N46: közép | Q46: 100
A47: 10 | C47: Zalaszentgyörgy - Kávás | D47: gerincvezeték csere (d160 260 fm) I. ütem | E47: A vezeték állapota anyaga, kora, minősége miatt nem megfelelő, elavult. | F47: A vezeték elavult műszaki állapota miatt gyakoriak a csőtörések | G47: A vízvezeték kiváltás, a vízigények figyelembevételével megfelelő átmérőjű és anyagú hálózatot kapunk. | I47: Bagod tulajdonosközösség | J47: =SUM(O47:AC47) -> 997 | L47: 44287 | M47: 44560 | N47: közép | S47: 997
A48: 11 | C48: Zalaszentgyörgy - Kávás | D48: gerincvezeték csere (d160 600 fm) II. ütem | E48: A vezeték állapota anyaga, kora, minősége miatt nem megfelelő, elavult. | F48: A vezeték elavult műszaki állapota miatt gyakoriak a csőtörések | G48: A vízvezeték kiváltás, a vízigények figyelembevételével megfelelő átmérőjű és anyagú hálózatot kapunk. | H48: - | I48: Bagod tulajdonosközösség | J48: =SUM(O48:AC48) -> 2286 | L48: 44652 | M48: 45291 | N48: hosszú | T48: 1143 | U48: 1143
A49: 12 | C49: Bagod Vitenyédi út | D49: gerincvezeték csere (d225 1210 fm) | E49: A vezeték állapota anyaga, kora, minősége miatt nem megfelelő, elavult. | F49: A vezeték elavult műszaki állapota miatt gyakoriak a csőtörések | G49: A vízvezeték kiváltás, a vízigények figyelembevételével megfelelő átmérőjű és anyagú hálózatot kapunk. | I49: Bagod tulajdonosközösség | J49: =SUM(O49:AC49) -> 4975 | L49: 45383 | M49: 47118 | N49: hosszú | V49: 1143 | W49: 1143 | X49: 1143 | Y49: 1143 | Z49: 403
A50: 14 | C50: Boncodfölde | D50: gerinchálózat szerelvény csere | E50: A szerelvény állapota anyaga, kora, minősége miatt nem megfelelő, elavult. | F50: A vezeték elavult műszaki állapota miatt gyakoriak a csőtörések | G50: A szerelvény kiváltás, a vízigények figyelembevételével megfelelő átmérőjű és anyagú hálózatot kapunk. | H50: - | I50: Boncodfölde | J50: =SUM(O50:AC50) -> 740 | L50: 46844 | M50: 47118 | N50: hosszú | Z50: 740
A51: 19 | C51: Bagod Ady Endre utca | D51: gerincvezeték csere (d225 800 fm) | E51: A vezeték állapota anyaga, kora, minősége miatt nem megfelelő, elavult. | F51: A vezeték elavult műszaki állapota miatt gyakoriak a csőtörések | G51: A vízvezeték kiváltás, a vízigények figyelembevételével megfelelő átmérőjű és anyagú hálózatot kapunk. | H51: - | I51: Bagod tulajdonosközösség | J51: =SUM(O51:AC51) -> 3429 | L51: 47209 | M51: 48213 | N51: hosszú | AA51: 1143 | AB51: 1143 | AC51: 1143
B53: Gép, berendezés
B55: Irányítástechnika, energiaellátás
B57: VÍZTÁROLÓK
B58: Épület, építmény
B60: Gép, berendezés
B62: Irányítástechnika, energiaellátás
B64: NYOMÁSFOKOZÓK
B65: Épület, építmény
B67: Gép, berendezés
B69: Irányítástechnika, energiaellátás
B71: Összesen: | J71: =SUM(J42:J70) -> 16236 | K71: 1203 | O71: =SUM(O12:O70) -> 294.15 | P71: =SUM(P12:P70) -> 1203.15 | Q71: =SUM(Q12:Q70) -> 1203.15 | R71: =SUM(R12:R70) -> 1203.15 | S71: =SUM(S12:S70) -> 1203.15 | T71: =SUM(T12:T70) -> 1203.15 | U71: =SUM(U12:U70) -> 1203.15 | V71: =SUM(V12:V70) -> 1203.15 | ... AC71: =SUM(AC12:AC70) -> 1203.15
K72: 2017 évre a fejlesztési forrás biztosított
B74: Rendelkezésre álló források megnevezése | C74: Rendelkezésre álló források számszerűsített értéke a teljes ütem tekintetében (eFt)
A75: I. ütem | B75: Használati díj (2017) | C75: =K71 -> 1203
A76: II. ütem | B76: Használati díj (2018-2021) | C76: =C75*4 -> 4812
A77: III. ütem | B77: Használati díj (2022-2031) | C77: =C75*10 -> 12030

Sheet Böde
A1: Gördülő fejlesztési terv a 2017 - 2031 időszakra
A2: FELÚJÍTÁSOK ÉS PÓTLÁSOK ÖSSZEFOGLALÓ TÁBLÁZATA
A3: A tervet benyújtó szervezet megnevezése: | K3: BÖDE | R3: ellátásért felelős / ellátásért felelősök képviselője / víziközmű-szolgáltató *
A4: Víziközmű-szolgáltató megnevezése: | K4: ÉSZAK ZALAI VÍZ- ÉS CSATORNAMŰ ZÁRTKÖRŰEN MŰKÖDŐ RÉSZVÉNYTÁRSASÁG
A5: Víziközmű-szolgáltatási ágazat megnevezése: | K5: IVÓVÍZ ÁGAZAT
A6: Véleményeltérést megfogalmazó érintett fél megnevezése:
A7: Víziközmű-rendszer kódja: ** | K7: 11-32054-1-010-00-14 | R7: BÖDE-IV
A8: I. Felszín alatti vízkivétel
A9: Fontossági sorrend | B9: Felujítás és pótlás megnevezése | E9: Műszaki állapot felmérés, szükségességi indoklás | H9: Vízjogi létesítési/elvi engedély száma | I9: Az érintett ellátásért felelős(ök) megnevezése | J9: Tervezett nettó költség | K9: Forrás 2017 évre | L9: Megvalósítás időtartama | N9: Tervezett időtáv | O9: A beruházás ütemezése a tervezési időszak évei szerint
E10: Jelenlegi műszaki állapot | F10: Feladat szükségessége | G10: Megvalósítást követő várható műszaki állapot | J10: (eFt) | L10: Kezdés | M10: Befejezés | N10: (rövid / közép / hosszú) | O10: 1 | P10: 2 | Q10: 3 | R10: 4 | S10: 5 | T10: 6 | U10: 7 | V10: 8 | W10: 9 | X10: 10 | Y10: 11 | Z10: 12 | AA10: 13 | AB10: 14 | AC10: 15
B11: szakág | C11: Helyszín | D11: beruházás megnevezése
A12: 1 | D12: Rendkívüli helyzetből adódó azonnali feladatok (max. 5%) | F12: működőképeség biztosítása | I12: Böde | J12: =SUM(O12:AC12) -> 307.5 | L12: 42736 | M12: 48213 | O12: =0.05*$K$118 -> 20.5 | P12: =0.05*$K$118 -> 20.5 | Q12: =0.05*$K$118 -> 20.5 | R12: =0.05*$K$118 -> 20.5 | S12: =0.05*$K$118 -> 20.5 | T12: =0.05*$K$118 -> 20.5 | U12: =0.05*$K$118 -> 20.5 | V12: =0.05*$K$118 -> 20.5 | ... AC12: =0.05*$K$118 -> 20.5
B13: MÉLYFÚRÁSÚ KÚT, HAGYOMÁNYOS ÁTMÉRŐVEL
B14: Épület, építmény
A15: 48 | C15: Zalaegerszeg … kút | D15: kútfelújítás | E15: Az objektum kora, műszaki állapota miatt fennáll a meghibásodás veszélye. Feladat szükségessége | F15: A felhasználók folyamatos vízellátásának biztosítására | G15: Az elvárt vízigényeket kielégítő megfelelő műszaki állapotú vízbázis. | I15: Zalaegerszeg tulajdonosközösség | J15: =SUM(O15:AC15) -> 18 | L15: 44562 | M15: 44926 | N15: hosszú | T15: 18
A16: 79 | C16: Zalaegerszeg … kút | D16: kútfelújítás | E16: Az objektum kora, műszaki állapota miatt fennáll a meghibásodás veszélye. Feladat szükségessége | F16: A felhasználók folyamatos vízellátásának biztosítására | G16: Az elvárt vízigényeket kielégítő megfelelő műszaki állapotú vízbázis. | I16: Zalaegerszeg tulajdonosközösség | J16: =SUM(O16:AC16) -> 18 | L16: 46388 | M16: 46752 | N16: hosszú | Y16: 18
B18: Gép, berendezés
A19: 66 | C19: Zalaegerszeg … kút | D19: Szivattyú csere 2 db | E19: A szivattyú kora, műszaki állapota miatt fennáll a meghibásodás veszélye. | F19: A folyamatos víztermelés biztosítása. | G19: A Q–H diagramhoz illeszkedő energiahatékony szivattyú üzemeltetése. | I19: Zalaegerszeg tulajdonosközösség | J19: =SUM(O19:AC19) -> 2 | L19: 44927 | M19: 45291 | N19: hosszú | U19: 2
C20: Zalaegerszeg … kút | D20: Gépészeti felújítás 2 db | E20: A szerelvények és vezetékek, műszaki állapota miatt fennáll a meghibásodás veszélye. | F20: A folyamatos víztermelés biztosítása. | G20: A gépészeti funkciókat kifogástalanul ellátó szerelvények. | I20: Zalaegerszeg tulajdonosközösség | J20: =SUM(O20:AC20) -> 6 | L20: 44927 | M20: 45291 | N20: hosszú | U20: 6
A21: 70 | C21: Zalaegerszeg … kút | D21: Szivattyú csere 2 db | E21: A szivattyú kora, műszaki állapota miatt fennáll a meghibásodás veszélye. | F21: A folyamatos víztermelés biztosítása. | G21: A Q–H diagramhoz illeszkedő energiahatékony szivattyú üzemeltetése. | I21: Zalaegerszeg tulajdonosközösség | J21: =SUM(O21:AC21) -> 2 | L21: 45292 | M21: 45657 | N21: hosszú | V21: 2
C22: Zalaegerszeg … kút | D22: Gépészeti felújítás 2 db | E22: A szerelvények és vezetékek, műszaki állapota miatt fennáll a meghibásodás veszélye. | F22: A folyamatos víztermelés biztosítása. | G22: A gépészeti funkciókat kifogástalanul ellátó szerelvények. | I22: Zalaegerszeg tulajdonosközösség | J22: =SUM(O22:AC22) -> 6 | L22: 45292 | M22: 45657 | N22: hosszú | V22: 6
A23: 72 | C23: Zalaegerszeg … kút | D23: Szivattyú csere 2 db | E23: A szivattyú kora, műszaki állapota miatt fennáll a meghibásodás veszélye. | F23: A folyamatos víztermelés biztosítása. | G23: A Q–H diagramhoz illeszkedő energiahatékony szivattyú üzemeltetése. | I23: Zalaegerszeg tulajdonosközösség | J23: =SUM(O23:AC23) -> 2 | L23: 45658 | M23: 46022 | N23: hosszú | W23: 2
C24: Zalaegerszeg … kút | D24: Gépészeti felújítás 2 db | E24: A szerelvények és vezetékek, műszaki állapota miatt fennáll a meghibásodás veszélye. | F24: A folyamatos víztermelés biztosítása. | G24: A gépészeti funkciókat kifogástalanul ellátó szerelvények. | I24: Zalaegerszeg tulajdonosközösség | J24: =SUM(O24:AC24) -> 6 | L24: 45658 | M24: 46022 | N24: hosszú | W24: 6
A25: 75 | C25: Zalaegerszeg … kút | D25: Szivattyú csere 2 db | E25: A szivattyú kora, műszaki állapota miatt fennáll a meghibásodás veszélye. | F25: A folyamatos víztermelés biztosítása. | G25: A Q–H diagramhoz illeszkedő energiahatékony szivattyú üzemeltetése. | I25: Zalaegerszeg tulajdonosközösség | J25: =SUM(O25:AC25) -> 2 | L25: 46023 | M25: 46387 | N25: hosszú | X25: 2
C26: Zalaegerszeg … kút | D26: Gépészeti felújítás 2 db | E26: A szerelvények és vezetékek, műszaki állapota miatt fennáll a meghibásodás veszélye. | F26: A folyamatos víztermelés biztosítása. | G26: A gépészeti funkciókat kifogástalanul ellátó szerelvények. | I26: Zalaegerszeg tulajdonosközösség | J26: =SUM(O26:AC26) -> 6 | L26: 46023 | M26: 46387 | N26: hosszú | X26: 6
A27: 80 | C27: Zalaegerszeg … kút | D27: Szivattyú csere 2 db | E27: A szivattyú kora, műszaki állapota miatt fennáll a meghibásodás veszélye. | F27: A folyamatos víztermelés biztosítása. | G27: A Q–H diagramhoz illeszkedő energiahatékony szivattyú üzemeltetése. | I27: Zalaegerszeg tulajdonosközösség | J27: =SUM(O27:AC27) -> 2 | L27: 46388 | M27: 46752 | N27: hosszú | Y27: 2
C28: Zalaegerszeg … kút | D28: Gépészeti felújítás 2 db | E28: A szerelvények és vezetékek, műszaki állapota miatt fennáll a meghibásodás veszélye. | F28: A folyamatos víztermelés biztosítása. | G28: A gépészeti funkciókat kifogástalanul ellátó szerelvények. | I28: Zalaegerszeg tulajdonosközösség | J28: =SUM(O28:AC28) -> 6 | L28: 46388 | M28: 46752 | N28: hosszú | Y28: 6
A29: 85 | C29: Zalaegerszeg … kút | D29: Szivattyú csere 2 db | E29: A szivattyú kora, műszaki állapota miatt fennáll a meghibásodás veszélye. | F29: A folyamatos víztermelés biztosítása. | G29: A Q–H diagramhoz illeszkedő energiahatékony szivattyú üzemeltetése. | I29: Zalaegerszeg tulajdonosközösség | J29: =SUM(O29:AC29) -> 2 | L29: 46753 | M29: 47118 | N29: hosszú | Z29: 2
C30: Zalaegerszeg … kút | D30: Gépészeti felújítás 2 db | E30: A szerelvények és vezetékek, műszaki állapota miatt fennáll a meghibásodás veszélye. | F30: A folyamatos víztermelés biztosítása. | G30: A gépészeti funkciókat kifogástalanul ellátó szerelvények. | I30: Zalaegerszeg tulajdonosközösség | J30: =SUM(O30:AC30) -> 6 | L30: 46753 | M30: 47118 | N30: hosszú | Z30: 6
A31: 88 | C31: Zalaegerszeg … kút | D31: Szivattyú csere 2 db | E31: A szivattyú kora, műszaki állapota miatt fennáll a meghibásodás veszélye. | F31: A folyamatos víztermelés biztosítása. | G31: A Q–H diagramhoz illeszkedő energiahatékony szivattyú üzemeltetése. | I31: Zalaegerszeg tulajdonosközösség | J31: =SUM(O31:AC31) -> 2 | L31: 47119 | M31: 47483 | N31: hosszú | AA31: 2
C32: Zalaegerszeg … kút | D32: Gépészeti felújítás 2 db | E32: A szerelvények és vezetékek, műszaki állapota miatt fennáll a meghibásodás veszélye. | F32: A folyamatos víztermelés biztosítása. | G32: A gépészeti funkciókat kifogástalanul ellátó szerelvények. | I32: Zalaegerszeg tulajdonosközösség | J32: =SUM(O32:AC32) -> 6 | L32: 47119 | M32: 47483 | N32: hosszú | AA32: 6
A33: 90 | C33: Zalaegerszeg … kút | D33: Szivattyú csere 2 db | E33: A szivattyú kora, műszaki állapota miatt fennáll a meghibásodás veszélye. | F33: A folyamatos víztermelés biztosítása. | G33: A Q–H diagramhoz illeszkedő energiahatékony szivattyú üzemeltetése. | I33: Zalaegerszeg tulajdonosközösség | J33: =SUM(O33:AC33) -> 2 | L33: 47484 | M33: 47848 | N33: hosszú | AB33: 2
C34: Zalaegerszeg … kút | D34: Gépészeti felújítás 2 db | E34: A szerelvények és vezetékek, műszaki állapota miatt fennáll a meghibásodás veszélye. | F34: A folyamatos víztermelés biztosítása. | G34: A gépészeti funkciókat kifogástalanul ellátó szerelvények. | I34: Zalaegerszeg tulajdonosközösség | J34: =SUM(O34:AC34) -> 6 | L34: 47484 | M34: 47848 | N34: hosszú | AB34: 6
A35: 92 | C35: Zalaegerszeg … kút | D35: Szivattyú csere 2 db | E35: A szivattyú kora, műszaki állapota miatt fennáll a meghibásodás veszélye. | F35: A folyamatos víztermelés biztosítása. | G35: A Q–H diagramhoz illeszkedő energiahatékony szivattyú üzemeltetése. | I35: Zalaegerszeg tulajdonosközösség | J35: =SUM(O35:AC35) -> 2 | L35: 47849 | M35: 48213 | N35: hosszú | AC35: 2
C36: Zalaegerszeg … kút | D36: Gépészeti felújítás 2 db | E36: A szerelvények és vezetékek, műszaki állapota miatt fennáll a meghibásodás veszélye. | F36: A folyamatos víztermelés biztosítása. | G36: A gépészeti funkciókat kifogástalanul ellátó szerelvények. | I36: Zalaegerszeg tulajdonosközösség | J36: =SUM(O36:AC36) -> 6 | L36: 47849 | M36: 48213 | N36: hosszú | AC36: 6
B38: Irányítástechnika, energiaellátás
A39: 7 | C39: Zalaegerszeg D1 - D3 kút | D39: 20 kV hálózat felújítása, oszlopszigetelő és távtartó csere, túláramvédelem felújítás | E39: Az elektromos, irányítástechnikai szerelvények és vezetékek, műszaki állapota miatt fennáll a meghibásodás veszélye. | F39: A búvárszivattyú elektromos megtáplálása, a folyamatos távfelügyelet biztosítása. | G39: A búvárszivattyú elektromos paramétereihez illeszkedő erősáramú és vezérlőszekrény. | I39: Zalaegerszeg tulajdonosközösség | J39: =SUM(O39:AC39) -> 5 | L39: 42736 | M39: 43100 | N39: rövid | O39: 5
A40: 11 | C40: Zalaegerszeg 11 - 15 kútcsoport | D40: 20 kV hálózat felújítás, oszloptranszformátor alatti erősáramú szekrény csere | E40: Az elektromos, irányítástechnikai szerelvények és vezetékek, műszaki állapota miatt fennáll a meghibásodás veszélye. | F40: A búvárszivattyú elektromos megtáplálása, a folyamatos távfelügyelet biztosítása. | G40: A búvárszivattyú elektromos paramétereihez illeszkedő erősáramú és vezérlőszekrény. | I40: Zalaegerszeg tulajdonosközösség | J40: =SUM(O40:AC40) -> 8 | L40: 42736 | M40: 43100 | N40: rövid | O40: 8
A41: 26 | C41: Zalaegerszeg Keleti kútcsoport | D41: GPRS kommunikációra történő átállás | E41: Az elektromos, irányítástechnikai szerelvények és vezetékek, műszaki állapota miatt fennáll a meghibásodás veszélye. | F41: A búvárszivattyú elektromos megtáplálása, a folyamatos távfelügyelet biztosítása. | G41: A búvárszivattyú elektromos paramétereihez illeszkedő erősáramú és vezérlőszekrény. | I41: Zalaegerszeg tulajdonosközösség | J41: =SUM(O41:AC41) -> 18 | L41: 43101 | M41: 43465 | N41: közép | P41: 18
A42: 67 | C42: Zalaegerszeg … kút | D42: elektromos és iráűnyítástechnikai szekrény csere (2 db) | E42: Az elektromos, irányítástechnikai szerelvények és vezetékek, műszaki állapota miatt fennáll a meghibásodás veszélye. | F42: A búvárszivattyú elektromos megtáplálása, a folyamatos távfelügyelet biztosítása. | G42: A búvárszivattyú elektromos paramétereihez illeszkedő erősáramú és vezérlőszekrény. | I42: Zalaegerszeg tulajdonosközösség | J42: =SUM(O42:AC42) -> 18 | L42: 44927 | M42: 45291 | N42: hosszú | U42: 18
A43: 71 | C43: Zalaegerszeg … kút | D43: elektromos és iráűnyítástechnikai szekrény csere (2 db) | E43: Az elektromos, irányítástechnikai szerelvények és vezetékek, műszaki állapota miatt fennáll a meghibásodás veszélye. | F43: A búvárszivattyú elektromos megtáplálása, a folyamatos távfelügyelet biztosítása. | G43: A búvárszivattyú elektromos paramétereihez illeszkedő erősáramú és vezérlőszekrény. | I43: Zalaegerszeg tulajdonosközösség | J43: =SUM(O43:AC43) -> 18 | L43: 45292 | M43: 45657 | N43: hosszú | V43: 18
A44: 73 | C44: Zalaegerszeg … kút | D44: elektromos és iráűnyítástechnikai szekrény csere (2 db) | E44: Az elektromos, irányítástechnikai szerelvények és vezetékek, műszaki állapota miatt fennáll a meghibásodás veszélye. | F44: A búvárszivattyú elektromos megtáplálása, a folyamatos távfelügyelet biztosítása. | G44: A búvárszivattyú elektromos paramétereihez illeszkedő erősáramú és vezérlőszekrény. | I44: Zalaegerszeg tulajdonosközösség | J44: =SUM(O44:AC44) -> 18 | L44: 45658 | M44: 46022 | N44: hosszú | W44: 18
A45: 76 | C45: Zalaegerszeg … kút | D45: elektromos és iráűnyítástechnikai szekrény csere (2 db) | E45: Az elektromos, irányítástechnikai szerelvények és vezetékek, műszaki állapota miatt fennáll a meghibásodás veszélye. | F45: A búvárszivattyú elektromos megtáplálása, a folyamatos távfelügyelet biztosítása. | G45: A búvárszivattyú elektromos paramétereihez illeszkedő erősáramú és vezérlőszekrény. | I45: Zalaegerszeg tulajdonosközösség | J45: =SUM(O45:AC45) -> 18 | L45: 46023 | M45: 46387 | N45: hosszú | X45: 18
A46: 81 | C46: Zalaegerszeg … kút | D46: elektromos és iráűnyítástechnikai szekrény csere (2 db) | E46: Az elektromos, irányítástechnikai szerelvények és vezetékek, műszaki állapota miatt fennáll a meghibásodás veszélye. | F46: A búvárszivattyú elektromos megtáplálása, a folyamatos távfelügyelet biztosítása. | G46: A búvárszivattyú elektromos paramétereihez illeszkedő erősáramú és vezérlőszekrény. | I46: Zalaegerszeg tulajdonosközösség | J46: =SUM(O46:AC46) -> 18 | L46: 46388 | M46: 46752 | N46: hosszú | Y46: 18
A47: 86 | C47: Zalaegerszeg … kút | D47: elektromos és iráűnyítástechnikai szekrény csere (2 db) | E47: Az elektromos, irányítástechnikai szerelvények és vezetékek, műszaki állapota miatt fennáll a meghibásodás veszélye. | F47: A búvárszivattyú elektromos megtáplálása, a folyamatos távfelügyelet biztosítása. | G47: A búvárszivattyú elektromos paramétereihez illeszkedő erősáramú és vezérlőszekrény. | I47: Zalaegerszeg tulajdonosközösség | J47: =SUM(O47:AC47) -> 18 | L47: 46753 | M47: 47118 | N47: hosszú | Z47: 18
A48: 89 | C48: Zalaegerszeg … kút | D48: elektromos és iráűnyítástechnikai szekrény csere (2 db) | E48: Az elektromos, irányítástechnikai szerelvények és vezetékek, műszaki állapota miatt fennáll a meghibásodás veszélye. | F48: A búvárszivattyú elektromos megtáplálása, a folyamatos távfelügyelet biztosítása. | G48: A búvárszivattyú elektromos paramétereihez illeszkedő erősáramú és vezérlőszekrény. | I48: Zalaegerszeg tulajdonosközösség | J48: =SUM(O48:AC48) -> 18 | L48: 47119 | M48: 47483 | N48: hosszú | AA48: 18
A49: 91 | C49: Zalaegerszeg … kút | D49: elektromos és iráűnyítástechnikai szekrény csere (2 db) | E49: Az elektromos, irányítástechnikai szerelvények és vezetékek, műszaki állapota miatt fennáll a meghibásodás veszélye. | F49: A búvárszivattyú elektromos megtáplálása, a folyamatos távfelügyelet biztosítása. | G49: A búvárszivattyú elektromos paramétereihez illeszkedő erősáramú és vezérlőszekrény. | I49: Zalaegerszeg tulajdonosközösség | J49: =SUM(O49:AC49) -> 18 | L49: 47484 | M49: 47848 | N49: hosszú | AB49: 18
A50: 93 | C50: Zalaegerszeg … kút | D50: elektromos és iráűnyítástechnikai szekrény csere (2 db) | E50: Az elektromos, irányítástechnikai szerelvények és vezetékek, műszaki állapota miatt fennáll a meghibásodás veszélye. | F50: A búvárszivattyú elektromos megtáplálása, a folyamatos távfelügyelet biztosítása. | G50: A búvárszivattyú elektromos paramétereihez illeszkedő erősáramú és vezérlőszekrény. | I50: Zalaegerszeg tulajdonosközösség | J50: =SUM(O50:AC50) -> 18 | L50: 47849 | M50: 48213 | N50: hosszú | AC50: 18
B52: Összesen: | J52: =SUM(J12:J39) -> 420.5
A54: III. Vízműtelep és vízkezelő létesítmények
C55: Helyszín | D55: beruházás megnevezése
B56: VÍZMŰTELEP
B57: Épület, építmény
B59: Gép, berendezés
B61: Irányítástechnika, energiaellátás
A62: 40 | C62: Zalaegerszeg Keleti vízműtelep | D62: PLC - PLC közti kommunikáció felújítása | E62: Az elektromos, irányítástechnikai szerelvények és vezetékek, műszaki állapota miatt fennáll a meghibásodás veszélye | F62: A vízműtelep elektromos megtáplálása, a folyamatos távfelügyelet biztosítása. | G62: Az elektromos paramétereihez illeszkedő erős- és gyengeáramú vezérlőszekrény. | I62: Zalaegerszeg tulajdonosközösség | J62: =SUM(O62:AC62) -> 3 | L62: 43556 | M62: 43830 | N62: közép | Q62: 3
A63: 45 | C63: Zalaegerszeg Keleti vízműtelep | D63: URH alnokok megszűntetése | E63: Az elektromos, irányítástechnikai szerelvények és vezetékek, műszaki állapota miatt fennáll a meghibásodás veszélye | F63: A vízműtelep elektromos megtáplálása, a folyamatos távfelügyelet biztosítása. | G63: Az elektromos paramétereihez illeszkedő erős- és gyengeáramú vezérlőszekrény. | I63: Zalaegerszeg tulajdonosközösség | J63: =SUM(O63:AC63) -> 20 | L63: 43922 | M63: 44196 | N63: közép | R63: 20
A64: 46 | C64: Zalaegerszeg Nyugati vízműtelep | D64: 20 KV-os főelosztó felújítása, feszültségváltó, megszakító csere mindkét betáp oldalon | E64: Az elektromos, irányítástechnikai szerelvények és vezetékek, műszaki állapota miatt fennáll a meghibásodás veszélye | F64: A vízműtelep elektromos megtáplálása, a folyamatos távfelügyelet biztosítása. | G64: Az elektromos paramétereihez illeszkedő erős- és gyengeáramú vezérlőszekrény. | I64: Zalaegerszeg tulajdonosközösség | J64: =SUM(O64:AC64) -> 63 | L64: 43922 | M64: 44196 | N64: közép | R64: 63
B66: VÍZKEZELŐ LÉTESÍTMÉNYEK
B67: Épület, építmény
B69: Gép, berendezés
A70: 69 | C70: Zalaegerszeg Keleti vastalanító | D70: gépszeti rekonstrukció | E70: A technológia, szerelvények és vezetékek, műszaki állapota miatt fennáll a meghibásodás veszélye. | F70: A tisztítás technológia jelenlegi műszaki állapota miatt nem képes az elvárt paramétereket biztosítani. Az avultsági szint miatt fennáll a meghibásodás veszélye. | G70: Megfelelő hatékonyságú technológia. A gépészeti funkciókat kifogástalanul ellátó szerelvények. | I70: Zalaegerszeg tulajdonosközösség | J70: =SUM(O70:AC70) -> 300 | L70: 45383 | M70: 46022 | N70: hosszú | V70: 150 | W70: 150
B72: Irányítástechnika, energiaellátás
B74: Összesen | J74: =SUM(J56:J73) -> 386
A76: IV. Vízelosztás
C77: Helyszín | D77: beruházás megnevezése
B78: IVÓVÍZHÁLÓZAT
B79: Épület, építmény
A80: 6 | C80: Zalaegerszeg Vizslapark | D80: gerincvezeték csere | E80: A vezeték állapota anyaga, kora, minősége miatt nem megfelelő, elavult. | F80: A vezeték elavult műszaki állapota miatt gyakoriak a csőtörések. | G80: A vízvezeték kiváltás a vízigények figyelembevételével megfelelő átmérőjű és anyagú hálózatot kapunk. | I80: Zalaegerszeg tulajdonközösség | J80: =SUM(O80:AC80) -> 105 | L80: 42795 | M80: 42825 | N80: rövid | O80: 105
A81: 14 | C81: Böde | D81: tartalékkeret képzése rekonstrukcióhoz | E81: A vezeték állapota anyaga, kora, minősége miatt nem megfelelő, elavult. | F81: A vezeték elavult műszaki állapota miatt gyakoriak a csőtörések. | G81: A vízvezeték kiváltás a vízigények figyelembevételével megfelelő átmérőjű és anyagú hálózatot kapunk. | I81: Böde | J81: =SUM(O81:AC81) -> 271 | L81: 42826 | M81: 43100 | N81: rövid | O81: 271
A82: 32 | C82: Böde | D82: tartalékkeret képzése rekonstrukcióhoz | E82: A vezeték állapota anyaga, kora, minősége miatt nem megfelelő, elavult. | F82: A vezeték elavult műszaki állapota miatt gyakoriak a csőtörések. | G82: A vízvezeték kiváltás a vízigények figyelembevételével megfelelő átmérőjű és anyagú hálózatot kapunk. | I82: Böde | J82: =SUM(O82:AC82) -> 1248 | L82: 43191 | M82: 44561 | N82: közép | P82: 305 | Q82: 311 | R82: 306 | S82: 326
A83: 41 | C83: Zalaegerszeg 74 - 76. út | D83: csomópont rekonstrukció | E83: A vezeték állapota anyaga, kora, minősége miatt nem megfelelő, elavult. | F83: A vezeték elavult műszaki állapota miatt gyakoriak a csőtörések. | G83: A vízvezeték kiváltás a vízigények figyelembevételével megfelelő átmérőjű és anyagú hálózatot kapunk. | I83: Zalaegerszeg tulajdonközösség | J83: =SUM(O83:AC83) -> 30 | L83: 43556 | M83: 43585 | N83: közép | Q83: 30
A84: 47 | C84: Zalaegerszeg Juhász Gy. - Zrínyi út között | D84: gerincvezeték csere (D315 400 fm) | E84: A vezeték állapota anyaga, kora, minősége miatt nem megfelelő, elavult. | F84: A vezeték elavult műszaki állapota miatt gyakoriak a csőtörések. | G84: A vízvezeték kiváltás a vízigények figyelembevételével megfelelő átmérőjű és anyagú hálózatot kapunk. | I84: Zalaegerszeg tulajdonközösség | J84: =SUM(O84:AC84) -> 63 | L84: 44287 | M84: 44316 | N84: közép | S84: 63
A85: 49 | C85: Zalaegerszeg Dózsa iskola régi szennyvíztelep között | D85: gerincvezeték csere (D355 520 fm) | E85: A vezeték állapota anyaga, kora, minősége miatt nem megfelelő, elavult. | F85: A vezeték elavult műszaki állapota miatt gyakoriak a csőtörések. | G85: A vízvezeték kiváltás a vízigények figyelembevételével megfelelő átmérőjű és anyagú hálózatot kapunk. | I85: Zalaegerszeg tulajdonközösség | J85: =SUM(O85:AC85) -> 66 | L85: 44652 | M85: 44926 | N85: hosszú | T85: 66
A86: 53 | C86: Böde | D86: tartalékkeret képzése rekonstrukcióhoz | E86: A vezeték állapota anyaga, kora, minősége miatt nem megfelelő, elavult. | F86: A vezeték elavult műszaki állapota miatt gyakoriak a csőtörések. | G86: A vízvezeték kiváltás a vízigények figyelembevételével megfelelő átmérőjű és anyagú hálózatot kapunk. | I86: Böde | J86: =SUM(O86:AC86) -> 2192 | L86: 44652 | M86: 48213 | N86: hosszú | T86: 230 | U86: 204 | V86: 213 | W86: 213 | X86: 219 | Y86: 195 | Z86: 279 | AA86: 213 | AB86: 213 | AC86: 213
A87: 68 | C87: Bocfölde tároló töltő vezeték | D87: gerincvezeték csere (D250 1600 fm) I. ütem | E87: A vezeték állapota anyaga, kora, minősége miatt nem megfelelő, elavult. | F87: A vezeték elavult műszaki állapota miatt gyakoriak a csőtörések. | G87: A vízvezeték kiváltás a vízigények figyelembevételével megfelelő átmérőjű és anyagú hálózatot kapunk. | I87: Zalaegerszeg tulajdonközösség | J87: =SUM(O87:AC87) -> 159 | L87: 45017 | M87: 45046 | N87: hosszú | U87: 159
A88: 74 | C88: Zalaegerszeg Keleti átemelő | D88: kimenő ág csere | E88: A vezeték állapota anyaga, kora, minősége miatt nem megfelelő, elavult. | F88: A vezeték elavult műszaki állapota miatt gyakoriak a csőtörések. | G88: A vízvezeték kiváltás a vízigények figyelembevételével megfelelő átmérőjű és anyagú hálózatot kapunk. | I88: Zalaegerszeg tulajdonközösség | J88: =SUM(O88:AC88) -> 126 | L88: 46113 | M88: 46142 | N88: hosszú | X88: 126
A89: 83 | C89: Zalaegerszeg Bíró M. út (Berzsenyi - Petőfi u. között) | D89: gerincvezeték csere (D355 330 fm)) | E89: A vezeték állapota anyaga, kora, minősége miatt nem megfelelő, elavult. | F89: A vezeték elavult műszaki állapota miatt gyakoriak a csőtörések. | G89: A vízvezeték kiváltás a vízigények figyelembevételével megfelelő átmérőjű és anyagú hálózatot kapunk. | I89: Zalaegerszeg tulajdonközösség | J89: =SUM(O89:AC89) -> 75 | L89: 46844 | M89: 46873 | N89: hosszú | Z89: 75
A90: 87 | C90: Zalaegerszeg | D90: gerincvezeték csere | E90: A vezeték állapota anyaga, kora, minősége miatt nem megfelelő, elavult. | F90: A vezeték elavult műszaki állapota miatt gyakoriak a csőtörések. | G90: A vízvezeték kiváltás a vízigények figyelembevételével megfelelő átmérőjű és anyagú hálózatot kapunk. | I90: Zalaegerszeg tulajdonközösség | J90: =SUM(O90:AC90) -> 450 | L90: 47209 | M90: 47968 | N90: hosszú | AA90: 150 | AB90: 150 | AC90: 150
B92: Gép, berendezés
B94: Irányítástechnika, energiaellátás
B96: VÍZTÁROLÓK
B97: Épület, építmény
A98: 82 | C98: Zalaegerszeg Jánkahegyi víztároló | D98: építészeti rekonstrukció | E98: Az épület/építmény minősége és állaga leromlott. | F98: Az épület/építmény feladata a víziközmű létesítmények védelme, vagyon és vízbiztonsági szempontból. Jelenlegi állapotban nem biztosítja a fenti funkciókat. A víztároló létesítmények nem megfelelő állapota. | G98: Az épület/építmény megfelelő műszaki állapota révén ellátja a vagyon- és vízbiztonsági feladatait. | I98: Zalaegerszeg tulajdonosközösség | J98: =SUM(O98:AC98) -> 150 | L98: 46388 | M98: 46752 | N98: hosszú | Y98: 150
B100: Gép, berendezés
A101: 25 | C101: Zalaegerszeg Keleti előtároló | D101: gépészeti rekonstrukció | E101: A technológia, szerelvények és vezetékek, műszaki állapota miatt fennáll a meghibásodás veszélye. | F101: A víztárolás gépészeti berendezései nem töltik be funkciójukat (nyitás-zárás). Az avultsági szint miatt fennáll a meghibásodás veszélye. | G101: Megfelelő hatékonyságú technológia. A gépészeti funkciókat kifogástalanul ellátó szerelvények. | I101: Zalaegerszeg tulajdonosközösség | J101: =SUM(O101:AC101) -> 45 | L101: 43191 | M101: 43465 | N101: közép | P101: 45
A102: 42 | C102: Zalaegerszeg Jánkahegyi víztároló | D102: gépészeti rekonstrukció | E102: A technológia, szerelvények és vezetékek, műszaki állapota miatt fennáll a meghibásodás veszélye. | F102: A víztárolás gépészeti berendezései nem töltik be funkciójukat (nyitás-zárás). Az avultsági szint miatt fennáll a meghibásodás veszélye. | G102: Megfelelő hatékonyságú technológia. A gépészeti funkciókat kifogástalanul ellátó szerelvények. | I102: Zalaegerszeg tulajdonosközösség | J102: =SUM(O102:AC102) -> 45 | L102: 43466 | M102: 43830 | N102: közép | Q102: 45
B104: Irányítástechnika, energiaellátás
B106: NYOMÁSFOKOZÓK
B107: Épület, építmény
A108: 27 | C108: Zalaegerszeg II. átemelő | D108: szigetelés felújítás | E108: Az épület/építmény minősége és állaga leromlott. | F108: Az épület/építmény feladata a víziközmű létesítmények védelme, vagyon és vízbiztonsági szempontból. Jelenlegi állapotban nem biztosítja a fenti funkciókat. A víztároló létesítmények nem megfelelő állapota. | G108: Az épület/építmény megfelelő műszaki állapota révén ellátja a vagyon- és vízbiztonsági feladatait. | I108: Zalaegerszeg tulajdonosközösség | J108: =SUM(O108:AC108) -> 21 | L108: 43101 | M108: 43465 | N108: közép | P108: 21
B110: Gép, berendezés
A111: 50 | C111: Zalaegerszeg Keleti átemelő | D111: Szivattyú csere (EMU 980-2, Worthington 2 db), teljes gépészeti rekonstrukció | E111: A szivattyú kora, műszaki állapota miatt fennáll a meghibásodás veszélye. Feladat szükségessége | F111: A folyamatos víztermelés biztosítása. | G111: A Q–H diagramhoz illeszkedő energiahatékony szivattyú üzemeltetése. | I111: Zalaegerszeg tulajdonosközösség | J111: =SUM(O111:AC111) -> 75 | L111: 44562 | M111: 44926 | N111: hosszú | T111: 75
A112: 77 | C112: Nagykutasi átemelő | D112: Szivattyú csere (EMU K64-6 2 db), teljes gépészeti rekonstrukció | E112: A szivattyú kora, műszaki állapota miatt fennáll a meghibásodás veszélye. Feladat szükségessége | F112: A folyamatos víztermelés biztosítása. | G112: A Q–H diagramhoz illeszkedő energiahatékony szivattyú üzemeltetése. | I112: Zalaegerszeg tulajdonosközösség | J112: =SUM(O112:AC112) -> 9 | L112: 46023 | M112: 46387 | N112: hosszú | X112: 9
A113: 84 | C113: Teskánd Babosdöbrétei átemelő | D113: Szivattyú csere (EMU K64-10 2 db), teljes gépészeti rekonstrukció | E113: A szivattyú kora, műszaki állapota miatt fennáll a meghibásodás veszélye. Feladat szükségessége | F113: A folyamatos víztermelés biztosítása. | G113: A Q–H diagramhoz illeszkedő energiahatékony szivattyú üzemeltetése. | I113: Zalaegerszeg tulajdonosközösség | J113: =SUM(O113:AC113) -> 9 | L113: 46753 | M113: 47118 | N113: hosszú | Z113: 9
B115: Irányítástechnika, energiaellátás
A116: 78 | C116: Nagykutas átemelő | D116: elektromos és irányítástechnikai szekrény csere | E116: Az elektromos, irányítástechnikai szerelvények és vezetékek, műszaki állapota miatt fennáll a meghibásodás veszélye. | F116: A szivattyú elektromos megtáplálása, a folyamatos távfelügyelet biztosítása. | G116: A szivattyú elektromos paramétereihez illeszkedő erősáramú és vezérlőszekrény. | I116: Zalaegerszeg tulajdonosközösség | J116: =SUM(O116:AC116) -> 9 | L116: 46113 | M116: 46387 | N116: hosszú | X116: 9
B118: Összesen: | J118: =SUM(J78:J117) -> 5148 | K118: 410 | O118: =SUM(O12:O117) -> 409.5 | P118: =SUM(P12:P117) -> 409.5 | Q118: =SUM(Q12:Q117) -> 409.5 | R118: =SUM(R12:R117) -> 409.5 | S118: =SUM(S12:S117) -> 409.5 | T118: =SUM(T12:T117) -> 409.5 | U118: =SUM(U12:U117) -> 409.5 | V118: =SUM(V12:V117) -> 409.5 | ... AC118: =SUM(AC12:AC117) -> 409.5
K119: 2017 évre a fejlesztési forrás biztosított
B121: Rendelkezésre álló források megnevezése | C121: Rendelkezésre álló források számszerűsített értéke a teljes ütem tekintetében (eFt)
...

Sheet Csatár
A1: Gördülő fejlesztési terv a 2017 - 2031 időszakra
A2: FELÚJÍTÁSOK ÉS PÓTLÁSOK ÖSSZEFOGLALÓ TÁBLÁZATA
A3: A tervet benyújtó szervezet megnevezése: | K3: CSATÁR | R3: ellátásért felelős / ellátásért felelősök képviselője / víziközmű-szolgáltató *
A4: Víziközmű-szolgáltató megnevezése: | K4: ÉSZAK ZALAI VÍZ- ÉS CSATORNAMŰ ZÁRTKÖRŰEN MŰKÖDŐ RÉSZVÉNYTÁRSASÁG
A5: Víziközmű-szolgáltatási ágazat megnevezése: | K5: IVÓVÍZ ÁGAZAT
A6: Véleményeltérést megfogalmazó érintett fél megnevezése:
A7: Víziközmű-rendszer kódja: ** | K7: 11-32054-1-010-00-14 | R7: CSATÁR-IV
A8: I. Felszín alatti vízkivétel
A9: Fontossági sorrend | B9: Felujítás és pótlás megnevezése | E9: Műszaki állapot felmérés, szükségességi indoklás | H9: Vízjogi létesítési/elvi engedély száma | I9: Az érintett ellátásért felelős(ök) megnevezése | J9: Tervezett nettó költség | K9: Forrás 2017 évre | L9: Megvalósítás időtartama | N9: Tervezett időtáv | O9: A beruházás ütemezése a tervezési időszak évei szerint
E10: Jelenlegi műszaki állapot | F10: Feladat szükségessége | G10: Megvalósítást követő várható műszaki állapot | J10: (eFt) | L10: Kezdés | M10: Befejezés | N10: (rövid / közép / hosszú) | O10: 1 | P10: 2 | Q10: 3 | R10: 4 | S10: 5 | T10: 6 | U10: 7 | V10: 8 | W10: 9 | X10: 10 | Y10: 11 | Z10: 12 | AA10: 13 | AB10: 14 | AC10: 15
B11: szakág | C11: Helyszín | D11: beruházás megnevezése
A12: 1 | D12: Rendkívüli helyzetből adódó azonnali feladatok (max. 5%) | F12: működőképeség biztosítása | I12: Csatár | J12: =SUM(O12:AC12) -> 807 | L12: 42736 | M12: 48213 | O12: =0.05*$K$118 -> 53.8 | P12: =0.05*$K$118 -> 53.8 | Q12: =0.05*$K$118 -> 53.8 | R12: =0.05*$K$118 -> 53.8 | S12: =0.05*$K$118 -> 53.8 | T12: =0.05*$K$118 -> 53.8 | U12: =0.05*$K$118 -> 53.8 | V12: =0.05*$K$118 -> 53.8 | ... AC12: =0.05*$K$118 -> 53.8
B13: MÉLYFÚRÁSÚ KÚT, HAGYOMÁNYOS ÁTMÉRŐVEL
B14: Épület, építmény
A15: 48 | C15: Zalaegerszeg … kút | D15: kútfelújítás | E15: Az objektum kora, műszaki állapota miatt fennáll a meghibásodás veszélye. Feladat szükségessége | F15: A felhasználók folyamatos vízellátásának biztosítására | G15: Az elvárt vízigényeket kielégítő megfelelő műszaki állapotú vízbázis. | I15: Zalaegerszeg tulajdonosközösség | J15: =SUM(O15:AC15) -> 36 | L15: 44562 | M15: 44926 | N15: hosszú | T15: 36
A16: 79 | C16: Zalaegerszeg … kút | D16: kútfelújítás | E16: Az objektum kora, műszaki állapota miatt fennáll a meghibásodás veszélye. Feladat szükségessége | F16: A felhasználók folyamatos vízellátásának biztosítására | G16: Az elvárt vízigényeket kielégítő megfelelő műszaki állapotú vízbázis. | I16: Zalaegerszeg tulajdonosközösség | J16: =SUM(O16:AC16) -> 36 | L16: 46388 | M16: 46752 | N16: hosszú | Y16: 36
B18: Gép, berendezés
A19: 66 | C19: Zalaegerszeg … kút | D19: Szivattyú csere 2 db | E19: A szivattyú kora, műszaki állapota miatt fennáll a meghibásodás veszélye. | F19: A folyamatos víztermelés biztosítása. | G19: A Q–H diagramhoz illeszkedő energiahatékony szivattyú üzemeltetése. | I19: Zalaegerszeg tulajdonosközösség | J19: =SUM(O19:AC19) -> 4 | L19: 44927 | M19: 45291 | N19: hosszú | U19: 4
C20: Zalaegerszeg … kút | D20: Gépészeti felújítás 2 db | E20: A szerelvények és vezetékek, műszaki állapota miatt fennáll a meghibásodás veszélye. | F20: A folyamatos víztermelés biztosítása. | G20: A gépészeti funkciókat kifogástalanul ellátó szerelvények. | I20: Zalaegerszeg tulajdonosközösség | J20: =SUM(O20:AC20) -> 12 | L20: 44927 | M20: 45291 | N20: hosszú | U20: 12
A21: 70 | C21: Zalaegerszeg … kút | D21: Szivattyú csere 2 db | E21: A szivattyú kora, műszaki állapota miatt fennáll a meghibásodás veszélye. | F21: A folyamatos víztermelés biztosítása. | G21: A Q–H diagramhoz illeszkedő energiahatékony szivattyú üzemeltetése. | I21: Zalaegerszeg tulajdonosközösség | J21: =SUM(O21:AC21) -> 4 | L21: 45292 | M21: 45657 | N21: hosszú | V21: 4
C22: Zalaegerszeg … kút | D22: Gépészeti felújítás 2 db | E22: A szerelvények és vezetékek, műszaki állapota miatt fennáll a meghibásodás veszélye. | F22: A folyamatos víztermelés biztosítása. | G22: A gépészeti funkciókat kifogástalanul ellátó szerelvények. | I22: Zalaegerszeg tulajdonosközösség | J22: =SUM(O22:AC22) -> 12 | L22: 45292 | M22: 45657 | N22: hosszú | V22: 12
A23: 72 | C23: Zalaegerszeg … kút | D23: Szivattyú csere 2 db | E23: A szivattyú kora, műszaki állapota miatt fennáll a meghibásodás veszélye. | F23: A folyamatos víztermelés biztosítása. | G23: A Q–H diagramhoz illeszkedő energiahatékony szivattyú üzemeltetése. | I23: Zalaegerszeg tulajdonosközösség | J23: =SUM(O23:AC23) -> 4 | L23: 45658 | M23: 46022 | N23: hosszú | W23: 4
C24: Zalaegerszeg … kút | D24: Gépészeti felújítás 2 db | E24: A szerelvények és vezetékek, műszaki állapota miatt fennáll a meghibásodás veszélye. | F24: A folyamatos víztermelés biztosítása. | G24: A gépészeti funkciókat kifogástalanul ellátó szerelvények. | I24: Zalaegerszeg tulajdonosközösség | J24: =SUM(O24:AC24) -> 12 | L24: 45658 | M24: 46022 | N24: hosszú | W24: 12
A25: 75 | C25: Zalaegerszeg … kút | D25: Szivattyú csere 2 db | E25: A szivattyú kora, műszaki állapota miatt fennáll a meghibásodás veszélye. | F25: A folyamatos víztermelés biztosítása. | G25: A Q–H diagramhoz illeszkedő energiahatékony szivattyú üzemeltetése. | I25: Zalaegerszeg tulajdonosközösség | J25: =SUM(O25:AC25) -> 4 | L25: 46023 | M25: 46387 | N25: hosszú | X25: 4
C26: Zalaegerszeg … kút | D26: Gépészeti felújítás 2 db | E26: A szerelvények és vezetékek, műszaki állapota miatt fennáll a meghibásodás veszélye. | F26: A folyamatos víztermelés biztosítása. | G26: A gépészeti funkciókat kifogástalanul ellátó szerelvények. | I26: Zalaegerszeg tulajdonosközösség | J26: =SUM(O26:AC26) -> 12 | L26: 46023 | M26: 46387 | N26: hosszú | X26: 12
A27: 80 | C27: Zalaegerszeg … kút | D27: Szivattyú csere 2 db | E27: A szivattyú kora, műszaki állapota miatt fennáll a meghibásodás veszélye. | F27: A folyamatos víztermelés biztosítása. | G27: A Q–H diagramhoz illeszkedő energiahatékony szivattyú üzemeltetése. | I27: Zalaegerszeg tulajdonosközösség | J27: =SUM(O27:AC27) -> 4 | L27: 46388 | M27: 46752 | N27: hosszú | Y27: 4
C28: Zalaegerszeg … kút | D28: Gépészeti felújítás 2 db | E28: A szerelvények és vezetékek, műszaki állapota miatt fennáll a meghibásodás veszélye. | F28: A folyamatos víztermelés biztosítása. | G28: A gépészeti funkciókat kifogástalanul ellátó szerelvények. | I28: Zalaegerszeg tulajdonosközösség | J28: =SUM(O28:AC28) -> 12 | L28: 46388 | M28: 46752 | N28: hosszú | Y28: 12
A29: 85 | C29: Zalaegerszeg … kút | D29: Szivattyú csere 2 db | E29: A szivattyú kora, műszaki állapota miatt fennáll a meghibásodás veszélye. | F29: A folyamatos víztermelés biztosítása. | G29: A Q–H diagramhoz illeszkedő energiahatékony szivattyú üzemeltetése. | I29: Zalaegerszeg tulajdonosközösség | J29: =SUM(O29:AC29) -> 4 | L29: 46753 | M29: 47118 | N29: hosszú | Z29: 4
C30: Zalaegerszeg … kút | D30: Gépészeti felújítás 2 db | E30: A szerelvények és vezetékek, műszaki állapota miatt fennáll a meghibásodás veszélye. | F30: A folyamatos víztermelés biztosítása. | G30: A gépészeti funkciókat kifogástalanul ellátó szerelvények. | I30: Zalaegerszeg tulajdonosközösség | J30: =SUM(O30:AC30) -> 12 | L30: 46753 | M30: 47118 | N30: hosszú | Z30: 12
A31: 88 | C31: Zalaegerszeg … kút | D31: Szivattyú csere 2 db | E31: A szivattyú kora, műszaki állapota miatt fennáll a meghibásodás veszélye. | F31: A folyamatos víztermelés biztosítása. | G31: A Q–H diagramhoz illeszkedő energiahatékony szivattyú üzemeltetése. | I31: Zalaegerszeg tulajdonosközösség | J31: =SUM(O31:AC31) -> 4 | L31: 47119 | M31: 47483 | N31: hosszú | AA31: 4
C32: Zalaegerszeg … kút | D32: Gépészeti felújítás 2 db | E32: A szerelvények és vezetékek, műszaki állapota miatt fennáll a meghibásodás veszélye. | F32: A folyamatos víztermelés biztosítása. | G32: A gépészeti funkciókat kifogástalanul ellátó szerelvények. | I32: Zalaegerszeg tulajdonosközösség | J32: =SUM(O32:AC32) -> 12 | L32: 47119 | M32: 47483 | N32: hosszú | AA32: 12
A33: 90 | C33: Zalaegerszeg … kút | D33: Szivattyú csere 2 db | E33: A szivattyú kora, műszaki állapota miatt fennáll a meghibásodás veszélye. | F33: A folyamatos víztermelés biztosítása. | G33: A Q–H diagramhoz illeszkedő energiahatékony szivattyú üzemeltetése. | I33: Zalaegerszeg tulajdonosközösség | J33: =SUM(O33:AC33) -> 4 | L33: 47484 | M33: 47848 | N33: hosszú | AB33: 4
C34: Zalaegerszeg … kút | D34: Gépészeti felújítás 2 db | E34: A szerelvények és vezetékek, műszaki állapota miatt fennáll a meghibásodás veszélye. | F34: A folyamatos víztermelés biztosítása. | G34: A gépészeti funkciókat kifogástalanul ellátó szerelvények. | I34: Zalaegerszeg tulajdonosközösség | J34: =SUM(O34:AC34) -> 12 | L34: 47484 | M34: 47848 | N34: hosszú | AB34: 12
A35: 92 | C35: Zalaegerszeg … kút | D35: Szivattyú csere 2 db | E35: A szivattyú kora, műszaki állapota miatt fennáll a meghibásodás veszélye. | F35: A folyamatos víztermelés biztosítása. | G35: A Q–H diagramhoz illeszkedő energiahatékony szivattyú üzemeltetése. | I35: Zalaegerszeg tulajdonosközösség | J35: =SUM(O35:AC35) -> 4 | L35: 47849 | M35: 48213 | N35: hosszú | AC35: 4
C36: Zalaegerszeg … kút | D36: Gépészeti felújítás 2 db | E36: A szerelvények és vezetékek, műszaki állapota miatt fennáll a meghibásodás veszélye. | F36: A folyamatos víztermelés biztosítása. | G36: A gépészeti funkciókat kifogástalanul ellátó szerelvények. | I36: Zalaegerszeg tulajdonosközösség | J36: =SUM(O36:AC36) -> 12 | L36: 47849 | M36: 48213 | N36: hosszú | AC36: 12
B38: Irányítástechnika, energiaellátás
A39: 7 | C39: Zalaegerszeg D1 - D3 kút | D39: 20 kV hálózat felújítása, oszlopszigetelő és távtartó csere, túláramvédelem felújítás | E39: Az elektromos, irányítástechnikai szerelvények és vezetékek, műszaki állapota miatt fennáll a meghibásodás veszélye. | F39: A búvárszivattyú elektromos megtáplálása, a folyamatos távfelügyelet biztosítása. | G39: A búvárszivattyú elektromos paramétereihez illeszkedő erősáramú és vezérlőszekrény. | I39: Zalaegerszeg tulajdonosközösség | J39: =SUM(O39:AC39) -> 9 | L39: 42736 | M39: 43100 | N39: rövid | O39: 9
A40: 11 | C40: Zalaegerszeg 11 - 15 kútcsoport | D40: 20 kV hálózat felújítás, oszloptranszformátor alatti erősáramú szekrény csere | E40: Az elektromos, irányítástechnikai szerelvények és vezetékek, műszaki állapota miatt fennáll a meghibásodás veszélye. | F40: A búvárszivattyú elektromos megtáplálása, a folyamatos távfelügyelet biztosítása. | G40: A búvárszivattyú elektromos paramétereihez illeszkedő erősáramú és vezérlőszekrény. | I40: Zalaegerszeg tulajdonosközösség | J40: =SUM(O40:AC40) -> 15 | L40: 42736 | M40: 43100 | N40: rövid | O40: 15
A41: 26 | C41: Zalaegerszeg Keleti kútcsoport | D41: GPRS kommunikációra történő átállás | E41: Az elektromos, irányítástechnikai szerelvények és vezetékek, műszaki állapota miatt fennáll a meghibásodás veszélye. | F41: A búvárszivattyú elektromos megtáplálása, a folyamatos távfelügyelet biztosítása. | G41: A búvárszivattyú elektromos paramétereihez illeszkedő erősáramú és vezérlőszekrény. | I41: Zalaegerszeg tulajdonosközösség | J41: =SUM(O41:AC41) -> 36 | L41: 43101 | M41: 43465 | N41: közép | P41: 36
A42: 67 | C42: Zalaegerszeg … kút | D42: elektromos és iráűnyítástechnikai szekrény csere (2 db) | E42: Az elektromos, irányítástechnikai szerelvények és vezetékek, műszaki állapota miatt fennáll a meghibásodás veszélye. | F42: A búvárszivattyú elektromos megtáplálása, a folyamatos távfelügyelet biztosítása. | G42: A búvárszivattyú elektromos paramétereihez illeszkedő erősáramú és vezérlőszekrény. | I42: Zalaegerszeg tulajdonosközösség | J42: =SUM(O42:AC42) -> 36 | L42: 44927 | M42: 45291 | N42: hosszú | U42: 36
A43: 71 | C43: Zalaegerszeg … kút | D43: elektromos és iráűnyítástechnikai szekrény csere (2 db) | E43: Az elektromos, irányítástechnikai szerelvények és vezetékek, műszaki állapota miatt fennáll a meghibásodás veszélye. | F43: A búvárszivattyú elektromos megtáplálása, a folyamatos távfelügyelet biztosítása. | G43: A búvárszivattyú elektromos paramétereihez illeszkedő erősáramú és vezérlőszekrény. | I43: Zalaegerszeg tulajdonosközösség | J43: =SUM(O43:AC43) -> 36 | L43: 45292 | M43: 45657 | N43: hosszú | V43: 36
A44: 73 | C44: Zalaegerszeg … kút | D44: elektromos és iráűnyítástechnikai szekrény csere (2 db) | E44: Az elektromos, irányítástechnikai szerelvények és vezetékek, műszaki állapota miatt fennáll a meghibásodás veszélye. | F44: A búvárszivattyú elektromos megtáplálása, a folyamatos távfelügyelet biztosítása. | G44: A búvárszivattyú elektromos paramétereihez illeszkedő erősáramú és vezérlőszekrény. | I44: Zalaegerszeg tulajdonosközösség | J44: =SUM(O44:AC44) -> 36 | L44: 45658 | M44: 46022 | N44: hosszú | W44: 36
A45: 76 | C45: Zalaegerszeg … kút | D45: elektromos és iráűnyítástechnikai szekrény csere (2 db) | E45: Az elektromos, irányítástechnikai szerelvények és vezetékek, műszaki állapota miatt fennáll a meghibásodás veszélye. | F45: A búvárszivattyú elektromos megtáplálása, a folyamatos távfelügyelet biztosítása. | G45: A búvárszivattyú elektromos paramétereihez illeszkedő erősáramú és vezérlőszekrény. | I45: Zalaegerszeg tulajdonosközösség | J45: =SUM(O45:AC45) -> 36 | L45: 46023 | M45: 46387 | N45: hosszú | X45: 36
A46: 81 | C46: Zalaegerszeg … kút | D46: elektromos és iráűnyítástechnikai szekrény csere (2 db) | E46: Az elektromos, irányítástechnikai szerelvények és vezetékek, műszaki állapota miatt fennáll a meghibásodás veszélye. | F46: A búvárszivattyú elektromos megtáplálása, a folyamatos távfelügyelet biztosítása. | G46: A búvárszivattyú elektromos paramétereihez illeszkedő erősáramú és vezérlőszekrény. | I46: Zalaegerszeg tulajdonosközösség | J46: =SUM(O46:AC46) -> 36 | L46: 46388 | M46: 46752 | N46: hosszú | Y46: 36
A47: 86 | C47: Zalaegerszeg … kút | D47: elektromos és iráűnyítástechnikai szekrény csere (2 db) | E47: Az elektromos, irányítástechnikai szerelvények és vezetékek, műszaki állapota miatt fennáll a meghibásodás veszélye. | F47: A búvárszivattyú elektromos megtáplálása, a folyamatos távfelügyelet biztosítása. | G47: A búvárszivattyú elektromos paramétereihez illeszkedő erősáramú és vezérlőszekrény. | I47: Zalaegerszeg tulajdonosközösség | J47: =SUM(O47:AC47) -> 36 | L47: 46753 | M47: 47118 | N47: hosszú | Z47: 36
A48: 89 | C48: Zalaegerszeg … kút | D48: elektromos és iráűnyítástechnikai szekrény csere (2 db) | E48: Az elektromos, irányítástechnikai szerelvények és vezetékek, műszaki állapota miatt fennáll a meghibásodás veszélye. | F48: A búvárszivattyú elektromos megtáplálása, a folyamatos távfelügyelet biztosítása. | G48: A búvárszivattyú elektromos paramétereihez illeszkedő erősáramú és vezérlőszekrény. | I48: Zalaegerszeg tulajdonosközösség | J48: =SUM(O48:AC48) -> 36 | L48: 47119 | M48: 47483 | N48: hosszú | AA48: 36
A49: 91 | C49: Zalaegerszeg … kút | D49: elektromos és iráűnyítástechnikai szekrény csere (2 db) | E49: Az elektromos, irányítástechnikai szerelvények és vezetékek, műszaki állapota miatt fennáll a meghibásodás veszélye. | F49: A búvárszivattyú elektromos megtáplálása, a folyamatos távfelügyelet biztosítása. | G49: A búvárszivattyú elektromos paramétereihez illeszkedő erősáramú és vezérlőszekrény. | I49: Zalaegerszeg tulajdonosközösség | J49: =SUM(O49:AC49) -> 36 | L49: 47484 | M49: 47848 | N49: hosszú | AB49: 36
A50: 93 | C50: Zalaegerszeg … kút | D50: elektromos és iráűnyítástechnikai szekrény csere (2 db) | E50: Az elektromos, irányítástechnikai szerelvények és vezetékek, műszaki állapota miatt fennáll a meghibásodás veszélye. | F50: A búvárszivattyú elektromos megtáplálása, a folyamatos távfelügyelet biztosítása. | G50: A búvárszivattyú elektromos paramétereihez illeszkedő erősáramú és vezérlőszekrény. | I50: Zalaegerszeg tulajdonosközösség | J50: =SUM(O50:AC50) -> 36 | L50: 47849 | M50: 48213 | N50: hosszú | AC50: 36
B52: Összesen: | J52: =SUM(J12:J39) -> 1032
A54: III. Vízműtelep és vízkezelő létesítmények
C55: Helyszín | D55: beruházás megnevezése
B56: VÍZMŰTELEP
B57: Épület, építmény
B59: Gép, berendezés
B61: Irányítástechnika, energiaellátás
A62: 40 | C62: Zalaegerszeg Keleti vízműtelep | D62: PLC - PLC közti kommunikáció felújítása | E62: Az elektromos, irányítástechnikai szerelvények és vezetékek, műszaki állapota miatt fennáll a meghibásodás veszélye | F62: A vízműtelep elektromos megtáplálása, a folyamatos távfelügyelet biztosítása. | G62: Az elektromos paramétereihez illeszkedő erős- és gyengeáramú vezérlőszekrény. | I62: Zalaegerszeg tulajdonosközösség | J62: =SUM(O62:AC62) -> 6 | L62: 43556 | M62: 43830 | N62: közép | Q62: 6
A63: 45 | C63: Zalaegerszeg Keleti vízműtelep | D63: URH alnokok megszűntetése | E63: Az elektromos, irányítástechnikai szerelvények és vezetékek, műszaki állapota miatt fennáll a meghibásodás veszélye | F63: A vízműtelep elektromos megtáplálása, a folyamatos távfelügyelet biztosítása. | G63: Az elektromos paramétereihez illeszkedő erős- és gyengeáramú vezérlőszekrény. | I63: Zalaegerszeg tulajdonosközösség | J63: =SUM(O63:AC63) -> 41 | L63: 43922 | M63: 44196 | N63: közép | R63: 41
A64: 46 | C64: Zalaegerszeg Nyugati vízműtelep | D64: 20 KV-os főelosztó felújítása, feszültségváltó, megszakító csere mindkét betáp oldalon | E64: Az elektromos, irányítástechnikai szerelvények és vezetékek, műszaki állapota miatt fennáll a meghibásodás veszélye | F64: A vízműtelep elektromos megtáplálása, a folyamatos távfelügyelet biztosítása. | G64: Az elektromos paramétereihez illeszkedő erős- és gyengeáramú vezérlőszekrény. | I64: Zalaegerszeg tulajdonosközösség | J64: =SUM(O64:AC64) -> 126 | L64: 43922 | M64: 44196 | N64: közép | R64: 126
B66: VÍZKEZELŐ LÉTESÍTMÉNYEK
B67: Épület, építmény
B69: Gép, berendezés
A70: 69 | C70: Zalaegerszeg Keleti vastalanító | D70: gépszeti rekonstrukció | E70: A technológia, szerelvények és vezetékek, műszaki állapota miatt fennáll a meghibásodás veszélye. | F70: A tisztítás technológia jelenlegi műszaki állapota miatt nem képes az elvárt paramétereket biztosítani. Az avultsági szint miatt fennáll a meghibásodás veszélye. | G70: Megfelelő hatékonyságú technológia. A gépészeti funkciókat kifogástalanul ellátó szerelvények. | I70: Zalaegerszeg tulajdonosközösség | J70: =SUM(O70:AC70) -> 600 | L70: 45383 | M70: 46022 | N70: hosszú | V70: 300 | W70: 300
B72: Irányítástechnika, energiaellátás
B74: Összesen | J74: =SUM(J56:J73) -> 773
A76: IV. Vízelosztás
C77: Helyszín | D77: beruházás megnevezése
B78: IVÓVÍZHÁLÓZAT
B79: Épület, építmény
A80: 6 | C80: Zalaegerszeg Vizslapark | D80: gerincvezeték csere | E80: A vezeték állapota anyaga, kora, minősége miatt nem megfelelő, elavult. | F80: A vezeték elavult műszaki állapota miatt gyakoriak a csőtörések. | G80: A vízvezeték kiváltás a vízigények figyelembevételével megfelelő átmérőjű és anyagú hálózatot kapunk. | I80: Zalaegerszeg tulajdonközösség | J80: =SUM(O80:AC80) -> 210 | L80: 42795 | M80: 42825 | N80: rövid | O80: 210
A81: 15 | C81: Csatár | D81: tartalékkeret képzése rekonstrukcióhoz | E81: A vezeték állapota anyaga, kora, minősége miatt nem megfelelő, elavult. | F81: A vezeték elavult műszaki állapota miatt gyakoriak a csőtörések. | G81: A vízvezeték kiváltás a vízigények figyelembevételével megfelelő átmérőjű és anyagú hálózatot kapunk. | I81: Csatár | J81: =SUM(O81:AC81) -> 788 | L81: 42826 | M81: 43100 | N81: rövid | O81: 788
A82: 33 | C82: Csatár | D82: tartalékkeret képzése rekonstrukcióhoz | E82: A vezeték állapota anyaga, kora, minősége miatt nem megfelelő, elavult. | F82: A vezeték elavult műszaki állapota miatt gyakoriak a csőtörések. | G82: A vízvezeték kiváltás a vízigények figyelembevételével megfelelő átmérőjű és anyagú hálózatot kapunk. | I82: Csatár | J82: =SUM(O82:AC82) -> 3471 | L82: 43191 | M82: 44561 | N82: közép | P82: 854 | Q82: 866 | R82: 855 | S82: 896
A83: 41 | C83: Zalaegerszeg 74 - 76. út | D83: csomópont rekonstrukció | E83: A vezeték állapota anyaga, kora, minősége miatt nem megfelelő, elavult. | F83: A vezeték elavult műszaki állapota miatt gyakoriak a csőtörések. | G83: A vízvezeték kiváltás a vízigények figyelembevételével megfelelő átmérőjű és anyagú hálózatot kapunk. | I83: Zalaegerszeg tulajdonközösség | J83: =SUM(O83:AC83) -> 60 | L83: 43556 | M83: 43585 | N83: közép | Q83: 60
A84: 47 | C84: Zalaegerszeg Juhász Gy. - Zrínyi út között | D84: gerincvezeték csere (D315 400 fm) | E84: A vezeték állapota anyaga, kora, minősége miatt nem megfelelő, elavult. | F84: A vezeték elavult műszaki állapota miatt gyakoriak a csőtörések. | G84: A vízvezeték kiváltás a vízigények figyelembevételével megfelelő átmérőjű és anyagú hálózatot kapunk. | I84: Zalaegerszeg tulajdonközösség | J84: =SUM(O84:AC84) -> 126 | L84: 44287 | M84: 44316 | N84: közép | S84: 126
A85: 49 | C85: Zalaegerszeg Dózsa iskola régi szennyvíztelep között | D85: gerincvezeték csere (D355 520 fm) | E85: A vezeték állapota anyaga, kora, minősége miatt nem megfelelő, elavult. | F85: A vezeték elavult műszaki állapota miatt gyakoriak a csőtörések. | G85: A vízvezeték kiváltás a vízigények figyelembevételével megfelelő átmérőjű és anyagú hálózatot kapunk. | I85: Zalaegerszeg tulajdonközösség | J85: =SUM(O85:AC85) -> 132 | L85: 44652 | M85: 44926 | N85: hosszú | T85: 132
A86: 54 | C86: Csatár | D86: tartalékkeret képzése rekonstrukcióhoz | E86: A vezeték állapota anyaga, kora, minősége miatt nem megfelelő, elavult. | F86: A vezeték elavult műszaki állapota miatt gyakoriak a csőtörések. | G86: A vízvezeték kiváltás a vízigények figyelembevételével megfelelő átmérőjű és anyagú hálózatot kapunk. | I86: Csatár | J86: =SUM(O86:AC86) -> 6824 | L86: 44652 | M86: 48213 | N86: hosszú | T86: 704 | U86: 652 | V86: 670 | W86: 670 | X86: 682 | Y86: 634 | Z86: 802 | AA86: 670 | AB86: 670 | AC86: 670
A87: 68 | C87: Bocfölde tároló töltő vezeték | D87: gerincvezeték csere (D250 1600 fm) I. ütem | E87: A vezeték állapota anyaga, kora, minősége miatt nem megfelelő, elavult. | F87: A vezeték elavult műszaki állapota miatt gyakoriak a csőtörések. | G87: A vízvezeték kiváltás a vízigények figyelembevételével megfelelő átmérőjű és anyagú hálózatot kapunk. | I87: Zalaegerszeg tulajdonközösség | J87: =SUM(O87:AC87) -> 318 | L87: 45017 | M87: 45046 | N87: hosszú | U87: 318
A88: 74 | C88: Zalaegerszeg Keleti átemelő | D88: kimenő ág csere | E88: A vezeték állapota anyaga, kora, minősége miatt nem megfelelő, elavult. | F88: A vezeték elavult műszaki állapota miatt gyakoriak a csőtörések. | G88: A vízvezeték kiváltás a vízigények figyelembevételével megfelelő átmérőjű és anyagú hálózatot kapunk. | I88: Zalaegerszeg tulajdonközösség | J88: =SUM(O88:AC88) -> 252 | L88: 46113 | M88: 46142 | N88: hosszú | X88: 252
A89: 83 | C89: Zalaegerszeg Bíró M. út (Berzsenyi - Petőfi u. között) | D89: gerincvezeték csere (D355 330 fm)) | E89: A vezeték állapota anyaga, kora, minősége miatt nem megfelelő, elavult. | F89: A vezeték elavult műszaki állapota miatt gyakoriak a csőtörések. | G89: A vízvezeték kiváltás a vízigények figyelembevételével megfelelő átmérőjű és anyagú hálózatot kapunk. | I89: Zalaegerszeg tulajdonközösség | J89: =SUM(O89:AC89) -> 150 | L89: 46844 | M89: 46873 | N89: hosszú | Z89: 150
A90: 87 | C90: Zalaegerszeg | D90: gerincvezeték csere | E90: A vezeték állapota anyaga, kora, minősége miatt nem megfelelő, elavult. | F90: A vezeték elavult műszaki állapota miatt gyakoriak a csőtörések. | G90: A vízvezeték kiváltás a vízigények figyelembevételével megfelelő átmérőjű és anyagú hálózatot kapunk. | I90: Zalaegerszeg tulajdonközösség | J90: =SUM(O90:AC90) -> 900 | L90: 47209 | M90: 47968 | N90: hosszú | AA90: 300 | AB90: 300 | AC90: 300
B92: Gép, berendezés
B94: Irányítástechnika, energiaellátás
B96: VÍZTÁROLÓK
B97: Épület, építmény
A98: 82 | C98: Zalaegerszeg Jánkahegyi víztároló | D98: építészeti rekonstrukció | E98: Az épület/építmény minősége és állaga leromlott. | F98: Az épület/építmény feladata a víziközmű létesítmények védelme, vagyon és vízbiztonsági szempontból. Jelenlegi állapotban nem biztosítja a fenti funkciókat. A víztároló létesítmények nem megfelelő állapota. | G98: Az épület/építmény megfelelő műszaki állapota révén ellátja a vagyon- és vízbiztonsági feladatait. | I98: Zalaegerszeg tulajdonosközösség | J98: =SUM(O98:AC98) -> 300 | L98: 46388 | M98: 46752 | N98: hosszú | Y98: 300
B100: Gép, berendezés
A101: 25 | C101: Zalaegerszeg Keleti előtároló | D101: gépészeti rekonstrukció | E101: A technológia, szerelvények és vezetékek, műszaki állapota miatt fennáll a meghibásodás veszélye. | F101: A víztárolás gépészeti berendezései nem töltik be funkciójukat (nyitás-zárás). Az avultsági szint miatt fennáll a meghibásodás veszélye. | G101: Megfelelő hatékonyságú technológia. A gépészeti funkciókat kifogástalanul ellátó szerelvények. | I101: Zalaegerszeg tulajdonosközösség | J101: =SUM(O101:AC101) -> 90 | L101: 43191 | M101: 43465 | N101: közép | P101: 90
A102: 42 | C102: Zalaegerszeg Jánkahegyi víztároló | D102: gépészeti rekonstrukció | E102: A technológia, szerelvények és vezetékek, műszaki állapota miatt fennáll a meghibásodás veszélye. | F102: A víztárolás gépészeti berendezései nem töltik be funkciójukat (nyitás-zárás). Az avultsági szint miatt fennáll a meghibásodás veszélye. | G102: Megfelelő hatékonyságú technológia. A gépészeti funkciókat kifogástalanul ellátó szerelvények. | I102: Zalaegerszeg tulajdonosközösség | J102: =SUM(O102:AC102) -> 90 | L102: 43466 | M102: 43830 | N102: közép | Q102: 90
B104: Irányítástechnika, energiaellátás
B106: NYOMÁSFOKOZÓK
B107: Épület, építmény
A108: 27 | C108: Zalaegerszeg II. átemelő | D108: szigetelés felújítás | E108: Az épület/építmény minősége és állaga leromlott. | F108: Az épület/építmény feladata a víziközmű létesítmények védelme, vagyon és vízbiztonsági szempontból. Jelenlegi állapotban nem biztosítja a fenti funkciókat. A víztároló létesítmények nem megfelelő állapota. | G108: Az épület/építmény megfelelő műszaki állapota révén ellátja a vagyon- és vízbiztonsági feladatait. | I108: Zalaegerszeg tulajdonosközösség | J108: =SUM(O108:AC108) -> 42 | L108: 43101 | M108: 43465 | N108: közép | P108: 42
B110: Gép, berendezés
A111: 50 | C111: Zalaegerszeg Keleti átemelő | D111: Szivattyú csere (EMU 980-2, Worthington 2 db), teljes gépészeti rekonstrukció | E111: A szivattyú kora, műszaki állapota miatt fennáll a meghibásodás veszélye. Feladat szükségessége | F111: A folyamatos víztermelés biztosítása. | G111: A Q–H diagramhoz illeszkedő energiahatékony szivattyú üzemeltetése. | I111: Zalaegerszeg tulajdonosközösség | J111: =SUM(O111:AC111) -> 150 | L111: 44562 | M111: 44926 | N111: hosszú | T111: 150
A112: 77 | C112: Nagykutasi átemelő | D112: Szivattyú csere (EMU K64-6 2 db), teljes gépészeti rekonstrukció | E112: A szivattyú kora, műszaki állapota miatt fennáll a meghibásodás veszélye. Feladat szükségessége | F112: A folyamatos víztermelés biztosítása. | G112: A Q–H diagramhoz illeszkedő energiahatékony szivattyú üzemeltetése. | I112: Zalaegerszeg tulajdonosközösség | J112: =SUM(O112:AC112) -> 18 | L112: 46023 | M112: 46387 | N112: hosszú | X112: 18
A113: 84 | C113: Teskánd Babosdöbrétei átemelő | D113: Szivattyú csere (EMU K64-10 2 db), teljes gépészeti rekonstrukció | E113: A szivattyú kora, műszaki állapota miatt fennáll a meghibásodás veszélye. Feladat szükségessége | F113: A folyamatos víztermelés biztosítása. | G113: A Q–H diagramhoz illeszkedő energiahatékony szivattyú üzemeltetése. | I113: Zalaegerszeg tulajdonosközösség | J113: =SUM(O113:AC113) -> 18 | L113: 46753 | M113: 47118 | N113: hosszú | Z113: 18
B115: Irányítástechnika, energiaellátás
A116: 78 | C116: Nagykutas átemelő | D116: elektromos és irányítástechnikai szekrény csere | E116: Az elektromos, irányítástechnikai szerelvények és vezetékek, műszaki állapota miatt fennáll a meghibásodás veszélye. | F116: A szivattyú elektromos megtáplálása, a folyamatos távfelügyelet biztosítása. | G116: A szivattyú elektromos paramétereihez illeszkedő erősáramú és vezérlőszekrény. | I116: Zalaegerszeg tulajdonosközösség | J116: =SUM(O116:AC116) -> 18 | L116: 46113 | M116: 46387 | N116: hosszú | X116: 18
B118: Összesen: | J118: =SUM(J78:J117) -> 13957 | K118: 1076 | O118: =SUM(O12:O117) -> 1075.8 | P118: =SUM(P12:P117) -> 1075.8 | Q118: =SUM(Q12:Q117) -> 1075.8 | R118: =SUM(R12:R117) -> 1075.8 | S118: =SUM(S12:S117) -> 1075.8 | T118: =SUM(T12:T117) -> 1075.8 | U118: =SUM(U12:U117) -> 1075.8 | V118: =SUM(V12:V117) -> 1075.8 | ... AC118: =SUM(AC12:AC117) -> 1075.8
K119: 2017 évre a fejlesztési forrás biztosított
B121: Rendelkezésre álló források megnevezése | C121: Rendelkezésre álló források számszerűsített értéke a teljes ütem tekintetében (eFt)
...

Sheet Csonkahegyhát
A1: Gördülő fejlesztési terv a 2017 - 2031 időszakra
A2: FELÚJÍTÁSOK ÉS PÓTLÁSOK ÖSSZEFOGLALÓ TÁBLÁZATA
A3: A tervet benyújtó szervezet megnevezése: | K3: CSONKAHEGYHÁT | R3: ellátásért felelős / ellátásért felelősök képviselője / víziközmű-szolgáltató *
A4: Víziközmű-szolgáltató megnevezése: | K4: ÉSZAK ZALAI VÍZ- ÉS CSATORNAMŰ ZÁRTKÖRŰEN MŰKÖDŐ RÉSZVÉNYTÁRSASÁG
A5: Víziközmű-szolgáltatási ágazat megnevezése: | K5: IVÓVÍZ ÁGAZAT
A6: Véleményeltérést megfogalmazó érintett fél megnevezése:
A7: Víziközmű-rendszer kódja: ** | K7: 11-31149-1-005-00-15 | R7: CSONKAHEGYHÁT-IV
A8: I. Felszín alatti vízkivétel
A9: Fontossági sorrend | B9: Felujítás és pótlás megnevezése | E9: Műszaki állapot felmérés, szükségességi indoklás | H9: Vízjogi létesítési/elvi engedély száma | I9: Az érintett ellátásért felelős(ök) megnevezése | J9: Tervezett nettó költség | K9: Forrás 2017 évre | L9: Megvalósítás időtartama | N9: Tervezett időtáv | O9: A beruházás ütemezése a tervezési időszak évei szerint
E10: Jelenlegi műszaki állapot | F10: Feladat szükségessége | G10: Megvalósítást követő várható műszaki állapot | J10: (eFt) | L10: Kezdés | M10: Befejezés | N10: (rövid / közép / hosszú) | O10: 1 | P10: 2 | Q10: 3 | R10: 4 | S10: 5 | T10: 6 | U10: 7 | V10: 8 | W10: 9 | X10: 10 | Y10: 11 | Z10: 12 | AA10: 13 | AB10: 14 | AC10: 15
B11: szakág | C11: Helyszín | D11: beruházás megnevezése
A12: 1 | D12: Rendkívüli helyzetből adódó azonnali feladatok (max. 5%) | F12: működőképeség biztosítása | I12: Csonkahegyhát | J12: =SUM(O12:AC12) -> 165 | L12: 42736 | M12: 48213 | O12: =0.05*$K$67 -> 11 | P12: =0.05*$K$67 -> 11 | Q12: =0.05*$K$67 -> 11 | R12: =0.05*$K$67 -> 11 | S12: =0.05*$K$67 -> 11 | T12: =0.05*$K$67 -> 11 | U12: =0.05*$K$67 -> 11 | V12: =0.05*$K$67 -> 11 | ... AC12: =0.05*$K$67 -> 11
A13: 2
B14: MÉLYFÚRÁSÚ KÚT, HAGYOMÁNYOS ÁTMÉRŐVEL
B15: Épület, építmény
B17: Gép, berendezés
B19: Irányítástechnika, energiaellátás
B21: Összesen: | J21: =SUM(J12:J20) -> 165
A23: III. Vízműtelep és vízkezelő létesítmények
C24: Helyszín | D24: beruházás megnevezése
B25: VÍZMŰTELEP
B26: Épület, építmény
B28: Gép, berendezés
B30: Irányítástechnika, energiaellátás
B32: VÍZKEZELŐ LÉTESÍTMÉNYEK
B33: Épület, építmény
B35: Gép, berendezés
B37: Irányítástechnika, energiaellátás
B39: Összesen | J39: =SUM(J25:J38) -> 0
A41: IV. Vízelosztás
C42: Helyszín | D42: beruházás megnevezése
B43: IVÓVÍZHÁLÓZAT
B44: Épület, építmény
A45: 3 | C45: Milejszeg - Pálfiszeg | D45: gerincvezeték csere (NA100 840 fm) | E45: A vezeték állapota anyaga, kora, minősége miatt nem megfelelő, elavult. | F45: A bekötővezeték anyaga vízbiztonsági kockázatot rejt magában, illetve nagyobb a valószínűsége a meghibásodásnak. | G45: A vízvezeték kiváltás, a vízigények figyelembevételével megfelelő átmérőjű és anyagú hálózatot kapunk. | H45: - | I45: Milejszeg tulajdonosközösség | J45: =SUM(O45:AC45) -> 130 | L45: 42826 | M45: 43100 | N45: rövid | O45: 130
A46: 3 | C46: Milejszeg - Pálfiszeg | D46: gerincvezeték csere (NA100 840 fm) | E46: A vezeték állapota anyaga, kora, minősége miatt nem megfelelő, elavult. | F46: A bekötővezeték anyaga vízbiztonsági kockázatot rejt magában, illetve nagyobb a valószínűsége a meghibásodásnak. | G46: A vízvezeték kiváltás, a vízigények figyelembevételével megfelelő átmérőjű és anyagú hálózatot kapunk. | H46: - | I46: Milejszeg tulajdonosközösség | J46: =SUM(O46:AC46) -> 678 | L46: 43191 | M46: 44561 | N46: közép | P46: 130 | Q46: 130 | R46: 209 | S46: 209
A47: 3 | C47: Milejszeg - Pálfiszeg | D47: gerincvezeték csere (NA100 840 fm) | E47: A vezeték állapota anyaga, kora, minősége miatt nem megfelelő, elavult. | F47: A bekötővezeték anyaga vízbiztonsági kockázatot rejt magában, illetve nagyobb a valószínűsége a meghibásodásnak. | G47: A vízvezeték kiváltás, a vízigények figyelembevételével megfelelő átmérőjű és anyagú hálózatot kapunk. | H47: - | I47: Milejszeg tulajdonosközösség | J47: =SUM(O47:AC47) -> 2090 | L47: 44652 | M47: 48213 | N47: hosszú | T47: 209 | U47: 209 | V47: 209 | W47: 209 | X47: 209 | Y47: 209 | Z47: 209 | AA47: 209 | AB47: 209 | AC47: 209
B49: Gép, berendezés
B51: Irányítástechnika, energiaellátás
B53: VÍZTÁROLÓK
B54: Épület, építmény
B56: Gép, berendezés
B58: Irányítástechnika, energiaellátás
B60: NYOMÁSFOKOZÓK
B61: Épület, építmény
B63: Gép, berendezés
B65: Irányítástechnika, energiaellátás
B67: Összesen: | J67: =SUM(J43:J66) -> 2898 | K67: 220 | O67: =SUM(O11:O66) -> 141 | P67: =SUM(P11:P66) -> 141 | Q67: =SUM(Q11:Q66) -> 141 | R67: =SUM(R11:R66) -> 220 | S67: =SUM(S11:S66) -> 220 | T67: =SUM(T11:T66) -> 220 | U67: =SUM(U11:U66) -> 220 | V67: =SUM(V11:V66) -> 220 | ... AC67: =SUM(AC11:AC66) -> 220
K68: 2017 évre a fejlesztési forrás biztosított
B70: Rendelkezésre álló források megnevezése | C70: Rendelkezésre álló források számszerűsített értéke a teljes ütem tekintetében (eFt)
A71: I. ütem | B71: Használati díj (2017) | C71: =K67 -> 220
A72: II. ütem | B72: Használati díj (2018-2021) | C72: =C71*4 -> 880
A73: III. ütem | B73: Használati díj (2022-2031) | C73: =C71*10 -> 2200

Sheet Dobronhegy
A1: Gördülő fejlesztési terv a 2017 - 2031 időszakra
A2: FELÚJÍTÁSOK ÉS PÓTLÁSOK ÖSSZEFOGLALÓ TÁBLÁZATA
A3: A tervet benyújtó szervezet megnevezése: | K3: DOBRONHEGY | R3: ellátásért felelős / ellátásért felelősök képviselője / víziközmű-szolgáltató *
A4: Víziközmű-szolgáltató megnevezése: | K4: ÉSZAK ZALAI VÍZ- ÉS CSATORNAMŰ ZÁRTKÖRŰEN MŰKÖDŐ RÉSZVÉNYTÁRSASÁG
A5: Víziközmű-szolgáltatási ágazat megnevezése: | K5: IVÓVÍZ ÁGAZAT
A6: Véleményeltérést megfogalmazó érintett fél megnevezése:
A7: Víziközmű-rendszer kódja: ** | K7: 11-31149-1-005-00-15 | R7: DOBRONHEGY-IV
A8: I. Felszín alatti vízkivétel
A9: Fontossági sorrend | B9: Felujítás és pótlás megnevezése | E9: Műszaki állapot felmérés, szükségességi indoklás | H9: Vízjogi létesítési/elvi engedély száma | I9: Az érintett ellátásért felelős(ök) megnevezése | J9: Tervezett nettó költség | K9: Forrás 2017 évre | L9: Megvalósítás időtartama | N9: Tervezett időtáv | O9: A beruházás ütemezése a tervezési időszak évei szerint
E10: Jelenlegi műszaki állapot | F10: Feladat szükségessége | G10: Megvalósítást követő várható műszaki állapot | J10: (eFt) | L10: Kezdés | M10: Befejezés | N10: (rövid / közép / hosszú) | O10: 1 | P10: 2 | Q10: 3 | R10: 4 | S10: 5 | T10: 6 | U10: 7 | V10: 8 | W10: 9 | X10: 10 | Y10: 11 | Z10: 12 | AA10: 13 | AB10: 14 | AC10: 15
B11: szakág | C11: Helyszín | D11: beruházás megnevezése
A12: 1 | D12: Rendkívüli helyzetből adódó azonnali feladatok (max. 5%) | F12: működőképeség biztosítása | I12: Dobronhegy | J12: =SUM(O12:AC12) -> 72.75 | L12: 42736 | M12: 48213 | O12: =0.05*$K$68 -> 4.85 | P12: =0.05*$K$68 -> 4.85 | Q12: =0.05*$K$68 -> 4.85 | R12: =0.05*$K$68 -> 4.85 | S12: =0.05*$K$68 -> 4.85 | T12: =0.05*$K$68 -> 4.85 | U12: =0.05*$K$68 -> 4.85 | V12: =0.05*$K$68 -> 4.85 | ... AC12: =0.05*$K$68 -> 4.85
A13: 2
B14: MÉLYFÚRÁSÚ KÚT, HAGYOMÁNYOS ÁTMÉRŐVEL
B15: Épület, építmény
B17: Gép, berendezés
B19: Irányítástechnika, energiaellátás
B21: Összesen: | J21: =SUM(J12:J20) -> 72.75
A23: III. Vízműtelep és vízkezelő létesítmények
C24: Helyszín | D24: beruházás megnevezése
B25: VÍZMŰTELEP
B26: Épület, építmény
B28: Gép, berendezés
B30: Irányítástechnika, energiaellátás
B32: VÍZKEZELŐ LÉTESÍTMÉNYEK
B33: Épület, építmény
B35: Gép, berendezés
B37: Irányítástechnika, energiaellátás
B39: Összesen | J39: =SUM(J25:J38) -> 0
A41: IV. Vízelosztás
C42: Helyszín | D42: beruházás megnevezése
B43: IVÓVÍZHÁLÓZAT
B44: Épület, építmény
A45: 3 | C45: Milejszeg - Pálfiszeg | D45: gerincvezeték csere (NA100 840 fm) | E45: A vezeték állapota anyaga, kora, minősége miatt nem megfelelő, elavult. | F45: A bekötővezeték anyaga vízbiztonsági kockázatot rejt magában, illetve nagyobb a valószínűsége a meghibásodásnak. | G45: A vízvezeték kiváltás, a vízigények figyelembevételével megfelelő átmérőjű és anyagú hálózatot kapunk. | H45: - | I45: Milejszeg tulajdonosközösség | J45: =SUM(O45:AC45) -> 71 | L45: 42826 | M45: 43100 | N45: rövid | O45: 71
A46: 3 | C46: Milejszeg - Pálfiszeg | D46: gerincvezeték csere (NA100 840 fm) | E46: A vezeték állapota anyaga, kora, minősége miatt nem megfelelő, elavult. | F46: A bekötővezeték anyaga vízbiztonsági kockázatot rejt magában, illetve nagyobb a valószínűsége a meghibásodásnak. | G46: A vízvezeték kiváltás, a vízigények figyelembevételével megfelelő átmérőjű és anyagú hálózatot kapunk. | H46: - | I46: Milejszeg tulajdonosközösség | J46: =SUM(O46:AC46) -> 284 | L46: 43191 | M46: 44561 | N46: közép | P46: 71 | Q46: 71 | R46: 71 | S46: 71
A47: 3 | C47: Milejszeg - Pálfiszeg | D47: gerincvezeték csere (NA100 840 fm) | E47: A vezeték állapota anyaga, kora, minősége miatt nem megfelelő, elavult. | F47: A bekötővezeték anyaga vízbiztonsági kockázatot rejt magában, illetve nagyobb a valószínűsége a meghibásodásnak. | G47: A vízvezeték kiváltás, a vízigények figyelembevételével megfelelő átmérőjű és anyagú hálózatot kapunk. | H47: - | I47: Milejszeg tulajdonosközösség | J47: =SUM(O47:AC47) -> 720 | L47: 44652 | M47: 48213 | N47: hosszú | T47: 92 | U47: 92 | V47: 92 | W47: 92 | X47: 92 | Y47: 92 | Z47: 42 | AA47: 42 | AB47: 42 | AC47: 42
A48: 5 | C48: Dobronhegy Petőfi u. | D48: csőhíd csere (NA100 6 fm) előtakarékoskodás | E48: A vezeték állapota anyaga, kora, minősége miatt nem megfelelő, elavult. | F48: A vezeték elavult műszaki állapota miatt gyakoriak a csőtörések | G48: A vízvezeték kiváltás, a vízigények figyelembevételével megfelelő átmérőjű és anyagú hálózatot kapunk. | H48: - | I48: Dobronhegy | J48: =SUM(O48:AC48) -> 200 | L48: 46844 | M48: 48213 | N48: hosszú | Z48: 50 | AA48: 50 | AB48: 50 | AC48: 50
B50: Gép, berendezés
B52: Irányítástechnika, energiaellátás
B54: VÍZTÁROLÓK
B55: Épület, építmény
B57: Gép, berendezés
B59: Irányítástechnika, energiaellátás
B61: NYOMÁSFOKOZÓK
B62: Épület, építmény
B64: Gép, berendezés
B66: Irányítástechnika, energiaellátás
B68: Összesen: | J68: =SUM(J43:J67) -> 1275 | K68: 97 | O68: =SUM(O12:O67) -> 75.85 | P68: =SUM(P12:P67) -> 75.85 | Q68: =SUM(Q12:Q67) -> 75.85 | R68: =SUM(R12:R67) -> 75.85 | S68: =SUM(S12:S67) -> 75.85 | T68: =SUM(T12:T67) -> 96.85 | U68: =SUM(U12:U67) -> 96.85 | V68: =SUM(V12:V67) -> 96.85 | ... AC68: =SUM(AC12:AC67) -> 96.85
K69: 2017 évre a fejlesztési forrás biztosított
B71: Rendelkezésre álló források megnevezése | C71: Rendelkezésre álló források számszerűsített értéke a teljes ütem tekintetében (eFt)
A72: I. ütem | B72: Használati díj (2017) | C72: =K68 -> 97
A73: II. ütem | B73: Használati díj (2018-2021) | C73: =C72*4 -> 388
A74: III. ütem | B74: Használati díj (2022-2031) | C74: =C72*10 -> 970

Sheet Hagyárosbörönd
A1: Gördülő fejlesztési terv a 2017 - 2031 időszakra
A2: FELÚJÍTÁSOK ÉS PÓTLÁSOK ÖSSZEFOGLALÓ TÁBLÁZATA
A3: A tervet benyújtó szervezet megnevezése: | K3: HAGYÁROSBÖRÖND | R3: ellátásért felelős / ellátásért felelősök képviselője / víziközmű-szolgáltató *
A4: Víziközmű-szolgáltató megnevezése: | K4: ÉSZAK ZALAI VÍZ- ÉS CSATORNAMŰ ZÁRTKÖRŰEN MŰKÖDŐ RÉSZVÉNYTÁRSASÁG
A5: Víziközmű-szolgáltatási ágazat megnevezése: | K5: IVÓVÍZ ÁGAZAT
A6: Véleményeltérést megfogalmazó érintett fél megnevezése:
A7: Víziközmű-rendszer kódja: ** | K7: 11-30368-1-006-00-02 | R7: HAGYÁROSBÖRÖND-IV
A8: I. Felszín alatti vízkivétel
A9: Fontossági sorrend | B9: Felujítás és pótlás megnevezése | E9: Műszaki állapot felmérés, szükségességi indoklás | H9: Vízjogi létesítési/elvi engedély száma | I9: Az érintett ellátásért felelős(ök) megnevezése | J9: Tervezett nettó költség | K9: Forrás 2017 évre | L9: Megvalósítás időtartama | N9: Tervezett időtáv | O9: A beruházás ütemezése a tervezési időszak évei szerint
E10: Jelenlegi műszaki állapot | F10: Feladat szükségessége | G10: Megvalósítást követő várható műszaki állapot | J10: (eFt) | L10: Kezdés | M10: Befejezés | N10: (rövid / közép / hosszú) | O10: 1 | P10: 2 | Q10: 3 | R10: 4 | S10: 5 | T10: 6 | U10: 7 | V10: 8 | W10: 9 | X10: 10 | Y10: 11 | Z10: 12 | AA10: 13 | AB10: 14 | AC10: 15
B11: szakág | C11: Helyszín | D11: beruházás megnevezése
A12: 1 | D12: Rendkívüli helyzetből adódó azonnali feladatok (max. 5%) | F12: működőképeség biztosítása | I12: Hagyárosbörönd | J12: =SUM(O12:AC12) -> 532.5 | L12: 42736 | M12: 48213 | O12: =0.05*$K$71 -> 35.5 | P12: =0.05*$K$71 -> 35.5 | Q12: =0.05*$K$71 -> 35.5 | R12: =0.05*$K$71 -> 35.5 | S12: =0.05*$K$71 -> 35.5 | T12: =0.05*$K$71 -> 35.5 | U12: =0.05*$K$71 -> 35.5 | V12: =0.05*$K$71 -> 35.5 | ... AC12: =0.05*$K$71 -> 35.5
B13: MÉLYFÚRÁSÚ KÚT, HAGYOMÁNYOS ÁTMÉRŐVEL
B14: Épület, építmény
B16: Gép, berendezés
B18: Irányítástechnika, energiaellátás
B20: Összesen: | J20: =SUM(J12:J19) -> 532.5
A22: III. Vízműtelep és vízkezelő létesítmények
C23: Helyszín | D23: beruházás megnevezése
B24: VÍZMŰTELEP
B25: Épület, építmény
B27: Gép, berendezés
B29: Irányítástechnika, energiaellátás
B31: VÍZKEZELŐ LÉTESÍTMÉNYEK
B32: Épület, építmény
B34: Gép, berendezés
B36: Irányítástechnika, energiaellátás
B38: Összesen | J38: =SUM(J24:J37) -> 0
A40: IV. Vízelosztás
C41: Helyszín | D41: beruházás megnevezése
B42: IVÓVÍZHÁLÓZAT
B43: Épület, építmény
A44: 2 | C44: Bagod - Zalaboldogfa | D44: gerincvezeték csere (d225 70 fm) I. ütem | E44: A vezeték állapota anyaga, kora, minősége miatt nem megfelelő, elavult. | F44: A bekötővezeték anyaga vízbiztonsági kockázatot rejt magában, illetve nagyobb a valószínűsége a meghibásodásnak. | G44: A vízvezeték kiváltás, a vízigények figyelembevételével megfelelő átmérőjű és anyagú hálózatot kapunk. | H44: - | I44: Bagod tulajdonosközösség | J44: =SUM(O44:AC44) -> 244 | L44: 42826 | M44: 43100 | N44: rövid | O44: 244
A45: 3 | C45: Bagod - Zalaboldogfa | D45: gerincvezeték csere (d225 825 fm) II-IV. ütem | E45: A vezeték állapota anyaga, kora, minősége miatt nem megfelelő, elavult. | F45: A vezeték elavult műszaki állapota miatt gyakoriak a csőtörések | G45: A vízvezeték kiváltás, a vízigények figyelembevételével megfelelő átmérőjű és anyagú hálózatot kapunk. | H45: - | I45: Bagod tulajdonosközösség | J45: =SUM(O45:AC45) -> 2074 | L45: 43191 | M45: 44561 | N45: közép | P45: 674 | Q45: 574 | R45: 674 | S45: 152
A46: 6 | C46: Hagyárosbörönd | D46: gerinchálózat szerelvény csere | E46: A szerelvény állapota anyaga, kora, minősége miatt nem megfelelő, elavult. | F46: A vezeték elavult műszaki állapota miatt gyakoriak a csőtörések | G46: A szerelvény kiváltás, a vízigények figyelembevételével megfelelő átmérőjű és anyagú hálózatot kapunk. | H46: - | I46: Hagyárosbörönd | J46: =SUM(O46:AC46) -> 100 | L46: 43556 | M46: 201912.31 | N46: közép | Q46: 100
A47: 10 | C47: Zalaszentgyörgy - Kávás | D47: gerincvezeték csere (d160 260 fm) I. ütem | E47: A vezeték állapota anyaga, kora, minősége miatt nem megfelelő, elavult. | F47: A vezeték elavult műszaki állapota miatt gyakoriak a csőtörések | G47: A vízvezeték kiváltás, a vízigények figyelembevételével megfelelő átmérőjű és anyagú hálózatot kapunk. | I47: Bagod tulajdonosközösség | J47: =SUM(O47:AC47) -> 522 | L47: 44287 | M47: 44560 | N47: közép | S47: 522
A48: 11 | C48: Zalaszentgyörgy - Kávás | D48: gerincvezeték csere (d160 600 fm) II. ütem | E48: A vezeték állapota anyaga, kora, minősége miatt nem megfelelő, elavult. | F48: A vezeték elavult műszaki állapota miatt gyakoriak a csőtörések | G48: A vízvezeték kiváltás, a vízigények figyelembevételével megfelelő átmérőjű és anyagú hálózatot kapunk. | H48: - | I48: Bagod tulajdonosközösség | J48: =SUM(O48:AC48) -> 1348 | L48: 44652 | M48: 45291 | N48: hosszú | T48: 674 | U48: 674
A49: 12 | C49: Bagod Vitenyédi út | D49: gerincvezeték csere (d225 1210 fm) | E49: A vezeték állapota anyaga, kora, minősége miatt nem megfelelő, elavult. | F49: A vezeték elavult műszaki állapota miatt gyakoriak a csőtörések | G49: A vízvezeték kiváltás, a vízigények figyelembevételével megfelelő átmérőjű és anyagú hálózatot kapunk. | I49: Bagod tulajdonosközösség | J49: =SUM(O49:AC49) -> 3116 | L49: 45383 | M49: 47118 | N49: hosszú | V49: 674 | W49: 674 | X49: 674 | Y49: 674 | Z49: 420
A50: 19 | C50: Bagod Ady Endre utca | D50: gerincvezeték csere (d225 800 fm) | E50: A vezeték állapota anyaga, kora, minősége miatt nem megfelelő, elavult. | F50: A vezeték elavult műszaki állapota miatt gyakoriak a csőtörések | G50: A vízvezeték kiváltás, a vízigények figyelembevételével megfelelő átmérőjű és anyagú hálózatot kapunk. | H50: - | I50: Bagod tulajdonosközösség | J50: =SUM(O50:AC50) -> 776 | L50: 47209 | M50: 48213 | N50: hosszú | AB50: 102 | AC50: 674
B52: Gép, berendezés
B54: Irányítástechnika, energiaellátás
B56: VÍZTÁROLÓK
B57: Épület, építmény
B59: Gép, berendezés
B61: Irányítástechnika, energiaellátás
B63: NYOMÁSFOKOZÓK
B64: Épület, építmény
B66: Gép, berendezés
A67: 15 | C67: Hagyárosbörönd nyomásfokozó | D67: Szivattyú csere (CRIE5-9 2 db; CR45-6) | E67: A szivattyú kora, műszaki állapota miatt fennáll a meghibásodás veszélye. | F67: A folyamatos víztermelés biztosítása | G67: A Q–H diagramhoz illeszkedő energiahatékony szivattyú üzemeltetése | I67: Hagyárosbörönd | J67: =SUM(O67:AC67) -> 1500 | L67: 46753 | M67: 47848 | N67: hosszú | Z67: 254 | AA67: 674 | AB67: 572
B69: Irányítástechnika, energiaellátás
B71: Összesen: | J71: =SUM(J42:J70) -> 9680 | K71: 710 | O71: =SUM(O12:O70) -> 279.5 | P71: =SUM(P12:P70) -> 709.5 | Q71: =SUM(Q12:Q70) -> 709.5 | R71: =SUM(R12:R70) -> 709.5 | S71: =SUM(S12:S70) -> 709.5 | T71: =SUM(T12:T70) -> 709.5 | U71: =SUM(U12:U70) -> 709.5 | V71: =SUM(V12:V70) -> 709.5 | ... AC71: =SUM(AC12:AC70) -> 709.5
K72: 2017 évre a fejlesztési forrás biztosított
B74: Rendelkezésre álló források megnevezése | C74: Rendelkezésre álló források számszerűsített értéke a teljes ütem tekintetében (eFt)
A75: I. ütem | B75: Használati díj (2017) | C75: =K71 -> 710
A76: II. ütem | B76: Használati díj (2018-2021) | C76: =C75*4 -> 2840
A77: III. ütem | B77: Használati díj (2022-2031) | C77: =C75*10 -> 7100
AA169: =Bagod!AA50+Boncodfölde!AA51 -> 3864

Sheet Hottó
A1: Gördülő fejlesztési terv a 2017 - 2031 időszakra
A2: FELÚJÍTÁSOK ÉS PÓTLÁSOK ÖSSZEFOGLALÓ TÁBLÁZATA
A3: A tervet benyújtó szervezet megnevezése: | K3: HOTTÓ | R3: ellátásért felelős / ellátásért felelősök képviselője / víziközmű-szolgáltató *
A4: Víziközmű-szolgáltató megnevezése: | K4: ÉSZAK ZALAI VÍZ- ÉS CSATORNAMŰ ZÁRTKÖRŰEN MŰKÖDŐ RÉSZVÉNYTÁRSASÁG
A5: Víziközmű-szolgáltatási ágazat megnevezése: | K5: IVÓVÍZ ÁGAZAT
A6: Véleményeltérést megfogalmazó érintett fél megnevezése:
A7: Víziközmű-rendszer kódja: ** | K7: 11-32054-1-010-00-14 | R7: HOTTÓ-IV
A8: I. Felszín alatti vízkivétel
A9: Fontossági sorrend | B9: Felujítás és pótlás megnevezése | E9: Műszaki állapot felmérés, szükségességi indoklás | H9: Vízjogi létesítési/elvi engedély száma | I9: Az érintett ellátásért felelős(ök) megnevezése | J9: Tervezett nettó költség | K9: Forrás 2017 évre | L9: Megvalósítás időtartama | N9: Tervezett időtáv | O9: A beruházás ütemezése a tervezési időszak évei szerint
E10: Jelenlegi műszaki állapot | F10: Feladat szükségessége | G10: Megvalósítást követő várható műszaki állapot | J10: (eFt) | L10: Kezdés | M10: Befejezés | N10: (rövid / közép / hosszú) | O10: 1 | P10: 2 | Q10: 3 | R10: 4 | S10: 5 | T10: 6 | U10: 7 | V10: 8 | W10: 9 | X10: 10 | Y10: 11 | Z10: 12 | AA10: 13 | AB10: 14 | AC10: 15
B11: szakág | C11: Helyszín | D11: beruházás megnevezése
A12: 1 | D12: Rendkívüli helyzetből adódó azonnali feladatok (max. 5%) | F12: működőképeség biztosítása | I12: Hottó | J12: =SUM(O12:AC12) -> 483.75 | L12: 42736 | M12: 48213 | O12: =0.05*$K$118 -> 32.25 | P12: =0.05*$K$118 -> 32.25 | Q12: =0.05*$K$118 -> 32.25 | R12: =0.05*$K$118 -> 32.25 | S12: =0.05*$K$118 -> 32.25 | T12: =0.05*$K$118 -> 32.25 | U12: =0.05*$K$118 -> 32.25 | V12: =0.05*$K$118 -> 32.25 | ... AC12: =0.05*$K$118 -> 32.25
B13: MÉLYFÚRÁSÚ KÚT, HAGYOMÁNYOS ÁTMÉRŐVEL
B14: Épület, építmény
A15: 48 | C15: Zalaegerszeg … kút | D15: kútfelújítás | E15: Az objektum kora, műszaki állapota miatt fennáll a meghibásodás veszélye. Feladat szükségessége | F15: A felhasználók folyamatos vízellátásának biztosítására | G15: Az elvárt vízigényeket kielégítő megfelelő műszaki állapotú vízbázis. | I15: Zalaegerszeg tulajdonosközösség | J15: =SUM(O15:AC15) -> 24 | L15: 44562 | M15: 44926 | N15: hosszú | T15: 24
A16: 79 | C16: Zalaegerszeg … kút | D16: kútfelújítás | E16: Az objektum kora, műszaki állapota miatt fennáll a meghibásodás veszélye. Feladat szükségessége | F16: A felhasználók folyamatos vízellátásának biztosítására | G16: Az elvárt vízigényeket kielégítő megfelelő műszaki állapotú vízbázis. | I16: Zalaegerszeg tulajdonosközösség | J16: =SUM(O16:AC16) -> 24 | L16: 46388 | M16: 46752 | N16: hosszú | Y16: 24
B18: Gép, berendezés
A19: 66 | C19: Zalaegerszeg … kút | D19: Szivattyú csere 2 db | E19: A szivattyú kora, műszaki állapota miatt fennáll a meghibásodás veszélye. | F19: A folyamatos víztermelés biztosítása. | G19: A Q–H diagramhoz illeszkedő energiahatékony szivattyú üzemeltetése. | I19: Zalaegerszeg tulajdonosközösség | J19: =SUM(O19:AC19) -> 2 | L19: 44927 | M19: 45291 | N19: hosszú | U19: 2
C20: Zalaegerszeg … kút | D20: Gépészeti felújítás 2 db | E20: A szerelvények és vezetékek, műszaki állapota miatt fennáll a meghibásodás veszélye. | F20: A folyamatos víztermelés biztosítása. | G20: A gépészeti funkciókat kifogástalanul ellátó szerelvények. | I20: Zalaegerszeg tulajdonosközösség | J20: =SUM(O20:AC20) -> 8 | L20: 44927 | M20: 45291 | N20: hosszú | U20: 8
A21: 70 | C21: Zalaegerszeg … kút | D21: Szivattyú csere 2 db | E21: A szivattyú kora, műszaki állapota miatt fennáll a meghibásodás veszélye. | F21: A folyamatos víztermelés biztosítása. | G21: A Q–H diagramhoz illeszkedő energiahatékony szivattyú üzemeltetése. | I21: Zalaegerszeg tulajdonosközösség | J21: =SUM(O21:AC21) -> 2 | L21: 45292 | M21: 45657 | N21: hosszú | V21: 2
C22: Zalaegerszeg … kút | D22: Gépészeti felújítás 2 db | E22: A szerelvények és vezetékek, műszaki állapota miatt fennáll a meghibásodás veszélye. | F22: A folyamatos víztermelés biztosítása. | G22: A gépészeti funkciókat kifogástalanul ellátó szerelvények. | I22: Zalaegerszeg tulajdonosközösség | J22: =SUM(O22:AC22) -> 8 | L22: 45292 | M22: 45657 | N22: hosszú | V22: 8
A23: 72 | C23: Zalaegerszeg … kút | D23: Szivattyú csere 2 db | E23: A szivattyú kora, műszaki állapota miatt fennáll a meghibásodás veszélye. | F23: A folyamatos víztermelés biztosítása. | G23: A Q–H diagramhoz illeszkedő energiahatékony szivattyú üzemeltetése. | I23: Zalaegerszeg tulajdonosközösség | J23: =SUM(O23:AC23) -> 2 | L23: 45658 | M23: 46022 | N23: hosszú | W23: 2
C24: Zalaegerszeg … kút | D24: Gépészeti felújítás 2 db | E24: A szerelvények és vezetékek, műszaki állapota miatt fennáll a meghibásodás veszélye. | F24: A folyamatos víztermelés biztosítása. | G24: A gépészeti funkciókat kifogástalanul ellátó szerelvények. | I24: Zalaegerszeg tulajdonosközösség | J24: =SUM(O24:AC24) -> 8 | L24: 45658 | M24: 46022 | N24: hosszú | W24: 8
A25: 75 | C25: Zalaegerszeg … kút | D25: Szivattyú csere 2 db | E25: A szivattyú kora, műszaki állapota miatt fennáll a meghibásodás veszélye. | F25: A folyamatos víztermelés biztosítása. | G25: A Q–H diagramhoz illeszkedő energiahatékony szivattyú üzemeltetése. | I25: Zalaegerszeg tulajdonosközösség | J25: =SUM(O25:AC25) -> 2 | L25: 46023 | M25: 46387 | N25: hosszú | X25: 2
C26: Zalaegerszeg … kút | D26: Gépészeti felújítás 2 db | E26: A szerelvények és vezetékek, műszaki állapota miatt fennáll a meghibásodás veszélye. | F26: A folyamatos víztermelés biztosítása. | G26: A gépészeti funkciókat kifogástalanul ellátó szerelvények. | I26: Zalaegerszeg tulajdonosközösség | J26: =SUM(O26:AC26) -> 8 | L26: 46023 | M26: 46387 | N26: hosszú | X26: 8
A27: 80 | C27: Zalaegerszeg … kút | D27: Szivattyú csere 2 db | E27: A szivattyú kora, műszaki állapota miatt fennáll a meghibásodás veszélye. | F27: A folyamatos víztermelés biztosítása. | G27: A Q–H diagramhoz illeszkedő energiahatékony szivattyú üzemeltetése. | I27: Zalaegerszeg tulajdonosközösség | J27: =SUM(O27:AC27) -> 2 | L27: 46388 | M27: 46752 | N27: hosszú | Y27: 2
C28: Zalaegerszeg … kút | D28: Gépészeti felújítás 2 db | E28: A szerelvények és vezetékek, műszaki állapota miatt fennáll a meghibásodás veszélye. | F28: A folyamatos víztermelés biztosítása. | G28: A gépészeti funkciókat kifogástalanul ellátó szerelvények. | I28: Zalaegerszeg tulajdonosközösség | J28: =SUM(O28:AC28) -> 8 | L28: 46388 | M28: 46752 | N28: hosszú | Y28: 8
A29: 85 | C29: Zalaegerszeg … kút | D29: Szivattyú csere 2 db | E29: A szivattyú kora, műszaki állapota miatt fennáll a meghibásodás veszélye. | F29: A folyamatos víztermelés biztosítása. | G29: A Q–H diagramhoz illeszkedő energiahatékony szivattyú üzemeltetése. | I29: Zalaegerszeg tulajdonosközösség | J29: =SUM(O29:AC29) -> 2 | L29: 46753 | M29: 47118 | N29: hosszú | Z29: 2
C30: Zalaegerszeg … kút | D30: Gépészeti felújítás 2 db | E30: A szerelvények és vezetékek, műszaki állapota miatt fennáll a meghibásodás veszélye. | F30: A folyamatos víztermelés biztosítása. | G30: A gépészeti funkciókat kifogástalanul ellátó szerelvények. | I30: Zalaegerszeg tulajdonosközösség | J30: =SUM(O30:AC30) -> 8 | L30: 46753 | M30: 47118 | N30: hosszú | Z30: 8
A31: 88 | C31: Zalaegerszeg … kút | D31: Szivattyú csere 2 db | E31: A szivattyú kora, műszaki állapota miatt fennáll a meghibásodás veszélye. | F31: A folyamatos víztermelés biztosítása. | G31: A Q–H diagramhoz illeszkedő energiahatékony szivattyú üzemeltetése. | I31: Zalaegerszeg tulajdonosközösség | J31: =SUM(O31:AC31) -> 2 | L31: 47119 | M31: 47483 | N31: hosszú | AA31: 2
C32: Zalaegerszeg … kút | D32: Gépészeti felújítás 2 db | E32: A szerelvények és vezetékek, műszaki állapota miatt fennáll a meghibásodás veszélye. | F32: A folyamatos víztermelés biztosítása. | G32: A gépészeti funkciókat kifogástalanul ellátó szerelvények. | I32: Zalaegerszeg tulajdonosközösség | J32: =SUM(O32:AC32) -> 8 | L32: 47119 | M32: 47483 | N32: hosszú | AA32: 8
A33: 90 | C33: Zalaegerszeg … kút | D33: Szivattyú csere 2 db | E33: A szivattyú kora, műszaki állapota miatt fennáll a meghibásodás veszélye. | F33: A folyamatos víztermelés biztosítása. | G33: A Q–H diagramhoz illeszkedő energiahatékony szivattyú üzemeltetése. | I33: Zalaegerszeg tulajdonosközösség | J33: =SUM(O33:AC33) -> 2 | L33: 47484 | M33: 47848 | N33: hosszú | AB33: 2
C34: Zalaegerszeg … kút | D34: Gépészeti felújítás 2 db | E34: A szerelvények és vezetékek, műszaki állapota miatt fennáll a meghibásodás veszélye. | F34: A folyamatos víztermelés biztosítása. | G34: A gépészeti funkciókat kifogástalanul ellátó szerelvények. | I34: Zalaegerszeg tulajdonosközösség | J34: =SUM(O34:AC34) -> 8 | L34: 47484 | M34: 47848 | N34: hosszú | AB34: 8
A35: 92 | C35: Zalaegerszeg … kút | D35: Szivattyú csere 2 db | E35: A szivattyú kora, műszaki állapota miatt fennáll a meghibásodás veszélye. | F35: A folyamatos víztermelés biztosítása. | G35: A Q–H diagramhoz illeszkedő energiahatékony szivattyú üzemeltetése. | I35: Zalaegerszeg tulajdonosközösség | J35: =SUM(O35:AC35) -> 2 | L35: 47849 | M35: 48213 | N35: hosszú | AC35: 2
C36: Zalaegerszeg … kút | D36: Gépészeti felújítás 2 db | E36: A szerelvények és vezetékek, műszaki állapota miatt fennáll a meghibásodás veszélye. | F36: A folyamatos víztermelés biztosítása. | G36: A gépészeti funkciókat kifogástalanul ellátó szerelvények. | I36: Zalaegerszeg tulajdonosközösség | J36: =SUM(O36:AC36) -> 8 | L36: 47849 | M36: 48213 | N36: hosszú | AC36: 8
B38: Irányítástechnika, energiaellátás
A39: 7 | C39: Zalaegerszeg D1 - D3 kút | D39: 20 kV hálózat felújítása, oszlopszigetelő és távtartó csere, túláramvédelem felújítás | E39: Az elektromos, irányítástechnikai szerelvények és vezetékek, műszaki állapota miatt fennáll a meghibásodás veszélye. | F39: A búvárszivattyú elektromos megtáplálása, a folyamatos távfelügyelet biztosítása. | G39: A búvárszivattyú elektromos paramétereihez illeszkedő erősáramú és vezérlőszekrény. | I39: Zalaegerszeg tulajdonosközösség | J39: =SUM(O39:AC39) -> 6 | L39: 42736 | M39: 43100 | N39: rövid | O39: 6
A40: 11 | C40: Zalaegerszeg 11 - 15 kútcsoport | D40: 20 kV hálózat felújítás, oszloptranszformátor alatti erősáramú szekrény csere | E40: Az elektromos, irányítástechnikai szerelvények és vezetékek, műszaki állapota miatt fennáll a meghibásodás veszélye. | F40: A búvárszivattyú elektromos megtáplálása, a folyamatos távfelügyelet biztosítása. | G40: A búvárszivattyú elektromos paramétereihez illeszkedő erősáramú és vezérlőszekrény. | I40: Zalaegerszeg tulajdonosközösség | J40: =SUM(O40:AC40) -> 10 | L40: 42736 | M40: 43100 | N40: rövid | O40: 10
A41: 26 | C41: Zalaegerszeg Keleti kútcsoport | D41: GPRS kommunikációra történő átállás | E41: Az elektromos, irányítástechnikai szerelvények és vezetékek, műszaki állapota miatt fennáll a meghibásodás veszélye. | F41: A búvárszivattyú elektromos megtáplálása, a folyamatos távfelügyelet biztosítása. | G41: A búvárszivattyú elektromos paramétereihez illeszkedő erősáramú és vezérlőszekrény. | I41: Zalaegerszeg tulajdonosközösség | J41: =SUM(O41:AC41) -> 24 | L41: 43101 | M41: 43465 | N41: közép | P41: 24
A42: 67 | C42: Zalaegerszeg … kút | D42: elektromos és iráűnyítástechnikai szekrény csere (2 db) | E42: Az elektromos, irányítástechnikai szerelvények és vezetékek, műszaki állapota miatt fennáll a meghibásodás veszélye. | F42: A búvárszivattyú elektromos megtáplálása, a folyamatos távfelügyelet biztosítása. | G42: A búvárszivattyú elektromos paramétereihez illeszkedő erősáramú és vezérlőszekrény. | I42: Zalaegerszeg tulajdonosközösség | J42: =SUM(O42:AC42) -> 24 | L42: 44927 | M42: 45291 | N42: hosszú | U42: 24
A43: 71 | C43: Zalaegerszeg … kút | D43: elektromos és iráűnyítástechnikai szekrény csere (2 db) | E43: Az elektromos, irányítástechnikai szerelvények és vezetékek, műszaki állapota miatt fennáll a meghibásodás veszélye. | F43: A búvárszivattyú elektromos megtáplálása, a folyamatos távfelügyelet biztosítása. | G43: A búvárszivattyú elektromos paramétereihez illeszkedő erősáramú és vezérlőszekrény. | I43: Zalaegerszeg tulajdonosközösség | J43: =SUM(O43:AC43) -> 24 | L43: 45292 | M43: 45657 | N43: hosszú | V43: 24
A44: 73 | C44: Zalaegerszeg … kút | D44: elektromos és iráűnyítástechnikai szekrény csere (2 db) | E44: Az elektromos, irányítástechnikai szerelvények és vezetékek, műszaki állapota miatt fennáll a meghibásodás veszélye. | F44: A búvárszivattyú elektromos megtáplálása, a folyamatos távfelügyelet biztosítása. | G44: A búvárszivattyú elektromos paramétereihez illeszkedő erősáramú és vezérlőszekrény. | I44: Zalaegerszeg tulajdonosközösség | J44: =SUM(O44:AC44) -> 24 | L44: 45658 | M44: 46022 | N44: hosszú | W44: 24
A45: 76 | C45: Zalaegerszeg … kút | D45: elektromos és iráűnyítástechnikai szekrény csere (2 db) | E45: Az elektromos, irányítástechnikai szerelvények és vezetékek, műszaki állapota miatt fennáll a meghibásodás veszélye. | F45: A búvárszivattyú elektromos megtáplálása, a folyamatos távfelügyelet biztosítása. | G45: A búvárszivattyú elektromos paramétereihez illeszkedő erősáramú és vezérlőszekrény. | I45: Zalaegerszeg tulajdonosközösség | J45: =SUM(O45:AC45) -> 24 | L45: 46023 | M45: 46387 | N45: hosszú | X45: 24
A46: 81 | C46: Zalaegerszeg … kút | D46: elektromos és iráűnyítástechnikai szekrény csere (2 db) | E46: Az elektromos, irányítástechnikai szerelvények és vezetékek, műszaki állapota miatt fennáll a meghibásodás veszélye. | F46: A búvárszivattyú elektromos megtáplálása, a folyamatos távfelügyelet biztosítása. | G46: A búvárszivattyú elektromos paramétereihez illeszkedő erősáramú és vezérlőszekrény. | I46: Zalaegerszeg tulajdonosközösség | J46: =SUM(O46:AC46) -> 24 | L46: 46388 | M46: 46752 | N46: hosszú | Y46: 24
A47: 86 | C47: Zalaegerszeg … kút | D47: elektromos és iráűnyítástechnikai szekrény csere (2 db) | E47: Az elektromos, irányítástechnikai szerelvények és vezetékek, műszaki állapota miatt fennáll a meghibásodás veszélye. | F47: A búvárszivattyú elektromos megtáplálása, a folyamatos távfelügyelet biztosítása. | G47: A búvárszivattyú elektromos paramétereihez illeszkedő erősáramú és vezérlőszekrény. | I47: Zalaegerszeg tulajdonosközösség | J47: =SUM(O47:AC47) -> 24 | L47: 46753 | M47: 47118 | N47: hosszú | Z47: 24
A48: 89 | C48: Zalaegerszeg … kút | D48: elektromos és iráűnyítástechnikai szekrény csere (2 db) | E48: Az elektromos, irányítástechnikai szerelvények és vezetékek, műszaki állapota miatt fennáll a meghibásodás veszélye. | F48: A búvárszivattyú elektromos megtáplálása, a folyamatos távfelügyelet biztosítása. | G48: A búvárszivattyú elektromos paramétereihez illeszkedő erősáramú és vezérlőszekrény. | I48: Zalaegerszeg tulajdonosközösség | J48: =SUM(O48:AC48) -> 24 | L48: 47119 | M48: 47483 | N48: hosszú | AA48: 24
A49: 91 | C49: Zalaegerszeg … kút | D49: elektromos és iráűnyítástechnikai szekrény csere (2 db) | E49: Az elektromos, irányítástechnikai szerelvények és vezetékek, műszaki állapota miatt fennáll a meghibásodás veszélye. | F49: A búvárszivattyú elektromos megtáplálása, a folyamatos távfelügyelet biztosítása. | G49: A búvárszivattyú elektromos paramétereihez illeszkedő erősáramú és vezérlőszekrény. | I49: Zalaegerszeg tulajdonosközösség | J49: =SUM(O49:AC49) -> 24 | L49: 47484 | M49: 47848 | N49: hosszú | AB49: 24
A50: 93 | C50: Zalaegerszeg … kút | D50: elektromos és iráűnyítástechnikai szekrény csere (2 db) | E50: Az elektromos, irányítástechnikai szerelvények és vezetékek, műszaki állapota miatt fennáll a meghibásodás veszélye. | F50: A búvárszivattyú elektromos megtáplálása, a folyamatos távfelügyelet biztosítása. | G50: A búvárszivattyú elektromos paramétereihez illeszkedő erősáramú és vezérlőszekrény. | I50: Zalaegerszeg tulajdonosközösség | J50: =SUM(O50:AC50) -> 24 | L50: 47849 | M50: 48213 | N50: hosszú | AC50: 24
B52: Összesen: | J52: =SUM(J12:J39) -> 627.75
A54: III. Vízműtelep és vízkezelő létesítmények
C55: Helyszín | D55: beruházás megnevezése
B56: VÍZMŰTELEP
B57: Épület, építmény
B59: Gép, berendezés
B61: Irányítástechnika, energiaellátás
A62: 40 | C62: Zalaegerszeg Keleti vízműtelep | D62: PLC - PLC közti kommunikáció felújítása | E62: Az elektromos, irányítástechnikai szerelvények és vezetékek, műszaki állapota miatt fennáll a meghibásodás veszélye | F62: A vízműtelep elektromos megtáplálása, a folyamatos távfelügyelet biztosítása. | G62: Az elektromos paramétereihez illeszkedő erős- és gyengeáramú vezérlőszekrény. | I62: Zalaegerszeg tulajdonosközösség | J62: =SUM(O62:AC62) -> 4 | L62: 43556 | M62: 43830 | N62: közép | Q62: 4
A63: 45 | C63: Zalaegerszeg Keleti vízműtelep | D63: URH alnokok megszűntetése | E63: Az elektromos, irányítástechnikai szerelvények és vezetékek, műszaki állapota miatt fennáll a meghibásodás veszélye | F63: A vízműtelep elektromos megtáplálása, a folyamatos távfelügyelet biztosítása. | G63: Az elektromos paramétereihez illeszkedő erős- és gyengeáramú vezérlőszekrény. | I63: Zalaegerszeg tulajdonosközösség | J63: =SUM(O63:AC63) -> 27 | L63: 43922 | M63: 44196 | N63: közép | R63: 27
A64: 46 | C64: Zalaegerszeg Nyugati vízműtelep | D64: 20 KV-os főelosztó felújítása, feszültségváltó, megszakító csere mindkét betáp oldalon | E64: Az elektromos, irányítástechnikai szerelvények és vezetékek, műszaki állapota miatt fennáll a meghibásodás veszélye | F64: A vízműtelep elektromos megtáplálása, a folyamatos távfelügyelet biztosítása. | G64: Az elektromos paramétereihez illeszkedő erős- és gyengeáramú vezérlőszekrény. | I64: Zalaegerszeg tulajdonosközösség | J64: =SUM(O64:AC64) -> 84 | L64: 43922 | M64: 44196 | N64: közép | R64: 84
B66: VÍZKEZELŐ LÉTESÍTMÉNYEK
B67: Épület, építmény
B69: Gép, berendezés
A70: 69 | C70: Zalaegerszeg Keleti vastalanító | D70: gépszeti rekonstrukció | E70: A technológia, szerelvények és vezetékek, műszaki állapota miatt fennáll a meghibásodás veszélye. | F70: A tisztítás technológia jelenlegi műszaki állapota miatt nem képes az elvárt paramétereket biztosítani. Az avultsági szint miatt fennáll a meghibásodás veszélye. | G70: Megfelelő hatékonyságú technológia. A gépészeti funkciókat kifogástalanul ellátó szerelvények. | I70: Zalaegerszeg tulajdonosközösség | J70: =SUM(O70:AC70) -> 400 | L70: 45383 | M70: 46022 | N70: hosszú | V70: 200 | W70: 200
B72: Irányítástechnika, energiaellátás
B74: Összesen | J74: =SUM(J56:J73) -> 515
A76: IV. Vízelosztás
C77: Helyszín | D77: beruházás megnevezése
B78: IVÓVÍZHÁLÓZAT
B79: Épület, építmény
A80: 6 | C80: Zalaegerszeg Vizslapark | D80: gerincvezeték csere | E80: A vezeték állapota anyaga, kora, minősége miatt nem megfelelő, elavult. | F80: A vezeték elavult műszaki állapota miatt gyakoriak a csőtörések. | G80: A vízvezeték kiváltás a vízigények figyelembevételével megfelelő átmérőjű és anyagú hálózatot kapunk. | I80: Zalaegerszeg tulajdonközösség | J80: =SUM(O80:AC80) -> 140 | L80: 42795 | M80: 42825 | N80: rövid | O80: 140
A81: 16 | C81: Hottó | D81: tartalékkeret képzése rekonstrukcióhoz | E81: A vezeték állapota anyaga, kora, minősége miatt nem megfelelő, elavult. | F81: A vezeték elavult műszaki állapota miatt gyakoriak a csőtörések. | G81: A vízvezeték kiváltás a vízigények figyelembevételével megfelelő átmérőjű és anyagú hálózatot kapunk. | I81: Hottó | J81: =SUM(O81:AC81) -> 457 | L81: 42826 | M81: 43100 | N81: rövid | O81: 457
A82: 34 | C82: Hottó | D82: tartalékkeret képzése rekonstrukcióhoz | E82: A vezeték állapota anyaga, kora, minősége miatt nem megfelelő, elavult. | F82: A vezeték elavult műszaki állapota miatt gyakoriak a csőtörések. | G82: A vízvezeték kiváltás a vízigények figyelembevételével megfelelő átmérőjű és anyagú hálózatot kapunk. | I82: Hottó | J82: =SUM(O82:AC82) -> 2041 | L82: 43191 | M82: 44561 | N82: közép | P82: 501 | Q82: 509 | R82: 502 | S82: 529
A83: 41 | C83: Zalaegerszeg 74 - 76. út | D83: csomópont rekonstrukció | E83: A vezeték állapota anyaga, kora, minősége miatt nem megfelelő, elavult. | F83: A vezeték elavult műszaki állapota miatt gyakoriak a csőtörések. | G83: A vízvezeték kiváltás a vízigények figyelembevételével megfelelő átmérőjű és anyagú hálózatot kapunk. | I83: Zalaegerszeg tulajdonközösség | J83: =SUM(O83:AC83) -> 40 | L83: 43556 | M83: 43585 | N83: közép | Q83: 40
A84: 47 | C84: Zalaegerszeg Juhász Gy. - Zrínyi út között | D84: gerincvezeték csere (D315 400 fm) | E84: A vezeték állapota anyaga, kora, minősége miatt nem megfelelő, elavult. | F84: A vezeték elavult műszaki állapota miatt gyakoriak a csőtörések. | G84: A vízvezeték kiváltás a vízigények figyelembevételével megfelelő átmérőjű és anyagú hálózatot kapunk. | I84: Zalaegerszeg tulajdonközösség | J84: =SUM(O84:AC84) -> 84 | L84: 44287 | M84: 44316 | N84: közép | S84: 84
A85: 49 | C85: Zalaegerszeg Dózsa iskola régi szennyvíztelep között | D85: gerincvezeték csere (D355 520 fm) | E85: A vezeték állapota anyaga, kora, minősége miatt nem megfelelő, elavult. | F85: A vezeték elavult műszaki állapota miatt gyakoriak a csőtörések. | G85: A vízvezeték kiváltás a vízigények figyelembevételével megfelelő átmérőjű és anyagú hálózatot kapunk. | I85: Zalaegerszeg tulajdonközösség | J85: =SUM(O85:AC85) -> 88 | L85: 44652 | M85: 44926 | N85: hosszú | T85: 88
A86: 55 | C86: Hottó | D86: tartalékkeret képzése rekonstrukcióhoz | E86: A vezeték állapota anyaga, kora, minősége miatt nem megfelelő, elavult. | F86: A vezeték elavult műszaki állapota miatt gyakoriak a csőtörések. | G86: A vízvezeték kiváltás a vízigények figyelembevételével megfelelő átmérőjű és anyagú hálózatot kapunk. | I86: Hottó | J86: =SUM(O86:AC86) -> 3872 | L86: 44652 | M86: 48213 | N86: hosszú | T86: 401 | U86: 367 | V86: 379 | W86: 379 | X86: 387 | Y86: 355 | Z86: 467 | AA86: 379 | AB86: 379 | AC86: 379
A87: 68 | C87: Bocfölde tároló töltő vezeték | D87: gerincvezeték csere (D250 1600 fm) I. ütem | E87: A vezeték állapota anyaga, kora, minősége miatt nem megfelelő, elavult. | F87: A vezeték elavult műszaki állapota miatt gyakoriak a csőtörések. | G87: A vízvezeték kiváltás a vízigények figyelembevételével megfelelő átmérőjű és anyagú hálózatot kapunk. | I87: Zalaegerszeg tulajdonközösség | J87: =SUM(O87:AC87) -> 212 | L87: 45017 | M87: 45046 | N87: hosszú | U87: 212
A88: 74 | C88: Zalaegerszeg Keleti átemelő | D88: kimenő ág csere | E88: A vezeték állapota anyaga, kora, minősége miatt nem megfelelő, elavult. | F88: A vezeték elavult műszaki állapota miatt gyakoriak a csőtörések. | G88: A vízvezeték kiváltás a vízigények figyelembevételével megfelelő átmérőjű és anyagú hálózatot kapunk. | I88: Zalaegerszeg tulajdonközösség | J88: =SUM(O88:AC88) -> 168 | L88: 46113 | M88: 46142 | N88: hosszú | X88: 168
A89: 83 | C89: Zalaegerszeg Bíró M. út (Berzsenyi - Petőfi u. között) | D89: gerincvezeték csere (D355 330 fm)) | E89: A vezeték állapota anyaga, kora, minősége miatt nem megfelelő, elavult. | F89: A vezeték elavult műszaki állapota miatt gyakoriak a csőtörések. | G89: A vízvezeték kiváltás a vízigények figyelembevételével megfelelő átmérőjű és anyagú hálózatot kapunk. | I89: Zalaegerszeg tulajdonközösség | J89: =SUM(O89:AC89) -> 100 | L89: 46844 | M89: 46873 | N89: hosszú | Z89: 100
A90: 87 | C90: Zalaegerszeg | D90: gerincvezeték csere | E90: A vezeték állapota anyaga, kora, minősége miatt nem megfelelő, elavult. | F90: A vezeték elavult műszaki állapota miatt gyakoriak a csőtörések. | G90: A vízvezeték kiváltás a vízigények figyelembevételével megfelelő átmérőjű és anyagú hálózatot kapunk. | I90: Zalaegerszeg tulajdonközösség | J90: =SUM(O90:AC90) -> 600 | L90: 47209 | M90: 47968 | N90: hosszú | AA90: 200 | AB90: 200 | AC90: 200
B92: Gép, berendezés
B94: Irányítástechnika, energiaellátás
B96: VÍZTÁROLÓK
B97: Épület, építmény
A98: 82 | C98: Zalaegerszeg Jánkahegyi víztároló | D98: építészeti rekonstrukció | E98: Az épület/építmény minősége és állaga leromlott. | F98: Az épület/építmény feladata a víziközmű létesítmények védelme, vagyon és vízbiztonsági szempontból. Jelenlegi állapotban nem biztosítja a fenti funkciókat. A víztároló létesítmények nem megfelelő állapota. | G98: Az épület/építmény megfelelő műszaki állapota révén ellátja a vagyon- és vízbiztonsági feladatait. | I98: Zalaegerszeg tulajdonosközösség | J98: =SUM(O98:AC98) -> 200 | L98: 46388 | M98: 46752 | N98: hosszú | Y98: 200
B100: Gép, berendezés
A101: 25 | C101: Zalaegerszeg Keleti előtároló | D101: gépészeti rekonstrukció | E101: A technológia, szerelvények és vezetékek, műszaki állapota miatt fennáll a meghibásodás veszélye. | F101: A víztárolás gépészeti berendezései nem töltik be funkciójukat (nyitás-zárás). Az avultsági szint miatt fennáll a meghibásodás veszélye. | G101: Megfelelő hatékonyságú technológia. A gépészeti funkciókat kifogástalanul ellátó szerelvények. | I101: Zalaegerszeg tulajdonosközösség | J101: =SUM(O101:AC101) -> 60 | L101: 43191 | M101: 43465 | N101: közép | P101: 60
A102: 42 | C102: Zalaegerszeg Jánkahegyi víztároló | D102: gépészeti rekonstrukció | E102: A technológia, szerelvények és vezetékek, műszaki állapota miatt fennáll a meghibásodás veszélye. | F102: A víztárolás gépészeti berendezései nem töltik be funkciójukat (nyitás-zárás). Az avultsági szint miatt fennáll a meghibásodás veszélye. | G102: Megfelelő hatékonyságú technológia. A gépészeti funkciókat kifogástalanul ellátó szerelvények. | I102: Zalaegerszeg tulajdonosközösség | J102: =SUM(O102:AC102) -> 60 | L102: 43466 | M102: 43830 | N102: közép | Q102: 60
B104: Irányítástechnika, energiaellátás
B106: NYOMÁSFOKOZÓK
B107: Épület, építmény
A108: 27 | C108: Zalaegerszeg II. átemelő | D108: szigetelés felújítás | E108: Az épület/építmény minősége és állaga leromlott. | F108: Az épület/építmény feladata a víziközmű létesítmények védelme, vagyon és vízbiztonsági szempontból. Jelenlegi állapotban nem biztosítja a fenti funkciókat. A víztároló létesítmények nem megfelelő állapota. | G108: Az épület/építmény megfelelő műszaki állapota révén ellátja a vagyon- és vízbiztonsági feladatait. | I108: Zalaegerszeg tulajdonosközösség | J108: =SUM(O108:AC108) -> 28 | L108: 43101 | M108: 43465 | N108: közép | P108: 28
B110: Gép, berendezés
A111: 50 | C111: Zalaegerszeg Keleti átemelő | D111: Szivattyú csere (EMU 980-2, Worthington 2 db), teljes gépészeti rekonstrukció | E111: A szivattyú kora, műszaki állapota miatt fennáll a meghibásodás veszélye. Feladat szükségessége | F111: A folyamatos víztermelés biztosítása. | G111: A Q–H diagramhoz illeszkedő energiahatékony szivattyú üzemeltetése. | I111: Zalaegerszeg tulajdonosközösség | J111: =SUM(O111:AC111) -> 100 | L111: 44562 | M111: 44926 | N111: hosszú | T111: 100
A112: 77 | C112: Nagykutasi átemelő | D112: Szivattyú csere (EMU K64-6 2 db), teljes gépészeti rekonstrukció | E112: A szivattyú kora, műszaki állapota miatt fennáll a meghibásodás veszélye. Feladat szükségessége | F112: A folyamatos víztermelés biztosítása. | G112: A Q–H diagramhoz illeszkedő energiahatékony szivattyú üzemeltetése. | I112: Zalaegerszeg tulajdonosközösség | J112: =SUM(O112:AC112) -> 12 | L112: 46023 | M112: 46387 | N112: hosszú | X112: 12
A113: 84 | C113: Teskánd Babosdöbrétei átemelő | D113: Szivattyú csere (EMU K64-10 2 db), teljes gépészeti rekonstrukció | E113: A szivattyú kora, műszaki állapota miatt fennáll a meghibásodás veszélye. Feladat szükségessége | F113: A folyamatos víztermelés biztosítása. | G113: A Q–H diagramhoz illeszkedő energiahatékony szivattyú üzemeltetése. | I113: Zalaegerszeg tulajdonosközösség | J113: =SUM(O113:AC113) -> 12 | L113: 46753 | M113: 47118 | N113: hosszú | Z113: 12
B115: Irányítástechnika, energiaellátás
A116: 78 | C116: Nagykutas átemelő | D116: elektromos és irányítástechnikai szekrény csere | E116: Az elektromos, irányítástechnikai szerelvények és vezetékek, műszaki állapota miatt fennáll a meghibásodás veszélye. | F116: A szivattyú elektromos megtáplálása, a folyamatos távfelügyelet biztosítása. | G116: A szivattyú elektromos paramétereihez illeszkedő erősáramú és vezérlőszekrény. | I116: Zalaegerszeg tulajdonosközösség | J116: =SUM(O116:AC116) -> 12 | L116: 46113 | M116: 46387 | N116: hosszú | X116: 12
B118: Összesen: | J118: =SUM(J78:J117) -> 8286 | K118: 645 | O118: =SUM(O12:O117) -> 645.25 | P118: =SUM(P12:P117) -> 645.25 | Q118: =SUM(Q12:Q117) -> 645.25 | R118: =SUM(R12:R117) -> 645.25 | S118: =SUM(S12:S117) -> 645.25 | T118: =SUM(T12:T117) -> 645.25 | U118: =SUM(U12:U117) -> 645.25 | V118: =SUM(V12:V117) -> 645.25 | ... AC118: =SUM(AC12:AC117) -> 645.25
K119: 2017 évre a fejlesztési forrás biztosított
B121: Rendelkezésre álló források megnevezése | C121: Rendelkezésre álló források számszerűsített értéke a teljes ütem tekintetében (eFt)
...

Sheet Kávás
A1: Gördülő fejlesztési terv a 2017 - 2031 időszakra
A2: FELÚJÍTÁSOK ÉS PÓTLÁSOK ÖSSZEFOGLALÓ TÁBLÁZATA
A3: A tervet benyújtó szervezet megnevezése: | K3: KÁVÁS | R3: ellátásért felelős / ellátásért felelősök képviselője / víziközmű-szolgáltató *
A4: Víziközmű-szolgáltató megnevezése: | K4: ÉSZAK ZALAI VÍZ- ÉS CSATORNAMŰ ZÁRTKÖRŰEN MŰKÖDŐ RÉSZVÉNYTÁRSASÁG
A5: Víziközmű-szolgáltatási ágazat megnevezése: | K5: IVÓVÍZ ÁGAZAT
A6: Véleményeltérést megfogalmazó érintett fél megnevezése:
A7: Víziközmű-rendszer kódja: ** | K7: 11-30368-1-006-00-02 | R7: KÁVÁS-IV
A8: I. Felszín alatti vízkivétel
A9: Fontossági sorrend | B9: Felujítás és pótlás megnevezése | E9: Műszaki állapot felmérés, szükségességi indoklás | H9: Vízjogi létesítési/elvi engedély száma | I9: Az érintett ellátásért felelős(ök) megnevezése | J9: Tervezett nettó költség | K9: Forrás 2017 évre | L9: Megvalósítás időtartama | N9: Tervezett időtáv | O9: A beruházás ütemezése a tervezési időszak évei szerint
E10: Jelenlegi műszaki állapot | F10: Feladat szükségessége | G10: Megvalósítást követő várható műszaki állapot | J10: (eFt) | L10: Kezdés | M10: Befejezés | N10: (rövid / közép / hosszú) | O10: 1 | P10: 2 | Q10: 3 | R10: 4 | S10: 5 | T10: 6 | U10: 7 | V10: 8 | W10: 9 | X10: 10 | Y10: 11 | Z10: 12 | AA10: 13 | AB10: 14 | AC10: 15
B11: szakág | C11: Helyszín | D11: beruházás megnevezése
A12: 1 | D12: Rendkívüli helyzetből adódó azonnali feladatok (max. 5%) | F12: működőképeség biztosítása | I12: Kávás | J12: =SUM(O12:AC12) -> 459.75 | L12: 42736 | M12: 48213 | O12: =0.05*$K$71 -> 30.65 | P12: =0.05*$K$71 -> 30.65 | Q12: =0.05*$K$71 -> 30.65 | R12: =0.05*$K$71 -> 30.65 | S12: =0.05*$K$71 -> 30.65 | T12: =0.05*$K$71 -> 30.65 | U12: =0.05*$K$71 -> 30.65 | V12: =0.05*$K$71 -> 30.65 | ... AC12: =0.05*$K$71 -> 30.65
B13: MÉLYFÚRÁSÚ KÚT, HAGYOMÁNYOS ÁTMÉRŐVEL
B14: Épület, építmény
B16: Gép, berendezés
B18: Irányítástechnika, energiaellátás
B20: Összesen: | J20: =SUM(J12:J19) -> 459.75
A22: III. Vízműtelep és vízkezelő létesítmények
C23: Helyszín | D23: beruházás megnevezése
B24: VÍZMŰTELEP
B25: Épület, építmény
B27: Gép, berendezés
B29: Irányítástechnika, energiaellátás
B31: VÍZKEZELŐ LÉTESÍTMÉNYEK
B32: Épület, építmény
B34: Gép, berendezés
B36: Irányítástechnika, energiaellátás
B38: Összesen | J38: =SUM(J24:J37) -> 0
A40: IV. Vízelosztás
C41: Helyszín | D41: beruházás megnevezése
B42: IVÓVÍZHÁLÓZAT
B43: Épület, építmény
A44: 2 | C44: Bagod - Zalaboldogfa | D44: gerincvezeték csere (d225 70 fm) I. ütem | E44: A vezeték állapota anyaga, kora, minősége miatt nem megfelelő, elavult. | F44: A bekötővezeték anyaga vízbiztonsági kockázatot rejt magában, illetve nagyobb a valószínűsége a meghibásodásnak. | G44: A vízvezeték kiváltás, a vízigények figyelembevételével megfelelő átmérőjű és anyagú hálózatot kapunk. | H44: - | I44: Bagod tulajdonosközösség | J44: =SUM(O44:AC44) -> 158 | L44: 42826 | M44: 43100 | N44: rövid | O44: 158
A45: 3 | C45: Bagod - Zalaboldogfa | D45: gerincvezeték csere (d225 825 fm) II-IV. ütem | E45: A vezeték állapota anyaga, kora, minősége miatt nem megfelelő, elavult. | F45: A vezeték elavult műszaki állapota miatt gyakoriak a csőtörések | G45: A vízvezeték kiváltás, a vízigények figyelembevételével megfelelő átmérőjű és anyagú hálózatot kapunk. | H45: - | I45: Bagod tulajdonosközösség | J45: =SUM(O45:AC45) -> 1744 | L45: 43191 | M45: 44561 | N45: közép | P45: 582 | Q45: 482 | R45: 582 | S45: 98
A46: 7 | C46: Kávás | D46: gerinchálózat szerelvény csere | E46: A szerelvény állapota anyaga, kora, minősége miatt nem megfelelő, elavult. | F46: A vezeték elavult műszaki állapota miatt gyakoriak a csőtörések | G46: A szerelvény kiváltás, a vízigények figyelembevételével megfelelő átmérőjű és anyagú hálózatot kapunk. | H46: - | I46: Kávás | J46: =SUM(O46:AC46) -> 100 | L46: 43556 | M46: 201912.31 | N46: közép | Q46: 100
A47: 10 | C47: Zalaszentgyörgy - Kávás | D47: gerincvezeték csere (d160 260 fm) I. ütem | E47: A vezeték állapota anyaga, kora, minősége miatt nem megfelelő, elavult. | F47: A vezeték elavult műszaki állapota miatt gyakoriak a csőtörések | G47: A vízvezeték kiváltás, a vízigények figyelembevételével megfelelő átmérőjű és anyagú hálózatot kapunk. | I47: Bagod tulajdonosközösség | J47: =SUM(O47:AC47) -> 484 | L47: 44287 | M47: 44560 | N47: közép | S47: 484
A48: 11 | C48: Zalaszentgyörgy - Kávás | D48: gerincvezeték csere (d160 600 fm) II. ütem | E48: A vezeték állapota anyaga, kora, minősége miatt nem megfelelő, elavult. | F48: A vezeték elavult műszaki állapota miatt gyakoriak a csőtörések | G48: A vízvezeték kiváltás, a vízigények figyelembevételével megfelelő átmérőjű és anyagú hálózatot kapunk. | H48: - | I48: Bagod tulajdonosközösség | J48: =SUM(O48:AC48) -> 1164 | L48: 44652 | M48: 45291 | N48: hosszú | T48: 582 | U48: 582
A49: 12 | C49: Bagod Vitenyédi út | D49: gerincvezeték csere (d225 1210 fm) | E49: A vezeték állapota anyaga, kora, minősége miatt nem megfelelő, elavult. | F49: A vezeték elavult műszaki állapota miatt gyakoriak a csőtörések | G49: A vízvezeték kiváltás, a vízigények figyelembevételével megfelelő átmérőjű és anyagú hálózatot kapunk. | I49: Bagod tulajdonosközösség | J49: =SUM(O49:AC49) -> 2600 | L49: 45383 | M49: 47118 | N49: hosszú | V49: 582 | W49: 582 | X49: 582 | Y49: 582 | Z49: 272
A50: 19 | C50: Bagod Ady Endre utca | D50: gerincvezeték csere (d225 800 fm) | E50: A vezeték állapota anyaga, kora, minősége miatt nem megfelelő, elavult. | F50: A vezeték elavult műszaki állapota miatt gyakoriak a csőtörések | G50: A vízvezeték kiváltás, a vízigények figyelembevételével megfelelő átmérőjű és anyagú hálózatot kapunk. | H50: - | I50: Bagod tulajdonosközösség | J50: =SUM(O50:AC50) -> 1556 | L50: 47209 | M50: 48213 | N50: hosszú | AA50: 392 | AB50: 582 | AC50: 582
B52: Gép, berendezés
B54: Irányítástechnika, energiaellátás
B56: VÍZTÁROLÓK
B57: Épület, építmény
B59: Gép, berendezés
B61: Irányítástechnika, energiaellátás
B63: NYOMÁSFOKOZÓK
B64: Épület, építmény
B66: Gép, berendezés
A67: 16 | C67: Kávás Öreghegy nyomásfokozó | D67: Szivattyú csere (CRIE3-8 2 db) | E67: A szivattyú kora, műszaki állapota miatt fennáll a meghibásodás veszélye. | F67: A folyamatos víztermelés biztosítása | G67: A Q–H diagramhoz illeszkedő energiahatékony szivattyú üzemeltetése | I67: Kávás | J67: =SUM(O67:AC67) -> 500 | L67: 46753 | M67: 47483 | N67: hosszú | Z67: 310 | AA67: 190
B69: Irányítástechnika, energiaellátás
B71: Összesen: | J71: =SUM(J42:J70) -> 8306 | K71: 613 | O71: =SUM(O12:O70) -> 188.65 | P71: =SUM(P12:P70) -> 612.65 | Q71: =SUM(Q12:Q70) -> 612.65 | R71: =SUM(R12:R70) -> 612.65 | S71: =SUM(S12:S70) -> 612.65 | T71: =SUM(T12:T70) -> 612.65 | U71: =SUM(U12:U70) -> 612.65 | V71: =SUM(V12:V70) -> 612.65 | ... AC71: =SUM(AC12:AC70) -> 612.65
K72: 2017 évre a fejlesztési forrás biztosított
B74: Rendelkezésre álló források megnevezése | C74: Rendelkezésre álló források számszerűsített értéke a teljes ütem tekintetében (eFt)
A75: I. ütem | B75: Használati díj (2017) | C75: =K71 -> 613
A76: II. ütem | B76: Használati díj (2018-2021) | C76: =C75*4 -> 2452
A77: III. ütem | B77: Használati díj (2022-2031) | C77: =C75*10 -> 6130

Sheet Kiskutas
A1: Gördülő fejlesztési terv a 2017 - 2031 időszakra
A2: FELÚJÍTÁSOK ÉS PÓTLÁSOK ÖSSZEFOGLALÓ TÁBLÁZATA
A3: A tervet benyújtó szervezet megnevezése: | K3: KISKUTAS | R3: ellátásért felelős / ellátásért felelősök képviselője / víziközmű-szolgáltató *
A4: Víziközmű-szolgáltató megnevezése: | K4: ÉSZAK ZALAI VÍZ- ÉS CSATORNAMŰ ZÁRTKÖRŰEN MŰKÖDŐ RÉSZVÉNYTÁRSASÁG
A5: Víziközmű-szolgáltatási ágazat megnevezése: | K5: IVÓVÍZ ÁGAZAT
A6: Véleményeltérést megfogalmazó érintett fél megnevezése:
A7: Víziközmű-rendszer kódja: ** | K7: 11-32054-1-010-00-14 | R7: KISKUTAS-IV
A8: I. Felszín alatti vízkivétel
A9: Fontossági sorrend | B9: Felujítás és pótlás megnevezése | E9: Műszaki állapot felmérés, szükségességi indoklás | H9: Vízjogi létesítési/elvi engedély száma | I9: Az érintett ellátásért felelős(ök) megnevezése | J9: Tervezett nettó költség | K9: Forrás 2017 évre | L9: Megvalósítás időtartama | N9: Tervezett időtáv | O9: A beruházás ütemezése a tervezési időszak évei szerint
E10: Jelenlegi műszaki állapot | F10: Feladat szükségessége | G10: Megvalósítást követő várható műszaki állapot | J10: (eFt) | L10: Kezdés | M10: Befejezés | N10: (rövid / közép / hosszú) | O10: 1 | P10: 2 | Q10: 3 | R10: 4 | S10: 5 | T10: 6 | U10: 7 | V10: 8 | W10: 9 | X10: 10 | Y10: 11 | Z10: 12 | AA10: 13 | AB10: 14 | AC10: 15
B11: szakág | C11: Helyszín | D11: beruházás megnevezése
A12: 1 | D12: Rendkívüli helyzetből adódó azonnali feladatok (max. 5%) | F12: működőképeség biztosítása | I12: Kiskutas | J12: =SUM(O12:AC12) -> 375.75 | L12: 42736 | M12: 48213 | O12: =0.05*$K$118 -> 25.05 | P12: =0.05*$K$118 -> 25.05 | Q12: =0.05*$K$118 -> 25.05 | R12: =0.05*$K$118 -> 25.05 | S12: =0.05*$K$118 -> 25.05 | T12: =0.05*$K$118 -> 25.05 | U12: =0.05*$K$118 -> 25.05 | V12: =0.05*$K$118 -> 25.05 | ... AC12: =0.05*$K$118 -> 25.05
B13: MÉLYFÚRÁSÚ KÚT, HAGYOMÁNYOS ÁTMÉRŐVEL
B14: Épület, építmény
A15: 48 | C15: Zalaegerszeg … kút | D15: kútfelújítás | E15: Az objektum kora, műszaki állapota miatt fennáll a meghibásodás veszélye. Feladat szükségessége | F15: A felhasználók folyamatos vízellátásának biztosítására | G15: Az elvárt vízigényeket kielégítő megfelelő műszaki állapotú vízbázis. | I15: Zalaegerszeg tulajdonosközösség | J15: =SUM(O15:AC15) -> 18 | L15: 44562 | M15: 44926 | N15: hosszú | T15: 18
A16: 79 | C16: Zalaegerszeg … kút | D16: kútfelújítás | E16: Az objektum kora, műszaki állapota miatt fennáll a meghibásodás veszélye. Feladat szükségessége | F16: A felhasználók folyamatos vízellátásának biztosítására | G16: Az elvárt vízigényeket kielégítő megfelelő műszaki állapotú vízbázis. | I16: Zalaegerszeg tulajdonosközösség | J16: =SUM(O16:AC16) -> 18 | L16: 46388 | M16: 46752 | N16: hosszú | Y16: 18
B18: Gép, berendezés
A19: 66 | C19: Zalaegerszeg … kút | D19: Szivattyú csere 2 db | E19: A szivattyú kora, műszaki állapota miatt fennáll a meghibásodás veszélye. | F19: A folyamatos víztermelés biztosítása. | G19: A Q–H diagramhoz illeszkedő energiahatékony szivattyú üzemeltetése. | I19: Zalaegerszeg tulajdonosközösség | J19: =SUM(O19:AC19) -> 2 | L19: 44927 | M19: 45291 | N19: hosszú | U19: 2
C20: Zalaegerszeg … kút | D20: Gépészeti felújítás 2 db | E20: A szerelvények és vezetékek, műszaki állapota miatt fennáll a meghibásodás veszélye. | F20: A folyamatos víztermelés biztosítása. | G20: A gépészeti funkciókat kifogástalanul ellátó szerelvények. | I20: Zalaegerszeg tulajdonosközösség | J20: =SUM(O20:AC20) -> 6 | L20: 44927 | M20: 45291 | N20: hosszú | U20: 6
A21: 70 | C21: Zalaegerszeg … kút | D21: Szivattyú csere 2 db | E21: A szivattyú kora, műszaki állapota miatt fennáll a meghibásodás veszélye. | F21: A folyamatos víztermelés biztosítása. | G21: A Q–H diagramhoz illeszkedő energiahatékony szivattyú üzemeltetése. | I21: Zalaegerszeg tulajdonosközösség | J21: =SUM(O21:AC21) -> 2 | L21: 45292 | M21: 45657 | N21: hosszú | V21: 2
C22: Zalaegerszeg … kút | D22: Gépészeti felújítás 2 db | E22: A szerelvények és vezetékek, műszaki állapota miatt fennáll a meghibásodás veszélye. | F22: A folyamatos víztermelés biztosítása. | G22: A gépészeti funkciókat kifogástalanul ellátó szerelvények. | I22: Zalaegerszeg tulajdonosközösség | J22: =SUM(O22:AC22) -> 6 | L22: 45292 | M22: 45657 | N22: hosszú | V22: 6
A23: 72 | C23: Zalaegerszeg … kút | D23: Szivattyú csere 2 db | E23: A szivattyú kora, műszaki állapota miatt fennáll a meghibásodás veszélye. | F23: A folyamatos víztermelés biztosítása. | G23: A Q–H diagramhoz illeszkedő energiahatékony szivattyú üzemeltetése. | I23: Zalaegerszeg tulajdonosközösség | J23: =SUM(O23:AC23) -> 2 | L23: 45658 | M23: 46022 | N23: hosszú | W23: 2
C24: Zalaegerszeg … kút | D24: Gépészeti felújítás 2 db | E24: A szerelvények és vezetékek, műszaki állapota miatt fennáll a meghibásodás veszélye. | F24: A folyamatos víztermelés biztosítása. | G24: A gépészeti funkciókat kifogástalanul ellátó szerelvények. | I24: Zalaegerszeg tulajdonosközösség | J24: =SUM(O24:AC24) -> 6 | L24: 45658 | M24: 46022 | N24: hosszú | W24: 6
A25: 75 | C25: Zalaegerszeg … kút | D25: Szivattyú csere 2 db | E25: A szivattyú kora, műszaki állapota miatt fennáll a meghibásodás veszélye. | F25: A folyamatos víztermelés biztosítása. | G25: A Q–H diagramhoz illeszkedő energiahatékony szivattyú üzemeltetése. | I25: Zalaegerszeg tulajdonosközösség | J25: =SUM(O25:AC25) -> 2 | L25: 46023 | M25: 46387 | N25: hosszú | X25: 2
C26: Zalaegerszeg … kút | D26: Gépészeti felújítás 2 db | E26: A szerelvények és vezetékek, műszaki állapota miatt fennáll a meghibásodás veszélye. | F26: A folyamatos víztermelés biztosítása. | G26: A gépészeti funkciókat kifogástalanul ellátó szerelvények. | I26: Zalaegerszeg tulajdonosközösség | J26: =SUM(O26:AC26) -> 6 | L26: 46023 | M26: 46387 | N26: hosszú | X26: 6
A27: 80 | C27: Zalaegerszeg … kút | D27: Szivattyú csere 2 db | E27: A szivattyú kora, műszaki állapota miatt fennáll a meghibásodás veszélye. | F27: A folyamatos víztermelés biztosítása. | G27: A Q–H diagramhoz illeszkedő energiahatékony szivattyú üzemeltetése. | I27: Zalaegerszeg tulajdonosközösség | J27: =SUM(O27:AC27) -> 2 | L27: 46388 | M27: 46752 | N27: hosszú | Y27: 2
C28: Zalaegerszeg … kút | D28: Gépészeti felújítás 2 db | E28: A szerelvények és vezetékek, műszaki állapota miatt fennáll a meghibásodás veszélye. | F28: A folyamatos víztermelés biztosítása. | G28: A gépészeti funkciókat kifogástalanul ellátó szerelvények. | I28: Zalaegerszeg tulajdonosközösség | J28: =SUM(O28:AC28) -> 6 | L28: 46388 | M28: 46752 | N28: hosszú | Y28: 6
A29: 85 | C29: Zalaegerszeg … kút | D29: Szivattyú csere 2 db | E29: A szivattyú kora, műszaki állapota miatt fennáll a meghibásodás veszélye. | F29: A folyamatos víztermelés biztosítása. | G29: A Q–H diagramhoz illeszkedő energiahatékony szivattyú üzemeltetése. | I29: Zalaegerszeg tulajdonosközösség | J29: =SUM(O29:AC29) -> 2 | L29: 46753 | M29: 47118 | N29: hosszú | Z29: 2
C30: Zalaegerszeg … kút | D30: Gépészeti felújítás 2 db | E30: A szerelvények és vezetékek, műszaki állapota miatt fennáll a meghibásodás veszélye. | F30: A folyamatos víztermelés biztosítása. | G30: A gépészeti funkciókat kifogástalanul ellátó szerelvények. | I30: Zalaegerszeg tulajdonosközösség | J30: =SUM(O30:AC30) -> 6 | L30: 46753 | M30: 47118 | N30: hosszú | Z30: 6
A31: 88 | C31: Zalaegerszeg … kút | D31: Szivattyú csere 2 db | E31: A szivattyú kora, műszaki állapota miatt fennáll a meghibásodás veszélye. | F31: A folyamatos víztermelés biztosítása. | G31: A Q–H diagramhoz illeszkedő energiahatékony szivattyú üzemeltetése. | I31: Zalaegerszeg tulajdonosközösség | J31: =SUM(O31:AC31) -> 2 | L31: 47119 | M31: 47483 | N31: hosszú | AA31: 2
C32: Zalaegerszeg … kút | D32: Gépészeti felújítás 2 db | E32: A szerelvények és vezetékek, műszaki állapota miatt fennáll a meghibásodás veszélye. | F32: A folyamatos víztermelés biztosítása. | G32: A gépészeti funkciókat kifogástalanul ellátó szerelvények. | I32: Zalaegerszeg tulajdonosközösség | J32: =SUM(O32:AC32) -> 6 | L32: 47119 | M32: 47483 | N32: hosszú | AA32: 6
A33: 90 | C33: Zalaegerszeg … kút | D33: Szivattyú csere 2 db | E33: A szivattyú kora, műszaki állapota miatt fennáll a meghibásodás veszélye. | F33: A folyamatos víztermelés biztosítása. | G33: A Q–H diagramhoz illeszkedő energiahatékony szivattyú üzemeltetése. | I33: Zalaegerszeg tulajdonosközösség | J33: =SUM(O33:AC33) -> 2 | L33: 47484 | M33: 47848 | N33: hosszú | AB33: 2
C34: Zalaegerszeg … kút | D34: Gépészeti felújítás 2 db | E34: A szerelvények és vezetékek, műszaki állapota miatt fennáll a meghibásodás veszélye. | F34: A folyamatos víztermelés biztosítása. | G34: A gépészeti funkciókat kifogástalanul ellátó szerelvények. | I34: Zalaegerszeg tulajdonosközösség | J34: =SUM(O34:AC34) -> 6 | L34: 47484 | M34: 47848 | N34: hosszú | AB34: 6
A35: 92 | C35: Zalaegerszeg … kút | D35: Szivattyú csere 2 db | E35: A szivattyú kora, műszaki állapota miatt fennáll a meghibásodás veszélye. | F35: A folyamatos víztermelés biztosítása. | G35: A Q–H diagramhoz illeszkedő energiahatékony szivattyú üzemeltetése. | I35: Zalaegerszeg tulajdonosközösség | J35: =SUM(O35:AC35) -> 2 | L35: 47849 | M35: 48213 | N35: hosszú | AC35: 2
C36: Zalaegerszeg … kút | D36: Gépészeti felújítás 2 db | E36: A szerelvények és vezetékek, műszaki állapota miatt fennáll a meghibásodás veszélye. | F36: A folyamatos víztermelés biztosítása. | G36: A gépészeti funkciókat kifogástalanul ellátó szerelvények. | I36: Zalaegerszeg tulajdonosközösség | J36: =SUM(O36:AC36) -> 6 | L36: 47849 | M36: 48213 | N36: hosszú | AC36: 6
B38: Irányítástechnika, energiaellátás
A39: 7 | C39: Zalaegerszeg D1 - D3 kút | D39: 20 kV hálózat felújítása, oszlopszigetelő és távtartó csere, túláramvédelem felújítás | E39: Az elektromos, irányítástechnikai szerelvények és vezetékek, műszaki állapota miatt fennáll a meghibásodás veszélye. | F39: A búvárszivattyú elektromos megtáplálása, a folyamatos távfelügyelet biztosítása. | G39: A búvárszivattyú elektromos paramétereihez illeszkedő erősáramú és vezérlőszekrény. | I39: Zalaegerszeg tulajdonosközösség | J39: =SUM(O39:AC39) -> 5 | L39: 42736 | M39: 43100 | N39: rövid | O39: 5
