Workbook

Sheet Babosdöbréte
A1: Gördülő fejlesztési terv a 2019 - 2033 időszakra
A2: FELÚJÍTÁSOK ÉS PÓTLÁSOK ÖSSZEFOGLALÓ TÁBLÁZATA
A3: A tervet benyújtó szervezet megnevezése: | K3: BABOSDÖBRÉTE | R3: ellátásért felelős / ellátásért felelősök képviselője / víziközmű-szolgáltató *
A4: Víziközmű-szolgáltató megnevezése: | K4: ÉSZAK ZALAI VÍZ- ÉS CSATORNAMŰ ZÁRTKÖRŰEN MŰKÖDŐ RÉSZVÉNYTÁRSASÁG
A5: Víziközmű-szolgáltatási ágazat megnevezése: | K5: IVÓVÍZ ÁGAZAT
A6: Véleményeltérést megfogalmazó érintett fél megnevezése:
A7: Víziközmű-rendszer kódja: ** | K7: 11-32054-1-010-00-14 | R7: ZALAEGERSZEG-IV
A8: I. Felszín alatti vízkivétel
A9: Fontossági sorrend | B9: Felujítás és pótlás megnevezése | E9: Műszaki állapot felmérés, szükségességi indoklás | H9: Vízjogi létesítési/elvi engedély száma | I9: Az érintett ellátásért felelős(ök) megnevezése | J9: Tervezett nettó költség | K9: Forrás 2019 évre | L9: Megvalósítás időtartama | N9: Tervezett időtáv | O9: A beruházás ütemezése a tervezési időszak évei szerint
E10: Jelenlegi műszaki állapot | F10: Feladat szükségessége | G10: Megvalósítást követő várható műszaki állapot | J10: (eFt) | L10: Kezdés | M10: Befejezés | N10: (rövid / közép / hosszú) | O10: 1 | P10: 2 | Q10: 3 | R10: 4 | S10: 5 | T10: 6 | U10: 7 | V10: 8 | W10: 9 | X10: 10 | Y10: 11 | Z10: 12 | AA10: 13 | AB10: 14 | AC10: 15
B11: szakág | C11: Helyszín | D11: beruházás megnevezése
A12: 1 | D12: Rendkívüli helyzetből adódó azonnali feladatok (max. 15%) | F12: működőképeség biztosítása | I12: Babosdöbréte | J12: =SUM(O12:AC12) -> 2058.75 | L12: 43466 | M12: 48944 | O12: =0.15*$K$69 -> 137.25 | P12: =0.15*$K$69 -> 137.25 | Q12: =0.15*$K$69 -> 137.25 | R12: =0.15*$K$69 -> 137.25 | S12: =0.15*$K$69 -> 137.25 | T12: =0.15*$K$69 -> 137.25 | U12: =0.15*$K$69 -> 137.25 | V12: =0.15*$K$69 -> 137.25 | ... AC12: =0.15*$K$69 -> 137.25
B13: MÉLYFÚRÁSÚ KÚT, HAGYOMÁNYOS ÁTMÉRŐVEL
B14: Épület, építmény
B16: Gép, berendezés
B18: Irányítástechnika, energiaellátás
B20: Összesen: | J20: =SUM(J12:J18) -> 2058.75
A22: III. Vízműtelep és vízkezelő létesítmények
C23: Helyszín | D23: beruházás megnevezése
B24: VÍZMŰTELEP
B25: Épület, építmény
B27: Gép, berendezés
B29: Irányítástechnika, energiaellátás
B31: VÍZKEZELŐ LÉTESÍTMÉNYEK
B32: Épület, építmény
B34: Gép, berendezés
B36: Irányítástechnika, energiaellátás
B38: Összesen | J38: =SUM(J24:J37) -> 0
A40: IV. Vízelosztás
C41: Helyszín | D41: beruházás megnevezése
B42: IVÓVÍZHÁLÓZAT
B43: Épület, építmény
C44: Babosdöbréte | D44: tartalékkeret képzése rekonstrukcióhoz | E44: A vezeték állapota anyaga, kora, minősége miatt nem megfelelő, elavult. | F44: A vezeték elavult műszaki állapota miatt gyakoriak a csőtörések. | G44: A vízvezeték kiváltás a vízigények figyelembevételével megfelelő átmérőjű és anyagú hálózatot kapunk. | I44: Babosdöbréte | J44: =SUM(O44:AC44) -> 778 | L44: 43466 | M44: 43830 | N44: rövid | O44: 778
C45: Babosdöbréte | D45: tartalékkeret képzése rekonstrukcióhoz | E45: A vezeték állapota anyaga, kora, minősége miatt nem megfelelő, elavult. | F45: A vezeték elavult műszaki állapota miatt gyakoriak a csőtörések. | G45: A vízvezeték kiváltás a vízigények figyelembevételével megfelelő átmérőjű és anyagú hálózatot kapunk. | I45: Babosdöbréte | J45: =SUM(O45:AC45) -> 341 | L45: 45017 | M45: 45291 | N45: közép | S45: 341
C46: Babosdöbréte | D46: tartalékkeret képzése rekonstrukcióhoz | E46: A vezeték állapota anyaga, kora, minősége miatt nem megfelelő, elavult. | F46: A vezeték elavult műszaki állapota miatt gyakoriak a csőtörések. | G46: A vízvezeték kiváltás a vízigények figyelembevételével megfelelő átmérőjű és anyagú hálózatot kapunk. | I46: Babosdöbréte | J46: =SUM(O46:AC46) -> 5268 | L46: 45383 | M46: 48334 | N46: hosszú | T46: 562 | U46: 577 | V46: 577 | W46: 587 | X46: 547 | Y46: 687 | Z46: 577 | AA46: 577 | AB46: 577
B48: Gép, berendezés
B50: Irányítástechnika, energiaellátás
B52: VÍZTÁROLÓK
B53: Épület, építmény
B55: Gép, berendezés
B57: Irányítástechnika, energiaellátás
B59: NYOMÁSFOKOZÓK
B60: Épület, építmény
B62: Gép, berendezés
C63: Babosdöbréte Rám nyomásfokozó | D63: Szivattyú csere (EMU K64-6), teljes gépészeti rekonstrukció | E63: A szivattyú kora, műszaki állapota miatt fennáll a meghibásodás veszélye. Feladat szükségessége | F63: A folyamatos víztermelés biztosítása. | G63: A Q–H diagramhoz illeszkedő energiahatékony szivattyú üzemeltetése. | I63: Babosdöbréte | J63: =SUM(O63:AC63) -> 2500 | L63: 43831 | M63: 45291 | N63: közép | P63: 740 | Q63: 731 | R63: 765 | S63: 264
C64: Teskánd Babosdöbrétei átemelő | D64: Szivattyú csere (EMU K64-10 2 db), teljes gépészeti rekonstrukció | E64: A szivattyú kora, műszaki állapota miatt fennáll a meghibásodás veszélye. Feladat szükségessége | F64: A folyamatos víztermelés biztosítása. | G64: A Q–H diagramhoz illeszkedő energiahatékony szivattyú üzemeltetése. | I64: Babosdöbréte tulajdonosközösség | J64: =SUM(O64:AC64) -> 1322 | L64: 47119 | M64: 47483 | N64: hosszú | Y64: 1322
B66: Irányítástechnika, energiaellátás
C67: Babosdöbréte Rám nyomásfokozó | D67: villamos és irányítástechnikai felújítás | E67: Az elektromos, irányítástechnikai szerelvények és vezetékek, műszaki állapota miatt fennáll a meghibásodás veszélye. | F67: A szivattyú elektromos megtáplálása, a folyamatos távfelügyelet biztosítása. | G67: A szivattyú elektromos paramétereihez illeszkedő erősáramú és vezérlőszekrény. | I67: Babosdöbréte | J67: =SUM(O67:AC67) -> 728 | L67: 43922 | M67: 44196 | N67: közép | P67: 728
B69: Összesen: | J69: =SUM(J42:J68) -> 10937 | K69: 915 | O69: =SUM(O11:O68) -> 915.25 | P69: =SUM(P11:P68) -> 1605.25 | Q69: =SUM(Q11:Q68) -> 868.25 | R69: =SUM(R11:R68) -> 902.25 | S69: =SUM(S11:S68) -> 742.25 | T69: =SUM(T11:T68) -> 699.25 | U69: =SUM(U11:U68) -> 714.25 | V69: =SUM(V11:V68) -> 714.25 | ... AC69: =SUM(AC11:AC68) -> 137.25
K70: 2019 évre a fejlesztési forrás biztosított
B72: Rendelkezésre álló források megnevezése | C72: Rendelkezésre álló források számszerűsített értéke a teljes ütem tekintetében (eFt)
A73: I. ütem | B73: Használati díj (2019) | C73: =K69 -> 915
A74: II. ütem | B74: Használati díj (2020-2023) | C74: =C73*4 -> 3660
A75: III. ütem | B75: Használati díj (2024-2033) | C75: =C73*10 -> 9150

Sheet Bagod
A1: Gördülő fejlesztési terv a 2019 - 2033 időszakra
A2: FELÚJÍTÁSOK ÉS PÓTLÁSOK ÖSSZEFOGLALÓ TÁBLÁZATA
A3: A tervet benyújtó szervezet megnevezése: | K3: BAGOD | R3: ellátásért felelős / ellátásért felelősök képviselője / víziközmű-szolgáltató *
A4: Víziközmű-szolgáltató megnevezése: | K4: ÉSZAK ZALAI VÍZ- ÉS CSATORNAMŰ ZÁRTKÖRŰEN MŰKÖDŐ RÉSZVÉNYTÁRSASÁG
A5: Víziközmű-szolgáltatási ágazat megnevezése: | K5: IVÓVÍZ ÁGAZAT
A6: Véleményeltérést megfogalmazó érintett fél megnevezése:
A7: Víziközmű-rendszer kódja: ** | K7: 11-32054-1-010-00-14 | R7: ZALAEGERSZEG-IV
A8: I. Felszín alatti vízkivétel
A9: Fontossági sorrend | B9: Felujítás és pótlás megnevezése | E9: Műszaki állapot felmérés, szükségességi indoklás | H9: Vízjogi létesítési/elvi engedély száma | I9: Az érintett ellátásért felelős(ök) megnevezése | J9: Tervezett nettó költség | K9: Forrás 2019 évre | L9: Megvalósítás időtartama | N9: Tervezett időtáv | O9: A beruházás ütemezése a tervezési időszak évei szerint
E10: Jelenlegi műszaki állapot | F10: Feladat szükségessége | G10: Megvalósítást követő várható műszaki állapot | J10: (eFt) | L10: Kezdés | M10: Befejezés | N10: (rövid / közép / hosszú) | O10: 1 | P10: 2 | Q10: 3 | R10: 4 | S10: 5 | T10: 6 | U10: 7 | V10: 8 | W10: 9 | X10: 10 | Y10: 11 | Z10: 12 | AA10: 13 | AB10: 14 | AC10: 15
B11: szakág | C11: Helyszín | D11: beruházás megnevezése
A12: 1 | D12: Rendkívüli helyzetből adódó azonnali feladatok (max. 15%) | F12: működőképeség biztosítása | I12: Bagod | J12: =SUM(O12:AC12) -> 8079.75 | L12: 43466 | M12: 48944 | O12: =0.15*$K$71 -> 538.65 | P12: =0.15*$K$71 -> 538.65 | Q12: =0.15*$K$71 -> 538.65 | R12: =0.15*$K$71 -> 538.65 | S12: =0.15*$K$71 -> 538.65 | T12: =0.15*$K$71 -> 538.65 | U12: =0.15*$K$71 -> 538.65 | V12: =0.15*$K$71 -> 538.65 | ... AC12: =0.15*$K$71 -> 538.65
B13: MÉLYFÚRÁSÚ KÚT, HAGYOMÁNYOS ÁTMÉRŐVEL
B14: Épület, építmény
B16: Gép, berendezés
B18: Irányítástechnika, energiaellátás
B20: Összesen: | J20: =SUM(J12:J19) -> 8079.75
A22: III. Vízműtelep és vízkezelő létesítmények
C23: Helyszín | D23: beruházás megnevezése
B24: VÍZMŰTELEP
B25: Épület, építmény
B27: Gép, berendezés
B29: Irányítástechnika, energiaellátás
B31: VÍZKEZELŐ LÉTESÍTMÉNYEK
B32: Épület, építmény
B34: Gép, berendezés
B36: Irányítástechnika, energiaellátás
B38: Összesen | J38: =SUM(J24:J37) -> 0
A40: IV. Vízelosztás
C41: Helyszín | D41: beruházás megnevezése
B42: IVÓVÍZHÁLÓZAT
B43: Épület, építmény
C45: Bagod - Zalaboldogfa | D45: gerincvezeték csere (d225 275 fm) II. ütem | E45: A vezeték állapota anyaga, kora, minősége miatt nem megfelelő, elavult. | F45: A bekötővezeték anyaga vízbiztonsági kockázatot rejt magában, illetve nagyobb a valószínűsége a meghibásodásnak. | G45: A vízvezeték kiváltás, a vízigények figyelembevételével megfelelő átmérőjű és anyagú hálózatot kapunk. | H45: - | I45: Bagod | J45: =SUM(O45:AC45) -> 3000 | L45: 43556 | M45: 43830 | N45: rövid | O45: 3000
C46: Bagod - Zalaboldogfa | D46: gerincvezeték csere (d225 825 fm) III-IV. ütem | E46: A vezeték állapota anyaga, kora, minősége miatt nem megfelelő, elavult. | F46: A vezeték elavult műszaki állapota miatt gyakoriak a csőtörések | G46: A vízvezeték kiváltás, a vízigények figyelembevételével megfelelő átmérőjű és anyagú hálózatot kapunk. | H46: - | I46: Bagod | J46: =SUM(O46:AC46) -> 8416 | L46: 43922 | M46: 45291 | N46: közép | P46: 2721 | Q46: 2421 | R46: 2721 | S46: 553
C47: Bagod | D47: gerinchálózat szerelvény csere | E47: A szerelvény állapota anyaga, kora, minősége miatt nem megfelelő, elavult. | F47: A vezeték elavult műszaki állapota miatt gyakoriak a csőtörések | G47: A szerelvény kiváltás, a vízigények figyelembevételével megfelelő átmérőjű és anyagú hálózatot kapunk. | H47: - | I47: Bagod | J47: =SUM(O47:AC47) -> 300 | L47: 43922 | M47: 44196 | N47: közép | P47: 300
C48: Bagod | D48: ivóvízhálózat rekonstrukció | E48: A vezeték állapota anyaga, kora, minősége miatt nem megfelelő, elavult. | F48: A vezeték elavult műszaki állapota miatt gyakoriak a csőtörések | G48: A vízvezeték kiváltás, a vízigények figyelembevételével megfelelő átmérőjű és anyagú hálózatot kapunk. | H48: - | I48: Bagod | J48: =SUM(O48:AC48) -> 135210 | L48: 45383 | M48: 48944 | N48: hosszú | T48: 13521 | U48: 13521 | V48: 13521 | W48: 13521 | X48: 13521 | Y48: 13521 | Z48: 13521 | AA48: 13521 | AB48: 13521 | AC48: 13521
C49: Bagod Vitenyédi út | D49: gerincvezeték csere (d225 1210 fm) | E49: A vezeték állapota anyaga, kora, minősége miatt nem megfelelő, elavult. | F49: A vezeték elavult műszaki állapota miatt gyakoriak a csőtörések | G49: A vízvezeték kiváltás, a vízigények figyelembevételével megfelelő átmérőjű és anyagú hálózatot kapunk. | I49: Bagod | J49: =SUM(O49:AC49) -> 12417 | L49: 45748 | M49: 47483 | N49: hosszú | U49: 2721 | V49: 2721 | W49: 2721 | X49: 2721 | Y49: 1533
C50: Bagod Ady Endre utca | D50: gerincvezeték csere (d225 800 fm) | E50: A vezeték állapota anyaga, kora, minősége miatt nem megfelelő, elavult. | F50: A vezeték elavult műszaki állapota miatt gyakoriak a csőtörések | G50: A vízvezeték kiváltás, a vízigények figyelembevételével megfelelő átmérőjű és anyagú hálózatot kapunk. | H50: - | I50: Bagod | J50: =SUM(O50:AC50) -> 8163 | L50: 47574 | M50: 48579 | N50: hosszú | Z50: 2721 | AA50: 2721 | AB50: 2721
B52: Gép, berendezés
B54: Irányítástechnika, energiaellátás
B56: VÍZTÁROLÓK
B57: Épület, építmény
B59: Gép, berendezés
B61: Irányítástechnika, energiaellátás
B63: NYOMÁSFOKOZÓK
B64: Épület, építmény
B66: Gép, berendezés
C67: Bagod Szentpál nyomásfokozó | D67: Szivattyú csere (CRIE3-5 2 db; CR45-3) | E67: A szivattyú kora, műszaki állapota miatt fennáll a meghibásodás veszélye. | F67: A folyamatos víztermelés biztosítása | G67: A Q–H diagramhoz illeszkedő energiahatékony szivattyú üzemeltetése | I67: Bagod | J67: =SUM(O67:AC67) -> 1500 | L67: 47119 | M67: 47483 | N67: hosszú | Y67: 1500
B69: Irányítástechnika, energiaellátás
B71: Összesen: | J71: =SUM(J42:J70) -> 169006 | K71: 3591 | O71: =SUM(O11:O70) -> 3538.65 | P71: =SUM(P11:P70) -> 3559.65 | Q71: =SUM(Q11:Q70) -> 2959.65 | R71: =SUM(R11:R70) -> 3259.65 | S71: =SUM(S11:S70) -> 1091.65 | T71: =SUM(T11:T70) -> 14059.65 | U71: =SUM(U11:U70) -> 16780.65 | V71: =SUM(V11:V70) -> 16780.65 | ... AC71: =SUM(AC11:AC70) -> 14059.65
K72: 2019 évre a fejlesztési forrás biztosított
B74: Rendelkezésre álló források megnevezése | C74: Rendelkezésre álló források számszerűsített értéke a teljes ütem tekintetében (eFt)
A75: I. ütem | B75: Használati díj (2019) | C75: =K71 -> 3591
A76: II. ütem | B76: Használati díj (2020-2023) | C76: =C75*4 -> 14364
A77: III. ütem | B77: Használati díj (2024-2033) | C77: =C75*10 -> 35910

Sheet Becsvölgye
A1: Gördülő fejlesztési terv a 2019 - 2033 időszakra
A2: FELÚJÍTÁSOK ÉS PÓTLÁSOK ÖSSZEFOGLALÓ TÁBLÁZATA
A3: A tervet benyújtó szervezet megnevezése: | K3: BECSVÖLGYE | R3: ellátásért felelős / ellátásért felelősök képviselője / víziközmű-szolgáltató *
A4: Víziközmű-szolgáltató megnevezése: | K4: ÉSZAK ZALAI VÍZ- ÉS CSATORNAMŰ ZÁRTKÖRŰEN MŰKÖDŐ RÉSZVÉNYTÁRSASÁG
A5: Víziközmű-szolgáltatási ágazat megnevezése: | K5: IVÓVÍZ ÁGAZAT
A6: Véleményeltérést megfogalmazó érintett fél megnevezése:
A7: Víziközmű-rendszer kódja: ** | K7: 11-32054-1-010-00-14 | R7: ZALAEGERSZEG-IV
A8: I. Felszín alatti vízkivétel
A9: Fontossági sorrend | B9: Felujítás és pótlás megnevezése | E9: Műszaki állapot felmérés, szükségességi indoklás | H9: Vízjogi létesítési/elvi engedély száma | I9: Az érintett ellátásért felelős(ök) megnevezése | J9: Tervezett nettó költség | K9: Forrás 2019 évre | L9: Megvalósítás időtartama | N9: Tervezett időtáv | O9: A beruházás ütemezése a tervezési időszak évei szerint
E10: Jelenlegi műszaki állapot | F10: Feladat szükségessége | G10: Megvalósítást követő várható műszaki állapot | J10: (eFt) | L10: Kezdés | M10: Befejezés | N10: (rövid / közép / hosszú) | O10: 1 | P10: 2 | Q10: 3 | R10: 4 | S10: 5 | T10: 6 | U10: 7 | V10: 8 | W10: 9 | X10: 10 | Y10: 11 | Z10: 12 | AA10: 13 | AB10: 14 | AC10: 15
B11: szakág | C11: Helyszín | D11: beruházás megnevezése
A12: 1 | D12: Rendkívüli helyzetből adódó azonnali feladatok (max. 15%) | F12: működőképeség biztosítása | I12: Becsvölgye | J12: =SUM(O12:AC12) -> 4385.25 | L12: 43466 | M12: 48944 | O12: =0.15*$K$67 -> 292.35 | P12: =0.15*$K$67 -> 292.35 | Q12: =0.15*$K$67 -> 292.35 | R12: =0.15*$K$67 -> 292.35 | S12: =0.15*$K$67 -> 292.35 | T12: =0.15*$K$67 -> 292.35 | U12: =0.15*$K$67 -> 292.35 | V12: =0.15*$K$67 -> 292.35 | ... AC12: =0.15*$K$67 -> 292.35
B13: MÉLYFÚRÁSÚ KÚT, HAGYOMÁNYOS ÁTMÉRŐVEL
B14: Épület, építmény
B16: Gép, berendezés
B18: Irányítástechnika, energiaellátás
B20: Összesen: | J20: =SUM(J12:J19) -> 4385.25
A22: III. Vízműtelep és vízkezelő létesítmények
C23: Helyszín | D23: beruházás megnevezése
B24: VÍZMŰTELEP
B25: Épület, építmény
B27: Gép, berendezés
B29: Irányítástechnika, energiaellátás
B31: VÍZKEZELŐ LÉTESÍTMÉNYEK
B32: Épület, építmény
B34: Gép, berendezés
B36: Irányítástechnika, energiaellátás
B38: Összesen | J38: =SUM(J24:J37) -> 0
A40: IV. Vízelosztás
C41: Helyszín | D41: beruházás megnevezése
B42: IVÓVÍZHÁLÓZAT
B43: Épület, építmény
C44: Becsölgye | D44: tartalékkeret képzése rekonstrukcióra | E44: A vezeték állapota anyaga, kora, minősége miatt nem megfelelő, elavult. | F44: A vezeték elavult műszaki állapota miatt gyakoriak a csőtörések | G44: A vízvezeték kiváltás, a vízigények figyelembevételével megfelelő átmérőjű és anyagú hálózatot kapunk. | H44: - | I44: Becsvölgye | J44: =SUM(O44:AC44) -> 1657 | L44: 43466 | M44: 43830 | N44: rövid | O44: 1657
B46: Gép, berendezés
B48: Irányítástechnika, energiaellátás
B50: VÍZTÁROLÓK
B51: Épület, építmény
B53: Gép, berendezés
C54: Kustánszeg víztorony | D54: Gépészeti rekonstrukció | E54: A technológia, szerelvények és vezetékek, műszaki állapota miatt fennáll a meghibásodás veszélye. | F54: A víztárolás gépészeti berendezései nem töltik be funkciójukat (nyitás-zárás). Az avultsági szint miatt fennáll a meghibásodás veszélye | G54: Megfelelő hatékonyságú technológia. A gépészeti funkciókat kifogástalanul ellátó szerelvények | I54: Becsvölgye tulajdonosközösség | J54: =SUM(O54:AC54) -> 2213 | L54: 45292 | M54: 46022 | N54: hosszú | T54: 1080 | U54: 1133
B56: Irányítástechnika, energiaellátás
C57: Kustánszeg víztorony | D57: Elektromos és irányítástechnikai felújítás | E57: Az elektromos, irányítástechnikai szerelvények és vezetékek, műszaki állapota miatt fennáll a meghibásodás veszélye. | F57: A víztárolók elektromos megtáplálása, a folyamatos távfelügyelet biztosítása. | G57: Az elektromos paramétereihez illeszkedő erős- és gyengeáramú vezérlőszekrény. | I57: Becsvölgye tulajdonosközösség | J57: =SUM(O57:AC57) -> 1452 | L57: 44927 | M57: 45291 | N57: közép | S57: 1452
C58: Kustánszeg víztorony | D58: Elektromos és irányítástechnikai felújítás | E58: Az elektromos, irányítástechnikai szerelvények és vezetékek, műszaki állapota miatt fennáll a meghibásodás veszélye. | F58: A víztárolók elektromos megtáplálása, a folyamatos távfelügyelet biztosítása. | G58: Az elektromos paramétereihez illeszkedő erős- és gyengeáramú vezérlőszekrény. | I58: Becsvölgye tulajdonosközösség | J58: =SUM(O58:AC58) -> 372 | L58: 45292 | M58: 45657 | N58: hosszú | T58: 372
B60: NYOMÁSFOKOZÓK
B61: Épület, építmény
B63: Gép, berendezés
B65: Irányítástechnika, energiaellátás
B67: Összesen: | J67: =SUM(J42:J66) -> 5694 | K67: 1949 | O67: =SUM(O11:O66) -> 1949.35 | P67: =SUM(P11:P66) -> 292.35 | Q67: =SUM(Q11:Q66) -> 292.35 | R67: =SUM(R11:R66) -> 292.35 | S67: =SUM(S11:S66) -> 1744.35 | T67: =SUM(T11:T66) -> 1744.35 | U67: =SUM(U11:U66) -> 1425.35 | V67: =SUM(V11:V66) -> 292.35 | ... AC67: =SUM(AC11:AC66) -> 292.35
K68: 2019 évre a fejlesztési forrás biztosított
B70: Rendelkezésre álló források megnevezése | C70: Rendelkezésre álló források számszerűsített értéke a teljes ütem tekintetében (eFt)
A71: I. ütem | B71: Használati díj (2019) | C71: =K67 -> 1949
A72: II. ütem | B72: Használati díj (2020-2023) | C72: =C71*4 -> 7796
A73: III. ütem | B73: Használati díj (2024-2033) | C73: =C71*10 -> 19490

Sheet Bocfölde
A1: Gördülő fejlesztési terv a 2019 - 2033 időszakra
A2: FELÚJÍTÁSOK ÉS PÓTLÁSOK ÖSSZEFOGLALÓ TÁBLÁZATA
A3: A tervet benyújtó szervezet megnevezése: | K3: BOCFÖLDE | R3: ellátásért felelős / ellátásért felelősök képviselője / víziközmű-szolgáltató *
A4: Víziközmű-szolgáltató megnevezése: | K4: ÉSZAK ZALAI VÍZ- ÉS CSATORNAMŰ ZÁRTKÖRŰEN MŰKÖDŐ RÉSZVÉNYTÁRSASÁG
A5: Víziközmű-szolgáltatási ágazat megnevezése: | K5: IVÓVÍZ ÁGAZAT
A6: Véleményeltérést megfogalmazó érintett fél megnevezése:
A7: Víziközmű-rendszer kódja: ** | K7: 11-32054-1-010-00-14 | R7: ZALAEGERSZEG-IV
A8: I. Felszín alatti vízkivétel
A9: Fontossági sorrend | B9: Felujítás és pótlás megnevezése | E9: Műszaki állapot felmérés, szükségességi indoklás | H9: Vízjogi létesítési/elvi engedély száma | I9: Az érintett ellátásért felelős(ök) megnevezése | J9: Tervezett nettó költség | K9: Forrás 2019 évre | L9: Megvalósítás időtartama | N9: Tervezett időtáv | O9: A beruházás ütemezése a tervezési időszak évei szerint
E10: Jelenlegi műszaki állapot | F10: Feladat szükségessége | G10: Megvalósítást követő várható műszaki állapot | J10: (eFt) | L10: Kezdés | M10: Befejezés | N10: (rövid / közép / hosszú) | O10: 1 | P10: 2 | Q10: 3 | R10: 4 | S10: 5 | T10: 6 | U10: 7 | V10: 8 | W10: 9 | X10: 10 | Y10: 11 | Z10: 12 | AA10: 13 | AB10: 14 | AC10: 15
B11: szakág | C11: Helyszín | D11: beruházás megnevezése
A12: 1 | D12: Rendkívüli helyzetből adódó azonnali feladatok (max. 15%) | F12: működőképeség biztosítása | I12: Bocfölde | J12: =SUM(O12:AC12) -> 7944.75 | L12: 43466 | M12: 48944 | O12: =0.15*$K$64 -> 529.65 | P12: =0.15*$K$64 -> 529.65 | Q12: =0.15*$K$64 -> 529.65 | R12: =0.15*$K$64 -> 529.65 | S12: =0.15*$K$64 -> 529.65 | T12: =0.15*$K$64 -> 529.65 | U12: =0.15*$K$64 -> 529.65 | V12: =0.15*$K$64 -> 529.65 | ... AC12: =0.15*$K$64 -> 529.65
B13: MÉLYFÚRÁSÚ KÚT, HAGYOMÁNYOS ÁTMÉRŐVEL
B14: Épület, építmény
B16: Gép, berendezés
B18: Irányítástechnika, energiaellátás
B20: Összesen: | J20: =SUM(J12:J19) -> 7944.75
A22: III. Vízműtelep és vízkezelő létesítmények
C23: Helyszín | D23: beruházás megnevezése
B24: VÍZMŰTELEP
B25: Épület, építmény
B27: Gép, berendezés
B29: Irányítástechnika, energiaellátás
B31: VÍZKEZELŐ LÉTESÍTMÉNYEK
B32: Épület, építmény
B34: Gép, berendezés
B36: Irányítástechnika, energiaellátás
B38: Összesen | J38: =SUM(J24:J37) -> 0
A40: IV. Vízelosztás
C41: Helyszín | D41: beruházás megnevezése
B42: IVÓVÍZHÁLÓZAT
B43: Épület, építmény
C44: Bocfölde | D44: tartalékkeret képzése rekonstrukcióhoz | E44: A vezeték állapota anyaga, kora, minősége miatt nem megfelelő, elavult. | F44: A vezeték elavult műszaki állapota miatt gyakoriak a csőtörések. | G44: A vízvezeték kiváltás a vízigények figyelembevételével megfelelő átmérőjű és anyagú hálózatot kapunk. | I44: Bocfölde | J44: =SUM(O44:AC44) -> 3001 | L44: 43466 | M44: 43830 | N44: rövid | O44: 3001
B46: Gép, berendezés
B48: Irányítástechnika, energiaellátás
B50: VÍZTÁROLÓK
B51: Épület, építmény
B53: Gép, berendezés
B55: Irányítástechnika, energiaellátás
B57: NYOMÁSFOKOZÓK
B58: Épület, építmény
B60: Gép, berendezés
B62: Irányítástechnika, energiaellátás
B64: Összesen: | J64: =SUM(J42:J63) -> 3001 | K64: 3531 | O64: =SUM(O12:O63) -> 3530.65 | P64: =SUM(P12:P63) -> 529.65 | Q64: =SUM(Q12:Q63) -> 529.65 | R64: =SUM(R12:R63) -> 529.65 | S64: =SUM(S12:S63) -> 529.65 | T64: =SUM(T12:T63) -> 529.65 | U64: =SUM(U12:U63) -> 529.65 | V64: =SUM(V12:V63) -> 529.65 | ... AC64: =SUM(AC12:AC63) -> 529.65
K65: 2019 évre a fejlesztési forrás biztosított
B67: Rendelkezésre álló források megnevezése | C67: Rendelkezésre álló források számszerűsített értéke a teljes ütem tekintetében (eFt)
A68: I. ütem | B68: Használati díj (2019) | C68: =K64 -> 3531
A69: II. ütem | B69: Használati díj (2020-2023) | C69: =C68*4 -> 14124
A70: III. ütem | B70: Használati díj (2024-2033) | C70: =C68*10 -> 35310

Sheet Boncodfölde
A1: Gördülő fejlesztési terv a 2019 - 2033 időszakra
A2: FELÚJÍTÁSOK ÉS PÓTLÁSOK ÖSSZEFOGLALÓ TÁBLÁZATA
A3: A tervet benyújtó szervezet megnevezése: | K3: BONCODFÖLDE | R3: ellátásért felelős / ellátásért felelősök képviselője / víziközmű-szolgáltató *
A4: Víziközmű-szolgáltató megnevezése: | K4: ÉSZAK ZALAI VÍZ- ÉS CSATORNAMŰ ZÁRTKÖRŰEN MŰKÖDŐ RÉSZVÉNYTÁRSASÁG
A5: Víziközmű-szolgáltatási ágazat megnevezése: | K5: IVÓVÍZ ÁGAZAT
A6: Véleményeltérést megfogalmazó érintett fél megnevezése:
A7: Víziközmű-rendszer kódja: ** | K7: 11-32054-1-010-00-14 | R7: ZALAEGERSZEG-IV
A8: I. Felszín alatti vízkivétel
A9: Fontossági sorrend | B9: Felujítás és pótlás megnevezése | E9: Műszaki állapot felmérés, szükségességi indoklás | H9: Vízjogi létesítési/elvi engedély száma | I9: Az érintett ellátásért felelős(ök) megnevezése | J9: Tervezett nettó költség | K9: Forrás 2019 évre | L9: Megvalósítás időtartama | N9: Tervezett időtáv | O9: A beruházás ütemezése a tervezési időszak évei szerint
E10: Jelenlegi műszaki állapot | F10: Feladat szükségessége | G10: Megvalósítást követő várható műszaki állapot | J10: (eFt) | L10: Kezdés | M10: Befejezés | N10: (rövid / közép / hosszú) | O10: 1 | P10: 2 | Q10: 3 | R10: 4 | S10: 5 | T10: 6 | U10: 7 | V10: 8 | W10: 9 | X10: 10 | Y10: 11 | Z10: 12 | AA10: 13 | AB10: 14 | AC10: 15
B11: szakág | C11: Helyszín | D11: beruházás megnevezése
A12: 1 | D12: Rendkívüli helyzetből adódó azonnali feladatok (max. 15%) | F12: működőképeség biztosítása | I12: Boncodfölde | J12: =SUM(O12:AC12) -> 3435.75 | L12: 43466 | M12: 48944 | O12: =0.15*$K$64 -> 229.05 | P12: =0.15*$K$64 -> 229.05 | Q12: =0.15*$K$64 -> 229.05 | R12: =0.15*$K$64 -> 229.05 | S12: =0.15*$K$64 -> 229.05 | T12: =0.15*$K$64 -> 229.05 | U12: =0.15*$K$64 -> 229.05 | V12: =0.15*$K$64 -> 229.05 | ... AC12: =0.15*$K$64 -> 229.05
B13: MÉLYFÚRÁSÚ KÚT, HAGYOMÁNYOS ÁTMÉRŐVEL
B14: Épület, építmény
B16: Gép, berendezés
B18: Irányítástechnika, energiaellátás
B20: Összesen: | J20: =SUM(J12:J19) -> 3435.75
A22: III. Vízműtelep és vízkezelő létesítmények
C23: Helyszín | D23: beruházás megnevezése
B24: VÍZMŰTELEP
B25: Épület, építmény
B27: Gép, berendezés
B29: Irányítástechnika, energiaellátás
B31: VÍZKEZELŐ LÉTESÍTMÉNYEK
B32: Épület, építmény
B34: Gép, berendezés
B36: Irányítástechnika, energiaellátás
B38: Összesen | J38: =SUM(J24:J37) -> 0
A40: IV. Vízelosztás
C41: Helyszín | D41: beruházás megnevezése
B42: IVÓVÍZHÁLÓZAT
B43: Épület, építmény
C44: Boncodfölde | D44: tartalékkeret képzése rekonstrukcióra | E44: A vezeték állapota anyaga, kora, minősége miatt nem megfelelő, elavult. | F44: A bekötővezeték anyaga vízbiztonsági kockázatot rejt magában, illetve nagyobb a valószínűsége a meghibásodásnak. | G44: A vízvezeték kiváltás, a vízigények figyelembevételével megfelelő átmérőjű és anyagú hálózatot kapunk. | I44: Boncodfölde | J44: =SUM(O44:AC44) -> 1298 | L44: 43556 | M44: 43830 | N44: rövid | O44: 1298
B46: Gép, berendezés
B48: Irányítástechnika, energiaellátás
B50: VÍZTÁROLÓK
B51: Épület, építmény
B53: Gép, berendezés
B55: Irányítástechnika, energiaellátás
B57: NYOMÁSFOKOZÓK
B58: Épület, építmény
B60: Gép, berendezés
B62: Irányítástechnika, energiaellátás
B64: Összesen: | J64: =SUM(J42:J63) -> 1298 | K64: 1527 | O64: =SUM(O12:O63) -> 1527.05 | P64: =SUM(P12:P63) -> 229.05 | Q64: =SUM(Q12:Q63) -> 229.05 | R64: =SUM(R12:R63) -> 229.05 | S64: =SUM(S12:S63) -> 229.05 | T64: =SUM(T12:T63) -> 229.05 | U64: =SUM(U12:U63) -> 229.05 | V64: =SUM(V12:V63) -> 229.05 | ... AC64: =SUM(AC12:AC63) -> 229.05
K65: 2019 évre a fejlesztési forrás biztosított
B67: Rendelkezésre álló források megnevezése | C67: Rendelkezésre álló források számszerűsített értéke a teljes ütem tekintetében (eFt)
A68: I. ütem | B68: Használati díj (2019) | C68: =K64 -> 1527
A69: II. ütem | B69: Használati díj (2020-2023) | C69: =C68*4 -> 6108
A70: III. ütem | B70: Használati díj (2024-2033) | C70: =C68*10 -> 15270

Sheet Böde
A1: Gördülő fejlesztési terv a 2019 - 2033 időszakra
A2: FELÚJÍTÁSOK ÉS PÓTLÁSOK ÖSSZEFOGLALÓ TÁBLÁZATA
A3: A tervet benyújtó szervezet megnevezése: | K3: BÖDE | R3: ellátásért felelős / ellátásért felelősök képviselője / víziközmű-szolgáltató *
A4: Víziközmű-szolgáltató megnevezése: | K4: ÉSZAK ZALAI VÍZ- ÉS CSATORNAMŰ ZÁRTKÖRŰEN MŰKÖDŐ RÉSZVÉNYTÁRSASÁG
A5: Víziközmű-szolgáltatási ágazat megnevezése: | K5: IVÓVÍZ ÁGAZAT
A6: Véleményeltérést megfogalmazó érintett fél megnevezése:
A7: Víziközmű-rendszer kódja: ** | K7: 11-32054-1-010-00-14 | R7: ZLAEGERSZEG-IV
A8: I. Felszín alatti vízkivétel
A9: Fontossági sorrend | B9: Felujítás és pótlás megnevezése | E9: Műszaki állapot felmérés, szükségességi indoklás | H9: Vízjogi létesítési/elvi engedély száma | I9: Az érintett ellátásért felelős(ök) megnevezése | J9: Tervezett nettó költség | K9: Forrás 2019 évre | L9: Megvalósítás időtartama | N9: Tervezett időtáv | O9: A beruházás ütemezése a tervezési időszak évei szerint
E10: Jelenlegi műszaki állapot | F10: Feladat szükségessége | G10: Megvalósítást követő várható műszaki állapot | J10: (eFt) | L10: Kezdés | M10: Befejezés | N10: (rövid / közép / hosszú) | O10: 1 | P10: 2 | Q10: 3 | R10: 4 | S10: 5 | T10: 6 | U10: 7 | V10: 8 | W10: 9 | X10: 10 | Y10: 11 | Z10: 12 | AA10: 13 | AB10: 14 | AC10: 15
B11: szakág | C11: Helyszín | D11: beruházás megnevezése
A12: 1 | D12: Rendkívüli helyzetből adódó azonnali feladatok (max. 15%) | F12: működőképeség biztosítása | I12: Böde | J12: =SUM(O12:AC12) -> 922.5 | L12: 43466 | M12: 48944 | O12: =0.15*$K$65 -> 61.5 | P12: =0.15*$K$65 -> 61.5 | Q12: =0.15*$K$65 -> 61.5 | R12: =0.15*$K$65 -> 61.5 | S12: =0.15*$K$65 -> 61.5 | T12: =0.15*$K$65 -> 61.5 | U12: =0.15*$K$65 -> 61.5 | V12: =0.15*$K$65 -> 61.5 | ... AC12: =0.15*$K$65 -> 61.5
B13: MÉLYFÚRÁSÚ KÚT, HAGYOMÁNYOS ÁTMÉRŐVEL
B14: Épület, építmény
B16: Gép, berendezés
B18: Irányítástechnika, energiaellátás
B20: Összesen: | J20: =SUM(J12:J18) -> 922.5
A22: III. Vízműtelep és vízkezelő létesítmények
C23: Helyszín | D23: beruházás megnevezése
B24: VÍZMŰTELEP
B25: Épület, építmény
B27: Gép, berendezés
B29: Irányítástechnika, energiaellátás
B31: VÍZKEZELŐ LÉTESÍTMÉNYEK
B32: Épület, építmény
B34: Gép, berendezés
B36: Irányítástechnika, energiaellátás
B38: Összesen | J38: =SUM(J24:J37) -> 0
A40: IV. Vízelosztás
C41: Helyszín | D41: beruházás megnevezése
B42: IVÓVÍZHÁLÓZAT
B43: Épület, építmény
C44: Böde | D44: tartalékkeret képzése rekonstrukcióhoz | E44: A vezeték állapota anyaga, kora, minősége miatt nem megfelelő, elavult. | F44: A vezeték elavult műszaki állapota miatt gyakoriak a csőtörések. | G44: A vízvezeték kiváltás a vízigények figyelembevételével megfelelő átmérőjű és anyagú hálózatot kapunk. | I44: Böde | J44: =SUM(O44:AC44) -> 348 | L44: 43466 | M44: 43830 | N44: rövid | O44: 348
B46: Gép, berendezés
B48: Irányítástechnika, energiaellátás
B50: VÍZTÁROLÓK
B51: Épület, építmény
B53: Gép, berendezés
B55: Irányítástechnika, energiaellátás
B57: NYOMÁSFOKOZÓK
B58: Épület, építmény
B60: Gép, berendezés
C61: Teskánd Babosdöbrétei átemelő | D61: Szivattyú csere (EMU K64-10 2 db), teljes gépészeti rekonstrukció | E61: A szivattyú kora, műszaki állapota miatt fennáll a meghibásodás veszélye. Feladat szükségessége | F61: A folyamatos víztermelés biztosítása. | G61: A Q–H diagramhoz illeszkedő energiahatékony szivattyú üzemeltetése. | I61: Babosdöbréte tulajdonosközösség | J61: =SUM(O61:AC61) -> 697 | L61: 47119 | M61: 47483 | N61: hosszú | Y61: 697
B63: Irányítástechnika, energiaellátás
B65: Összesen: | J65: =SUM(J42:J64) -> 1045 | K65: 410 | O65: =SUM(O12:O64) -> 409.5 | P65: =SUM(P12:P64) -> 61.5 | Q65: =SUM(Q12:Q64) -> 61.5 | R65: =SUM(R12:R64) -> 61.5 | S65: =SUM(S12:S64) -> 61.5 | T65: =SUM(T12:T64) -> 61.5 | U65: =SUM(U12:U64) -> 61.5 | V65: =SUM(V12:V64) -> 61.5 | ... AC65: =SUM(AC12:AC64) -> 61.5
K66: 2019 évre a fejlesztési forrás biztosított
B68: Rendelkezésre álló források megnevezése | C68: Rendelkezésre álló források számszerűsített értéke a teljes ütem tekintetében (eFt)
A69: I. ütem | B69: Használati díj (2019) | C69: =K65 -> 410
A70: II. ütem | B70: Használati díj (2020-2023) | C70: =C69*4 -> 1640
A71: III. ütem | B71: Használati díj (2024-2033) | C71: =C69*10 -> 4100

Sheet Csatár
A1: Gördülő fejlesztési terv a 2019 - 2033 időszakra
A2: FELÚJÍTÁSOK ÉS PÓTLÁSOK ÖSSZEFOGLALÓ TÁBLÁZATA
A3: A tervet benyújtó szervezet megnevezése: | K3: CSATÁR | R3: ellátásért felelős / ellátásért felelősök képviselője / víziközmű-szolgáltató *
A4: Víziközmű-szolgáltató megnevezése: | K4: ÉSZAK ZALAI VÍZ- ÉS CSATORNAMŰ ZÁRTKÖRŰEN MŰKÖDŐ RÉSZVÉNYTÁRSASÁG
A5: Víziközmű-szolgáltatási ágazat megnevezése: | K5: IVÓVÍZ ÁGAZAT
A6: Véleményeltérést megfogalmazó érintett fél megnevezése:
A7: Víziközmű-rendszer kódja: ** | K7: 11-32054-1-010-00-14 | R7: ZALAEGERSZEG-IV
A8: I. Felszín alatti vízkivétel
A9: Fontossági sorrend | B9: Felujítás és pótlás megnevezése | E9: Műszaki állapot felmérés, szükségességi indoklás | H9: Vízjogi létesítési/elvi engedély száma | I9: Az érintett ellátásért felelős(ök) megnevezése | J9: Tervezett nettó költség | K9: Forrás 2019 évre | L9: Megvalósítás időtartama | N9: Tervezett időtáv | O9: A beruházás ütemezése a tervezési időszak évei szerint
E10: Jelenlegi műszaki állapot | F10: Feladat szükségessége | G10: Megvalósítást követő várható műszaki állapot | J10: (eFt) | L10: Kezdés | M10: Befejezés | N10: (rövid / közép / hosszú) | O10: 1 | P10: 2 | Q10: 3 | R10: 4 | S10: 5 | T10: 6 | U10: 7 | V10: 8 | W10: 9 | X10: 10 | Y10: 11 | Z10: 12 | AA10: 13 | AB10: 14 | AC10: 15
B11: szakág | C11: Helyszín | D11: beruházás megnevezése
A12: 1 | D12: Rendkívüli helyzetből adódó azonnali feladatok (max. 15%) | F12: működőképeség biztosítása | I12: Csatár | J12: =SUM(O12:AC12) -> 2418.75 | L12: 43466 | M12: 48944 | O12: =0.15*$K$64 -> 161.25 | P12: =0.15*$K$64 -> 161.25 | Q12: =0.15*$K$64 -> 161.25 | R12: =0.15*$K$64 -> 161.25 | S12: =0.15*$K$64 -> 161.25 | T12: =0.15*$K$64 -> 161.25 | U12: =0.15*$K$64 -> 161.25 | V12: =0.15*$K$64 -> 161.25 | ... AC12: =0.15*$K$64 -> 161.25
B13: MÉLYFÚRÁSÚ KÚT, HAGYOMÁNYOS ÁTMÉRŐVEL
B14: Épület, építmény
B16: Gép, berendezés
B18: Irányítástechnika, energiaellátás
B20: Összesen: | J20: =SUM(J12:J18) -> 2418.75
A22: III. Vízműtelep és vízkezelő létesítmények
C23: Helyszín | D23: beruházás megnevezése
B24: VÍZMŰTELEP
B25: Épület, építmény
B27: Gép, berendezés
B29: Irányítástechnika, energiaellátás
B31: VÍZKEZELŐ LÉTESÍTMÉNYEK
B32: Épület, építmény
B34: Gép, berendezés
B36: Irányítástechnika, energiaellátás
B38: Összesen | J38: =SUM(J24:J37) -> 0
A40: IV. Vízelosztás
C41: Helyszín | D41: beruházás megnevezése
B42: IVÓVÍZHÁLÓZAT
B43: Épület, építmény
C44: Csatár | D44: tartalékkeret képzése rekonstrukcióhoz | E44: A vezeték állapota anyaga, kora, minősége miatt nem megfelelő, elavult. | F44: A vezeték elavult műszaki állapota miatt gyakoriak a csőtörések. | G44: A vízvezeték kiváltás a vízigények figyelembevételével megfelelő átmérőjű és anyagú hálózatot kapunk. | I44: Csatár | J44: =SUM(O44:AC44) -> 914 | L44: 43466 | M44: 43830 | N44: rövid | O44: 914
B46: Gép, berendezés
B48: Irányítástechnika, energiaellátás
B50: VÍZTÁROLÓK
B51: Épület, építmény
B53: Gép, berendezés
B55: Irányítástechnika, energiaellátás
B57: NYOMÁSFOKOZÓK
B58: Épület, építmény
B60: Gép, berendezés
B62: Irányítástechnika, energiaellátás
B64: Összesen: | J64: =SUM(J42:J63) -> 914 | K64: 1075 | O64: =SUM(O12:O63) -> 1075.25 | P64: =SUM(P12:P63) -> 161.25 | Q64: =SUM(Q12:Q63) -> 161.25 | R64: =SUM(R12:R63) -> 161.25 | S64: =SUM(S12:S63) -> 161.25 | T64: =SUM(T12:T63) -> 161.25 | U64: =SUM(U12:U63) -> 161.25 | V64: =SUM(V12:V63) -> 161.25 | ... AC64: =SUM(AC12:AC63) -> 161.25
K65: 2019 évre a fejlesztési forrás biztosított
B67: Rendelkezésre álló források megnevezése | C67: Rendelkezésre álló források számszerűsített értéke a teljes ütem tekintetében (eFt)
A68: I. ütem | B68: Használati díj (2019) | C68: =K64 -> 1075
A69: II. ütem | B69: Használati díj (2020-2023) | C69: =C68*4 -> 4300
A70: III. ütem | B70: Használati díj (2024-2033) | C70: =C68*10 -> 10750

Sheet Csonkahegyhát
A1: Gördülő fejlesztési terv a 2019 - 2033 időszakra
A2: FELÚJÍTÁSOK ÉS PÓTLÁSOK ÖSSZEFOGLALÓ TÁBLÁZATA
A3: A tervet benyújtó szervezet megnevezése: | K3: CSONKAHEGYHÁT | R3: ellátásért felelős / ellátásért felelősök képviselője / víziközmű-szolgáltató *
A4: Víziközmű-szolgáltató megnevezése: | K4: ÉSZAK ZALAI VÍZ- ÉS CSATORNAMŰ ZÁRTKÖRŰEN MŰKÖDŐ RÉSZVÉNYTÁRSASÁG
A5: Víziközmű-szolgáltatási ágazat megnevezése: | K5: IVÓVÍZ ÁGAZAT
A6: Véleményeltérést megfogalmazó érintett fél megnevezése:
A7: Víziközmű-rendszer kódja: ** | K7: 11-32054-1-010-00-14 | R7: ZALAEGERSZEG-IV
A8: I. Felszín alatti vízkivétel
A9: Fontossági sorrend | B9: Felujítás és pótlás megnevezése | E9: Műszaki állapot felmérés, szükségességi indoklás | H9: Vízjogi létesítési/elvi engedély száma | I9: Az érintett ellátásért felelős(ök) megnevezése | J9: Tervezett nettó költség | K9: Forrás 2019 évre | L9: Megvalósítás időtartama | N9: Tervezett időtáv | O9: A beruházás ütemezése a tervezési időszak évei szerint
E10: Jelenlegi műszaki állapot | F10: Feladat szükségessége | G10: Megvalósítást követő várható műszaki állapot | J10: (eFt) | L10: Kezdés | M10: Befejezés | N10: (rövid / közép / hosszú) | O10: 1 | P10: 2 | Q10: 3 | R10: 4 | S10: 5 | T10: 6 | U10: 7 | V10: 8 | W10: 9 | X10: 10 | Y10: 11 | Z10: 12 | AA10: 13 | AB10: 14 | AC10: 15
B11: szakág | C11: Helyszín | D11: beruházás megnevezése
A12: 1 | D12: Rendkívüli helyzetből adódó azonnali feladatok (max. 15%) | F12: működőképeség biztosítása | I12: Csonkahegyhát | J12: =SUM(O12:AC12) -> 645.75 | L12: 43466 | M12: 48944 | O12: =0.15*$K$64 -> 43.05 | P12: =0.15*$K$64 -> 43.05 | Q12: =0.15*$K$64 -> 43.05 | R12: =0.15*$K$64 -> 43.05 | S12: =0.15*$K$64 -> 43.05 | T12: =0.15*$K$64 -> 43.05 | U12: =0.15*$K$64 -> 43.05 | V12: =0.15*$K$64 -> 43.05 | ... AC12: =0.15*$K$64 -> 43.05
B13: MÉLYFÚRÁSÚ KÚT, HAGYOMÁNYOS ÁTMÉRŐVEL
B14: Épület, építmény
B16: Gép, berendezés
B18: Irányítástechnika, energiaellátás
B20: Összesen: | J20: =SUM(J12:J19) -> 645.75
A22: III. Vízműtelep és vízkezelő létesítmények
C23: Helyszín | D23: beruházás megnevezése
B24: VÍZMŰTELEP
B25: Épület, építmény
B27: Gép, berendezés
B29: Irányítástechnika, energiaellátás
B31: VÍZKEZELŐ LÉTESÍTMÉNYEK
B32: Épület, építmény
B34: Gép, berendezés
B36: Irányítástechnika, energiaellátás
B38: Összesen | J38: =SUM(J24:J37) -> 0
A40: IV. Vízelosztás
C41: Helyszín | D41: beruházás megnevezése
B42: IVÓVÍZHÁLÓZAT
B43: Épület, építmény
C44: Csonkahegyhát | D44: tartalékkeret képzése rekonstrukcióra | E44: A vezeték állapota anyaga, kora, minősége miatt nem megfelelő, elavult. | F44: A bekötővezeték anyaga vízbiztonsági kockázatot rejt magában, illetve nagyobb a valószínűsége a meghibásodásnak. | G44: A vízvezeték kiváltás, a vízigények figyelembevételével megfelelő átmérőjű és anyagú hálózatot kapunk. | H44: - | I44: Csonkahegyhát | J44: =SUM(O44:AC44) -> 244 | L44: 43191 | M44: 43465 | N44: rövid | O44: 244
B46: Gép, berendezés
B48: Irányítástechnika, energiaellátás
B50: VÍZTÁROLÓK
B51: Épület, építmény
B53: Gép, berendezés
B55: Irányítástechnika, energiaellátás
B57: NYOMÁSFOKOZÓK
B58: Épület, építmény
B60: Gép, berendezés
B62: Irányítástechnika, energiaellátás
B64: Összesen: | J64: =SUM(J42:J63) -> 244 | K64: 287 | O64: =SUM(O11:O63) -> 287.05 | P64: =SUM(P11:P63) -> 43.05 | Q64: =SUM(Q11:Q63) -> 43.05 | R64: =SUM(R11:R63) -> 43.05 | S64: =SUM(S11:S63) -> 43.05 | T64: =SUM(T11:T63) -> 43.05 | U64: =SUM(U11:U63) -> 43.05 | V64: =SUM(V11:V63) -> 43.05 | ... AC64: =SUM(AC11:AC63) -> 43.05
K65: 2019 évre a fejlesztési forrás biztosított
B67: Rendelkezésre álló források megnevezése | C67: Rendelkezésre álló források számszerűsített értéke a teljes ütem tekintetében (eFt)
A68: I. ütem | B68: Használati díj (2019) | C68: =K64 -> 287
A69: II. ütem | B69: Használati díj (2020-2023) | C69: =C68*4 -> 1148
A70: III. ütem | B70: Használati díj (2024-2033) | C70: =C68*10 -> 2870

Sheet Dobronhegy
A1: Gördülő fejlesztési terv a 2019 - 2033 időszakra
A2: FELÚJÍTÁSOK ÉS PÓTLÁSOK ÖSSZEFOGLALÓ TÁBLÁZATA
A3: A tervet benyújtó szervezet megnevezése: | K3: DOBRONHEGY | R3: ellátásért felelős / ellátásért felelősök képviselője / víziközmű-szolgáltató *
A4: Víziközmű-szolgáltató megnevezése: | K4: ÉSZAK ZALAI VÍZ- ÉS CSATORNAMŰ ZÁRTKÖRŰEN MŰKÖDŐ RÉSZVÉNYTÁRSASÁG
A5: Víziközmű-szolgáltatási ágazat megnevezése: | K5: IVÓVÍZ ÁGAZAT
A6: Véleményeltérést megfogalmazó érintett fél megnevezése:
A7: Víziközmű-rendszer kódja: ** | K7: 11-32054-1-010-00-14 | R7: ZALAEGERSZEG-IV
A8: I. Felszín alatti vízkivétel
A9: Fontossági sorrend | B9: Felujítás és pótlás megnevezése | E9: Műszaki állapot felmérés, szükségességi indoklás | H9: Vízjogi létesítési/elvi engedély száma | I9: Az érintett ellátásért felelős(ök) megnevezése | J9: Tervezett nettó költség | K9: Forrás 2019 évre | L9: Megvalósítás időtartama | N9: Tervezett időtáv | O9: A beruházás ütemezése a tervezési időszak évei szerint
E10: Jelenlegi műszaki állapot | F10: Feladat szükségessége | G10: Megvalósítást követő várható műszaki állapot | J10: (eFt) | L10: Kezdés | M10: Befejezés | N10: (rövid / közép / hosszú) | O10: 1 | P10: 2 | Q10: 3 | R10: 4 | S10: 5 | T10: 6 | U10: 7 | V10: 8 | W10: 9 | X10: 10 | Y10: 11 | Z10: 12 | AA10: 13 | AB10: 14 | AC10: 15
B11: szakág | C11: Helyszín | D11: beruházás megnevezése
A12: 1 | D12: Rendkívüli helyzetből adódó azonnali feladatok (max. 15%) | F12: működőképeség biztosítása | I12: Dobronhegy | J12: =SUM(O12:AC12) -> 283.5 | L12: 43466 | M12: 48944 | O12: =0.15*$K$65 -> 18.9 | P12: =0.15*$K$65 -> 18.9 | Q12: =0.15*$K$65 -> 18.9 | R12: =0.15*$K$65 -> 18.9 | S12: =0.15*$K$65 -> 18.9 | T12: =0.15*$K$65 -> 18.9 | U12: =0.15*$K$65 -> 18.9 | V12: =0.15*$K$65 -> 18.9 | ... AC12: =0.15*$K$65 -> 18.9
B13: MÉLYFÚRÁSÚ KÚT, HAGYOMÁNYOS ÁTMÉRŐVEL
B14: Épület, építmény
B16: Gép, berendezés
B18: Irányítástechnika, energiaellátás
B20: Összesen: | J20: =SUM(J12:J19) -> 283.5
A22: III. Vízműtelep és vízkezelő létesítmények
C23: Helyszín | D23: beruházás megnevezése
B24: VÍZMŰTELEP
B25: Épület, építmény
B27: Gép, berendezés
B29: Irányítástechnika, energiaellátás
B31: VÍZKEZELŐ LÉTESÍTMÉNYEK
B32: Épület, építmény
B34: Gép, berendezés
B36: Irányítástechnika, energiaellátás
B38: Összesen | J38: =SUM(J24:J37) -> 0
A40: IV. Vízelosztás
C41: Helyszín | D41: beruházás megnevezése
B42: IVÓVÍZHÁLÓZAT
B43: Épület, építmény
C44: Dobronhegy | D44: tartalékkeret képzése rekonstrukcióra | E44: A vezeték állapota anyaga, kora, minősége miatt nem megfelelő, elavult. | F44: A bekötővezeték anyaga vízbiztonsági kockázatot rejt magában, illetve nagyobb a valószínűsége a meghibásodásnak. | G44: A vízvezeték kiváltás, a vízigények figyelembevételével megfelelő átmérőjű és anyagú hálózatot kapunk. | H44: - | I44: Dobronhegy | J44: =SUM(O44:AC44) -> 107 | L44: 43466 | M44: 43830 | N44: rövid | O44: 107
C45: Dobronhegy Petőfi u. | D45: csőhíd csere (NA100 6 fm) előtakarékoskodás | E45: A vezeték állapota anyaga, kora, minősége miatt nem megfelelő, elavult. | F45: A vezeték elavult műszaki állapota miatt gyakoriak a csőtörések | G45: A vízvezeték kiváltás, a vízigények figyelembevételével megfelelő átmérőjű és anyagú hálózatot kapunk. | H45: - | I45: Dobronhegy | J45: =SUM(O45:AC45) -> 200 | L45: 47209 | M45: 48579 | N45: hosszú | Y45: 50 | Z45: 50 | AA45: 50 | AB45: 50
B47: Gép, berendezés
B49: Irányítástechnika, energiaellátás
B51: VÍZTÁROLÓK
B52: Épület, építmény
B54: Gép, berendezés
B56: Irányítástechnika, energiaellátás
B58: NYOMÁSFOKOZÓK
B59: Épület, építmény
B61: Gép, berendezés
B63: Irányítástechnika, energiaellátás
B65: Összesen: | J65: =SUM(J42:J64) -> 307 | K65: 126 | O65: =SUM(O12:O64) -> 125.9 | P65: =SUM(P12:P64) -> 18.9 | Q65: =SUM(Q12:Q64) -> 18.9 | R65: =SUM(R12:R64) -> 18.9 | S65: =SUM(S12:S64) -> 18.9 | T65: =SUM(T12:T64) -> 18.9 | U65: =SUM(U12:U64) -> 18.9 | V65: =SUM(V12:V64) -> 18.9 | ... AC65: =SUM(AC12:AC64) -> 18.9
K66: 2019 évre a fejlesztési forrás biztosított
B68: Rendelkezésre álló források megnevezése | C68: Rendelkezésre álló források számszerűsített értéke a teljes ütem tekintetében (eFt)
A69: I. ütem | B69: Használati díj (2019) | C69: =K65 -> 126
A70: II. ütem | B70: Használati díj (2020-2023) | C70: =C69*4 -> 504
A71: III. ütem | B71: Használati díj (2024-2033) | C71: =C69*10 -> 1260

Sheet Hagyárosbörönd
A1: Gördülő fejlesztési terv a 2019 - 2033 időszakra
A2: FELÚJÍTÁSOK ÉS PÓTLÁSOK ÖSSZEFOGLALÓ TÁBLÁZATA
A3: A tervet benyújtó szervezet megnevezése: | K3: HAGYÁROSBÖRÖND | R3: ellátásért felelős / ellátásért felelősök képviselője / víziközmű-szolgáltató *
A4: Víziközmű-szolgáltató megnevezése: | K4: ÉSZAK ZALAI VÍZ- ÉS CSATORNAMŰ ZÁRTKÖRŰEN MŰKÖDŐ RÉSZVÉNYTÁRSASÁG
A5: Víziközmű-szolgáltatási ágazat megnevezése: | K5: IVÓVÍZ ÁGAZAT
A6: Véleményeltérést megfogalmazó érintett fél megnevezése:
A7: Víziközmű-rendszer kódja: ** | K7: 11-32054-1-010-00-14 | R7: ZALAEGERSZEG-IV
A8: I. Felszín alatti vízkivétel
A9: Fontossági sorrend | B9: Felujítás és pótlás megnevezése | E9: Műszaki állapot felmérés, szükségességi indoklás | H9: Vízjogi létesítési/elvi engedély száma | I9: Az érintett ellátásért felelős(ök) megnevezése | J9: Tervezett nettó költség | K9: Forrás 2019 évre | L9: Megvalósítás időtartama | N9: Tervezett időtáv | O9: A beruházás ütemezése a tervezési időszak évei szerint
E10: Jelenlegi műszaki állapot | F10: Feladat szükségessége | G10: Megvalósítást követő várható műszaki állapot | J10: (eFt) | L10: Kezdés | M10: Befejezés | N10: (rövid / közép / hosszú) | O10: 1 | P10: 2 | Q10: 3 | R10: 4 | S10: 5 | T10: 6 | U10: 7 | V10: 8 | W10: 9 | X10: 10 | Y10: 11 | Z10: 12 | AA10: 13 | AB10: 14 | AC10: 15
B11: szakág | C11: Helyszín | D11: beruházás megnevezése
A12: 1 | D12: Rendkívüli helyzetből adódó azonnali feladatok (max. 15%) | F12: működőképeség biztosítása | I12: Hagyárosbörönd | J12: =SUM(O12:AC12) -> 1595.25 | L12: 43466 | M12: 48944 | O12: =0.15*$K$66 -> 106.35 | P12: =0.15*$K$66 -> 106.35 | Q12: =0.15*$K$66 -> 106.35 | R12: =0.15*$K$66 -> 106.35 | S12: =0.15*$K$66 -> 106.35 | T12: =0.15*$K$66 -> 106.35 | U12: =0.15*$K$66 -> 106.35 | V12: =0.15*$K$66 -> 106.35 | ... AC12: =0.15*$K$66 -> 106.35
B13: MÉLYFÚRÁSÚ KÚT, HAGYOMÁNYOS ÁTMÉRŐVEL
B14: Épület, építmény
B16: Gép, berendezés
B18: Irányítástechnika, energiaellátás
B20: Összesen: | J20: =SUM(J12:J19) -> 1595.25
A22: III. Vízműtelep és vízkezelő létesítmények
C23: Helyszín | D23: beruházás megnevezése
B24: VÍZMŰTELEP
B25: Épület, építmény
B27: Gép, berendezés
B29: Irányítástechnika, energiaellátás
B31: VÍZKEZELŐ LÉTESÍTMÉNYEK
B32: Épület, építmény
B34: Gép, berendezés
B36: Irányítástechnika, energiaellátás
B38: Összesen | J38: =SUM(J24:J37) -> 0
A40: IV. Vízelosztás
C41: Helyszín | D41: beruházás megnevezése
B42: IVÓVÍZHÁLÓZAT
B43: Épület, építmény
C44: Hagyárosbörönd | D44: tartalékkeret képzése rekonstrukcióhoz | E44: A vezeték állapota anyaga, kora, minősége miatt nem megfelelő, elavult. | F44: A vezeték elavult műszaki állapota miatt gyakoriak a csőtörések. | G44: A vízvezeték kiváltás a vízigények figyelembevételével megfelelő átmérőjű és anyagú hálózatot kapunk. | I44: Hagyárosbörönd | J44: =SUM(O44:AC44) -> 603 | L44: 43525 | M44: 43830 | N44: rövid | O44: 603
C45: Hagyárosbörönd | D45: gerinchálózat szerelvény csere | E45: A szerelvény állapota anyaga, kora, minősége miatt nem megfelelő, elavult. | F45: A vezeték elavult műszaki állapota miatt gyakoriak a csőtörések | G45: A szerelvény kiváltás, a vízigények figyelembevételével megfelelő átmérőjű és anyagú hálózatot kapunk. | H45: - | I45: Hagyárosbörönd | J45: =SUM(O45:AC45) -> 100 | L45: 43922 | M45: 44196 | N45: közép | P45: 100
B47: Gép, berendezés
B49: Irányítástechnika, energiaellátás
B51: VÍZTÁROLÓK
B52: Épület, építmény
B54: Gép, berendezés
B56: Irányítástechnika, energiaellátás
B58: NYOMÁSFOKOZÓK
B59: Épület, építmény
B61: Gép, berendezés
C62: Hagyárosbörönd nyomásfokozó | D62: Szivattyú csere (CRIE5-9 2 db; CR45-6) | E62: A szivattyú kora, műszaki állapota miatt fennáll a meghibásodás veszélye. | F62: A folyamatos víztermelés biztosítása | G62: A Q–H diagramhoz illeszkedő energiahatékony szivattyú üzemeltetése | I62: Hagyárosbörönd | J62: =SUM(O62:AC62) -> 1500 | L62: 47119 | M62: 48213 | N62: hosszú | Y62: 254 | Z62: 674 | AA62: 572
B64: Irányítástechnika, energiaellátás
B66: Összesen: | J66: =SUM(J42:J65) -> 2203 | K66: 709 | O66: =SUM(O12:O65) -> 709.35 | P66: =SUM(P12:P65) -> 206.35 | Q66: =SUM(Q12:Q65) -> 106.35 | R66: =SUM(R12:R65) -> 106.35 | S66: =SUM(S12:S65) -> 106.35 | T66: =SUM(T12:T65) -> 106.35 | U66: =SUM(U12:U65) -> 106.35 | V66: =SUM(V12:V65) -> 106.35 | ... AC66: =SUM(AC12:AC65) -> 106.35
K67: 2019 évre a fejlesztési forrás biztosított
B69: Rendelkezésre álló források megnevezése | C69: Rendelkezésre álló források számszerűsített értéke a teljes ütem tekintetében (eFt)
A70: I. ütem | B70: Használati díj (2019) | C70: =K66 -> 709
A71: II. ütem | B71: Használati díj (2020-2023) | C71: =C70*4 -> 2836
A72: III. ütem | B72: Használati díj (2024-2033) | C72: =C70*10 -> 7090

Sheet Hottó
A1: Gördülő fejlesztési terv a 2019 - 2033 időszakra
A2: FELÚJÍTÁSOK ÉS PÓTLÁSOK ÖSSZEFOGLALÓ TÁBLÁZATA
A3: A tervet benyújtó szervezet megnevezése: | K3: HOTTÓ | R3: ellátásért felelős / ellátásért felelősök képviselője / víziközmű-szolgáltató *
A4: Víziközmű-szolgáltató megnevezése: | K4: ÉSZAK ZALAI VÍZ- ÉS CSATORNAMŰ ZÁRTKÖRŰEN MŰKÖDŐ RÉSZVÉNYTÁRSASÁG
A5: Víziközmű-szolgáltatási ágazat megnevezése: | K5: IVÓVÍZ ÁGAZAT
A6: Véleményeltérést megfogalmazó érintett fél megnevezése:
A7: Víziközmű-rendszer kódja: ** | K7: 11-32054-1-010-00-14 | R7: ZALAEGERSZEG-IV
A8: I. Felszín alatti vízkivétel
A9: Fontossági sorrend | B9: Felujítás és pótlás megnevezése | E9: Műszaki állapot felmérés, szükségességi indoklás | H9: Vízjogi létesítési/elvi engedély száma | I9: Az érintett ellátásért felelős(ök) megnevezése | J9: Tervezett nettó költség | K9: Forrás 2019 évre | L9: Megvalósítás időtartama | N9: Tervezett időtáv | O9: A beruházás ütemezése a tervezési időszak évei szerint
E10: Jelenlegi műszaki állapot | F10: Feladat szükségessége | G10: Megvalósítást követő várható műszaki állapot | J10: (eFt) | L10: Kezdés | M10: Befejezés | N10: (rövid / közép / hosszú) | O10: 1 | P10: 2 | Q10: 3 | R10: 4 | S10: 5 | T10: 6 | U10: 7 | V10: 8 | W10: 9 | X10: 10 | Y10: 11 | Z10: 12 | AA10: 13 | AB10: 14 | AC10: 15
B11: szakág | C11: Helyszín | D11: beruházás megnevezése
A12: 1 | D12: Rendkívüli helyzetből adódó azonnali feladatok (max. 15%) | F12: működőképeség biztosítása | I12: Hottó | J12: =SUM(O12:AC12) -> 1451.25 | L12: 43466 | M12: 48944 | O12: =0.15*$K$65 -> 96.75 | P12: =0.15*$K$65 -> 96.75 | Q12: =0.15*$K$65 -> 96.75 | R12: =0.15*$K$65 -> 96.75 | S12: =0.15*$K$65 -> 96.75 | T12: =0.15*$K$65 -> 96.75 | U12: =0.15*$K$65 -> 96.75 | V12: =0.15*$K$65 -> 96.75 | ... AC12: =0.15*$K$65 -> 96.75
B13: MÉLYFÚRÁSÚ KÚT, HAGYOMÁNYOS ÁTMÉRŐVEL
B14: Épület, építmény
B16: Gép, berendezés
B18: Irányítástechnika, energiaellátás
B20: Összesen: | J20: =SUM(J12:J18) -> 1451.25
A22: III. Vízműtelep és vízkezelő létesítmények
C23: Helyszín | D23: beruházás megnevezése
B24: VÍZMŰTELEP
B25: Épület, építmény
B27: Gép, berendezés
B29: Irányítástechnika, energiaellátás
B31: VÍZKEZELŐ LÉTESÍTMÉNYEK
B32: Épület, építmény
B34: Gép, berendezés
B36: Irányítástechnika, energiaellátás
B38: Összesen | J38: =SUM(J24:J37) -> 0
A40: IV. Vízelosztás
C41: Helyszín | D41: beruházás megnevezése
B42: IVÓVÍZHÁLÓZAT
B43: Épület, építmény
C44: Hottó | D44: tartalékkeret képzése rekonstrukcióhoz | E44: A vezeték állapota anyaga, kora, minősége miatt nem megfelelő, elavult. | F44: A vezeték elavult műszaki állapota miatt gyakoriak a csőtörések. | G44: A vízvezeték kiváltás a vízigények figyelembevételével megfelelő átmérőjű és anyagú hálózatot kapunk. | I44: Hottó | J44: =SUM(O44:AC44) -> 548 | L44: 43466 | M44: 43830 | N44: rövid | O44: 548
B46: Gép, berendezés
B48: Irányítástechnika, energiaellátás
B50: VÍZTÁROLÓK
B51: Épület, építmény
B53: Gép, berendezés
B55: Irányítástechnika, energiaellátás
B57: NYOMÁSFOKOZÓK
B58: Épület, építmény
B60: Gép, berendezés
C61: Teskánd Babosdöbrétei átemelő | D61: Szivattyú csere (EMU K64-10 2 db), teljes gépészeti rekonstrukció | E61: A szivattyú kora, műszaki állapota miatt fennáll a meghibásodás veszélye. Feladat szükségessége | F61: A folyamatos víztermelés biztosítása. | G61: A Q–H diagramhoz illeszkedő energiahatékony szivattyú üzemeltetése. | I61: Babosdöbréte tulajdonosközösség | J61: =SUM(O61:AC61) -> 981 | L61: 47119 | M61: 47483 | N61: hosszú | Y61: 981
B63: Irányítástechnika, energiaellátás
B65: Összesen: | J65: =SUM(J42:J64) -> 1529 | K65: 645 | O65: =SUM(O12:O64) -> 644.75 | P65: =SUM(P12:P64) -> 96.75 | Q65: =SUM(Q12:Q64) -> 96.75 | R65: =SUM(R12:R64) -> 96.75 | S65: =SUM(S12:S64) -> 96.75 | T65: =SUM(T12:T64) -> 96.75 | U65: =SUM(U12:U64) -> 96.75 | V65: =SUM(V12:V64) -> 96.75 | ... AC65: =SUM(AC12:AC64) -> 96.75
K66: 2019 évre a fejlesztési forrás biztosított
B68: Rendelkezésre álló források megnevezése | C68: Rendelkezésre álló források számszerűsített értéke a teljes ütem tekintetében (eFt)
A69: I. ütem | B69: Használati díj (2019) | C69: =K65 -> 645
A70: II. ütem | B70: Használati díj (2020-2023) | C70: =C69*4 -> 2580
A71: III. ütem | B71: Használati díj (2024-2033) | C71: =C69*10 -> 6450

Sheet Kávás
A1: Gördülő fejlesztési terv a 2019 - 2033 időszakra
A2: FELÚJÍTÁSOK ÉS PÓTLÁSOK ÖSSZEFOGLALÓ TÁBLÁZATA
A3: A tervet benyújtó szervezet megnevezése: | K3: KÁVÁS | R3: ellátásért felelős / ellátásért felelősök képviselője / víziközmű-szolgáltató *
A4: Víziközmű-szolgáltató megnevezése: | K4: ÉSZAK ZALAI VÍZ- ÉS CSATORNAMŰ ZÁRTKÖRŰEN MŰKÖDŐ RÉSZVÉNYTÁRSASÁG
A5: Víziközmű-szolgáltatási ágazat megnevezése: | K5: IVÓVÍZ ÁGAZAT
A6: Véleményeltérést megfogalmazó érintett fél megnevezése:
A7: Víziközmű-rendszer kódja: ** | K7: 11-32054-1-010-00-14 | R7: ZALAEGERSZEG-IV
A8: I. Felszín alatti vízkivétel
A9: Fontossági sorrend | B9: Felujítás és pótlás megnevezése | E9: Műszaki állapot felmérés, szükségességi indoklás | H9: Vízjogi létesítési/elvi engedély száma | I9: Az érintett ellátásért felelős(ök) megnevezése | J9: Tervezett nettó költség | K9: Forrás 2019 évre | L9: Megvalósítás időtartama | N9: Tervezett időtáv | O9: A beruházás ütemezése a tervezési időszak évei szerint
E10: Jelenlegi műszaki állapot | F10: Feladat szükségessége | G10: Megvalósítást követő várható műszaki állapot | J10: (eFt) | L10: Kezdés | M10: Befejezés | N10: (rövid / közép / hosszú) | O10: 1 | P10: 2 | Q10: 3 | R10: 4 | S10: 5 | T10: 6 | U10: 7 | V10: 8 | W10: 9 | X10: 10 | Y10: 11 | Z10: 12 | AA10: 13 | AB10: 14 | AC10: 15
B11: szakág | C11: Helyszín | D11: beruházás megnevezése
A12: 1 | D12: Rendkívüli helyzetből adódó azonnali feladatok (max.15%) | F12: működőképeség biztosítása | I12: Kávás | J12: =SUM(O12:AC12) -> 1381.5 | L12: 43466 | M12: 48944 | O12: =0.15*$K$67 -> 92.1 | P12: =0.15*$K$67 -> 92.1 | Q12: =0.15*$K$67 -> 92.1 | R12: =0.15*$K$67 -> 92.1 | S12: =0.15*$K$67 -> 92.1 | T12: =0.15*$K$67 -> 92.1 | U12: =0.15*$K$67 -> 92.1 | V12: =0.15*$K$67 -> 92.1 | ... AC12: =0.15*$K$67 -> 92.1
B13: MÉLYFÚRÁSÚ KÚT, HAGYOMÁNYOS ÁTMÉRŐVEL
B14: Épület, építmény
B16: Gép, berendezés
B18: Irányítástechnika, energiaellátás
B20: Összesen: | J20: =SUM(J12:J19) -> 1381.5
A22: III. Vízműtelep és vízkezelő létesítmények
C23: Helyszín | D23: beruházás megnevezése
B24: VÍZMŰTELEP
B25: Épület, építmény
B27: Gép, berendezés
B29: Irányítástechnika, energiaellátás
B31: VÍZKEZELŐ LÉTESÍTMÉNYEK
B32: Épület, építmény
B34: Gép, berendezés
B36: Irányítástechnika, energiaellátás
B38: Összesen | J38: =SUM(J24:J37) -> 0
A40: IV. Vízelosztás
C41: Helyszín | D41: beruházás megnevezése
B42: IVÓVÍZHÁLÓZAT
B43: Épület, építmény
C44: Kávás | D44: tartalékkeret képzése rekonstrukcióhoz | E44: A vezeték állapota anyaga, kora, minősége miatt nem megfelelő, elavult. | F44: A vezeték elavult műszaki állapota miatt gyakoriak a csőtörések. | G44: A vízvezeték kiváltás a vízigények figyelembevételével megfelelő átmérőjű és anyagú hálózatot kapunk. | I44: Kávás | J44: =SUM(O44:AC44) -> 522 | L44: 43525 | M44: 43830 | N44: rövid | O44: 522
C45: Kávás | D45: gerinchálózat szerelvény csere | E45: A szerelvény állapota anyaga, kora, minősége miatt nem megfelelő, elavult. | F45: A vezeték elavult műszaki állapota miatt gyakoriak a csőtörések | G45: A szerelvény kiváltás, a vízigények figyelembevételével megfelelő átmérőjű és anyagú hálózatot kapunk. | I45: Kávás | J45: =SUM(O45:AC45) -> 100 | L45: 43922 | M45: 44196 | N45: közép | P45: 100
C46: Kávás | D46: ivóvízhálózat rekonstrukció | E46: A vezeték állapota anyaga, kora, minősége miatt nem megfelelő, elavult. | F46: A vezeték elavult műszaki állapota miatt gyakoriak a csőtörések | G46: A vízvezeték kiváltás, a vízigények figyelembevételével megfelelő átmérőjű és anyagú hálózatot kapunk. | I46: Kávás | J46: =SUM(O46:AC46) -> 66130 | L46: 45383 | M46: 48944 | N46: hosszú | T46: 6613 | U46: 6613 | V46: 6613 | W46: 6613 | X46: 6613 | Y46: 6613 | Z46: 6613 | AA46: 6613 | AB46: 6613 | AC46: 6613
B48: Gép, berendezés
B50: Irányítástechnika, energiaellátás
B52: VÍZTÁROLÓK
B53: Épület, építmény
B55: Gép, berendezés
B57: Irányítástechnika, energiaellátás
B59: NYOMÁSFOKOZÓK
B60: Épület, építmény
B62: Gép, berendezés
C63: Kávás Öreghegy nyomásfokozó | D63: Szivattyú csere (CRIE3-8 2 db) | E63: A szivattyú kora, műszaki állapota miatt fennáll a meghibásodás veszélye. | F63: A folyamatos víztermelés biztosítása | G63: A Q–H diagramhoz illeszkedő energiahatékony szivattyú üzemeltetése | I63: Kávás | J63: =SUM(O63:AC63) -> 500 | L63: 47119 | M63: 47848 | N63: hosszú | Y63: 310 | Z63: 190
B65: Irányítástechnika, energiaellátás
B67: Összesen: | J67: =SUM(J42:J66) -> 67252 | K67: 614 | O67: =SUM(O12:O66) -> 614.1 | P67: =SUM(P12:P66) -> 192.1 | Q67: =SUM(Q12:Q66) -> 92.1 | R67: =SUM(R12:R66) -> 92.1 | S67: =SUM(S12:S66) -> 92.1 | T67: =SUM(T12:T66) -> 6705.1 | U67: =SUM(U12:U66) -> 6705.1 | V67: =SUM(V12:V66) -> 6705.1 | ... AC67: =SUM(AC12:AC66) -> 6705.1
K68: 2019 évre a fejlesztési forrás biztosított
B70: Rendelkezésre álló források megnevezése | C70: Rendelkezésre álló források számszerűsített értéke a teljes ütem tekintetében (eFt)
A71: I. ütem | B71: Használati díj (2019) | C71: =K67 -> 614
A72: II. ütem | B72: Használati díj (2020-2023) | C72: =C71*4 -> 2456
A73: III. ütem | B73: Használati díj (2024-2033) | C73: =C71*10 -> 6140

Sheet Kiskutas
A1: Gördülő fejlesztési terv a 2019 - 2033 időszakra
A2: FELÚJÍTÁSOK ÉS PÓTLÁSOK ÖSSZEFOGLALÓ TÁBLÁZATA
A3: A tervet benyújtó szervezet megnevezése: | K3: KISKUTAS | R3: ellátásért felelős / ellátásért felelősök képviselője / víziközmű-szolgáltató *
A4: Víziközmű-szolgáltató megnevezése: | K4: ÉSZAK ZALAI VÍZ- ÉS CSATORNAMŰ ZÁRTKÖRŰEN MŰKÖDŐ RÉSZVÉNYTÁRSASÁG
A5: Víziközmű-szolgáltatási ágazat megnevezése: | K5: IVÓVÍZ ÁGAZAT
A6: Véleményeltérést megfogalmazó érintett fél megnevezése:
A7: Víziközmű-rendszer kódja: ** | K7: 11-32054-1-010-00-14 | R7: ZALAEGERSZEG-IV
A8: I. Felszín alatti vízkivétel
A9: Fontossági sorrend | B9: Felujítás és pótlás megnevezése | E9: Műszaki állapot felmérés, szükségességi indoklás | H9: Vízjogi létesítési/elvi engedély száma | I9: Az érintett ellátásért felelős(ök) megnevezése | J9: Tervezett nettó költség | K9: Forrás 2019 évre | L9: Megvalósítás időtartama | N9: Tervezett időtáv | O9: A beruházás ütemezése a tervezési időszak évei szerint
E10: Jelenlegi műszaki állapot | F10: Feladat szükségessége | G10: Megvalósítást követő várható műszaki állapot | J10: (eFt) | L10: Kezdés | M10: Befejezés | N10: (rövid / közép / hosszú) | O10: 1 | P10: 2 | Q10: 3 | R10: 4 | S10: 5 | T10: 6 | U10: 7 | V10: 8 | W10: 9 | X10: 10 | Y10: 11 | Z10: 12 | AA10: 13 | AB10: 14 | AC10: 15
B11: szakág | C11: Helyszín | D11: beruházás megnevezése
A12: 1 | D12: Rendkívüli helyzetből adódó azonnali feladatok (max. 15%) | F12: működőképeség biztosítása | I12: Kiskutas | J12: =SUM(O12:AC12) -> 967.5 | L12: 43466 | M12: 48944 | O12: =0.15*$K$66 -> 64.5 | P12: =0.15*$K$66 -> 64.5 | Q12: =0.15*$K$66 -> 64.5 | R12: =0.15*$K$66 -> 64.5 | S12: =0.15*$K$66 -> 64.5 | T12: =0.15*$K$66 -> 64.5 | U12: =0.15*$K$66 -> 64.5 | V12: =0.15*$K$66 -> 64.5 | ... AC12: =0.15*$K$66 -> 64.5
B13: MÉLYFÚRÁSÚ KÚT, HAGYOMÁNYOS ÁTMÉRŐVEL
B14: Épület, építmény
B16: Gép, berendezés
B18: Irányítástechnika, energiaellátás
B20: Összesen: | J20: =SUM(J12:J18) -> 967.5
A22: III. Vízműtelep és vízkezelő létesítmények
C23: Helyszín | D23: beruházás megnevezése
B24: VÍZMŰTELEP
B25: Épület, építmény
B27: Gép, berendezés
B29: Irányítástechnika, energiaellátás
B31: VÍZKEZELŐ LÉTESÍTMÉNYEK
B32: Épület, építmény
B34: Gép, berendezés
B36: Irányítástechnika, energiaellátás
B38: Összesen | J38: =SUM(J24:J37) -> 0
A40: IV. Vízelosztás
C41: Helyszín | D41: beruházás megnevezése
B42: IVÓVÍZHÁLÓZAT
B43: Épület, építmény
C44: Kiskutas | D44: tartalékkeret képzése rekonstrukcióhoz | E44: A vezeték állapota anyaga, kora, minősége miatt nem megfelelő, elavult. | F44: A vezeték elavult műszaki állapota miatt gyakoriak a csőtörések. | G44: A vízvezeték kiváltás a vízigények figyelembevételével megfelelő átmérőjű és anyagú hálózatot kapunk. | I44: Kiskutas | J44: =SUM(O44:AC44) -> 365 | L44: 43525 | M44: 43830 | N44: rövid | O44: 365
B46: Gép, berendezés
B48: Irányítástechnika, energiaellátás
B50: VÍZTÁROLÓK
B51: Épület, építmény
B53: Gép, berendezés
B55: Irányítástechnika, energiaellátás
B57: NYOMÁSFOKOZÓK
B58: Épület, építmény
B60: Gép, berendezés
C61: Nagykutasi átemelő | D61: Szivattyú csere (EMU K64-6 2 db), teljes gépészeti rekonstrukció | E61: A szivattyú kora, műszaki állapota miatt fennáll a meghibásodás veszélye. Feladat szükségessége | F61: A folyamatos víztermelés biztosítása. | G61: A Q–H diagramhoz illeszkedő energiahatékony szivattyú üzemeltetése. | I61: Nagykutas tulajdonosközösség | J61: =SUM(O61:AC61) -> 456 | L61: 46388 | M61: 46752 | N61: hosszú | W61: 456
B63: Irányítástechnika, energiaellátás
C64: Nagykutas átemelő | D64: elektromos és irányítástechnikai szekrény csere | E64: Az elektromos, irányítástechnikai szerelvények és vezetékek, műszaki állapota miatt fennáll a meghibásodás veszélye. | F64: A szivattyú elektromos megtáplálása, a folyamatos távfelügyelet biztosítása. | G64: A szivattyú elektromos paramétereihez illeszkedő erősáramú és vezérlőszekrény. | I64: Nagykutas tulajdonosközösség | J64: =SUM(O64:AC64) -> 456 | L64: 46388 | M64: 46752 | N64: hosszú | W64: 456
B66: Összesen: | J66: =SUM(J42:J65) -> 1277 | K66: 430 | O66: =SUM(O12:O65) -> 429.5 | P66: =SUM(P12:P65) -> 64.5 | Q66: =SUM(Q12:Q65) -> 64.5 | R66: =SUM(R12:R65) -> 64.5 | S66: =SUM(S12:S65) -> 64.5 | T66: =SUM(T12:T65) -> 64.5 | U66: =SUM(U12:U65) -> 64.5 | V66: =SUM(V12:V65) -> 64.5 | ... AC66: =SUM(AC12:AC65) -> 64.5
K67: 2019 évre a fejlesztési forrás biztosított
B69: Rendelkezésre álló források megnevezése | C69: Rendelkezésre álló források számszerűsített értéke a teljes ütem tekintetében (eFt)
A70: I. ütem | B70: Használati díj (2019) | C70: =K66 -> 430
A71: II. ütem | B71: Használati díj (2020-2023) | C71: =C70*4 -> 1720
A72: III. ütem | B72: Használati díj (2024-2033) | C72: =C70*10 -> 4300

Sheet Kispáli
A1: Gördülő fejlesztési terv a 2019 - 2033 időszakra
A2: FELÚJÍTÁSOK ÉS PÓTLÁSOK ÖSSZEFOGLALÓ TÁBLÁZATA
A3: A tervet benyújtó szervezet megnevezése: | K3: KISPÁLI | R3: ellátásért felelős / ellátásért felelősök képviselője / víziközmű-szolgáltató *
A4: Víziközmű-szolgáltató megnevezése: | K4: ÉSZAK ZALAI VÍZ- ÉS CSATORNAMŰ ZÁRTKÖRŰEN MŰKÖDŐ RÉSZVÉNYTÁRSASÁG
A5: Víziközmű-szolgáltatási ágazat megnevezése: | K5: IVÓVÍZ ÁGAZAT
A6: Véleményeltérést megfogalmazó érintett fél megnevezése:
A7: Víziközmű-rendszer kódja: ** | K7: 11-32054-1-010-00-14 | R7: ZALAEGERSZEG-IV
A8: I. Felszín alatti vízkivétel
A9: Fontossági sorrend | B9: Felujítás és pótlás megnevezése | E9: Műszaki állapot felmérés, szükségességi indoklás | H9: Vízjogi létesítési/elvi engedély száma | I9: Az érintett ellátásért felelős(ök) megnevezése | J9: Tervezett nettó költség | K9: Forrás 2019 évre | L9: Megvalósítás időtartama | N9: Tervezett időtáv | O9: A beruházás ütemezése a tervezési időszak évei szerint
E10: Jelenlegi műszaki állapot | F10: Feladat szükségessége | G10: Megvalósítást követő várható műszaki állapot | J10: (eFt) | L10: Kezdés | M10: Befejezés | N10: (rövid / közép / hosszú) | O10: 1 | P10: 2 | Q10: 3 | R10: 4 | S10: 5 | T10: 6 | U10: 7 | V10: 8 | W10: 9 | X10: 10 | Y10: 11 | Z10: 12 | AA10: 13 | AB10: 14 | AC10: 15
B11: szakág | C11: Helyszín | D11: beruházás megnevezése
A12: 1 | D12: Rendkívüli helyzetből adódó azonnali feladatok (max.15%) | F12: működőképeség biztosítása | I12: Kispáli | J12: =SUM(O12:AC12) -> 3156.75 | L12: 43466 | M12: 48944 | O12: =0.15*$K$70 -> 210.45 | P12: =0.15*$K$70 -> 210.45 | Q12: =0.15*$K$70 -> 210.45 | R12: =0.15*$K$70 -> 210.45 | S12: =0.15*$K$70 -> 210.45 | T12: =0.15*$K$70 -> 210.45 | U12: =0.15*$K$70 -> 210.45 | V12: =0.15*$K$70 -> 210.45 | ... AC12: =0.15*$K$70 -> 210.45
B13: MÉLYFÚRÁSÚ KÚT, HAGYOMÁNYOS ÁTMÉRŐVEL
B14: Épület, építmény
B16: Gép, berendezés
B18: Irányítástechnika, energiaellátás
B20: Összesen: | J20: =SUM(J12:J19) -> 3156.75
A22: III. Vízműtelep és vízkezelő létesítmények
C23: Helyszín | D23: beruházás megnevezése
B24: VÍZMŰTELEP
B25: Épület, építmény
B27: Gép, berendezés
B29: Irányítástechnika, energiaellátás
B31: VÍZKEZELŐ LÉTESÍTMÉNYEK
B32: Épület, építmény
B34: Gép, berendezés
B36: Irányítástechnika, energiaellátás
B38: Összesen | J38: =SUM(J24:J37) -> 0
A40: IV. Vízelosztás
C41: Helyszín | D41: beruházás megnevezése
B42: IVÓVÍZHÁLÓZAT
B43: Épület, építmény
C44: Kispáli | D44: tervezett ivóvízvezeték rekonstrukció | E44: A vezeték állapota anyaga, kora, minősége miatt nem megfelelő, elavult. | F44: A vezeték elavult műszaki állapota miatt gyakoriak a csőtörések. | G44: A vízvezeték kiváltás, a vízigények figyelembevételével megfelelő átmérőjű és anyagú hálózatot kapunk. | H44: - | I44: Kispáli | J44: =SUM(O44:AC44) -> 1193 | L44: 43466 | M44: 43830 | N44: rövid | O44: 1193
C45: Kispáli | D45: bekötővezetékek ütemezett cseréje | E45: A vezeték állapota anyaga, kora, minősége miatt nem megfelelő, elavult. | F45: A bekötővezeték anyaga vízbiztonsági kockázatot rejt magában, illetve nagyobb a valószínűsége a meghibásodásnak. | G45: A vízvezeték kiváltás, a vízigények figyelembevételével megfelelő átmérőjű és anyagú hálózatot kapunk. | H45: - | I45: Kispáli | J45: =SUM(O45:AC45) -> 4124 | L45: 43952 | M45: 45291 | N45: közép | P45: 1031 | Q45: 1031 | R45: 1031 | S45: 1031
C46: Kispáli | D46: gerincvezetékek szerelvényeinek ütemezett cseréje | E46: A vezeték állapota anyaga, kora, minősége miatt nem megfelelő, elavult. | F46: A vezeték elavult műszaki állapota miatt gyakoriak a csőtörések. | G46: A vízvezeték kiváltás, a vízigények figyelembevételével megfelelő átmérőjű és anyagú hálózatot kapunk. | H46: - | I46: Kispáli | J46: =SUM(O46:AC46) -> 1031 | L46: 45047 | M46: 45291 | N46: közép | S46: 1031
C47: Kispáli | D47: gerincvezetékek szerelvényeinek ütemezett cseréje | E47: A vezeték állapota anyaga, kora, minősége miatt nem megfelelő, elavult. | F47: A vezeték elavult műszaki állapota miatt gyakoriak a csőtörések. | G47: A vízvezeték kiváltás, a vízigények figyelembevételével megfelelő átmérőjű és anyagú hálózatot kapunk. | H47: - | I47: Kispáli | J47: =SUM(O47:AC47) -> 1031 | L47: 45413 | M47: 45657 | N47: hosszú | T47: 1031
C48: Kispáli | D48: bekötővezetékek ütemezett cseréje | E48: A vezeték állapota anyaga, kora, minősége miatt nem megfelelő, elavult. | F48: A bekötővezeték anyaga vízbiztonsági kockázatot rejt magában, illetve nagyobb a valószínűsége a meghibásodásnak. | G48: A vízvezeték kiváltás, a vízigények figyelembevételével megfelelő átmérőjű és anyagú hálózatot kapunk. | H48: - | I48: Kispáli | J48: =SUM(O48:AC48) -> 8248 | L48: 45778 | M48: 48579 | N48: hosszú | U48: 1031 | V48: 1031 | W48: 1031 | X48: 1031 | Y48: 1031 | Z48: 1031 | AA48: 1031 | AB48: 1031
B50: Gép, berendezés
B52: Irányítástechnika, energiaellátás
B54: VÍZTÁROLÓK
B55: Épület, építmény
B57: Gép, berendezés
B59: Irányítástechnika, energiaellátás
B61: NYOMÁSFOKOZÓK
B62: Épület, építmény
B64: Gép, berendezés
C65: Nagykutasi átemelő | D65: Szivattyú csere (EMU K64-6 2 db), teljes gépészeti rekonstrukció | E65: A szivattyú kora, műszaki állapota miatt fennáll a meghibásodás veszélye. Feladat szükségessége | F65: A folyamatos víztermelés biztosítása. | G65: A Q–H diagramhoz illeszkedő energiahatékony szivattyú üzemeltetése. | I65: Nagykutas tulajdonosközösség | J65: =SUM(O65:AC65) -> 974 | L65: 46388 | M65: 46752 | N65: hosszú | W65: 974
B67: Irányítástechnika, energiaellátás
C68: Nagykutas átemelő | D68: elektromos és irányítástechnikai szekrény csere | E68: Az elektromos, irányítástechnikai szerelvények és vezetékek, műszaki állapota miatt fennáll a meghibásodás veszélye. | F68: A szivattyú elektromos megtáplálása, a folyamatos távfelügyelet biztosítása. | G68: A szivattyú elektromos paramétereihez illeszkedő erősáramú és vezérlőszekrény. | I68: Nagykutas tulajdonosközösség | J68: =SUM(O68:AC68) -> 974 | L68: 46388 | M68: 46752 | N68: hosszú | W68: 974
B70: Összesen: | J70: =SUM(J42:J69) -> 17575 | K70: 1403 | O70: =SUM(O11:O69) -> 1403.45 | P70: =SUM(P11:P69) -> 1241.45 | Q70: =SUM(Q11:Q69) -> 1241.45 | R70: =SUM(R11:R69) -> 1241.45 | S70: =SUM(S11:S69) -> 2272.45 | T70: =SUM(T11:T69) -> 1241.45 | U70: =SUM(U11:U69) -> 1241.45 | V70: =SUM(V11:V69) -> 1241.45 | ... AC70: =SUM(AC11:AC69) -> 210.45
K71: 2019 évre a fejlesztési forrás biztosított
B73: Rendelkezésre álló források megnevezése | C73: Rendelkezésre álló források számszerűsített értéke a teljes ütem tekintetében (eFt)
A74: I. ütem | B74: Használati díj (2019) | C74: =K70 -> 1403
A75: II. ütem | B75: Használati díj (2020-2023) | C75: =C74*4 -> 5612
A76: III. ütem | B76: Használati díj (2024-2033) | C76: =C74*10 -> 14030

Sheet Kustánszeg
A1: Gördülő fejlesztési terv a 2019 - 2033 időszakra
A2: FELÚJÍTÁSOK ÉS PÓTLÁSOK ÖSSZEFOGLALÓ TÁBLÁZATA
A3: A tervet benyújtó szervezet megnevezése: | K3: KUSTÁNSZEG | R3: ellátásért felelős / ellátásért felelősök képviselője / víziközmű-szolgáltató *
A4: Víziközmű-szolgáltató megnevezése: | K4: ÉSZAK ZALAI VÍZ- ÉS CSATORNAMŰ ZÁRTKÖRŰEN MŰKÖDŐ RÉSZVÉNYTÁRSASÁG
A5: Víziközmű-szolgáltatási ágazat megnevezése: | K5: IVÓVÍZ ÁGAZAT
A6: Véleményeltérést megfogalmazó érintett fél megnevezése:
A7: Víziközmű-rendszer kódja: ** | K7: 11-32054-1-010-00-14 | R7: ZALAEGERSZEG-IV
A8: I. Felszín alatti vízkivétel
A9: Fontossági sorrend | B9: Felujítás és pótlás megnevezése | E9: Műszaki állapot felmérés, szükségességi indoklás | H9: Vízjogi létesítési/elvi engedély száma | I9: Az érintett ellátásért felelős(ök) megnevezése | J9: Tervezett nettó költség | K9: Forrás 2019 évre | L9: Megvalósítás időtartama | N9: Tervezett időtáv | O9: A beruházás ütemezése a tervezési időszak évei szerint
E10: Jelenlegi műszaki állapot | F10: Feladat szükségessége | G10: Megvalósítást követő várható műszaki állapot | J10: (eFt) | L10: Kezdés | M10: Befejezés | N10: (rövid / közép / hosszú) | O10: 1 | P10: 2 | Q10: 3 | R10: 4 | S10: 5 | T10: 6 | U10: 7 | V10: 8 | W10: 9 | X10: 10 | Y10: 11 | Z10: 12 | AA10: 13 | AB10: 14 | AC10: 15
B11: szakág | C11: Helyszín | D11: beruházás megnevezése
A12: 1 | D12: Rendkívüli helyzetből adódó azonnali feladatok (max. 5%) | F12: működőképeség biztosítása | I12: Kustánszeg | J12: =SUM(O12:AC12) -> 5260.5 | L12: 43466 | M12: 48944 | O12: =0.15*$K$67 -> 350.7 | P12: =0.15*$K$67 -> 350.7 | Q12: =0.15*$K$67 -> 350.7 | R12: =0.15*$K$67 -> 350.7 | S12: =0.15*$K$67 -> 350.7 | T12: =0.15*$K$67 -> 350.7 | U12: =0.15*$K$67 -> 350.7 | V12: =0.15*$K$67 -> 350.7 | ... AC12: =0.15*$K$67 -> 350.7
B13: MÉLYFÚRÁSÚ KÚT, HAGYOMÁNYOS ÁTMÉRŐVEL
B14: Épület, építmény
B16: Gép, berendezés
B18: Irányítástechnika, energiaellátás
B20: Összesen: | J20: =SUM(J12:J19) -> 5260.5
A22: III. Vízműtelep és vízkezelő létesítmények
C23: Helyszín | D23: beruházás megnevezése
B24: VÍZMŰTELEP
B25: Épület, építmény
B27: Gép, berendezés
B29: Irányítástechnika, energiaellátás
B31: VÍZKEZELŐ LÉTESÍTMÉNYEK
B32: Épület, építmény
B34: Gép, berendezés
B36: Irányítástechnika, energiaellátás
B38: Összesen | J38: =SUM(J24:J37) -> 0
A40: IV. Vízelosztás
C41: Helyszín | D41: beruházás megnevezése
B42: IVÓVÍZHÁLÓZAT
B43: Épület, építmény
C44: Kustánszeg | D44: tartalékkeret képzése rekonstrukcióhoz | E44: A vezeték állapota anyaga, kora, minősége miatt nem megfelelő, elavult. | F44: A bekötővezeték anyaga vízbiztonsági kockázatot rejt magában, illetve nagyobb a valószínűsége a meghibásodásnak. | G44: A vízvezeték kiváltás, a vízigények figyelembevételével megfelelő átmérőjű és anyagú hálózatot kapunk. | H44: - | I44: Kustánszeg | J44: =SUM(O44:AC44) -> 1987 | L44: 43466 | M44: 43830 | N44: rövid | O44: 1987
B46: Gép, berendezés
B48: Irányítástechnika, energiaellátás
B50: VÍZTÁROLÓK
B51: Épület, építmény
B53: Gép, berendezés
C54: Kustánszeg víztorony | D54: Gépészeti rekonstrukció | E54: A technológia, szerelvények és vezetékek, műszaki állapota miatt fennáll a meghibásodás veszélye. | F54: A víztárolás gépészeti berendezései nem töltik be funkciójukat (nyitás-zárás). Az avultsági szint miatt fennáll a meghibásodás veszélye | G54: Megfelelő hatékonyságú technológia. A gépészeti funkciókat kifogástalanul ellátó szerelvények | I54: Becsvölgye tulajdonosközösség | J54: =SUM(O54:AC54) -> 562 | L54: 44927 | M54: 45291 | N54: közép | S54: 562
C55: Kustánszeg víztorony | D55: Gépészeti rekonstrukció | E55: A technológia, szerelvények és vezetékek, műszaki állapota miatt fennáll a meghibásodás veszélye. | F55: A víztárolás gépészeti berendezései nem töltik be funkciójukat (nyitás-zárás). Az avultsági szint miatt fennáll a meghibásodás veszélye | G55: Megfelelő hatékonyságú technológia. A gépészeti funkciókat kifogástalanul ellátó szerelvények | I55: Becsvölgye tulajdonosközösség | J55: =SUM(O55:AC55) -> 865 | L55: 45292 | M55: 45657 | N55: hosszú | T55: 865
B57: Irányítástechnika, energiaellátás
C58: Kustánszeg víztorony | D58: Elektromos és irányítástechnikai felújítás | E58: Az elektromos, irányítástechnikai szerelvények és vezetékek, műszaki állapota miatt fennáll a meghibásodás veszélye. | F58: A víztárolók elektromos megtáplálása, a folyamatos távfelügyelet biztosítása. | G58: Az elektromos paramétereihez illeszkedő erős- és gyengeáramú vezérlőszekrény. | I58: Becsvölgye tulajdonosközösség | J58: =SUM(O58:AC58) -> 1176 | L58: 44927 | M58: 45291 | N58: közép | S58: 1176
B60: NYOMÁSFOKOZÓK
B61: Épület, építmény
B63: Gép, berendezés
B65: Irányítástechnika, energiaellátás
B67: Összesen: | J67: =SUM(J42:J66) -> 4590 | K67: 2338 | O67: =SUM(O12:O66) -> 2337.7 | P67: =SUM(P12:P66) -> 350.7 | Q67: =SUM(Q12:Q66) -> 350.7 | R67: =SUM(R12:R66) -> 350.7 | S67: =SUM(S12:S66) -> 2088.7 | T67: =SUM(T12:T66) -> 1215.7 | U67: =SUM(U12:U66) -> 350.7 | V67: =SUM(V12:V66) -> 350.7 | ... AC67: =SUM(AC12:AC66) -> 350.7
K68: 2019 évre a fejlesztési forrás biztosított
B70: Rendelkezésre álló források megnevezése | C70: Rendelkezésre álló források számszerűsített értéke a teljes ütem tekintetében (eFt)
A71: I. ütem | B71: Használati díj (2019) | C71: =K67 -> 2338
A72: II. ütem | B72: Használati díj (2020-2023) | C72: =C71*4 -> 9352
A73: III. ütem | B73: Használati díj (2024-2033) | C73: =C71*10 -> 23380

Sheet Milejszeg
A1: Gördülő fejlesztési terv a 2019 - 2033 időszakra
A2: FELÚJÍTÁSOK ÉS PÓTLÁSOK ÖSSZEFOGLALÓ TÁBLÁZATA
A3: A tervet benyújtó szervezet megnevezése: | K3: MILEJSZEG | R3: ellátásért felelős / ellátásért felelősök képviselője / víziközmű-szolgáltató *
A4: Víziközmű-szolgáltató megnevezése: | K4: ÉSZAK ZALAI VÍZ- ÉS CSATORNAMŰ ZÁRTKÖRŰEN MŰKÖDŐ RÉSZVÉNYTÁRSASÁG
A5: Víziközmű-szolgáltatási ágazat megnevezése: | K5: IVÓVÍZ ÁGAZAT
A6: Véleményeltérést megfogalmazó érintett fél megnevezése:
A7: Víziközmű-rendszer kódja: ** | K7: 11-32054-1-010-00-14 | R7: ZALAEGERSZEG-IV
A8: I. Felszín alatti vízkivétel
A9: Fontossági sorrend | B9: Felujítás és pótlás megnevezése | E9: Műszaki állapot felmérés, szükségességi indoklás | H9: Vízjogi létesítési/elvi engedély száma | I9: Az érintett ellátásért felelős(ök) megnevezése | J9: Tervezett nettó költség | K9: Forrás 2019 évre | L9: Megvalósítás időtartama | N9: Tervezett időtáv | O9: A beruházás ütemezése a tervezési időszak évei szerint
E10: Jelenlegi műszaki állapot | F10: Feladat szükségessége | G10: Megvalósítást követő várható műszaki állapot | J10: (eFt) | L10: Kezdés | M10: Befejezés | N10: (rövid / közép / hosszú) | O10: 1 | P10: 2 | Q10: 3 | R10: 4 | S10: 5 | T10: 6 | U10: 7 | V10: 8 | W10: 9 | X10: 10 | Y10: 11 | Z10: 12 | AA10: 13 | AB10: 14 | AC10: 15
B11: szakág | C11: Helyszín | D11: beruházás megnevezése
A12: 1 | D12: Rendkívüli helyzetből adódó azonnali feladatok (max. 15%) | F12: működőképeség biztosítása | I12: Milejszeg | J12: =SUM(O12:AC12) -> 708.75 | L12: 43466 | M12: 48944 | O12: =0.15*$K$66 -> 47.25 | P12: =0.15*$K$66 -> 47.25 | Q12: =0.15*$K$66 -> 47.25 | R12: =0.15*$K$66 -> 47.25 | S12: =0.15*$K$66 -> 47.25 | T12: =0.15*$K$66 -> 47.25 | U12: =0.15*$K$66 -> 47.25 | V12: =0.15*$K$66 -> 47.25 | ... AC12: =0.15*$K$66 -> 47.25
B13: MÉLYFÚRÁSÚ KÚT, HAGYOMÁNYOS ÁTMÉRŐVEL
B14: Épület, építmény
B16: Gép, berendezés
B18: Irányítástechnika, energiaellátás
B20: Összesen: | J20: =SUM(J12:J19) -> 708.75
A22: III. Vízműtelep és vízkezelő létesítmények
C23: Helyszín | D23: beruházás megnevezése
B24: VÍZMŰTELEP
B25: Épület, építmény
B27: Gép, berendezés
B29: Irányítástechnika, energiaellátás
B31: VÍZKEZELŐ LÉTESÍTMÉNYEK
B32: Épület, építmény
B34: Gép, berendezés
B36: Irányítástechnika, energiaellátás
B38: Összesen | J38: =SUM(J24:J37) -> 0
A40: IV. Vízelosztás
C41: Helyszín | D41: beruházás megnevezése
B42: IVÓVÍZHÁLÓZAT
B43: Épület, építmény
C44: Milejszeg | D44: tartalékkeret képzése rekonstrukcióhoz | E44: A vezeték állapota anyaga, kora, minősége miatt nem megfelelő, elavult. | F44: A bekötővezeték anyaga vízbiztonsági kockázatot rejt magában, illetve nagyobb a valószínűsége a meghibásodásnak. | G44: A vízvezeték kiváltás, a vízigények figyelembevételével megfelelő átmérőjű és anyagú hálózatot kapunk. | H44: - | I44: Milejszeg | J44: =SUM(O44:AC44) -> 268 | L44: 43466 | M44: 43830 | N44: rövid | O44: 268
C45: Milejszeg - Pálfiszeg | D45: gerincvezeték csere (NA100 840 fm) | E45: A vezeték állapota anyaga, kora, minősége miatt nem megfelelő, elavult. | F45: A bekötővezeték anyaga vízbiztonsági kockázatot rejt magában, illetve nagyobb a valószínűsége a meghibásodásnak. | G45: A vízvezeték kiváltás, a vízigények figyelembevételével megfelelő átmérőjű és anyagú hálózatot kapunk. | H45: - | I45: Milejszeg | J45: =SUM(O45:AC45) -> 748 | L45: 43922 | M45: 45291 | N45: közép | P45: 187 | Q45: 187 | R45: 187 | S45: 187
C46: Milejszeg - Pálfiszeg | D46: gerincvezeték csere (NA100 840 fm) | E46: A vezeték állapota anyaga, kora, minősége miatt nem megfelelő, elavult. | F46: A bekötővezeték anyaga vízbiztonsági kockázatot rejt magában, illetve nagyobb a valószínűsége a meghibásodásnak. | G46: A vízvezeték kiváltás, a vízigények figyelembevételével megfelelő átmérőjű és anyagú hálózatot kapunk. | H46: - | I46: Milejszeg | J46: =SUM(O46:AC46) -> 1945 | L46: 45383 | M46: 48944 | N46: hosszú | T46: 230 | U46: 230 | V46: 230 | W46: 230 | X46: 230 | Y46: 230 | Z46: 175 | AA46: 130 | AB46: 130 | AC46: 130
B48: Gép, berendezés
B50: Irányítástechnika, energiaellátás
B52: VÍZTÁROLÓK
B53: Épület, építmény
B55: Gép, berendezés
B57: Irányítástechnika, energiaellátás
B59: NYOMÁSFOKOZÓK
B60: Épület, építmény
B62: Gép, berendezés
B64: Irányítástechnika, energiaellátás
B66: Összesen: | J66: =SUM(J42:J65) -> 2961 | K66: 315 | O66: =SUM(O12:O65) -> 315.25 | P66: =SUM(P12:P65) -> 234.25 | Q66: =SUM(Q12:Q65) -> 234.25 | R66: =SUM(R12:R65) -> 234.25 | S66: =SUM(S12:S65) -> 234.25 | T66: =SUM(T12:T65) -> 277.25 | U66: =SUM(U12:U65) -> 277.25 | V66: =SUM(V12:V65) -> 277.25 | ... AC66: =SUM(AC12:AC65) -> 177.25
K67: 2019 évre a fejlesztési forrás biztosított
B69: Rendelkezésre álló források megnevezése | C69: Rendelkezésre álló források számszerűsített értéke a teljes ütem tekintetében (eFt)
A70: I. ütem | B70: Használati díj (2019) | C70: =K66 -> 315
A71: II. ütem | B71: Használati díj (2020-2023) | C71: =C70*4 -> 1260
A72: III. ütem | B72: Használati díj (2024-2033) | C72: =C70*10 -> 3150

Sheet Nagykutas
A1: Gördülő fejlesztési terv a 2019 - 2033 időszakra
A2: FELÚJÍTÁSOK ÉS PÓTLÁSOK ÖSSZEFOGLALÓ TÁBLÁZATA
A3: A tervet benyújtó szervezet megnevezése: | K3: NAGYKUTAS | R3: ellátásért felelős / ellátásért felelősök képviselője / víziközmű-szolgáltató *
A4: Víziközmű-szolgáltató megnevezése: | K4: ÉSZAK ZALAI VÍZ- ÉS CSATORNAMŰ ZÁRTKÖRŰEN MŰKÖDŐ RÉSZVÉNYTÁRSASÁG
A5: Víziközmű-szolgáltatási ágazat megnevezése: | K5: IVÓVÍZ ÁGAZAT
A6: Véleményeltérést megfogalmazó érintett fél megnevezése:
A7: Víziközmű-rendszer kódja: ** | K7: 11-32054-1-010-00-14 | R7: ZALAEGERSZEG-IV
A8: I. Felszín alatti vízkivétel
A9: Fontossági sorrend | B9: Felujítás és pótlás megnevezése | E9: Műszaki állapot felmérés, szükségességi indoklás | H9: Vízjogi létesítési/elvi engedély száma | I9: Az érintett ellátásért felelős(ök) megnevezése | J9: Tervezett nettó költség | K9: Forrás 2019 évre | L9: Megvalósítás időtartama | N9: Tervezett időtáv | O9: A beruházás ütemezése a tervezési időszak évei szerint
E10: Jelenlegi műszaki állapot | F10: Feladat szükségessége | G10: Megvalósítást követő várható műszaki állapot | J10: (eFt) | L10: Kezdés | M10: Befejezés | N10: (rövid / közép / hosszú) | O10: 1 | P10: 2 | Q10: 3 | R10: 4 | S10: 5 | T10: 6 | U10: 7 | V10: 8 | W10: 9 | X10: 10 | Y10: 11 | Z10: 12 | AA10: 13 | AB10: 14 | AC10: 15
B11: szakág | C11: Helyszín | D11: beruházás megnevezése
A12: 1 | D12: Rendkívüli helyzetből adódó azonnali feladatok (max. 15%) | F12: működőképeség biztosítása | I12: Nagykutas | J12: =SUM(O12:AC12) -> 1874.25 | L12: 43466 | M12: 48944 | O12: =0.15*$K$66 -> 124.95 | P12: =0.15*$K$66 -> 124.95 | Q12: =0.15*$K$66 -> 124.95 | R12: =0.15*$K$66 -> 124.95 | S12: =0.15*$K$66 -> 124.95 | T12: =0.15*$K$66 -> 124.95 | U12: =0.15*$K$66 -> 124.95 | V12: =0.15*$K$66 -> 124.95 | ... AC12: =0.15*$K$66 -> 124.95
B13: MÉLYFÚRÁSÚ KÚT, HAGYOMÁNYOS ÁTMÉRŐVEL
B14: Épület, építmény
B16: Gép, berendezés
B18: Irányítástechnika, energiaellátás
B20: Összesen: | J20: =SUM(J12:J18) -> 1874.25
A22: III. Vízműtelep és vízkezelő létesítmények
C23: Helyszín | D23: beruházás megnevezése
B24: VÍZMŰTELEP
B25: Épület, építmény
B27: Gép, berendezés
B29: Irányítástechnika, energiaellátás
B31: VÍZKEZELŐ LÉTESÍTMÉNYEK
B32: Épület, építmény
B34: Gép, berendezés
B36: Irányítástechnika, energiaellátás
B38: Összesen | J38: =SUM(J24:J37) -> 0
A40: IV. Vízelosztás
C41: Helyszín | D41: beruházás megnevezése
B42: IVÓVÍZHÁLÓZAT
B43: Épület, építmény
C44: Nagykutas | D44: tartalékkeret képzése rekonstrukcióhoz | E44: A vezeték állapota anyaga, kora, minősége miatt nem megfelelő, elavult. | F44: A vezeték elavult műszaki állapota miatt gyakoriak a csőtörések. | G44: A vízvezeték kiváltás a vízigények figyelembevételével megfelelő átmérőjű és anyagú hálózatot kapunk. | I44: Nagykutas | J44: =SUM(O44:AC44) -> 708 | L44: 43466 | M44: 43830 | N44: rövid | O44: 708
B46: Gép, berendezés
B48: Irányítástechnika, energiaellátás
B50: VÍZTÁROLÓK
B51: Épület, építmény
B53: Gép, berendezés
B55: Irányítástechnika, energiaellátás
B57: NYOMÁSFOKOZÓK
B58: Épület, építmény
B60: Gép, berendezés
C61: Nagykutasi átemelő | D61: Szivattyú csere (EMU K64-6 2 db), teljes gépészeti rekonstrukció | E61: A szivattyú kora, műszaki állapota miatt fennáll a meghibásodás veszélye. Feladat szükségessége | F61: A folyamatos víztermelés biztosítása. | G61: A Q–H diagramhoz illeszkedő energiahatékony szivattyú üzemeltetése. | I61: Nagykutas tulajdonosközösség | J61: =SUM(O61:AC61) -> 546 | L61: 46388 | M61: 46752 | N61: hosszú | W61: 546
B63: Irányítástechnika, energiaellátás
C64: Nagykutas átemelő | D64: elektromos és irányítástechnikai szekrény csere | E64: Az elektromos, irányítástechnikai szerelvények és vezetékek, műszaki állapota miatt fennáll a meghibásodás veszélye. | F64: A szivattyú elektromos megtáplálása, a folyamatos távfelügyelet biztosítása. | G64: A szivattyú elektromos paramétereihez illeszkedő erősáramú és vezérlőszekrény. | I64: Nagykutas tulajdonosközösség | J64: =SUM(O64:AC64) -> 546 | L64: 46388 | M64: 46752 | N64: hosszú | W64: 546
B66: Összesen: | J66: =SUM(J42:J65) -> 1800 | K66: 833 | O66: =SUM(O12:O65) -> 832.95 | P66: =SUM(P12:P65) -> 124.95 | Q66: =SUM(Q12:Q65) -> 124.95 | R66: =SUM(R12:R65) -> 124.95 | S66: =SUM(S12:S65) -> 124.95 | T66: =SUM(T12:T65) -> 124.95 | U66: =SUM(U12:U65) -> 124.95 | V66: =SUM(V12:V65) -> 124.95 | ... AC66: =SUM(AC12:AC65) -> 124.95
K67: 2019 évre a fejlesztési forrás biztosított
B69: Rendelkezésre álló források megnevezése | C69: Rendelkezésre álló források számszerűsített értéke a teljes ütem tekintetében (eFt)
A70: I. ütem | B70: Használati díj (2019) | C70: =K66 -> 833
A71: II. ütem | B71: Használati díj (2020-2023) | C71: =C70*4 -> 3332
A72: III. ütem | B72: Használati díj (2024-2033) | C72: =C70*10 -> 8330

Sheet Nagypáli
A1: Gördülő fejlesztési terv a 2019 - 2033 időszakra
A2: FELÚJÍTÁSOK ÉS PÓTLÁSOK ÖSSZEFOGLALÓ TÁBLÁZATA
A3: A tervet benyújtó szervezet megnevezése: | K3: NAGYPÁLI | R3: ellátásért felelős / ellátásért felelősök képviselője / víziközmű-szolgáltató *
A4: Víziközmű-szolgáltató megnevezése: | K4: ÉSZAK ZALAI VÍZ- ÉS CSATORNAMŰ ZÁRTKÖRŰEN MŰKÖDŐ RÉSZVÉNYTÁRSASÁG
A5: Víziközmű-szolgáltatási ágazat megnevezése: | K5: IVÓVÍZ ÁGAZAT
A6: Véleményeltérést megfogalmazó érintett fél megnevezése:
A7: Víziközmű-rendszer kódja: ** | K7: 11-32054-1-010-00-14 | R7: ZALAEGERSZEG-IV
A8: I. Felszín alatti vízkivétel
A9: Fontossági sorrend | B9: Felujítás és pótlás megnevezése | E9: Műszaki állapot felmérés, szükségességi indoklás | H9: Vízjogi létesítési/elvi engedély száma | I9: Az érintett ellátásért felelős(ök) megnevezése | J9: Tervezett nettó költség | K9: Forrás 2019 évre | L9: Megvalósítás időtartama | N9: Tervezett időtáv | O9: A beruházás ütemezése a tervezési időszak évei szerint
E10: Jelenlegi műszaki állapot | F10: Feladat szükségessége | G10: Megvalósítást követő várható műszaki állapot | J10: (eFt) | L10: Kezdés | M10: Befejezés | N10: (rövid / közép / hosszú) | O10: 1 | P10: 2 | Q10: 3 | R10: 4 | S10: 5 | T10: 6 | U10: 7 | V10: 8 | W10: 9 | X10: 10 | Y10: 11 | Z10: 12 | AA10: 13 | AB10: 14 | AC10: 15
B11: szakág | C11: Helyszín | D11: beruházás megnevezése
A12: 1 | D12: Rendkívüli helyzetből adódó azonnali feladatok (max. 15%) | F12: működőképeség biztosítása | I12: Nagypáli | J12: =SUM(O12:AC12) -> 3323.25 | L12: 43466 | M12: 48944 | O12: =0.15*$K$69 -> 221.55 | P12: =0.15*$K$69 -> 221.55 | Q12: =0.15*$K$69 -> 221.55 | R12: =0.15*$K$69 -> 221.55 | S12: =0.15*$K$69 -> 221.55 | T12: =0.15*$K$69 -> 221.55 | U12: =0.15*$K$69 -> 221.55 | V12: =0.15*$K$69 -> 221.55 | ... AC12: =0.15*$K$69 -> 221.55
B13: MÉLYFÚRÁSÚ KÚT, HAGYOMÁNYOS ÁTMÉRŐVEL
B14: Épület, építmény
B16: Gép, berendezés
B18: Irányítástechnika, energiaellátás
B20: Összesen: | J20: =SUM(J12:J19) -> 3323.25
A22: III. Vízműtelep és vízkezelő létesítmények
C23: Helyszín | D23: beruházás megnevezése
B24: VÍZMŰTELEP
B25: Épület, építmény
B27: Gép, berendezés
B29: Irányítástechnika, energiaellátás
B31: VÍZKEZELŐ LÉTESÍTMÉNYEK
B32: Épület, építmény
B34: Gép, berendezés
B36: Irányítástechnika, energiaellátás
B38: Összesen | J38: =SUM(J24:J37) -> 0
A40: IV. Vízelosztás
C41: Helyszín | D41: beruházás megnevezése
B42: IVÓVÍZHÁLÓZAT
B43: Épület, építmény
C44: Nagypáli | D44: tervezett ivóvízvezeték rekonstrukció | E44: A vezeték állapota anyaga, kora, minősége miatt nem megfelelő, elavult. | F44: A bekötővezeték anyaga vízbiztonsági kockázatot rejt magában, illetve nagyobb a valószínűsége a meghibásodásnak. | G44: A vízvezeték kiváltás, a vízigények figyelembevételével megfelelő átmérőjű és anyagú hálózatot kapunk. | H44: - | I44: Nagypáli | J44: =SUM(O44:AC44) -> 1255 | L44: 43586 | M44: 43830 | N44: rövid | O44: 1255
C45: Nagypáli | D45: gerincvezetékek szerelvényeinek ütemezett cseréje | E45: A vezeték állapota anyaga, kora, minősége miatt nem megfelelő, elavult. | F45: A bekötővezeték anyaga vízbiztonsági kockázatot rejt magában, illetve nagyobb a valószínűsége a meghibásodásnak. | G45: A vízvezeték kiváltás, a vízigények figyelembevételével megfelelő átmérőjű és anyagú hálózatot kapunk. | H45: - | I45: Nagypáli | J45: =SUM(O45:AC45) -> 2000 | L45: 43952 | M45: 45291 | N45: közép | P45: 500 | Q45: 500 | R45: 500 | S45: 500
C46: Nagypáli | D46: bekötővezetékek ütemezett cseréje | E46: A vezeték állapota anyaga, kora, minősége miatt nem megfelelő, elavult. | F46: A vezeték elavult műszaki állapota miatt gyakoriak a csőtörések. | G46: A vízvezeték kiváltás, a vízigények figyelembevételével megfelelő átmérőjű és anyagú hálózatot kapunk. | H46: - | I46: Nagypáli | J46: =SUM(O46:AC46) -> 2348 | L46: 43952 | M46: 45291 | N46: közép | P46: 587 | Q46: 587 | R46: 587 | S46: 587
C47: Nagypáli | D47: ivóvízhálózat rekonstrukció | E47: A vezeték állapota anyaga, kora, minősége miatt nem megfelelő, elavult. | F47: A vezeték elavult műszaki állapota miatt gyakoriak a csőtörések. | G47: A vízvezeték kiváltás, a vízigények figyelembevételével megfelelő átmérőjű és anyagú hálózatot kapunk. | H47: - | I47: Nagypáli | J47: =SUM(O47:AC47) -> 88190 | L47: 45413 | M47: 48944 | N47: hosszú | T47: 8819 | U47: 8819 | V47: 8819 | W47: 8819 | X47: 8819 | Y47: 8819 | Z47: 8819 | AA47: 8819 | AB47: 8819 | AC47: 8819
B49: Gép, berendezés
B51: Irányítástechnika, energiaellátás
B53: VÍZTÁROLÓK
B54: Épület, építmény
B56: Gép, berendezés
B58: Irányítástechnika, energiaellátás
B60: NYOMÁSFOKOZÓK
B61: Épület, építmény
B63: Gép, berendezés
C64: Nagykutasi átemelő | D64: Szivattyú csere (EMU K64-6 2 db), teljes gépészeti rekonstrukció | E64: A szivattyú kora, műszaki állapota miatt fennáll a meghibásodás veszélye. Feladat szükségessége | F64: A folyamatos víztermelés biztosítása. | G64: A Q–H diagramhoz illeszkedő energiahatékony szivattyú üzemeltetése. | I64: Nagykutas tulajdonosközösség | J64: =SUM(O64:AC64) -> 1024 | L64: 46388 | M64: 46752 | N64: hosszú | W64: 1024
B66: Irányítástechnika, energiaellátás
C67: Nagykutas átemelő | D67: elektromos és irányítástechnikai szekrény csere | E67: Az elektromos, irányítástechnikai szerelvények és vezetékek, műszaki állapota miatt fennáll a meghibásodás veszélye. | F67: A szivattyú elektromos megtáplálása, a folyamatos távfelügyelet biztosítása. | G67: A szivattyú elektromos paramétereihez illeszkedő erősáramú és vezérlőszekrény. | I67: Nagykutas tulajdonosközösség | J67: =SUM(O67:AC67) -> 1024 | L67: 46388 | M67: 46752 | N67: hosszú | W67: 1024
B69: Összesen: | J69: =SUM(J42:J68) -> 95841 | K69: 1477 | O69: =SUM(O11:O68) -> 1476.55 | P69: =SUM(P11:P68) -> 1308.55 | Q69: =SUM(Q11:Q68) -> 1308.55 | R69: =SUM(R11:R68) -> 1308.55 | S69: =SUM(S11:S68) -> 1308.55 | T69: =SUM(T11:T68) -> 9040.55 | U69: =SUM(U11:U68) -> 9040.55 | V69: =SUM(V11:V68) -> 9040.55 | ... AC69: =SUM(AC11:AC68) -> 9040.55
K70: 2019 évre a fejlesztési forrás biztosított
B72: Rendelkezésre álló források megnevezése | C72: Rendelkezésre álló források számszerűsített értéke a teljes ütem tekintetében (eFt)
A73: I. ütem | B73: Használati díj (2019) | C73: =K69 -> 1477
A74: II. ütem | B74: Használati díj (2020-2023) | C74: =C73*4 -> 5908
A75: III. ütem | B75: Használati díj (2024-2033) | C75: =C73*10 -> 14770

Sheet Németfalu
A1: Gördülő fejlesztési terv a 2019 - 2033 időszakra
A2: FELÚJÍTÁSOK ÉS PÓTLÁSOK ÖSSZEFOGLALÓ TÁBLÁZATA
A3: A tervet benyújtó szervezet megnevezése: | K3: NÉMETFALU | R3: ellátásért felelős / ellátásért felelősök képviselője / víziközmű-szolgáltató *
A4: Víziközmű-szolgáltató megnevezése: | K4: ÉSZAK ZALAI VÍZ- ÉS CSATORNAMŰ ZÁRTKÖRŰEN MŰKÖDŐ RÉSZVÉNYTÁRSASÁG
A5: Víziközmű-szolgáltatási ágazat megnevezése: | K5: IVÓVÍZ ÁGAZAT
A6: Véleményeltérést megfogalmazó érintett fél megnevezése:
A7: Víziközmű-rendszer kódja: ** | K7: 11-32054-1-010-00-14 | R7: ZALAEGERSZEG-IV
A8: I. Felszín alatti vízkivétel
A9: Fontossági sorrend | B9: Felujítás és pótlás megnevezése | E9: Műszaki állapot felmérés, szükségességi indoklás | H9: Vízjogi létesítési/elvi engedély száma | I9: Az érintett ellátásért felelős(ök) megnevezése | J9: Tervezett nettó költség | K9: Forrás 2019 évre | L9: Megvalósítás időtartama | N9: Tervezett időtáv | O9: A beruházás ütemezése a tervezési időszak évei szerint
E10: Jelenlegi műszaki állapot | F10: Feladat szükségessége | G10: Megvalósítást követő várható műszaki állapot | J10: (eFt) | L10: Kezdés | M10: Befejezés | N10: (rövid / közép / hosszú) | O10: 1 | P10: 2 | Q10: 3 | R10: 4 | S10: 5 | T10: 6 | U10: 7 | V10: 8 | W10: 9 | X10: 10 | Y10: 11 | Z10: 12 | AA10: 13 | AB10: 14 | AC10: 15
B11: szakág | C11: Helyszín | D11: beruházás megnevezése
A12: 1 | D12: Rendkívüli helyzetből adódó azonnali feladatok (max. 15%) | F12: működőképeség biztosítása | I12: Németfalu | J12: =SUM(O12:AC12) -> 463.5 | L12: 43466 | M12: 48944 | O12: =0.15*$K$64 -> 30.9 | P12: =0.15*$K$64 -> 30.9 | Q12: =0.15*$K$64 -> 30.9 | R12: =0.15*$K$64 -> 30.9 | S12: =0.15*$K$64 -> 30.9 | T12: =0.15*$K$64 -> 30.9 | U12: =0.15*$K$64 -> 30.9 | V12: =0.15*$K$64 -> 30.9 | ... AC12: =0.15*$K$64 -> 30.9
B13: MÉLYFÚRÁSÚ KÚT, HAGYOMÁNYOS ÁTMÉRŐVEL
B14: Épület, építmény
B16: Gép, berendezés
B18: Irányítástechnika, energiaellátás
B20: Összesen: | J20: =SUM(J12:J19) -> 463.5
A22: III. Vízműtelep és vízkezelő létesítmények
C23: Helyszín | D23: beruházás megnevezése
B24: VÍZMŰTELEP
B25: Épület, építmény
B27: Gép, berendezés
B29: Irányítástechnika, energiaellátás
B31: VÍZKEZELŐ LÉTESÍTMÉNYEK
B32: Épület, építmény
B34: Gép, berendezés
B36: Irányítástechnika, energiaellátás
B38: Összesen | J38: =SUM(J24:J37) -> 0
A40: IV. Vízelosztás
C41: Helyszín | D41: beruházás megnevezése
B42: IVÓVÍZHÁLÓZAT
B43: Épület, építmény
C44: Németfalu | D44: tartalékkeret képzése rekonstrukcióhoz | E44: A vezeték állapota anyaga, kora, minősége miatt nem megfelelő, elavult. | F44: A bekötővezeték anyaga vízbiztonsági kockázatot rejt magában, illetve nagyobb a valószínűsége a meghibásodásnak. | G44: A vízvezeték kiváltás, a vízigények figyelembevételével megfelelő átmérőjű és anyagú hálózatot kapunk. | H44: - | I44: Németfalu | J44: =SUM(O44:AC44) -> 175 | L44: 43556 | M44: 43830 | N44: rövid | O44: 175
B46: Gép, berendezés
B48: Irányítástechnika, energiaellátás
B50: VÍZTÁROLÓK
B51: Épület, építmény
B53: Gép, berendezés
B55: Irányítástechnika, energiaellátás
B57: NYOMÁSFOKOZÓK
B58: Épület, építmény
B60: Gép, berendezés
B62: Irányítástechnika, energiaellátás
B64: Összesen: | J64: =SUM(J42:J63) -> 175 | K64: 206 | O64: =SUM(O12:O63) -> 205.9 | P64: =SUM(P12:P63) -> 30.9 | Q64: =SUM(Q12:Q63) -> 30.9 | R64: =SUM(R12:R63) -> 30.9 | S64: =SUM(S12:S63) -> 30.9 | T64: =SUM(T12:T63) -> 30.9 | U64: =SUM(U12:U63) -> 30.9 | V64: =SUM(V12:V63) -> 30.9 | ... AC64: =SUM(AC12:AC63) -> 30.9
K65: 2019 évre a fejlesztési forrás biztosított
B67: Rendelkezésre álló források megnevezése | C67: Rendelkezésre álló források számszerűsített értéke a teljes ütem tekintetében (eFt)
A68: I. ütem | B68: Használati díj (2019) | C68: =K64 -> 206
A69: II. ütem | B69: Használati díj (2020-2023) | C69: =C68*4 -> 824
A70: III. ütem | B70: Használati díj (2024-2033) | C70: =C68*10 -> 2060

Sheet Pálfiszeg
A1: Gördülő fejlesztési terv a 2019 - 2033 időszakra
A2: FELÚJÍTÁSOK ÉS PÓTLÁSOK ÖSSZEFOGLALÓ TÁBLÁZATA
A3: A tervet benyújtó szervezet megnevezése: | K3: PÁLFISZEG | R3: ellátásért felelős / ellátásért felelősök képviselője / víziközmű-szolgáltató *
A4: Víziközmű-szolgáltató megnevezése: | K4: ÉSZAK ZALAI VÍZ- ÉS CSATORNAMŰ ZÁRTKÖRŰEN MŰKÖDŐ RÉSZVÉNYTÁRSASÁG
A5: Víziközmű-szolgáltatási ágazat megnevezése: | K5: IVÓVÍZ ÁGAZAT
A6: Véleményeltérést megfogalmazó érintett fél megnevezése:
A7: Víziközmű-rendszer kódja: ** | K7: 11-32054-1-010-00-14 | R7: ZALAEGERSZEG-IV
A8: I. Felszín alatti vízkivétel
A9: Fontossági sorrend | B9: Felujítás és pótlás megnevezése | E9: Műszaki állapot felmérés, szükségességi indoklás | H9: Vízjogi létesítési/elvi engedély száma | I9: Az érintett ellátásért felelős(ök) megnevezése | J9: Tervezett nettó költség | K9: Forrás 2019 évre | L9: Megvalósítás időtartama | N9: Tervezett időtáv | O9: A beruházás ütemezése a tervezési időszak évei szerint
E10: Jelenlegi műszaki állapot | F10: Feladat szükségessége | G10: Megvalósítást követő várható műszaki állapot | J10: (eFt) | L10: Kezdés | M10: Befejezés | N10: (rövid / közép / hosszú) | O10: 1 | P10: 2 | Q10: 3 | R10: 4 | S10: 5 | T10: 6 | U10: 7 | V10: 8 | W10: 9 | X10: 10 | Y10: 11 | Z10: 12 | AA10: 13 | AB10: 14 | AC10: 15
B11: szakág | C11: Helyszín | D11: beruházás megnevezése
A12: 1 | D12: Rendkívüli helyzetből adódó azonnali feladatok (max. 15%) | F12: működőképeség biztosítása | I12: Pálfiszeg | J12: =SUM(O12:AC12) -> 339.75 | L12: 43466 | M12: 48944 | O12: =0.15*$K$64 -> 22.65 | P12: =0.15*$K$64 -> 22.65 | Q12: =0.15*$K$64 -> 22.65 | R12: =0.15*$K$64 -> 22.65 | S12: =0.15*$K$64 -> 22.65 | T12: =0.15*$K$64 -> 22.65 | U12: =0.15*$K$64 -> 22.65 | V12: =0.15*$K$64 -> 22.65 | ... AC12: =0.15*$K$64 -> 22.65
B13: MÉLYFÚRÁSÚ KÚT, HAGYOMÁNYOS ÁTMÉRŐVEL
B14: Épület, építmény
B16: Gép, berendezés
B18: Irányítástechnika, energiaellátás
B20: Összesen: | J20: =SUM(J12:J19) -> 339.75
A22: III. Vízműtelep és vízkezelő létesítmények
C23: Helyszín | D23: beruházás megnevezése
B24: VÍZMŰTELEP
B25: Épület, építmény
B27: Gép, berendezés
B29: Irányítástechnika, energiaellátás
B31: VÍZKEZELŐ LÉTESÍTMÉNYEK
B32: Épület, építmény
B34: Gép, berendezés
B36: Irányítástechnika, energiaellátás
B38: Összesen | J38: =SUM(J24:J37) -> 0
A40: IV. Vízelosztás
C41: Helyszín | D41: beruházás megnevezése
B42: IVÓVÍZHÁLÓZAT
B43: Épület, építmény
C44: Pálfiszeg | D44: tartalékkeret képzése rekonstrukcióhoz | E44: A vezeték állapota anyaga, kora, minősége miatt nem megfelelő, elavult. | F44: A bekötővezeték anyaga vízbiztonsági kockázatot rejt magában, illetve nagyobb a valószínűsége a meghibásodásnak. | G44: A vízvezeték kiváltás, a vízigények figyelembevételével megfelelő átmérőjű és anyagú hálózatot kapunk. | H44: - | I44: Pálfiszeg | J44: =SUM(O44:AC44) -> 128 | L44: 43556 | M44: 43830 | N44: rövid | O44: 128
B46: Gép, berendezés
B48: Irányítástechnika, energiaellátás
B50: VÍZTÁROLÓK
B51: Épület, építmény
B53: Gép, berendezés
B55: Irányítástechnika, energiaellátás
B57: NYOMÁSFOKOZÓK
B58: Épület, építmény
B60: Gép, berendezés
B62: Irányítástechnika, energiaellátás
B64: Összesen: | J64: =SUM(J42:J63) -> 128 | K64: 151 | O64: =SUM(O12:O63) -> 150.65 | P64: =SUM(P12:P63) -> 22.65 | Q64: =SUM(Q12:Q63) -> 22.65 | R64: =SUM(R12:R63) -> 22.65 | S64: =SUM(S12:S63) -> 22.65 | T64: =SUM(T12:T63) -> 22.65 | U64: =SUM(U12:U63) -> 22.65 | V64: =SUM(V12:V63) -> 22.65 | ... AC64: =SUM(AC12:AC63) -> 22.65
K65: 2019 évre a fejlesztési forrás biztosított
B67: Rendelkezésre álló források megnevezése | C67: Rendelkezésre álló források számszerűsített értéke a teljes ütem tekintetében (eFt)
A68: I. ütem | B68: Használati díj (2019) | C68: =K64 -> 151
A69: II. ütem | B69: Használati díj (2020-2023) | C69: =C68*4 -> 604
A70: III. ütem | B70: Használati díj (2024-2033) | C70: =C68*10 -> 1510

Sheet Sárhida
A1: Gördülő fejlesztési terv a 2019 - 2033 időszakra
A2: FELÚJÍTÁSOK ÉS PÓTLÁSOK ÖSSZEFOGLALÓ TÁBLÁZATA
A3: A tervet benyújtó szervezet megnevezése: | K3: SÁRHIDA | R3: ellátásért felelős / ellátásért felelősök képviselője / víziközmű-szolgáltató *
A4: Víziközmű-szolgáltató megnevezése: | K4: ÉSZAK ZALAI VÍZ- ÉS CSATORNAMŰ ZÁRTKÖRŰEN MŰKÖDŐ RÉSZVÉNYTÁRSASÁG
A5: Víziközmű-szolgáltatási ágazat megnevezése: | K5: IVÓVÍZ ÁGAZAT
A6: Véleményeltérést megfogalmazó érintett fél megnevezése:
A7: Víziközmű-rendszer kódja: ** | K7: 11-32054-1-010-00-14 | R7: ZALAEGERSZEG-IV
A8: I. Felszín alatti vízkivétel
A9: Fontossági sorrend | B9: Felujítás és pótlás megnevezése | E9: Műszaki állapot felmérés, szükségességi indoklás | H9: Vízjogi létesítési/elvi engedély száma | I9: Az érintett ellátásért felelős(ök) megnevezése | J9: Tervezett nettó költség | K9: Forrás 2019 évre | L9: Megvalósítás időtartama | N9: Tervezett időtáv | O9: A beruházás ütemezése a tervezési időszak évei szerint
E10: Jelenlegi műszaki állapot | F10: Feladat szükségessége | G10: Megvalósítást követő várható műszaki állapot | J10: (eFt) | L10: Kezdés | M10: Befejezés | N10: (rövid / közép / hosszú) | O10: 1 | P10: 2 | Q10: 3 | R10: 4 | S10: 5 | T10: 6 | U10: 7 | V10: 8 | W10: 9 | X10: 10 | Y10: 11 | Z10: 12 | AA10: 13 | AB10: 14 | AC10: 15
B11: szakág | C11: Helyszín | D11: beruházás megnevezése
A12: 1 | D12: Rendkívüli helyzetből adódó azonnali feladatok (max. 15%) | F12: működőképeség biztosítása | I12: Sárhida | J12: =SUM(O12:AC12) -> 1869.75 | L12: 43466 | M12: 48944 | O12: =0.15*$K$67 -> 124.65 | P12: =0.15*$K$67 -> 124.65 | Q12: =0.15*$K$67 -> 124.65 | R12: =0.15*$K$67 -> 124.65 | S12: =0.15*$K$67 -> 124.65 | T12: =0.15*$K$67 -> 124.65 | U12: =0.15*$K$67 -> 124.65 | V12: =0.15*$K$67 -> 124.65 | ... AC12: =0.15*$K$67 -> 124.65
B13: MÉLYFÚRÁSÚ KÚT, HAGYOMÁNYOS ÁTMÉRŐVEL
B14: Épület, építmény
B16: Gép, berendezés
B18: Irányítástechnika, energiaellátás
B20: Összesen: | J20: =SUM(J12:J18) -> 1869.75
A22: III. Vízműtelep és vízkezelő létesítmények
C23: Helyszín | D23: beruházás megnevezése
B24: VÍZMŰTELEP
B25: Épület, építmény
B27: Gép, berendezés
B29: Irányítástechnika, energiaellátás
B31: VÍZKEZELŐ LÉTESÍTMÉNYEK
B32: Épület, építmény
B34: Gép, berendezés
B36: Irányítástechnika, energiaellátás
B38: Összesen | J38: =SUM(J24:J37) -> 0
A40: IV. Vízelosztás
C41: Helyszín | D41: beruházás megnevezése
B42: IVÓVÍZHÁLÓZAT
B43: Épület, építmény
C44: Sárhida | D44: tartalékkeret képzése rekonstrukcióhoz | E44: A vezeték állapota anyaga, kora, minősége miatt nem megfelelő, elavult. | F44: A bekötővezeték anyaga vízbiztonsági kockázatot rejt magában, illetve nagyobb a valószínűsége a meghibásodásnak. | G44: A vízvezeték kiváltás a vízigények figyelembevételével megfelelő átmérőjű és anyagú hálózatot kapunk. | I44: Sárhida | J44: =SUM(O44:AC44) -> 706 | L44: 43101 | M44: 43465 | N44: rövid | O44: 706
C45: Sárhida | D45: bekötővezetékek ütemezett cseréje | E45: A vezeték állapota anyaga, kora, minősége miatt nem megfelelő, elavult. | F45: A bekötővezeték anyaga vízbiztonsági kockázatot rejt magában, illetve nagyobb a valószínűsége a meghibásodásnak. | G45: A vízvezeték kiváltás a vízigények figyelembevételével megfelelő átmérőjű és anyagú hálózatot kapunk. | I45: Sárhida | J45: =SUM(O45:AC45) -> 2352 | L45: 43922 | M45: 45291 | N45: közép | P45: 569 | Q45: 586 | R45: 571 | S45: 626
C46: Sárhida | D46: ivóvízhálózat rekonstrukció | E46: A vezeték állapota anyaga, kora, minősége miatt nem megfelelő, elavult. | F46: A vezeték anyaga vízbiztonsági kockázatot rejt magában, illetve nagyobb a valószínűsége a meghibásodásnak. | G46: A vízvezeték kiváltás a vízigények figyelembevételével megfelelő átmérőjű és anyagú hálózatot kapunk. | I46: Sárhida | J46: =SUM(O46:AC46) -> 14744 | L46: 43922 | M46: 45291 | N46: közép | P46: 3686 | Q46: 3686 | R46: 3686 | S46: 3686
C47: Sárhida | D47: ivóvízhálózat rekonstrukció | E47: A vezeték állapota anyaga, kora, minősége miatt nem megfelelő, elavult. | F47: A vezeték anyaga vízbiztonsági kockázatot rejt magában, illetve nagyobb a valószínűsége a meghibásodásnak. | G47: A vízvezeték kiváltás a vízigények figyelembevételével megfelelő átmérőjű és anyagú hálózatot kapunk. | I47: Sárhida | J47: =SUM(O47:AC47) -> 71210 | L47: 45383 | M47: 48944 | N47: hosszú | T47: 7121 | U47: 7121 | V47: 7121 | W47: 7121 | X47: 7121 | Y47: 7121 | Z47: 7121 | AA47: 7121 | AB47: 7121 | AC47: 7121
B49: Gép, berendezés
B51: Irányítástechnika, energiaellátás
B53: VÍZTÁROLÓK
B54: Épület, építmény
B56: Gép, berendezés
B58: Irányítástechnika, energiaellátás
B60: NYOMÁSFOKOZÓK
B61: Épület, építmény
B63: Gép, berendezés
B65: Irányítástechnika, energiaellátás
B67: Összesen: | J67: =SUM(J42:J66) -> 89012 | K67: 831 | O67: =SUM(O12:O66) -> 830.65 | P67: =SUM(P12:P66) -> 4379.65 | Q67: =SUM(Q12:Q66) -> 4396.65 | R67: =SUM(R12:R66) -> 4381.65 | S67: =SUM(S12:S66) -> 4436.65 | T67: =SUM(T12:T66) -> 7245.65 | U67: =SUM(U12:U66) -> 7245.65 | V67: =SUM(V12:V66) -> 7245.65 | ... AC67: =SUM(AC12:AC66) -> 7245.65
K68: 2019 évre a fejlesztési forrás biztosított
B70: Rendelkezésre álló források megnevezése | C70: Rendelkezésre álló források számszerűsített értéke a teljes ütem tekintetében (eFt)
A71: I. ütem | B71: Használati díj (2019) | C71: =K67 -> 831
A72: II. ütem | B72: Használati díj (2020-2023) | C72: =C71*4 -> 3324
A73: III. ütem | B73: Használati díj (2024-2033) | C73: =C71*10 -> 8310

Sheet Teskánd
A1: Gördülő fejlesztési terv a 2019 - 2033 időszakra
A2: FELÚJÍTÁSOK ÉS PÓTLÁSOK ÖSSZEFOGLALÓ TÁBLÁZATA
A3: A tervet benyújtó szervezet megnevezése: | K3: TESKÁND | R3: ellátásért felelős / ellátásért felelősök képviselője / víziközmű-szolgáltató *
A4: Víziközmű-szolgáltató megnevezése: | K4: ÉSZAK ZALAI VÍZ- ÉS CSATORNAMŰ ZÁRTKÖRŰEN MŰKÖDŐ RÉSZVÉNYTÁRSASÁG
A5: Víziközmű-szolgáltatási ágazat megnevezése: | K5: IVÓVÍZ ÁGAZAT
A6: Véleményeltérést megfogalmazó érintett fél megnevezése:
A7: Víziközmű-rendszer kódja: ** | K7: 11-32054-1-010-00-14 | R7: ZALAEGERSZEG-IV
A8: I. Felszín alatti vízkivétel
A9: Fontossági sorrend | B9: Felujítás és pótlás megnevezése | E9: Műszaki állapot felmérés, szükségességi indoklás | H9: Vízjogi létesítési/elvi engedély száma | I9: Az érintett ellátásért felelős(ök) megnevezése | J9: Tervezett nettó költség | K9: Forrás 2019 évre | L9: Megvalósítás időtartama | N9: Tervezett időtáv | O9: A beruházás ütemezése a tervezési időszak évei szerint
E10: Jelenlegi műszaki állapot | F10: Feladat szükségessége | G10: Megvalósítást követő várható műszaki állapot | J10: (eFt) | L10: Kezdés | M10: Befejezés | N10: (rövid / közép / hosszú) | O10: 1 | P10: 2 | Q10: 3 | R10: 4 | S10: 5 | T10: 6 | U10: 7 | V10: 8 | W10: 9 | X10: 10 | Y10: 11 | Z10: 12 | AA10: 13 | AB10: 14 | AC10: 15
B11: szakág | C11: Helyszín | D11: beruházás megnevezése
A12: 1 | D12: Rendkívüli helyzetből adódó azonnali feladatok (max. 15%) | F12: működőképeség biztosítása | I12: Teskánd | J12: =SUM(O12:AC12) -> 5490 | L12: 43466 | M12: 48944 | O12: =0.15*$K$67 -> 366 | P12: =0.15*$K$67 -> 366 | Q12: =0.15*$K$67 -> 366 | R12: =0.15*$K$67 -> 366 | S12: =0.15*$K$67 -> 366 | T12: =0.15*$K$67 -> 366 | U12: =0.15*$K$67 -> 366 | V12: =0.15*$K$67 -> 366 | ... AC12: =0.15*$K$67 -> 366
B13: MÉLYFÚRÁSÚ KÚT, HAGYOMÁNYOS ÁTMÉRŐVEL
B14: Épület, építmény
B16: Gép, berendezés
B18: Irányítástechnika, energiaellátás
B20: Összesen: | J20: =SUM(J12:J18) -> 5490
A22: III. Vízműtelep és vízkezelő létesítmények
C23: Helyszín | D23: beruházás megnevezése
B24: VÍZMŰTELEP
B25: Épület, építmény
B27: Gép, berendezés
B29: Irányítástechnika, energiaellátás
B31: VÍZKEZELŐ LÉTESÍTMÉNYEK
B32: Épület, építmény
B34: Gép, berendezés
B36: Irányítástechnika, energiaellátás
B38: Összesen | J38: =SUM(J24:J37) -> 0
A40: IV. Vízelosztás
C41: Helyszín | D41: beruházás megnevezése
B42: IVÓVÍZHÁLÓZAT
B43: Épület, építmény
C44: Teskánd | D44: tartalékkeret képzése rekonstrukcióhoz | E44: A szerelvény állapota anyaga, kora, minősége miatt nem megfelelő, elavult. | F44: A szerelvény elavult műszaki állapota miatt gyakoriak a csőtörések. | G44: A szerelvény kiváltás a vízigények figyelembevételével megfelelő átmérőjű és anyagú hálózatot kapunk. | I44: Teskánd | J44: =SUM(O44:AC44) -> 2074 | L44: 43466 | M44: 43830 | N44: rövid | O44: 2074
C45: Teskánd | D45: bekötővezetékek ütemezett cseréje | E45: A vezeték állapota anyaga, kora, minősége miatt nem megfelelő, elavult. | F45: A bekötővezeték anyaga vízbiztonsági kockázatot rejt magában, illetve nagyobb a valószínűsége a meghibásodásnak. | G45: A vízvezeték kiváltás a vízigények figyelembevételével megfelelő átmérőjű és anyagú hálózatot kapunk. | I45: Teskánd | J45: =SUM(O45:AC45) -> 5337 | L45: 43922 | M45: 45291 | N45: közép | P45: 1299 | Q45: 1330 | R45: 1303 | S45: 1405
C46: Teskánd | D46: gerinchálózat szerelvényeinek ütemezett cseréje | E46: A szerelvény állapota anyaga, kora, minősége miatt nem megfelelő, elavult. | F46: A szerelvény elavult műszaki állapota miatt gyakoriak a csőtörések. | G46: A szerelvény kiváltás a vízigények figyelembevételével megfelelő átmérőjű és anyagú hálózatot kapunk. | I46: Teskánd | J46: =SUM(O46:AC46) -> 2400 | L46: 43922 | M46: 45291 | N46: közép | P46: 600 | Q46: 600 | R46: 600 | S46: 600
C47: Teskánd | D47: ivóvízhálózat rekonstrukció | E47: A vezeték állapota anyaga, kora, minősége miatt nem megfelelő, elavult. | F47: A vezeték elavult műszaki állapota miatt gyakoriak a csőtörések. | G47: A vízvezeték kiváltás a vízigények figyelembevételével megfelelő átmérőjű és anyagú hálózatot kapunk. | I47: Teskánd | J47: =SUM(O47:AC47) -> 173750 | L47: 45383 | M47: 48944 | N47: hosszú | T47: 17375 | U47: 17375 | V47: 17375 | W47: 17375 | X47: 17375 | Y47: 17375 | Z47: 17375 | AA47: 17375 | AB47: 17375 | AC47: 17375
B49: Gép, berendezés
B51: Irányítástechnika, energiaellátás
B53: VÍZTÁROLÓK
B54: Épület, építmény
B56: Gép, berendezés
B58: Irányítástechnika, energiaellátás
B60: NYOMÁSFOKOZÓK
B61: Épület, építmény
B63: Gép, berendezés
B65: Irányítástechnika, energiaellátás
B67: Összesen: | J67: =SUM(J42:J66) -> 183561 | K67: 2440 | O67: =SUM(O12:O66) -> 2440 | P67: =SUM(P12:P66) -> 2265 | Q67: =SUM(Q12:Q66) -> 2296 | R67: =SUM(R12:R66) -> 2269 | S67: =SUM(S12:S66) -> 2371 | T67: =SUM(T12:T66) -> 17741 | U67: =SUM(U12:U66) -> 17741 | V67: =SUM(V12:V66) -> 17741 | ... AC67: =SUM(AC12:AC66) -> 17741
K68: 2019 évre a fejlesztési forrás biztosított
B70: Rendelkezésre álló források megnevezése | C70: Rendelkezésre álló források számszerűsített értéke a teljes ütem tekintetében (eFt)
A71: I. ütem | B71: Használati díj (2019) | C71: =K67 -> 2440
A72: II. ütem | B72: Használati díj (2020-2023) | C72: =C71*4 -> 9760
A73: III. ütem | B73: Használati díj (2024-2033) | C73: =C71*10 -> 24400

Sheet Zalaboldogfa
A1: Gördülő fejlesztési terv a 2019 - 2033 időszakra
A2: FELÚJÍTÁSOK ÉS PÓTLÁSOK ÖSSZEFOGLALÓ TÁBLÁZATA
A3: A tervet benyújtó szervezet megnevezése: | K3: ZALABOLDOGFA | R3: ellátásért felelős / ellátásért felelősök képviselője / víziközmű-szolgáltató *
A4: Víziközmű-szolgáltató megnevezése: | K4: ÉSZAK ZALAI VÍZ- ÉS CSATORNAMŰ ZÁRTKÖRŰEN MŰKÖDŐ RÉSZVÉNYTÁRSASÁG
A5: Víziközmű-szolgáltatási ágazat megnevezése: | K5: IVÓVÍZ ÁGAZAT
A6: Véleményeltérést megfogalmazó érintett fél megnevezése:
A7: Víziközmű-rendszer kódja: ** | K7: 11-32054-1-010-00-14 | R7: ZALAEGERSZEG-IV
A8: I. Felszín alatti vízkivétel
A9: Fontossági sorrend | B9: Felujítás és pótlás megnevezése | E9: Műszaki állapot felmérés, szükségességi indoklás | H9: Vízjogi létesítési/elvi engedély száma | I9: Az érintett ellátásért felelős(ök) megnevezése | J9: Tervezett nettó költség | K9: Forrás 2019 évre | L9: Megvalósítás időtartama | N9: Tervezett időtáv | O9: A beruházás ütemezése a tervezési időszak évei szerint
E10: Jelenlegi műszaki állapot | F10: Feladat szükségessége | G10: Megvalósítást követő várható műszaki állapot | J10: (eFt) | L10: Kezdés | M10: Befejezés | N10: (rövid / közép / hosszú) | O10: 1 | P10: 2 | Q10: 3 | R10: 4 | S10: 5 | T10: 6 | U10: 7 | V10: 8 | W10: 9 | X10: 10 | Y10: 11 | Z10: 12 | AA10: 13 | AB10: 14 | AC10: 15
B11: szakág | C11: Helyszín | D11: beruházás megnevezése
A12: 1 | D12: Rendkívüli helyzetből adódó azonnali feladatok (max. 15%) | F12: működőképeség biztosítása | I12: Zalaboldogfa | J12: =SUM(O12:AC12) -> 2673 | L12: 43466 | M12: 48944 | O12: =0.15*$K$67 -> 178.2 | P12: =0.15*$K$67 -> 178.2 | Q12: =0.15*$K$67 -> 178.2 | R12: =0.15*$K$67 -> 178.2 | S12: =0.15*$K$67 -> 178.2 | T12: =0.15*$K$67 -> 178.2 | U12: =0.15*$K$67 -> 178.2 | V12: =0.15*$K$67 -> 178.2 | ... AC12: =0.15*$K$67 -> 178.2
B13: MÉLYFÚRÁSÚ KÚT, HAGYOMÁNYOS ÁTMÉRŐVEL
B14: Épület, építmény
B16: Gép, berendezés
B18: Irányítástechnika, energiaellátás
B20: Összesen: | J20: =SUM(J12:J19) -> 2673
A22: III. Vízműtelep és vízkezelő létesítmények
C23: Helyszín | D23: beruházás megnevezése
B24: VÍZMŰTELEP
B25: Épület, építmény
B27: Gép, berendezés
B29: Irányítástechnika, energiaellátás
B31: VÍZKEZELŐ LÉTESÍTMÉNYEK
B32: Épület, építmény
B34: Gép, berendezés
B36: Irányítástechnika, energiaellátás
B38: Összesen | J38: =SUM(J24:J37) -> 0
A40: IV. Vízelosztás
C41: Helyszín | D41: beruházás megnevezése
B42: IVÓVÍZHÁLÓZAT
B43: Épület, építmény
C44: Zalaboldogfa | D44: gerincvezeték csere | E44: A vezeték állapota anyaga, kora, minősége miatt nem megfelelő, elavult. | F44: A bekötővezeték anyaga vízbiztonsági kockázatot rejt magában, illetve nagyobb a valószínűsége a meghibásodásnak. | G44: A vízvezeték kiváltás, a vízigények figyelembevételével megfelelő átmérőjű és anyagú hálózatot kapunk. | H44: - | I44: Zalaboldogfa | J44: =SUM(O44:AC44) -> 1010 | L44: 43556 | M44: 43830 | N44: rövid | O44: 1010
C45: Zalaboldogfa | D45: gerinchálózat szerelvény csere | E45: A szerelvény állapota anyaga, kora, minősége miatt nem megfelelő, elavult. | F45: A vezeték elavult műszaki állapota miatt gyakoriak a csőtörések | G45: A szerelvény kiváltás, a vízigények figyelembevételével megfelelő átmérőjű és anyagú hálózatot kapunk. | H45: - | I45: Zalaboldogfa | J45: =SUM(O45:AC45) -> 100 | L45: 43922 | M45: 44196 | N45: közép | P45: 100
C46: Zalaboldogfa | D46: ivóvízhálózat rekonstrukció | E46: A vezeték állapota anyaga, kora, minősége miatt nem megfelelő, elavult. | F46: A vezeték elavult műszaki állapota miatt gyakoriak a csőtörések | G46: A vízvezeték kiváltás, a vízigények figyelembevételével megfelelő átmérőjű és anyagú hálózatot kapunk. | H46: - | I46: Zalaboldogfa | J46: =SUM(O46:AC46) -> 101440 | L46: 45383 | M46: 48944 | N46: hosszú | T46: 10144 | U46: 10144 | V46: 10144 | W46: 10144 | X46: 10144 | Y46: 10144 | Z46: 10144 | AA46: 10144 | AB46: 10144 | AC46: 10144
B48: Gép, berendezés
B50: Irányítástechnika, energiaellátás
B52: VÍZTÁROLÓK
B53: Épület, építmény
B55: Gép, berendezés
B57: Irányítástechnika, energiaellátás
B59: NYOMÁSFOKOZÓK
B60: Épület, építmény
B62: Gép, berendezés
C63: Zalaboldogfa nyomásfokozó | D63: Szivattyú csere (CRIE3-5 2 db; CR45-3) | E63: A szivattyú kora, műszaki állapota miatt fennáll a meghibásodás veszélye. | F63: A folyamatos víztermelés biztosítása | G63: A Q–H diagramhoz illeszkedő energiahatékony szivattyú üzemeltetése | I63: Zalaboldogfa | J63: =SUM(O63:AC63) -> 1200 | L63: 47119 | M63: 47848 | N63: hosszú | Y63: 832 | Z63: 368
B65: Irányítástechnika, energiaellátás
B67: Összesen: | J67: =SUM(J42:J66) -> 103750 | K67: 1188 | O67: =SUM(O12:O66) -> 1188.2 | P67: =SUM(P12:P66) -> 278.2 | Q67: =SUM(Q12:Q66) -> 178.2 | R67: =SUM(R12:R66) -> 178.2 | S67: =SUM(S12:S66) -> 178.2 | T67: =SUM(T12:T66) -> 10322.2 | U67: =SUM(U12:U66) -> 10322.2 | V67: =SUM(V12:V66) -> 10322.2 | ... AC67: =SUM(AC12:AC66) -> 10322.2
K68: 2019 évre a fejlesztési forrás biztosított
B70: Rendelkezésre álló források megnevezése | C70: Rendelkezésre álló források számszerűsített értéke a teljes ütem tekintetében (eFt)
A71: I. ütem | B71: Használati díj (2019) | C71: =K67 -> 1188
A72: II. ütem | B72: Használati díj (2020-2023) | C72: =C71*4 -> 4752
A73: III. ütem | B73: Használati díj (2024-2033) | C73: =C71*10 -> 11880

Sheet Zalaegerszeg
A1: Gördülő fejlesztési terv a 2019 - 2033 időszakra
A2: FELÚJÍTÁSOK ÉS PÓTLÁSOK ÖSSZEFOGLALÓ TÁBLÁZATA
A3: A tervet benyújtó szervezet megnevezése: | K3: ZALAEGERSZEG | R3: ellátásért felelős / ellátásért felelősök képviselője / víziközmű-szolgáltató *
A4: Víziközmű-szolgáltató megnevezése: | K4: ÉSZAK ZALAI VÍZ- ÉS CSATORNAMŰ ZÁRTKÖRŰEN MŰKÖDŐ RÉSZVÉNYTÁRSASÁG
A5: Víziközmű-szolgáltatási ágazat megnevezése: | K5: IVÓVÍZ ÁGAZAT
A6: Véleményeltérést megfogalmazó érintett fél megnevezése:
A7: Víziközmű-rendszer kódja: ** | K7: 11-32054-1-010-00-14 | R7: ZALAEGERSZEG-IV
A8: I. Felszín alatti vízkivétel
A9: Fontossági sorrend | B9: Felujítás és pótlás megnevezése | E9: Műszaki állapot felmérés, szükségességi indoklás | H9: Vízjogi létesítési/elvi engedély száma | I9: Az érintett ellátásért felelős(ök) megnevezése | J9: Tervezett nettó költség | K9: Forrás 2019 évre | L9: Megvalósítás időtartama | N9: Tervezett időtáv | O9: A beruházás ütemezése a tervezési időszak évei szerint
E10: Jelenlegi műszaki állapot | F10: Feladat szükségessége | G10: Megvalósítást követő várható műszaki állapot | J10: (eFt) | L10: Kezdés | M10: Befejezés | N10: (rövid / közép / hosszú) | O10: 1 | P10: 2 | Q10: 3 | R10: 4 | S10: 5 | T10: 6 | U10: 7 | V10: 8 | W10: 9 | X10: 10 | Y10: 11 | Z10: 12 | AA10: 13 | AB10: 14 | AC10: 15
B11: szakág | C11: Helyszín | D11: beruházás megnevezése
A12: 1 | D12: Rendkívüli helyzetből adódó azonnali feladatok (max. 15%) | F12: működőképeség biztosítása | I12: Zalaegerszeg | J12: =SUM(O12:AC12) -> 275759.1 | L12: 43466 | M12: 48944 | O12: 15000 | P12: =0.15*$K$142 -> 18625.65 | Q12: =0.15*$K$142 -> 18625.65 | R12: =0.15*$K$142 -> 18625.65 | S12: =0.15*$K$142 -> 18625.65 | T12: =0.15*$K$142 -> 18625.65 | U12: =0.15*$K$142 -> 18625.65 | V12: =0.15*$K$142 -> 18625.65 | W12: =0.15*$K$142 -> 18625.65 | ... AC12: =0.15*$K$142 -> 18625.65
B13: MÉLYFÚRÁSÚ KÚT, HAGYOMÁNYOS ÁTMÉRŐVEL
B14: Épület, építmény
A15: 72 | C15: Zalaegerszeg … kút | D15: kútfelújítás | E15: Az objektum kora, műszaki állapota miatt fennáll a meghibásodás veszélye. Feladat szükségessége | F15: A felhasználók folyamatos vízellátásának biztosítására | G15: Az elvárt vízigényeket kielégítő megfelelő műszaki állapotú vízbázis. | I15: Zalaegerszeg | J15: =SUM(O15:AC15) -> 6000 | L15: 44927 | M15: 45291 | N15: közép | S15: 6000
A16: 113 | C16: Zalaegerszeg … kút | D16: kútfelújítás | E16: Az objektum kora, műszaki állapota miatt fennáll a meghibásodás veszélye. Feladat szükségessége | F16: A felhasználók folyamatos vízellátásának biztosítására | G16: Az elvárt vízigényeket kielégítő megfelelő műszaki állapotú vízbázis. | I16: Zalaegerszeg | J16: =SUM(O16:AC16) -> 6000 | L16: 46753 | M16: 47118 | N16: hosszú | X16: 6000
B18: Gép, berendezés
A19: 2 | C19: Zalaegerszeg | D19: tervezett szivattyú cserék és felújítások | E19: A szivattyú kora, műszaki állapota miatt fennáll a meghibásodás veszélye. | F19: A folyamatos víztermelés biztosítása. | G19: A Q–H diagramhoz illeszkedő energiahatékony szivattyú üzemeltetése. | I19: Zalaegerszeg | J19: =SUM(O19:AC19) -> 5000 | L19: 43556 | M19: 43830 | N19: rövid | O19: 5000
A20: 83 | C20: Zalaegerszeg … kút | D20: Szivattyú csere 2 db | E20: A szivattyú kora, műszaki állapota miatt fennáll a meghibásodás veszélye. | F20: A folyamatos víztermelés biztosítása. | G20: A Q–H diagramhoz illeszkedő energiahatékony szivattyú üzemeltetése. | I20: Zalaegerszeg | J20: =SUM(O20:AC20) -> 601 | L20: 45292 | M20: 45657 | N20: hosszú | T20: 601
C21: Zalaegerszeg … kút | D21: Gépészeti felújítás 2 db | E21: A szerelvények és vezetékek, műszaki állapota miatt fennáll a meghibásodás veszélye. | F21: A folyamatos víztermelés biztosítása. | G21: A gépészeti funkciókat kifogástalanul ellátó szerelvények. | I21: Zalaegerszeg | J21: =SUM(O21:AC21) -> 2000 | L21: 45292 | M21: 45657 | N21: hosszú | T21: 2000
A22: 101 | C22: Zalaegerszeg … kút | D22: Szivattyú csere 2 db | E22: A szivattyú kora, műszaki állapota miatt fennáll a meghibásodás veszélye. | F22: A folyamatos víztermelés biztosítása. | G22: A Q–H diagramhoz illeszkedő energiahatékony szivattyú üzemeltetése. | I22: Zalaegerszeg | J22: =SUM(O22:AC22) -> 601 | L22: 45658 | M22: 46022 | N22: hosszú | U22: 601
C23: Zalaegerszeg … kút | D23: Gépészeti felújítás 2 db | E23: A szerelvények és vezetékek, műszaki állapota miatt fennáll a meghibásodás veszélye. | F23: A folyamatos víztermelés biztosítása. | G23: A gépészeti funkciókat kifogástalanul ellátó szerelvények. | I23: Zalaegerszeg | J23: =SUM(O23:AC23) -> 2000 | L23: 45658 | M23: 46022 | N23: hosszú | U23: 2000
A24: 106 | C24: Zalaegerszeg … kút | D24: Szivattyú csere 2 db | E24: A szivattyú kora, műszaki állapota miatt fennáll a meghibásodás veszélye. | F24: A folyamatos víztermelés biztosítása. | G24: A Q–H diagramhoz illeszkedő energiahatékony szivattyú üzemeltetése. | I24: Zalaegerszeg | J24: =SUM(O24:AC24) -> 601 | L24: 46023 | M24: 46387 | N24: hosszú | V24: 601
C25: Zalaegerszeg … kút | D25: Gépészeti felújítás 2 db | E25: A szerelvények és vezetékek, műszaki állapota miatt fennáll a meghibásodás veszélye. | F25: A folyamatos víztermelés biztosítása. | G25: A gépészeti funkciókat kifogástalanul ellátó szerelvények. | I25: Zalaegerszeg | J25: =SUM(O25:AC25) -> 2000 | L25: 46023 | M25: 46387 | N25: hosszú | V25: 2000
A26: 108 | C26: Zalaegerszeg … kút | D26: Szivattyú csere 2 db | E26: A szivattyú kora, műszaki állapota miatt fennáll a meghibásodás veszélye. | F26: A folyamatos víztermelés biztosítása. | G26: A Q–H diagramhoz illeszkedő energiahatékony szivattyú üzemeltetése. | I26: Zalaegerszeg | J26: =SUM(O26:AC26) -> 601 | L26: 46388 | M26: 46752 | N26: hosszú | W26: 601
C27: Zalaegerszeg … kút | D27: Gépészeti felújítás 2 db | E27: A szerelvények és vezetékek, műszaki állapota miatt fennáll a meghibásodás veszélye. | F27: A folyamatos víztermelés biztosítása. | G27: A gépészeti funkciókat kifogástalanul ellátó szerelvények. | I27: Zalaegerszeg | J27: =SUM(O27:AC27) -> 2000 | L27: 46388 | M27: 46752 | N27: hosszú | W27: 2000
A28: 114 | C28: Zalaegerszeg … kút | D28: Szivattyú csere 2 db | E28: A szivattyú kora, műszaki állapota miatt fennáll a meghibásodás veszélye. | F28: A folyamatos víztermelés biztosítása. | G28: A Q–H diagramhoz illeszkedő energiahatékony szivattyú üzemeltetése. | I28: Zalaegerszeg | J28: =SUM(O28:AC28) -> 601 | L28: 46753 | M28: 47118 | N28: hosszú | X28: 601
C29: Zalaegerszeg … kút | D29: Gépészeti felújítás 2 db | E29: A szerelvények és vezetékek, műszaki állapota miatt fennáll a meghibásodás veszélye. | F29: A folyamatos víztermelés biztosítása. | G29: A gépészeti funkciókat kifogástalanul ellátó szerelvények. | I29: Zalaegerszeg | J29: =SUM(O29:AC29) -> 2000 | L29: 46753 | M29: 47118 | N29: hosszú | X29: 2000
A30: 117 | C30: Zalaegerszeg … kút | D30: Szivattyú csere 2 db | E30: A szivattyú kora, műszaki állapota miatt fennáll a meghibásodás veszélye. | F30: A folyamatos víztermelés biztosítása. | G30: A Q–H diagramhoz illeszkedő energiahatékony szivattyú üzemeltetése. | I30: Zalaegerszeg | J30: =SUM(O30:AC30) -> 601 | L30: 47119 | M30: 47483 | N30: hosszú | Y30: 601
C31: Zalaegerszeg … kút | D31: Gépészeti felújítás 2 db | E31: A szerelvények és vezetékek, műszaki állapota miatt fennáll a meghibásodás veszélye. | F31: A folyamatos víztermelés biztosítása. | G31: A gépészeti funkciókat kifogástalanul ellátó szerelvények. | I31: Zalaegerszeg | J31: =SUM(O31:AC31) -> 2000 | L31: 47119 | M31: 47483 | N31: hosszú | Y31: 2000
A32: 126 | C32: Zalaegerszeg … kút | D32: Szivattyú csere 2 db | E32: A szivattyú kora, műszaki állapota miatt fennáll a meghibásodás veszélye. | F32: A folyamatos víztermelés biztosítása. | G32: A Q–H diagramhoz illeszkedő energiahatékony szivattyú üzemeltetése. | I32: Zalaegerszeg | J32: =SUM(O32:AC32) -> 601 | L32: 47484 | M32: 47848 | N32: hosszú | Z32: 601
C33: Zalaegerszeg … kút | D33: Gépészeti felújítás 2 db | E33: A szerelvények és vezetékek, műszaki állapota miatt fennáll a meghibásodás veszélye. | F33: A folyamatos víztermelés biztosítása. | G33: A gépészeti funkciókat kifogástalanul ellátó szerelvények. | I33: Zalaegerszeg | J33: =SUM(O33:AC33) -> 2000 | L33: 47484 | M33: 47848 | N33: hosszú | Z33: 2000
A34: 130 | C34: Zalaegerszeg … kút | D34: Szivattyú csere 2 db | E34: A szivattyú kora, műszaki állapota miatt fennáll a meghibásodás veszélye. | F34: A folyamatos víztermelés biztosítása. | G34: A Q–H diagramhoz illeszkedő energiahatékony szivattyú üzemeltetése. | I34: Zalaegerszeg | J34: =SUM(O34:AC34) -> 601 | L34: 47849 | M34: 48213 | N34: hosszú | AA34: 601
C35: Zalaegerszeg … kút | D35: Gépészeti felújítás 2 db | E35: A szerelvények és vezetékek, műszaki állapota miatt fennáll a meghibásodás veszélye. | F35: A folyamatos víztermelés biztosítása. | G35: A gépészeti funkciókat kifogástalanul ellátó szerelvények. | I35: Zalaegerszeg | J35: =SUM(O35:AC35) -> 2000 | L35: 47849 | M35: 48213 | N35: hosszú | AA35: 2000
A36: 132 | C36: Zalaegerszeg … kút | D36: Szivattyú csere 2 db | E36: A szivattyú kora, műszaki állapota miatt fennáll a meghibásodás veszélye. | F36: A folyamatos víztermelés biztosítása. | G36: A Q–H diagramhoz illeszkedő energiahatékony szivattyú üzemeltetése. | I36: Zalaegerszeg | J36: =SUM(O36:AC36) -> 601 | L36: 48214 | M36: 48579 | N36: hosszú | AB36: 601
C37: Zalaegerszeg … kút | D37: Gépészeti felújítás 2 db | E37: A szerelvények és vezetékek, műszaki állapota miatt fennáll a meghibásodás veszélye. | F37: A folyamatos víztermelés biztosítása. | G37: A gépészeti funkciókat kifogástalanul ellátó szerelvények. | I37: Zalaegerszeg | J37: =SUM(O37:AC37) -> 2000 | L37: 48214 | M37: 48579 | N37: hosszú | AB37: 2000
A38: 134 | C38: Zalaegerszeg … kút | D38: Szivattyú csere 2 db | E38: A szivattyú kora, műszaki állapota miatt fennáll a meghibásodás veszélye. | F38: A folyamatos víztermelés biztosítása. | G38: A Q–H diagramhoz illeszkedő energiahatékony szivattyú üzemeltetése. | I38: Zalaegerszeg | J38: =SUM(O38:AC38) -> 601 | L38: 48580 | M38: 48944 | N38: hosszú | AC38: 601
C39: Zalaegerszeg … kút | D39: Gépészeti felújítás 2 db | E39: A szerelvények és vezetékek, műszaki állapota miatt fennáll a meghibásodás veszélye. | F39: A folyamatos víztermelés biztosítása. | G39: A gépészeti funkciókat kifogástalanul ellátó szerelvények. | I39: Zalaegerszeg | J39: =SUM(O39:AC39) -> 2000 | L39: 48580 | M39: 48944 | N39: hosszú | AC39: 2000
B41: Irányítástechnika, energiaellátás
A42: 3 | C42: Zalaegerszeg 26. sz. kút | D42: irányítástechnikai rekonstrukció | E42: Az elektromos, irányítástechnikai szerelvények és vezetékek, műszaki állapota miatt fennáll a meghibásodás veszélye. | F42: A búvárszivattyú elektromos megtáplálása, a folyamatos távfelügyelet biztosítása. | G42: A búvárszivattyú elektromos paramétereihez illeszkedő erősáramú és vezérlőszekrény. | I42: Zalaegerszeg | J42: =SUM(O42:AC42) -> 150 | L42: 43466 | M42: 43830 | N42: rövid | O42: 150
A43: 38 | C43: Zalaegerszeg Keleti kútcsoport | D43: GPRS kommunikációra történő átállás | E43: Az elektromos, irányítástechnikai szerelvények és vezetékek, műszaki állapota miatt fennáll a meghibásodás veszélye. | F43: A búvárszivattyú elektromos megtáplálása, a folyamatos távfelügyelet biztosítása. | G43: A búvárszivattyú elektromos paramétereihez illeszkedő erősáramú és vezérlőszekrény. | I43: Zalaegerszeg | J43: =SUM(O43:AC43) -> 6078 | L43: 43831 | M43: 44196 | N43: közép | P43: 6078
A44: 84 | C44: Zalaegerszeg … kút | D44: elektromos és iráűnyítástechnikai szekrény csere (2 db) | E44: Az elektromos, irányítástechnikai szerelvények és vezetékek, műszaki állapota miatt fennáll a meghibásodás veszélye. | F44: A búvárszivattyú elektromos megtáplálása, a folyamatos távfelügyelet biztosítása. | G44: A búvárszivattyú elektromos paramétereihez illeszkedő erősáramú és vezérlőszekrény. | I44: Zalaegerszeg | J44: =SUM(O44:AC44) -> 6000 | L44: 45292 | M44: 45657 | N44: hosszú | T44: 6000
A45: 102 | C45: Zalaegerszeg … kút | D45: elektromos és iráűnyítástechnikai szekrény csere (2 db) | E45: Az elektromos, irányítástechnikai szerelvények és vezetékek, műszaki állapota miatt fennáll a meghibásodás veszélye. | F45: A búvárszivattyú elektromos megtáplálása, a folyamatos távfelügyelet biztosítása. | G45: A búvárszivattyú elektromos paramétereihez illeszkedő erősáramú és vezérlőszekrény. | I45: Zalaegerszeg | J45: =SUM(O45:AC45) -> 6000 | L45: 45658 | M45: 46022 | N45: hosszú | U45: 6000
A46: 107 | C46: Zalaegerszeg … kút | D46: elektromos és iráűnyítástechnikai szekrény csere (2 db) | E46: Az elektromos, irányítástechnikai szerelvények és vezetékek, műszaki állapota miatt fennáll a meghibásodás veszélye. | F46: A búvárszivattyú elektromos megtáplálása, a folyamatos távfelügyelet biztosítása. | G46: A búvárszivattyú elektromos paramétereihez illeszkedő erősáramú és vezérlőszekrény. | I46: Zalaegerszeg | J46: =SUM(O46:AC46) -> 6000 | L46: 46023 | M46: 46387 | N46: hosszú | V46: 6000
A47: 109 | C47: Zalaegerszeg … kút | D47: elektromos és iráűnyítástechnikai szekrény csere (2 db) | E47: Az elektromos, irányítástechnikai szerelvények és vezetékek, műszaki állapota miatt fennáll a meghibásodás veszélye. | F47: A búvárszivattyú elektromos megtáplálása, a folyamatos távfelügyelet biztosítása. | G47: A búvárszivattyú elektromos paramétereihez illeszkedő erősáramú és vezérlőszekrény. | I47: Zalaegerszeg | J47: =SUM(O47:AC47) -> 6000 | L47: 46388 | M47: 46752 | N47: hosszú | W47: 6000
A48: 115 | C48: Zalaegerszeg … kút | D48: elektromos és iráűnyítástechnikai szekrény csere (2 db) | E48: Az elektromos, irányítástechnikai szerelvények és vezetékek, műszaki állapota miatt fennáll a meghibásodás veszélye. | F48: A búvárszivattyú elektromos megtáplálása, a folyamatos távfelügyelet biztosítása. | G48: A búvárszivattyú elektromos paramétereihez illeszkedő erősáramú és vezérlőszekrény. | I48: Zalaegerszeg | J48: =SUM(O48:AC48) -> 6000 | L48: 46753 | M48: 47118 | N48: hosszú | X48: 6000
A49: 118 | C49: Zalaegerszeg … kút | D49: elektromos és iráűnyítástechnikai szekrény csere (2 db) | E49: Az elektromos, irányítástechnikai szerelvények és vezetékek, műszaki állapota miatt fennáll a meghibásodás veszélye. | F49: A búvárszivattyú elektromos megtáplálása, a folyamatos távfelügyelet biztosítása. | G49: A búvárszivattyú elektromos paramétereihez illeszkedő erősáramú és vezérlőszekrény. | I49: Zalaegerszeg | J49: =SUM(O49:AC49) -> 6000 | L49: 47119 | M49: 47483 | N49: hosszú | Y49: 6000
A50: 127 | C50: Zalaegerszeg … kút | D50: elektromos és iráűnyítástechnikai szekrény csere (2 db) | E50: Az elektromos, irányítástechnikai szerelvények és vezetékek, műszaki állapota miatt fennáll a meghibásodás veszélye. | F50: A búvárszivattyú elektromos megtáplálása, a folyamatos távfelügyelet biztosítása. | G50: A búvárszivattyú elektromos paramétereihez illeszkedő erősáramú és vezérlőszekrény. | I50: Zalaegerszeg | J50: =SUM(O50:AC50) -> 6000 | L50: 47484 | M50: 47848 | N50: hosszú | Z50: 6000
A51: 131 | C51: Zalaegerszeg … kút | D51: elektromos és iráűnyítástechnikai szekrény csere (2 db) | E51: Az elektromos, irányítástechnikai szerelvények és vezetékek, műszaki állapota miatt fennáll a meghibásodás veszélye. | F51: A búvárszivattyú elektromos megtáplálása, a folyamatos távfelügyelet biztosítása. | G51: A búvárszivattyú elektromos paramétereihez illeszkedő erősáramú és vezérlőszekrény. | I51: Zalaegerszeg | J51: =SUM(O51:AC51) -> 6000 | L51: 47849 | M51: 48213 | N51: hosszú | AA51: 6000
A52: 133 | C52: Zalaegerszeg … kút | D52: elektromos és iráűnyítástechnikai szekrény csere (2 db) | E52: Az elektromos, irányítástechnikai szerelvények és vezetékek, műszaki állapota miatt fennáll a meghibásodás veszélye. | F52: A búvárszivattyú elektromos megtáplálása, a folyamatos távfelügyelet biztosítása. | G52: A búvárszivattyú elektromos paramétereihez illeszkedő erősáramú és vezérlőszekrény. | I52: Zalaegerszeg | J52: =SUM(O52:AC52) -> 6000 | L52: 48214 | M52: 48579 | N52: hosszú | AB52: 6000
A53: 135 | C53: Zalaegerszeg … kút | D53: elektromos és iráűnyítástechnikai szekrény csere (2 db) | E53: Az elektromos, irányítástechnikai szerelvények és vezetékek, műszaki állapota miatt fennáll a meghibásodás veszélye. | F53: A búvárszivattyú elektromos megtáplálása, a folyamatos távfelügyelet biztosítása. | G53: A búvárszivattyú elektromos paramétereihez illeszkedő erősáramú és vezérlőszekrény. | I53: Zalaegerszeg | J53: =SUM(O53:AC53) -> 6000 | L53: 48580 | M53: 48944 | N53: hosszú | AC53: 6000
B55: Összesen: | J55: =SUM(J12:J41) -> 318769.1
A57: III. Vízműtelep és vízkezelő létesítmények
C58: Helyszín | D58: beruházás megnevezése
B59: VÍZMŰTELEP
B60: Épület, építmény
B62: Gép, berendezés
B64: Irányítástechnika, energiaellátás
A65: 39 | C65: Zalaegerszeg vízműtelep | D65: PLC - PLC közti kommunikáció felújítása | E65: Az elektromos, irányítástechnikai szerelvények és vezetékek, műszaki állapota miatt fennáll a meghibásodás veszélye | F65: A vízműtelep elektromos megtáplálása, a folyamatos távfelügyelet biztosítása. | G65: Az elektromos paramétereihez illeszkedő erős- és gyengeáramú vezérlőszekrény. | I65: Zalaegerszeg | J65: =SUM(O65:AC65) -> 1000 | L65: 43922 | M65: 44196 | N65: közép | P65: 1000
A66: 68 | C66: Zalaegerszeg Keleti vízműtelep | D66: URH alnokok megszűntetése | E66: Az elektromos, irányítástechnikai szerelvények és vezetékek, műszaki állapota miatt fennáll a meghibásodás veszélye | F66: A vízműtelep elektromos megtáplálása, a folyamatos távfelügyelet biztosítása. | G66: Az elektromos paramétereihez illeszkedő erős- és gyengeáramú vezérlőszekrény. | I66: Zalaegerszeg | J66: =SUM(O66:AC66) -> 6819 | L66: 44287 | M66: 44561 | N66: közép | Q66: 6819
A67: 69 | C67: Zalaegerszeg Nyugati vízműtelep | D67: 20 KV-os főelosztó felújítása, feszültségváltó, megszakító csere mindkét betáp oldalon | E67: Az elektromos, irányítástechnikai szerelvények és vezetékek, műszaki állapota miatt fennáll a meghibásodás veszélye | F67: A vízműtelep elektromos megtáplálása, a folyamatos távfelügyelet biztosítása. | G67: Az elektromos paramétereihez illeszkedő erős- és gyengeáramú vezérlőszekrény. | I67: Zalaegerszeg | J67: =SUM(O67:AC67) -> 21000 | L67: 44287 | M67: 44561 | N67: közép | Q67: 21000
B69: VÍZKEZELŐ LÉTESÍTMÉNYEK
B70: Épület, építmény
B72: Gép, berendezés
A73: 103 | C73: Zalaegerszeg Keleti vastalanító | D73: gépszeti rekonstrukció | E73: A technológia, szerelvények és vezetékek, műszaki állapota miatt fennáll a meghibásodás veszélye. | F73: A tisztítás technológia jelenlegi műszaki állapota miatt nem képes az elvárt paramétereket biztosítani. Az avultsági szint miatt fennáll a meghibásodás veszélye. | G73: Megfelelő hatékonyságú technológia. A gépészeti funkciókat kifogástalanul ellátó szerelvények. | I73: Zalaegerszeg | J73: =SUM(O73:AC73) -> 100000 | L73: 45748 | M73: 46387 | N73: hosszú | U73: 50000 | V73: 50000
B75: Irányítástechnika, energiaellátás
B77: Összesen | J77: =SUM(J59:J76) -> 128819
A79: IV. Vízelosztás
C80: Helyszín | D80: beruházás megnevezése
B81: IVÓVÍZHÁLÓZAT
B82: Épület, építmény
A83: 4 | C83: Zalaegerszeg Kosztolányi u. (Petőfi u.; Berzsenyi u . Csomópontok) | D83: ivóvízvezeték rekonstrukció | E83: A vezeték állapota anyaga, kora, minősége miatt nem megfelelő, elavult. | F83: A vezeték elavult műszaki állapota miatt gyakoriak a csőtörések. | G83: A vízvezeték kiváltás a vízigények figyelembevételével megfelelő átmérőjű és anyagú hálózatot kapunk. | I83: Zalaegerszeg | J83: =SUM(O83:AC83) -> 10000 | L83: 43556 | M83: 43830 | N83: rövid | O83: 10000
A84: 5 | C84: Zalaegerszeg Perlaki u. | D84: ivóvízvezeték rekonstrukció | E84: A vezeték állapota anyaga, kora, minősége miatt nem megfelelő, elavult. | F84: A vezeték elavult műszaki állapota miatt gyakoriak a csőtörések. | G84: A vízvezeték kiváltás a vízigények figyelembevételével megfelelő átmérőjű és anyagú hálózatot kapunk. | I84: Zalaegerszeg | J84: =SUM(O84:AC84) -> 4000 | L84: 43556 | M84: 43830 | N84: rövid | O84: 4000
A85: 6 | C85: Zalaegerszeg Czobor I-II. ütem (Köztársaság- Czobor- Olajmunkás összekötés) | D85: ivóvízvezeték rekonstrukció | E85: A vezeték állapota anyaga, kora, minősége miatt nem megfelelő, elavult. | F85: A vezeték elavult műszaki állapota miatt gyakoriak a csőtörések. | G85: A vízvezeték kiváltás a vízigények figyelembevételével megfelelő átmérőjű és anyagú hálózatot kapunk. | I85: Zalaegerszeg | J85: =SUM(O85:AC85) -> 8000 | L85: 43556 | M85: 43830 | N85: rövid | O85: 8000
A86: 7 | C86: Zalaegerszeg | D86: mechanikai tisztítási csomópontok kiépítése | E86: A meglévő szerelvényekkel korlátozott korlátozottak a hálózattisztítási lehetőségek. | F86: Rendszeres hálózatisztítás végrehajtása a jövőben. | G86: A tisztítási csomópontok kialakításával lehetőség nyílik a rendszeres hálózattisztítások elvégzésére. | I86: Zalaegerszeg | J86: =SUM(O86:AC86) -> 10000 | L86: 43556 | M86: 43830 | N86: rövid | O86: 10000
A87: 8 | C87: Zalaegerszeg | D87: ivóvízvezeték rekonstrukcióhoz köthető tervezési feladatok | E87: A vezeték állapota anyaga, kora, minősége miatt nem megfelelő, elavult. | F87: A vezeték elavult műszaki állapota miatt gyakoriak a csőtörések. | G87: A vízvezeték kiváltás a vízigények figyelembevételével megfelelő átmérőjű és anyagú hálózatot kapunk. | I87: Zalaegerszeg | J87: =SUM(O87:AC87) -> 3000 | L87: 43556 | M87: 43830 | N87: rövid | O87: 3000
A88: 9 | C88: Zalaegerszeg, egerszeghegyi tároló töltővezeték | D88: ivóvízvezeték rekonstrukció | E88: A vezeték állapota anyaga, kora, minősége miatt nem megfelelő, elavult. | F88: A vezeték elavult műszaki állapota miatt gyakoriak a csőtörések. | G88: A vízvezeték kiváltás a vízigények figyelembevételével megfelelő átmérőjű és anyagú hálózatot kapunk. | I88: Zalaegerszeg | J88: =SUM(O88:AC88) -> 20000 | L88: 43466 | M88: 43830 | N88: rövid | O88: 20000
A89: 40 | C89: Zalaegerszeg Csertán - Landorhegyi - Űrhajós - Déryné utcák között | D89: ivóvízvezeték rekonstrukció (d110 1077 fm) | E89: A bekötővezeték anyaga vízbiztonsági kockázatot rejt magában, illetve nagyobb a valószínűsége a meghibásodásnak. | F89: A vízvezeték kiváltás, a vízigények figyelembevételével megfelelő átmérőjű és anyagú hálózatot kapunk. | G89: új kialakítású | I89: Zalaegerszeg | J89: =SUM(O89:AC89) -> 21000 | L89: 43922 | M89: 44196 | N89: közép | P89: 21000
A90: 10 | C90: Zalaegerszeg | D90: bekötővezetékek ütemezett cseréje | E90: A vezeték állapota anyaga, kora, minősége miatt nem megfelelő, elavult. | F90: A bekötővezeték anyaga vízbiztonsági kockázatot rejt magában, illetve nagyobb a valószínűsége a meghibásodásnak. | G90: A vízvezeték kiváltás a vízigények figyelembevételével megfelelő átmérőjű és anyagú hálózatot kapunk. | I90: Zalaegerszeg | J90: =SUM(O90:AC90) -> 17957 | L90: 43556 | M90: 43830 | N90: rövid | O90: 17957
A91: 11 | C91: Zalaegerszeg | D91: gerinchálózat szerelvényeinek ütemezett cseréje | E91: A szerelvény állapota anyaga, kora, minősége miatt nem megfelelő, elavult. | F91: A szerelvény elavult műszaki állapota miatt gyakoriak a csőtörések. | G91: A szerelvény kiváltás a vízigények figyelembevételével megfelelő átmérőjű és anyagú hálózatot kapunk. | I91: Zalaegerszeg | J91: =SUM(O91:AC91) -> 7957 | L91: 43556 | M91: 43830 | N91: rövid | O91: 7957
A92: 12 | C92: Zalaegerszeg | D92: tervezett gerincvezeték csere | E92: A vezeték állapota anyaga, kora, minősége miatt nem megfelelő, elavult. | F92: A vezeték elavult műszaki állapota miatt gyakoriak a csőtörések. | G92: A vízvezeték kiváltás a vízigények figyelembevételével megfelelő átmérőjű és anyagú hálózatot kapunk. | I92: Zalaegerszeg | J92: =SUM(O92:AC92) -> 22957 | L92: 43556 | M92: 43830 | N92: rövid | O92: 22957
A93: 41 | C93: Zalaegerszeg | D93: bekötővezetékek ütemezett cseréje | E93: A vezeték állapota anyaga, kora, minősége miatt nem megfelelő, elavult. | F93: A bekötővezeték anyaga vízbiztonsági kockázatot rejt magában, illetve nagyobb a valószínűsége a meghibásodásnak. | G93: A vízvezeték kiváltás a vízigények figyelembevételével megfelelő átmérőjű és anyagú hálózatot kapunk. | I93: Zalaegerszeg | J93: =SUM(O93:AC93) -> 32000 | L93: 43831 | M93: 45291 | N93: közép | P93: 8000 | Q93: 8000 | R93: 8000 | S93: 8000
A94: 42 | C94: Zalaegerszeg | D94: gerinchálózat szerelvényeinek ütemezett cseréje | E94: A szerelvény állapota anyaga, kora, minősége miatt nem megfelelő, elavult. | F94: A szerelvény elavult műszaki állapota miatt gyakoriak a csőtörések. | G94: A szerelvény kiváltás a vízigények figyelembevételével megfelelő átmérőjű és anyagú hálózatot kapunk. | I94: Zalaegerszeg | J94: =SUM(O94:AC94) -> 22700 | L94: 43831 | M94: 45291 | N94: közép | P94: 5675 | Q94: 5675 | R94: 5675 | S94: 5675
A95: 43 | C95: Zalaegerszeg | D95: ivóvízhálózat rekonstrukció | E95: A vezeték állapota anyaga, kora, minősége miatt nem megfelelő, elavult. | F95: A vezeték elavult műszaki állapota miatt gyakoriak a csőtörések. | G95: A vízvezeték kiváltás a vízigények figyelembevételével megfelelő átmérőjű és anyagú hálózatot kapunk. | I95: Zalaegerszeg | J95: =SUM(O95:AC95) -> 1287468 | L95: 43831 | M95: 45291 | N95: közép | P95: 321867 | Q95: 321867 | R95: 321867 | S95: 321867
A96: 44 | C96: Zalaegerszeg | D96: mechanikai tisztítási csomópontok kiépítése | E96: A meglévő szerelvényekkel korlátozott korlátozottak a hálózattisztítási lehetőségek. | F96: Rendszeres hálózatisztítás végrehajtása a jövőben. | G96: A tisztítási csomópontok kialakításával lehetőség nyílik a rendszeres hálózattisztítások elvégzésére. | I96: Zalaegerszeg | J96: =SUM(O96:AC96) -> 24000 | L96: 43922 | M96: 44926 | N96: közép | P96: 8000 | Q96: 8000 | R96: 8000
A97: 45 | C97: Zalaegerszeg | D97: ivóvízvezeték rekonstrukcióhoz köthető tervezési feladatok | E97: A vezeték állapota anyaga, kora, minősége miatt nem megfelelő, elavult. | F97: A vezeték elavult műszaki állapota miatt gyakoriak a csőtörések. | G97: A vízvezeték kiváltás a vízigények figyelembevételével megfelelő átmérőjű és anyagú hálózatot kapunk. | I97: Zalaegerszeg | J97: =SUM(O97:AC97) -> 12000 | L97: 43831 | M97: 45291 | N97: közép | P97: 3000 | Q97: 3000 | R97: 3000 | S97: 3000
A98: 46 | C98: Zalaegerszeg 74 - 76. út | D98: csomópont rekonstrukció | E98: A vezeték állapota anyaga, kora, minősége miatt nem megfelelő, elavult. | F98: A vezeték elavult műszaki állapota miatt gyakoriak a csőtörések. | G98: A vízvezeték kiváltás a vízigények figyelembevételével megfelelő átmérőjű és anyagú hálózatot kapunk. | I98: Zalaegerszeg | J98: =SUM(O98:AC98) -> 60000 | L98: 43922 | M98: 44196 | N98: közép | P98: 60000
A99: 70 | C99: Zalaegerszeg Juhász Gy. - Zrínyi út között | D99: gerincvezeték csere (D315 400 fm) | E99: A vezeték állapota anyaga, kora, minősége miatt nem megfelelő, elavult. | F99: A vezeték elavult műszaki állapota miatt gyakoriak a csőtörések. | G99: A vízvezeték kiváltás a vízigények figyelembevételével megfelelő átmérőjű és anyagú hálózatot kapunk. | I99: Zalaegerszeg | J99: =SUM(O99:AC99) -> 19635 | L99: 44652 | M99: 44681 | N99: közép | R99: 19635
A100: 73 | C100: Zalaegerszeg Dózsa iskola régi szennyvíztelep között | D100: gerincvezeték csere (D355 520 fm) | E100: A vezeték állapota anyaga, kora, minősége miatt nem megfelelő, elavult. | F100: A vezeték elavult műszaki állapota miatt gyakoriak a csőtörések. | G100: A vízvezeték kiváltás a vízigények figyelembevételével megfelelő átmérőjű és anyagú hálózatot kapunk. | I100: Zalaegerszeg | J100: =SUM(O100:AC100) -> 20570 | L100: 45017 | M100: 45291 | N100: közép | S100: 20570
A101: 74 | C101: Zalaegerszeg | D101: bekötővezetékek ütemezett cseréje | E101: A vezeték állapota anyaga, kora, minősége miatt nem megfelelő, elavult. | F101: A bekötővezeték anyaga vízbiztonsági kockázatot rejt magában, illetve nagyobb a valószínűsége a meghibásodásnak. | G101: A vízvezeték kiváltás a vízigények figyelembevételével megfelelő átmérőjű és anyagú hálózatot kapunk. | I101: Zalaegerszeg | J101: =SUM(O101:AC101) -> 8000 | L101: 45017 | M101: 45291 | N101: közép | S101: 8000
A102: 75 | C102: Zalaegerszeg | D102: gerinchálózat szerelvényeinek ütemezett cseréje | E102: A szerelvény állapota anyaga, kora, minősége miatt nem megfelelő, elavult. | F102: A szerelvény elavult műszaki állapota miatt gyakoriak a csőtörések. | G102: A szerelvény kiváltás a vízigények figyelembevételével megfelelő átmérőjű és anyagú hálózatot kapunk. | I102: Zalaegerszeg | J102: =SUM(O102:AC102) -> 5675 | L102: 45017 | M102: 45291 | N102: közép | S102: 5675
A103: 76 | C103: Zalaegerszeg | D103: gerincvezeték csere | E103: A vezeték állapota anyaga, kora, minősége miatt nem megfelelő, elavult. | F103: A vezeték elavult műszaki állapota miatt gyakoriak a csőtörések. | G103: A vízvezeték kiváltás a vízigények figyelembevételével megfelelő átmérőjű és anyagú hálózatot kapunk. | I103: Zalaegerszeg | J103: =SUM(O103:AC103) -> 35181 | L103: 45017 | M103: 45291 | N103: közép | S103: 35181
A104: 77 | C104: Zalaegerszeg | D104: mechanikai tisztítási csomópontok kiépítése | E104: A meglévő szerelvényekkel korlátozott korlátozottak a hálózattisztítási lehetőségek. | F104: Rendszeres hálózatisztítás végrehajtása a jövőben. | G104: A tisztítási csomópontok kialakításával lehetőség nyílik a rendszeres hálózattisztítások elvégzésére. | I104: Zalaegerszeg | J104: =SUM(O104:AC104) -> 8000 | L104: 45017 | M104: 45291 | N104: közép | S104: 8000
A105: 78 | C105: Zalaegerszeg | D105: ivóvízvezeték rekonstrukcióhoz köthető tervezési feladatok | E105: A vezeték állapota anyaga, kora, minősége miatt nem megfelelő, elavult. | F105: A vezeték elavult műszaki állapota miatt gyakoriak a csőtörések. | G105: A vízvezeték kiváltás a vízigények figyelembevételével megfelelő átmérőjű és anyagú hálózatot kapunk. | I105: Zalaegerszeg | J105: =SUM(O105:AC105) -> 3000 | L105: 45017 | M105: 45291 | N105: közép | S105: 3000
A106: 86 | C106: Zalaegerszeg | D106: ivóvízhálózat rekonstrukció | E106: A vezeték állapota anyaga, kora, minősége miatt nem megfelelő, elavult. | F106: A vezeték anyaga vízbiztonsági kockázatot rejt magában, illetve nagyobb a valószínűsége a meghibásodásnak. | G106: A vízvezeték kiváltás a vízigények figyelembevételével megfelelő átmérőjű és anyagú hálózatot kapunk. | I106: Zalaegerszeg | J106: =SUM(O106:AC106) -> 3490520 | L106: 45292 | M106: 48944 | N106: hosszú | T106: 349052 | U106: 349052 | V106: 349052 | W106: 349052 | X106: 349052 | Y106: 349052 | Z106: 349052 | AA106: 349052 | AB106: 349052 | AC106: 349052
A107: 87 | C107: Zalaegerszeg | D107: gerinchálózat szerelvényeinek ütemezett cseréje | E107: A szerelvény állapota anyaga, kora, minősége miatt nem megfelelő, elavult. | F107: A szerelvény elavult műszaki állapota miatt gyakoriak a csőtörések. | G107: A szerelvény kiváltás a vízigények figyelembevételével megfelelő átmérőjű és anyagú hálózatot kapunk. | I107: Zalaegerszeg | J107: =SUM(O107:AC107) -> 51075 | L107: 45292 | M107: 48579 | N107: hosszú | T107: 5675 | U107: 5675 | V107: 5675 | W107: 5675 | X107: 5675 | Y107: 5675 | Z107: 5675 | AA107: 5675 | AB107: 5675
A108: 88 | C108: Zalaegerszeg | D108: gerincvezeték csere | E108: A vezeték állapota anyaga, kora, minősége miatt nem megfelelő, elavult. | F108: A vezeték elavult műszaki állapota miatt gyakoriak a csőtörések. | G108: A vízvezeték kiváltás a vízigények figyelembevételével megfelelő átmérőjű és anyagú hálózatot kapunk. | I108: Zalaegerszeg | J108: =SUM(O108:AC108) -> 283530 | L108: 45292 | M108: 48579 | N108: hosszú | T108: 27140 | U108: 29945 | V108: 29945 | W108: 31815 | X108: 24335 | Y108: 50515 | Z108: 29945 | AA108: 29945 | AB108: 29945
A109: 89 | C109: Zalaegerszeg | D109: mechanikai tisztítási csomópontok kiépítése | E109: A meglévő szerelvényekkel korlátozott korlátozottak a hálózattisztítási lehetőségek. | F109: Rendszeres hálózatisztítás végrehajtása a jövőben. | G109: A tisztítási csomópontok kialakításával lehetőség nyílik a rendszeres hálózattisztítások elvégzésére. | I109: Zalaegerszeg | J109: =SUM(O109:AC109) -> 72000 | L109: 45292 | M109: 48579 | N109: hosszú | T109: 8000 | U109: 8000 | V109: 8000 | W109: 8000 | X109: 8000 | Y109: 8000 | Z109: 8000 | AA109: 8000 | AB109: 8000
A110: 90 | C110: Zalaegerszeg | D110: ivóvízvezeték rekonstrukcióhoz köthető tervezési feladatok | E110: A vezeték állapota anyaga, kora, minősége miatt nem megfelelő, elavult. | F110: A vezeték elavult műszaki állapota miatt gyakoriak a csőtörések. | G110: A vízvezeték kiváltás a vízigények figyelembevételével megfelelő átmérőjű és anyagú hálózatot kapunk. | I110: Zalaegerszeg | J110: =SUM(O110:AC110) -> 27000 | L110: 45292 | M110: 48579 | N110: hosszú | T110: 3000 | U110: 3000 | V110: 3000 | W110: 3000 | X110: 3000 | Y110: 3000 | Z110: 3000 | AA110: 3000 | AB110: 3000
A111: 91 | C111: Bocfölde tároló töltő vezeték | D111: gerincvezeték csere (D250 1600 fm) I. ütem | E111: A vezeték állapota anyaga, kora, minősége miatt nem megfelelő, elavult. | F111: A vezeték elavult műszaki állapota miatt gyakoriak a csőtörések. | G111: A vízvezeték kiváltás a vízigények figyelembevételével megfelelő átmérőjű és anyagú hálózatot kapunk. | I111: Zalaegerszeg | J111: =SUM(O111:AC111) -> 53000 | L111: 45383 | M111: 45412 | N111: hosszú | T111: 53000
...

Sheet Zalaszentgyörgy
A1: Gördülő fejlesztési terv a 2019 - 2033 időszakra
A2: FELÚJÍTÁSOK ÉS PÓTLÁSOK ÖSSZEFOGLALÓ TÁBLÁZATA
A3: A tervet benyújtó szervezet megnevezése: | K3: ZALASZENTGYÖRGY | R3: ellátásért felelős / ellátásért felelősök képviselője / víziközmű-szolgáltató *
A4: Víziközmű-szolgáltató megnevezése: | K4: ÉSZAK ZALAI VÍZ- ÉS CSATORNAMŰ ZÁRTKÖRŰEN MŰKÖDŐ RÉSZVÉNYTÁRSASÁG
A5: Víziközmű-szolgáltatási ágazat megnevezése: | K5: IVÓVÍZ ÁGAZAT
A6: Véleményeltérést megfogalmazó érintett fél megnevezése:
A7: Víziközmű-rendszer kódja: ** | K7: 11-32054-1-010-00-14 | R7: ZALAEGERSZEG-IV
A8: I. Felszín alatti vízkivétel
A9: Fontossági sorrend | B9: Felujítás és pótlás megnevezése | E9: Műszaki állapot felmérés, szükségességi indoklás | H9: Vízjogi létesítési/elvi engedély száma | I9: Az érintett ellátásért felelős(ök) megnevezése | J9: Tervezett nettó költség | K9: Forrás 2019 évre | L9: Megvalósítás időtartama | N9: Tervezett időtáv | O9: A beruházás ütemezése a tervezési időszak évei szerint
E10: Jelenlegi műszaki állapot | F10: Feladat szükségessége | G10: Megvalósítást követő várható műszaki állapot | J10: (eFt) | L10: Kezdés | M10: Befejezés | N10: (rövid / közép / hosszú) | O10: 1 | P10: 2 | Q10: 3 | R10: 4 | S10: 5 | T10: 6 | U10: 7 | V10: 8 | W10: 9 | X10: 10 | Y10: 11 | Z10: 12 | AA10: 13 | AB10: 14 | AC10: 15
B11: szakág | C11: Helyszín | D11: beruházás megnevezése
A12: 1 | D12: Rendkívüli helyzetből adódó azonnali feladatok (max. 15%) | F12: működőképeség biztosítása | I12: Zalaszentgyörgy | J12: =SUM(O12:AC12) -> 1935 | L12: 43466 | M12: 48944 | O12: =0.15*$K$70 -> 129 | P12: =0.15*$K$70 -> 129 | Q12: =0.15*$K$70 -> 129 | R12: =0.15*$K$70 -> 129 | S12: =0.15*$K$70 -> 129 | T12: =0.15*$K$70 -> 129 | U12: =0.15*$K$70 -> 129 | V12: =0.15*$K$70 -> 129 | ... AC12: =0.15*$K$70 -> 129
B13: MÉLYFÚRÁSÚ KÚT, HAGYOMÁNYOS ÁTMÉRŐVEL
B14: Épület, építmény
B16: Gép, berendezés
B18: Irányítástechnika, energiaellátás
B20: Összesen: | J20: =SUM(J12:J19) -> 1935
A22: III. Vízműtelep és vízkezelő létesítmények
C23: Helyszín | D23: beruházás megnevezése
B24: VÍZMŰTELEP
B25: Épület, építmény
B27: Gép, berendezés
B29: Irányítástechnika, energiaellátás
B31: VÍZKEZELŐ LÉTESÍTMÉNYEK
B32: Épület, építmény
B34: Gép, berendezés
B36: Irányítástechnika, energiaellátás
B38: Összesen | J38: =SUM(J24:J37) -> 0
A40: IV. Vízelosztás
C41: Helyszín | D41: beruházás megnevezése
B42: IVÓVÍZHÁLÓZAT
B43: Épület, építmény
C44: Zalaszentgyörgy | D44: tartalékkeret képzése rekonstrukcióhoz | E44: A vezeték állapota anyaga, kora, minősége miatt nem megfelelő, elavult. | F44: A bekötővezeték anyaga vízbiztonsági kockázatot rejt magában, illetve nagyobb a valószínűsége a meghibásodásnak. | G44: A vízvezeték kiváltás, a vízigények figyelembevételével megfelelő átmérőjű és anyagú hálózatot kapunk. | I44: Zalaszentgyörgy | J44: =SUM(O44:AC44) -> 731 | L44: 43556 | M44: 43830 | N44: rövid | O44: 731
C45: Zalaszentgyörgy | D45: gerinchálózat szerelvény csere | E45: A szerelvény állapota anyaga, kora, minősége miatt nem megfelelő, elavult. | F45: A vezeték elavult műszaki állapota miatt gyakoriak a csőtörések | G45: A szerelvény kiváltás, a vízigények figyelembevételével megfelelő átmérőjű és anyagú hálózatot kapunk. | I45: Zalaszentgyörgy | J45: =SUM(O45:AC45) -> 100 | L45: 43922 | M45: 44196 | N45: közép | P45: 100
C46: Zalaszentgyörgy - Kávás | D46: gerincvezeték csere (d160 260 fm) I. ütem | E46: A vezeték állapota anyaga, kora, minősége miatt nem megfelelő, elavult. | F46: A vezeték elavult műszaki állapota miatt gyakoriak a csőtörések | G46: A vízvezeték kiváltás, a vízigények figyelembevételével megfelelő átmérőjű és anyagú hálózatot kapunk. | I46: Zalaszentgyörgy | J46: =SUM(O46:AC46) -> 453 | L46: 44652 | M46: 44925 | N46: közép | R46: 453
C47: Zalaszentgyörgy - Kávás | D47: gerincvezeték csere (d160 600 fm) II. ütem | E47: A vezeték állapota anyaga, kora, minősége miatt nem megfelelő, elavult. | F47: A vezeték elavult műszaki állapota miatt gyakoriak a csőtörések | G47: A vízvezeték kiváltás, a vízigények figyelembevételével megfelelő átmérőjű és anyagú hálózatot kapunk. | I47: Zalaszentgyörgy | J47: =SUM(O47:AC47) -> 641 | L47: 45017 | M47: 45291 | N47: közép | S47: 641
C48: Zalaszentgyörgy - Kávás | D48: gerincvezeték csere (d160 600 fm) II. ütem | E48: A vezeték állapota anyaga, kora, minősége miatt nem megfelelő, elavult. | F48: A vezeték elavult műszaki állapota miatt gyakoriak a csőtörések | G48: A vízvezeték kiváltás, a vízigények figyelembevételével megfelelő átmérőjű és anyagú hálózatot kapunk. | I48: Zalaszentgyörgy | J48: =SUM(O48:AC48) -> 641 | L48: 45383 | M48: 45657 | N48: hosszú | T48: 641
C49: Zalaszentgyörgy | D49: ivóvízhálózat rekonstrukció | E49: A vezeték állapota anyaga, kora, minősége miatt nem megfelelő, elavult. | F49: A vezeték elavult műszaki állapota miatt gyakoriak a csőtörések | G49: A vízvezeték kiváltás, a vízigények figyelembevételével megfelelő átmérőjű és anyagú hálózatot kapunk. | I49: Zalaszentgyörgy | J49: =SUM(O49:AC49) -> 102580 | L49: 45383 | M49: 48944 | N49: hosszú | T49: 10258 | U49: 10258 | V49: 10258 | W49: 10258 | X49: 10258 | Y49: 10258 | Z49: 10258 | AA49: 10258 | AB49: 10258 | AC49: 10258
C50: Zalaszentgyörgy | D50: gerinchálózat szerelvény csere | E50: A szerelvény állapota anyaga, kora, minősége miatt nem megfelelő, elavult. | F50: A vezeték elavult műszaki állapota miatt gyakoriak a csőtörések | G50: A szerelvény kiváltás, a vízigények figyelembevételével megfelelő átmérőjű és anyagú hálózatot kapunk. | I50: Zalaszentgyörgy | J50: =SUM(O50:AC50) -> 121 | L50: 47209 | M50: 47483 | N50: hosszú | Y50: 121
B52: Gép, berendezés
B54: Irányítástechnika, energiaellátás
B56: VÍZTÁROLÓK
B57: Épület, építmény
B59: Gép, berendezés
B61: Irányítástechnika, energiaellátás
B63: NYOMÁSFOKOZÓK
B64: Épület, építmény
B66: Gép, berendezés
B68: Irányítástechnika, energiaellátás
B70: Összesen: | J70: =SUM(J42:J69) -> 105267 | K70: 860 | O70: =SUM(O12:O69) -> 860 | P70: =SUM(P12:P69) -> 229 | Q70: =SUM(Q12:Q69) -> 129 | R70: =SUM(R12:R69) -> 582 | S70: =SUM(S12:S69) -> 770 | T70: =SUM(T12:T69) -> 11028 | U70: =SUM(U12:U69) -> 10387 | V70: =SUM(V12:V69) -> 10387 | ... AC70: =SUM(AC12:AC69) -> 10387
K71: 2019 évre a fejlesztési forrás biztosított
B73: Rendelkezésre álló források megnevezése | C73: Rendelkezésre álló források számszerűsített értéke a teljes ütem tekintetében (eFt)
A74: I. ütem | B74: Használati díj (2019) | C74: =K70 -> 860
A75: II. ütem | B75: Használati díj (2020-2023) | C75: =C74*4 -> 3440
A76: III. ütem | B76: Használati díj (2024-2033) | C76: =C74*10 -> 8600

Sheet VKR_összesítő
A1: Gördülő fejlesztési terv a 2019 - 2033 időszakra
A2: FELÚJÍTÁSOK ÉS PÓTLÁSOK ÖSSZEFOGLALÓ TÁBLÁZATA
A3: A tervet benyújtó szervezet megnevezése: | K3: BABOSDÖBRÉTE, BOCFÖLDE, BÖDE, CSATÁR, HOTTÓ, KISKUTAS, NAGYKUTAS, SÁRHIDA, TESKÁND, ZALAEGERSZEG, BAGOD, BONCODFÖLDE, HAGYÁROSBÖRÖND, KÁVÁS, ZALABOLDOGFA, ZALASZENTGYÖRGY, CSONKAHEGYHÁT, DOBRONHEGY, MILEJSZEG, NÉMETFALU, PÁLFISZEG, BECSVÖLGYE, KUSTÁNSZEG, KISPÁLI, NAGYPÁLI | R3: ellátásért felelős / ellátásért felelősök képviselője / víziközmű-szolgáltató *
A4: Víziközmű-szolgáltató megnevezése: | K4: ÉSZAK ZALAI VÍZ- ÉS CSATORNAMŰ ZÁRTKÖRŰEN MŰKÖDŐ RÉSZVÉNYTÁRSASÁG
A5: Víziközmű-szolgáltatási ágazat megnevezése: | K5: IVÓVÍZ ÁGAZAT
A6: Véleményeltérést megfogalmazó érintett fél megnevezése:
A7: Víziközmű-rendszer kódja: ** | K7: 11-32054-1-010-00-14 | R7: ZALAEGERSZEG-IV
A8: I. Felszín alatti vízkivétel
A9: Fontossági sorrend | B9: Felujítás és pótlás megnevezése | E9: Műszaki állapot felmérés, szükségességi indoklás | H9: Vízjogi létesítési/elvi engedély száma | I9: Az érintett ellátásért felelős(ök) megnevezése | J9: Tervezett nettó költség | K9: Forrás 2019 évre | L9: Megvalósítás időtartama | N9: Tervezett időtáv | O9: A beruházás ütemezése a tervezési időszak évei szerint
E10: Jelenlegi műszaki állapot | F10: Feladat szükségessége | G10: Megvalósítást követő várható műszaki állapot | J10: (eFt) | L10: Kezdés | M10: Befejezés | N10: (rövid / közép / hosszú) | O10: 1 | P10: 2 | Q10: 3 | R10: 4 | S10: 5 | T10: 6 | U10: 7 | V10: 8 | W10: 9 | X10: 10 | Y10: 11 | Z10: 12 | AA10: 13 | AB10: 14 | AC10: 15
B11: szakág | C11: Helyszín | D11: beruházás megnevezése
A12: 1 | D12: Rendkívüli helyzetből adódó azonnali feladatok (max. 15%) | F12: működőképeség biztosítása | I12: Babosdöbréte | J12: =SUM(O12:AC12) -> 2058.75 | L12: 43466 | M12: 48944 | O12: =Babosdöbréte!O12 -> 137.25 | P12: =Babosdöbréte!P12 -> 137.25 | Q12: =Babosdöbréte!Q12 -> 137.25 | R12: =Babosdöbréte!R12 -> 137.25 | S12: =Babosdöbréte!S12 -> 137.25 | T12: =Babosdöbréte!T12 -> 137.25 | U12: =Babosdöbréte!U12 -> 137.25 | V12: =Babosdöbréte!V12 -> 137.25 | ... AC12: =Babosdöbréte!AC12 -> 137.25
A13: 1 | D13: Rendkívüli helyzetből adódó azonnali feladatok (max. 15%) | F13: működőképeség biztosítása | I13: Bocfölde | J13: =SUM(O13:AC13) -> 7944.75 | L13: 43466 | M13: 48944 | O13: =Bocfölde!O12 -> 529.65 | P13: =Bocfölde!P12 -> 529.65 | Q13: =Bocfölde!Q12 -> 529.65 | R13: =Bocfölde!R12 -> 529.65 | S13: =Bocfölde!S12 -> 529.65 | T13: =Bocfölde!T12 -> 529.65 | U13: =Bocfölde!U12 -> 529.65 | V13: =Bocfölde!V12 -> 529.65 | ... AC13: =Bocfölde!AC12 -> 529.65
A14: 1 | D14: Rendkívüli helyzetből adódó azonnali feladatok (max. 15%) | F14: működőképeség biztosítása | I14: Böde | J14: =SUM(O14:AC14) -> 922.5 | L14: 43466 | M14: 48944 | O14: =Böde!O12 -> 61.5 | P14: =Böde!P12 -> 61.5 | Q14: =Böde!Q12 -> 61.5 | R14: =Böde!R12 -> 61.5 | S14: =Böde!S12 -> 61.5 | T14: =Böde!T12 -> 61.5 | U14: =Böde!U12 -> 61.5 | V14: =Böde!V12 -> 61.5 | ... AC14: =Böde!AC12 -> 61.5
A15: 1 | D15: Rendkívüli helyzetből adódó azonnali feladatok (max. 15%) | F15: működőképeség biztosítása | I15: Csatár | J15: =SUM(O15:AC15) -> 2418.75 | L15: 43466 | M15: 48944 | O15: =Csatár!O12 -> 161.25 | P15: =Csatár!P12 -> 161.25 | Q15: =Csatár!Q12 -> 161.25 | R15: =Csatár!R12 -> 161.25 | S15: =Csatár!S12 -> 161.25 | T15: =Csatár!T12 -> 161.25 | U15: =Csatár!U12 -> 161.25 | V15: =Csatár!V12 -> 161.25 | ... AC15: =Csatár!AC12 -> 161.25
A16: 1 | D16: Rendkívüli helyzetből adódó azonnali feladatok (max. 15%) | F16: működőképeség biztosítása | I16: Hottó | J16: =SUM(O16:AC16) -> 1451.25 | L16: 43466 | M16: 48944 | O16: =Hottó!O12 -> 96.75 | P16: =Hottó!P12 -> 96.75 | Q16: =Hottó!Q12 -> 96.75 | R16: =Hottó!R12 -> 96.75 | S16: =Hottó!S12 -> 96.75 | T16: =Hottó!T12 -> 96.75 | U16: =Hottó!U12 -> 96.75 | V16: =Hottó!V12 -> 96.75 | ... AC16: =Hottó!AC12 -> 96.75
A17: 1 | D17: Rendkívüli helyzetből adódó azonnali feladatok (max. 15%) | F17: működőképeség biztosítása | I17: Kiskutas | J17: =SUM(O17:AC17) -> 967.5 | L17: 43466 | M17: 48944 | O17: =Kiskutas!O12 -> 64.5 | P17: =Kiskutas!P12 -> 64.5 | Q17: =Kiskutas!Q12 -> 64.5 | R17: =Kiskutas!R12 -> 64.5 | S17: =Kiskutas!S12 -> 64.5 | T17: =Kiskutas!T12 -> 64.5 | U17: =Kiskutas!U12 -> 64.5 | V17: =Kiskutas!V12 -> 64.5 | ... AC17: =Kiskutas!AC12 -> 64.5
A18: 1 | D18: Rendkívüli helyzetből adódó azonnali feladatok (max. 15%) | F18: működőképeség biztosítása | I18: Nagykutas | J18: =SUM(O18:AC18) -> 1874.25 | L18: 43466 | M18: 48944 | O18: =Nagykutas!O12 -> 124.95 | P18: =Nagykutas!P12 -> 124.95 | Q18: =Nagykutas!Q12 -> 124.95 | R18: =Nagykutas!R12 -> 124.95 | S18: =Nagykutas!S12 -> 124.95 | T18: =Nagykutas!T12 -> 124.95 | U18: =Nagykutas!U12 -> 124.95 | V18: =Nagykutas!V12 -> 124.95 | ... AC18: =Nagykutas!AC12 -> 124.95
A19: 1 | D19: Rendkívüli helyzetből adódó azonnali feladatok (max. 15%) | F19: működőképeség biztosítása | I19: Sárhida | J19: =SUM(O19:AC19) -> 1869.75 | L19: 43466 | M19: 48944 | O19: =Sárhida!O12 -> 124.65 | P19: =Sárhida!P12 -> 124.65 | Q19: =Sárhida!Q12 -> 124.65 | R19: =Sárhida!R12 -> 124.65 | S19: =Sárhida!S12 -> 124.65 | T19: =Sárhida!T12 -> 124.65 | U19: =Sárhida!U12 -> 124.65 | V19: =Sárhida!V12 -> 124.65 | ... AC19: =Sárhida!AC12 -> 124.65
A20: 1 | D20: Rendkívüli helyzetből adódó azonnali feladatok (max. 15%) | F20: működőképeség biztosítása | I20: Teskánd | J20: =SUM(O20:AC20) -> 5490 | L20: 43466 | M20: 48944 | O20: =Teskánd!O12 -> 366 | P20: =Teskánd!P12 -> 366 | Q20: =Teskánd!Q12 -> 366 | R20: =Teskánd!R12 -> 366 | S20: =Teskánd!S12 -> 366 | T20: =Teskánd!T12 -> 366 | U20: =Teskánd!U12 -> 366 | V20: =Teskánd!V12 -> 366 | ... AC20: =Teskánd!AC12 -> 366
A21: 1 | D21: Rendkívüli helyzetből adódó azonnali feladatok (max. 15%) | F21: működőképeség biztosítása | I21: Zalaegerszeg | J21: =SUM(O21:AC21) -> 275759.1 | L21: 43466 | M21: 48944 | O21: =Zalaegerszeg!O12 -> 15000 | P21: =Zalaegerszeg!P12 -> 18625.65 | Q21: =Zalaegerszeg!Q12 -> 18625.65 | R21: =Zalaegerszeg!R12 -> 18625.65 | S21: =Zalaegerszeg!S12 -> 18625.65 | T21: =Zalaegerszeg!T12 -> 18625.65 | U21: =Zalaegerszeg!U12 -> 18625.65 | V21: =Zalaegerszeg!V12 -> 18625.65 | ... AC21: =Zalaegerszeg!AC12 -> 18625.65
A22: 1 | D22: Rendkívüli helyzetből adódó azonnali feladatok (max. 15%) | F22: működőképeség biztosítása | I22: Bagod | J22: =SUM(O22:AC22) -> 8079.75 | L22: 43466 | M22: 48944 | O22: =Bagod!O12 -> 538.65 | P22: =Bagod!P12 -> 538.65 | Q22: =Bagod!Q12 -> 538.65 | R22: =Bagod!R12 -> 538.65 | S22: =Bagod!S12 -> 538.65 | T22: =Bagod!T12 -> 538.65 | U22: =Bagod!U12 -> 538.65 | V22: =Bagod!V12 -> 538.65 | ... AC22: =Bagod!AC12 -> 538.65
A23: 1 | D23: Rendkívüli helyzetből adódó azonnali feladatok (max. 15%) | F23: működőképeség biztosítása | I23: Boncodfölde | J23: =SUM(O23:AC23) -> 3435.75 | L23: 43466 | M23: 48944 | O23: =Boncodfölde!O12 -> 229.05 | P23: =Boncodfölde!P12 -> 229.05 | Q23: =Boncodfölde!Q12 -> 229.05 | R23: =Boncodfölde!R12 -> 229.05 | S23: =Boncodfölde!S12 -> 229.05 | T23: =Boncodfölde!T12 -> 229.05 | U23: =Boncodfölde!U12 -> 229.05 | V23: =Boncodfölde!V12 -> 229.05 | ... AC23: =Boncodfölde!AC12 -> 229.05
A24: 1 | D24: Rendkívüli helyzetből adódó azonnali feladatok (max. 15%) | F24: működőképeség biztosítása | I24: Hagyárosbörönd | J24: =SUM(O24:AC24) -> 1595.25 | L24: 43466 | M24: 48944 | O24: =Hagyárosbörönd!O12 -> 106.35 | P24: =Hagyárosbörönd!P12 -> 106.35 | Q24: =Hagyárosbörönd!Q12 -> 106.35 | R24: =Hagyárosbörönd!R12 -> 106.35 | S24: =Hagyárosbörönd!S12 -> 106.35 | T24: =Hagyárosbörönd!T12 -> 106.35 | U24: =Hagyárosbörönd!U12 -> 106.35 | V24: =Hagyárosbörönd!V12 -> 106.35 | ... AC24: =Hagyárosbörönd!AC12 -> 106.35
A25: 1 | D25: Rendkívüli helyzetből adódó azonnali feladatok (max. 15%) | F25: működőképeség biztosítása | I25: Kávás | J25: =SUM(O25:AC25) -> 1381.5 | L25: 43466 | M25: 48944 | O25: =Kávás!O12 -> 92.1 | P25: =Kávás!P12 -> 92.1 | Q25: =Kávás!Q12 -> 92.1 | R25: =Kávás!R12 -> 92.1 | S25: =Kávás!S12 -> 92.1 | T25: =Kávás!T12 -> 92.1 | U25: =Kávás!U12 -> 92.1 | V25: =Kávás!V12 -> 92.1 | ... AC25: =Kávás!AC12 -> 92.1
A26: 1 | D26: Rendkívüli helyzetből adódó azonnali feladatok (max. 15%) | F26: működőképeség biztosítása | I26: Zalaboldogfa | J26: =SUM(O26:AC26) -> 2673 | L26: 43466 | M26: 48944 | O26: =Zalaboldogfa!O12 -> 178.2 | P26: =Zalaboldogfa!P12 -> 178.2 | Q26: =Zalaboldogfa!Q12 -> 178.2 | R26: =Zalaboldogfa!R12 -> 178.2 | S26: =Zalaboldogfa!S12 -> 178.2 | T26: =Zalaboldogfa!T12 -> 178.2 | U26: =Zalaboldogfa!U12 -> 178.2 | V26: =Zalaboldogfa!V12 -> 178.2 | ... AC26: =Zalaboldogfa!AC12 -> 178.2
A27: 1 | D27: Rendkívüli helyzetből adódó azonnali feladatok (max. 15%) | F27: működőképeség biztosítása | I27: Zalaszentgyörgy | J27: =SUM(O27:AC27) -> 1935 | L27: 43466 | M27: 48944 | O27: =Zalaszentgyörgy!O12 -> 129 | P27: =Zalaszentgyörgy!P12 -> 129 | Q27: =Zalaszentgyörgy!Q12 -> 129 | R27: =Zalaszentgyörgy!R12 -> 129 | S27: =Zalaszentgyörgy!S12 -> 129 | T27: =Zalaszentgyörgy!T12 -> 129 | U27: =Zalaszentgyörgy!U12 -> 129 | V27: =Zalaszentgyörgy!V12 -> 129 | ... AC27: =Zalaszentgyörgy!AC12 -> 129
A28: 1 | D28: Rendkívüli helyzetből adódó azonnali feladatok (max. 15%) | F28: működőképeség biztosítása | I28: Csonkahegyhát | J28: =SUM(O28:AC28) -> 645.75 | L28: 43466 | M28: 48944 | O28: =Csonkahegyhát!O12 -> 43.05 | P28: =Csonkahegyhát!P12 -> 43.05 | Q28: =Csonkahegyhát!Q12 -> 43.05 | R28: =Csonkahegyhát!R12 -> 43.05 | S28: =Csonkahegyhát!S12 -> 43.05 | T28: =Csonkahegyhát!T12 -> 43.05 | U28: =Csonkahegyhát!U12 -> 43.05 | V28: =Csonkahegyhát!V12 -> 43.05 | ... AC28: =Csonkahegyhát!AC12 -> 43.05
A29: 1 | D29: Rendkívüli helyzetből adódó azonnali feladatok (max. 15%) | F29: működőképeség biztosítása | I29: Dobronhegy | J29: =SUM(O29:AC29) -> 283.5 | L29: 43466 | M29: 48944 | O29: =Dobronhegy!O12 -> 18.9 | P29: =Dobronhegy!P12 -> 18.9 | Q29: =Dobronhegy!Q12 -> 18.9 | R29: =Dobronhegy!R12 -> 18.9 | S29: =Dobronhegy!S12 -> 18.9 | T29: =Dobronhegy!T12 -> 18.9 | U29: =Dobronhegy!U12 -> 18.9 | V29: =Dobronhegy!V12 -> 18.9 | ... AC29: =Dobronhegy!AC12 -> 18.9
A30: 1 | D30: Rendkívüli helyzetből adódó azonnali feladatok (max. 15%) | F30: működőképeség biztosítása | I30: Milejszeg | J30: =SUM(O30:AC30) -> 708.75 | L30: 43466 | M30: 48944 | O30: =Milejszeg!O12 -> 47.25 | P30: =Milejszeg!P12 -> 47.25 | Q30: =Milejszeg!Q12 -> 47.25 | R30: =Milejszeg!R12 -> 47.25 | S30: =Milejszeg!S12 -> 47.25 | T30: =Milejszeg!T12 -> 47.25 | U30: =Milejszeg!U12 -> 47.25 | V30: =Milejszeg!V12 -> 47.25 | ... AC30: =Milejszeg!AC12 -> 47.25
A31: 1 | D31: Rendkívüli helyzetből adódó azonnali feladatok (max. 15%) | F31: működőképeség biztosítása | I31: Németfalu | J31: =SUM(O31:AC31) -> 463.5 | L31: 43466 | M31: 48944 | O31: =Németfalu!O12 -> 30.9 | P31: =Németfalu!P12 -> 30.9 | Q31: =Németfalu!Q12 -> 30.9 | R31: =Németfalu!R12 -> 30.9 | S31: =Németfalu!S12 -> 30.9 | T31: =Németfalu!T12 -> 30.9 | U31: =Németfalu!U12 -> 30.9 | V31: =Németfalu!V12 -> 30.9 | ... AC31: =Németfalu!AC12 -> 30.9
A32: 1 | D32: Rendkívüli helyzetből adódó azonnali feladatok (max. 15%) | F32: működőképeség biztosítása | I32: Pálfiszeg | J32: =SUM(O32:AC32) -> 339.75 | L32: 43466 | M32: 48944 | O32: =Pálfiszeg!O12 -> 22.65 | P32: =Pálfiszeg!P12 -> 22.65 | Q32: =Pálfiszeg!Q12 -> 22.65 | R32: =Pálfiszeg!R12 -> 22.65 | S32: =Pálfiszeg!S12 -> 22.65 | T32: =Pálfiszeg!T12 -> 22.65 | U32: =Pálfiszeg!U12 -> 22.65 | V32: =Pálfiszeg!V12 -> 22.65 | ... AC32: =Pálfiszeg!AC12 -> 22.65
A33: 1 | D33: Rendkívüli helyzetből adódó azonnali feladatok (max. 15%) | F33: működőképeség biztosítása | I33: Becsvölgye | J33: =SUM(O33:AC33) -> 4385.25 | L33: 43466 | M33: 48944 | O33: =Becsvölgye!O12 -> 292.35 | P33: =Becsvölgye!P12 -> 292.35 | Q33: =Becsvölgye!Q12 -> 292.35 | R33: =Becsvölgye!R12 -> 292.35 | S33: =Becsvölgye!S12 -> 292.35 | T33: =Becsvölgye!T12 -> 292.35 | U33: =Becsvölgye!U12 -> 292.35 | V33: =Becsvölgye!V12 -> 292.35 | ... AC33: =Becsvölgye!AC12 -> 292.35
A34: 1 | D34: Rendkívüli helyzetből adódó azonnali feladatok (max. 15%) | F34: működőképeség biztosítása | I34: Kustánszeg | J34: =SUM(O34:AC34) -> 5260.5 | L34: 43466 | M34: 48944 | O34: =Kustánszeg!O12 -> 350.7 | P34: =Kustánszeg!P12 -> 350.7 | Q34: =Kustánszeg!Q12 -> 350.7 | R34: =Kustánszeg!R12 -> 350.7 | S34: =Kustánszeg!S12 -> 350.7 | T34: =Kustánszeg!T12 -> 350.7 | U34: =Kustánszeg!U12 -> 350.7 | V34: =Kustánszeg!V12 -> 350.7 | ... AC34: =Kustánszeg!AC12 -> 350.7
A35: 1 | D35: Rendkívüli helyzetből adódó azonnali feladatok (max. 15%) | F35: működőképeség biztosítása | I35: Nagypáli | J35: =SUM(O35:AC35) -> 3323.25 | L35: 43466 | M35: 48944 | O35: =Nagypáli!O12 -> 221.55 | P35: =Nagypáli!P12 -> 221.55 | Q35: =Nagypáli!Q12 -> 221.55 | R35: =Nagypáli!R12 -> 221.55 | S35: =Nagypáli!S12 -> 221.55 | T35: =Nagypáli!T12 -> 221.55 | U35: =Nagypáli!U12 -> 221.55 | V35: =Nagypáli!V12 -> 221.55 | ... AC35: =Nagypáli!AC12 -> 221.55
A36: 1 | D36: Rendkívüli helyzetből adódó azonnali feladatok (max.15%) | F36: működőképeség biztosítása | I36: Kispáli | J36: =SUM(O36:AC36) -> 3156.75 | L36: 43466 | M36: 48944 | O36: =Kispáli!O12 -> 210.45 | P36: =Kispáli!P12 -> 210.45 | Q36: =Kispáli!Q12 -> 210.45 | R36: =Kispáli!R12 -> 210.45 | S36: =Kispáli!S12 -> 210.45 | T36: =Kispáli!T12 -> 210.45 | U36: =Kispáli!U12 -> 210.45 | V36: =Kispáli!V12 -> 210.45 | ... AC36: =Kispáli!AC12 -> 210.45
B37: MÉLYFÚRÁSÚ KÚT, HAGYOMÁNYOS ÁTMÉRŐVEL
B38: Épület, építmény
A39: 72 | C39: =Zalaegerszeg!C15 -> Zalaegerszeg … kút | D39: =Zalaegerszeg!D15 -> kútfelújítás | E39: =Zalaegerszeg!E15 -> Az objektum kora, műszaki állapota miatt fennáll a meghibásodás veszélye. Feladat szükségessége | F39: =Zalaegerszeg!F15 -> A felhasználók folyamatos vízellátásának biztosítására | G39: =Zalaegerszeg!G15 -> Az elvárt vízigényeket kielégítő megfelelő műszaki állapotú vízbázis. | I39: =Zalaegerszeg!I15 -> Zalaegerszeg | J39: =Zalaegerszeg!J15 -> 6000 | L39: =Zalaegerszeg!L15 -> 44927 | M39: =Zalaegerszeg!M15 -> 45291 | N39: =Zalaegerszeg!N15 -> közép | S39: =Zalaegerszeg!S15 -> 6000
A40: 113 | C40: =Zalaegerszeg!C16 -> Zalaegerszeg … kút | D40: =Zalaegerszeg!D16 -> kútfelújítás | E40: =Zalaegerszeg!E16 -> Az objektum kora, műszaki állapota miatt fennáll a meghibásodás veszélye. Feladat szükségessége | F40: =Zalaegerszeg!F16 -> A felhasználók folyamatos vízellátásának biztosítására | G40: =Zalaegerszeg!G16 -> Az elvárt vízigényeket kielégítő megfelelő műszaki állapotú vízbázis. | I40: =Zalaegerszeg!I16 -> Zalaegerszeg | J40: =Zalaegerszeg!J16 -> 6000 | L40: =Zalaegerszeg!L16 -> 46753 | M40: =Zalaegerszeg!M16 -> 47118 | N40: =Zalaegerszeg!N16 -> hosszú | X40: =Zalaegerszeg!X16 -> 6000
B42: Gép, berendezés
A43: 2 | C43: Zalaegerszeg | D43: tervezett szivattyú cserék és felújítások | E43: A szivattyú kora, műszaki állapota miatt fennáll a meghibásodás veszélye. | F43: A folyamatos víztermelés biztosítása. | G43: A Q–H diagramhoz illeszkedő energiahatékony szivattyú üzemeltetése. | I43: Zalaegerszeg | J43: =SUM(O43:AC43) -> 5000 | L43: 43556 | M43: 43830 | N43: rövid | O43: 5000
A44: 83 | C44: =Zalaegerszeg!C20 -> Zalaegerszeg … kút | D44: =Zalaegerszeg!D20 -> Szivattyú csere 2 db | E44: =Zalaegerszeg!E20 -> A szivattyú kora, műszaki állapota miatt fennáll a meghibásodás veszélye. | F44: =Zalaegerszeg!F20 -> A folyamatos víztermelés biztosítása. | G44: =Zalaegerszeg!G20 -> A Q–H diagramhoz illeszkedő energiahatékony szivattyú üzemeltetése. | I44: =Zalaegerszeg!I20 -> Zalaegerszeg | J44: =Zalaegerszeg!J20 -> 601 | L44: =Zalaegerszeg!L20 -> 45292 | M44: =Zalaegerszeg!M20 -> 45657 | N44: =Zalaegerszeg!N20 -> hosszú | T44: =Zalaegerszeg!T20 -> 601
C45: =Zalaegerszeg!C21 -> Zalaegerszeg … kút | D45: =Zalaegerszeg!D21 -> Gépészeti felújítás 2 db | E45: =Zalaegerszeg!E21 -> A szerelvények és vezetékek, műszaki állapota miatt fennáll a meghibásodás veszélye. | F45: =Zalaegerszeg!F21 -> A folyamatos víztermelés biztosítása. | G45: =Zalaegerszeg!G21 -> A gépészeti funkciókat kifogástalanul ellátó szerelvények. | I45: =Zalaegerszeg!I21 -> Zalaegerszeg | J45: =Zalaegerszeg!J21 -> 2000 | L45: =Zalaegerszeg!L21 -> 45292 | M45: =Zalaegerszeg!M21 -> 45657 | N45: =Zalaegerszeg!N21 -> hosszú | T45: =Zalaegerszeg!T21 -> 2000
A46: 101 | C46: =Zalaegerszeg!C22 -> Zalaegerszeg … kút | D46: =Zalaegerszeg!D22 -> Szivattyú csere 2 db | E46: =Zalaegerszeg!E22 -> A szivattyú kora, műszaki állapota miatt fennáll a meghibásodás veszélye. | F46: =Zalaegerszeg!F22 -> A folyamatos víztermelés biztosítása. | G46: =Zalaegerszeg!G22 -> A Q–H diagramhoz illeszkedő energiahatékony szivattyú üzemeltetése. | I46: =Zalaegerszeg!I22 -> Zalaegerszeg | J46: =Zalaegerszeg!J22 -> 601 | L46: =Zalaegerszeg!L22 -> 45658 | M46: =Zalaegerszeg!M22 -> 46022 | N46: =Zalaegerszeg!N22 -> hosszú | U46: =Zalaegerszeg!U22 -> 601
C47: =Zalaegerszeg!C23 -> Zalaegerszeg … kút | D47: =Zalaegerszeg!D23 -> Gépészeti felújítás 2 db | E47: =Zalaegerszeg!E23 -> A szerelvények és vezetékek, műszaki állapota miatt fennáll a meghibásodás veszélye. | F47: =Zalaegerszeg!F23 -> A folyamatos víztermelés biztosítása. | G47: =Zalaegerszeg!G23 -> A gépészeti funkciókat kifogástalanul ellátó szerelvények. | I47: =Zalaegerszeg!I23 -> Zalaegerszeg | J47: =Zalaegerszeg!J23 -> 2000 | L47: =Zalaegerszeg!L23 -> 45658 | M47: =Zalaegerszeg!M23 -> 46022 | N47: =Zalaegerszeg!N23 -> hosszú | U47: =Zalaegerszeg!U23 -> 2000
A48: 106 | C48: =Zalaegerszeg!C24 -> Zalaegerszeg … kút | D48: =Zalaegerszeg!D24 -> Szivattyú csere 2 db | E48: =Zalaegerszeg!E24 -> A szivattyú kora, műszaki állapota miatt fennáll a meghibásodás veszélye. | F48: =Zalaegerszeg!F24 -> A folyamatos víztermelés biztosítása. | G48: =Zalaegerszeg!G24 -> A Q–H diagramhoz illeszkedő energiahatékony szivattyú üzemeltetése. | I48: =Zalaegerszeg!I24 -> Zalaegerszeg | J48: =Zalaegerszeg!J24 -> 601 | L48: =Zalaegerszeg!L24 -> 46023 | M48: =Zalaegerszeg!M24 -> 46387 | N48: =Zalaegerszeg!N24 -> hosszú | V48: =Zalaegerszeg!V24 -> 601
C49: =Zalaegerszeg!C25 -> Zalaegerszeg … kút | D49: =Zalaegerszeg!D25 -> Gépészeti felújítás 2 db | E49: =Zalaegerszeg!E25 -> A szerelvények és vezetékek, műszaki állapota miatt fennáll a meghibásodás veszélye. | F49: =Zalaegerszeg!F25 -> A folyamatos víztermelés biztosítása. | G49: =Zalaegerszeg!G25 -> A gépészeti funkciókat kifogástalanul ellátó szerelvények. | I49: =Zalaegerszeg!I25 -> Zalaegerszeg | J49: =Zalaegerszeg!J25 -> 2000 | L49: =Zalaegerszeg!L25 -> 46023 | M49: =Zalaegerszeg!M25 -> 46387 | N49: =Zalaegerszeg!N25 -> hosszú | V49: =Zalaegerszeg!V25 -> 2000
A50: 108 | C50: =Zalaegerszeg!C26 -> Zalaegerszeg … kút | D50: =Zalaegerszeg!D26 -> Szivattyú csere 2 db | E50: =Zalaegerszeg!E26 -> A szivattyú kora, műszaki állapota miatt fennáll a meghibásodás veszélye. | F50: =Zalaegerszeg!F26 -> A folyamatos víztermelés biztosítása. | G50: =Zalaegerszeg!G26 -> A Q–H diagramhoz illeszkedő energiahatékony szivattyú üzemeltetése. | I50: =Zalaegerszeg!I26 -> Zalaegerszeg | J50: =Zalaegerszeg!J26 -> 601 | L50: =Zalaegerszeg!L26 -> 46388 | M50: =Zalaegerszeg!M26 -> 46752 | N50: =Zalaegerszeg!N26 -> hosszú | W50: =Zalaegerszeg!W26 -> 601
C51: =Zalaegerszeg!C27 -> Zalaegerszeg … kút | D51: =Zalaegerszeg!D27 -> Gépészeti felújítás 2 db | E51: =Zalaegerszeg!E27 -> A szerelvények és vezetékek, műszaki állapota miatt fennáll a meghibásodás veszélye. | F51: =Zalaegerszeg!F27 -> A folyamatos víztermelés biztosítása. | G51: =Zalaegerszeg!G27 -> A gépészeti funkciókat kifogástalanul ellátó szerelvények. | I51: =Zalaegerszeg!I27 -> Zalaegerszeg | J51: =Zalaegerszeg!J27 -> 2000 | L51: =Zalaegerszeg!L27 -> 46388 | M51: =Zalaegerszeg!M27 -> 46752 | N51: =Zalaegerszeg!N27 -> hosszú | W51: =Zalaegerszeg!W27 -> 2000
A52: 114 | C52: =Zalaegerszeg!C28 -> Zalaegerszeg … kút | D52: =Zalaegerszeg!D28 -> Szivattyú csere 2 db | E52: =Zalaegerszeg!E28 -> A szivattyú kora, műszaki állapota miatt fennáll a meghibásodás veszélye. | F52: =Zalaegerszeg!F28 -> A folyamatos víztermelés biztosítása. | G52: =Zalaegerszeg!G28 -> A Q–H diagramhoz illeszkedő energiahatékony szivattyú üzemeltetése. | I52: =Zalaegerszeg!I28 -> Zalaegerszeg | J52: =Zalaegerszeg!J28 -> 601 | L52: =Zalaegerszeg!L28 -> 46753 | M52: =Zalaegerszeg!M28 -> 47118 | N52: =Zalaegerszeg!N28 -> hosszú | X52: =Zalaegerszeg!X28 -> 601
C53: =Zalaegerszeg!C29 -> Zalaegerszeg … kút | D53: =Zalaegerszeg!D29 -> Gépészeti felújítás 2 db | E53: =Zalaegerszeg!E29 -> A szerelvények és vezetékek, műszaki állapota miatt fennáll a meghibásodás veszélye. | F53: =Zalaegerszeg!F29 -> A folyamatos víztermelés biztosítása. | G53: =Zalaegerszeg!G29 -> A gépészeti funkciókat kifogástalanul ellátó szerelvények. | I53: =Zalaegerszeg!I29 -> Zalaegerszeg | J53: =Zalaegerszeg!J29 -> 2000 | L53: =Zalaegerszeg!L29 -> 46753 | M53: =Zalaegerszeg!M29 -> 47118 | N53: =Zalaegerszeg!N29 -> hosszú | X53: =Zalaegerszeg!X29 -> 2000
A54: 117 | C54: =Zalaegerszeg!C30 -> Zalaegerszeg … kút | D54: =Zalaegerszeg!D30 -> Szivattyú csere 2 db | E54: =Zalaegerszeg!E30 -> A szivattyú kora, műszaki állapota miatt fennáll a meghibásodás veszélye. | F54: =Zalaegerszeg!F30 -> A folyamatos víztermelés biztosítása. | G54: =Zalaegerszeg!G30 -> A Q–H diagramhoz illeszkedő energiahatékony szivattyú üzemeltetése. | I54: =Zalaegerszeg!I30 -> Zalaegerszeg | J54: =Zalaegerszeg!J30 -> 601 | L54: =Zalaegerszeg!L30 -> 47119 | M54: =Zalaegerszeg!M30 -> 47483 | N54: =Zalaegerszeg!N30 -> hosszú | Y54: =Zalaegerszeg!Y30 -> 601
C55: =Zalaegerszeg!C31 -> Zalaegerszeg … kút | D55: =Zalaegerszeg!D31 -> Gépészeti felújítás 2 db | E55: =Zalaegerszeg!E31 -> A szerelvények és vezetékek, műszaki állapota miatt fennáll a meghibásodás veszélye. | F55: =Zalaegerszeg!F31 -> A folyamatos víztermelés biztosítása. | G55: =Zalaegerszeg!G31 -> A gépészeti funkciókat kifogástalanul ellátó szerelvények. | I55: =Zalaegerszeg!I31 -> Zalaegerszeg | J55: =Zalaegerszeg!J31 -> 2000 | L55: =Zalaegerszeg!L31 -> 47119 | M55: =Zalaegerszeg!M31 -> 47483 | N55: =Zalaegerszeg!N31 -> hosszú | Y55: =Zalaegerszeg!Y31 -> 2000
A56: 126 | C56: =Zalaegerszeg!C32 -> Zalaegerszeg … kút | D56: =Zalaegerszeg!D32 -> Szivattyú csere 2 db | E56: =Zalaegerszeg!E32 -> A szivattyú kora, műszaki állapota miatt fennáll a meghibásodás veszélye. | F56: =Zalaegerszeg!F32 -> A folyamatos víztermelés biztosítása. | G56: =Zalaegerszeg!G32 -> A Q–H diagramhoz illeszkedő energiahatékony szivattyú üzemeltetése. | I56: =Zalaegerszeg!I32 -> Zalaegerszeg | J56: =Zalaegerszeg!J32 -> 601 | L56: =Zalaegerszeg!L32 -> 47484 | M56: =Zalaegerszeg!M32 -> 47848 | N56: =Zalaegerszeg!N32 -> hosszú | Z56: =Zalaegerszeg!Z32 -> 601
C57: =Zalaegerszeg!C33 -> Zalaegerszeg … kút | D57: =Zalaegerszeg!D33 -> Gépészeti felújítás 2 db | E57: =Zalaegerszeg!E33 -> A szerelvények és vezetékek, műszaki állapota miatt fennáll a meghibásodás veszélye. | F57: =Zalaegerszeg!F33 -> A folyamatos víztermelés biztosítása. | G57: =Zalaegerszeg!G33 -> A gépészeti funkciókat kifogástalanul ellátó szerelvények. | I57: =Zalaegerszeg!I33 -> Zalaegerszeg | J57: =Zalaegerszeg!J33 -> 2000 | L57: =Zalaegerszeg!L33 -> 47484 | M57: =Zalaegerszeg!M33 -> 47848 | N57: =Zalaegerszeg!N33 -> hosszú | Z57: =Zalaegerszeg!Z33 -> 2000
A58: 130 | C58: =Zalaegerszeg!C34 -> Zalaegerszeg … kút | D58: =Zalaegerszeg!D34 -> Szivattyú csere 2 db | E58: =Zalaegerszeg!E34 -> A szivattyú kora, műszaki állapota miatt fennáll a meghibásodás veszélye. | F58: =Zalaegerszeg!F34 -> A folyamatos víztermelés biztosítása. | G58: =Zalaegerszeg!G34 -> A Q–H diagramhoz illeszkedő energiahatékony szivattyú üzemeltetése. | I58: =Zalaegerszeg!I34 -> Zalaegerszeg | J58: =Zalaegerszeg!J34 -> 601 | L58: =Zalaegerszeg!L34 -> 47849 | M58: =Zalaegerszeg!M34 -> 48213 | N58: =Zalaegerszeg!N34 -> hosszú | AA58: =Zalaegerszeg!AA34 -> 601
C59: =Zalaegerszeg!C35 -> Zalaegerszeg … kút | D59: =Zalaegerszeg!D35 -> Gépészeti felújítás 2 db | E59: =Zalaegerszeg!E35 -> A szerelvények és vezetékek, műszaki állapota miatt fennáll a meghibásodás veszélye. | F59: =Zalaegerszeg!F35 -> A folyamatos víztermelés biztosítása. | G59: =Zalaegerszeg!G35 -> A gépészeti funkciókat kifogástalanul ellátó szerelvények. | I59: =Zalaegerszeg!I35 -> Zalaegerszeg | J59: =Zalaegerszeg!J35 -> 2000 | L59: =Zalaegerszeg!L35 -> 47849 | M59: =Zalaegerszeg!M35 -> 48213 | N59: =Zalaegerszeg!N35 -> hosszú | AA59: =Zalaegerszeg!AA35 -> 2000
A60: 132 | C60: =Zalaegerszeg!C36 -> Zalaegerszeg … kút | D60: =Zalaegerszeg!D36 -> Szivattyú csere 2 db | E60: =Zalaegerszeg!E36 -> A szivattyú kora, műszaki állapota miatt fennáll a meghibásodás veszélye. | F60: =Zalaegerszeg!F36 -> A folyamatos víztermelés biztosítása. | G60: =Zalaegerszeg!G36 -> A Q–H diagramhoz illeszkedő energiahatékony szivattyú üzemeltetése. | I60: =Zalaegerszeg!I36 -> Zalaegerszeg | J60: =Zalaegerszeg!J36 -> 601 | L60: =Zalaegerszeg!L36 -> 48214 | M60: =Zalaegerszeg!M36 -> 48579 | N60: =Zalaegerszeg!N36 -> hosszú | AB60: =Zalaegerszeg!AB36 -> 601
C61: =Zalaegerszeg!C37 -> Zalaegerszeg … kút | D61: =Zalaegerszeg!D37 -> Gépészeti felújítás 2 db | E61: =Zalaegerszeg!E37 -> A szerelvények és vezetékek, műszaki állapota miatt fennáll a meghibásodás veszélye. | F61: =Zalaegerszeg!F37 -> A folyamatos víztermelés biztosítása. | G61: =Zalaegerszeg!G37 -> A gépészeti funkciókat kifogástalanul ellátó szerelvények. | I61: =Zalaegerszeg!I37 -> Zalaegerszeg | J61: =Zalaegerszeg!J37 -> 2000 | L61: =Zalaegerszeg!L37 -> 48214 | M61: =Zalaegerszeg!M37 -> 48579 | N61: =Zalaegerszeg!N37 -> hosszú | AB61: =Zalaegerszeg!AB37 -> 2000
A62: 134 | C62: =Zalaegerszeg!C38 -> Zalaegerszeg … kút | D62: =Zalaegerszeg!D38 -> Szivattyú csere 2 db | E62: =Zalaegerszeg!E38 -> A szivattyú kora, műszaki állapota miatt fennáll a meghibásodás veszélye. | F62: =Zalaegerszeg!F38 -> A folyamatos víztermelés biztosítása. | G62: =Zalaegerszeg!G38 -> A Q–H diagramhoz illeszkedő energiahatékony szivattyú üzemeltetése. | I62: =Zalaegerszeg!I38 -> Zalaegerszeg | J62: =Zalaegerszeg!J38 -> 601 | L62: =Zalaegerszeg!L38 -> 48580 | M62: =Zalaegerszeg!M38 -> 48944 | N62: =Zalaegerszeg!N38 -> hosszú | AC62: =Zalaegerszeg!AC38 -> 601
C63: =Zalaegerszeg!C39 -> Zalaegerszeg … kút | D63: =Zalaegerszeg!D39 -> Gépészeti felújítás 2 db | E63: =Zalaegerszeg!E39 -> A szerelvények és vezetékek, műszaki állapota miatt fennáll a meghibásodás veszélye. | F63: =Zalaegerszeg!F39 -> A folyamatos víztermelés biztosítása. | G63: =Zalaegerszeg!G39 -> A gépészeti funkciókat kifogástalanul ellátó szerelvények. | I63: =Zalaegerszeg!I39 -> Zalaegerszeg | J63: =Zalaegerszeg!J39 -> 2000 | L63: =Zalaegerszeg!L39 -> 48580 | M63: =Zalaegerszeg!M39 -> 48944 | N63: =Zalaegerszeg!N39 -> hosszú | AC63: =Zalaegerszeg!AC39 -> 2000
B65: Irányítástechnika, energiaellátás
A66: 3 | C66: =Zalaegerszeg!C42 -> Zalaegerszeg 26. sz. kút | D66: =Zalaegerszeg!D42 -> irányítástechnikai rekonstrukció | E66: =Zalaegerszeg!E42 -> Az elektromos, irányítástechnikai szerelvények és vezetékek, műszaki állapota miatt fennáll a meghibásodás veszélye. | F66: =Zalaegerszeg!F42 -> A búvárszivattyú elektromos megtáplálása, a folyamatos távfelügyelet biztosítása. | G66: =Zalaegerszeg!G42 -> A búvárszivattyú elektromos paramétereihez illeszkedő erősáramú és vezérlőszekrény. | I66: =Zalaegerszeg!I42 -> Zalaegerszeg | J66: =Zalaegerszeg!J42 -> 150 | L66: =Zalaegerszeg!L42 -> 43466 | M66: =Zalaegerszeg!M42 -> 43830 | N66: =Zalaegerszeg!N42 -> rövid | O66: =Zalaegerszeg!O42 -> 150
A67: 38 | C67: =Zalaegerszeg!C43 -> Zalaegerszeg Keleti kútcsoport | D67: =Zalaegerszeg!D43 -> GPRS kommunikációra történő átállás | E67: =Zalaegerszeg!E43 -> Az elektromos, irányítástechnikai szerelvények és vezetékek, műszaki állapota miatt fennáll a meghibásodás veszélye. | F67: =Zalaegerszeg!F43 -> A búvárszivattyú elektromos megtáplálása, a folyamatos távfelügyelet biztosítása. | G67: =Zalaegerszeg!G43 -> A búvárszivattyú elektromos paramétereihez illeszkedő erősáramú és vezérlőszekrény. | I67: =Zalaegerszeg!I43 -> Zalaegerszeg | J67: =Zalaegerszeg!J43 -> 6078 | L67: =Zalaegerszeg!L43 -> 43831 | M67: =Zalaegerszeg!M43 -> 44196 | N67: =Zalaegerszeg!N43 -> közép | P67: =Zalaegerszeg!P43 -> 6078
A68: 84 | C68: =Zalaegerszeg!C44 -> Zalaegerszeg … kút | D68: =Zalaegerszeg!D44 -> elektromos és iráűnyítástechnikai szekrény csere (2 db) | E68: =Zalaegerszeg!E44 -> Az elektromos, irányítástechnikai szerelvények és vezetékek, műszaki állapota miatt fennáll a meghibásodás veszélye. | F68: =Zalaegerszeg!F44 -> A búvárszivattyú elektromos megtáplálása, a folyamatos távfelügyelet biztosítása. | G68: =Zalaegerszeg!G44 -> A búvárszivattyú elektromos paramétereihez illeszkedő erősáramú és vezérlőszekrény. | I68: =Zalaegerszeg!I44 -> Zalaegerszeg | J68: =Zalaegerszeg!J44 -> 6000 | L68: =Zalaegerszeg!L44 -> 45292 | M68: =Zalaegerszeg!M44 -> 45657 | N68: =Zalaegerszeg!N44 -> hosszú | T68: =Zalaegerszeg!T44 -> 6000
A69: 102 | C69: =Zalaegerszeg!C45 -> Zalaegerszeg … kút | D69: =Zalaegerszeg!D45 -> elektromos és iráűnyítástechnikai szekrény csere (2 db) | E69: =Zalaegerszeg!E45 -> Az elektromos, irányítástechnikai szerelvények és vezetékek, műszaki állapota miatt fennáll a meghibásodás veszélye. | F69: =Zalaegerszeg!F45 -> A búvárszivattyú elektromos megtáplálása, a folyamatos távfelügyelet biztosítása. | G69: =Zalaegerszeg!G45 -> A búvárszivattyú elektromos paramétereihez illeszkedő erősáramú és vezérlőszekrény. | I69: =Zalaegerszeg!I45 -> Zalaegerszeg | J69: =Zalaegerszeg!J45 -> 6000 | L69: =Zalaegerszeg!L45 -> 45658 | M69: =Zalaegerszeg!M45 -> 46022 | N69: =Zalaegerszeg!N45 -> hosszú | U69: =Zalaegerszeg!U45 -> 6000
A70: 107 | C70: =Zalaegerszeg!C46 -> Zalaegerszeg … kút | D70: =Zalaegerszeg!D46 -> elektromos és iráűnyítástechnikai szekrény csere (2 db) | E70: =Zalaegerszeg!E46 -> Az elektromos, irányítástechnikai szerelvények és vezetékek, műszaki állapota miatt fennáll a meghibásodás veszélye. | F70: =Zalaegerszeg!F46 -> A búvárszivattyú elektromos megtáplálása, a folyamatos távfelügyelet biztosítása. | G70: =Zalaegerszeg!G46 -> A búvárszivattyú elektromos paramétereihez illeszkedő erősáramú és vezérlőszekrény. | I70: =Zalaegerszeg!I46 -> Zalaegerszeg | J70: =Zalaegerszeg!J46 -> 6000 | L70: =Zalaegerszeg!L46 -> 46023 | M70: =Zalaegerszeg!M46 -> 46387 | N70: =Zalaegerszeg!N46 -> hosszú | V70: =Zalaegerszeg!V46 -> 6000
A71: 109 | C71: =Zalaegerszeg!C47 -> Zalaegerszeg … kút | D71: =Zalaegerszeg!D47 -> elektromos és iráűnyítástechnikai szekrény csere (2 db) | E71: =Zalaegerszeg!E47 -> Az elektromos, irányítástechnikai szerelvények és vezetékek, műszaki állapota miatt fennáll a meghibásodás veszélye. | F71: =Zalaegerszeg!F47 -> A búvárszivattyú elektromos megtáplálása, a folyamatos távfelügyelet biztosítása. | G71: =Zalaegerszeg!G47 -> A búvárszivattyú elektromos paramétereihez illeszkedő erősáramú és vezérlőszekrény. | I71: =Zalaegerszeg!I47 -> Zalaegerszeg | J71: =Zalaegerszeg!J47 -> 6000 | L71: =Zalaegerszeg!L47 -> 46388 | M71: =Zalaegerszeg!M47 -> 46752 | N71: =Zalaegerszeg!N47 -> hosszú | W71: =Zalaegerszeg!W47 -> 6000
A72: 115 | C72: =Zalaegerszeg!C48 -> Zalaegerszeg … kút | D72: =Zalaegerszeg!D48 -> elektromos és iráűnyítástechnikai szekrény csere (2 db) | E72: =Zalaegerszeg!E48 -> Az elektromos, irányítástechnikai szerelvények és vezetékek, műszaki állapota miatt fennáll a meghibásodás veszélye. | F72: =Zalaegerszeg!F48 -> A búvárszivattyú elektromos megtáplálása, a folyamatos távfelügyelet biztosítása. | G72: =Zalaegerszeg!G48 -> A búvárszivattyú elektromos paramétereihez illeszkedő erősáramú és vezérlőszekrény. | I72: =Zalaegerszeg!I48 -> Zalaegerszeg | J72: =Zalaegerszeg!J48 -> 6000 | L72: =Zalaegerszeg!L48 -> 46753 | M72: =Zalaegerszeg!M48 -> 47118 | N72: =Zalaegerszeg!N48 -> hosszú | X72: =Zalaegerszeg!X48 -> 6000
A73: 118 | C73: =Zalaegerszeg!C49 -> Zalaegerszeg … kút | D73: =Zalaegerszeg!D49 -> elektromos és iráűnyítástechnikai szekrény csere (2 db) | E73: =Zalaegerszeg!E49 -> Az elektromos, irányítástechnikai szerelvények és vezetékek, műszaki állapota miatt fennáll a meghibásodás veszélye. | F73: =Zalaegerszeg!F49 -> A búvárszivattyú elektromos megtáplálása, a folyamatos távfelügyelet biztosítása. | G73: =Zalaegerszeg!G49 -> A búvárszivattyú elektromos paramétereihez illeszkedő erősáramú és vezérlőszekrény. | I73: =Zalaegerszeg!I49 -> Zalaegerszeg | J73: =Zalaegerszeg!J49 -> 6000 | L73: =Zalaegerszeg!L49 -> 47119 | M73: =Zalaegerszeg!M49 -> 47483 | N73: =Zalaegerszeg!N49 -> hosszú | Y73: =Zalaegerszeg!Y49 -> 6000
A74: 127 | C74: =Zalaegerszeg!C50 -> Zalaegerszeg … kút | D74: =Zalaegerszeg!D50 -> elektromos és iráűnyítástechnikai szekrény csere (2 db) | E74: =Zalaegerszeg!E50 -> Az elektromos, irányítástechnikai szerelvények és vezetékek, műszaki állapota miatt fennáll a meghibásodás veszélye. | F74: =Zalaegerszeg!F50 -> A búvárszivattyú elektromos megtáplálása, a folyamatos távfelügyelet biztosítása. | G74: =Zalaegerszeg!G50 -> A búvárszivattyú elektromos paramétereihez illeszkedő erősáramú és vezérlőszekrény. | I74: =Zalaegerszeg!I50 -> Zalaegerszeg | J74: =Zalaegerszeg!J50 -> 6000 | L74: =Zalaegerszeg!L50 -> 47484 | M74: =Zalaegerszeg!M50 -> 47848 | N74: =Zalaegerszeg!N50 -> hosszú | Z74: =Zalaegerszeg!Z50 -> 6000
A75: 131 | C75: =Zalaegerszeg!C51 -> Zalaegerszeg … kút | D75: =Zalaegerszeg!D51 -> elektromos és iráűnyítástechnikai szekrény csere (2 db) | E75: =Zalaegerszeg!E51 -> Az elektromos, irányítástechnikai szerelvények és vezetékek, műszaki állapota miatt fennáll a meghibásodás veszélye. | F75: =Zalaegerszeg!F51 -> A búvárszivattyú elektromos megtáplálása, a folyamatos távfelügyelet biztosítása. | G75: =Zalaegerszeg!G51 -> A búvárszivattyú elektromos paramétereihez illeszkedő erősáramú és vezérlőszekrény. | I75: =Zalaegerszeg!I51 -> Zalaegerszeg | J75: =Zalaegerszeg!J51 -> 6000 | L75: =Zalaegerszeg!L51 -> 47849 | M75: =Zalaegerszeg!M51 -> 48213 | N75: =Zalaegerszeg!N51 -> hosszú | AA75: =Zalaegerszeg!AA51 -> 6000
A76: 133 | C76: =Zalaegerszeg!C52 -> Zalaegerszeg … kút | D76: =Zalaegerszeg!D52 -> elektromos és iráűnyítástechnikai szekrény csere (2 db) | E76: =Zalaegerszeg!E52 -> Az elektromos, irányítástechnikai szerelvények és vezetékek, műszaki állapota miatt fennáll a meghibásodás veszélye. | F76: =Zalaegerszeg!F52 -> A búvárszivattyú elektromos megtáplálása, a folyamatos távfelügyelet biztosítása. | G76: =Zalaegerszeg!G52 -> A búvárszivattyú elektromos paramétereihez illeszkedő erősáramú és vezérlőszekrény. | I76: =Zalaegerszeg!I52 -> Zalaegerszeg | J76: =Zalaegerszeg!J52 -> 6000 | L76: =Zalaegerszeg!L52 -> 48214 | M76: =Zalaegerszeg!M52 -> 48579 | N76: =Zalaegerszeg!N52 -> hosszú | AB76: =Zalaegerszeg!AB52 -> 6000
A77: 135 | C77: =Zalaegerszeg!C53 -> Zalaegerszeg … kút | D77: =Zalaegerszeg!D53 -> elektromos és iráűnyítástechnikai szekrény csere (2 db) | E77: =Zalaegerszeg!E53 -> Az elektromos, irányítástechnikai szerelvények és vezetékek, műszaki állapota miatt fennáll a meghibásodás veszélye. | F77: =Zalaegerszeg!F53 -> A búvárszivattyú elektromos megtáplálása, a folyamatos távfelügyelet biztosítása. | G77: =Zalaegerszeg!G53 -> A búvárszivattyú elektromos paramétereihez illeszkedő erősáramú és vezérlőszekrény. | I77: =Zalaegerszeg!I53 -> Zalaegerszeg | J77: =Zalaegerszeg!J53 -> 6000 | L77: =Zalaegerszeg!L53 -> 48580 | M77: =Zalaegerszeg!M53 -> 48944 | N77: =Zalaegerszeg!N53 -> hosszú | AC77: =Zalaegerszeg!AC53 -> 6000
B79: Összesen: | J79: =SUM(J37:J65) -> 43010
A81: III. Vízműtelep és vízkezelő létesítmények
C82: Helyszín | D82: beruházás megnevezése
B83: VÍZMŰTELEP
B84: Épület, építmény
B86: Gép, berendezés
B88: Irányítástechnika, energiaellátás
A89: 39 | C89: =Zalaegerszeg!C65 -> Zalaegerszeg vízműtelep | D89: =Zalaegerszeg!D65 -> PLC - PLC közti kommunikáció felújítása | E89: =Zalaegerszeg!E65 -> Az elektromos, irányítástechnikai szerelvények és vezetékek, műszaki állapota miatt fennáll a meghibásodás veszélye | F89: =Zalaegerszeg!F65 -> A vízműtelep elektromos megtáplálása, a folyamatos távfelügyelet biztosítása. | G89: =Zalaegerszeg!G65 -> Az elektromos paramétereihez illeszkedő erős- és gyengeáramú vezérlőszekrény. | I89: =Zalaegerszeg!I65 -> Zalaegerszeg | J89: =Zalaegerszeg!J65 -> 1000 | L89: =Zalaegerszeg!L65 -> 43922 | M89: =Zalaegerszeg!M65 -> 44196 | N89: =Zalaegerszeg!N65 -> közép | P89: =Zalaegerszeg!P65 -> 1000
A90: 68 | C90: =Zalaegerszeg!C66 -> Zalaegerszeg Keleti vízműtelep | D90: =Zalaegerszeg!D66 -> URH alnokok megszűntetése | E90: =Zalaegerszeg!E66 -> Az elektromos, irányítástechnikai szerelvények és vezetékek, műszaki állapota miatt fennáll a meghibásodás veszélye | F90: =Zalaegerszeg!F66 -> A vízműtelep elektromos megtáplálása, a folyamatos távfelügyelet biztosítása. | G90: =Zalaegerszeg!G66 -> Az elektromos paramétereihez illeszkedő erős- és gyengeáramú vezérlőszekrény. | I90: =Zalaegerszeg!I66 -> Zalaegerszeg | J90: =Zalaegerszeg!J66 -> 6819 | L90: =Zalaegerszeg!L66 -> 44287 | M90: =Zalaegerszeg!M66 -> 44561 | N90: =Zalaegerszeg!N66 -> közép | Q90: =Zalaegerszeg!Q66 -> 6819
A91: 69 | C91: =Zalaegerszeg!C67 -> Zalaegerszeg Nyugati vízműtelep | D91: =Zalaegerszeg!D67 -> 20 KV-os főelosztó felújítása, feszültségváltó, megszakító csere mindkét betáp oldalon | E91: =Zalaegerszeg!E67 -> Az elektromos, irányítástechnikai szerelvények és vezetékek, műszaki állapota miatt fennáll a meghibásodás veszélye | F91: =Zalaegerszeg!F67 -> A vízműtelep elektromos megtáplálása, a folyamatos távfelügyelet biztosítása. | G91: =Zalaegerszeg!G67 -> Az elektromos paramétereihez illeszkedő erős- és gyengeáramú vezérlőszekrény. | I91: =Zalaegerszeg!I67 -> Zalaegerszeg | J91: =Zalaegerszeg!J67 -> 21000 | L91: =Zalaegerszeg!L67 -> 44287 | M91: =Zalaegerszeg!M67 -> 44561 | N91: =Zalaegerszeg!N67 -> közép | Q91: =Zalaegerszeg!Q67 -> 21000
B93: VÍZKEZELŐ LÉTESÍTMÉNYEK
B94: Épület, építmény
B96: Gép, berendezés
A97: 103 | C97: =Zalaegerszeg!C73 -> Zalaegerszeg Keleti vastalanító | D97: =Zalaegerszeg!D73 -> gépszeti rekonstrukció | E97: =Zalaegerszeg!E73 -> A technológia, szerelvények és vezetékek, műszaki állapota miatt fennáll a meghibásodás veszélye. | F97: =Zalaegerszeg!F73 -> A tisztítás technológia jelenlegi műszaki állapota miatt nem képes az elvárt paramétereket biztosítani. Az avultsági szint miatt fennáll a meghibásodás veszélye. | G97: =Zalaegerszeg!G73 -> Megfelelő hatékonyságú technológia. A gépészeti funkciókat kifogástalanul ellátó szerelvények. | I97: =Zalaegerszeg!I73 -> Zalaegerszeg | J97: =Zalaegerszeg!J73 -> 100000 | L97: =Zalaegerszeg!L73 -> 45748 | M97: =Zalaegerszeg!M73 -> 46387 | N97: =Zalaegerszeg!N73 -> hosszú | U97: =Zalaegerszeg!U73 -> 50000 | V97: =Zalaegerszeg!V73 -> 50000
B99: Irányítástechnika, energiaellátás
B101: Összesen | J101: =SUM(J83:J100) -> 128819
A103: IV. Vízelosztás
C104: Helyszín | D104: beruházás megnevezése
B105: IVÓVÍZHÁLÓZAT
B106: Épület, építmény
A107: 4 | C107: Zalaegerszeg Kosztolányi u. (Petőfi u.; Berzsenyi u . Csomópontok) | D107: ivóvízvezeték rekonstrukció | E107: A vezeték állapota anyaga, kora, minősége miatt nem megfelelő, elavult. | F107: A vezeték elavult műszaki állapota miatt gyakoriak a csőtörések. | G107: A vízvezeték kiváltás a vízigények figyelembevételével megfelelő átmérőjű és anyagú hálózatot kapunk. | I107: Zalaegerszeg | J107: =SUM(O107:AC107) -> 10000 | L107: 43556 | M107: 43830 | N107: rövid | O107: =Zalaegerszeg!O83 -> 10000
A108: 5 | C108: Zalaegerszeg Perlaki u. | D108: ivóvízvezeték rekonstrukció | E108: A vezeték állapota anyaga, kora, minősége miatt nem megfelelő, elavult. | F108: A vezeték elavult műszaki állapota miatt gyakoriak a csőtörések. | G108: A vízvezeték kiváltás a vízigények figyelembevételével megfelelő átmérőjű és anyagú hálózatot kapunk. | I108: Zalaegerszeg | J108: =SUM(O108:AC108) -> 4000 | L108: 43556 | M108: 43830 | N108: rövid | O108: =Zalaegerszeg!O84 -> 4000
A109: 6 | C109: Zalaegerszeg Czobor I-II. ütem (Köztársaság- Czobor- Olajmunkás összekötés) | D109: ivóvízvezeték rekonstrukció | E109: A vezeték állapota anyaga, kora, minősége miatt nem megfelelő, elavult. | F109: A vezeték elavult műszaki állapota miatt gyakoriak a csőtörések. | G109: A vízvezeték kiváltás a vízigények figyelembevételével megfelelő átmérőjű és anyagú hálózatot kapunk. | I109: Zalaegerszeg | J109: =SUM(O109:AC109) -> 8000 | L109: 43556 | M109: 43830 | N109: rövid | O109: =Zalaegerszeg!O85 -> 8000
A110: 7 | C110: =Zalaegerszeg!C86 -> Zalaegerszeg | D110: =Zalaegerszeg!D86 -> mechanikai tisztítási csomópontok kiépítése | E110: =Zalaegerszeg!E86 -> A meglévő szerelvényekkel korlátozott korlátozottak a hálózattisztítási lehetőségek. | F110: =Zalaegerszeg!F86 -> Rendszeres hálózatisztítás végrehajtása a jövőben. | G110: =Zalaegerszeg!G86 -> A tisztítási csomópontok kialakításával lehetőség nyílik a rendszeres hálózattisztítások elvégzésére. | I110: =Zalaegerszeg!I86 -> Zalaegerszeg | J110: =Zalaegerszeg!J86 -> 10000 | L110: =Zalaegerszeg!L86 -> 43556 | M110: =Zalaegerszeg!M86 -> 43830 | N110: =Zalaegerszeg!N86 -> rövid | O110: =Zalaegerszeg!O86 -> 10000
A111: 8 | C111: =Zalaegerszeg!C87 -> Zalaegerszeg | D111: =Zalaegerszeg!D87 -> ivóvízvezeték rekonstrukcióhoz köthető tervezési feladatok | E111: =Zalaegerszeg!E87 -> A vezeték állapota anyaga, kora, minősége miatt nem megfelelő, elavult. | F111: =Zalaegerszeg!F87 -> A vezeték elavult műszaki állapota miatt gyakoriak a csőtörések. | G111: =Zalaegerszeg!G87 -> A vízvezeték kiváltás a vízigények figyelembevételével megfelelő átmérőjű és anyagú hálózatot kapunk. | I111: =Zalaegerszeg!I87 -> Zalaegerszeg | J111: =Zalaegerszeg!J87 -> 3000 | L111: =Zalaegerszeg!L87 -> 43556 | M111: =Zalaegerszeg!M87 -> 43830 | N111: =Zalaegerszeg!N87 -> rövid | O111: =Zalaegerszeg!O87 -> 3000
...
