Workbook
Name _GoBack: '2'!#REF!

Sheet 1
B1: 2021. évi eredeti előirányzat | C1: 2021. évi módosított előirányzat | D1: Teljesítés | E1: Teljesítés %-a | G1: Megnevezés | H1: 2021. évi eredeti előirányzat | I1: 2021. évi módosított előirányzat | J1: Teljesítés | K1: Teljesítés %-a
A2: I. Működési célú bevételek | G2: I. Működési célú kiadások
A3: 1.) Működési célú támogatások államháztartáson belülről | B3: 6090370 | C3: 7670343 | D3: 7171380 | E3: =SUM(D3/C3)*100 -> 93.494906 | G3: 1.) Költségvetési szervek kiadásai | H3: 8235838 | I3: 8660456 | J3: 7710928 | K3: =SUM(J3/I3)*100 -> 89.036051
A4: 2.) Közhatalmi bevételek | B4: 4499747 | C4: 4540747 | D4: 5471425 | E4: =SUM(D4/C4)*100 -> 120.49614 | G4: 2.) Önkormányzat szakosztályainak kiadásai | H4: 8167142 | I4: 9531382 | J4: 6053949 | K4: =SUM(J4/I4)*100 -> 63.515962
A5: 3.) Működési bevételek | B5: 2392621 | C5: 2928780 | D5: 3028094 | E5: =SUM(D5/C5)*100 -> 103.39097 | G5: 3.Egyéb működési célú kiadások (költségvetési szervek és tartalék nélkül) | H5: 3145847 | I5: 3531085 | J5: 3486385 | K5: =SUM(J5/I5)*100 -> 98.7341
A6: 4.) Működési célú átvett pénzeszközök | C6: 133574 | D6: 132292 | E6: =SUM(D6/C6)*100 -> 99.040232 | G6: 4.) Céltartalékból működésre | H6: 622263 | I6: 762172 | K6: =SUM(J6/I6)*100 -> 0
A7: Költségvetési műk. bevételei összesen: | B7: =SUM(B3+B4+B5+B6) -> 12982738 | C7: =SUM(C3:C6) -> 15273444 | D7: =SUM(D3+D4+D5+D6) -> 15803191 | E7: =SUM(D7/C7)*100 -> 103.46842 | G7: 5.) Általános tartalék | H7: 10000 | I7: 5000 | K7: =SUM(J7/I7)*100 -> 0
A8: Finanszírozási bevételek | G8: Költségvetési műk. kiadásai összesen: | H8: =SUM(H2:H7) -> 20181090 | I8: =SUM(I3:I7) -> 22490095 | J8: =SUM(J2:J7) -> 17251262 | K8: =SUM(J8/I8)*100 -> 76.706043
A9: 5.) Előző év költségvetési maradványának igénybevétele | B9: 7367381 | C9: 7385680 | D9: 7385680 | E9: =SUM(D9/C9)*100 -> 100 | G9: 6.) Egyéb finanszírozási kiadás (államháztartáson belüli megelőlegezés visszafizetése) | H9: 169029 | I9: 201562 | J9: 201562 | K9: =SUM(J9/I9)*100 -> 100
A10: 6.) Államháztartáson belüli megelőlegezések | C10: 32533 | D10: 204116 | E10: =SUM(D10/C10)*100 -> 627.41217
A11: MŰKÖDÉSI CÉLÚ BEVÉTELEK ÖSSZ: | B11: =SUM(B7:B10) -> 20350119 | C11: =SUM(C7:C10) -> 22691657 | D11: =SUM(D7:D10) -> 23392987 | E11: =SUM(D11/C11)*100 -> 103.0907 | G11: MŰKÖDÉSI CÉLÚ KIADÁSOK ÖSSZ.: | H11: =SUM(H8:H9) -> 20350119 | I11: =SUM(I8:I10) -> 22691657 | J11: =SUM(J8:J10) -> 17452824 | K11: =SUM(J11/I11)*100 -> 76.912955
A12: II. Felhalmozási célú bevételek | G12: II. Felhalmozási célú kiadások
A13: 1.) Felhalmozási célú támogatások államháztartáson belülről | B13: 10507163 | C13: 19020040 | D13: 10072813 | E13: =SUM(D13/C13)*100 -> 52.958948 | G13: 1.) Egyéb felhalmozási célú kiadások | H13: 113334 | I13: 140670 | J13: 109968 | K13: =SUM(J13/I13)*100 -> 78.174451
A14: 2.) Felhalmozási bevételek | B14: 200441 | C14: 412615 | D14: 1183345 | E14: =SUM(D14/C14)*100 -> 286.79156 | G14: 2.) Beruházás | H14: 28743625 | I14: 34582324 | J14: 13255363 | K14: =SUM(J14/I14)*100 -> 38.329879
A15: 3.) Felhalmozási célú átvett pénzeszközök | B15: 134863 | C15: 217909 | D15: 230212 | E15: =SUM(D15/C15)*100 -> 105.64593 | G15: ebből: költségvetési szervek | H15: 191139 | I15: 293620 | J15: 148423 | K15: =SUM(J15/I15)*100 -> 50.549349
A16: 4.) Fejlesztéshez működési jellegű bevétel (HD, áfa visszaigénylés) | B16: 3423124 | C16: 3643731 | D16: 2461329 | E16: =SUM(D16/C16)*100 -> 67.54969 | G16: 3.) Felújítás | H16: 3618638 | I16: 6594881 | J16: 2303448 | K16: =SUM(J16/I16)*100 -> 34.927817
A17: Költségvetési felhalm. bevételei összesen: | B17: =SUM(B13:B16) -> 14265591 | C17: =SUM(C13:C16) -> 23294295 | D17: =SUM(D13:D16) -> 13947699 | E17: =SUM(D17/C17)*100 -> 59.87603 | G17: ebből: költségvetési szervek | H17: 22485 | I17: 28253 | J17: 22053 | K17: =SUM(J17/I17)*100 -> 78.055428
A18: Finanszírozási bevételek | G18: 4.) Céltartalék | H18: 29385 | I18: 168705 | K18: =SUM(J18/I18)*100 -> 0
A19: 5.) Hitel felvétel | B19: 34841 | C19: 34841 | D19: 34841 | E19: =SUM(D19/C19)*100 -> 100 | G19: 5.)Fejlesztési hitel kamata | H19: 35142 | I19: 35224 | J19: 35225 | K19: =SUM(J19/I19)*100 -> 100.00284
A20: 6.) Előző év költségvetési maradványának igénybevétele | B20: 3775789 | C20: 4048765 | D20: 4048765 | E20: =SUM(D20/C20)*100 -> 100 | G20: Költségvetési felh.célú kiadásai összesen: | H20: =SUM(H13+H14+H16+H18+H19) -> 32540124 | I20: =SUM(I13+I14+I16+I18+I19) -> 41521804 | J20: =SUM(J13+J14+J16+J18+J19) -> 15704004 | K20: =SUM(J20/I20)*100 -> 37.821102
A21: 7.) Forgatási célú értékpapír beváltás | B21: 14600437 | C21: 14605437 | D21: 9690850 | E21: =SUM(D21/C21)*100 -> 66.350976 | G21: Finanszírozási kiadások
G22: 6.) Hitel- és kölcsön törlesztések | H22: 111534 | I22: 111534 | J22: 111533 | K22: =SUM(J22/I22)*100 -> 99.999103
G23: 7.) Lízing kötelezettség | H23: 25000 | I23: 350000 | J23: 350000 | K23: =SUM(J23/I23)*100 -> 100
A24: FELHALMOZÁSI CÉLÚ BEVÉTELEK ÖSSZESEN: | B24: =SUM(B17:B23) -> 32676658 | C24: =SUM(C17:C23) -> 41983338 | D24: =SUM(D17:D23) -> 27722155 | E24: =SUM(D24/C24)*100 -> 66.031327 | G24: FELHALMOZÁSI CÉLÚ KIADÁSOK ÖSSZESEN: | H24: =SUM(H20:H23) -> 32676658 | I24: =SUM(I20:I23) -> 41983338 | J24: =SUM(J20:J23) -> 16165537 | K24: =SUM(J24/I24)*100 -> 38.504649
A25: ÖNKORMÁNYZAT ÖSSZESEN: | B25: =SUM(B11+B24) -> 53026777 | C25: =C11+C24 -> 64674995 | D25: =SUM(D11+D24) -> 51115142 | E25: =SUM(D25/C25)*100 -> 79.033855 | G25: ÖNKORMÁNYZAT ÖSSZESEN: | H25: =SUM(H11+H24) -> 53026777 | I25: =SUM(I11+I24) -> 64674995 | J25: =SUM(J11+J24) -> 33618361 | K25: =SUM(J25/I25)*100 -> 51.980462
A26: 9.) Forgatási célú értékpapír beváltás projektekhez kapcsolódóan | B26: 10000000 | C26: 11500000 | E26: =SUM(D26/C26)*100 -> 0 | G26: 8.) Forgatási célú értékpapír vásárlás hazai forrásból átmenetileg szabad pénzeszközökből | H26: 10000000 | I26: 11500000 | J26: 8670000 | K26: =SUM(J26/I26)*100 -> 75.391304
A27: MINDÖSSZESEN: | B27: =SUM(B25:B26) -> 63026777 | C27: =SUM(C25:C26) -> 76174995 | D27: =SUM(D25:D26) -> 51115142 | E27: =SUM(D27/C27)*100 -> 67.102258 | G27: MINDÖSSZESEN: | H27: =SUM(H25:H26) -> 63026777 | I27: =SUM(I25:I26) -> 76174995 | J27: =SUM(J25:J26) -> 42288361 | K27: =SUM(J27/I27)*100 -> 55.514754

Sheet 2
A1: Rovat száma | B1: Megnevezés | C1: 2021. évi eredeti előirányzat | D1: 2021. évi módosított előirányzat | E1: Teljesítés | F1: Teljesítés %-a
A2: B | B2: BEVÉTELEK
A3: B1 | B3: Működési célú támogatások államháztartáson belülről
A4: B11 | B4: Önkormányzatok működési támogatásai | C4: 4225717 | D4: 4401715 | E4: 4401715 | F4: =SUM(E4/D4)*100 -> 100
A5: B12 | B5: Elvonások és befizetések bevételei | C5: 43350 | D5: 47257 | E5: 47257 | F5: =SUM(E5/D5)*100 -> 100
A6: B14 | B6: Működési célú visszatérítendő támogatások, kölcsönök visszatérülése államháztartáson belülről | C6: 1821303 | D6: 43350 | E6: 37831 | F6: =SUM(E6/D6)*100 -> 87.268743
A7: B16 | B7: Egyéb működési célú támogatások bevételei államháztartáson belülről | D7: 3178021 | E7: 2684577 | F7: =SUM(E7/D7)*100 -> 84.47323
B8: Működési célú támogatások államháztartáson belülről összesen | C8: =SUM(C4:C7) -> 6090370 | D8: =SUM(D4:D7) -> 7670343 | E8: =SUM(E4:E7) -> 7171380 | F8: =SUM(E8/D8)*100 -> 93.494906
A9: B2 | B9: Felhalmozási célú támogatások államháztartáson belülről
A10: B21 | B10: Felhalmozási célú önkormányzati támogatás | D10: 657918 | E10: 657918 | F10: =SUM(E10/D10)*100 -> 100
A11: B25 | B11: Egyéb felhalmozási célú támogatások bevételei államháztartáson belülről | C11: 10507163 | D11: 18362122 | E11: 9414895 | F11: =SUM(E11/D11)*100 -> 51.273458
B12: Felhalmozási célú támogatások államháztartáson belülről összesen | C12: =SUM(C10:C11) -> 10507163 | D12: =SUM(D10:D11) -> 19020040 | E12: =SUM(E10:E11) -> 10072813 | F12: =SUM(E12/D12)*100 -> 52.958948
A13: B3 | B13: Közhatalmi bevételek
A14: B3111 | B14: Magánszemélyek jövedelemadói | E14: 63
A15: B34 | B15: Vagyoni típusú adók (építményadó, magánszemélyek kommunális adója) | C15: 1091747 | D15: 1116747 | E15: 1126053 | F15: =SUM(E15/D15)*100 -> 100.83331
A16: B35 | B16: Termékek és szolgáltatások adói
A17: B351 | B17: Értékesítési és forgalmi adók (iparűzési adó) | C17: 3400000 | D17: 3400000 | E17: 4271032 | F17: =SUM(E17/D17)*100 -> 125.61859
A18: B355 | B18: Egyéb áruhasználati és szolgáltatási adók ( idegenforgalmi adó) | D18: 16000 | E18: 17056 | F18: =SUM(E18/D18)*100 -> 106.6
A19: B36 | B19: Egyéb közhatalmi bevételek (különféle bírságok, talajterhelési díj) | C19: 8000 | D19: 8000 | E19: 57221 | F19: =SUM(E19/D19)*100 -> 715.2625
B20: Közhatalmi bevételek összesen | C20: =SUM(C13:C19) -> 4499747 | D20: =SUM(D15:D19) -> 4540747 | E20: =SUM(E14:E19) -> 5471425 | F20: =SUM(E20/D20)*100 -> 120.49614
A21: B4 | B21: Működési bevételek | C21: 5815745 | D21: 6572511 | E21: 5489423 | F21: =SUM(E21/D21)*100 -> 83.52094
A22: B5 | B22: Felhalmozási bevételek
A23: B52 | B23: Ingatlanok értékesítése | C23: 200441 | D23: 410463 | E23: 1180871 | F23: =SUM(E23/D23)*100 -> 287.69244
A24: B53 | B24: Egyéb tárgyi eszközök értékesítése | D24: 2152 | E24: 2450 | F24: =SUM(E24/D24)*100 -> 113.84758
A25: B55 | B25: Részesedések megszűnéséhez kapcsolódó bevételek | E25: 24
B26: Felhalmozási bevételek összesen | C26: =SUM(C23:C24) -> 200441 | D26: =SUM(D23:D24) -> 412615 | E26: =SUM(E23:E25) -> 1183345 | F26: =SUM(E26/D26)*100 -> 286.79156
A27: B6 | B27: Működési célú átvett pénzeszközök | D27: 133574 | E27: 132292 | F27: =SUM(E27/D27)*100 -> 99.040232
A28: B7 | B28: Felhalmozási célú átvett pénzeszközök
A29: B74 | B29: Felhalmozási célú visszatérítendő támogatások, kölcsönök visszatérülése államháztartáson kívülről | C29: 3000 | D29: 3000 | E29: 11799 | F29: =SUM(E29/D29)*100 -> 393.3
A30: B75 | B30: Egyéb felhalmozási célú átvett pénzeszközök | C30: 131863 | D30: 214909 | E30: 218413 | F30: =SUM(E30/D30)*100 -> 101.63046
B31: Felhalmozási célú átvett pénzeszközök összesen | C31: =SUM(C29:C30) -> 134863 | D31: =SUM(D29:D30) -> 217909 | E31: =SUM(E29:E30) -> 230212 | F31: =SUM(E31/D31)*100 -> 105.64593
A32: B1-B7 | B32: Költségvetési bevételek | C32: =SUM(C8+C12+C20+C21+C26+C27+C31) -> 27248329 | D32: =D8+D12+D20+D21+D26+D27+D31 -> 38567739 | E32: =SUM(E8+E12+E20+E21+E26+E27+E31) -> 29750890 | F32: =SUM(E32/D32)*100 -> 77.139316
A33: B8 | B33: Finanszírozási bevételek
A34: B81 | B34: Belföldi finanszírozás bevételei
A35: B811 | B35: Hitel-, kölcsönfelvétel államháztartáson kívülről | C35: 34841 | D35: 34841 | E35: 34841 | F35: =SUM(E35/D35)*100 -> 100
A36: B8121 | B36: Forgatási célú belföldi értékpapírok beváltása, értékesítése | C36: 24600437 | D36: 26105437 | E36: 9690850 | F36: =SUM(E36/D36)*100 -> 37.12196
A37: B813 | B37: Maradvány igénybevétele | C37: 11143170 | D37: 11434445 | E37: 11434445 | F37: =SUM(E37/D37)*100 -> 100
A38: B814 | B38: Államháztartáson belüli megelőlegezések | D38: 32533 | E38: 204116 | F38: =SUM(E38/D38)*100 -> 627.41217
B39: Finanszírozási bevételek összesen | C39: =SUM(C35:C37) -> 35778448 | D39: =SUM(D35:D38) -> 37607256 | E39: =SUM(E35:E38) -> 21364252 | F39: =SUM(E39/D39)*100 -> 56.808856
B40: BEVÉTELEK ÖSSZESEN: | C40: =SUM(C32+C39) -> 63026777 | D40: =D32+D39 -> 76174995 | E40: =SUM(E32+E39) -> 51115142 | F40: =SUM(E40/D40)*100 -> 67.102258

Sheet 3
B1: Mutató | D1: 2021. évi eredeti ei. | F1: Mutató | H1: 2021. évi módosított ei. | J1: 2021. évi
A2: Hozzájárulás jogcíme | B2: lakosságszám | C2: mutató | D2: Normatíva Ft/fő | E2: Hozzájárulás ezer Ft-ban | F2: lakosságszám | G2: mutató | H2: Normatíva Ft/fő | I2: Hozzájárulás ezer Ft-ban | J2: Teljesítés összege | K2: Teljesítés %-a
A3: 2. melléklet szerinti jogcímek
A4: 1.1. Települési önkormányzatok működésének általános támogatása
A5: 1.1.1.1. önkormányzati hivatal működésének támogatása - elismert hivatali létszám alapján | C5: 130.56 | D5: 5475000 | E5: 714816 | G5: 130.56 | H5: 5492000 | I5: 717035 | J5: 717035 | K5: =SUM(J5/I5)*100 -> 100
A6: Település-üzemeltetéshez kapcsolódó feladataellátás támogatása
A7: 1.1.1.2. zöldterület-gazdálkodás támogatása (hektár) | C7: 2369.2 | D7: 25200 | E7: 59704 | G7: 2369.2 | H7: 25200 | I7: 59704 | J7: 59704 | K7: =SUM(J7/I7)*100 -> 100
A8: 1.1.1.3. közvilágítás támogatása (km) | C8: 402.8 | D8: 415000 | E8: 167162 | G8: 402.8 | H8: 415000 | I8: 167162 | J8: 167162 | K8: =SUM(J8/I8)*100 -> 100
A9: 1.1.1.4. köztemető támogatása (m²) | C9: 323446 | D9: 70 | E9: 22641 | G9: 323446 | H9: 70 | I9: 22641 | J9: 22641 | K9: =SUM(J9/I9)*100 -> 100
A10: 1.1.1.5. közutak támogatása (km) | C10: 219.19 | D10: 470000 | E10: 103022 | G10: 219.19 | H10: 480000 | I10: 105214 | J10: 105214 | K10: =SUM(J10/I10)*100 -> 100
A11: 1.1.1.6. egyéb önkormányzati feladatok támogatása | B11: 56959 | D11: 2700 | E11: 153789 | F11: 56959 | H11: 2700 | I11: 153789 | J11: 153789 | K11: =SUM(J11/I11)*100 -> 100
A12: 1.1.1.7. Lakott külterülettel kapcsolatos feladatok támogatása | B12: 4236 | D12: 2550 | E12: 10802 | F12: 4236 | H12: 2550 | I12: 10802 | J12: 10802 | K12: =SUM(J12/I12)*100 -> 100
A13: 1.1.2.Nem közművel összegyűjtött háztartási szennyvíz ártalmatlanítása (köbméter) | E13: 100 | I13: 100 | J13: 100 | K13: =SUM(J13/I13)*100 -> 100
A14: 1.2. Óvodaműködtetési támogatás
A15: 1.2.1.1. Óvodaműködtetési támogatás | C15: 1529.7 | D15: 97400 | E15: 148993 | G15: 1503.7 | H15: 97400 | I15: 146460 | J15: 146460 | K15: =SUM(J15/I15)*100 -> 100
A16: 1.2.2.1. Az óvodában foglalkoztatott pedagógusok átlagbéralapú támogatása | C16: 137.9 | D16: 4861500 | E16: 670401 | G16: 135 | H16: 4861500 | I16: 656303 | J16: 656303 | K16: =SUM(J16/I16)*100 -> 100
A17: 1.2.3. Kiegészítő támogatás az óvodapedagógusok minősítéséből adódó többletkiadásokhoz
A18: 1.2.3.1.1.1.1. Pedagógus II. kategóriába sorolt pedagógusok kiegészítő támogatása | C18: 39.3 | D18: 432000 | E18: 16977 | G18: 38.5 | H18: 432000 | I18: 16632 | J18: 16632 | K18: =SUM(J18/I18)*100 -> 100
A19: 1.2.3.1.1.1.2. Pedagógus II. kategóriába sorolt óvodapedagógusok kiegészítő támogatása, akik a minősítés 2021. jan-1-jei átsorolással szerezték meg | D19: 363642 | G19: 4.3 | H19: 396000 | I19: 1703 | J19: 1703 | K19: =SUM(J19/I19)*100 -> 100
A20: 1.2.3.1.1.1.2. Mesterpedagógus, kutatótanár kategóriába sorolt pedagógusok kiegészítő támogatása | C20: 2 | D20: 1611000 | E20: 3222 | G20: 2 | H20: 1611000 | I20: 3222 | J20: 3222 | K20: =SUM(J20/I20)*100 -> 100
A21: 1.2.5.1.1. Az óvodában foglalkoztatott pedagógusok nevelőmunkáját közvetlenük segítők átlagbéralapú támogatása | C21: 90 | D21: 2919000 | E21: 262710 | G21: 89.7 | H21: 3318000 | I21: 297625 | J21: 297625 | K21: =SUM(J21/I21)*100 -> 100
A22: 1.2.7 Diabétesz ellátási pótlék | G22: 1 | H22: 120000 | I22: 120 | J22: 120 | K22: =SUM(J22/I22)*100 -> 100
A23: 1.3.2.Szociális és gyermekjóléti alapszolgáltatás feladatai
A24: 1.3.2.1. Család és gyermekjóléti szolgálat | C24: 8.6 | D24: 4100000 | E24: 35260 | G24: 8.6 | H24: 4256200 | I24: 36603 | J24: 36603 | K24: =SUM(J24/I24)*100 -> 100
A25: 1.3.2.2. Család- és gyermekjóléti központ ( járáshoz tartozó összes településre) | C25: 23.1 | D25: 3650000 | E25: 84315 | G25: 23.1 | H25: 3828555 | I25: 88440 | J25: 88440 | K25: =SUM(J25/I25)*100 -> 100
A26: 1.3.2.3.2. Szociális étkeztetés - társulás által történő feladatellátás | C26: 325 | D26: 72996 | E26: 23724 | G26: 325 | H26: 74328 | I26: 24157 | J26: 24157 | K26: =SUM(J26/I26)*100 -> 100
A27: 1.3.2.4. Házi segítségnyújtás
A28: 1.3.2.4.1. Szociális segítés | C28: 2 | D28: 25000 | E28: 50 | G28: 2 | H28: 25000 | I28: 50 | J28: 50 | K28: =SUM(J28/I28)*100 -> 100
A29: 1.3.2.4.3. Személyi gondozás - társulás által történő feladatellátás | C29: 53 | D29: 471900 | E29: 25011 | G29: 53 | H29: 491550 | I29: 26052 | J29: 26052 | K29: =SUM(J29/I29)*100 -> 100
A30: 1.3.2.6. Időskorúak nappali intézményi ellátása társulás által történő feladatellátás | C30: 55 | D30: 325500 | E30: 17902 | G30: 60 | H30: 336285 | I30: 20177 | J30: 20177 | K30: =SUM(J30/I30)*100 -> 100
A31: 1.3.2.8.2. Demens személyek nappali intézményi ellátása - társulás által történő feladatellátás | C31: 4 | D31: 805200 | E31: 3221 | G31: 3 | H31: 821200 | I31: 2464 | J31: 2464 | K31: =SUM(J31/I31)*100 -> 100
A32: 1.3.2.9.2. Pszichiátriai betegek nappali intézményi ellátása - társulás által történő feladatellátás | C32: 19 | D32: 450000 | E32: 8550 | G32: 20 | H32: 458580 | I32: 9171 | J32: 9171 | K32: =SUM(J32/I32)*100 -> 100
A33: 1.3.2.10.2. Szenvedélybetegek nappali intézményi ellátása - társulás által történő feladatellátás | C33: 9 | D33: 450000 | E33: 4050 | G33: 8 | H33: 458580 | I33: 3668 | J33: 3668 | K33: =SUM(J33/I33)*100 -> 100
A34: 1.3.3. Bölcsőde, mini bölcsőde támogatása
A35: 1.3.3.1. Bölcsődei bértámogatás
A36: 1.3.3.1.1. Felsőfokú végzettségű kisgyermeknevelők, szaktanácsadók bértámogatása | C36: 25 | D36: 5100000 | E36: 127500 | G36: 23.6 | H36: 5100000 | I36: 120360 | J36: 120360 | K36: =SUM(J36/I36)*100 -> 100
A37: 1.3.3.1.2. Bölcsődei dajkák,középfokú végzettségű kisgyermeknevelők, szaktanácsadók bértámogatása | C37: 44.4 | D37: 4260000 | E37: 189144 | G37: 51.4 | H37: 4260000 | I37: 218964 | J37: 218964 | K37: =SUM(J37/I37)*100 -> 100
A38: 1.3.3.2. Bölcsődei üzemeltetési támogatás | E38: 86299 | I38: 47009 | J38: 47009 | K38: =SUM(J38/I38)*100 -> 100
A39: 1.3.4. A települési önk. által biztosított egyes szociális szakosított ellátások, valamint a gyermekek átmeneti gondozásával kapcsolatos feladatok támogatása
A40: 1.3.4.1 Bértámogatása | C40: 34.2 | D40: 4234040 | E40: 144804 | G40: 32.2 | H40: 4442000 | I40: 143032 | J40: 143032 | K40: =SUM(J40/I40)*100 -> 100
A41: 1.3.4.2. Intézmény üzemeltetési támogatás | E41: 22914 | I41: 22002 | J41: 22002 | K41: =SUM(J41/I41)*100 -> 100
A42: 1.4.1. Intézményi gyermekétkeztetés támogatása
A43: 1.4.1.1. Intézményi gyermekétkeztetés bértámogatás | C43: 110.1 | D43: 2376000 | E43: 261597 | G43: 83.9 | H43: 2430000 | I43: 203877 | J43: 203877 | K43: =SUM(J43/I43)*100 -> 100
A44: 1.4.1.2. Intézményi gyermekétkeztetés - üzemeltetési támogatás | E44: 327231 | I44: 354357 | J44: 354357 | K44: =SUM(J44/I44)*100 -> 100
A45: 1.4.2. Szünidei étkeztetés támogatása | C45: 1960 | D45: 285 | E45: 559 | G45: 1138 | H45: 285 | I45: 324 | J45: 324 | K45: =SUM(J45/I45)*100 -> 100
A46: 1.5. A települési önkormányzatok kulturális feladatainak támogatása
A47: 1.5.1. Megyei jogú városok közművelődési feladatainak támogatása | B47: 56959 | D47: 950 | E47: 54111 | F47: 56959 | H47: 961 | I47: 54738 | J47: 54738 | K47: =SUM(J47/I47)*100 -> 100
A48: 1.5.5. Megyei hatókörű városi könyvtár kistelepülési könyvtári célú kiegészítő támogatása | E48: 175476 | I48: 175476 | J48: 175476 | K48: =SUM(J48/I48)*100 -> 100
A49: 3. melléklet: Helyi önkormányzatok kiegészítő támogatásai
A50: 2. 2.22 Szociális ágazati összevont pótlék és egészségügyi kiegészítő pótlék | I50: 151865 | J50: 151865 | K50: =SUM(J50/I50)*100 -> 100
A51: 2.2.3. Óvodai és iskolai szociális segítő tevékenység támogatása | E51: 54460 | I51: 54460 | J51: 54460 | K51: =SUM(J51/I51)*100 -> 100
A52: 2.3.2.1. Megyei hatókörű városi múzeumok feladatainak támogatása ( Göcseji Múzeum) | E52: 110200 | I52: 110200 | J52: 110200 | K52: =SUM(J52/I52)*100 -> 100
A53: 2.3.2.2. Megyei hatáskörű városi könyvtárak feladatainak támogatása ( (Deák Ferenc Megyei és Városi Könyvtár) | E53: 135000 | I53: 135000 | J53: 135000 | K53: =SUM(J53/I53)*100 -> 100
A54: 2.3.2.4. Könyvtári célú érdekeltségnövelő támogatás | I54: 677 | J54: 677 | K54: =SUM(J54/I54)*100 -> 100
A55: 3.1. Vis maior támogatás | I55: 7901 | J55: 7901 | K55: =SUM(J55/I55)*100 -> 100
A56: Elszámolásból származó bevétel | I56: 40080 | J56: 40080 | K56: =SUM(J56/I56)*100 -> 100
A57: Önkormányzati feladatellátást szolgáló fejlesztése | I57: 10017 | J57: 10017 | K57: =SUM(J57/I57)*100 -> 100
A58: Önkormányzati étkeztetések fejlesztése | I58: 10000 | J58: 10000 | K58: =SUM(J58/I58)*100 -> 100
A59: Kormányzati támogatás (HIPA ellentételezés) | I59: 630000 | J59: 630000 | K59: =SUM(J59/I59)*100 -> 100
A60: Állami hozzájárulás összesen: | E60: =SUM(E5:E59) -> 4225717 | I60: =SUM(I5:I59) -> 5059633 | J60: =SUM(J5:J59) -> 5059633 | K60: =SUM(J60/I60)*100 -> 100

Sheet 4
A3: Rovat száma | B3: Megnevezés | C3: 2021. évi eredeti előirányzat | D3: 2021. évi módosított előirányzat | E3: 2021. évi teljesítés | F3: Teljesítés %-a
B4: Költségvetési kiadások
A5: K1 | B5: Személyi juttatások | C5: 4845616 | D5: 5135057 | E5: ='7'!H18 -> 4736743 | F5: =E5/D5*100 -> 92.243241
A6: K2 | B6: Munkaadókat terhelő járulékok és szociális hj. adó | C6: 845508 | D6: 872528 | E6: ='7'!I18 -> 777775 | F6: =E6/D6*100 -> 89.140406
A7: K3 | B7: Dologi kiadások | C7: 10577885 | D7: 11951698 | E7: ='7'!J18 -> 8064978 | F7: =E7/D7*100 -> 67.479767
A8: K4 | B8: Ellátottak pénzbeli juttatásai | C8: 99170 | D8: 98587 | E8: ='7'!K18 -> 73973 | F8: =E8/D8*100 -> 75.033219
A9: K5 | B9: Egyéb működési célú kiadások | C9: 3848053 | D9: 4467449 | E9: ='7'!L18 -> 3633018 | F9: =E9/D9*100 -> 81.32198
B10: Működési költségvetés összesen: | C10: =SUM(C5:C9) -> 20216232 | D10: =SUM(D5:D9) -> 22525319 | E10: =SUM(E5:E9) -> 17286487 | F10: =E10/D10*100 -> 76.742474
A11: K6 | B11: Beruházások | C11: 28753625 | D11: 34751029 | E11: ='7'!M18 -> 13255363 | F11: =E11/D11*100 -> 38.1438
A12: K7 | B12: Felújítások | C12: 3638023 | D12: 6594881 | E12: ='7'!N18 -> 2303448 | F12: =E12/D12*100 -> 34.927817
A13: K8 | B13: Egyéb felhalmozási célú kiadások | C13: 113334 | D13: 140670 | E13: ='7'!O18 -> 109968 | F13: =E13/D13*100 -> 78.174451
B14: Felhalmozási költségvetés összesen: | C14: =SUM(C11:C13) -> 32504982 | D14: =SUM(D11:D13) -> 41486580 | E14: =SUM(E11:E13) -> 15668779 | F14: =E14/D14*100 -> 37.768307
A15: K1-K8 | B15: Költségvetési kiadások összesen: | C15: =C10+C14 -> 52721214 | D15: =D10+D14 -> 64011899 | E15: =SUM(E14+E10) -> 32955266 | F15: =E15/D15*100 -> 51.483031
A16: K9 | B16: Finanszírozási kiadások | C16: 10305563 | D16: 12163096 | E16: ='7'!P18+'7'!Q18 -> 9333095 | F16: =E16/D16*100 -> 76.732889
B17: Önkormányzat kiadásai összesen | C17: =SUM(C15:C16) -> 63026777 | D17: =SUM(D15:D16) -> 76174995 | E17: =SUM(E15:E16) -> 42288361 | F17: =E17/D17*100 -> 55.514754

Sheet 5
A1: Cím szám | B1: Alcím szám | C1: Megnevezés | D1: Előirányzat | F1: Teljesítés | H1: Költségvetési bevételek | O1: Finanszírozási bevételek
D2: Eredeti | E2: Módosított | F2: Összege | G2: %-a | H2: Működési célú támogatások áht-n belülről | I2: Felhalmozási célú támogatások áht-n belülről | J2: Közhatalmi bevételek | K2: Működési bevételek | L2: Felhalmozási bevételek | M2: Működési célú átvett pénzeszközök | N2: Felhalmozási célú átvett pénzeszközök | O2: Hitel-, kölcsönfelvétel áht-n kívülről | P2: Maradvány igénybevétele | Q2: Egyéb finanszírozási bevétel
C3: Önkormányzat
B4: 12 | C4: Szociális és igazgatási feladatok | D4: 9906 | E4: 10149 | F4: =SUM(H4:Q4) -> 11749 | G4: =F4/E4*100 -> 115.7651 | H4: ='6'!I15 -> 0 | I4: ='6'!J15 -> 0 | J4: ='6'!K15 -> 880 | K4: ='6'!L15 -> 10626 | L4: ='6'!M15 -> 0 | M4: ='6'!N15 -> 243 | N4: ='6'!O15 -> 0 | O4: ='6'!P15 -> 0 | ... Q4: ='6'!R15 -> 0
B5: 13 | C5: Humánigazgatási feladatok | D5: 420563 | E5: 601613 | F5: =SUM(H5:Q5) -> 607557 | G5: =F5/E5*100 -> 100.98801 | H5: ='6'!I52 -> 495871 | I5: ='6'!J52 -> 12000 | J5: ='6'!K52 -> 0 | K5: ='6'!L52 -> 6204 | L5: ='6'!M52 -> 0 | M5: ='6'!N52 -> 73524 | N5: ='6'!O52 -> 3 | O5: ='6'!P52 -> 0 | ... Q5: ='6'!R52 -> 0
B6: 14 | C6: Főépítészi feladatok | D6: 11529 | E6: 22486 | F6: =SUM(H6:Q6) -> 9607 | G6: =F6/E6*100 -> 42.724362 | H6: ='6'!I57 -> 0 | I6: ='6'!J57 -> 0 | J6: ='6'!K57 -> 0 | K6: ='6'!L57 -> 3094 | L6: ='6'!M57 -> 0 | M6: ='6'!N57 -> 0 | N6: ='6'!O57 -> 0 | O6: ='6'!P57 -> 0 | ... Q6: ='6'!R57 -> 0
B7: 15 | C7: Városüzemelési felad. | D7: 401618 | E7: 424140 | F7: =SUM(H7:Q7) -> 446353 | G7: =F7/E7*100 -> 105.23719 | H7: ='6'!I89 -> 0 | I7: ='6'!J89 -> 15884 | J7: ='6'!K89 -> 1755 | K7: ='6'!L89 -> 401597 | L7: ='6'!M89 -> 0 | M7: ='6'!N89 -> 0 | N7: ='6'!O89 -> 3250 | O7: ='6'!P89 -> 0 | ... Q7: ='6'!R89 -> 0
B8: 16 | C8: Városépítészeti feladatok | D8: 36072284 | E8: 45622129 | F8: =SUM(H8:Q8) -> 30785088 | G8: =F8/E8*100 -> 67.478412 | H8: ='6'!I147 -> 1109615 | I8: ='6'!J147 -> 9351033 | J8: ='6'!K147 -> 0 | K8: ='6'!L147 -> 3072570 | L8: ='6'!M147 -> 8794 | M8: ='6'!N147 -> 4500 | N8: ='6'!O147 -> 131863 | O8: ='6'!P147 -> 34841 | ... Q8: ='6'!R147 -> 9690850
B9: 17 | C9: Vagyonkez. feladatok | D9: 790503 | E9: 1055146 | F9: =SUM(H9:Q9) -> 1839770 | G9: =F9/E9*100 -> 174.36165 | H9: ='6'!I183 -> 0 | I9: ='6'!J183 -> 0 | J9: ='6'!K183 -> 0 | K9: ='6'!L183 -> 560510 | L9: ='6'!M183 -> 1172375 | M9: ='6'!N183 -> 0 | N9: ='6'!O183 -> 8870 | O9: ='6'!P183 -> 0 | ... Q9: ='6'!R183 -> 0
B10: 18 | C10: Jogi és közig. feladatok | D10: 79966 | E10: 84876 | F10: =SUM(H10:Q10) -> 72682 | G10: =F10/E10*100 -> 85.633159 | H10: ='6'!I192 -> 0 | I10: ='6'!J192 -> 0 | J10: ='6'!K192 -> 2900 | K10: ='6'!L192 -> 69782 | L10: ='6'!M192 -> 0 | M10: ='6'!N192 -> 0 | N10: ='6'!O192 -> 0 | O10: ='6'!P192 -> 0 | ... Q10: ='6'!R192 -> 0
B11: 19 | C11: Pénzügyi lebonyolítás | D11: 22451153 | E11: 25014482 | F11: =SUM(H11:Q11) -> 14076248 | G11: =F11/E11*100 -> 56.272395 | H11: ='6'!I230 -> 4477641 | I11: ='6'!J230 -> 657918 | J11: ='6'!K230 -> 5465834 | K11: ='6'!L230 -> 151631 | L11: ='6'!M230 -> 0 | M11: ='6'!N230 -> 33550 | N11: ='6'!O230 -> 2930 | O11: ='6'!P230 -> 0 | ... Q11: ='6'!R230 -> 204116
B12: 20 | C12: Építéshatósági feladatok | F12: =SUM(H12:Q12) -> 56 | H12: ='6'!I233 -> 0 | I12: ='6'!J233 -> 0 | J12: ='6'!K233 -> 56 | K12: ='6'!L233 -> 0 | L12: ='6'!M233 -> 0 | M12: ='6'!N233 -> 0 | N12: ='6'!O233 -> 0 | O12: ='6'!P233 -> 0 | ... Q12: ='6'!R233 -> 0
B13: 22 | C13: Polgármesteri Kabinet | E13: 97761 | F13: =SUM(H13:Q13) -> 99799 | G13: =F13/E13*100 -> 102.08468 | H13: ='6'!I244 -> 2190 | I13: ='6'!J244 -> 0 | J13: ='6'!K244 -> 0 | K13: ='6'!L244 -> 975 | L13: ='6'!M244 -> 24 | M13: ='6'!N244 -> 13564 | N13: ='6'!O244 -> 83046 | O13: ='6'!P244 -> 0 | ... Q13: ='6'!R244 -> 0
C14: Önkormányzat összesen költségvetési szervek nélkül | D14: =SUM(D4:D13) -> 60237522 | E14: =SUM(E4:E13) -> 72932782 | F14: =SUM(F4:F13) -> 47948909 | G14: =F14/E14*100 -> 65.743974 | H14: =SUM(H4:H13) -> 6085317 | I14: =SUM(I4:I13) -> 10036835 | J14: =SUM(J4:J13) -> 5471425 | K14: =SUM(K4:K13) -> 4276989 | L14: =SUM(L4:L13) -> 1181193 | M14: =SUM(M4:M13) -> 125381 | N14: =SUM(N4:N13) -> 229962 | O14: =SUM(O4:O13) -> 34841 | ... Q14: =SUM(Q4:Q13) -> 9894966
A15: 2 | C15: Költségvetési szervek | D15: 2789255 | E15: 3242213 | F15: =SUM(H15:Q15) -> 3166233 | G15: =F15/E15*100 -> 97.656539 | H15: ='6'!I246 -> 1086063 | I15: ='6'!J246 -> 35978 | J15: ='6'!K246 -> 0 | K15: ='6'!L246 -> 1212434 | L15: ='6'!M246 -> 2152 | M15: ='6'!N246 -> 6911 | N15: ='6'!O246 -> 250 | P15: ='6'!Q246 -> 822445
C16: Önkormányzat összesen: | D16: =SUM(D14:D15) -> 63026777 | E16: =SUM(E14:E15) -> 76174995 | F16: =SUM(F14:F15) -> 51115142 | G16: =F16/E16*100 -> 67.102258 | H16: =SUM(H14:H15) -> 7171380 | I16: =SUM(I14:I15) -> 10072813 | J16: =SUM(J14:J15) -> 5471425 | K16: =SUM(K14:K15) -> 5489423 | L16: =SUM(L14:L15) -> 1183345 | M16: =SUM(M14:M15) -> 132292 | N16: =SUM(N14:N15) -> 230212 | O16: =SUM(O14:O15) -> 34841 | ... Q16: =SUM(Q14:Q15) -> 9894966

Sheet 6
A1: Cím szám | B1: Alcím szám | C1: Megnevezés | D1: Tervezési alapegység | E1: Előirányzat | G1: Teljesítés | I1: Költségvetési bevételek | P1: Finanszírozási bevételek
E2: Eredeti | F2: Módosított | G2: Összege | H2: %-a | I2: Működési célú támogatások áht-n belülről | J2: Felhalmozási célú támogatások áht-n belülről | K2: Közhatalmi bevételek | L2: Működési bevételek | M2: Felhalmozási bevételek | N2: Működési célú átvett pénzeszközök | O2: Felhalmozási célú átvett pénzeszközök | P2: Hitel-, kölcsönfelvétel áht-n kívülről | Q2: Maradvány igénybevétele | R2: Egyéb finanszírozási bevétel
A3: 1 | C3: Önkormányzat
A4: 1 | B4: 1 | C4: Szakosztályok
A5: 1 | B5: 12 | C5: Szociális és igazgatási feladatok
C6: 011130 Önkorm. és önkorm. hivatal. jogalk. és ált.ig.tev.
C7: - Egerszeg kártya értékesítés | D7: 221 902 | E7: 9906 | F7: 9906 | G7: =SUM(I7:R7) -> 6710 | H7: =G7/F7*100 -> 67.736725 | L7: 6710
C8: - igazgatási bírság | D8: 121602 | G8: =SUM(I8:R8) -> 880 | K8: 880
C9: - birtokvédelmi ügyek | D9: 121118 | G9: =SUM(I9:R9) -> 159 | L9: 159
C10: 109010 Szociális szolgáltatás igazgatása
C11: - "Lakhatásért" Közalapítvány támogatása | D11: 121517 | F11: 243 | G11: =SUM(I11:R11) -> 243 | H11: =G11/F11*100 -> 100 | N11: 243
C12: 107060 Egyéb szociális pénzbeli ellátások, támogatások
C13: - jogtalanul felvett segélyek visszafizetése | D13: 121126 | G13: =SUM(I13:R13) -> 50 | L13: 50
C14: - köztemetés megtérítése | D14: 121203 | G14: =SUM(I14:R14) -> 3707 | L14: 3707
C15: Szociális és igazgatási feladatok összesen: | E15: =SUM(E5:E14) -> 9906 | F15: =SUM(F5:F14) -> 10149 | G15: =SUM(G5:G14) -> 11749 | H15: =G15/F15*100 -> 115.7651 | I15: =SUM(I5:I14) -> 0 | J15: =SUM(J5:J14) -> 0 | K15: =SUM(K5:K14) -> 880 | L15: =SUM(L5:L14) -> 10626 | M15: =SUM(M5:M14) -> 0 | N15: =SUM(N5:N14) -> 243 | O15: =SUM(O5:O14) -> 0 | P15: =SUM(P5:P14) -> 0 | ... R15: =SUM(R5:R14) -> 0
A16: 1 | B16: 13 | C16: Humánigazgatási feladatok
C17: 072112 Háziorvosi ügyeleti ellátás
C18: - körzeti orvosi ügyelet fenntartásához községek hozzájárulása | D18: 131705 | E18: 41101 | F18: 41101 | G18: =SUM(I18:R18) -> 41190 | H18: =G18/F18*100 -> 100.21654 | I18: 41190
C19: 013350 Önk-i vagyonnal való gazdálkodáshoz kapcs.fa.
C20: - Zalaegerszegi Tourinform Iroda felújítása | D20: 134939 | E20: 19955 | F20: 19955 | G20: =SUM(I20:R20) -> 19955 | H20: =G20/F20*100 -> 100 | Q20: 19955
C21: - Mihály deák szobor Göcseji Múzeum előtt | D21: 132913 | F21: 7000 | G21: =SUM(I21:R21) -> 7000 | H21: =G21/F21*100 -> 100 | J21: 7000
C22: - Múzeumban orgona felújítás támogatása | D22: 134912 | G22: =SUM(I22:R22) -> 3000 | J22: 3000
C23: 084031 Civil szervezetek műk. támogatása
C24: - peremkerületek működéséhez nyújtott támogatások elszámolása | D24: 131404 | G24: =SUM(I24:R24) -> 483 | N24: 483
C25: 101211 Fogyatékossággal élők tartós bentlakásos ellátása
C26: - Református Egyház által fizetendő bérleti díj | D26: 131703 | E26: 6007 | F26: 6007 | G26: =SUM(I26:R26) -> 6204 | H26: =G26/F26*100 -> 103.27951 | L26: 6204
C27: - Idősek Otthona férőhely megváltás | D27: 121319 | F27: 2632 | G27: =SUM(I27:R27) -> 2632 | H27: =G27/F27*100 -> 100 | N27: 2632
C28: 018030 Támogatási célú finanszírozási műveletek
C29: - Hevesi Sándor Színház társműködtetői támogatás | D29: 131508 | E29: =288500+[1]táj.1!E27 -> 288500 | F29: 288500 | G29: =SUM(I29:R29) -> 288500 | H29: =G29/F29*100 -> 100 | I29: 288500
C30: - Griff Bábszínház társműködtetői támogatás | D30: 131509 | E30: =65000+[1]táj.1!E28 -> 65000 | F30: 65000 | G30: =SUM(I30:R30) -> 65000 | H30: =G30/F30*100 -> 100 | I30: 65000
C31: 074040 Fertőző megbetegedések megelőzése,járványügyi ellátás
C32: - járványügyi védekezésre | D32: 131716 | F32: 293 | G32: =SUM(I32:R32) -> 321 | H32: =G32/F32*100 -> 109.55631 | N32: 318 | O32: 3
C33: 094260 Hallgatói és oktatói ösztöndíjak, egyéb juttatások
C34: - MOL adomány | D34: 131845 | F34: 2000 | G34: =SUM(I34:R34) -> 2000 | H34: =G34/F34*100 -> 100 | N34: 2000
C35: 082030 Művészeti tevékenységek
C36: - Térzenei koncertek EMT-TE-B-A-21-0515 | D36: 131304 | F36: 7500 | G36: =SUM(I36:R36) -> 7500 | H36: =G36/F36*100 -> 100 | I36: 7500
C37: - Zalaegerszegi amatőr kórusok és gyeremekkórus találkozó támogatása EMT-TE-B-A-21-0516 | D37: 131867 | F37: 4000 | G37: =SUM(I37:R37) -> 4000 | H37: =G37/F37*100 -> 100 | I37: 4000
C38: - István a király-ünnepi megemlékezés EMT-TE-B-A-21-0523 | D38: 131868 | F38: 4000 | G38: =SUM(I38:R38) -> 4000 | H38: =G38/F38*100 -> 100 | I38: 4000
C39: - R&J szinergiái - Egy történet száz alakban EMT-TE-B-A-21-0517 | D39: 131328 | F39: 2000 | G39: =SUM(I39:R39) -> 2000 | H39: =G39/F39*100 -> 100 | I39: 2000
C40: 016040 Nemzetpolitikai tevékenység igazgatása és támogatása
C41: - Székelykapu felállítása | D41: 132917 | F41: 2000 | G41: =SUM(I41:R41) -> 2000 | H41: =G41/F41*100 -> 100 | J41: 2000
C42: 082091 Közművelődés - közösségi és társ. részvétel fejleszt.
C43: - kulturális intézményekben béremelés finanszírozása | D43: 131510 | F43: 83625 | G43: =SUM(I43:R43) -> 83625 | H43: =G43/F43*100 -> 100 | I43: 83625
C44: - koronavírus járvány által okozott, kulturális ágazatot érintő károk enyhítése | D44: 131511 | F44: 60000 | G44: =SUM(I44:R44) -> 60000 | H44: =G44/F44*100 -> 100 | N44: 60000
C45: - Zalaegerszegi Rendezvényszervező Kft. működési támogatás elszámolásából származó visszafizetés | D45: 131313 | F45: 6000 | G45: =SUM(I45:R45) -> 6029 | H45: =G45/F45*100 -> 100.48333 | N45: 6029
C46: 098010 Oktatás igazgatása
C47: - szakképzési ösztöndíj elszámolásából eredő visszafizetés | D47: 131112 | G47: =SUM(I47:R47) -> 53 | I47: 53
C48: 104031 Gyermekek bölcsődében, minibölcsődében történő ellátása
C49: - bölcsődei ellátás igénybevétele | D49: 131717 | G49: =SUM(I49:R49) -> 3 | I49: 3
C50: 081030 Sportlétes., edzőtáborok működtetése és fejlesztése
C51: - Sportcsarnok és környéke igénybevétel miatti kiadás elszámolása | D51: 131827 | G51: =SUM(I51:R51) -> 2062 | N51: 2062
C52: Humánigazgatási feladatok összesen: | E52: =SUM(E18:E51) -> 420563 | F52: =SUM(F18:F51) -> 601613 | G52: =SUM(G18:G51) -> 607557 | H52: =G52/F52*100 -> 100.98801 | I52: =SUM(I18:I51) -> 495871 | J52: =SUM(J18:J51) -> 12000 | K52: =SUM(K18:K51) -> 0 | L52: =SUM(L18:L51) -> 6204 | M52: =SUM(M18:M51) -> 0 | N52: =SUM(N18:N51) -> 73524 | O52: =SUM(O18:O51) -> 3 | P52: =SUM(P18:P51) -> 0 | ... R52: =SUM(R18:R51) -> 0
A53: 1 | B53: 14 | C53: Főépítészi feladatok
C54: 013350 Önk-i vagyonnal való gazdálkodáshoz kapcs.fa.
C55: - belterületbe vonással kapcsolatos bevétel | D55: 171967 | E55: 5080 | F55: 15973 | G55: =SUM(I55:R55) -> 3094 | H55: =G55/F55*100 -> 19.370187 | L55: 3094
C56: - helyi építészeti értékek védelme | E56: 6449 | F56: 6513 | G56: =SUM(I56:R56) -> 6513 | H56: =G56/F56*100 -> 100 | Q56: 6513
C57: Főépítészi feladatok összesen: | E57: =SUM(E55:E56) -> 11529 | F57: =SUM(F55:F56) -> 22486 | G57: =SUM(G55:G56) -> 9607 | H57: =G57/F57*100 -> 42.724362 | I57: =SUM(I55:I56) -> 0 | J57: =SUM(J55:J56) -> 0 | K57: =SUM(K55:K56) -> 0 | L57: =SUM(L55:L56) -> 3094 | M57: =SUM(M55:M56) -> 0 | N57: =SUM(N55:N56) -> 0 | O57: =SUM(O55:O56) -> 0 | P57: =SUM(P55:P56) -> 0 | ... R57: =SUM(R55:R56) -> 0
A58: 1 | B58: 15 | C58: Városüzemelési feladatok
C59: 081061 Szabadidős park, fürdő és strandszolgáltatás
C60: - Gébárti fürdő lét. üzemelt. (Termál és Tóstrand) | D60: 151906 | E60: 37391 | F60: 37391 | G60: =SUM(I60:R60) -> 37260 | H60: =G60/F60*100 -> 99.649648 | L60: 37260
C61: - Aquapark üzemeltetés | D61: 151 907 | E61: 175260 | F61: 175260 | G61: =SUM(I61:R61) -> 150772 | H61: =G61/F61*100 -> 86.027616 | L61: 150772
C62: - ZG3 kút üzemeltetése | D62: 151 915 | E62: 2667 | F62: 2667 | G62: =SUM(I62:R62) -> 2667 | H62: =G62/F62*100 -> 100 | L62: 2667
C63: - Gébárti kemping földhasználat, fedett fürdő földhasználat | D63: 151909 | F63: 2668 | G63: =SUM(I63:R63) -> 6870 | H63: =G63/F63*100 -> 257.49625 | L63: 6870
C64: 066010 Zöldterület kezelés
C65: - fa értékesítés bevétele | D65: 152 908 | E65: 3810 | F65: 3810 | G65: =SUM(I65:R65) -> 1002 | H65: =G65/F65*100 -> 26.299213 | L65: 1002
C66: - haszonbérleti szerződések, kishaszonbérlet | D66: 151506 | E66: 1905 | F66: 1905 | G66: =SUM(I66:R66) -> 3667 | H66: =G66/F66*100 -> 192.49344 | L66: 3667
C67: - önkormányzati tulajdonú erdők ápolása, fenntartása | D67: 151917 | F67: 1405 | G67: =SUM(I67:R67) -> 1639 | H67: =G67/F67*100 -> 116.6548 | L67: 1639
C68: - erdészeti szakirányítás | D68: 151905 | G68: =SUM(I68:R68) -> 233 | L68: 233
C69: - városüzemeletetési feladatokhoz kapcsolódó bevételek | G69: 271 | L69: 271
C70: 066020 Város-, községgazdálkodási egyéb szolgáltatás
C71: - egyéb város-és községgazdálkodás | D71: 151601 | G71: =SUM(I71:R71) -> 863 | L71: 863
C72: - Zalai Közszolgáltató Nonprofit Kft. bérleti díj eszközpark használata után | D72: 151701 | E72: 4318 | F72: 4318 | G72: =SUM(I72:R72) -> 4318 | H72: =G72/F72*100 -> 100 | L72: 4318
C73: - környezetvéd.alap feltöltése | D73: 151607 | E73: 23867 | F73: 23867 | G73: =SUM(I73:R73) -> 23867 | H73: =G73/F73*100 -> 100 | Q73: 23867
C74: - közművesítési hozzájárulás | D74: 151611 | F74: 12700 | G74: =SUM(I74:R74) -> 24638 | H74: =G74/F74*100 -> 194 | L74: 24638
C75: - Széna tér zártkerti fejlesztése | D75: 152946 | F75: 2499 | G75: =SUM(I75:R75) -> 2499 | H75: =G75/F75*100 -> 100 | J75: 2499
C76: - Cédrus u.felújításához lakossági befizetés | D76: 155443 | F76: 2000 | G76: =SUM(I76:R76) -> 2000 | H76: =G76/F76*100 -> 100 | O76: 2000
C77: - környezetvédelmi bírság | D77: 151607 | G77: =SUM(I77:R77) -> 1755 | K77: 1755
C78: - kéményseprői díj | D78: 151633 | G78: =SUM(I78:R78) -> 198 | L78: 198
C79: - közműnyilvántartásból származő bevétel | D79: 151634 | G79: =SUM(I79:R79) -> 18 | L79: 18
C80: 045170 Parkoló, garázs üzemeltetése, fenntartása
C81: - parkolási közszolgáltatási tevékenység ellátásával kapcsolatos bevétel | D81: 151 910 | E81: 152400 | F81: 152400 | G81: =SUM(I81:R81) -> 144567 | H81: =G81/F81*100 -> 94.860236 | L81: 144567
C82: 045120 Út, autópálya építése
C83: - Magánerős útépítések | D83: 152426 | F83: 1250 | G83: =SUM(I83:R83) -> 1250 | H83: =G83/F83*100 -> 100 | O83: 1250
C84: - helyi utak,hidak fenntartása | D84: 151401 | G84: =SUM(I84:R84) -> 5555 | L84: 5555
C85: - Szekeresvölgyi út aszfaltozásához pályázati támogatás | D85: 155470 | G85: =SUM(I85:R85) -> 13385 | J85: 13385
C86: 042180 Állat-egészségügy | D86: 151902 | G86: =SUM(I86:R86) -> 1547 | L86: 1547
C87: 064010 Közvilágítás
C88: - villamosenergia vásárlás elszámolás | D88: 151201 | G88: =SUM(I88:R88) -> 15512 | L88: 15512
C89: Városüzemelési feladatok összesen: | E89: =SUM(E59:E88) -> 401618 | F89: =SUM(F59:F88) -> 424140 | G89: =SUM(G59:G88) -> 446353 | H89: =G89/F89*100 -> 105.23719 | I89: =SUM(I59:I88) -> 0 | J89: =SUM(J59:J88) -> 15884 | K89: =SUM(K59:K88) -> 1755 | L89: =SUM(L59:L88) -> 401597 | M89: =SUM(M59:M88) -> 0 | N89: =SUM(N59:N88) -> 0 | O89: =SUM(O59:O88) -> 3250 | P89: =SUM(P59:P88) -> 0 | ... R89: =SUM(R59:R88) -> 0
A90: 1 | B90: 16. | C90: Városépítészeti feladatok
C91: 052020 Szennyvíz gyűjtése, tisztítása, elhelyezése
C92: - ZALAVÍZ Zrt. nem vÍziközmű után fizetendő bérleti díj | D92: 161909 | E92: 35742 | F92: 35742 | G92: =SUM(I92:R92) -> 52725 | H92: =G92/F92*100 -> 147.51553 | L92: 52725
C93: - szennyvíz vagyon használati díja és Áfa visszaig. | D93: 164106 | E93: 598323 | F93: 598323 | G93: =SUM(I93:R93) -> 428637 | H93: =G93/F93*100 -> 71.639733 | L93: 362817 | Q93: 65820
C94: - ivóvíz vagyon használati díja és Áfa visszaig.+ KIEFO | D94: 164204 | E94: 227588 | F94: 230607 | G94: =SUM(I94:R94) -> 223644 | H94: =G94/F94*100 -> 96.980577 | L94: 192850 | Q94: 30794
C95: - Zalaegerszeg keleti vízbázisról ellátott települések ívóvízminőségének javítása KEHOP projekt | D95: 164205 | E95: 419020 | F95: 478523 | G95: =SUM(I95:R95) -> 273539 | H95: =G95/F95*100 -> 57.163188 | L95: 106325 | Q95: 167214
C96: - Zalaegerszeg nyugati vízbázisról ellátott települések ívóvízminőségének javítása KEHOP projekt | D96: 164206 | E96: 195346 | F96: 3576 | G96: =SUM(I96:R96) -> 0 | H96: =G96/F96*100 -> 0
C97: 013350 Önk-i vagyonnal való gazdálkodáshoz kapcs. fa.
C98: - ELENA programhoz önerő és bérfedezet megtérülése | D98: 162695 | E98: 4800 | F98: 4800 | G98: =SUM(I98:R98) -> 0 | H98: =G98/F98*100 -> 0
C99: - EcoSmartCities Interreg HU-HR projekt | D99: 162607 | E99: 5058 | F99: 5058 | G99: =SUM(I99:R99) -> 5058 | H99: =G99/F99*100 -> 100 | Q99: 5058
C100: - Hotelfejlesztés engedélyes és kiviteli terveinek elkészítéséhez támogatás | D100: 162640 | E100: 137601 | F100: 137601 | G100: =SUM(I100:R100) -> 137601 | H100: =G100/F100*100 -> 100 | Q100: 137601
...

Sheet 7
A1: Cím szám | B1: Alcím szám | C1: Megnevezés | D1: Előirányzat | F1: Teljesítés | H1: Költségvetési kiadások | P1: Finanszírozási kiadások
D2: Eredeti | E2: Módosított | F2: Összege | G2: %-a | H2: Személyi juttatások | I2: Munkaadókat terhelő járulékok és szociális hj.adó | J2: Dologi kiadások | K2: Ellátottak pénzbeli juttatásai | L2: Egyéb működési célú kiadások | M2: Beruházások | N2: Felújítások | O2: Egyéb felhalmo-zási célú kiadások | P2: Hitel-, kölcsöntör-lesztés áht-n kívülre | Q2: Egyéb finanszírozási kiadás
A3: 1 | C3: Önkormányzat
A4: 1 | B4: 1 | C4: Szakosztályok
B5: 12 | C5: Szociális és igazgatási feladatok | D5: 153919 | E5: 151263 | F5: =SUM(H5:Q5) -> 92001 | G5: =F5/E5*100 -> 60.82188 | H5: ='8'!K46 -> 0 | I5: ='8'!L46 -> 3580 | J5: ='8'!M46 -> 14687 | K5: ='8'!N46 -> 66291 | L5: ='8'!O46 -> 3243 | M5: ='8'!P46 -> 0 | N5: ='8'!Q46 -> 0 | O5: ='8'!R46 -> 4200 | ... Q5: ='8'!T46 -> 0
B6: 13 | C6: Humánigazgatási feladatok | D6: 1125259 | E6: 1340379 | F6: =SUM(H6:Q6) -> 1221743 | G6: =F6/E6*100 -> 91.149071 | H6: ='8'!K224 -> 2375 | I6: ='8'!L224 -> 395 | J6: ='8'!M224 -> 26016 | K6: ='8'!N224 -> 4070 | L6: ='8'!O224 -> 974542 | M6: ='8'!P224 -> 53854 | N6: ='8'!Q224 -> 129015 | O6: ='8'!R224 -> 31476 | ... Q6: ='8'!T224 -> 0
B7: 14 | C7: Főépítészi feladatok | D7: 29420 | E7: 40280 | F7: =SUM(H7:Q7) -> 18925 | G7: =F7/E7*100 -> 46.983615 | H7: ='8'!K236 -> 0 | I7: ='8'!L236 -> 0 | J7: ='8'!M236 -> 14349 | K7: ='8'!N236 -> 0 | L7: ='8'!O236 -> 0 | M7: ='8'!P236 -> 4158 | N7: ='8'!Q236 -> 0 | O7: ='8'!R236 -> 418 | ... Q7: ='8'!T236 -> 0
B8: 15 | C8: Városüzemelési feladatok | D8: 2708366 | E8: 2978758 | F8: =SUM(H8:Q8) -> 2490948 | G8: =F8/E8*100 -> 83.623712 | H8: ='8'!K495 -> 9630 | I8: ='8'!L495 -> 1478 | J8: ='8'!M495 -> 1517695 | K8: ='8'!N495 -> 0 | L8: ='8'!O495 -> 660555 | M8: ='8'!P495 -> 113143 | N8: ='8'!Q495 -> 182247 | O8: ='8'!R495 -> 6200 | ... Q8: ='8'!T495 -> 0
B9: 16 | C9: Városépítészeti feladatok | D9: 36679202 | E9: 46302694 | F9: =SUM(H9:Q9) -> 18255869 | G9: =F9/E9*100 -> 39.427229 | H9: ='8'!K641 -> 1687 | I9: ='8'!L641 -> 177 | J9: ='8'!M641 -> 3712129 | K9: ='8'!N641 -> 0 | L9: ='8'!O641 -> 11197 | M9: ='8'!P641 -> 12547716 | N9: ='8'!Q641 -> 1967348 | O9: ='8'!R641 -> 15615 | ... Q9: ='8'!T641 -> 0
B10: 17 | C10: Vagyonkezelési feladatok | D10: 163568 | E10: 542864 | F10: =SUM(H10:Q10) -> 477659 | G10: =F10/E10*100 -> 87.988704 | H10: ='8'!K665 -> 0 | I10: ='8'!L665 -> 0 | J10: ='8'!M665 -> 59346 | K10: ='8'!N665 -> 0 | L10: ='8'!O665 -> 0 | M10: ='8'!P665 -> 21890 | N10: ='8'!Q665 -> 645 | O10: ='8'!R665 -> 45778 | ... Q10: ='8'!T665 -> 350000
B11: 18 | C11: Jogi és közig.feladatok | D11: 262660 | E11: 264501 | F11: =SUM(H11:Q11) -> 236350 | G11: =F11/E11*100 -> 89.35694 | H11: ='8'!K688 -> 148185 | I11: ='8'!L688 -> 18819 | J11: ='8'!M688 -> 59136 | K11: ='8'!N688 -> 0 | L11: ='8'!O688 -> 5800 | M11: ='8'!P688 -> 2959 | N11: ='8'!Q688 -> 1451 | O11: ='8'!R688 -> 0 | ... Q11: ='8'!T688 -> 0
B12: 19 | C12: Pénzügyi lebonyolítás | D12: 12014247 | E12: 13773429 | F12: =SUM(H12:Q12) -> 10840713 | G12: =F12/E12*100 -> 78.707437 | H12: ='8'!K721 -> 0 | I12: ='8'!L721 -> 0 | J12: ='8'!M721 -> 332077 | K12: ='8'!N721 -> 0 | L12: ='8'!O721 -> 1522516 | M12: ='8'!P721 -> 0 | N12: ='8'!Q721 -> 0 | O12: ='8'!R721 -> 3025 | ... Q12: ='8'!T721 -> 8871562
B13: 20 | C13: Építéshatósági feladatok
B14: 21 | C14: Polgármesteri Kabinet kiadásai | D14: 779026 | E14: 862321 | F14: =SUM(H14:Q14) -> 772449 | G14: =F14/E14*100 -> 89.577895 | H14: ='8'!K771 -> 15502 | I14: ='8'!L771 -> 3082 | J14: ='8'!M771 -> 78467 | K14: ='8'!N771 -> 0 | L14: ='8'!O771 -> 308533 | M14: ='8'!P771 -> 363220 | N14: ='8'!Q771 -> 689 | O14: ='8'!R771 -> 2956 | ... Q14: ='8'!T771 -> 0
B15: 30 | C15: Tartalékok | D15: 661648 | E15: 935877 | F15: =SUM(H15:Q15) -> 0 | G15: =F15/E15*100 -> 0 | H15: ='8'!K791 -> 0 | I15: ='8'!L791 -> 0 | J15: ='8'!M791 -> 0 | K15: ='8'!N791 -> 0 | L15: ='8'!O791 -> 0 | M15: ='8'!P791 -> 0 | N15: ='8'!Q791 -> 0 | O15: ='8'!R791 -> 0 | ... Q15: ='8'!T791 -> 0
C16: Önkormányzat összesen költségvetési szervek nélkül | D16: =SUM(D5:D15) -> 54577315 | E16: =SUM(E5:E15) -> 67192366 | F16: =SUM(F5:F15) -> 34406657 | G16: =F16/E16*100 -> 51.2062 | H16: =SUM(H3:H15) -> 177379 | I16: =SUM(I3:I15) -> 27531 | J16: =SUM(J5:J15) -> 5813902 | K16: =SUM(K5:K15) -> 70361 | L16: =SUM(L5:L15) -> 3486386 | M16: =SUM(M5:M15) -> 13106940 | N16: =SUM(N5:N15) -> 2281395 | O16: =SUM(O5:O15) -> 109668 | P16: =SUM(P5:P15) -> 111533 | Q16: =SUM(Q5:Q15) -> 9221562
A17: 2 | C17: Költségvetési szervek | D17: 8449462 | E17: 8982629 | F17: =SUM(H17:Q17) -> 7881704 | G17: =F17/E17*100 -> 87.743844 | H17: ='8'!K793 -> 4559364 | I17: ='8'!L793 -> 750244 | J17: ='8'!M793 -> 2251076 | K17: ='8'!N793 -> 3612 | L17: ='8'!O793 -> 146632 | M17: ='8'!P793 -> 148423 | N17: ='8'!Q793 -> 22053 | O17: ='8'!R793 -> 300 | ... Q17: ='8'!T793 -> 0
C18: Önkormányzat összesen: | D18: =SUM(D16:D17) -> 63026777 | E18: =SUM(E16:E17) -> 76174995 | F18: =SUM(F16:F17) -> 42288361 | G18: =F18/E18*100 -> 55.514754 | H18: =SUM(H16:H17) -> 4736743 | I18: =SUM(I16:I17) -> 777775 | J18: =SUM(J16:J17) -> 8064978 | K18: =SUM(K16:K17) -> 73973 | L18: =SUM(L16:L17) -> 3633018 | M18: =SUM(M16:M17) -> 13255363 | N18: =SUM(N16:N17) -> 2303448 | O18: =SUM(O16:O17) -> 109968 | ... Q18: =SUM(Q16:Q17) -> 9221562

Sheet 8
A1: Cím szám | B1: Alcím szám | C1: Sorszám | D1: Megnevezés | E1: feladat jellege | F1: Tervezési alapegység | G1: Előirányzat | I1: Teljesítés | K1: Költségvetési kiadások | S1: Finanszírozási kiadások
G2: Eredeti | H2: Módosított | I2: Összege | J2: %-a | K2: Személyi juttatások | L2: Munkaadókat terhelő járulékok és szociális hj.adó | M2: Dologi kiadások | N2: Ellátottak pénzbeli juttatásai | O2: Egyéb működési célú kiadások | P2: Beruházások | Q2: Felújítások | R2: Egyéb felhalmo-zási célú kiadások | S2: Hitel-, kölcsöntör-lesztés áht-n kívülre | T2: Egyéb finanszírozási kiadás
A3: 1 | D3: Önkormányzat
A4: 1 | B4: 1 | D4: Szakosztályok
A5: 1 | B5: 12 | D5: Szociális és igazgatási feladatok
D6: 105010 Munkanélküli aktív korúak ellátásai
D7: - megélhetési támogatás | E7: 2 | F7: 121103 | G7: 6000 | H7: 6000 | I7: =SUM(K7:T7) -> 4553 | J7: =I7/H7*100 -> 75.883333 | N7: 4553
D8: 106020 Lakásfenntartással, lakhatással összefüggő ellátások
D9: - lakásfenntartási segély | E9: 2 | F9: 121104 | G9: 20000 | H9: 18500 | I9: =SUM(K9:T9) -> 15344 | J9: =I9/H9*100 -> 82.940541 | N9: 15344
D10: - önkormányzati bérlakásban élők lakásfenntartási segélye Lakásalapból | E10: 2 | F10: 121117 | G10: 8000 | H10: 8000 | I10: =SUM(K10:T10) -> 6689 | J10: =I10/H10*100 -> 83.6125 | N10: 6689
D11: 107060 Egyéb szociális pénzbeli ellátások, támogatások
D12: - gyermekétkeztetési támogatás | E12: 2 | F12: 121111 | G12: 1600 | H12: 1600 | I12: =SUM(K12:T12) -> 749 | J12: =I12/H12*100 -> 46.8125 | N12: 749
D13: - átmeneti segély | E13: 2 | F13: 121127 | G13: 4000 | H13: 5000 | I13: =SUM(K13:T13) -> 3209 | J13: =I13/H13*100 -> 64.18 | N13: 3209
D14: - egyszeri nevelési támogatás | F14: 121115 | G14: 700 | H14: 3900 | I14: =SUM(K14:T14) -> 3865 | J14: =I14/H14*100 -> 99.102564 | N14: 3865
D15: - szociális krízis alap | E15: 2 | F15: 121129 | G15: 3000 | H15: 3000 | I15: =SUM(K15:T15) -> 1907 | J15: =I15/H15*100 -> 63.566667 | N15: 1907
D16: - tüzifa támogatás | E16: 2 | F16: 121106 | G16: 2000 | H16: 2000 | I16: =SUM(K16:T16) -> 1493 | J16: =I16/H16*100 -> 74.65 | N16: 1493
D17: 103010 Elhunyt személyek hátramaradottainak pénzbeli ellátása
D18: - temetési segély | E18: 2 | F18: 121131 | G18: 3000 | H18: 2000 | I18: =SUM(K18:T18) -> 1058 | J18: =I18/H18*100 -> 52.9 | N18: 1058
D19: 106020 Lakásfenntartással, lakhatással összefüggő ellátások
D20: - lakhatási krízis alap Lakásalapból | E20: 2 | F20: 121130 | G20: 2000 | H20: 2000 | I20: =SUM(K20:T20) -> 0 | J20: =I20/H20*100 -> 0
D21: 107060 Egyéb szociális pénzbeli ellátások, támogatások
D22: - gyógyszertámogatás | E22: 1 | F22: 121204 | G22: 14000 | H22: 11300 | I22: =SUM(K22:T22) -> 8929 | J22: =I22/H22*100 -> 79.017699 | N22: 8929
D23: - gyógyászati segédeszköz támogatás | E23: 1 | F23: 121132 | G23: 250 | H23: 250 | I23: =SUM(K23:T23) -> 114 | J23: =I23/H23*100 -> 45.6 | N23: 114
D24: - köztemetés | E24: 1 | F24: 121203 | G24: 6500 | H24: 7500 | I24: =SUM(K24:T24) -> 6437 | J24: =I24/H24*100 -> 85.826667 | M24: 1387 | N24: 5050
D25: 094260 Hallgatói és oktatói ösztöndíjak, egyéb juttatások
D26: - Bursa Hungarica ösztöndíj | E26: 2 | F26: 121504 | G26: 4400 | H26: 4400 | I26: =SUM(K26:T26) -> 3395 | J26: =I26/H26*100 -> 77.159091 | N26: 3395
D27: 061030 Lakáshoz jutást segítő támogatások
D28: - lakásgazdálkodási feladatokra | E28: 1 | F28: 121403 | G28: 50 | H28: 50 | I28: =SUM(K28:T28) -> 0 | J28: =I28/H28*100 -> 0
D29: 104042 Család- és gyermekjóléti szolgálat
D30: - Családsegítő Szolgálathoz krízissegélyezés | E30: 1 | F30: 121301 | G30: 2500 | I30: =SUM(K30:T30) -> 0
D31: 011130 Önkorm. és önkorm. hivatal. jogalk. és ált.ig.tev.
D32: - Egerszegkártya | E32: 2 | F32: 221902 | G32: 30000 | H32: 29601 | I32: =SUM(K32:T32) -> 12883 | J32: =I32/H32*100 -> 43.522178 | M32: 12883
D33: - Nemzedékek kézfogása | E33: 2 | F33: 22190** | G33: 20000 | H33: 20000 | I33: =SUM(K33:T33) -> 13784 | J33: =I33/H33*100 -> 68.92 | L33: 3580 | M33: 268 | N33: 9936
D34: - bírtokvédelmi költség megelőlegezés | E34: 1 | F34: 121118 | G34: 300 | H34: 300 | I34: =SUM(K34:T34) -> 79 | J34: =I34/H34*100 -> 26.333333 | M34: 79
D35: - talált tárgyak felértékeltetése | E35: 1 | F35: 121515 | G35: 200 | H35: 200 | I35: =SUM(K35:T35) -> 70 | J35: =I35/H35*100 -> 35 | M35: 70
D36: 032020 Tűz- és katasztrófavéd. tevékenység
D37: - helyi védelmi igazgatás | E37: 1 | F37: 121601 | G37: 500 | H37: 500 | I37: =SUM(K37:T37) -> 0 | J37: =I37/H37*100 -> 0
D38: 109010 Szociális szolgáltatás igazgatása
D39: - "Lakhatásért" Közalapítvány támogatása | E39: 2 | F39: 121517 | G39: 3000 | H39: 3243 | I39: =SUM(K39:T39) -> 3243 | J39: =I39/H39*100 -> 100 | O39: 3243
D40: Szociális és igazgatási fa.működési kiadás összesen: | G40: =SUM(G7:G39) -> 132000 | H40: =SUM(H7:H39) -> 129344 | I40: =SUM(I7:I39) -> 87801 | J40: =I40/H40*100 -> 67.881773 | K40: =SUM(K7:K39) -> 0 | L40: =SUM(L7:L39) -> 3580 | M40: =SUM(M7:M39) -> 14687 | N40: =SUM(N7:N39) -> 66291 | O40: =SUM(O7:O39) -> 3243 | P40: =SUM(P7:P39) -> 0 | Q40: =SUM(Q7:Q39) -> 0 | R40: =SUM(R7:R39) -> 0 | ... T40: =SUM(T7:T39) -> 0
D41: Beruházási és felújítási kiadások:
C42: 1./1 | D42: Önkormányzat által nyújtott lakástámogatás első lakáshoz jutók részére (Lakásalapból) | F42: 121401 | G42: 7200 | H42: 7200 | I42: =SUM(K42:T42) -> 3900 | J42: =I42/H42*100 -> 54.166667 | R42: 3900
D43: 2020. évről áthúzódó feladat
C44: 1.a/1 | D44: Családok otthonteremtési kedvezménye (Lakásalap) | F44: 121405 | G44: 900 | H44: 900 | I44: =SUM(K44:T44) -> 300 | J44: =I44/H44*100 -> 33.333333 | R44: 300
C45: 1.a/2 | D45: Kamatmentes kölcsön az ideiglenesen nehéz helyzetbe került zeg-i polgárok számára (Lakásalapból) | F45: 121402 | G45: 13819 | H45: 13819 | I45: =SUM(K45:T45) -> 0 | J45: =I45/H45*100 -> 0
D46: Szociális és igazgatási fa. kiadásai összesen: | G46: =SUM(G40:G45) -> 153919 | H46: =SUM(H40:H45) -> 151263 | I46: =SUM(I40:I45) -> 92001 | J46: =I46/H46*100 -> 60.82188 | K46: =SUM(K40:K45) -> 0 | L46: =SUM(L40:L45) -> 3580 | M46: =SUM(M40:M45) -> 14687 | N46: =SUM(N40:N45) -> 66291 | O46: =SUM(O40:O45) -> 3243 | P46: =SUM(P40:P45) -> 0 | Q46: =SUM(Q40:Q45) -> 0 | R46: =SUM(R40:R45) -> 4200 | ... T46: =SUM(T40:T45) -> 0
A47: 1 | B47: 13 | D47: Humánigazgatási feladatok
D48: Oktatási feladatok
D49: 098010 Oktatás igazgatása
D50: - Zalaegerszegi Szakképzési Centrum részére támogatás szakképzési ösztöndíj céljára | E50: 2 | F50: 131112 | G50: 12000 | H50: 12000 | I50: =SUM(K50:T50) -> 12000 | J50: =I50/H50*100 -> 100 | O50: 12000
D51: - intézmények és civil szervezetek támogatása, rendezvényeik finanszírozása | E51: 2 | F51: 131123 | G51: 3000 | H51: 3000 | I51: =SUM(K51:T51) -> 2306 | J51: =I51/H51*100 -> 76.866667 | O51: 2306
D52: - díszokleveles pedagógusok ünnepsége és jutalmazása | E52: 2 | F52: 131122 | G52: 2000 | H52: 2000 | I52: =SUM(K52:T52) -> 953 | J52: =I52/H52*100 -> 47.65 | K52: 823 | L52: 130
D53: - angol nyelvű óvodai csoport dolgozói részére angol nyelvi felkészítő támogatása | E53: 2 | F53: 131124 | G53: 650 | H53: 650 | I53: =SUM(K53:T53) -> 0 | J53: =I53/H53*100 -> 0
D54: - Zeg.Felsőfokú Oktatásáért Közalapítvány támogatása | E54: 2 | F54: 131107 | G54: 55000 | H54: 55000 | I54: =SUM(K54:T54) -> 55000 | J54: =I54/H54*100 -> 100 | O54: 55000
D55: - nyári táboroztatás | E55: 2 | F55: 131128 | G55: 8500 | I55: =SUM(K55:T55) -> 0
D56: - Pedagógus napi rendezvény szervezése | E56: 2 | F56: 131212 | H56: 172 | I56: =SUM(K56:T56) -> 166 | J56: =I56/H56*100 -> 96.511628 | K56: 141 | L56: 22 | M56: 3
D57: Kulturális és ifjúsági feladatok
D58: 084070 A fiatalok társ. integrációját segítő struktúra, szakmai szolgált. fejlesztése, működtetése
D59: - ifjúsági rendezvények | E59: 2 | F59: 131201 | G59: 1500 | H59: 333 | I59: =SUM(K59:T59) -> 333 | J59: =I59/H59*100 -> 100 | M59: 333
D60: - Zalaegerszegi Városi Diákönkormányzat | E60: 2 | F60: 131202 | G60: 750 | H60: 720 | I60: =SUM(K60:T60) -> 720 | J60: =I60/H60*100 -> 100 | K60: 369 | L60: 40 | M60: 311
D61: - Zalaegerszegi Városi Diáknapok | E61: 2 | F61: 131205 | G61: 1500 | I61: =SUM(K61:T61) -> 0
D62: - Zalaegerszegi Egyetemisták Egyesülete | E62: 2 | F62: 131206 | G62: 800 | H62: 800 | I62: =SUM(K62:T62) -> 800 | J62: =I62/H62*100 -> 100 | O62: 800
D63: - Zalaegerszegi Ifjúsági Kerekasztal | E63: 2 | F63: 131209 | G63: 700 | H63: 215 | I63: =SUM(K63:T63) -> 215 | J63: =I63/H63*100 -> 100 | K63: 97 | L63: 22 | M63: 96
D64: - UNICEF gyermekbarát település pályázat | E64: 2 | F64: 131211 | G64: 965 | H64: 965 | I64: =SUM(K64:T64) -> 0 | J64: =I64/H64*100 -> 0
D65: 094260 Hallgatói és oktatói ösztöndíjak, egyéb juttatások
D66: - felsőoktatási ösztöndíj és támogatás | E66: 2 | F66: 131101 | G66: 12000 | H66: 12000 | I66: =SUM(K66:T66) -> 10325 | J66: =I66/H66*100 -> 86.041667 | N66: 3825 | O66: 6500
D67: 074052 Kábítószer megelőzés programja
D68: - Zalaegerszegi Kábítószerügyi Egyeztető Fórum | E68: 2 | F68: 131120 | G68: 150 | H68: 1300 | I68: =SUM(K68:T68) -> 1150 | J68: =I68/H68*100 -> 88.461538 | M68: 1150
D69: 082091 Közművelődés - közösségi és társ. részvétel fejleszt.
D70: - Magyar Kultúra Napja | E70: 2 | F70: 131346 | G70: 1300 | H70: 935 | I70: =SUM(K70:T70) -> 672 | J70: =I70/H70*100 -> 71.871658 | K70: 208 | L70: 58 | M70: 406
D71: - Fazekas-keramikus találkozó | E71: 2 | F71: 131305 | G71: 1500 | H71: 870 | I71: =SUM(K71:T71) -> 870 | J71: =I71/H71*100 -> 100 | O71: 870
D72: - Egerszeg Búcsú | E72: 2 | F72: 131306 | G72: 700 | H72: 700 | I72: =SUM(K72:T72) -> 700 | J72: =I72/H72*100 -> 100 | O72: 700
D73: - Betlehem működtetése | E73: 2 | F73: 131325 | G73: 1382 | H73: 1560 | I73: =SUM(K73:T73) -> 861 | J73: =I73/H73*100 -> 55.192308 | M73: 861
D74: - Kvártélyház Kft. támogatása | E74: 2 | F74: 131321 | G74: 31000 | H74: 32000 | I74: =SUM(K74:T74) -> 32000 | J74: =I74/H74*100 -> 100 | O74: 32000
D75: - Zalaegerszegi Rendezvényszervező Kft. működési támogatása | E75: 2 | F75: 131313 | G75: 42500 | H75: 62500 | I75: =SUM(K75:T75) -> 62500 | J75: =I75/H75*100 -> 100 | O75: 62500
D76: - Keresztury Emlékbizottság | E76: 2 | F76: 131501 | G76: 250 | H76: 250 | I76: =SUM(K76:T76) -> 0 | J76: =I76/H76*100 -> 0
D77: - Gébárti Művésztelep | E77: 2 | F77: 131307 | G77: 600 | H77: 600 | I77: =SUM(K77:T77) -> 600 | J77: =I77/H77*100 -> 100 | O77: 600
D78: - táncház mozgalom | E78: 2 | F78: 131340 | G78: 400 | H78: 400 | I78: =SUM(K78:T78) -> 400 | J78: =I78/H78*100 -> 100 | O78: 400
D79: - Népi hang-színek kiadvány | E79: 2 | F79: 131343 | G79: 400 | H79: 400 | I79: =SUM(K79:T79) -> 400 | J79: =I79/H79*100 -> 100 | O79: 400
D80: - folk hétvége | E80: 2 | F80: 131351 | G80: 400 | I80: =SUM(K80:T80) -> 0
D81: - 11 éves sajtófotó kiállítás és album | E81: 2 | F81: 131310 | G81: 500 | H81: 500 | I81: =SUM(K81:T81) -> 0 | J81: =I81/H81*100 -> 0
D82: - Kamaratáncfesztivál | E82: 2 | F82: 131315 | G82: 500 | H82: 500 | I82: =SUM(K82:T82) -> 500 | J82: =I82/H82*100 -> 100 | O82: 500
D83: - Kórusfesztivál | E83: 2 | F83: 131314 | G83: 1500 | H83: 1500 | I83: =SUM(K83:T83) -> 0 | J83: =I83/H83*100 -> 0
D84: - Zalaegerszegi Szimfonikus Zenekar támogatása | E84: 2 | F84: 131348 | G84: 2500 | H84: 2500 | I84: =SUM(K84:T84) -> 2500 | J84: =I84/H84*100 -> 100 | O84: 2500
D85: - '47-es Honvéd Zászlóalj Hagyományőrző Egyesület támogatása | E85: 2 | F85: 131345 | G85: 200 | H85: 200 | I85: =SUM(K85:T85) -> 0 | J85: =I85/H85*100 -> 0
D86: - Zegasztár-Tehetségbarát Önkormányzat 2020. | E86: 2 | F86: 131326 | G86: 2900 | H86: 2900 | I86: =SUM(K86:T86) -> 2900 | J86: =I86/H86*100 -> 100 | O86: 2900
D87: 084031 Civil szervezetek műk. támogatása
D88: - Zalai Civil Életért Közhasznú Egy.támogatása (Civil ház működtetése) | E88: 2 | F88: 131401 | G88: 1800 | H88: 1800 | I88: =SUM(K88:T88) -> 1800 | J88: =I88/H88*100 -> 100 | O88: 1800
D89: - Pannon Tükör kulturális folyóirat támogatása | E89: 2 | F89: 131402 | G89: 5000 | H89: 5000 | I89: =SUM(K89:T89) -> 5000 | J89: =I89/H89*100 -> 100 | O89: 5000
D90: - önálló kulturális egyesületek, együttesek | E90: 2 | F90: 131403 | G90: 5250 | H90: 5000 | I90: =SUM(K90:T90) -> 5000 | J90: =I90/H90*100 -> 100 | O90: 5000
D91: - peremkerületek támogatása | E91: 2 | F91: 131404 | G91: 3500 | H91: 3275 | I91: =SUM(K91:T91) -> 3275 | J91: =I91/H91*100 -> 100 | O91: 3275
D92: - Zalai Táncegyüttes Egyesület támogatás | E92: 2 | F92: 131330 | G92: 2000 | H92: 2000 | I92: =SUM(K92:T92) -> 2000 | J92: =I92/H92*100 -> 100 | O92: 2000
D93: - Zalegerszeg Kultúrájáért Közalapítvány támogatása | E93: 2 | F93: 131507 | G93: 2000 | H93: 2000 | I93: =SUM(K93:T93) -> 2000 | J93: =I93/H93*100 -> 100 | O93: 2000
D94: - Zalaegerszegi Honvéd Klub támogatása | E94: 2 | F94: 171943 | G94: 400 | H94: 400 | I94: =SUM(K94:T94) -> 400 | J94: =I94/H94*100 -> 100 | O94: 400
D95: 082030 Művészeti tevékenység
D96: - művészeti ösztöndíjak | E96: 2 | F96: 131502 | G96: 600 | H96: 275 | I96: =SUM(K96:T96) -> 245 | J96: =I96/H96*100 -> 89.090909 | N96: 245
D97: - Térzenei koncertek EMT-TE-B-A-21-0515 | E97: 2 | F97: 131304 | H97: 7500 | I97: =SUM(K97:T97) -> 4750 | J97: =I97/H97*100 -> 63.333333 | M97: 4750
D98: - Zalaegerszegi amatőr kórusok és gyeremekkórus találkozó támogatása EMT-TE-B-A-21-0516 | E98: 2 | F98: 131867 | H98: 4000 | I98: =SUM(K98:T98) -> 0 | J98: =I98/H98*100 -> 0
D99: - István a király-ünnepi megemlékezés EMT-TE-B-A-21-0523 | E99: 2 | F99: 131868 | H99: 4000 | I99: =SUM(K99:T99) -> 1982 | J99: =I99/H99*100 -> 49.55 | M99: 1982
D100: - R&J szinergiái - Egy történet száz alakban EMT-TE-B-A-21-0517 | E100: 2 | F100: 131328 | H100: 2000 | I100: =SUM(K100:T100) -> 0 | J100: =I100/H100*100 -> 0
...

Sheet 9
A1: Címszám | B1: Címszám | C1: Megnevezés | D1: 2021. évi kiadások | G1: Teljesítés %-a
D2: Eredeti ei. | E2: Módosított ei. | F2: Teljesítés
B3: 1 | C3: ZMJV Önkormányzata összesen, ebből: | D3: =SUM(D4:D13) -> 54577315 | E3: =SUM(E4:E13) -> 67192366 | F3: =SUM(F4:F13) -> 34406657 | G3: =SUM(F3/E3)*100 -> 51.2062
C4: - Személyi juttatások | D4: 222430 | E4: 229498 | F4: ='8'!K792 -> 177379 | G4: =SUM(F4/E4)*100 -> 77.289998
C5: - Munkaadókat terhelő járulékok és szoc. hj. adó | D5: 47211 | E5: 45823 | F5: ='8'!L792 -> 27531 | G5: =SUM(F5/E5)*100 -> 60.081182
C6: - Dologi kiadások | D6: 7834473 | E6: 9196790 | F6: ='8'!M792 -> 5813902 | G6: =SUM(F6/E6)*100 -> 63.216644
C7: - Ellátottak pénzbeli juttatásai | D7: 98170 | E7: 94495 | F7: ='8'!N792 -> 70361 | G7: =SUM(F7/E7)*100 -> 74.460024
C8: - Egyéb működési célú kiadások | D8: 3778110 | E8: 4298257 | F8: ='8'!O792 -> 3486386 | G8: =SUM(F8/E8)*100 -> 81.111623
C9: - Beruházások | D9: 28562486 | E9: 34457409 | F9: ='8'!P792 -> 13106940 | G9: =SUM(F9/E9)*100 -> 38.038089
C10: - Felújítások | D10: 3615538 | E10: 6566628 | F10: ='8'!Q792 -> 2281395 | G10: =SUM(F10/E10)*100 -> 34.74226
C11: - Egyéb felhalmozási célú kiadások | D11: 113334 | E11: 140370 | F11: ='8'!R792 -> 109668 | G11: =SUM(F11/E11)*100 -> 78.127805
C12: - Hitel-, kölcsöntörlesztés áht-n kívülre | D12: 111534 | E12: 111534 | F12: ='8'!S792 -> 111533 | G12: =SUM(F12/E12)*100 -> 99.999103
C13: - Egyéb finanszírozási kiadás | D13: 10194029 | E13: 12051562 | F13: ='8'!T792 -> 9221562 | G13: =SUM(F13/E13)*100 -> 76.517567
A14: 2 | B14: 2 | C14: Polgármesteri Hivatal összesen, ebből: | D14: =SUM(D15:D21) -> 1814430 | E14: =SUM(E15:E21) -> 1847934 | F14: =SUM(F15:F21) -> 1657817 | G14: =SUM(F14/E14)*100 -> 89.711916
C15: - Személyi juttatások | D15: 1269691 | E15: 1267746 | F15: 1183122 | G15: =SUM(F15/E15)*100 -> 93.324846
C16: - Munkaadókat terhelő járulékok és szoc. hj. adó | D16: 224854 | E16: 208895 | F16: 193672 | G16: =SUM(F16/E16)*100 -> 92.712607
C17: - Dologi kiadások | D17: 226124 | E17: 225495 | F17: 202483 | G17: =SUM(F17/E17)*100 -> 89.794896
C18: - Ellátottak pénzbeli juttatásai
C19: - Egyéb működési célú kiadások | E19: 45720 | F19: 45719 | G19: =SUM(F19/E19)*100 -> 99.997813
C20: - Beruházások | D20: 82261 | E20: 94462 | F20: 27291 | G20: =SUM(F20/E20)*100 -> 28.890983
C21: - Felújítások | D21: 11500 | E21: 5616 | F21: 5530 | G21: =SUM(F21/E21)*100 -> 98.468661
B22: 3 | C22: Zalaegerszegi Gazdasági Ellátó Szervezet összesen, ebből: | D22: =SUM(D23:D29) -> 1058472 | E22: =SUM(E23:E29) -> 887804 | F22: =SUM(F23:F29) -> 782515 | G22: =SUM(F22/E22)*100 -> 88.140513
C23: - Személyi juttatások | D23: 135973 | E23: 142681 | F23: 131449 | G23: =SUM(F23/E23)*100 -> 92.127894
C24: - Munkaadókat terhelő járulékok és szoc. hj. adó | D24: 24240 | E24: 25283 | F24: 21716 | G24: =SUM(F24/E24)*100 -> 85.891706
C25: - Dologi kiadások | D25: 897659 | E25: 685104 | F25: 595264 | G25: =SUM(F25/E25)*100 -> 86.886662
C26: - Ellátottak pénzbeli juttatásai
C27: - Egyéb működési célú kiadások | D27: 100 | E27: 32301 | F27: 32201 | G27: =SUM(F27/E27)*100 -> 99.690412
C28: - Beruházások | D28: 500 | E28: 2435 | F28: 1885 | G28: =SUM(F28/E28)*100 -> 77.412731
C29: - Felújítások
B30: 4 | C30: Zalaegerszegi Egyesített Bölcsődék összesen, ebből: | D30: =SUM(D31:D37) -> 676340 | E30: =SUM(E31:E38) -> 721465 | F30: =SUM(F31:F38) -> 669909 | G30: =SUM(F30/E30)*100 -> 92.853985
C31: - Személyi juttatások | D31: 461402 | E31: 491989 | F31: 467386 | G31: =SUM(F31/E31)*100 -> 94.999278
C32: - Munkaadókat terhelő járulékok és szoc. hj. adó | D32: 79610 | E32: 83895 | F32: 79567 | G32: =SUM(F32/E32)*100 -> 94.841171
C33: - Dologi kiadások | D33: 133671 | E33: 130323 | F33: 108195 | G33: =SUM(F33/E33)*100 -> 83.020649
C34: - Ellátottak pénzbeli juttatásai
C35: - Egyéb működési célú kiadások | D35: 200 | E35: 3128 | F35: 3102 | G35: =SUM(F35/E35)*100 -> 99.168798
C36: - Beruházások | D36: 1457 | E36: 5872 | F36: 5401 | G36: =SUM(F36/E36)*100 -> 91.978883
C37: - Felújítások | E37: 5958 | F37: 5958 | G37: =SUM(F37/E37)*100 -> 100
C38: - Egyéb felhalmozási célú kiadások | E38: 300 | F38: 300 | G38: =SUM(F38/E38)*100 -> 100
B39: 5 | C39: Zalaegerszegi Egészségügyi Alapellátási Intézmény összesen, ebből: | D39: =SUM(D40:D46) -> 576794 | E39: =SUM(E40:E46) -> 718809 | F39: =SUM(F40:F46) -> 558701 | G39: =SUM(F39/E39)*100 -> 77.725933
C40: - Személyi juttatások | D40: 326087 | E40: 407613 | F40: 317503 | G40: =SUM(F40/E40)*100 -> 77.893247
C41: - Munkaadókat terhelő járulékok és szoc. hj. adó | D41: 60893 | E41: 73596 | F41: 52775 | G41: =SUM(F41/E41)*100 -> 71.70906
C42: - Dologi kiadások | D42: 185817 | E42: 226103 | F42: 186102 | G42: =SUM(F42/E42)*100 -> 82.308505
C43: - Ellátottak pénzbeli juttatásai
C44: - Egyéb működési célú kiadások
C45: - Beruházások | D45: 3997 | E45: 11497 | F45: 2321 | G45: =SUM(F45/E45)*100 -> 20.187875
C46: - Felújítások
B47: 6 | C47: Zalaegerszegi Család- és Gyermekjóléti Központ összesen, ebből: | D47: =SUM(D48:D54) -> 224231 | E47: =SUM(E48:E54) -> 305612 | F47: =SUM(F48:F54) -> 269209 | G47: =SUM(F47/E47)*100 -> 88.088491
C48: - Személyi juttatások | D48: 166663 | E48: 232046 | F48: 208737 | G48: =SUM(F48/E48)*100 -> 89.955009
C49: - Munkaadókat terhelő járulékok és szoc. hj. adó | D49: 30522 | E49: 40658 | F49: 36301 | G49: =SUM(F49/E49)*100 -> 89.283782
C50: - Dologi kiadások | D50: 24196 | E50: 23866 | F50: 16247 | G50: =SUM(F50/E50)*100 -> 68.075924
C51: - Ellátottak pénzbeli juttatásai | D51: 1000 | E51: 4092 | F51: 3612 | G51: =SUM(F51/E51)*100 -> 88.269795
C52: - Egyéb működési célú kiadások | D52: 200 | E52: 300 | F52: 173 | G52: =SUM(F52/E52)*100 -> 57.666667
C53: - Beruházások | D53: 1650 | E53: 4650 | F53: 4139 | G53: =SUM(F53/E53)*100 -> 89.010753
C54: - Felújítások
B55: 7 | C55: Zalaegerszegi Belvárosi I. számú Óvoda összesen, ebből: | D55: =SUM(D56:D62) -> 377246 | E55: =SUM(E56:E62) -> 392318 | F55: =SUM(F56:F62) -> 368353 | G55: =SUM(F55/E55)*100 -> 93.891435
C56: - Személyi juttatások | D56: 266262 | E56: 274444 | F56: 264778 | G56: =SUM(F56/E56)*100 -> 96.47797
C57: - Munkaadókat terhelő járulékok és szoc. hj. adó | D57: 46453 | E57: 47716 | F57: 44286 | G57: =SUM(F57/E57)*100 -> 92.811636
C58: - Dologi kiadások | D58: 62931 | E58: 62721 | F58: 53953 | G58: =SUM(F58/E58)*100 -> 86.020631
C59: - Ellátottak pénzbeli juttatásai
C60: - Egyéb működési célú kiadások | D60: 100 | E60: 2337 | F60: 2281 | G60: =SUM(F60/E60)*100 -> 97.603766
C61: - Beruházások | D61: 1500 | E61: 4540 | F61: 2495 | G61: =SUM(F61/E61)*100 -> 54.955947
C62: - Felújítások | E62: 560 | F62: 560 | G62: =SUM(F62/E62)*100 -> 100
B63: 8 | C63: Zalaegerszegi Belvárosi II. számú Óvoda összesen, ebből: | D63: =SUM(D64:D70) -> 327099 | E63: =SUM(E64:E70) -> 345466 | F63: =SUM(F64:F70) -> 311432 | G63: =SUM(F63/E63)*100 -> 90.148379
C64: - Személyi juttatások | D64: 205339 | E64: 212287 | F64: 204386 | G64: =SUM(F64/E64)*100 -> 96.278152
C65: - Munkaadókat terhelő járulékok és szoc. hj. adó | D65: 35807 | E65: 36879 | F65: 35058 | G65: =SUM(F65/E65)*100 -> 95.062231
C66: - Dologi kiadások | D66: 84353 | E66: 90273 | F66: 66117 | G66: =SUM(F66/E66)*100 -> 73.241168
C67: - Ellátottak pénzbeli juttatásai
C68: - Egyéb működési célú kiadások | D68: 100 | E68: 3387 | F68: 3287 | G68: =SUM(F68/E68)*100 -> 97.047535
C69: - Beruházások | D69: 1500 | E69: 2337 | F69: 2283 | G69: =SUM(F69/E69)*100 -> 97.689345
C70: - Felújítások | E70: 303 | F70: 301 | G70: =SUM(F70/E70)*100 -> 99.339934
B71: 9 | C71: Zalaegerszegi Kertvárosi Óvoda összesen, ebből: | D71: =SUM(D72:D78) -> 374926 | E71: =SUM(E72:E78) -> 397140 | F71: =SUM(F72:F78) -> 345607 | G71: =SUM(F71/E71)*100 -> 87.023971
C72: - Személyi juttatások | D72: 234579 | E72: 239970 | F72: 221040 | G72: =SUM(F72/E72)*100 -> 92.111514
C73: - Munkaadókat terhelő járulékok és szoc. hj. adó | D73: 41588 | E73: 42418 | F73: 37174 | G73: =SUM(F73/E73)*100 -> 87.637324
C74: - Dologi kiadások | D74: 97159 | E74: 102709 | F74: 77762 | G74: =SUM(F74/E74)*100 -> 75.710989
C75: - Ellátottak pénzbeli juttatásai
C76: - Egyéb működési célú kiadások | D76: 100 | E76: 4854 | F76: 4754 | G76: =SUM(F76/E76)*100 -> 97.939843
C77: - Beruházások | D77: 1500 | E77: 7189 | F77: 4877 | G77: =SUM(F77/E77)*100 -> 67.839755
C78: - Felújítások
B79: 10 | C79: Zalaegerszegi Landorhegyi Óvoda összesen, ebből: | D79: =SUM(D80:D86) -> 343570 | E79: =SUM(E80:E86) -> 356399 | F79: =SUM(F80:F86) -> 328265 | G79: =SUM(F79/E79)*100 -> 92.106038
C80: - Személyi juttatások | D80: 232618 | E80: 237777 | F80: 228501 | G80: 40241
C81: - Munkaadókat terhelő járulékok és szoc. hj. adó | D81: 40530 | E81: 41714 | F81: 40241 | G81: =SUM(F81/E81)*100 -> 96.468811
C82: - Dologi kiadások | D82: 68822 | E82: 69311 | F82: 53629 | G82: =SUM(F82/E82)*100 -> 77.374443
C83: - Ellátottak pénzbeli juttatásai
C84: - Egyéb működési célú kiadások | D84: 100 | E84: 2150 | F84: 2049 | G84: =SUM(F84/E84)*100 -> 95.302326
C85: - Beruházások | D85: 1500 | E85: 5447 | F85: 3845 | G85: =SUM(F85/E85)*100 -> 70.589315
C86: - Felújítások
B87: 11 | C87: Közgyűjteményi és Közművelődési GESZ összesen, ebből: | D87: =SUM(D88:D94) -> 53686 | E87: =SUM(E88:E94) -> 56381 | F87: =SUM(F88:F94) -> 54862 | G87: =SUM(F87/E87)*100 -> 97.30583
C88: - Személyi juttatások | D88: 43952 | E88: 46175 | F88: 45496 | G88: =SUM(F88/E88)*100 -> 98.529507
C89: - Munkaadókat terhelő járulékok és szoc. hj. adó | D89: 7021 | E89: 7491 | F89: 6909 | G89: =SUM(F89/E89)*100 -> 92.230677
C90: - Dologi kiadások | D90: 2663 | E90: 2665 | F90: 2412 | G90: =SUM(F90/E90)*100 -> 90.506567
C91: - Ellátottak pénzbeli juttatásai
C92: - Egyéb működési célú kiadások
C93: - Beruházások | D93: 50 | E93: 50 | F93: 45 | G93: =SUM(F93/E93)*100 -> 90
C94: - Felújítások
B95: 12 | C95: Keresztury Dezső VMK összesen, ebből: | D95: =SUM(D96:D102) -> 492898 | E95: =SUM(E96:E102) -> 526842 | F95: =SUM(F96:F102) -> 366637 | G95: =SUM(F95/E95)*100 -> 69.591452
C96: - Személyi juttatások | D96: 207029 | E96: 210949 | F96: 196074 | G96: =SUM(F96/E96)*100 -> 92.948533
C97: - Munkaadókat terhelő járulékok és szoc. hj. adó | D97: 31821 | E97: 32379 | F97: 29869 | G97: =SUM(F97/E97)*100 -> 92.248062
C98: - Dologi kiadások | D98: 238888 | E98: 263649 | F98: 124515 | G98: =SUM(F98/E98)*100 -> 47.227564
C99: - Ellátottak pénzbeli juttatásai
C100: - Egyéb működési célú kiadások
...

Sheet 10
A1: Címszám | B1: Költségvetési szerv megnevezése | C1: Előirányzat | E1: Teljesítés | G1: Költségvetési bevételek | N1: Finanszírozási bevételek
C2: Eredeti | D2: Módosított | E2: Összege | F2: %-a | G2: Működési célú támogatások áht-n belülről | H2: Felhalmozási célú támogatások áht-n belülről | I2: Közhatalmi bevételek | J2: Működési bevételek | K2: Felhalmozási bevételek | L2: Működési célú átvett pénzeszközök | M2: Felhalmozási célú átvett pénzeszközök | N2: Maradvány igénybevétele | O2: Központi, irányító szervi támogatás | P2: Egyéb finanszírozási bevétel
A3: 2 | B3: Polgármesteri Hivatal | C3: 1814430 | D3: 1847934 | E3: =SUM(G3:P3) -> 1892054 | F3: =E3/D3*100 -> 102.38753 | G3: 47451 | J3: 20257 | K3: 2 | N3: 241063 | O3: 1583281
A4: 3 | B4: Zalaegerszegi Gazdasági Ellátó Szervezet | C4: 1058472 | D4: 887804 | E4: =SUM(G4:P4) -> 907484 | F4: =E4/D4*100 -> 102.21671 | G4: 300 | H4: 775 | J4: 392130 | L4: 200 | N4: 35172 | O4: 478907
A5: 4 | B5: Zalaegerszegi Egyesített Bölcsődék | C5: 676340 | D5: 721465 | E5: =SUM(G5:P5) -> 725587 | F5: =E5/D5*100 -> 100.57134 | G5: 300 | H5: 7500 | J5: 71997 | N5: 29582 | O5: 616208
A6: 5 | B6: Zalaegerszegi Egészségügyi Alapellátási Intézmény | C6: 576794 | D6: 718809 | E6: =SUM(G6:P6) -> 671427 | F6: =E6/D6*100 -> 93.408263 | G6: 464588 | J6: 2622 | N6: 89601 | O6: 114616
A7: 6 | B7: Zalaegerszegi Család-és Gyermekjóléti Központ | C7: 224231 | D7: 305612 | E7: =SUM(G7:P7) -> 305614 | F7: =E7/D7*100 -> 100.00065 | J7: 1484 | N7: 32843 | O7: 271287
A8: 7 | B8: Zalaegerszegi Belvárosi I. számú Óvoda | C8: 377246 | D8: 392318 | E8: =SUM(G8:P8) -> 392573 | F8: =E8/D8*100 -> 100.065 | H8: 1700 | J8: 12981 | N8: 18283 | O8: 359609
A9: 8 | B9: Zalaegerszegi Belvárosi II. számú Óvoda | C9: 327099 | D9: 345466 | E9: =SUM(G9:P9) -> 346012 | F9: =E9/D9*100 -> 100.15805 | J9: 16624 | N9: 26808 | O9: 302580
A10: 9 | B10: Zalaegerszegi Kertvárosi Óvoda | C10: 374926 | D10: 397140 | E10: =SUM(G10:P10) -> 397886 | F10: =E10/D10*100 -> 100.18784 | H10: 1689 | J10: 18686 | N10: 38757 | O10: 338754
A11: 10 | B11: Zalaegerszegi Landorhegyi Óvoda | C11: 343570 | D11: 356399 | E11: =SUM(G11:P11) -> 357189 | F11: =E11/D11*100 -> 100.22166 | H11: 1947 | J11: 11637 | N11: 17226 | O11: 326379
A12: 11 | B12: Közgyűjteményi és Közművelődési GESZ | C12: 53686 | D12: 56381 | E12: =SUM(G12:P12) -> 56382 | F12: =E12/D12*100 -> 100.00177 | G12: 12763 | J12: 2 | N12: 575 | O12: 43042
A13: 12 | B13: Keresztury Dezső VMK | C13: 492898 | D13: 526842 | E13: =SUM(G13:P13) -> 504077 | F13: =E13/D13*100 -> 95.67897 | G13: 33238 | H13: 4790 | J13: 61337 | K13: 350 | L13: 3871 | N13: 141345 | O13: 259146
A14: 13 | B14: Zalaegerszegi Turisztikai Hivatal és Információs Iroda | C14: 20645 | D14: 26367 | E14: =SUM(G14:P14) -> 26587 | F14: =E14/D14*100 -> 100.83438 | G14: 3000 | J14: 1720 | N14: 1698 | O14: 20169
A15: 14 | B15: Deák Ferenc Megyei és Városi Könyvtár | C15: 456340 | D15: 487061 | E15: =SUM(G15:P15) -> 488985 | F15: =E15/D15*100 -> 100.39502 | G15: 26097 | H15: 841 | J15: 36809 | N15: 685 | O15: 424553
A16: 15 | B16: Göcseji Múzeum | C16: 517804 | D16: 630842 | E16: =SUM(G16:P16) -> 566239 | F16: =E16/D16*100 -> 89.759242 | G16: 34357 | H16: 3736 | J16: 220596 | K16: 1000 | L16: 2840 | M16: 250 | N16: 78508 | O16: 224952
A17: 16 | B17: Hevesi Sándor Színház | C17: 749650 | D17: 843642 | E17: =SUM(G17:P17) -> 830689 | F17: =E17/D17*100 -> 98.464633 | G17: 383405 | H17: 6000 | J17: 164558 | N17: 34908 | O17: 241818
A18: 17 | B18: Griff Bábszínház | C18: 144959 | D18: 167366 | E18: =SUM(G18:P18) -> 171996 | F18: =E18/D18*100 -> 102.76639 | G18: 75450 | H18: 7000 | J18: 28634 | N18: 13327 | O18: 47585
A19: 18 | B19: Városi Sportlétesítmény Gondnokság Intézménye | C19: 138125 | D19: 164896 | E19: =SUM(G19:P19) -> 165280 | F19: =E19/D19*100 -> 100.23287 | G19: 4484 | J19: 54638 | K19: 800 | N19: 17828 | O19: 87530
A20: 19 | B20: Vásárcsarnok | C20: 102247 | D20: 106285 | E20: =SUM(G20:P20) -> 100588 | F20: =E20/D20*100 -> 94.639883 | G20: 630 | J20: 95722 | N20: 4236 | O20: 0
B21: Költségvetési szervek mindösszesen: | C21: =SUM(C3:C20) -> 8449462 | D21: =SUM(D3:D20) -> 8982629 | E21: =SUM(E3:E20) -> 8906649 | F21: =E21/D21*100 -> 99.154145 | G21: =SUM(G3:G20) -> 1086063 | H21: =SUM(H3:H20) -> 35978 | I21: =SUM(I3:I20) -> 0 | J21: =SUM(J3:J20) -> 1212434 | K21: =SUM(K3:K20) -> 2152 | L21: =SUM(L3:L20) -> 6911 | M21: =SUM(M3:M20) -> 250 | N21: =SUM(N3:N20) -> 822445 | ... P21: =SUM(P3:P20) -> 0

Sheet 11
A1: Címszám | B1: Költségvetési szerv megnevezése | C1: Előirányzat | E1: Teljesítés | G1: Költségvetési kiadások | O1: Finanszírozási kiadások
C2: Eredeti | D2: Módosított | E2: összege | F2: %-a | G2: Személyi juttatások | H2: Munkaadókat terhelő járulékok és szociális hozzájárulási adó | I2: Dologi kiadások | J2: Ellátottak pénzbeli juttatásai | K2: Egyéb működési célú kiadások | L2: Beruházások | M2: Felújítások | N2: Egyéb felhalmozási célú kiadások
A3: 2 | B3: Polgármesteri Hivatal | C3: 1814430 | D3: 1847934 | E3: =SUM(G3:O3) -> 1657817 | F3: =E3/D3*100 -> 89.711916 | G3: 1183122 | H3: 193672 | I3: 202483 | K3: 45719 | L3: 27291 | M3: 5530
A4: 3 | B4: Zalaegerszegi Gazdasági Ellátó Szervezet | C4: 1058472 | D4: 887804 | E4: =SUM(G4:O4) -> 782515 | F4: =E4/D4*100 -> 88.140513 | G4: 131449 | H4: 21716 | I4: 595264 | K4: 32201 | L4: 1885
A5: 4 | B5: Zalaegerszegi Egyesített Bölcsődék | C5: 676340 | D5: 721465 | E5: =SUM(G5:O5) -> 669909 | F5: =E5/D5*100 -> 92.853985 | G5: 467386 | H5: 79567 | I5: 108195 | K5: 3102 | L5: 5401 | M5: 5958 | N5: 300
A6: 5 | B6: Zalaegerszegi Egészségügyi Alapellátási Intézmény | C6: 576794 | D6: 718809 | E6: =SUM(G6:O6) -> 558701 | F6: =E6/D6*100 -> 77.725933 | G6: 317503 | H6: 52775 | I6: 186102 | L6: 2321
A7: 6 | B7: Zalaegerszegi Család- és Gyermekjóléti Központ | C7: 224231 | D7: 305612 | E7: =SUM(G7:O7) -> 269209 | F7: =E7/D7*100 -> 88.088491 | G7: 208737 | H7: 36301 | I7: 16247 | J7: 3612 | K7: 173 | L7: 4139
A8: 7 | B8: Zalaegerszegi Belvárosi I. számú Óvoda | C8: 377246 | D8: 392318 | E8: =SUM(G8:O8) -> 368353 | F8: =E8/D8*100 -> 93.891435 | G8: 264778 | H8: 44286 | I8: 53953 | K8: 2281 | L8: 2495 | M8: 560
A9: 8 | B9: Zalaegerszegi Belvárosi II. számú Óvoda | C9: 327099 | D9: 345466 | E9: =SUM(G9:O9) -> 311432 | F9: =E9/D9*100 -> 90.148379 | G9: 204386 | H9: 35058 | I9: 66117 | K9: 3287 | L9: 2283 | M9: 301
A10: 9 | B10: Zalaegerszegi Kertvárosi Óvoda | C10: 374926 | D10: 397140 | E10: =SUM(G10:O10) -> 345607 | F10: =E10/D10*100 -> 87.023971 | G10: 221040 | H10: 37174 | I10: 77762 | K10: 4754 | L10: 4877
A11: 10 | B11: Zalaegerszegi Landorhegyi Óvoda | C11: 343570 | D11: 356399 | E11: =SUM(G11:O11) -> 328265 | F11: =E11/D11*100 -> 92.106038 | G11: 228501 | H11: 40241 | I11: 53629 | K11: 2049 | L11: 3845
A12: 11 | B12: Közgyűjteményi és Közművelődési GESZ | C12: 53686 | D12: 56381 | E12: =SUM(G12:O12) -> 54862 | F12: =E12/D12*100 -> 97.30583 | G12: 45496 | H12: 6909 | I12: 2412 | L12: 45
A13: 12 | B13: Keresztury Dezső VMK | C13: 492898 | D13: 526842 | E13: =SUM(G13:O13) -> 366637 | F13: =E13/D13*100 -> 69.591452 | G13: 196074 | H13: 29869 | I13: 124515 | L13: 11539 | M13: 4640
A14: 13 | B14: Zalaegerszegi Turisztikai Hivatal és Információs Iroda | C14: 20645 | D14: 26367 | E14: =SUM(G14:O14) -> 24433 | F14: =E14/D14*100 -> 92.665074 | G14: 15751 | H14: 2344 | I14: 6050 | L14: 288
A15: 14 | B15: Deák Ferenc Megyei és Városi Könyvtár | C15: 456340 | D15: 487061 | E15: =SUM(G15:O15) -> 468774 | F15: =E15/D15*100 -> 96.245439 | G15: 202351 | H15: 29843 | I15: 163038 | K15: 27000 | L15: 46542
A16: 15 | B16: Göcseji Múzeum | C16: 517804 | D16: 630842 | E16: =SUM(G16:O16) -> 528068 | F16: =E16/D16*100 -> 83.70844 | G16: 205056 | H16: 36653 | I16: 234813 | K16: 25921 | L16: 20561 | M16: 5064
A17: 16 | B17: Hevesi Sándor Színház | C17: 749650 | D17: 843642 | E17: =SUM(G17:O17) -> 784352 | F17: =E17/D17*100 -> 92.972137 | G17: 488356 | H17: 76109 | I17: 207466 | L17: 12421
A18: 17 | B18: Griff Bábszínház | C18: 144959 | D18: 167366 | E18: =SUM(G18:O18) -> 124913 | F18: =E18/D18*100 -> 74.634633 | G18: 70251 | H18: 10044 | I18: 44240 | K18: 145 | L18: 233
A19: 18 | B19: Városi Sportlétesítmények Gondnoksága | C19: 138125 | D19: 164896 | E19: =SUM(G19:O19) -> 143765 | F19: =E19/D19*100 -> 87.185256 | G19: 67190 | H19: 11210 | I19: 63985 | L19: 1380
A20: 19 | B20: Vásárcsarnok | C20: 102247 | D20: 106285 | E20: =SUM(G20:O20) -> 94092 | F20: =E20/D20*100 -> 88.528014 | G20: 41937 | H20: 6473 | I20: 44805 | L20: 877
B21: Költségvetési szervek mindösszesen: | C21: =SUM(C3:C20) -> 8449462 | D21: =SUM(D3:D20) -> 8982629 | E21: =SUM(E3:E20) -> 7881704 | F21: =E21/D21*100 -> 87.743844 | G21: =SUM(G3:G20) -> 4559364 | H21: =SUM(H3:H20) -> 750244 | I21: =SUM(I3:I20) -> 2251076 | J21: =SUM(J3:J20) -> 3612 | K21: =SUM(K3:K20) -> 146632 | L21: =SUM(L3:L20) -> 148423 | M21: =SUM(M3:M20) -> 22053 | N21: =SUM(N3:N20) -> 300 | O21: =SUM(O3:O20) -> 0

Sheet 12
A1: Megnevezés | C1: Polgármesteri Hivatal | D1: Zalaegerszegi Gazdasági Ellátó Szervezet | E1: Zalaegerszegi Egyesített Bölcsődék | F1: Zalaegerszegi Egészségügyi Alapellátás | G1: Zalaegerszegi Család- és Gyermekjóléti Központ | H1: Zalaegerszegi Belvárosi I. sz. Óvoda | I1: Zalaegerszegi Belvárosi II.sz.Óvoda | J1: Zalaegerszegi Kertvárosi Óvoda | K1: Zalaegerszegi Landorhegyi Óvoda | L1: Közgyűjteményi és Közművelődési GESZ | M1: Keresztury Dezső Városi Művelődési Központ | N1: Tourinform Iroda | O1: Deák Ferenc Megyei és Városi Könyvtár | P1: Göcseji Múzeum | Q1: Hevesi Sándor Színház | R1: Griff Bábszínház | S1: Városi Sportlétesítmények Gondnoksága | T1: Vásárcsarnok | U1: Költségvetési szervek összesen: | V1: ZMJV Önkormányzata | W1: Önkormányzat összesen:
A2: 01 | B2: Alaptevékenység költségvetési bevételei | C2: =SUM('10'!G3:M3) -> 67710 | D2: =SUM('10'!G4:M4) -> 393405 | E2: =SUM('10'!G5:M5) -> 79797 | F2: =SUM('10'!G6:M6) -> 467210 | G2: =SUM('10'!G7:M7) -> 1484 | H2: =SUM('10'!G8:M8) -> 14681 | I2: =SUM('10'!G9:M9) -> 16624 | J2: =SUM('10'!G10:M10) -> 20375 | K2: =SUM('10'!G11:M11) -> 13584 | L2: =SUM('10'!G12:M12) -> 12765 | M2: =SUM('10'!G13:M13) -> 103586 | N2: =SUM('10'!G14:M14) -> 4720 | O2: =SUM('10'!G15:M15) -> 63747 | P2: =SUM('10'!G16:M16) -> 262779 | Q2: =SUM('10'!G17:M17) -> 553963 | R2: =SUM('10'!G18:M18) -> 111084 | S2: =SUM('10'!G19:M19) -> 59922 | T2: =SUM('10'!G20:M20) -> 96352 | U2: =SUM(C2:T2) -> 2343788 | V2: =SUM('5'!H14:N14) -> 27407102 | W2: =SUM(U2:V2) -> 29750890
A3: 02 | B3: Alaptevékenység költségvetési kiadásai | C3: =SUM('11'!E3) -> 1657817 | D3: =SUM('11'!E4) -> 782515 | E3: =SUM('11'!E5) -> 669909 | F3: =SUM('11'!E6) -> 558701 | G3: =SUM('11'!E7) -> 269209 | H3: =SUM('11'!E8) -> 368353 | I3: =SUM('11'!E9) -> 311432 | J3: =SUM('11'!E10) -> 345607 | K3: =SUM('11'!E11) -> 328265 | L3: =SUM('11'!E12) -> 54862 | M3: =SUM('11'!E13) -> 366637 | N3: =SUM('11'!E14) -> 24433 | O3: =SUM('11'!E15) -> 468774 | P3: =SUM('11'!E16) -> 528068 | Q3: =SUM('11'!E17) -> 784352 | R3: =SUM('11'!E18) -> 124913 | S3: =SUM('11'!E19) -> 143765 | T3: =SUM('11'!E20) -> 94092 | U3: =SUM(C3:T3) -> 7881704 | V3: =SUM('7'!H16:O16) -> 25073562 | W3: =SUM(U3:V3) -> 32955266
A4: I. | B4: Alaptevékenység költségvetési egyenlege(=01-02) | C4: =C2-C3 -> -1590107 | D4: =D2-D3 -> -389110 | E4: =E2-E3 -> -590112 | F4: =F2-F3 -> -91491 | G4: =G2-G3 -> -267725 | H4: =H2-H3 -> -353672 | I4: =I2-I3 -> -294808 | J4: =J2-J3 -> -325232 | ... T4: =T2-T3 -> 2260 | U4: =SUM(C4:T4) -> -5537916 | V4: =V2-V3 -> 2333540 | W4: =SUM(U4:V4) -> -3204376
A5: 03 | B5: Alaptevékenység finanszírozási bevételei | C5: =SUM('10'!N3:P3) -> 1824344 | D5: =SUM('10'!N4:P4) -> 514079 | E5: =SUM('10'!N5:P5) -> 645790 | F5: =SUM('10'!N6:P6) -> 204217 | G5: =SUM('10'!N7:P7) -> 304130 | H5: =SUM('10'!N8:P8) -> 377892 | I5: =SUM('10'!N9:P9) -> 329388 | J5: =SUM('10'!N10:P10) -> 377511 | K5: =SUM('10'!N11:P11) -> 343605 | L5: =SUM('10'!N12:P12) -> 43617 | M5: =SUM('10'!N13:P13) -> 400491 | N5: =SUM('10'!N14:P14) -> 21867 | O5: =SUM('10'!N15:P15) -> 425238 | P5: =SUM('10'!N16:P16) -> 303460 | Q5: =SUM('10'!N17:P17) -> 276726 | R5: =SUM('10'!N18:P18) -> 60912 | S5: =SUM('10'!N19:P19) -> 105358 | T5: =SUM('10'!N20:P20) -> 4236 | U5: =SUM(C5:T5) -> 6562861 | V5: =SUM('5'!O14:Q14) -> 20541807 | W5: =SUM(U5:V5) -> 27104668
A6: 04 | B6: Alaptevékenység finanszírozási kiadásai | U6: =SUM(C6:T6) -> 0 | V6: 15073511 | W6: =SUM(U6:V6) -> 15073511
A7: II. | B7: Alaptevékenység finanszírozási egyenlege (=03-04) | C7: =C5-C6 -> 1824344 | D7: =D5-D6 -> 514079 | E7: =E5-E6 -> 645790 | F7: =F5-F6 -> 204217 | G7: =G5-G6 -> 304130 | H7: =H5-H6 -> 377892 | I7: =I5-I6 -> 329388 | J7: =J5-J6 -> 377511 | ... T7: =T5-T6 -> 4236 | U7: =SUM(C7:T7) -> 6562861 | V7: =V5-V6 -> 5468296 | W7: =SUM(U7:V7) -> 12031157
A8: A) | B8: Alaptevékenyság maradványa (= ±I.±II.) | C8: =SUM(C4+C7) -> 234237 | D8: =SUM(D4+D7) -> 124969 | E8: =SUM(E4+E7) -> 55678 | F8: =SUM(F4+F7) -> 112726 | G8: =SUM(G4+G7) -> 36405 | H8: =SUM(H4+H7) -> 24220 | I8: =SUM(I4+I7) -> 34580 | J8: =SUM(J4+J7) -> 52279 | ... T8: =SUM(T4+T7) -> 6496 | U8: =SUM(C8:T8) -> 1024945 | V8: =SUM(V4+V7) -> 7801836 | W8: =SUM(U8:V8) -> 8826781
A9: 05 | B9: Vállalkozási tevékenység költségvetési bevételei | U9: =SUM(C9:T9) -> 0 | W9: =SUM(U9:V9) -> 0
A10: 06 | B10: Vállalkozási tevékenység költségvetési kiadásai | U10: =SUM(C10:T10) -> 0 | W10: =SUM(U10:V10) -> 0
A11: III. | B11: Vállakozási tevékenység költségvetési egyenlege (=05-06) | C11: =C9-C10 -> 0 | D11: =D9-D10 -> 0 | E11: =E9-E10 -> 0 | F11: =F9-F10 -> 0 | G11: =G9-G10 -> 0 | H11: =H9-H10 -> 0 | I11: =I9-I10 -> 0 | J11: =J9-J10 -> 0 | ... T11: =T9-T10 -> 0 | U11: =SUM(C11:T11) -> 0 | V11: =V9-V10 -> 0 | W11: =SUM(U11:V11) -> 0
A12: 07 | B12: Vállakozási tevékenység finanszírozási bevételei | U12: =SUM(C12:T12) -> 0 | W12: =SUM(U12:V12) -> 0
A13: 08 | B13: Vállakozási tevékenység finanszírozási kiadásai | U13: =SUM(C13:T13) -> 0 | W13: =SUM(U13:V13) -> 0
A14: IV. | B14: Vállakozási tevékenység finanszírozási egyenlege (=07-08) | C14: =C12-C13 -> 0 | D14: =D12-D13 -> 0 | E14: =E12-E13 -> 0 | F14: =F12-F13 -> 0 | G14: =G12-G13 -> 0 | H14: =H12-H13 -> 0 | I14: =I12-I13 -> 0 | J14: =J12-J13 -> 0 | ... T14: =T12-T13 -> 0 | U14: =SUM(C14:T14) -> 0 | V14: =V12-V13 -> 0 | W14: =SUM(U14:V14) -> 0
A15: B) | B15: Vállalkozási tevékenység maradványa (=±III.±IV.) | C15: =SUM(C11+C14) -> 0 | D15: =SUM(D11+D14) -> 0 | E15: =SUM(E11+E14) -> 0 | F15: =SUM(F11+F14) -> 0 | G15: =SUM(G11+G14) -> 0 | H15: =SUM(H11+H14) -> 0 | I15: =SUM(I11+I14) -> 0 | J15: =SUM(J11+J14) -> 0 | ... T15: =SUM(T11+T14) -> 0 | U15: =SUM(C15:T15) -> 0 | V15: =SUM(V11+V14) -> 0 | W15: =SUM(U15:V15) -> 0
A16: C) | B16: Összes maradvány (=A+B) | C16: =SUM(C8+C15) -> 234237 | D16: =SUM(D8+D15) -> 124969 | E16: =SUM(E8+E15) -> 55678 | F16: =SUM(F8+F15) -> 112726 | G16: =SUM(G8+G15) -> 36405 | H16: =SUM(H8+H15) -> 24220 | I16: =SUM(I8+I15) -> 34580 | J16: =SUM(J8+J15) -> 52279 | ... T16: =SUM(T8+T15) -> 6496 | U16: =SUM(C16:T16) -> 1024945 | V16: =SUM(V8+V15) -> 7801836 | W16: =SUM(U16:V16) -> 8826781
A17: D) | B17: Alaptevékenység kötelezettségvállalással terhelt maradványa | C17: 11875 | D17: 47494 | E17: 2191 | F17: 5546 | G17: 10 | H17: 4285 | I17: 4868 | J17: 448 | K17: 424 | L17: 715 | M17: 854 | N17: 1438 | O17: 1260 | P17: 38171 | Q17: 6864 | R17: 12313 | U17: =SUM(C17:T17) -> 138756 | V17: 4361689 | W17: =SUM(U17:V17) -> 4500445
A18: E) | B18: Alaptevékenység szabad maradványa | C18: =C16-C17 -> 222362 | D18: =D16-D17 -> 77475 | E18: =E16-E17 -> 53487 | F18: =F16-F17 -> 107180 | G18: =G16-G17 -> 36395 | H18: =H16-H17 -> 19935 | I18: =I16-I17 -> 29712 | J18: =J16-J17 -> 51831 | ... T18: =T16-T17 -> 6496 | U18: =SUM(C18:T18) -> 886189 | V18: =V16-V17 -> 3440147 | W18: =SUM(U18:V18) -> 4326336
A19: F) | B19: Vállalkozási tevékenységet terhelő befizetési kötelezettség | U19: =SUM(C19:T19) -> 0 | W19: =SUM(U19:V19) -> 0
A20: G) | B20: Vállalkozási tevékenység felhasználható maradványa | U20: =SUM(C20:T20) -> 0 | W20: =SUM(U20:V20) -> 0

Sheet 13
A1: Megnevezés | B1: Maradvány | C1: Maradvány forrása | E1: Kötelezettséggel terhelt maradvány összesen: | F1: Kötelezettség vállalással terhelt maradvány | H1: Szabad maradvány összesen | I1: Szabad maradvány
C2: Bevételi többlet | D2: Kiadási meg- takarítás | F2: működési célú | G2: felhalmozási célú | I2: egyéb maradvány | J2: célra, feladatra kapott, illetve kötött felhasználású összegek | K2: eredeti költségvetésben bevont összeg áthúzódó és új feladatokhoz | L2: TOP, MVP és egyéb pályázatokhoz kapcsolódó elkülönített számlán lévő maradványokból kötelezettséggel nem terhelt | M2: állami támogatások elszámolásából adódó visszafizetések
A4: Alaptevékenység maradványa:
A5: Polgármesteri Hivatal | B5: =SUM(C5:D5) -> 234237 | C5: =SUM('10'!E3-'10'!D3) -> 44120 | D5: =SUM('11'!D3-'11'!E3) -> 190117 | E5: =SUM(F5:G5) -> 11875 | F5: =SUM('14'!B5:F5) -> 8818 | G5: ='14'!G5:I5 -> 3057 | H5: =SUM(I5:M5) -> 222362 | I5: =SUM('14'!K5:R5) -> 65924 | J5: ='14'!S5 -> 43313 | K5: ='14'!T5 -> 113125
A6: Zalaegerszegi Gazdasági Ellátó Szervezet | B6: =SUM(C6:D6) -> 124969 | C6: =SUM('10'!E4-'10'!D4) -> 19680 | D6: =SUM('11'!D4-'11'!E4) -> 105289 | E6: =SUM(F6:G6) -> 47494 | F6: =SUM('14'!B6:F6) -> 47494 | G6: ='14'!G6:I6 -> 0 | H6: =SUM(I6:M6) -> 77475 | I6: =SUM('14'!K6:R6)-'14'!O6 -> 57647 | J6: ='14'!S6 -> 0 | K6: ='14'!T6 -> 8831 | M6: ='14'!O6 -> 10997
A7: Zalaegerszegi Egyesített Bölcsődék | B7: =SUM(C7:D7) -> 55678 | C7: =SUM('10'!E5-'10'!D5) -> 4122 | D7: =SUM('11'!D5-'11'!E5) -> 51556 | E7: =SUM(F7:G7) -> 2191 | F7: =SUM('14'!B7:F7) -> 2191 | G7: ='14'!G7:I7 -> 0 | H7: =SUM(I7:M7) -> 53487 | I7: =SUM('14'!K7:R7)-'14'!O7 -> 30773 | J7: ='14'!S7 -> 8287 | K7: ='14'!T7 -> 9898 | M7: ='14'!O7 -> 4529
A8: Zalaegerszegi Egészségügyi Alapellátás Intézménye | B8: =SUM(C8:D8) -> 112726 | C8: =SUM('10'!E6-'10'!D6) -> -47382 | D8: =SUM('11'!D6-'11'!E6) -> 160108 | E8: =SUM(F8:G8) -> 5546 | F8: =SUM('14'!B8:F8) -> 5395 | G8: ='14'!G8:I8 -> 151 | H8: =SUM(I8:M8) -> 107180 | I8: =SUM('14'!K8:R8) -> 10178 | J8: ='14'!S8 -> 47567 | K8: ='14'!T8 -> 49435
A9: Zalaegerszegi Család- és Gyermekjóléti Központ | B9: =SUM(C9:D9) -> 36405 | C9: =SUM('10'!E7-'10'!D7) -> 2 | D9: =SUM('11'!D7-'11'!E7) -> 36403 | E9: =SUM(F9:G9) -> 10 | F9: =SUM('14'!B9:F9) -> 10 | G9: ='14'!G9:I9 -> 0 | H9: =SUM(I9:M9) -> 36395 | I9: =SUM('14'!K9:R9) -> 13264 | J9: ='14'!S9 -> 0 | K9: ='14'!T9 -> 23131
A10: Zalaegerszegi Belvárosi I. sz. Óvoda | B10: =SUM(C10:D10) -> 24220 | C10: =SUM('10'!E8-'10'!D8) -> 255 | D10: =SUM('11'!D8-'11'!E8) -> 23965 | E10: =SUM(F10:G10) -> 4285 | F10: =SUM('14'!B10:F10) -> 4285 | G10: ='14'!G10:I10 -> 0 | H10: =SUM(I10:M10) -> 19935 | I10: =SUM('14'!K10:R10)-'14'!O10 -> 0 | J10: ='14'!S10 -> 0 | K10: ='14'!T10 -> 19935 | M10: ='14'!O10 -> 0
A11: Zalaegerszegi Belvárosi II.sz.Óvoda | B11: =SUM(C11:D11) -> 34580 | C11: =SUM('10'!E9-'10'!D9) -> 546 | D11: =SUM('11'!D9-'11'!E9) -> 34034 | E11: =SUM(F11:G11) -> 4868 | F11: =SUM('14'!B11:F11) -> 4868 | G11: ='14'!G11:I11 -> 0 | H11: =SUM(I11:M11) -> 29712 | I11: =SUM('14'!K11:R11)-'14'!O11 -> 17527 | J11: ='14'!S11 -> 0 | K11: ='14'!T11 -> 8836 | M11: ='14'!O11 -> 3349
A12: Zalaegerszegi Kertvárosi Óvoda | B12: =SUM(C12:D12) -> 52279 | C12: =SUM('10'!E10-'10'!D10) -> 746 | D12: =SUM('11'!D10-'11'!E10) -> 51533 | E12: =SUM(F12:G12) -> 448 | F12: =SUM('14'!B12:F12) -> 448 | G12: ='14'!G12:I12 -> 0 | H12: =SUM(I12:M12) -> 51831 | I12: =SUM('14'!K12:R12)-'14'!O12 -> 38034 | J12: ='14'!S12 -> 0 | K12: ='14'!T12 -> 9885 | M12: ='14'!O12 -> 3912
A13: Zalaegerszegi Landorhegyi Óvoda | B13: =SUM(C13:D13) -> 28924 | C13: =SUM('10'!E11-'10'!D11) -> 790 | D13: =SUM('11'!D11-'11'!E11) -> 28134 | E13: =SUM(F13:G13) -> 424 | F13: =SUM('14'!B13:F13) -> 424 | G13: ='14'!G13:I13 -> 0 | H13: =SUM(I13:M13) -> 28500 | I13: =SUM('14'!K13:R13)-'14'!O13 -> 7946 | J13: ='14'!S13 -> 0 | K13: ='14'!T13 -> 17529 | M13: ='14'!O13 -> 3025
A14: Közgyűjteményi és Közművelődési GESZ | B14: =SUM(C14:D14) -> 1520 | C14: =SUM('10'!E12-'10'!D12) -> 1 | D14: =SUM('11'!D12-'11'!E12) -> 1519 | E14: =SUM(F14:G14) -> 715 | F14: =SUM('14'!B14:F14) -> 715 | G14: ='14'!G14:I14 -> 0 | H14: =SUM(I14:M14) -> 805 | I14: =SUM('14'!K14:R14) -> 608 | J14: ='14'!S14 -> 0 | K14: ='14'!T14 -> 197
A15: Keresztury Dezső VMK | B15: =SUM(C15:D15) -> 137440 | C15: =SUM('10'!E13-'10'!D13) -> -22765 | D15: =SUM('11'!D13-'11'!E13) -> 160205 | E15: =SUM(F15:G15) -> 854 | F15: =SUM('14'!B15:F15) -> 854 | G15: ='14'!G15:I15 -> 0 | H15: =SUM(I15:M15) -> 136586 | I15: =SUM('14'!K15:R15) -> 664 | J15: 530 | K15: ='14'!T15 -> 0 | L15: 135392
A16: Zalaegerszegi Turisztikai Hivatal és Információs Iroda | B16: =SUM(C16:D16) -> 2154 | C16: =SUM('10'!E14-'10'!D14) -> 220 | D16: =SUM('11'!D14-'11'!E14) -> 1934 | E16: =SUM(F16:G16) -> 1438 | F16: =SUM('14'!B16:F16) -> 1438 | G16: ='14'!G16:I16 -> 0 | H16: =SUM(I16:M16) -> 716 | I16: =SUM('14'!K16:R16) -> 216 | J16: ='14'!S16 -> 0 | K16: ='14'!T16 -> 500
A17: Deák F. Megyei és Városi Könyvtár | B17: =SUM(C17:D17) -> 20211 | C17: =SUM('10'!E15-'10'!D15) -> 1924 | D17: =SUM('11'!D15-'11'!E15) -> 18287 | E17: =SUM(F17:G17) -> 1260 | F17: =SUM('14'!B17:F17) -> 1260 | G17: ='14'!G17:I17 -> 0 | H17: =SUM(I17:M17) -> 18951 | I17: =SUM('14'!K17:R17) -> 656 | J17: 0 | K17: ='14'!T17 -> 13295 | L17: 5000
A18: Göcseji Múzeum | B18: =SUM(C18:D18) -> 38171 | C18: =SUM('10'!E16-'10'!D16) -> -64603 | D18: =SUM('11'!D16-'11'!E16) -> 102774 | E18: =SUM(F18:G18) -> 38171 | F18: =SUM('14'!B18:F18) -> 38171 | G18: ='14'!G18:I18 -> 0 | H18: =SUM(I18:M18) -> 0 | I18: =SUM('14'!K18:R18) -> 0 | J18: 0 | K18: ='14'!T18 -> 0
A19: Hevesi Sándor Színház | B19: =SUM(C19:D19) -> 46337 | C19: =SUM('10'!E17-'10'!D17) -> -12953 | D19: =SUM('11'!D17-'11'!E17) -> 59290 | E19: =SUM(F19:G19) -> 6864 | F19: =SUM('14'!B19:F19) -> 6814 | G19: ='14'!G19:I19 -> 50 | H19: =SUM(I19:M19) -> 39473 | I19: =SUM('14'!K19:R19) -> 0 | J19: ='14'!S19 -> 0 | K19: ='14'!T19 -> 39473
A20: Griff Bábszínház | B20: =SUM(C20:D20) -> 47083 | C20: =SUM('10'!E18-'10'!D18) -> 4630 | D20: =SUM('11'!D18-'11'!E18) -> 42453 | E20: =SUM(F20:G20) -> 12313 | F20: =SUM('14'!B20:F20) -> 948 | G20: ='14'!G20:I20 -> 11365 | H20: =SUM(I20:M20) -> 34770 | I20: =SUM('14'!K20:R20) -> 0 | J20: ='14'!S20 -> 0 | K20: ='14'!T20 -> 34770
A21: Városi Sportlétesítmények Gondnoksága | B21: =SUM(C21:D21) -> 21515 | C21: =SUM('10'!E19-'10'!D19) -> 384 | D21: =SUM('11'!D19-'11'!E19) -> 21131 | E21: =SUM(F21:G21) -> 0 | F21: =SUM('14'!B21:F21) -> 0 | G21: ='14'!G21:I21 -> 0 | H21: =SUM(I21:M21) -> 21515 | I21: =SUM('14'!K21:R21) -> 7515 | J21: ='14'!S21 -> 0 | K21: ='14'!T21 -> 14000
A22: Vásárcsarnok | B22: =SUM(C22:D22) -> 6496 | C22: =SUM('10'!E20-'10'!D20) -> -5697 | D22: =SUM('11'!D20-'11'!E20) -> 12193 | E22: =SUM(F22:G22) -> 0 | F22: =SUM('14'!B22:F22) -> 0 | G22: ='14'!G22:I22 -> 0 | H22: =SUM(I22:M22) -> 6496 | I22: =SUM('14'!K22:R22) -> 0 | J22: ='14'!S22 -> 0 | K22: ='14'!T22 -> 6496
A23: Alaptevékenység maradványa költségvetési szervek összesen: | B23: =SUM(B5:B22) -> 1024945 | C23: =SUM(C5:C22) -> -75980 | D23: =SUM(D5:D22) -> 1100925 | E23: =SUM(E5:E22) -> 138756 | F23: =SUM(F5:F22) -> 124133 | G23: =SUM(G5:G22) -> 14623 | H23: =SUM(H5:H22) -> 886189 | I23: =SUM(I5:I22) -> 250952 | ... M23: =SUM(M5:M22) -> 25812
A24: ZMJV Önkormányzata | B24: =SUM(C24:D24) -> 7801836 | C24: =SUM('5'!F14-'5'!E14) -> -24983873 | D24: =SUM('7'!E16-'7'!F16) -> 32785709 | E24: =SUM(F24+G24) -> 4361689 | F24: 630334 | G24: 3731355 | H24: =SUM(I24:M24) -> 3440147 | I24: 99933 | J24: 1002297 | K24: 783364 | L24: 1554553
A25: Alaptevékenység maradványa önkormányzat összesen: | B25: =SUM(B23:B24) -> 8826781 | C25: =SUM(C23:C24) -> -25059853 | D25: =SUM(D23:D24) -> 33886634 | E25: =SUM(E23:E24) -> 4500445 | F25: =SUM(F23:F24) -> 754467 | G25: =SUM(G23:G24) -> 3745978 | H25: =SUM(H23:H24) -> 4326336 | I25: =SUM(I23:I24) -> 350885 | ... M25: =SUM(M23:M24) -> 25812

Sheet 14
A1: Megnevezés | B1: Maradvány visszatervezése | V1: Mindösszesen
B2: Kötelezettséggel terhelt maradvány | K2: Szabad maradvány
B3: Személyi juttatások | C3: Munkaadókat terhelő járulékok és szociális hozzájárulási adó | D3: Dologi kiadások | E3: Ellátottak pénzbeli juttatásai | F3: Egyéb működési célú kiadások | G3: Beruházások | H3: Felújítások | I3: Egyéb felhalmozási célú kiadások | J3: Összesen | K3: Személyi juttatások | L3: Munkaadókat terhelő járulékok és szociális hozzájárulási adó | M3: Dologi kiadások | N3: Ellátottak pénzbeli juttatásai | O3: Egyéb működési célú kiadások, tartalékok | P3: Beruházások | Q3: Felújítások | R3: Egyéb felhalmozási célú kiadások | S3: Célra, feladatra kapott összegek | T3: Eredeti költségvetésbe, hiány finanszírozására bevont maradvány | U3: Összesen
A4: Alaptevékenység maradványa:
A5: Polgármesteri Hivatal | D5: 8818 | G5: 3057 | J5: =SUM(B5:I5) -> 11875 | K5: 49226 | L5: 10621 | M5: 3820 | P5: 2257 | S5: 43313 | T5: 113125 | U5: =SUM(K5:T5) -> 222362 | V5: =SUM(U5,J5) -> 234237
A6: Zalaegerszegi Gazdasági Ellátó Szervezet | D6: 47494 | J6: =SUM(B6:I6) -> 47494 | K6: 11232 | L6: 2063 | M6: 32073 | O6: 10997 | P6: 4104 | Q6: 8175 | T6: 8831 | U6: =SUM(K6:T6) -> 77475 | V6: =SUM(U6,J6) -> 124969
A7: Zalaegerszegi Egyesített Bölcsődék | D7: 2191 | J7: =SUM(B7:I7) -> 2191 | M7: 14773 | O7: 4529 | P7: 9000 | Q7: 7000 | S7: 8287 | T7: 9898 | U7: =SUM(K7:T7) -> 53487 | V7: =SUM(U7,J7) -> 55678
A8: Zalaegerszegi Egészségügyi Alapellátás Intézménye | D8: 5395 | G8: 151 | J8: =SUM(B8:I8) -> 5546 | L8: 4185 | M8: 5993 | S8: 47567 | T8: 49435 | U8: =SUM(K8:T8) -> 107180 | V8: =SUM(U8,J8) -> 112726
A9: Zalaegerszegi Család- és Gyermekjóléti Központ | D9: 10 | J9: =SUM(B9:I9) -> 10 | M9: 7264 | N9: 1000 | P9: 5000 | T9: 23131 | U9: =SUM(K9:T9) -> 36395 | V9: =SUM(U9,J9) -> 36405
A10: Zalaegerszegi Belvárosi I. sz. Óvoda | D10: 4285 | J10: =SUM(B10:I10) -> 4285 | T10: 19935 | U10: =SUM(K10:T10) -> 19935 | V10: =SUM(U10,J10) -> 24220
A11: Zalaegerszegi Belvárosi II.sz.Óvoda | D11: 4868 | J11: =SUM(B11:I11) -> 4868 | M11: 13527 | O11: 3349 | P11: 4000 | T11: 8836 | U11: =SUM(K11:T11) -> 29712 | V11: =SUM(U11,J11) -> 34580
A12: Zalaegerszegi Kertvárosi Óvoda | D12: 448 | J12: =SUM(B12:I12) -> 448 | M12: 33899 | O12: 3912 | P12: 4135 | T12: 9885 | U12: =SUM(K12:T12) -> 51831 | V12: =SUM(U12,J12) -> 52279
A13: Zalaegerszegi Landorhegyi Óvoda | D13: 424 | J13: =SUM(B13:I13) -> 424 | M13: 6946 | O13: 3025 | P13: 1000 | T13: 17529 | U13: =SUM(K13:T13) -> 28500 | V13: =SUM(U13,J13) -> 28924
A14: Közgyűjteményi és Közművelődési GESZ | B14: 501 | C14: 214 | J14: =SUM(B14:I14) -> 715 | K14: 179 | L14: 28 | M14: 151 | P14: 250 | T14: 197 | U14: =SUM(K14:T14) -> 805 | V14: =SUM(U14,J14) -> 1520
A15: Keresztury Dezső VMK | B15: 294 | C15: 560 | J15: =SUM(B15:I15) -> 854 | K15: 664 | S15: 135922 | U15: =SUM(K15:T15) -> 136586 | V15: =SUM(U15,J15) -> 137440
A16: Zalaegerszegi Turisztikai Hivatal és Információs Iroda | B16: 410 | C16: 202 | D16: 826 | J16: =SUM(B16:I16) -> 1438 | K16: 191 | L16: 25 | T16: 500 | U16: =SUM(K16:T16) -> 716 | V16: =SUM(U16,J16) -> 2154
A17: Deák F. Megyei és Városi Könyvtár | B17: 643 | C17: 617 | J17: =SUM(B17:I17) -> 1260 | K17: 656 | S17: 5000 | T17: 13295 | U17: =SUM(K17:T17) -> 18951 | V17: =SUM(U17,J17) -> 20211
A18: Göcseji Múzeum | D18: 38171 | J18: =SUM(B18:I18) -> 38171 | U18: =SUM(K18:T18) -> 0 | V18: =SUM(U18,J18) -> 38171
A19: Hevesi Sándor Színház | D19: 6814 | G19: 50 | J19: =SUM(B19:I19) -> 6864 | T19: 39473 | U19: =SUM(K19:T19) -> 39473 | V19: =SUM(U19,J19) -> 46337
A20: Griff Bábszínház | D20: 948 | G20: 11365 | J20: =SUM(B20:I20) -> 12313 | T20: 34770 | U20: =SUM(K20:T20) -> 34770 | V20: =SUM(U20,J20) -> 47083
A21: Városi Sportlétesítmények Gondnoksága | J21: =SUM(B21:I21) -> 0 | M21: 7515 | T21: 14000 | U21: =SUM(K21:T21) -> 21515 | V21: =SUM(U21,J21) -> 21515
A22: Vásárcsarnok | J22: =SUM(B22:I22) -> 0 | T22: 6496 | U22: =SUM(K22:T22) -> 6496 | V22: =SUM(U22,J22) -> 6496
A23: Alaptevékenység maradványa költségvetési szervek összesen: | B23: =SUM(B5:B22) -> 1848 | C23: =SUM(C5:C22) -> 1593 | D23: =SUM(D5:D22) -> 120692 | E23: =SUM(E5:E22) -> 0 | F23: =SUM(F5:F22) -> 0 | G23: =SUM(G5:G22) -> 14623 | H23: =SUM(H5:H22) -> 0 | I23: =SUM(I5:I22) -> 0 | J23: =SUM(B23:I23) -> 138756 | K23: =SUM(K5:K22) -> 62148 | L23: =SUM(L5:L22) -> 16922 | M23: =SUM(M5:M22) -> 125961 | N23: =SUM(N5:N22) -> 1000 | O23: =SUM(O5:O22) -> 25812 | P23: =SUM(P5:P22) -> 29746 | Q23: =SUM(Q5:Q22) -> 15175 | R23: =SUM(R5:R22) -> 0 | ... V23: =SUM(V5:V22) -> 1024945
A24: ZMJV Önkormányzata | B24: 2514 | C24: 198 | D24: 612099 | E24: 3544 | F24: 11979 | G24: 2885983 | H24: 840822 | I24: 4550 | J24: =SUM(B24:I24) -> 4361689 | M24: 23721 | O24: 99933 | P24: 788048 | S24: 190528 | T24: 2337917 | U24: =SUM(M24:T24) -> 3440147 | V24: =SUM(U24,J24) -> 7801836
A25: Alaptevékenység maradványa önkormányzat összesen: | B25: =SUM(B23:B24) -> 4362 | C25: =SUM(C23:C24) -> 1791 | D25: =SUM(D23:D24) -> 732791 | E25: =SUM(E23:E24) -> 3544 | F25: =SUM(F23:F24) -> 11979 | G25: =SUM(G23:G24) -> 2900606 | H25: =SUM(H23:H24) -> 840822 | I25: =SUM(I23:I24) -> 4550 | ... V25: =SUM(V23:V24) -> 8826781

Sheet 15
A1: Megnevezés | B1: A/I | C1: A/II/1 | D1: A/II/2 | E1: A/II/4 | F1: A/II | G1: A/III | H1: A/IV | I1: A | J1: B/I | K1: B/II | L1: B | M1: C/II | N1: C/III | O1: C/IV | P1: C | Q1: D | R1: E | S1: F | T1: ESZKÖZÖK ÖSSZESEN
B2: Immateriális javak | C2: Ingatlanok és a kapcsolódó vagyoni értékű jogok | D2: Gépek, berendezések, felszerelések, járművek | E2: Beruházások, felújítások | F2: Tárgyi eszközök | G2: Befektetett pénzügyi eszközök | H2: Koncesszióba, vagyonkezelésbe adott eszközök | I2: NEMZETI VAGYONBA TARTOZÓ BEFEKTETETT ESZKÖZÖK | J2: Készletek | K2: Értékpapírok | L2: NEMZETI VAGYONBA TARTOZÓ FORGÓESZKÖZÖK | M2: Pénztárak, csekkek, betétkönyvek | N2: Forintszámlák | O2: Devizaszámlák | P2: PÉNZESZKÖZÖK | Q2: KÖVETELÉSEK | R2: EGYÉB SAJÁTOS ELSZÁMOLÁSOK | S2: AKTÍV IDŐBELI ELHATÁROLÁSOK
A3: Polgármesteri Hivatal | B3: 4530 | C3: 340683 | D3: 29663 | E3: 1574 | F3: =SUM(C3:E3) -> 371920 | I3: =SUM(B3+F3+G3+H3) -> 376450 | L3: =SUM(J3:K3) -> 0 | M3: 134 | N3: 233806 | P3: =SUM(M3:O3) -> 233940 | Q3: 17313 | R3: 760 | S3: 2410 | T3: =SUM(I3+L3+P3+Q3+R3+S3) -> 630873
A4: Zalaegerszegi Gazdasági Ellátó Szervezet | C4: 126203 | D4: 2630 | F4: =SUM(C4:E4) -> 128833 | I4: =SUM(B4+F4+G4+H4) -> 128833 | L4: =SUM(J4:K4) -> 0 | M4: 165 | N4: 127451 | P4: =SUM(M4:O4) -> 127616 | Q4: 2119 | R4: 32432 | S4: 408 | T4: =SUM(I4+L4+P4+Q4+R4+S4) -> 291408
A5: Zalaegerszegi Egyesített Bölcsődék | C5: 838934 | D5: 8227 | F5: =SUM(C5:E5) -> 847161 | I5: =SUM(B5+F5+G5+H5) -> 847161 | J5: 439 | L5: =SUM(J5:K5) -> 439 | M5: 39 | N5: 57037 | P5: =SUM(M5:O5) -> 57076 | Q5: 438 | R5: 242 | S5: 15 | T5: =SUM(I5+L5+P5+Q5+R5+S5) -> 905371
A6: Zalaegerszegi Egészségügyi Alapellátási Intézmény | C6: 730785 | D6: 5836 | F6: =SUM(C6:E6) -> 736621 | I6: =SUM(B6+F6+G6+H6) -> 736621 | L6: =SUM(J6:K6) -> 0 | M6: 82 | N6: 112550 | P6: =SUM(M6:O6) -> 112632 | Q6: 152 | S6: 711 | T6: =SUM(I6+L6+P6+Q6+R6+S6) -> 850116
A7: Zalaegerszegi Család- és Gyermekjóléti Központ | C7: 432 | D7: 6669 | F7: =SUM(C7:E7) -> 7101 | I7: =SUM(B7+F7+G7+H7) -> 7101 | L7: =SUM(J7:K7) -> 0 | M7: 185 | N7: 36220 | P7: =SUM(M7:O7) -> 36405 | Q7: 360 | S7: 587 | T7: =SUM(I7+L7+P7+Q7+R7+S7) -> 44453
A8: Zalaegerszegi Belvárosi I. számú Óvoda | C8: 324840 | D8: 4614 | E8: 240 | F8: =SUM(C8:E8) -> 329694 | I8: =SUM(B8+F8+G8+H8) -> 329694 | L8: =SUM(J8:K8) -> 0 | M8: 68 | N8: 24506 | P8: =SUM(M8:O8) -> 24574 | Q8: 158 | R8: 2287 | S8: 19 | T8: =SUM(I8+L8+P8+Q8+R8+S8) -> 356732
A9: Zalaegerszegi Belvárosi II. számú Óvoda | C9: 317893 | D9: 1199 | F9: =SUM(C9:E9) -> 319092 | I9: =SUM(B9+F9+G9+H9) -> 319092 | L9: =SUM(J9:K9) -> 0 | M9: 93 | N9: 34830 | P9: =SUM(M9:O9) -> 34923 | Q9: 233 | R9: 3199 | S9: 28 | T9: =SUM(I9+L9+P9+Q9+R9+S9) -> 357475
A10: Zalaegerszegi Kertvárosi Óvoda | C10: 482278 | D10: 3765 | F10: =SUM(C10:E10) -> 486043 | I10: =SUM(B10+F10+G10+H10) -> 486043 | L10: =SUM(J10:K10) -> 0 | M10: 107 | N10: 52304 | P10: =SUM(M10:O10) -> 52411 | Q10: 540 | R10: 3369 | T10: =SUM(I10+L10+P10+Q10+R10+S10) -> 542363
A11: Zalaegerszegi Landorhegyi Óvoda | C11: 386452 | D11: 1001 | F11: =SUM(C11:E11) -> 387453 | I11: =SUM(B11+F11+G11+H11) -> 387453 | L11: =SUM(J11:K11) -> 0 | M11: 40 | N11: 29162 | P11: =SUM(M11:O11) -> 29202 | Q11: 124 | R11: 1796 | S11: 31 | T11: =SUM(I11+L11+P11+Q11+R11+S11) -> 418606
A12: Közgyűjteményi és Közművelődési GESZ | F12: =SUM(C12:E12) -> 0 | I12: =SUM(B12+F12+G12+H12) -> 0 | L12: =SUM(J12:K12) -> 0 | M12: 17 | N12: 1503 | P12: =SUM(M12:O12) -> 1520 | T12: =SUM(I12+L12+P12+Q12+R12+S12) -> 1520
A13: Keresztury Dezső VMK | B13: 14 | C13: 1560195 | D13: 298253 | F13: =SUM(C13:E13) -> 1858448 | I13: =SUM(B13+F13+G13+H13) -> 1858462 | L13: =SUM(J13:K13) -> 0 | M13: 793 | N13: 137435 | P13: =SUM(M13:O13) -> 138228 | Q13: 779 | R13: -485 | T13: =SUM(I13+L13+P13+Q13+R13+S13) -> 1996984
A14: Zalaegerszegi Turisztikai Hivatal és Információs Iroda | D14: 4971 | F14: =SUM(C14:E14) -> 4971 | I14: =SUM(B14+F14+G14+H14) -> 4971 | J14: 1117 | L14: =SUM(J14:K14) -> 1117 | M14: 238 | N14: 1916 | P14: =SUM(M14:O14) -> 2154 | Q14: 19 | T14: =SUM(I14+L14+P14+Q14+R14+S14) -> 8261
A15: Deák Ferenc Megyei és Városi Könyvtár | B15: 2068 | C15: 86649 | D15: 18580 | E15: 1296 | F15: =SUM(C15:E15) -> 106525 | I15: =SUM(B15+F15+G15+H15) -> 108593 | L15: =SUM(J15:K15) -> 0 | M15: 248 | N15: 19963 | P15: =SUM(M15:O15) -> 20211 | R15: 5868 | S15: 97 | T15: =SUM(I15+L15+P15+Q15+R15+S15) -> 134769
A16: Göcseji Múzeum | B16: 8943 | C16: 1764740 | D16: 33868 | E16: 16 | F16: =SUM(C16:E16) -> 1798624 | I16: =SUM(B16+F16+G16+H16) -> 1807567 | J16: 12730 | L16: =SUM(J16:K16) -> 12730 | M16: 199 | N16: 32726 | O16: 4385 | P16: =SUM(M16:O16) -> 37310 | Q16: 50037 | T16: =SUM(I16+L16+P16+Q16+R16+S16) -> 1907644
A17: Hevesi Sándor Színház | C17: 418665 | D17: 13856 | E17: 95 | F17: =SUM(C17:E17) -> 432616 | I17: =SUM(B17+F17+G17+H17) -> 432616 | J17: 6791 | L17: =SUM(J17:K17) -> 6791 | M17: 2355 | N17: 46165 | P17: =SUM(M17:O17) -> 48520 | Q17: 6998 | R17: 4122 | S17: 362 | T17: =SUM(I17+L17+P17+Q17+R17+S17) -> 499409
A18: Griff Bábszínház | C18: 74 | D18: 409 | F18: =SUM(C18:E18) -> 483 | I18: =SUM(B18+F18+G18+H18) -> 483 | L18: =SUM(J18:K18) -> 0 | M18: 3170 | N18: 42846 | P18: =SUM(M18:O18) -> 46016 | Q18: 1272 | R18: -2643 | S18: 164 | T18: =SUM(I18+L18+P18+Q18+R18+S18) -> 45292
A19: Városi Sportlétesítmények Gondnoksága | B19: 197 | C19: 1528267 | D19: 1391 | F19: =SUM(C19:E19) -> 1529658 | I19: =SUM(B19+F19+G19+H19) -> 1529855 | J19: 45 | L19: =SUM(J19:K19) -> 45 | M19: 262 | N19: 22273 | P19: =SUM(M19:O19) -> 22535 | Q19: 313 | R19: 530 | T19: =SUM(I19+L19+P19+Q19+R19+S19) -> 1553278
A20: Vásárcsarnok | B20: 2 | C20: 401063 | D20: 1240 | F20: =SUM(C20:E20) -> 402303 | I20: =SUM(B20+F20+G20+H20) -> 402305 | L20: =SUM(J20:K20) -> 0 | M20: 64 | N20: 10493 | P20: =SUM(M20:O20) -> 10557 | R20: -2443 | T20: =SUM(I20+L20+P20+Q20+R20+S20) -> 410419
A21: Költségvetési szervek összesen: | B21: =SUM(B3:B20) -> 15754 | C21: =SUM(C3:C20) -> 9308153 | D21: =SUM(D3:D20) -> 436172 | E21: =SUM(E3:E20) -> 3221 | F21: =SUM(F3:F20) -> 9747546 | G21: =SUM(G3:G20) -> 0 | H21: =SUM(H3:H20) -> 0 | I21: =SUM(I3:I20) -> 9763300 | ... T21: =SUM(T3:T20) -> 10954973
A22: ZMJV Önkormányzata | B22: 185623 | C22: 109593000 | D22: 1493123 | E22: 21745083 | F22: =SUM(C22:E22) -> 132831206 | G22: 1752411 | H22: 176928 | I22: =SUM(B22+F22+G22+H22) -> 134946168 | K22: 14445960 | L22: =SUM(J22:K22) -> 14445960 | M22: 235 | N22: 6872381 | O22: 815482 | P22: =SUM(M22:O22) -> 7688098 | Q22: 3390200 | R22: -383014 | S22: 81931 | T22: =SUM(I22+L22+P22+Q22+R22+S22) -> 160169343
A23: Önkormányzat össz: | B23: =SUM(B21:B22) -> 201377 | C23: =SUM(C21:C22) -> 118901153 | D23: =SUM(D21:D22) -> 1929295 | E23: =SUM(E21:E22) -> 21748304 | F23: =SUM(F21:F22) -> 142578752 | G23: =SUM(G21:G22) -> 1752411 | H23: =SUM(H21:H22) -> 176928 | I23: =SUM(I21:I22) -> 144709468 | ... T23: =SUM(T21:T22) -> 171124316

Sheet 16
A1: Megnevezés | B1: összeg
A2: Nyitó pénzkészlet :
A3: pénztárak 2021. január 1-én | B3: 4754
A4: forintszámlák, devizaszámlák 2021. január 1-én | B4: 10377923
A5: Nyitó pénzkészlet 2021. január 1-én | B5: =SUM(B3:B4) -> 10382677
A6: Bevételek:
A7: önkormányzat költségvetési bevételei: | B7: 29750890
A8: önkormányzat finanszírozási bevételei: | B8: 21364252
A9: Önkormányzat 2021. évi bevételei összesen: | B9: =SUM(B7:B8) -> 51115142
A10: - maradvány igénybevétele | B10: 11434445
A11: - adott előlegek állományának évközi változása | B11: -874691
A12: - adott előleghez kapcsolódó előzetesen felszámított levonható áfa állományának évközi változása | B12: -6694
A13: - adott előleghez kapcsolódó előzetesen felszámított nem levonható áfa állományának évközi változása | B13: -124
A14: -forgótőke elszámolás állományának évközi változása | B14: 253
A15: - kapott előlegekhez kapcsolódó fizetendő áfa állományának évközi változása | B15: 7850
A16: Önkormányzat 2021. évi pénzforgalmi bevételei a sajátos eszközoldali elszámolásokkal együtt: | B16: =SUM(B9-B10-B11-B12-B13-B14-B15) -> 40554103
A17: Kiadások:
A18: önkormányzat költségvetési kiadásai: | B18: 32955266
A19: önkormányzat finanszírozási kiadásai: | B19: 9333095
A20: Önkormányzat 2021. évi kiadások összesen: | B20: =SUM(B18:B19) -> 42288361
A21: -kapott előlegek állományának évközi változása | B21: -50581
A22: - más szervezetet megillető bevételek elszámolása állományának évközi változása | B22: -4127
A23: - letétre, megőrzésre,fedezetkezelésre átvett pénzeszközök, biztosítékok állományának évközi forgalma | B23: -1243
A24: Önkormányzat 2021. évi kiadásai a sajátos forrásoldali elszámolásokkal együtt: | B24: =SUM(B20+B21+B22+B23) -> 42232410
A25: Egyéb korrekciós tétel: árfolyamnyereség/árfolyamveszteség | B25: -19558
A26: Záró pénzkészlet:
A27: pénztárak 2021. december 31-én | B27: 8494
A28: forintszámlák,devizaszámlák 2021. december 31-én | B28: 8715434
A29: Záró pénzkészlet 2021. december 31-én | B29: =SUM(B5+B16-B24-B25) -> 8723928

Sheet 17
A1: Megnevezés | B1: G/1 | C1: G/II | D1: G/III | E1: G/IV | F1: G/V | G1: G/VI | H1: G | I1: H | J1: I | K1: J | L1: FORRÁSOK ÖSSZESEN
B2: Nemzeti vagyon induláskori értéke | C2: Nemzeti vagyon változásai | D2: Egyéb eszközök induláskori értéke és változásai | E2: Felhalmozott eredmény | F2: Eszközök értékhelyesbítésének forrása | G2: Mérleg szerinti eredmény | H2: SAJÁT TŐKE | I2: KÖTELEZETTSÉGEK | J2: KINCSTÁRI SZÁMLAVEZETÉSSEL KAPCSOLATOS ELSZÁMOLÁSOK | K2: PASSZÍV IDŐBELI ELHATÁROLÁSOK
A3: Polgármesteri Hivatal | B3: 1030697 | C3: 33664 | D3: 151409 | E3: -749915 | G3: -12293 | H3: =SUM(B3:G3) -> 453562 | I3: 18981 | K3: 158330 | L3: =SUM(H3:K3) -> 630873
A4: Zalaegerszegi Gazdasági Ellátó Szervezet | B4: 5148195 | C4: -3214004 | D4: -23558 | E4: -1772864 | G4: 51031 | H4: =SUM(B4:G4) -> 188800 | I4: 52225 | K4: 50383 | L4: =SUM(H4:K4) -> 291408
A5: Zalaegerszegi Egyesített Bölcsődék | B5: 814062 | C5: -6511 | D5: 86 | E5: -139383 | G5: 16601 | H5: =SUM(B5:G5) -> 684855 | I5: 5961 | K5: 214555 | L5: =SUM(H5:K5) -> 905371
A6: Zalaegerszegi Egészségügyi Alapellátási Intézmény | B6: 700220 | C6: 8001 | D6: 56711 | E6: -224106 | G6: 8926 | H6: =SUM(B6:G6) -> 549752 | I6: 11539 | K6: 288825 | L6: =SUM(H6:K6) -> 850116
A7: Zalaegerszegi Család- és Gyermekjóléti Központ | C7: -161 | D7: 6184 | E7: 17597 | G7: 3107 | H7: =SUM(B7:G7) -> 26727 | I7: 512 | K7: 17214 | L7: =SUM(H7:K7) -> 44453
A8: Zalaegerszegi Belvárosi I. számú Óvoda | B8: 338747 | C8: 12369 | D8: 718 | E8: -96790 | G8: -3055 | H8: =SUM(B8:G8) -> 251989 | I8: 10224 | K8: 94519 | L8: =SUM(H8:K8) -> 356732
A9: Zalaegerszegi Belvárosi II. számú Óvoda | B9: 265813 | C9: 20684 | D9: 1203 | E9: -74905 | G9: -1487 | H9: =SUM(B9:G9) -> 211308 | I9: 10550 | K9: 135617 | L9: =SUM(H9:K9) -> 357475
A10: Zalaegerszegi Kertvárosi Óvoda | B10: 303656 | C10: 5778 | D10: 604 | E10: -53244 | G10: 3727 | H10: =SUM(B10:G10) -> 260521 | I10: 6881 | K10: 274961 | L10: =SUM(H10:K10) -> 542363
A11: Zalaegerszegi Landorhegyi Óvoda | B11: 331970 | C11: 18246 | D11: 431 | E11: -84629 | G11: 8623 | H11: =SUM(B11:G11) -> 274641 | I11: 3321 | K11: 140644 | L11: =SUM(H11:K11) -> 418606
A12: Közgyűjteményi és Közművelődési GESZ | E12: -3851 | G12: -59 | H12: =SUM(B12:G12) -> -3910 | I12: 715 | K12: 4715 | L12: =SUM(H12:K12) -> 1520
A13: Keresztury Dezső VMK | B13: 1295260 | C13: 417064 | D13: 5315 | E13: -262495 | G13: -30655 | H13: =SUM(B13:G13) -> 1424489 | I13: 2627 | K13: 569868 | L13: =SUM(H13:K13) -> 1996984
A14: Zalaegerszegi Turisztikai Hivatal és Információs Iroda | B14: 4543 | C14: 1161 | D14: 1285 | E14: -5440 | G14: -1087 | H14: =SUM(B14:G14) -> 462 | I14: 1438 | K14: 6361 | L14: =SUM(H14:K14) -> 8261
A15: Deák Ferenc Megyei és Városi Könyvtár | B15: 223724 | C15: 13584 | D15: 9312 | E15: -158038 | G15: 11077 | H15: =SUM(B15:G15) -> 99659 | I15: 19260 | K15: 15850 | L15: =SUM(H15:K15) -> 134769
A16: Göcseji Múzeum | B16: 620445 | C16: 104477 | D16: 39258 | E16: -288010 | G16: -34554 | H16: =SUM(B16:G16) -> 441616 | I16: 126238 | K16: 1339790 | L16: =SUM(H16:K16) -> 1907644
A17: Hevesi Sándor Színház | B17: 767802 | C17: 18917 | D17: 2026 | E17: -419698 | G17: -2743 | H17: =SUM(B17:G17) -> 366304 | I17: 23350 | K17: 109755 | L17: =SUM(H17:K17) -> 499409
A18: Griff Bábszínház | B18: 31672 | D18: 4861 | E18: -34606 | G18: 14856 | H18: =SUM(B18:G18) -> 16783 | I18: 1898 | K18: 26611 | L18: =SUM(H18:K18) -> 45292
A19: Városi Sportlétesítmények Gondnoksága | B19: 2065771 | C19: -357359 | D19: 22611 | E19: -540407 | G19: -15053 | H19: =SUM(B19:G19) -> 1175563 | I19: 5213 | K19: 372502 | L19: =SUM(H19:K19) -> 1553278
A20: Vásárcsarnok | B20: 507122 | C20: -37289 | D20: 24668 | E20: -143095 | G20: -9863 | H20: =SUM(B20:G20) -> 341543 | I20: 4061 | K20: 64816 | L20: =SUM(H20:K20) -> 410420
A21: Költségvetési szervek összesen: | B21: =SUM(B3:B20) -> 14449699 | C21: =SUM(C3:C20) -> -2961379 | D21: =SUM(D3:D20) -> 303124 | E21: =SUM(E3:E20) -> -5033879 | F21: =SUM(F3:F20) -> 0 | G21: =SUM(G3:G20) -> 7099 | H21: =SUM(H3:H20) -> 6764664 | I21: =SUM(I3:I20) -> 304994 | ... L21: =SUM(L3:L20) -> 10954974
A22: ZMJV Önkormányzata | B22: 109313293 | C22: 3156467 | D22: 3597874 | E22: -12761992 | G22: 1249471 | H22: =SUM(B22:G22) -> 104555113 | I22: 3781437 | K22: 51832792 | L22: =SUM(H22:K22) -> 160169342
A23: Önkormányzat összesen: | B23: =SUM(B21:B22) -> 123762992 | C23: =SUM(C21:C22) -> 195088 | D23: =SUM(D21:D22) -> 3900998 | E23: =SUM(E21:E22) -> -17795871 | F23: =SUM(F21:F22) -> 0 | G23: =SUM(G21:G22) -> 1256570 | H23: =SUM(H21:H22) -> 111319777 | I23: =SUM(I21:I22) -> 4086431 | ... L23: =SUM(L21:L22) -> 171124316

Sheet 18
A1: Megnevezés | B1: Immateriális javak | F1: Tárgyi eszközök | S1: Koncesszóba, vagyonkezelésbe adott eszközök
F2: Ingatlanok és kapcsolódó vagyoni értékű jogok | I2: Gépek, berendezések, felszerelések, járművek | L2: Beruházások és felújítások | O2: Tárgyi eszközök összesen
B3: Bruttó érték tárgyévi növ. | C3: Bruttó érték tárgy- évi csökk. | D3: Écs. vált. | E3: Immat javak nettó értékvált. össz. | F3: Bruttó érték növ. | G3: Bruttó érték csökk. | H3: Écs. vált. | I3: Br. ért. növ. | J3: Br. ért. csökk. | K3: Écs. vált. | L3: Br. ért. növ. | M3: Br. ért. csökk. | N3: Écs. vált. | O3: Bruttó érték növ. | P3: Bruttó érték csökk. | Q3: Écs.vált. | R3: Tárgyi eszköz nettó értékvált. összesen | S3: Bruttó érték növ. | T3: Bruttó érték csökk. | U3: Écs.vált. | V3: Koncesszóba, vagyonkezelésbe adott eszközök nettó értékvált. összesen
A4: Polgármesteri Hivatal | B4: 285 | C4: 10009 | D4: -8603 | E4: =SUM(B4-C4-D4) -> -1121 | F4: 48551 | G4: 6180 | H4: 7959 | I4: 23867 | J4: 3830 | K4: 25742 | L4: 50329 | M4: 52391 | O4: =SUM(F4+I4+L4) -> 122747 | P4: =SUM(G4+J4+M4) -> 62401 | Q4: =SUM(H4+K4+N4) -> 33701 | R4: =O4-P4-Q4 -> 26645 | V4: =SUM(S4-T4-U4) -> 0
A5: ZeGesz | B5: 2630 | C5: 2396 | D5: 234 | E5: =SUM(B5-C5-D5) -> 0 | F5: 966 | G5: 166 | H5: 5037 | I5: 79776 | J5: 85068 | K5: -4438 | L5: 1250 | M5: 1250 | O5: =SUM(F5+I5+L5) -> 81992 | P5: =SUM(G5+J5+M5) -> 86484 | Q5: =SUM(H5+K5+N5) -> 599 | R5: =O5-P5-Q5 -> -5091 | V5: =SUM(S5-T5-U5) -> 0
A6: Zegi Egyesített Bölcsődék | E6: =SUM(B6-C6-D6) -> 0 | F6: 4691 | H6: 13493 | I6: 4260 | J6: 303 | K6: 5288 | L6: 8951 | M6: 8951 | O6: =SUM(F6+I6+L6) -> 17902 | P6: =SUM(G6+J6+M6) -> 9254 | Q6: =SUM(H6+K6+N6) -> 18781 | R6: =O6-P6-Q6 -> -10133 | V6: =SUM(S6-T6-U6) -> 0
A7: Zegi Eü. Alapellátás | E7: =SUM(B7-C7-D7) -> 0 | H7: 17207 | I7: 2042 | J7: 259 | K7: 3706 | L7: 2042 | M7: 2042 | O7: =SUM(F7+I7+L7) -> 4084 | P7: =SUM(G7+J7+M7) -> 2301 | Q7: =SUM(H7+K7+N7) -> 20913 | R7: =O7-P7-Q7 -> -19130 | V7: =SUM(S7-T7-U7) -> 0
A8: Zegi Család- és Gyermekjóléti Központ | C8: 143 | D8: -143 | E8: =SUM(B8-C8-D8) -> 0 | H8: 9 | I8: 3264 | J8: 2648 | K8: 1316 | L8: 3264 | M8: 3264 | O8: =SUM(F8+I8+L8) -> 6528 | P8: =SUM(G8+J8+M8) -> 5912 | Q8: =SUM(H8+K8+N8) -> 1325 | R8: =O8-P8-Q8 -> -709 | V8: =SUM(S8-T8-U8) -> 0
A9: Zegi Belvárosi I. sz. Óvoda | E9: =SUM(B9-C9-D9) -> 0 | F9: 8505 | H9: 6203 | I9: 5014 | J9: 82 | K9: 2342 | L9: 2524 | M9: 2285 | O9: =SUM(F9+I9+L9) -> 16043 | P9: =SUM(G9+J9+M9) -> 2367 | Q9: =SUM(H9+K9+N9) -> 8545 | R9: =O9-P9-Q9 -> 5131 | V9: =SUM(S9-T9-U9) -> 0
A10: Zegi Belvárosi II. sz. Óvoda | E10: =SUM(B10-C10-D10) -> 0 | F10: 1233 | H10: 6082 | I10: 1798 | J10: 373 | K10: 852 | L10: 2035 | M10: 2035 | O10: =SUM(F10+I10+L10) -> 5066 | P10: =SUM(G10+J10+M10) -> 2408 | Q10: =SUM(H10+K10+N10) -> 6934 | R10: =O10-P10-Q10 -> -4276 | V10: =SUM(S10-T10-U10) -> 0
A11: Zegi Kertvárosi Óvoda | E11: =SUM(B11-C11-D11) -> 0 | F11: 997 | H11: 9411 | I11: 4627 | J11: 1541 | K11: 2834 | L11: 3840 | M11: 3840 | O11: =SUM(F11+I11+L11) -> 9464 | P11: =SUM(G11+J11+M11) -> 5381 | Q11: =SUM(H11+K11+N11) -> 12245 | R11: =O11-P11-Q11 -> -8162 | V11: =SUM(S11-T11-U11) -> 0
A12: Zegi Landorhegyi Óvoda | E12: =SUM(B12-C12-D12) -> 0 | F12: 1337 | H12: 6044 | I12: 1774 | J12: 27 | K12: 1309 | L12: 3110 | M12: 3110 | O12: =SUM(F12+I12+L12) -> 6221 | P12: =SUM(G12+J12+M12) -> 3137 | Q12: =SUM(H12+K12+N12) -> 7353 | R12: =O12-P12-Q12 -> -4269 | V12: =SUM(S12-T12-U12) -> 0
A13: Közgyűjteményi és Közművelődési GESZ | E13: =SUM(B13-C13-D13) -> 0 | I13: 38 | K13: 38 | L13: 38 | M13: 38 | O13: =SUM(F13+I13+L13) -> 76 | P13: =SUM(G13+J13+M13) -> 38 | Q13: =SUM(H13+K13+N13) -> 38 | R13: =O13-P13-Q13 -> 0 | V13: =SUM(S13-T13-U13) -> 0
A14: Keresztury VMK | B14: 159 | C14: 159 | D14: 16 | E14: =SUM(B14-C14-D14) -> -16 | F14: 60070 | H14: 35672 | I14: 9090 | J14: 518 | K14: 8032 | L14: 13701 | M14: 13701 | O14: =SUM(F14+I14+L14) -> 82861 | P14: =SUM(G14+J14+M14) -> 14219 | Q14: =SUM(H14+K14+N14) -> 43704 | R14: =O14-P14-Q14 -> 24938 | V14: =SUM(S14-T14-U14) -> 0
A15: Tourinform Iroda | E15: =SUM(B15-C15-D15) -> 0 | I15: 8723 | J15: 569 | K15: 3432 | L15: 227 | M15: 227 | O15: =SUM(F15+I15+L15) -> 8950 | P15: =SUM(G15+J15+M15) -> 796 | Q15: =SUM(H15+K15+N15) -> 3432 | R15: =O15-P15-Q15 -> 4722 | V15: =SUM(S15-T15-U15) -> 0
A16: Deák Ferenc Megyei és Városi Könyvtár | B16: 110 | C16: 2066 | D16: -1500 | E16: =SUM(B16-C16-D16) -> -456 | F16: 390 | H16: 2059 | I16: 37489 | J16: 27248 | K16: 9519 | L16: 40029 | M16: 40029 | O16: =SUM(F16+I16+L16) -> 77908 | P16: =SUM(G16+J16+M16) -> 67277 | Q16: =SUM(H16+K16+N16) -> 11578 | R16: =O16-P16-Q16 -> -947 | V16: =SUM(S16-T16-U16) -> 0
A17: Göcseji Múzeum | B17: 11196 | C17: 9067 | D17: 4085 | E17: =SUM(B17-C17-D17) -> -1956 | F17: 1320057 | H17: 14734 | I17: 53489 | J17: 36082 | K17: 10549 | L17: 20544 | M17: 30388 | O17: =SUM(F17+I17+L17) -> 1394090 | P17: =SUM(G17+J17+M17) -> 66470 | Q17: =SUM(H17+K17+N17) -> 25283 | R17: =O17-P17-Q17 -> 1302337 | V17: =SUM(S17-T17-U17) -> 0
A18: Hevesi Sándor Színház | B18: 103 | C18: 2053 | D18: -1949 | E18: =SUM(B18-C18-D18) -> -1 | F18: 31438 | G18: 20766 | H18: 8739 | I18: 13436 | J18: 6426 | K18: -33 | L18: 13436 | M18: 22361 | O18: =SUM(F18+I18+L18) -> 58310 | P18: =SUM(G18+J18+M18) -> 49553 | Q18: =SUM(H18+K18+N18) -> 8706 | R18: =O18-P18-Q18 -> 51 | V18: =SUM(S18-T18-U18) -> 0
A19: Griff Bábszínház | E19: =SUM(B19-C19-D19) -> 0 | H19: 5 | I19: 426 | K19: 219 | L19: 426 | M19: 426 | O19: =SUM(F19+I19+L19) -> 852 | P19: =SUM(G19+J19+M19) -> 426 | Q19: =SUM(H19+K19+N19) -> 224 | R19: =O19-P19-Q19 -> 202 | V19: =SUM(S19-T19-U19) -> 0
A20: Városi Sportlétesítmények Gondnoksága | C20: 138 | D20: -82 | E20: =SUM(B20-C20-D20) -> -56 | F20: 261207 | G20: 47242 | H20: 22131 | I20: 1087 | J20: 3037 | K20: -1548 | L20: 1087 | M20: 1087 | O20: =SUM(F20+I20+L20) -> 263381 | P20: =SUM(G20+J20+M20) -> 51366 | Q20: =SUM(H20+K20+N20) -> 20583 | R20: =O20-P20-Q20 -> 191432 | V20: =SUM(S20-T20-U20) -> 0
A21: Vásárcsarnok | D21: 12 | E21: =SUM(B21-C21-D21) -> -12 | G21: 6617 | H21: 7855 | I21: 691 | J21: 22 | K21: 1271 | L21: 691 | M21: 691 | O21: =SUM(F21+I21+L21) -> 1382 | P21: =SUM(G21+J21+M21) -> 7330 | Q21: =SUM(H21+K21+N21) -> 9126 | R21: =O21-P21-Q21 -> -15074 | V21: =SUM(S21-T21-U21) -> 0
A22: Költségvetési szervek össz: | B22: =SUM(B4:B21) -> 14483 | C22: =SUM(C4:C21) -> 26031 | D22: =SUM(D4:D21) -> -7930 | E22: =SUM(E4:E21) -> -3618 | F22: =SUM(F4:F21) -> 1739442 | G22: =SUM(G4:G21) -> 80971 | H22: =SUM(H4:H21) -> 162640 | I22: =SUM(I4:I21) -> 250891 | ... V22: =SUM(V4:V21) -> 0
A23: ZMJV Önkormányzat | B23: 172519 | C23: 2129 | D23: 55337 | E23: =SUM(B23-C23-D23) -> 115053 | F23: 2787833 | G23: 1010469 | H23: 1255218 | I23: 300303 | J23: 32281 | K23: 362332 | L23: 14678426 | M23: 4813080 | O23: =SUM(F23+I23+L23) -> 17766562 | P23: =SUM(G23+J23+M23) -> 5855830 | Q23: =SUM(H23+K23+N23) -> 1617550 | R23: =O23-P23-Q23 -> 10293182 | U23: 3818 | V23: =SUM(S23-T23-U23) -> -3818
A24: Mindösszesen: | B24: =SUM(B22:B23) -> 187002 | C24: =SUM(C22:C23) -> 28160 | D24: =SUM(D22:D23) -> 47407 | E24: =SUM(E22:E23) -> 111435 | F24: =SUM(F22:F23) -> 4527275 | G24: =SUM(G22:G23) -> 1091440 | H24: =SUM(H22:H23) -> 1417858 | I24: =SUM(I22:I23) -> 551194 | ... V24: =SUM(V22:V23) -> -3818

Sheet 19
D1: I. | E1: II/1. | F1: II./2. | G1: II./3. | H1: II/4. | I1: II. | M1: III. | N1: IV. | O1: Nemzeti vagyonba tartozó befektetett eszközök összesen (2+7+8+9)
D2: Immateriális javak | E2: Ingatlanok és kapcsolódó vagyoni értékű jogok | F2: Gépek, berendezések, felszerelések, járművek | G2: Tenyész- állatok | H2: Beruházások, felújítások | I2: Tárgyi eszközök együtt ( 3+4+5+6 ) | J2: Tartós részesedés | K2: Tartósan adott kölcsönök | L2: Befektetett pénzügyi eszközök összesen ( 9+10 ) | M2: Befektetett pénzügyi eszközök | N2: Koncesszióba, vagyonkezelésbe adott eszközök
A3: 1 | D3: 2 | E3: 3 | F3: 4 | G3: 5 | H3: 6 | I3: 7 | J3: 9 | K3: 10 | L3: 11 | M3: 8 | N3: 9 | O3: 10
A4: 1. | B4: Kizárólagos önkormányzati tulajdonban lévő vagyon forgalomképtelen | C4: Költségvetési szervek 2020.XII.31. | I4: =SUM(E4:H4) -> 0 | O4: =SUM(D4+I4+M4+N4) -> 0
C5: 2021.XII.31. | I5: =SUM(E5:H5) -> 0 | O5: =SUM(D5+I5+M5+N5) -> 0
C6: Változás | D6: =+D5-D4 -> 0 | E6: =+E5-E4 -> 0 | F6: =+F5-F4 -> 0 | G6: =+G5-G4 -> 0 | H6: =+H5-H4 -> 0 | I6: =+I5-I4 -> 0 | J6: =+J5-J4 -> 0 | K6: =+K5-K4 -> 0 | L6: =+L5-L4 -> 0 | N6: =+N5-N4 -> 0 | O6: =SUM(D6+I6+M6+N6) -> 0
C7: Önkormányzat 2020.XII.31. | E7: 52206118 | F7: 83450 | I7: =SUM(E7:H7) -> 52289568 | O7: =SUM(D7+I7+M7+N7) -> 52289568
C8: 2021.XII.31. | E8: 52904166 | F8: 104869 | I8: =SUM(E8:H8) -> 53009035 | O8: =SUM(D8+I8+M8+N8) -> 53009035
C9: Változás | D9: =+D8-D7 -> 0 | E9: =+E8-E7 -> 698048 | F9: =+F8-F7 -> 21419 | G9: =+G8-G7 -> 0 | H9: =+H8-H7 -> 0 | I9: =+I8-I7 -> 719467 | J9: =+J8-J7 -> 0 | K9: =+K8-K7 -> 0 | L9: =+L8-L7 -> 0 | N9: =+N8-N7 -> 0 | O9: =SUM(D9+I9+M9+N9) -> 719467
C10: Együtt 2020.XII.31. | D10: =+D4+D7 -> 0 | E10: =+E4+E7 -> 52206118 | F10: =+F4+F7 -> 83450 | G10: =+G4+G7 -> 0 | H10: =+H4+H7 -> 0 | I10: =+I4+I7 -> 52289568 | J10: =+J4+J7 -> 0 | K10: =+K4+K7 -> 0 | ... N10: =+N4+N7 -> 0 | O10: =SUM(D10+I10+M10+N10) -> 52289568
C11: 2021.XII.31. | D11: =+D5+D8 -> 0 | E11: =+E5+E8 -> 52904166 | F11: =+F5+F8 -> 104869 | G11: =+G5+G8 -> 0 | H11: =+H5+H8 -> 0 | I11: =+I5+I8 -> 53009035 | J11: =+J5+J8 -> 0 | K11: =+K5+K8 -> 0 | L11: =+L5+L8 -> 0 | N11: =+N5+N8 -> 0 | O11: =SUM(D11+I11+M11+N11) -> 53009035
C12: Változás | D12: =+D11-D10 -> 0 | E12: =+E11-E10 -> 698048 | F12: =+F11-F10 -> 21419 | G12: =+G11-G10 -> 0 | H12: =+H11-H10 -> 0 | I12: =+I11-I10 -> 719467 | J12: =+J11-J10 -> 0 | K12: =+K11-K10 -> 0 | ... N12: =+N11-N10 -> 0 | O12: =SUM(D12+I12+M12+N12) -> 719467
A13: 2. | B13: Nemzetgazdasági szempontból kiemelt jelentőségű vagyon forgalomképtelen | C13: Költségvetési szervek 2020.XII.31. | I13: =SUM(E13:H13) -> 0 | O13: =SUM(D13+I13+M13+N13) -> 0
C14: 2021.XII.31. | I14: =SUM(E14:H14) -> 0 | O14: =SUM(D14+I14+M14+N14) -> 0
C15: Változás | D15: =D14-D13 -> 0 | E15: =E14-E13 -> 0 | F15: =F14-F13 -> 0 | G15: =G14-G13 -> 0 | H15: =H14-H13 -> 0 | I15: =SUM(E15:H15) -> 0 | J15: =J14-J13 -> 0 | K15: =K14-K13 -> 0 | L15: =L14-L13 -> 0 | M15: =M14-M13 -> 0 | N15: =N14-N13 -> 0 | O15: =SUM(D15+I15+M15+N15) -> 0
C16: Önkormányzat 2020.XII.31. | E16: 6533 | F16: 65606 | I16: =SUM(E16:H16) -> 72139 | O16: =SUM(D16+I16+M16+N16) -> 72139
C17: 2021.XII.31. | E17: 6533 | F17: 65606 | I17: =SUM(E17:H17) -> 72139 | O17: =SUM(D17+I17+M17+N17) -> 72139
C18: Változás | D18: =D17-D16 -> 0 | E18: =E17-E16 -> 0 | F18: =F17-F16 -> 0 | G18: =G17-G16 -> 0 | H18: =H17-H16 -> 0 | I18: =SUM(E18:H18) -> 0 | J18: =J17-J16 -> 0 | K18: =K17-K16 -> 0 | L18: =L17-L16 -> 0 | M18: =M17-M16 -> 0 | N18: =N17-N16 -> 0 | O18: =SUM(D18+I18+M18+N18) -> 0
C19: Együtt 2020.XII.31. | D19: =SUM(D13+D16) -> 0 | E19: =SUM(E13+E16) -> 6533 | F19: =SUM(F13+F16) -> 65606 | G19: =SUM(G13+G16) -> 0 | H19: =SUM(H13+H16) -> 0 | I19: =SUM(I13+I16) -> 72139 | J19: =SUM(J13+J16) -> 0 | K19: =SUM(K13+K16) -> 0 | ... N19: =SUM(N13+N16) -> 0 | O19: =SUM(D19+I19+M19+N19) -> 72139
C20: 2021.XII.31. | D20: =SUM(D14+D17) -> 0 | E20: =SUM(E14+E17) -> 6533 | F20: =SUM(F14+F17) -> 65606 | G20: =SUM(G14+G17) -> 0 | H20: =SUM(H14+H17) -> 0 | I20: =SUM(I14+I17) -> 72139 | J20: =SUM(J14+J17) -> 0 | K20: =SUM(K14+K17) -> 0 | ... N20: =SUM(N14+N17) -> 0 | O20: =SUM(D20+I20+M20+N20) -> 72139
C21: Változás | D21: =D20-D19 -> 0 | E21: =E20-E19 -> 0 | F21: =F20-F19 -> 0 | G21: =G20-G19 -> 0 | H21: =H20-H19 -> 0 | I21: =I20-I19 -> 0 | J21: =J20-J19 -> 0 | K21: =K20-K19 -> 0 | ... N21: =N20-N19 -> 0 | O21: =SUM(D21+I21+M21+N21) -> 0
C22: Költségvetési szervek 2020.XII.31. | D22: 19372 | E22: 7807258 | F22: 416729 | H22: 23718 | I22: =SUM(E22:H22) -> 8247705 | O22: =SUM(D22+I22+M22+N22) -> 8267077
A23: 3. | B23: Korlátozottan forgalomképes vagyon | C23: 2021.XII.31. | D23: 15754 | E23: 9303198 | F23: 422315 | H23: 3126 | I23: =SUM(E23:H23) -> 9728639 | O23: =SUM(D23+I23+M23+N23) -> 9744393
C24: Változás | D24: =+D23-D22 -> -3618 | E24: =+E23-E22 -> 1495940 | F24: =+F23-F22 -> 5586 | G24: =+G23-G22 -> 0 | H24: =+H23-H22 -> -20592 | I24: =+I23-I22 -> 1480934 | J24: =+J23-J22 -> 0 | K24: =+K23-K22 -> 0 | L24: =+L23-L22 -> 0 | N24: =+N23-N22 -> 0 | O24: =SUM(D24+I24+M24+N24) -> 1477316
C25: Önkormányzat 2020.XII.31. | D25: 70570 | E25: 41394949 | F25: 1432694 | H25: 11879737 | I25: =SUM(E25:H25) -> 54707380 | M25: 1482142 | O25: =SUM(D25+I25+M25+N25) -> 56260092
C26: 2021.XII.31. | D26: 185623 | E26: 41962564 | F26: 1317472 | H26: 21745083 | I26: =SUM(E26:H26) -> 65025119 | M26: 1752411 | N26: 0 | O26: =SUM(D26+I26+M26+N26) -> 66963153
C27: Változás | D27: =+D26-D25 -> 115053 | E27: =+E26-E25 -> 567615 | F27: =+F26-F25 -> -115222 | G27: =+G26-G25 -> 0 | H27: =+H26-H25 -> 9865346 | I27: =+I26-I25 -> 10317739 | J27: =+J26-J25 -> 0 | K27: =+K26-K25 -> 0 | ... N27: =+N26-N25 -> 0 | O27: =SUM(D27+I27+M27+N27) -> 10703061
C28: Együtt 2020.XII.31. | D28: =+D22+D25 -> 89942 | E28: =+E22+E25 -> 49202207 | F28: =+F22+F25 -> 1849423 | G28: =+G22+G25 -> 0 | H28: =+H22+H25 -> 11903455 | I28: =+I22+I25 -> 62955085 | J28: =+J22+J25 -> 0 | K28: =+K22+K25 -> 0 | ... N28: =+N22+N25 -> 0 | O28: =SUM(D28+I28+M28+N28) -> 64527169
C29: 2021.XII.31. | D29: =+D23+D26 -> 201377 | E29: =+E23+E26 -> 51265762 | F29: =+F23+F26 -> 1739787 | G29: =+G23+G26 -> 0 | H29: =+H23+H26 -> 21748209 | I29: =+I23+I26 -> 74753758 | J29: =+J23+J26 -> 0 | K29: =+K23+K26 -> 0 | ... N29: =+N23+N26 -> 0 | O29: =SUM(D29+I29+M29+N29) -> 76707546
C30: Változás | D30: =+D29-D28 -> 111435 | E30: =+E29-E28 -> 2063555 | F30: =+F29-F28 -> -109636 | G30: =+G29-G28 -> 0 | H30: =+H29-H28 -> 9844754 | I30: =+I29-I28 -> 11798673 | J30: =+J29-J28 -> 0 | K30: =+K29-K28 -> 0 | ... N30: =+N29-N28 -> 0 | O30: =SUM(D30+I30+M30+N30) -> 12180377
C31: Költségvetési szervek 2020.XII.31. | D31: =SUM(D4+D13+D22) -> 19372 | E31: =SUM(E4+E13+E22) -> 7807258 | F31: =SUM(F4+F13+F22) -> 416729 | G31: =SUM(G4+G13+G22) -> 0 | H31: =SUM(H4+H13+H22) -> 23718 | I31: =SUM(I4+I13+I22) -> 8247705 | J31: =SUM(J4+J13+J22) -> 0 | K31: =SUM(K4+K13+K22) -> 0 | ... N31: =SUM(N4+N13+N22) -> 0 | O31: =SUM(D31+I31+M31+N31) -> 8267077
C32: 2021.XII.31. | D32: =SUM(D5+D14+D23) -> 15754 | E32: =SUM(E5+E14+E23) -> 9303198 | F32: =SUM(F5+F14+F23) -> 422315 | G32: =SUM(G5+G14+G23) -> 0 | H32: =SUM(H5+H14+H23) -> 3126 | I32: =SUM(I5+I14+I23) -> 9728639 | J32: =SUM(J5+J14+J23) -> 0 | K32: =SUM(K5+K14+K23) -> 0 | ... N32: =SUM(N5+N14+N23) -> 0 | O32: =SUM(D32+I32+M32+N32) -> 9744393
A33: 1.+2+3. | B33: Törzsvagyon | C33: Változás | D33: =SUM(D32-D31) -> -3618 | E33: =SUM(E32-E31) -> 1495940 | F33: =SUM(F32-F31) -> 5586 | G33: =SUM(G32-G31) -> 0 | H33: =SUM(H32-H31) -> -20592 | I33: =SUM(I32-I31) -> 1480934 | J33: =SUM(J32-J31) -> 0 | K33: =SUM(K32-K31) -> 0 | ... N33: =SUM(N32-N31) -> 0 | O33: =SUM(D33+I33+M33+N33) -> 1477316
C34: Önkormányzat 2020.XII.31. | D34: =SUM(D7+D16+D25) -> 70570 | E34: =SUM(E7+E16+E25) -> 93607600 | F34: =SUM(F7+F16+F25) -> 1581750 | G34: =SUM(G7+G16+G25) -> 0 | H34: =SUM(H7+H16+H25) -> 11879737 | I34: =SUM(I7+I16+I25) -> 107069087 | J34: =SUM(J7+J16+J25) -> 0 | K34: =SUM(K7+K16+K25) -> 0 | ... N34: =SUM(N7+N16+N25) -> 0 | O34: =SUM(D34+I34+M34+N34) -> 108621799
C35: 2021.XII.31. | D35: =SUM(D8+D17+D26) -> 185623 | E35: =SUM(E8+E17+E26) -> 94873263 | F35: =SUM(F8+F17+F26) -> 1487947 | G35: =SUM(G8+G17+G26) -> 0 | H35: =SUM(H8+H17+H26) -> 21745083 | I35: =SUM(I8+I17+I26) -> 118106293 | J35: =SUM(J8+J17+J26) -> 0 | K35: =SUM(K8+K17+K26) -> 0 | ... N35: =SUM(N8+N17+N26) -> 0 | O35: =SUM(D35+I35+M35+N35) -> 120044327
C36: Változás | D36: =SUM(D35-D34) -> 115053 | E36: =SUM(E35-E34) -> 1265663 | F36: =SUM(F35-F34) -> -93803 | G36: =SUM(G35-G34) -> 0 | H36: =SUM(H35-H34) -> 9865346 | I36: =SUM(I35-I34) -> 11037206 | J36: =SUM(J35-J34) -> 0 | K36: =SUM(K35-K34) -> 0 | ... N36: =SUM(N35-N34) -> 0 | O36: =SUM(D36+I36+M36+N36) -> 11422528
C37: Együtt 2020.XII.31. | D37: =SUM(D10+D28) -> 89942 | E37: =SUM(E10+E28) -> 101408325 | F37: =SUM(F10+F28) -> 1932873 | G37: =SUM(G10+G28) -> 0 | H37: =SUM(H10+H28) -> 11903455 | I37: =SUM(I10+I28) -> 115244653 | J37: =SUM(J10+J28) -> 0 | K37: =SUM(K10+K28) -> 0 | ... N37: =SUM(N10+N28) -> 0 | O37: =SUM(D37+I37+M37+N37) -> 116816737
C38: 2021.XII.31. | D38: =SUM(D11+D29) -> 201377 | E38: =SUM(E11+E29) -> 104169928 | F38: =SUM(F11+F29) -> 1844656 | G38: =SUM(G11+G29) -> 0 | H38: =SUM(H11+H29) -> 21748209 | I38: =SUM(I11+I29) -> 127762793 | J38: =SUM(J11+J29) -> 0 | K38: =SUM(K11+K29) -> 0 | ... N38: =SUM(N11+N29) -> 0 | O38: =SUM(D38+I38+M38+N38) -> 129716581
C39: Változás | D39: =SUM(D38-D37) -> 111435 | E39: =SUM(E38-E37) -> 2761603 | F39: =SUM(F38-F37) -> -88217 | G39: =SUM(G38-G37) -> 0 | H39: =SUM(H38-H37) -> 9844754 | I39: =SUM(I38-I37) -> 12518140 | J39: =SUM(J38-J37) -> 0 | K39: =SUM(K38-K37) -> 0 | ... N39: =SUM(N38-N37) -> 0 | O39: =SUM(D39+I39+M39+N39) -> 12899844
C40: Költségvetési szervek 2020.XII.31. | E40: 5064 | F40: 7015 | H40: 95 | I40: =SUM(E40:H40) -> 12174 | N40: 0 | O40: =SUM(D40+I40+M40+N40) -> 12174
A41: 4. | B41: Üzleti vagyon forgalomképes | C41: 2021.XII.31. | E41: 4955 | F41: 13857 | H41: 95 | I41: =SUM(E41:H41) -> 18907 | N41: 0 | O41: =SUM(D41+I41+M41+N41) -> 18907
C42: Változás | D42: =+D41-D40 -> 0 | E42: =+E41-E40 -> -109 | F42: =+F41-F40 -> 6842 | G42: =+G41-G40 -> 0 | H42: =+H41-H40 -> 0 | I42: =+I41-I40 -> 6733 | J42: =+J41-J40 -> 0 | K42: =+K41-K40 -> 0 | L42: =+L41-L40 -> 0 | N42: =+N41-N40 -> 0 | O42: =SUM(D42+I42+M42+N42) -> 6733
C43: Önkormányzat 2020.XII.31. | E43: 15463254 | F43: 5683 | I43: =SUM(E43:H43) -> 15468937 | N43: 180745 | O43: =SUM(D43+I43+M43+N43) -> 15649682
C44: 2021.XII.31. | E44: 14719737 | F44: 5176 | I44: =SUM(E44:H44) -> 14724913 | N44: 176928 | O44: =SUM(D44+I44+M44+N44) -> 14901841
C45: Változás | D45: =+D44-D43 -> 0 | E45: =+E44-E43 -> -743517 | F45: =+F44-F43 -> -507 | G45: =+G44-G43 -> 0 | H45: =+H44-H43 -> 0 | I45: =+I44-I43 -> -744024 | J45: =+J44-J43 -> 0 | K45: =+K44-K43 -> 0 | ... N45: =+N44-N43 -> -3817 | O45: =SUM(D45+I45+M45+N45) -> -747841
C46: Együtt 2020.XII.31. | D46: =+D40+D43 -> 0 | E46: =+E40+E43 -> 15468318 | F46: =+F40+F43 -> 12698 | G46: =+G40+G43 -> 0 | H46: =+H40+H43 -> 95 | I46: =+I40+I43 -> 15481111 | J46: =+J40+J43 -> 0 | K46: =+K40+K43 -> 0 | L46: =+L40+L43 -> 0 | M46: 507736 | N46: =+N40+N43 -> 180745 | O46: =SUM(D46+I46+M46+N46) -> 16169592
C47: 2021.XII.31. | D47: =+D41+D44 -> 0 | E47: =+E41+E44 -> 14724692 | F47: =+F41+F44 -> 19033 | G47: =+G41+G44 -> 0 | H47: =+H41+H44 -> 95 | I47: =+I41+I44 -> 14743820 | J47: =+J41+J44 -> 0 | K47: =+K41+K44 -> 0 | L47: =+L41+L44 -> 0 | M47: 192827 | N47: =+N41+N44 -> 176928 | O47: =SUM(D47+I47+M47+N47) -> 15113575
C48: Változás | D48: =+D47-D46 -> 0 | E48: =+E47-E46 -> -743626 | F48: =+F47-F46 -> 6335 | G48: =+G47-G46 -> 0 | H48: =+H47-H46 -> 0 | I48: =+I47-I46 -> -737291 | J48: =+J47-J46 -> 0 | K48: =+K47-K46 -> 0 | ... N48: =+N47-N46 -> -3817 | O48: =SUM(D48+I48+M48+N48) -> -1056017
C49: Költségvetési szervek 2020.XII.31. | D49: =+D31+D40 -> 19372 | E49: =+E31+E40 -> 7812322 | F49: =+F31+F40 -> 423744 | G49: =+G31+G40 -> 0 | H49: =+H31+H40 -> 23813 | I49: =+I31+I40 -> 8259879 | J49: =+J31+J40 -> 0 | K49: =+K31+K40 -> 0 | ... N49: =+N31+N40 -> 0 | O49: =SUM(D49+I49+M49+N49) -> 8279251
A50: 5. | B50: Önkormányzati vagyon összesen (1+2+3+4 ) | C50: 2021.XII.31. | D50: =+D32+D41 -> 15754 | E50: =+E32+E41 -> 9308153 | F50: =+F32+F41 -> 436172 | G50: =+G32+G41 -> 0 | H50: =+H32+H41 -> 3221 | I50: =+I32+I41 -> 9747546 | J50: =+J32+J41 -> 0 | K50: =+K32+K41 -> 0 | ... N50: =+N32+N41 -> 0 | O50: =SUM(D50+I50+M50+N50) -> 9763300
C51: Változás | D51: =+D50-D49 -> -3618 | E51: =+E50-E49 -> 1495831 | F51: =+F50-F49 -> 12428 | G51: =+G50-G49 -> 0 | H51: =+H50-H49 -> -20592 | I51: =+I50-I49 -> 1487667 | J51: =+J50-J49 -> 0 | K51: =+K50-K49 -> 0 | L51: =+L50-L49 -> 0 | N51: =+N50-N49 -> 0 | O51: =SUM(D51+I51+M51+N51) -> 1484049
C52: Önkormányzat 2020.XII.31. | D52: =+D34+D43 -> 70570 | E52: =+E34+E43 -> 109070854 | F52: =+F34+F43 -> 1587433 | G52: =+G34+G43 -> 0 | H52: =+H34+H43 -> 11879737 | I52: =+I34+I43 -> 122538024 | J52: =+J34+J43 -> 0 | K52: =+K34+K43 -> 0 | ... N52: =+N34+N43 -> 180745 | O52: =SUM(D52+I52+M52+N52) -> 124271481
C53: 2021.XII.31. | D53: =+D35+D44 -> 185623 | E53: =+E35+E44 -> 109593000 | F53: =+F35+F44 -> 1493123 | G53: =+G35+G44 -> 0 | H53: =+H35+H44 -> 21745083 | I53: =+I35+I44 -> 132831206 | J53: =+J35+J44 -> 0 | K53: =+K35+K44 -> 0 | ... N53: =+N35+N44 -> 176928 | O53: =SUM(D53+I53+M53+N53) -> 134946168
C54: Változás | D54: =+D53-D52 -> 115053 | E54: =+E53-E52 -> 522146 | F54: =+F53-F52 -> -94310 | G54: =+G53-G52 -> 0 | H54: =+H53-H52 -> 9865346 | I54: =+I53-I52 -> 10293182 | J54: =+J53-J52 -> 0 | K54: =+K53-K52 -> 0 | ... N54: =+N53-N52 -> -3817 | O54: =SUM(D54+I54+M54+N54) -> 10674687
C55: Együtt 2020.XII.31. | D55: =+D49+D52 -> 89942 | E55: =+E49+E52 -> 116883176 | F55: =+F49+F52 -> 2011177 | G55: =+G49+G52 -> 0 | H55: =+H49+H52 -> 11903550 | I55: =+I49+I52 -> 130797903 | J55: =+J49+J52 -> 0 | K55: =+K49+K52 -> 0 | ... N55: =+N49+N52 -> 180745 | O55: =SUM(D55+I55+M55+N55) -> 132550732
C56: 2021.XII.31. | D56: =+D50+D53 -> 201377 | E56: =+E50+E53 -> 118901153 | F56: =+F50+F53 -> 1929295 | G56: =+G50+G53 -> 0 | H56: =+H50+H53 -> 21748304 | I56: =+I50+I53 -> 142578752 | J56: =+J50+J53 -> 0 | K56: =+K50+K53 -> 0 | ... N56: =+N50+N53 -> 176928 | O56: =SUM(D56+I56+M56+N56) -> 144709468
C57: Változás | D57: =+D56-D55 -> 111435 | E57: =+E56-E55 -> 2017977 | F57: =+F56-F55 -> -81882 | G57: =+G56-G55 -> 0 | H57: =+H56-H55 -> 9844754 | I57: =+I56-I55 -> 11780849 | J57: =+J56-J55 -> 0 | K57: =+K56-K55 -> 0 | ... N57: =+N56-N55 -> -3817 | O57: =SUM(D57+I57+M57+N57) -> 12158736

Sheet 20
A1: Intézmény megnevezése | B1: Immateriális javak | C1: Tárgyi eszközök | H1: Koncesszióba, vagyonkezelésbe adott eszközök | I1: Összesen:
C2: Ingatlanok és kapcsolódó vagyoni értékű jogok | D2: Gépek, berendezések, felszerelések, járművek | E2: Tenyészállatok | F2: Beruházások és felújítások | G2: Tárgyi eszközök összesen:
A4: Polgármesteri Hivatal | B4: 276794 | C4: 11 | D4: 161166 | G4: =SUM(C4:F4) -> 161177 | I4: =SUM(B4+G4+H4) -> 437971
A5: Zalaegerszegi GESZ | B5: 799 | C5: 120 | D5: 31411 | G5: =SUM(C5:F5) -> 31531 | I5: =SUM(B5+G5+H5) -> 32330
A6: Zalaegerszegi Egyesített Bölcsődék | B6: 209 | C6: 403 | D6: 65905 | G6: =SUM(C6:F6) -> 66308 | I6: =SUM(B6+G6+H6) -> 66517
A7: Zalaegerszegi Eü. Alapellátás | B7: 262 | C7: 450 | D7: 108803 | G7: =SUM(C7:F7) -> 109253 | I7: =SUM(B7+G7+H7) -> 109515
A8: Zegi Család- és Gyermekjóléti Központ | B8: 288 | D8: 33755 | G8: =SUM(C8:F8) -> 33755 | I8: =SUM(B8+G8+H8) -> 34043
A9: Zalaegerszegi Belvárosi I. számú Óvoda | C9: 550 | D9: 23778 | G9: =SUM(C9:F9) -> 24328 | I9: =SUM(B9+G9+H9) -> 24328
A10: Zalaegerszegi Belvárosi II. számú Óvoda | B10: 149 | C10: 600 | D10: 36697 | G10: =SUM(C10:F10) -> 37297 | I10: =SUM(B10+G10+H10) -> 37446
A11: Zalaegerszegi Kertvárosi Óvoda | B11: 149 | C11: 591 | D11: 33449 | G11: =SUM(C11:F11) -> 34040 | I11: =SUM(B11+G11+H11) -> 34189
A12: Zalaegerszegi Landorhegyi Óvoda | C12: 2265 | D12: 30593 | G12: =SUM(C12:F12) -> 32858 | I12: =SUM(B12+G12+H12) -> 32858
A13: Közgyűjteményi és Közművelődési GESZ | D13: 316 | G13: =SUM(C13:F13) -> 316 | I13: =SUM(B13+G13+H13) -> 316
A14: Keresztury VMK | B14: 296 | C14: 2709 | D14: 124922 | G14: =SUM(C14:F14) -> 127631 | I14: =SUM(B14+G14+H14) -> 127927
A15: Tourinform Iroda | D15: 4960 | G15: =SUM(C15:F15) -> 4960 | I15: =SUM(B15+G15+H15) -> 4960
A16: Deák Ferenc Megyei és Városi Könyvtár | B16: 19381 | D16: 322145 | G16: =SUM(C16:F16) -> 322145 | I16: =SUM(B16+G16+H16) -> 341526
A17: Göcseji Múzeum | B17: 16370 | C17: 1215 | D17: 149691 | G17: =SUM(C17:F17) -> 150906 | I17: =SUM(B17+G17+H17) -> 167276
A18: Hevesi Sándor Színház | B18: 1351 | C18: 35078 | D18: 73668 | G18: =SUM(C18:F18) -> 108746 | I18: =SUM(B18+G18+H18) -> 110097
A19: Griff Bábszínház | D19: 31413 | G19: =SUM(C19:F19) -> 31413 | I19: =SUM(B19+G19+H19) -> 31413
A20: Városi Sportlétesítmények Gondnoksága | B20: 148 | C20: 17235 | D20: 49174 | G20: =SUM(C20:F20) -> 66409 | I20: =SUM(B20+G20+H20) -> 66557
A21: Vásárcsarnok | B21: 278 | D21: 29205 | G21: =SUM(C21:F21) -> 29205 | I21: =SUM(B21+G21+H21) -> 29483
A22: Költségvetési szervek összesen: | B22: =SUM(B4:B21) -> 316474 | C22: =SUM(C4:C21) -> 61227 | D22: =SUM(D4:D21) -> 1311051 | E22: =SUM(E4:E21) -> 0 | F22: =SUM(F4:F21) -> 0 | G22: =SUM(G4:G21) -> 1372278 | H22: =SUM(H4:H21) -> 0 | I22: =SUM(I4:I21) -> 1688752
A23: ZMJV Önkormányzata | B23: 140972 | C23: 127963 | D23: 597136 | G23: =SUM(C23:F23) -> 725099 | H23: 23791 | I23: =SUM(B23+G23+H23) -> 889862
A24: Önkormányzat összesen: | B24: =SUM(B22:B23) -> 457446 | C24: =SUM(C22:C23) -> 189190 | D24: =SUM(D22:D23) -> 1908187 | E24: =SUM(E22:E23) -> 0 | F24: =SUM(F22:F23) -> 0 | G24: =SUM(G22:G23) -> 2097377 | H24: =SUM(H22:H23) -> 23791 | I24: =SUM(I22:I23) -> 2578614

Sheet 21
A1: Intézmény megnevezése | B1: Befektetett eszközök év végi értéke | E1: Tárgyévben elszámolt értékcsökkenés | F1: Tárgyévi eszköznövekedés | G1: Eszközök elhasználódási foka (nettó/bruttó) (%) | H1: Tárgyévi eszköznövekedés/ tárgyévben elszámolt értékcsökkenés (%)
B2: Bruttó érték | C2: Elszámolt értékcsökkenés | D2: Nettó érték
A3: Polgármesteri Hivatal | B3: 1056802 | C3: =B3-D3 -> 680352 | D3: ='15'!I3 -> 376450 | E3: 25098 | F3: 28111 | G3: =D3/B3*100 -> 35.621621 | H3: =F3/E3*100 -> 112.00494
A4: Zalaegerszegi GESZ | B4: 256536 | C4: =B4-D4 -> 127703 | D4: ='15'!I4 -> 128833 | E4: 833 | F4: 1250 | G4: =D4/B4*100 -> 50.220242 | H4: =F4/E4*100 -> 150.06002
A5: Zalaegerszegi Egyesített Bölcsődék | B5: 1075944 | C5: =B5-D5 -> 228783 | D5: ='15'!I5 -> 847161 | E5: 18782 | F5: 8952 | G5: =D5/B5*100 -> 78.736533 | H5: =F5/E5*100 -> 47.662656
A6: Zalaegerszegi Eü. Alapellátás | B6: 1045782 | C6: =B6-D6 -> 309161 | D6: ='15'!I6 -> 736621 | E6: 20912 | F6: 2042 | G6: =D6/B6*100 -> 70.437338 | H6: =F6/E6*100 -> 9.7647284
A7: Zegi Család- és Gyermekjóléti Központ | B7: 48502 | C7: =B7-D7 -> 41401 | D7: ='15'!I7 -> 7101 | E7: 1181 | F7: 3264 | G7: =D7/B7*100 -> 14.640633 | H7: =F7/E7*100 -> 276.37595
A8: Zalaegerszegi Belvárosi I. számú Óvoda | B8: 426393 | C8: =B8-D8 -> 96699 | D8: ='15'!I8 -> 329694 | E8: 8545 | F8: 13519 | G8: =D8/B8*100 -> 77.321626 | H8: =F8/E8*100 -> 158.20948
A9: Zalaegerszegi Belvárosi II. számú Óvoda | B9: 423439 | C9: =B9-D9 -> 104347 | D9: ='15'!I9 -> 319092 | E9: 6934 | F9: 3031 | G9: =D9/B9*100 -> 75.357253 | H9: =F9/E9*100 -> 43.712143
A10: Zalaegerszegi Kertvárosi Óvoda | B10: 603300 | C10: =B10-D10 -> 117257 | D10: ='15'!I10 -> 486043 | E10: 12246 | F10: 4837 | G10: =D10/B10*100 -> 80.564064 | H10: =F10/E10*100 -> 39.498612
A11: Zalaegerszegi Landorhegyi Óvoda | B11: 489947 | C11: =B11-D11 -> 102494 | D11: ='15'!I11 -> 387453 | E11: 7353 | F11: 3110 | G11: =D11/B11*100 -> 79.080594 | H11: =F11/E11*100 -> 42.295662
A12: Közgyűjteményi és Közművelődési GESZ | B12: 316 | C12: =B12-D12 -> 316 | E12: 38 | F12: 38 | H12: =F12/E12*100 -> 100
A13: Keresztury VMK | B13: 2428936 | C13: =B13-D13 -> 570474 | D13: ='15'!I13 -> 1858462 | E13: 43720 | F13: 69161 | G13: =D13/B13*100 -> 76.51342 | H13: =F13/E13*100 -> 158.19076
A14: Tourinform Iroda | B14: 13708 | C14: =B14-D14 -> 8737 | D14: ='15'!I14 -> 4971 | E14: 3432 | F14: 8723 | G14: =D14/B14*100 -> 36.263496 | H14: =F14/E14*100 -> 254.16667
A15: Deák Ferenc Megyei és Városi Könyvtár | B15: 505046 | C15: =B15-D15 -> 396453 | D15: ='15'!I15 -> 108593 | E15: 10079 | F15: 37769 | G15: =D15/B15*100 -> 21.501606 | H15: =F15/E15*100 -> 374.72964
A16: Göcseji Múzeum | B16: 2139065 | C16: =B16-D16 -> 331498 | D16: ='15'!I16 -> 1807567 | E16: 29368 | F16: 1344086 | G16: =D16/B16*100 -> 84.502668 | H16: =F16/E16*100 -> 4576.7025
A17: Hevesi Sándor Színház | B17: 790390 | C17: =B17-D17 -> 357774 | D17: ='15'!I17 -> 432616 | E17: 6757 | F17: 20801 | G17: =D17/B17*100 -> 54.734498 | H17: =F17/E17*100 -> 307.84372
A18: Griff Bábszínház | B18: 38543 | C18: =B18-D18 -> 38060 | D18: ='15'!I18 -> 483 | E18: 224 | F18: 426 | G18: =D18/B18*100 -> 1.2531458 | H18: =F18/E18*100 -> 190.17857
A19: Városi Sportlétesítmény Gondnoksága | B19: 2005531 | C19: =B19-D19 -> 475676 | D19: ='15'!I19 -> 1529855 | E19: 20501 | F19: 261207 | G19: =D19/B19*100 -> 76.281793 | H19: =F19/E19*100 -> 1274.1183
A20: Vásárcsarnok | B20: 538759 | C20: =B20-D20 -> 136454 | D20: ='15'!I20 -> 402305 | E20: 9137 | G20: =D20/B20*100 -> 74.672534 | H20: =F20/E20*100 -> 0
A21: Költségvetési szervek össz: | B21: =SUM(B3:B20) -> 13886939 | C21: =SUM(C3:C20) -> 4123639 | D21: =SUM(D3:D20) -> 9763300 | E21: =SUM(E3:E20) -> 225140 | F21: =SUM(F3:F20) -> 1810327 | G21: =D21/B21*100 -> 70.30563 | H21: =F21/E21*100 -> 804.08946
A22: ZMJV Önkormányzata | B22: 154019020 | C22: =B22-D22 -> 20825263 | D22: ='15'!I22-'15'!G22 -> 133193757 | E22: 1676704 | F22: 2900126 | G22: =D22/B22*100 -> 86.478772 | H22: =F22/E22*100 -> 172.96589
A23: Önkormányzat összesen: | B23: =SUM(B21:B22) -> 167905959 | C23: =SUM(C21:C22) -> 24948902 | D23: =SUM(D21:D22) -> 142957057 | E23: =SUM(E21:E22) -> 1901844 | F23: =SUM(F21:F22) -> 4710453 | G23: =D23/B23*100 -> 85.141146 | H23: =F23/E23*100 -> 247.6782

Sheet 22
A1: Költségvetési szerv megnevezése | B1: Képzőművészeti alkotások | D1: Régészeti leletek | F1: Kép- és hangarchívum | H1: Gyűjtemények | J1: Kulturális javak | L1: "0"-ra leírt, de használatban lévő eszközök, kisértékű immateriális javak, tárgyi eszközök | N1: A 01-02. számlacsoportban nyilvántartott eszközök | P1: Összesen:
B2: menny (db) | C2: érték (eFt) | D2: menny (db) | E2: érték (eFt) | F2: menny (db) | G2: érték (eFt) | H2: menny (db) | I2: érték (eFt) | J2: menny (db) | K2: érték (eFt) | L2: menny (db) | M2: érték (eFt) | N2: menny (db) | O2: érték (eFt) | P2: érték (eFt)
A3: Polgármesteri Hivatal | L3: 4187 | M3: 437971 | P3: =SUM(C3+E3+G3+I3+K3+M3+O3) -> 437971
A4: Zalaegerszegi GESZ | L4: 3301 | M4: 32330 | N4: 84537 | O4: 9714191 | P4: =SUM(C4+E4+G4+I4+K4+M4+O4) -> 9746521
A5: Zalaegerszegi Egyesített Bölcsődék | L5: 4144 | M5: 66517 | P5: =SUM(C5+E5+G5+I5+K5+M5+O5) -> 66517
A6: Zalaegerszegi Eü. Alapellátás | L6: 4657 | M6: 109515 | P6: =SUM(C6+E6+G6+I6+K6+M6+O6) -> 109515
A7: Zegi Család- és Gyermekjóléti Központ | L7: 1040 | M7: 34043 | P7: =SUM(C7+E7+G7+I7+K7+M7+O7) -> 34043
A8: Zalaegerszegi Belvárosi I. számú Óvoda | L8: 263 | M8: 24328 | P8: =SUM(C8+E8+G8+I8+K8+M8+O8) -> 24328
A9: Zalaegerszegi Belvárosi II. számú Óvoda | L9: 318 | M9: 37446 | P9: =SUM(C9+E9+G9+I9+K9+M9+O9) -> 37446
A10: Zalaegerszegi Kertvárosi Óvoda | L10: 2149 | M10: 34189 | P10: =SUM(C10+E10+G10+I10+K10+M10+O10) -> 34189
A11: Zalaegerszegi Landorhegyi Óvoda | L11: 210 | M11: 32858 | P11: =SUM(C11+E11+G11+I11+K11+M11+O11) -> 32858
A12: Közgyűjteményi és Közművelődési GESZ | L12: 8 | M12: 316 | P12: =SUM(C12+E12+G12+I12+K12+M12+O12) -> 316
A13: Keresztury VMK | L13: 895 | M13: 127927 | P13: =SUM(C13+E13+G13+I13+K13+M13+O13) -> 127927
A14: Tourinform Iroda | L14: 214 | M14: 4960 | P14: =SUM(C14+E14+G14+I14+K14+M14+O14) -> 4960
A15: Deák Ferenc Megyei és Városi Könyvtár | L15: 2678 | M15: 341526 | P15: =SUM(C15+E15+G15+I15+K15+M15+O15) -> 341526
A16: Göcseji Múzeum | B16: 2385 | D16: 319269 | F16: 68237 | H16: 55019 | J16: 487910 | L16: 3577 | M16: 167276 | P16: =SUM(C16+E16+G16+I16+K16+M16+O16) -> 167276
A17: Hevesi Sándor Színház | B17: 1 | C17: 1580 | L17: 1304 | M17: 110097 | P17: =SUM(C17+E17+G17+I17+K17+M17+O17) -> 111677
A18: Griff Bábszínház | L18: 30 | M18: 31413 | P18: =SUM(C18+E18+G18+I18+K18+M18+O18) -> 31413
A19: Városi Sportlétesítmény Gondnoksága | L19: 67 | M19: 66557 | N19: 1437 | O19: 6237 | P19: =SUM(C19+E19+G19+I19+K19+M19+O19) -> 72794
A20: Vásárcsarnok | L20: 239 | M20: 29483 | P20: =SUM(C20+E20+G20+I20+K20+M20+O20) -> 29483
A21: Költségvetési szervek össz: | B21: =SUM(B3:B20) -> 2386 | C21: =SUM(C3:C20) -> 1580 | D21: =SUM(D3:D20) -> 319269 | E21: =SUM(E3:E20) -> 0 | F21: =SUM(F3:F20) -> 68237 | G21: =SUM(G3:G20) -> 0 | H21: =SUM(H3:H20) -> 55019 | I21: =SUM(I3:I20) -> 0 | ... P21: =SUM(P3:P20) -> 11410760
A22: ZMJV Önkormányzata | L22: 17216 | M22: 889862 | P22: =SUM(C22+E22+G22+I22+K22+M22+O22) -> 889862
A23: Önkormányzat összesen: | B23: =SUM(B21:B22) -> 2386 | C23: =SUM(C21:C22) -> 1580 | D23: =SUM(D21:D22) -> 319269 | E23: =SUM(E21:E22) -> 0 | F23: =SUM(F21:F22) -> 68237 | G23: =SUM(G21:G22) -> 0 | H23: =SUM(H21:H22) -> 55019 | I23: =SUM(I21:I22) -> 0 | ... P23: =SUM(P21:P22) -> 12300622

Sheet 23
A1: Sorszám | B1: Megnevezés | C1: Tulajdoni részesedés aránya 2021. 12.31-én | D1: Székhely | E1: Állomány 2020. december 31-én | G1: Állomány 2021. december 31-én
E2: Névérték | F2: Nyilvántartás szerinti érték | G2: Névérték | H2: Nyilvántartás szerinti érték
A4: I. Törzsvagyon körébe tartozó részesedések
B5: 100 %-os részesedéssel
A6: 1. | B6: Városgazdálkodási Kft. | C6: 100,00 % | D6: Zalaegerszeg | E6: 94470000 | F6: 94470000 | G6: 94470000 | H6: 94470000
A7: 2. | B7: ZALA-MÜLLEX Kft. | C7: 100,00 % | D7: Zalaegerszeg | E7: 201000000 | F7: 201000000 | G7: 201000000 | H7: 201000000
A8: 3. | B8: Kontakt Humán Szolgáltató Nonprofit Kft. | C8: 100,00 % | D8: Zalaegerszeg | E8: 3000000 | F8: 3000000 | G8: 3000000 | H8: 3000000
A9: 4. | B9: LÉSZ Kft. | C9: 100,00 % | D9: Zalaegerszeg | E9: 210000000 | F9: 210000000 | G9: 210000000 | H9: 210000000
A10: 5. | B10: Zalai Közszolgáltató Nonprofit Kft. | C10: 100,00 % | D10: Zalaegerszeg | E10: 3000000 | F10: 3000000 | G10: 3100000 | H10: 43000000
A11: 6. | B11: Városfejlesztő Zrt. | C11: 100,00 % | D11: Zalaegerszeg | E11: 473000000 | F11: 445629074 | G11: 473500000 | H11: 430049518
B12: 75 %-on felüli részesedéssel
A13: 7. | B13: Zalavíz Zrt. (önkormányzat) | C13: 79,316 % | D13: Zalaegerszeg | E13: 396800000 | F13: 379430000 | G13: 396900000 | H13: 608079000
A14: Törzsvagyon körébe tartozó részesedések összesen: | E14: =SUM(E6:E13) -> 1381270000 | F14: =SUM(F6:F13) -> 1336529074 | G14: =SUM(G6:G13) -> 1381970000 | H14: =SUM(H6:H13) -> 1589598518
A15: II. Törzsvagyonba körébe nem tartozó részesedések
B16: 100 %-os részesedéssel
A17: 8. | B17: Zalaegerszegi Televízió és Rádió Kft. | C17: 100,00 % | D17: Zalaegerszeg | E17: 3500000 | F17: 3500000 | G17: 3500000 | H17: 3500000
A18: 9. | B18: Zalaegerszegi Létesítményfenntartó Kft. | C18: 100,00 % | D18: Zalaegerszeg | E18: 15420000 | F18: 72012000 | G18: 15420000 | H18: 72012000 | I18: *
A19: 10. | B19: Kvártélyház Kft. | C19: 100,00 % | D19: Zalaegerszeg | E19: 3000000 | F19: 3000000 | G19: 3000000 | H19: 3000000
A20: 11. | B20: Zalaegerszegi Élménypark Kft. | C20: 100,00 % | D20: Zalaegerszeg | E20: 3000000 | F20: 50000000 | G20: 3000000 | H20: 50000000 | I20: *
A21: 12. | B21: Zalaegerszegi Rendezvényszervező Kft. | C21: 100,00 % | D21: Zalaegerszeg | E21: 3000000 | F21: 3000000 | G21: 3000000 | H21: 3000000
B22: 75 %-on felüli részesedéssel
A23: 13. | B23: ZTE Kosárlabda Klub Kft. | C23: 94,00 % | D23: Zalaegerszeg | E23: 2820000 | F23: 13010540 | G23: 2820000 | H23: 30810000
B24: 50 %-on felüli részesedéssel
A25: 14. | B25: MÜLLEX Közszolgáltató Nonprofit Kft. | C25: 52,00 % | D25: Körmend | E25: 1560000
B26: 25 %-on aluli részesedéssel
A27: 15. | B27: Nyugat-Pannon Járműipari és Mechatronikai Központ Nonprofit Kft. | C27: 20,00 % | D27: Szombathely | E27: 600000 | F27: 600000
A28: 16. | B28: ZTE Football Club Zrt. | C28: 0,01 % | D28: Zalaegerszeg | E28: 1650 | F28: 1650 | G28: 1650 | H28: 1650
A29: 17. | B29: Zalaegerszegi Duális Képzőközpont Kft. | C29: 16,30 % | D29: Zalaegerszeg | E29: 489000 | F29: 489000 | G29: 489000 | H29: 489000
A30: Törzsvagyonba körébe nem tartozó részesedések összesen: | E30: =SUM(E17:E29) -> 33390650 | F30: =SUM(F17:F29) -> 145613190 | G30: =SUM(G17:G29) -> 31230650 | H30: =SUM(H17:H29) -> 162812650
B31: Részesedések összesen: | E31: =SUM(E14+E30) -> 1414660650 | F31: =SUM(F14+F30) -> 1482142264 | G31: =SUM(G14+G30) -> 1413200650 | H31: =SUM(H14+H30) -> 1752411168
A32: a *-gal jelölt összegek tartalmazzák a törzstőkét és a tőketartalékba helyezett összeget is

Sheet 24
A4: Cím szám | B4: Megnevezés | C4: 2021. évi eredeti létszám | D4: 2021. évi módosított létszám | E4: 2021. évi tényleges létszám ( átlagos stat. állományi) | F4: Teljesítés %-a
A5: 1. | B5: Önkormányzat | C5: 6 | D5: 6 | E5: 6 | F5: =E5/D5*100 -> 100
A6: 2. | B6: Polgármesteri Hivatal | C6: 190 | D6: 190 | E6: 185 | F6: =E6/D6*100 -> 97.368421
A7: 3 | B7: Zalaegerszegi Gazdasági Ellátó Szervezet | C7: 43.5 | D7: 43.5 | E7: 40 | F7: =E7/D7*100 -> 91.954023
A8: 4 | B8: Zalaegerszegi Egyesített Bölcsődék | C8: 122.5 | D8: 121.5 | E8: 115 | F8: =E8/D8*100 -> 94.650206
A9: 5 | B9: Zalaegerszegi Egészségügyi Alapellátás | C9: 60.5 | D9: 60.5 | E9: 47 | F9: =E9/D9*100 -> 77.68595
A10: 6 | B10: Zalaegerszegi Család- és Gyermekjóléti Központ | C10: 61.5 | D10: 61.5 | E10: 51 | F10: =E10/D10*100 -> 82.926829
A11: 7 | B11: Zalaegerszegi Belvárosi I. sz. Óvoda | C11: 69.5 | D11: 69.5 | E11: 67 | F11: =E11/D11*100 -> 96.402878
A12: 8 | B12: Zalaegerszegi Belvárosi II. sz. Óvoda | C12: 60 | D12: 57 | E12: 57 | F12: =E12/D12*100 -> 100
A13: 9 | B13: Zalaegerszegi Kertvárosi Óvoda | C13: 67 | D13: 62 | E13: 58 | F13: =E13/D13*100 -> 93.548387
A14: 10 | B14: Zalaegerszegi Landorhegyi Óvoda | C14: 66 | D14: 64 | E14: 60 | F14: =E14/D14*100 -> 93.75
A15: 11 | B15: Közgyűjteményi és Közművelődési GESZ | C15: 13 | D15: 13 | E15: 13 | F15: =E15/D15*100 -> 100
A16: 12 | B16: Keresztury Dezső VMK. | C16: 63.5 | D16: 60.5 | E16: 55 | F16: =E16/D16*100 -> 90.909091
A17: 13 | B17: Zalaegerszegi Turisztikai Hivatal és Információs Iroda | C17: 4 | D17: 4 | E17: 4 | F17: =E17/D17*100 -> 100
A18: 14 | B18: Deák Ferenc Megyei és Városi Könyvtár | C18: 54 | D18: 54 | E18: 54 | F18: =E18/D18*100 -> 100
... A23: 19 | B23: Vásárcsarnok | C23: 11 | D23: 11 | E23: 9 | F23: =E23/D23*100 -> 81.818182
B24: Költségvetési szervek összesen: | C24: =SUM(C6:C23) -> 1113 | D24: =SUM(D6:D23) -> 1100 | E24: =SUM(E6:E23) -> 1019 | F24: =E24/D24*100 -> 92.636364
B25: Mindösszesen: | C25: =C5+C24 -> 1119 | D25: =D5+D24 -> 1106 | E25: =E24+E5 -> 1025 | F25: =E25/D25*100 -> 92.676311

Sheet 25
A1: Közvetett támogatás jogcíme | B1: 2021. évben nyújtott támogatás, kedvezmény összege
A2: 1. Ellátottak térítési díjának illetve kártérítésének méltányossági alapon történő elengedése | B2: ---
A3: 2. Lakásépítéshez, lakásfelújításhoz nyújtott kölcsön elengedése | B3: 1800
A4: 3. Helyi adónál biztosított kedvezmény, mentesség * | B4: 68038
A5: 4. Helyiségek, eszközök hasznosításából származó bevételből nyújtott kedvezmény | B5: 68835
A6: 5. Egyéb nyújtott kedvezmény vagy kölcsön elengedése | B6: ---
A7: Összesen: | B7: =SUM(B2:B6) -> 138673
A11: Adónem/jogcím | B11: Méltányosság címén (I. és II. fokon) elengedett tartozás | C11: Kedvezmény önkormányzati rendelet alapján
A12: Helyi iparűzési adó (2 millió alatti) | B12: 579 | C12: 33082
A13: Talajterhelési díj | B13: 3359
A14: Építményadó | B14: 149 | C14: 20733
A15: Késedelmi pótlék, bírság | B15: 10136
A16: Összesen: | B16: =SUM(B12:B15) -> 14223 | C16: =SUM(C12:C15) -> 53815
A18: *Az adókedvezmény tekintetében a 2020. évi adat állt rendelkezésre

Sheet 26
A1: A hitel- és kölcsönállomány, lízingkötelezettség alakulása lejárat és hitelezők szerint
A2: Megnevezés | C2: Hitelező | D2: Lejárat éve | E2: Eredeti hitel-keret/lízing | F2: Módosított hitel összeg/lízing | G2: Hitelállomány, lízigkötelezettség | L2: 2022. évi tőke törlesztés | M2: 2023. évi tőke törlesztés | N2: Későbbi évek tőke terhe
G3: 2020. XII. 31-én | H3: 2021. XII. 31-én | I3: Változás 2021. évben | J3: 2021. évi tőke törlesztés | K3: 2021. évi hitel felvétel
A4: Zeg.belváros közlekedési rendszer komplett átalakítása | C4: OTP | D4: 2038. | E4: 300000 | F4: 211638 | G4: 185510 | H4: 175059 | I4: =SUM(H4-G4) -> -10451 | J4: 10451 | L4: 10452 | M4: 10452 | N4: =SUM(H4-L4-M4) -> 154155
A5: Közvilágítás energiatakarékos átalakítása | C5: OTP | D5: 2021. | E5: 173892 | F5: 7182 | G5: 1182 | I5: =SUM(H5-G5) -> -1182 | J5: 1182 | N5: =SUM(H5-L5-M5) -> 0
A6: Zalaegerszegi Járműipari Tesztpályához szükséges területvásárláshoz | C6: OTP | D6: 2036. | E6: 950000 | F6: 950000 | G6: 832100 | H6: 779700 | I6: =SUM(H6-G6) -> -52400 | J6: 52400 | L6: 52400 | M6: 52400 | N6: =SUM(H6-L6-M6) -> 674900
A7: TOP program keretében megvalósuló projektek nem támogatott munkarészei, többletfeladatai | C7: OTP | D7: 2029. | E7: 100000 | F7: 100000 | G7: 87417 | H7: 77417 | I7: =SUM(H7-G7) -> -10000 | J7: 10000 | L7: 10000 | M7: 10000 | N7: =SUM(H7-L7-M7) -> 57417
A8: Vizslaparki u.48. szám alatti ingatlan pályázati forrásból történő felújítása | C8: OTP | D8: 2027. | E8: 240000 | F8: 240000 | G8: 202500 | H8: 172500 | I8: =SUM(H8-G8) -> -30000 | J8: 30000 | L8: 30000 | M8: 30000 | N8: =SUM(H8-L8-M8) -> 112500
A9: TOP és egyéb úniós projektek keretében megvalósuló projektek nem támogatott munkarészei, többletfeladatai | C9: OTP | D9: 2031. | E9: 150000 | F9: 150000 | G9: 115158 | H9: 142499 | I9: =SUM(H9-G9) -> 27341 | J9: 7500 | K9: 34841 | L9: 15000 | M9: 15000 | N9: =SUM(H9-L9-M9) -> 112499
A10: Hitelek, kölcsönök összesen: | E10: =SUM(E4:E9) -> 1913892 | F10: =SUM(F4:F9) -> 1658820 | G10: =SUM(G4:G9) -> 1423867 | H10: =SUM(H4:H9) -> 1347175 | I10: =SUM(I4:I9) -> -76692 | J10: =SUM(J4:J9) -> 111533 | K10: =SUM(K4:K9) -> 34841 | L10: =SUM(L4:L9) -> 117852 | ... N10: =SUM(N4:N9) -> 1111471
A11: Zártvégű pénzügyi lízingszerződés - Edelmann Hungary Packaging Zrt.(volt nyomda épület) | D11: 2024. | E11: 450000 | F11: 450000 | G11: 350000 | H11: 0 | I11: =SUM(H11-G11) -> -350000 | J11: 350000 | N11: 0
A12: Hitel, kölcsön és lízing összesen: | E12: =SUM(E10:E11) -> 2363892 | F12: =SUM(F10:F11) -> 2108820 | G12: =SUM(G10:G11) -> 1773867 | H12: =SUM(H10:H11) -> 1347175 | I12: =SUM(I10:I11) -> -426692 | J12: =SUM(J10:J11) -> 461533 | K12: =SUM(K10:K11) -> 34841 | L12: =SUM(L10:L11) -> 117852 | ... N12: =SUM(N10:N11) -> 1111471
B14: Az önkormányzat által vállalt, a mérlegben nem szereplő kötelezettségek
A15: Megnevezés | C15: Kgy. határozat | E15: Tőke- tartozás 2021. XII.31. | F15: Szerződéses kamat mértéke | G15: Visszafizetési kötelezettség
G16: 2022. | H16: 2023. | I16: 2024. | J16: Továbbbi évek
A18: Zalaegerszegi Városfejlesztő Zrt. Inkubátorház bővítése hitelfelvételhez készfizető kezesség (1-1-12-4900-0321-8) | C18: 140/2.pont/2012. | E18: 88101 | F18: 3 havi EURIBOR+4,5 % | G18: 40662 | H18: 40662 | I18: 6777
A19: Városgazdálkodási Kft.(1-1-12-4900-0311-5) | C19: 133/2012. | E19: 4470 | F19: 3 havi EURIBOR +3% | G19: 4470
A20: Zala-Depo Kft. (jogutód: Zala-MÜLLEX Kft.) hitelfelvételéhez készfizető kezesség (1-1-14-4900-003-5) | C20: 36/2014. | E20: 187500 | F20: 3 havi Bubor+2,9% | G20: 93750 | H20: 93750
A21: ZTE-SPORTSZOLG Kft. (jogutód: Zalaegerszegi Élménypark Kft.) hitelfelvételéhez készfizető kezesség (1-1-14-4900-0340-5) | C21: 27/2014. | E21: 78000 | F21: 3 havi Bubor+2,5% | G21: 27000 | H21: 27000 | I21: 24000
A22: Észak-zalai Víz- és Csatornamű Zrt. (fejelsztési célú hitelfelvétel) | C22: 45/2019. | E22: 702536 | F22: 3 havi Bubor+0,94% | G22: 50187 | H22: 50187 | I22: 50187 | J22: 551975
A23: Összesen: | E23: =SUM(E18:E22) -> 1060607 | G23: =SUM(G18:G22) -> 216069 | H23: =SUM(H18:H22) -> 211599 | I23: =SUM(I18:I22) -> 80964 | J23: =SUM(J18:J22) -> 551975

Sheet 27
A1: Sorszám | B1: Az európai uniós forrásokkal támogatott fejlesztés, program megnevezése | C1: Tervezett adatok | H1: Tényadatok | V1: Elkülönített számla korrigált egyenlege 2021. dec. 31-én
C2: elnyert európai uniós támogatás | D2: hazai támogatás | E2: saját forrás | F2: a projekt uniós támogatással el nem ismert költségei | G2: projekt összesen: | H2: Bevételek | S2: Kiadás összesen
H3: saját forrás | K3: hazai támogatás | N3: európai uniós támogatás | Q3: ÁFA vissza- térülés/ támogatás megelőlegezése 2016-2017-2018-2019-20 években | R3: ÁFA vissza- térülés/ támogatás megelőlegezése 2021. évben | S3: előző évek | T3: 2021. évben | U3: Projekt kiadásai összesen
H4: előző évek | I4: 2021. évben | J4: Összesen | K4: előző évek | L4: 2021. évben | M4: Összesen | N4: előző évek | O4: 2021. évben | P4: Összesen
A5: 1 | B5: TOP-6.6.1-15-ZL1-2016-00001 Egészségügyi alapellátás infrastrukturális fejlesztése Zalaegerszegen | C5: 353000 | F5: 13468 | G5: =SUM(C5:F5) -> 366468 | H5: 13468 | J5: =SUM(H5:I5) -> 13468 | N5: 353000 | P5: =SUM(N5:O5) -> 353000 | S5: 360868 | T5: 5600 | U5: =SUM(S5:T5) -> 366468
A6: 2 | B6: TOP-6.6.2-15- ZL1-2016-00001 Szociális Alapszolgáltatások fejlesztése Zalaegerszegen | C6: 199992 | F6: 2097 | G6: =SUM(C6:F6) -> 202089 | H6: 2097 | J6: =SUM(H6:I6) -> 2097 | N6: 199992 | P6: =SUM(N6:O6) -> 199992 | S6: 198589 | T6: 3500 | U6: =SUM(S6:T6) -> 202089
A7: 3 | B7: TOP-6.1.4-15-ZL1-2016-00002 Zalaegerszegi Göcseji Falumúzeum fejlesztése | C7: 155815 | D7: 41962 | F7: 4691 | G7: =SUM(C7:F7) -> 202468 | H7: 4639 | I7: 52 | J7: =SUM(H7:I7) -> 4691 | N7: 149992 | P7: =SUM(N7:O7) -> 149992 | R7: 26771 | S7: 143853 | T7: 37601 | U7: =SUM(S7:T7) -> 181454
A8: 4 | B8: TOP-6.4.1-15-ZL1-2016-00001 Gyalogos és kerékpárosbarát belváros közlekedési feltételeinek megteremtése Zalaegerszegen hivatásforgalmi kerékpárutak fejlesztésével és a Kosztolányi Dezső út kétirányúsításával | C8: 997000 | F8: 5888 | G8: =SUM(C8:F8) -> 1002888 | I8: 5888 | J8: =SUM(H8:I8) -> 5888 | N8: 993000 | P8: =SUM(N8:O8) -> 993000 | Q8: 36 | S8: 48070 | T8: 423030 | U8: =SUM(S8:T8) -> 471100 | V8: =J8+P8+Q8+R8-U8 -> 527824
A9: 5 | B9: TOP-6.1.4 -15-ZL1-2016-00003 Zöld Zala-part Turisztikai célú kerékpárút fejlesztés a Zala Mentén és Gébárton | C9: 1090536 | F9: 867 | G9: =SUM(C9:F9) -> 1091403 | H9: 33 | I9: 834 | J9: =SUM(H9:I9) -> 867 | N9: 950000 | P9: =SUM(N9:O9) -> 950000 | Q9: 144 | S9: 478344 | T9: 5503 | U9: =SUM(S9:T9) -> 483847 | V9: =J9+P9+Q9+R9-U9 -> 467164
A10: 6 | B10: TOP-6.1.5-15-ZL1-2016-00001 Ipari területeket feltáró utak kialakítása Zalaegerszegen | C10: 456760 | F10: 953 | G10: =SUM(C10:F10) -> 457713 | I10: 953 | J10: =SUM(H10:I10) -> 953 | N10: 431760 | P10: =SUM(N10:O10) -> 431760 | Q10: 246 | R10: 381 | S10: 272438 | T10: 1401 | U10: =SUM(S10:T10) -> 273839 | V10: =J10+P10+Q10+R10-U10 -> 159501
A11: 8 | B11: TOP-6.3.2-15-ZL1-2016-00001 Zöld Zala Part - Zala holtág revitalizációja és rekreációs célú vízparti sétány | G11: =SUM(C11:F11) -> 0 | J11: =SUM(H11:I11) -> 0 | P11: =SUM(N11:O11) -> 0 | U11: =SUM(S11:T11) -> 0 | V11: =J11+P11-U11 -> 0
A12: 7 | B12: TOP-6.3.2-15-ZL1-2016-00002 Gébárti-tó és környékének rekreációs, szabadidős használatát elősegítő infrastruktúra kialakítása | C12: 394925 | F12: 49956 | G12: =SUM(C12:F12) -> 444881 | H12: 11253 | I12: 38703 | J12: =SUM(H12:I12) -> 49956 | N12: 394925 | P12: =SUM(N12:O12) -> 394925 | S12: 246240 | T12: 58637 | U12: =SUM(S12:T12) -> 304877 | V12: =J12+P12+Q12+R12-U12 -> 140004
A13: 8 | B13: TOP-6.1.1-15-ZL1-2016-00001 Zalaegerszeg Északi Ipari Park feltárása és közművekkel való ellátása (részben nettó) | C13: 2323382 | F13: 63793 | G13: =SUM(C13:F13) -> 2387175 | H13: 63793 | J13: =SUM(H13:I13) -> 63793 | N13: 2323382 | P13: =SUM(N13:O13) -> 2323382 | Q13: 194706 | R13: 14360 | S13: 2521820 | T13: 60061 | U13: =SUM(S13:T13) -> 2581881 | V13: =J13+P13+Q13+R13-U13 -> 14360
A14: 9 | B14: TOP-6.1.3-15-ZL1-2016-00001 Helyi termelői és kézműves piac kialakítása Zalaegerszegen (nettó) | C14: 282624 | F14: 8337 | G14: =SUM(C14:F14) -> 290961 | I14: 8337 | J14: =SUM(H14:I14) -> 8337 | N14: 192650 | O14: 89974 | P14: =SUM(N14:O14) -> 282624 | Q14: 7164 | R14: 71129 | S14: 85943 | T14: 272219 | U14: =SUM(S14:T14) -> 358162 | V14: =J14+P14+Q14+R14-U14 -> 11092
A15: 10 | B15: TOP-6.1.4-15-ZL1-2016-00001 "Zalaegerszeg turisztikai vonzerejének növelése a " SMART City" eszközrendszerével" | C15: 199654 | F15: 3336 | G15: =SUM(C15:F15) -> 202990 | H15: 1935 | I15: 1401 | J15: =SUM(H15:I15) -> 3336 | N15: 193015 | P15: =SUM(N15:O15) -> 193015 | S15: 106427 | T15: 79247 | U15: =SUM(S15:T15) -> 185674 | V15: =J15+P15-U15 -> 10677
A16: 11 | B16: TOP-6.8.2-15-ZL1-2016-00001 A vállalkozások igényeire alapuló foglalkoztatás-fejlesztési program Zalaegerszeg Megyei Jogú Városban (Foglalkoztatási paktum) | C16: 83619 | G16: =SUM(C16:F16) -> 83619 | N16: 83619 | P16: =SUM(N16:O16) -> 83619 | S16: 74932 | T16: 8687 | U16: =SUM(S16:T16) -> 83619
A17: 12 | B17: TOP-6.3.2-15-ZL1-2016-00003 Városi terek élhetőbbé tétele - Vizslapark rekonstrukció | C17: 221448 | F17: 16176 | G17: =C17+F17 -> 237624 | H17: 16176 | J17: =SUM(H17:I17) -> 16176 | N17: 221448 | P17: =SUM(N17:O17) -> 221448 | S17: 206325 | U17: =SUM(S17:T17) -> 206325 | V17: =J17+P17+Q17+R17-U17 -> 31299
A18: 13 | B18: TOP-6.2.1-15-ZL1-2016-00002 Zalaegerszegi Egyesített Bölcsődék Cseperedő Bölcsőde és a Zalaegerszegi Belvárosi II. számú Óvoda Petőfi utcai Tagóvodájának fejlesztése | C18: 238749 | F18: 30688 | G18: =SUM(C18:F18) -> 269437 | H18: 30688 | J18: =SUM(H18:I18) -> 30688 | N18: 238749 | P18: =SUM(N18:O18) -> 238749 | S18: 268338 | T18: 1099 | U18: =SUM(S18:T18) -> 269437
A19: 17 | B19: TOP-6.2.1-15-ZL1-2016-000004 Zalaegerszegi Egyesített Bölcsődék Napsugár utcai Bölcsőde fejlesztése | G19: =SUM(C19:F19) -> 0 | J19: =SUM(H19:I19) -> 0 | P19: =SUM(N19:O19) -> 0 | U19: =SUM(S19:T19) -> 0 | V19: =J19+P19+Q19+R19-U19 -> 0
A20: 20 | B20: TOP 6.5.1-15-ZL1-2016-0004 Landorhegyi Sportiskolai Általános Iskola energetikai korszerűsítése
A21: 21 | B21: TOP 6.5.1-15-ZL1-2016-00002 Zalaegerszegi Gondozási Központ Idősek Gondozóháza energetikai korszerűsítése | G21: =SUM(C21:F21) -> 0 | J21: =SUM(H21:I21) -> 0 | P21: =SUM(N21:O21) -> 0 | U21: =SUM(S21:T21) -> 0 | V21: =J21+P21+Q21+R21-U21 -> 0
A22: 14 | B22: TOP-6.1.2-16-ZL1-2017-00001 Inkubátorház bővítés Zalaegerszegen-III.ütem | C22: 317000 | F22: 3000 | G22: =SUM(C22:F22) -> 320000 | H22: 3000 | J22: =SUM(H22:I22) -> 3000 | N22: 317000 | P22: =SUM(N22:O22) -> 317000 | Q22: 86037 | S22: 389861 | U22: =SUM(S22:T22) -> 389861 | V22: =J22+P22+Q22+R22-U22 -> 16176
A23: 15 | B23: TOP-6.1.1-16 Zalaegerszegi Logisztikai Központ létrehozása | C23: 866142 | D23: 233858 | G23: =SUM(C23:F23) -> 1100000 | O23: 500000 | P23: =SUM(N23:O23) -> 500000 | Q23: 11065 | S23: 11065 | T23: 6876 | U23: =SUM(S23:T23) -> 17941 | V23: =J23+P23+Q23+R23-U23 -> 493124
A24: 16 | B24: TOP-6.1.4-16-ZL1-2017-00002 Göcseji Múzeum épületének felújítása és kiállító tereinek fejlesztése | C24: 1300000 | G24: =SUM(C24:F24) -> 1300000 | N24: 620963 | O24: 676231 | P24: =SUM(N24:O24) -> 1297194 | S24: 511219 | T24: 623516 | U24: =SUM(S24:T24) -> 1134735 | V24: =J24+P24+Q24+R24-U24 -> 162459
A25: 17 | B25: TOP 6.1.4-16-ZL1-2017-00001 Alsóerdő komplex turisztikai fejlesztése | C25: 962378 | F25: 2149 | G25: =SUM(C25:F25) -> 964527 | H25: 1633 | I25: 516 | J25: =SUM(H25:I25) -> 2149 | N25: 950729 | P25: =SUM(N25:O25) -> 950729 | Q25: 13121 | R25: 201316 | S25: 72828 | T25: 1059220 | U25: =SUM(S25:T25) -> 1132048 | V25: =J25+P25+Q25+R25-U25 -> 35267
A26: 18 | B26: TOP-6.1.1-16-ZL1-2017-00001 Üzemcsarnok építés a Zalaegerszeg 4815/6 hrsz-ú ingatlanon | C26: 599997 | F26: 37865 | G26: =SUM(C26:F26) -> 637862 | H26: 49120 | I26: -11255 | J26: =SUM(H26:I26) -> 37865 | N26: 592000 | O26: 7997 | P26: =SUM(N26:O26) -> 599997 | Q26: 176194 | R26: 4227 | S26: 791199 | T26: 23694 | U26: =SUM(S26:T26) -> 814893 | V26: =J26+P26+Q26+R26-U26 -> 3390
A27: 19 | B27: TOP 6.9.2-16-ZL1-2017-00001 A helyi identitás és kohézió erősítésének megteremtése Zalaegerszegen | C27: 172938 | F27: 4336 | G27: =SUM(C27:F27) -> 177274 | H27: 3663 | I27: 673 | J27: =SUM(H27:I27) -> 4336 | N27: 171213 | P27: =SUM(N27:O27) -> 171213 | S27: 46240 | T27: 28458 | U27: =SUM(S27:T27) -> 74698 | V27: =J27+P27+Q27+R27-U27 -> 100851
A28: 28 | B28: TOP-6.5.1-16-ZL1-2017-00004 ZMJV fenntartható energia és klíma akciótervének (SECAP) elkészítése
A29: 20 | B29: TOP-6.1.4-16-ZL1-2017-00003 Helyi termelői és kézműves piac kialakítása Zalaegerszegen - Göcsej Tudásközpont (nettó fiansz.) | C29: 428098 | F29: 5389 | G29: =SUM(C29:F29) -> 433487 | I29: 5389 | J29: =SUM(H29:I29) -> 5389 | N29: 282350 | O29: 145747 | P29: =SUM(N29:O29) -> 428097 | Q29: 689 | R29: 94287 | S29: 105069 | T29: 360848 | U29: =SUM(S29:T29) -> 465917 | V29: =J29+P29+Q29+R29-U29 -> 62545
A30: 21 | B30: TOP-6.5.1-16-ZL1-2017-00001 Liszt F.tagiskola energetikai korszerűsítése | C30: 332490 | F30: 12864 | G30: =SUM(C30:F30) -> 345354 | H30: 12864 | J30: =SUM(H30:I30) -> 12864 | N30: 332490 | P30: =SUM(N30:O30) -> 332490 | S30: 340861 | U30: =SUM(S30:T30) -> 340861 | V30: =J30+P30+Q30+R30-U30 -> 4493
A31: 22 | B31: TOP-6.5.1-16-ZL1-2017-00005 Petőfi S. Székhelyiskola energetikai korszerűsítése | C31: 335940 | F31: 3684 | G31: =SUM(C31:F31) -> 339624 | H31: 48141 | I31: -44457 | J31: =SUM(H31:I31) -> 3684 | N31: 256600 | O31: 78622 | P31: =SUM(N31:O31) -> 335222 | S31: 252076 | T31: 83787 | U31: =SUM(S31:T31) -> 335863 | V31: =J31+P31+Q31+R31-U31 -> 3043
A32: 23 | B32: TOP-6.5.1-16-ZL1-2017-00006 Dózsa Gy. tagiskola energetikai korszerűsítése | C32: 303933 | F32: 20683 | G32: =SUM(C32:F32) -> 324616 | H32: 20683 | J32: =SUM(H32:I32) -> 20683 | N32: 303933 | P32: =SUM(N32:O32) -> 303933 | S32: 322955 | U32: =SUM(S32:T32) -> 322955 | V32: =J32+P32+Q32+R32-U32 -> 1661
A33: 24 | B33: EcoSmartCities Interreg HU-HR projekt | C33: 26097 | D33: 3105 | E33: 1500 | F33: 1500 | G33: =SUM(C33:F33) -> 32202 | H33: 1500 | J33: =SUM(H33:I33) -> 1500 | K33: 3105 | M33: =SUM(K33:L33) -> 3105 | N33: 26432 | P33: =SUM(N33:O33) -> 26432 | S33: 25979 | U33: =SUM(S33:T33) -> 25979 | V33: =J33+M33+P33-U33 -> 5058
A34: 25 | B34: SHAREPLACE Interreg Central Europe projekt pályázati támogatás | C34: 35855 | D34: 4241 | E34: 1739 | G34: =SUM(C34:F34) -> 41835 | H34: 1739 | J34: =SUM(H34:I34) -> 1739 | K34: 1646 | L34: 2595 | M34: =SUM(K34:L34) -> 4241 | N34: 12636 | O34: 23219 | P34: =SUM(N34:O34) -> 35855 | Q34: 10245 | R34: -10245 | S34: 26804 | T34: 15031 | U34: =SUM(S34:T34) -> 41835 | V34: =J34+M34+P34+Q34-U34+R34 -> 0
A35: 35 | B35: Gébárti Kézművesek Háza regionális célú népi kézműves alkotóházzá fejlesztése EFOP-4.1.7-16-2017-00031 | G35: =SUM(C35:F35) -> 0 | J35: =SUM(H35:I35) -> 0 | P35: =SUM(N35:O35) -> 0 | U35: =SUM(S35:T35) -> 0 | V35: =J35+P35+Q35+R35-U35 -> 0
A36: 26 | B36: KEHOP-5.4.1-16-2016-00433 Szemléletformálási programok | C36: 4982 | G36: =SUM(C36:F36) -> 4982 | N36: 4982 | P36: =SUM(N36:O36) -> 4982 | S36: 511 | U36: =SUM(S36:T36) -> 511 | V36: =J36+P36+Q36+R36-U36 -> 4471
A37: 27 | B37: KEHOP-1.2.1-18-2018-00024 ZMJV helyi klímastratégiájának kidolgozása, helyi klímatudatosságot erősítő szemléletformálás | C37: 20000 | G37: =SUM(C37:F37) -> 20000 | N37: 20000 | P37: =SUM(N37:O37) -> 20000 | S37: 2953 | T37: 9825 | U37: =SUM(S37:T37) -> 12778 | V37: =J37+P37+Q37+R37-U37 -> 7222
A38: 28 | B38: TOP-7.1.1-16-H-ERFA-2019-00089 TOP CLLD Art mozi közösségi és rendezvény térré alakítása | C38: 138000 | F38: 39515 | G38: =SUM(C38:F38) -> 177515 | H38: 39515 | J38: =SUM(H38:I38) -> 39515 | N38: 137508 | O38: 492 | P38: =SUM(N38:O38) -> 138000 | S38: 177515 | U38: =SUM(S38:T38) -> 177515
A39: 29 | B39: TOP-7.1.1-16-H-ERFA-2019-00167 Zalaegerszeg mobil applikáció projekt | C39: 8667 | G39: =SUM(C39:F39) -> 8667 | N39: 8667 | P39: =SUM(N39:O39) -> 8667 | S39: 8654 | T39: 13 | U39: =SUM(S39:T39) -> 8667
A40: 30 | B40: Zalaegerszeg keleti vízbázisról ellátott települések ivóvízminőségének javítása KEHOP projekt | C40: 2862497 | D40: 429374 | G40: =SUM(C40:F40) -> 3291871 | K40: 408150 | M40: =SUM(K40:L40) -> 408150 | N40: 2720998 | P40: =SUM(N40:O40) -> 2720998 | Q40: 740194 | R40: 106325 | S40: 3702129 | T40: 194135 | U40: =SUM(S40:T40) -> 3896264 | V40: =M40+P40+R40-U40+Q40 -> 79403
A41: 31 | B41: Zalaegerszeg nyugati vízbázisról ellátott települések ívóvízminőségének javítása KEHOP projekt | C41: 2454 | D41: 362 | F41: 135 | G41: =SUM(C41:F41) -> 2951 | I41: 135 | J41: =SUM(I41) -> 135 | V41: =J41+P41+Q41+R41-U41 -> 135
A42: 32 | B42: TOP-7.1.1-16-H-ESZA-2019-01185 Interaktív történelmi séták Zalaegerszegen | C42: 10000 | G42: =SUM(C42:F42) -> 10000 | N42: 10000 | P42: =SUM(N42:O42) -> 10000 | S42: 5000 | T42: 4811 | U42: =SUM(S42:T42) -> 9811 | V42: =J42+P42+Q42+R42-U42 -> 189
A43: 33 | B43: TOP 6.5.1-15-ZL1-2016-0004 Landorhegyi Sportiskolai Általános Iskola energetikai korszerűsítése | C43: 334251 | F43: 1243 | G43: =SUM(C43:F43) -> 335494 | H43: 21761 | I43: -20518 | J43: =SUM(H43:I43) -> 1243 | N43: 285486 | O43: 48765 | P43: =SUM(N43:O43) -> 334251 | Q43: 25339 | R43: -25339 | S43: 332586 | U43: =SUM(S43:T43) -> 332586 | V43: =J43+P43+Q43+R43-U43 -> 2908
A44: 34 | B44: TOP-6.4.1-15-ZL1-2020-00002 Fenntartható közlekedésfejlesztési beavatkozások a belváros keleti kapujában (Tesco körforgalom) | C44: 768289 | G44: =SUM(C44:F44) -> 768289 | O44: 768289 | P44: =SUM(N44:O44) -> 768289 | T44: 9512 | U44: =SUM(S44:T44) -> 9512 | V44: =J44+P44+Q44+R44-U44 -> 758777
A45: 35 | B45: TOP-6.3.2-15-ZL1-2020-00004 Gébárti-tó és környékének rekreációs, szabadidős használatát elősegítő infrastruktúra kialakítása II. ütem | C45: 278928 | G45: =SUM(C45:F45) -> 278928 | O45: 269039 | P45: =SUM(N45:O45) -> 269039 | S45: 1816 | T45: 11325 | U45: =SUM(S45:T45) -> 13141 | V45: =J45+P45+Q45+R45-U45 -> 255898
G46: =SUM(C46:F46) -> 0 | J46: =SUM(H46:I46) -> 0 | P46: =SUM(N46:O46) -> 0 | U46: =SUM(S46:T46) -> 0 | V46: =J46+P46+Q46+R46-U46 -> 0
G47: =SUM(C47:F47) -> 0 | J47: =SUM(H47:I47) -> 0 | P47: =SUM(N47:O47) -> 0 | U47: =SUM(S47:T47) -> 0 | V47: =J47+P47+Q47+R47-U47 -> 0
G48: =SUM(C48:F48) -> 0 | J48: =SUM(H48:I48) -> 0 | P48: =SUM(N48:O48) -> 0 | U48: =SUM(S48:T48) -> 0 | V48: =J48+P48+Q48+R48-U48 -> 0
G49: =SUM(C49:F49) -> 0 | J49: =SUM(H49:I49) -> 0 | P49: =SUM(N49:O49) -> 0 | U49: =SUM(S49:T49) -> 0 | V49: =J49+P49+Q49+R49-U49 -> 0
G50: =SUM(C50:F50) -> 0 | J50: =SUM(H50:I50) -> 0 | P50: =SUM(N50:O50) -> 0 | U50: =SUM(S50:T50) -> 0 | V50: =J50+P50+Q50+R50-U50 -> 0
G51: =SUM(C51:F51) -> 0 | J51: =SUM(H51:I51) -> 0 | P51: =SUM(N51:O51) -> 0 | U51: =SUM(S51:T51) -> 0 | V51: =J51+P51+Q51+R51-U51 -> 0
G52: =SUM(C52:F52) -> 0 | J52: =SUM(H52:I52) -> 0 | P52: =SUM(N52:O52) -> 0 | U52: =SUM(S52:T52) -> 0 | V52: =J52+P52+Q52+R52-U52 -> 0
G53: =SUM(C53:F53) -> 0 | J53: =SUM(H53:I53) -> 0 | P53: =SUM(N53:O53) -> 0 | U53: =SUM(S53:T53) -> 0 | V53: =J53+P53+Q53+R53-U53 -> 0
B54: Önkormányzati projektek összesen: | C54: =SUM(C5:C45) -> 17106440 | D54: =SUM(D5:D45) -> 712902 | E54: =SUM(E5:E45) -> 3239 | F54: =SUM(F5:F45) -> 332613 | G54: =SUM(G5:G45) -> 18155194 | H54: =SUM(H5:H44) -> 347701 | I54: =SUM(I5:I44) -> -13349 | J54: =SUM(J5:J44) -> 334352 | K54: =SUM(K5:K44) -> 412901 | L54: =SUM(L5:L44) -> 2595 | M54: =SUM(M5:M44) -> 415496 | N54: =SUM(N5:N45) -> 13779519 | O54: =SUM(O5:O45) -> 2608375 | P54: =SUM(P5:P45) -> 16387894 | Q54: =SUM(Q5:Q44) -> 1265180 | R54: =SUM(R5:R44) -> 483212 | S54: =SUM(S5:S45) -> 12139507 | T54: =SUM(T5:T45) -> 3387636 | U54: =SUM(U5:U45) -> 15527143 | V54: =SUM(V5:V45) -> 3358991
B55: Költségvetési szervek:
B56: Keresztury Dezső VMK:
A57: 36 | B57: EFOP-1.2.9-17-2017-00116 "Zalaegerszegi NŐ-KÖZ-PONT" | C57: 146621 | G57: =SUM(C57:F57) -> 146621 | J57: =SUM(H57:I57) -> 0 | N57: 90372 | O57: 56249 | P57: =SUM(N57:O57) -> 146621 | S57: 83904 | T57: 62717 | U57: =SUM(S57:T57) -> 146621
A58: 37 | B58: TOP-6.9.2-16 " A helyi identitás és kohézió erősítése" | C58: 155953 | G58: =SUM(C58:F58) -> 155953 | J58: =SUM(H58:I58) -> 0 | N58: 155953 | P58: =SUM(N58:O58) -> 155953 | S58: 38389 | T58: 14748 | U58: =SUM(S58:T58) -> 53137 | V58: 102816
A59: 38 | B59: TOP-7.1.1-16-H-ESZA-2019 "Zalaegerszegre építhetsz" | C59: 10000 | G59: =SUM(C59:F59) -> 10000 | J59: =SUM(H59:I59) -> 0 | O59: 10000 | P59: =SUM(N59:O59) -> 10000 | U59: =SUM(S59:T59) -> 0 | V59: 10000
B60: Göcseji Múzeum:
A61: 39 | B61: AT-HU 139 Eurevita Pannónia "Fenntartható és határon átnyúló keretfeltételek megteremtése a kulturális örökség és ritka mesterségek megőrzésére" | C61: 4333 | D61: 32624 | E61: 1919 | G61: =SUM(C61:F61) -> 38876 | H61: 1919 | J61: =SUM(H61:I61) -> 1919 | K61: 32624 | M61: =SUM(K61:L61) -> 32624 | N61: 4333 | P61: =SUM(N61:O61) -> 4333 | S61: 4139 | T61: 18331 | U61: =SUM(S61:T61) -> 22470 | V61: 16406
B62: Költségvetési szervek projektjei összesen: | C62: =SUM(C56:C61) -> 316907 | D62: =SUM(D56:D61) -> 32624 | E62: =SUM(E56:E61) -> 1919 | F62: =SUM(F56:F61) -> 0 | G62: =SUM(G56:G61) -> 351450 | H62: =SUM(H56:H61) -> 1919 | I62: =SUM(I56:I61) -> 0 | J62: =SUM(J56:J61) -> 1919 | M62: =SUM(M56:M61) -> 32624 | N62: =SUM(N56:N61) -> 250658 | O62: =SUM(O56:O61) -> 66249 | P62: =SUM(P56:P61) -> 316907 | Q62: =SUM(Q56:Q61) -> 0 | R62: =SUM(R56:R61) -> 0 | S62: =SUM(S56:S61) -> 126432 | T62: =SUM(T56:T61) -> 95796 | ... V62: =SUM(V56:V61) -> 129222
B63: Projektek mindösszesen: | C63: =SUM(C54+C62) -> 17423347 | D63: =SUM(D54+D62) -> 745526 | E63: =SUM(E54+E62) -> 5158 | F63: =SUM(F54+F62) -> 332613 | G63: =SUM(G54+G62) -> 18506644 | H63: =SUM(H54+H62) -> 349620 | I63: =SUM(I54+I62) -> -13349 | J63: =SUM(J54+J62) -> 336271 | ... V63: =SUM(V54+V62) -> 3488213

Sheet 28
A1: Megnevezés | B1: I | C1: II | D1: III | E1: IV | F1: V | G1: VI | H1: VII | I1: A | J1: VIII | K1: IX | L1: B | M1: C
B2: Tevékenység nettó eredményszemléletű bevétele | C2: Aktivált saját teljesítmények értéke | D2: Egyéb eredményszemléletű bevételek | E2: Anyagjellegű ráfordítások | F2: Személyi jellegű ráfordítások | G2: Értékcsökkenési leírás | H2: Egyéb ráfordítások | I2: TEVÉKENYSÉGEK EREDMÉNYE | J2: Pénzügyi műveletek eredményszemléletű bevételei | K2: Pénzügyi műveletek ráfordításai | L2: PÉNZÜGYI MŰVELETEK EREDMÉNYE | M2: MÉRLEG SZERINTI EREDMÉNY
A3: Polgármesteri Hivatal | B3: 16533 | D3: 1636505 | E3: 167174 | F3: 1374942 | G3: 38940 | H3: 84344 | I3: =SUM(B3+C3+D3-E3-F3-G3-H3) -> -12362 | J3: 69 | L3: =SUM(J3-K3) -> 69 | M3: =SUM(L3,I3) -> -12293
A4: Zalaegerszegi GESZ | B4: 246061 | D4: 483026 | E4: 473019 | F4: 155500 | G4: 6918 | H4: 42662 | I4: =SUM(B4+C4+D4-E4-F4-G4-H4) -> 50988 | J4: 43 | L4: =SUM(J4-K4) -> 43 | M4: =SUM(L4,I4) -> 51031
A5: Egyesített Bölcsődék | B5: 64592 | D5: 628282 | E5: 86827 | F5: 550664 | G5: 18871 | H5: 19925 | I5: =SUM(B5+C5+D5-E5-F5-G5-H5) -> 16587 | J5: 14 | L5: =SUM(J5-K5) -> 14 | M5: =SUM(L5,I5) -> 16601
A6: Egészségügyi Alapellátás | B6: 2329 | D6: 586958 | E6: 180785 | F6: 372339 | G6: 21172 | H6: 6208 | I6: =SUM(B6+C6+D6-E6-F6-G6-H6) -> 8783 | J6: 143 | L6: =SUM(J6-K6) -> 143 | M6: =SUM(L6,I6) -> 8926
A7: Zeg-i Család- és Gyermekjóléti Központ | B7: 1465 | D7: 271528 | E7: 14203 | F7: 244622 | G7: 3973 | H7: 7108 | I7: =SUM(B7+C7+D7-E7-F7-G7-H7) -> 3087 | J7: 20 | L7: =SUM(J7-K7) -> 20 | M7: =SUM(L7,I7) -> 3107
A8: Zalaegerszegi Belvárosi I. sz.Óvoda | B8: 7880 | D8: 363597 | E8: 45785 | F8: 310022 | G8: 8627 | H8: 10101 | I8: =SUM(B8+C8+D8-E8-F8-G8-H8) -> -3058 | J8: 3 | L8: =SUM(J8-K8) -> 3 | M8: =SUM(L8,I8) -> -3055
A9: Zalaegerszegi Belvárosi II.sz.Óvoda | B9: 8411 | D9: 305259 | E9: 56728 | F9: 239898 | G9: 7307 | H9: 11230 | I9: =SUM(B9+C9+D9-E9-F9-G9-H9) -> -1493 | J9: 6 | L9: =SUM(J9-K9) -> 6 | M9: =SUM(L9,I9) -> -1487
A10: Zalaegerszegi Kertvárosi Óvoda | B10: 8708 | D10: 346837 | E10: 63038 | F10: 260823 | G10: 13786 | H10: 14183 | I10: =SUM(B10+C10+D10-E10-F10-G10-H10) -> 3715 | J10: 13 | L10: =SUM(J10-K10) -> 13 | M10: =SUM(L10,I10) -> 3728
A11: Zalaegerszegi Landorhegyi Óvoda | B11: 6062 | D11: 331062 | E11: 42425 | F11: 269545 | G11: 7380 | H11: 9156 | I11: =SUM(B11+C11+D11-E11-F11-G11-H11) -> 8618 | J11: 4 | L11: =SUM(J11-K11) -> 4 | M11: =SUM(L11,I11) -> 8622
A12: Közgyűjteményi és Közművelődési GESZ | D12: 55805 | E12: 2015 | F12: 52935 | G12: 38 | H12: 878 | I12: =SUM(B12+C12+D12-E12-F12-G12-H12) -> -61 | J12: 2 | L12: =SUM(J12-K12) -> 2 | M12: =SUM(L12,I12) -> -59
A13: Keresztury Dezső VMK | B13: 55022 | D13: 301072 | E13: 100637 | F13: 225668 | G13: 43812 | H13: 16638 | I13: =SUM(B13+C13+D13-E13-F13-G13-H13) -> -30661 | J13: 6 | L13: =SUM(J13-K13) -> 6 | M13: =SUM(L13,I13) -> -30655
A14: Tourinform Iroda | B14: 1738 | D14: 24013 | E14: 5646 | F14: 18537 | G14: 1107 | H14: 1549 | I14: =SUM(B14+C14+D14-E14-F14-G14-H14) -> -1088 | J14: 1 | L14: =SUM(J14-K14) -> 1 | M14: =SUM(L14,I14) -> -1087
A15: Deák Ferenc Megyei és Városi Könyvtár | B15: 2841 | D15: 484873 | E15: 149689 | F15: 232595 | G15: 39282 | H15: 55098 | I15: =SUM(B15+C15+D15-E15-F15-G15-H15) -> 11050 | J15: 27 | L15: =SUM(J15-K15) -> 27 | M15: =SUM(L15,I15) -> 11077
A16: Göcseji Múzeum | B16: 195966 | C16: -1280 | D16: 283080 | E16: 224000 | F16: 241599 | G16: 33849 | H16: 13896 | I16: =SUM(B16+C16+D16-E16-F16-G16-H16) -> -35578 | J16: 1290 | K16: 266 | L16: =SUM(J16-K16) -> 1024 | M16: =SUM(L16,I16) -> -34554
A17: Hevesi Sándor Színház | B17: 109260 | D17: 647275 | E17: 161821 | F17: 577768 | G17: 16731 | H17: 3174 | I17: =SUM(B17+C17+D17-E17-F17-G17-H17) -> -2959 | J17: 216 | L17: =SUM(J17-K17) -> 216 | M17: =SUM(L17,I17) -> -2743
A18: Griff Bábszínház | B18: 12675 | D18: 122967 | E18: 39164 | F18: 80897 | G18: 224 | H18: 556 | I18: =SUM(B18+C18+D18-E18-F18-G18-H18) -> 14801 | J18: 55 | L18: =SUM(J18-K18) -> 55 | M18: =SUM(L18,I18) -> 14856
A19: Városi Sportlét. Gond. | B19: 48006 | D19: 96851 | E19: 50663 | F19: 78814 | G19: 23676 | H19: 6748 | I19: =SUM(B19+C19+D19-E19-F19-G19-H19) -> -15044 | J19: 8 | K19: 17 | L19: =SUM(J19-K19) -> -9 | M19: =SUM(L19,I19) -> -15053
A20: Vásárcsarnok | B20: 72644 | D20: 2410 | E20: 25943 | F20: 48195 | G20: 10175 | H20: 612 | I20: =SUM(B20+C20+D20-E20-F20-G20-H20) -> -9871 | J20: 8 | L20: =SUM(J20-K20) -> 8 | M20: =SUM(L20,I20) -> -9863
A21: Költségvetési szervek összesen: | B21: =SUM(B3:B20) -> 860193 | C21: =SUM(C3:C20) -> -1280 | D21: =SUM(D3:D20) -> 6971400 | E21: =SUM(E3:E20) -> 1889562 | F21: =SUM(F3:F20) -> 5335363 | G21: =SUM(G3:G20) -> 295868 | H21: =SUM(H3:H20) -> 304066 | I21: =SUM(I3:I20) -> 5454 | ... M21: =SUM(M3:M20) -> 7099
A22: ZMJV Önkormányzata | B22: 6222084 | D22: 11567859 | E22: 1816887 | F22: 206116 | G22: 1898723 | H22: 12613269 | I22: =SUM(B22+C22+D22-E22-F22-G22-H22) -> 1254948 | J22: 40950 | K22: 46427 | L22: =SUM(J22-K22) -> -5477 | M22: =SUM(L22,I22) -> 1249471
A23: Önkormányzat össz: | B23: =SUM(B21:B22) -> 7082277 | C23: =SUM(C21:C22) -> -1280 | D23: =SUM(D21:D22) -> 18539259 | E23: =SUM(E21:E22) -> 3706449 | F23: =SUM(F21:F22) -> 5541479 | G23: =SUM(G21:G22) -> 2194591 | H23: =SUM(H21:H22) -> 12917335 | I23: =SUM(B23+C23+D23-E23-F23-G23-H23) -> 1260402 | J23: =SUM(J21:J22) -> 42878 | K23: =SUM(K21:K22) -> 46710 | L23: =SUM(L21:L22) -> -3832 | M23: =SUM(L23,I23) -> 1256570

Sheet 29
A1: Támogatott intézmény/szervezet neve | B1: Szociális, Lakás és Egészségügyi Bizottság | C1: Humánigaz-gatási Bizottság | D1: Gazd. Biz. | E1: Műszaki Bizottság | F1: Ügyrendi, Jogi és Vagyonnyil. Biz. | G1: Polgármester | H1: Alpolgármesterek | I1: Közgyűlés | J1: Cigány Kisebbségi Önkormányzat | K1: Összesen
A2: Költségvetési szervek
A3: Egészségügyi Alapellátás | K3: =SUM(B3:I3) -> 0
A4: Egyesített Bölcsődék | K4: =SUM(B4:J4) -> 0
A5: Egyesített Bölcsődék | K5: =SUM(B5:J5) -> 0
A6: Egyesített Bölcsődék összesen | B6: =SUM(B4:B5) -> 0 | C6: =SUM(C4:C5) -> 0 | D6: =SUM(D4:D5) -> 0 | E6: =SUM(E4:E5) -> 0 | F6: =SUM(F4:F5) -> 0 | G6: =SUM(G4:G5) -> 0 | H6: =SUM(H4:H5) -> 0 | J6: =SUM(J4:J5) -> 0 | K6: =SUM(K4:K5) -> 0
A7: Hevesi Sándor Színház | K7: =SUM(B7:I7) -> 0
A8: Griff Bábszínház | K8: =SUM(B8:I8) -> 0
A9: Zegesz | K9: =SUM(B9:J9) -> 0
A10: Zegesz | K10: =SUM(B10:J10) -> 0
A11: Zegesz | K11: =SUM(B11:J11) -> 0
A12: Zegesz | K12: =SUM(B12:J12) -> 0
A13: Zegesz | K13: =SUM(B13:J13) -> 0
A14: Zegesz összesen: | B14: =SUM(B9:B13) -> 0 | C14: =SUM(C9:C13) -> 0 | D14: =SUM(D9:D13) -> 0 | E14: =SUM(E9:E13) -> 0 | F14: =SUM(F9:F13) -> 0 | G14: =SUM(G9:G13) -> 0 | H14: =SUM(H9:H13) -> 0 | I14: =SUM(I9:I13) -> 0 | ... K14: =SUM(K9:K13) -> 0
A15: IGESZ | K15: =SUM(B15:J15) -> 0
A16: IGESZ | K16: =SUM(B16:J16) -> 0
A17: IGESZ | K17: =SUM(D17:J17) -> 0
A18: IGESZ | K18: =SUM(B18:J18) -> 0
A19: IGESZ összesen: | B19: =SUM(B15:B18) -> 0 | C19: =SUM(C15:C18) -> 0 | D19: =SUM(D15:D18) -> 0 | E19: =SUM(E15:E18) -> 0 | F19: =SUM(F15:F18) -> 0 | G19: =SUM(G15:G18) -> 0 | H19: =SUM(H15:H18) -> 0 | I19: =SUM(I15:I18) -> 0 | ... K19: =SUM(K15:K18) -> 0
A20: Zalaegerszegi Belvárosi I. sz. Óvoda | E20: 100000 | K20: =SUM(B20:J20) -> 100000
A21: Deák Ferenc Megyei és Városi Könyvtár | I21: 2778 | J21: =SUM(J61) -> 0 | K21: =SUM(B21:J21) -> 2778
A22: Göcsej Múzeum | G22: 366 | H22: =SUM(H55:H59) -> 0 | I22: 5000 | J22: =SUM(J55:J59) -> 0 | K22: =SUM(B22:I22) -> 5366
A23: Keresztury VMK | B23: 120 | C23: 2006 | D23: 96 | G23: 550 | H23: =SUM(H34:H53) -> 0 | I23: 5178 | J23: =SUM(J34:J53) -> 0 | K23: =SUM(B23:I23) -> 7950
A24: Zalaegerszegi Belvárosi I. sz. Óvoda | E24: 100 | J24: =SUM(J20:J20) -> 0 | K24: =SUM(B24:I24) -> 100
A25: Zalaegerszegi Belvárosi II. sz. Óvoda | K25: =SUM(C25:J25) -> 0
A26: Zalaegerszegi Belvárosi II. Óvoda összesen | C26: =SUM(C25:C25) -> 0 | D26: =SUM(D25:D25) -> 0 | E26: =SUM(E25:E25) -> 0 | J26: =SUM(J25:J25) -> 0 | K26: =SUM(K25:K25) -> 0
A27: Zalaegerszegi Landorhegyi Óvoda | K27: =SUM(B27:J27) -> 0
A28: Zalaegerszegi Landorhegyi Óvoda | K28: =SUM(B28:J28) -> 0
A29: Zalaegerszegi Landorhegyi Óvoda | K29: =SUM(B29:J29) -> 0
A30: Zalaegerszegi Landorhegyi Óvoda összesen | C30: =SUM(C27:C29) -> 0 | D30: =SUM(D27:D29) -> 0 | E30: =SUM(E27:E29) -> 0 | J30: =SUM(J27:J29) -> 0 | K30: =SUM(K27:K29) -> 0
A31: Zalaegerszegi Kertvárosi Óvoda | C31: 155000 | D31: 50000 | E31: 155000 | K31: =SUM(B31:I31) -> 360000
A32: Zalaegerszegi Gondozási Központ | B32: 200 | G32: 300 | H32: =SUM(H215:H218) -> 0 | I32: 3100 | J32: =SUM(J215:J218) -> 0 | K32: =SUM(B32:J32) -> 3600
A33: Zalaegerszegi Kertvárosi Óvoda | C33: 155 | D33: 50 | E33: 155 | J33: =SUM(J31) -> 0 | K33: =SUM(B33:I33) -> 360
A34: Keresztury VMK | C34: 945828 | D34: 31000 | G34: 100000 | I34: 550000 | K34: =SUM(B34:I34) -> 1626828
A35: Keresztury VMK | C35: 350000 | G35: 200000 | I35: 200000 | K35: =SUM(B35:I35) -> 750000
A36: Keresztury VMK | I36: 1568000 | K36: =SUM(B36:I36) -> 1568000
A37: Keresztury VMK | I37: 900000 | K37: =SUM(B37:I37) -> 900000
A38: Keresztury VMK | B38: 120000 | C38: 710000 | D38: 65000 | G38: 250000 | I38: 1960000 | K38: =SUM(B38:I38) -> 3105000
A39: Keresztury VMK | K39: =SUM(B39:I39) -> 0
A40: Keresztury VMK | K40: =SUM(B40:I40) -> 0
A41: Keresztury VMK | K41: =SUM(B41:I41) -> 0
A42: Keresztury VMK | K42: =SUM(B42:I42) -> 0
A43: Keresztury VMK | K43: =SUM(B43:I43) -> 0
A44: Keresztury VMK | K44: =SUM(B44:I44) -> 0
A45: Keresztury VMK | K45: =SUM(B45:I45) -> 0
A46: Keresztury VMK | K46: =SUM(B46:I46) -> 0
A47: Keresztury VMK | K47: =SUM(B47:I47) -> 0
A48: Keresztury VMK | K48: =SUM(B48:I48) -> 0
A49: Keresztury VMK | K49: =SUM(B49:I49) -> 0
A50: Keresztury VMK | K50: =SUM(B50:I50) -> 0
... A53: Keresztury VMK | K53: =SUM(B53:I53) -> 0
A55: Göcsej Múzeum | G55: 365784 | I55: 5000000 | K55: =SUM(B55:J55) -> 5365784
A56: Göcsej Múzeum | K56: =SUM(B56:J56) -> 0
A57: Göcsej Múzeum | K57: =SUM(B57:J57) -> 0
A58: Göcsej Múzeum | K58: =SUM(B58:J58) -> 0
A59: Göcsej Múzeum | K59: =SUM(B59:J59) -> 0
A62: Zalaegerszegi Turisztikai Hivatal és Információs Iroda | I62: 3000 | K62: =SUM(I62:J62) -> 3000
A64: Városi Sportlétesítm. | K64: =SUM(B64:I64) -> 0
A65: Vásárcsarnok | K65: =SUM(B65:J65) -> 0
A66: Költségvetési szervek összesen: | B66: =B3+B6+B14+B19+B24+B26+B30+B33+B23+B22+B21+B62+B65+B64+B7+B8+B32 -> 320 | C66: =C3+C6+C14+C19+C24+C26+C30+C33+C23+C22+C21+C62+C65+C64+C7+C8+C32 -> 2161 | D66: =D3+D6+D14+D19+D24+D26+D30+D33+D23+D22+D21+D62+D65+D64+D7+D8+D32 -> 146 | E66: =E3+E6+E14+E19+E24+E26+E30+E33+E23+E22+E21+E62+E65+E64+E7+E8+E32 -> 255 | F66: =F3+F6+F14+F19+F24+F26+F30+F33+F23+F22+F21+F62+F65+F64+F7+F8+F32 -> 0 | G66: =G3+G6+G14+G19+G24+G26+G30+G33+G23+G22+G21+G62+G65+G64+G7+G8+G32 -> 1216 | H66: =H3+H6+H14+H19+H24+H26+H30+H33+H23+H22+H21+H62+H65+H64+H7+H8+H32 -> 0 | I66: =I3+I6+I14+I19+I24+I26+I30+I33+I23+I22+I21+I62+I65+I64+I7+I8+I32 -> 19056 | ... K66: =K3+K6+K14+K19+K24+K26+K30+K33+K23+K22+K21+K62+K65+K64+K7+K8+K32 -> 23154
A67: Önkormányzat
A68: ZMJV Ukrán Nemzetiségi Önkormányzata | G68: 0 | K68: =SUM(B68:J68) -> 0
A69: Kaposvári Megyei Jogú Város Önkormányzata | I69: 4804 | K69: =SUM(I69:J69) -> 4804
A70: MJV Szövetsége | K70: =SUM(I70:J70) -> 0
K71: =SUM(I71:J71) -> 0
A72: ZMJV Roma Nemzetiségi Önkormányzata | C72: 75 | D72: 50 | G72: 100 | I72: 5000 | K72: =SUM(B72:J72) -> 5225
A73: Önkormányzat összesen: | B73: =SUM(B68:B72) -> 0 | C73: =SUM(C68:C72) -> 75 | D73: =SUM(D68:D72) -> 50 | E73: =SUM(E68:E72) -> 0 | F73: =SUM(F68:F72) -> 0 | G73: =SUM(G68:G72) -> 100 | H73: =SUM(H68:H72) -> 0 | I73: =SUM(I68:I72) -> 9804 | ... K73: =SUM(K68:K72) -> 10029
A74: Civil szervezetek, egyesületek, alapítványok, önkormányzatok és egyéb szervezetek
A75: Zeg. Tankerületi Központ | K75: =SUM(B75:I75) -> 0
A76: Zeg. Tankerületi Központ összesen | I76: =SUM(I75) -> 0 | J76: =SUM(J75:J75) -> 0 | K76: =SUM(C76:J76) -> 0
A77: "A zalai Szívgyógyászatért Alapítvány | G77: 150 | K77: =SUM(B77:I77) -> 150
A78: Zalaegerszegi Családsegítő Szolgálat és Gyermekjóléti Központ | K78: =SUM(B78:I78) -> 0
A79: Zalaegerszegi Családsegítő Szolgálat és Gyermekjóléti Központ | K79: =SUM(B79:I79) -> 0
A80: Zalaegerszegi Családsegítő Szolgálat és Gyermekjóléti Központ összesen | B80: =SUM(B78:B79) -> 0 | C80: =SUM(C78:C79) -> 0 | D80: =SUM(D78:D79) -> 0 | E80: =SUM(E78:E79) -> 0 | F80: =SUM(F78:F79) -> 0 | G80: =SUM(G78:G79) -> 0 | H80: =SUM(H78:H79) -> 0 | I80: =SUM(I78:I79) -> 0 | J80: =SUM(J78:J79) -> 0 | K80: =SUM(B80:I80) -> 0
A81: Ady Iskola Gyermekhangok Alapítvány | K81: =SUM(C81:J81) -> 0
A82: Ady Iskola A Tanulókért És Az Iskoláért Alapítvány | C82: 125000 | D82: 100000 | K82: =SUM(B82:I82) -> 225000
A83: Ady Iskola A Tanulókért És Az Iskoláért Alapítvány | G83: 100000 | K83: =SUM(B83:J83) -> 100000
A84: Ady Iskola A Tanulókért És Az Iskoláért Alapítvány | C84: 125 | D84: 100 | G84: 100 | H84: =SUM(H82:H83) -> 0 | J84: =SUM(J82:J83) -> 0 | K84: =SUM(B84:I84) -> 325
A85: Ady DSE | K85: =SUM(B85:I85) -> 0
A86: AHIDA Közösségeiért Egyesület | I86: 150 | K86: =SUM(B86:I86) -> 150
A87: Akarattal és Hittel Alap. | K87: =SUM(B87:I87) -> 0
A88: Alapítvány a Bazitai Óvodás. | K88: =SUM(B88:I88) -> 0
A89: Albatrosz Táncművészeti Társulat | C89: 500000 | K89: =SUM(B89:I89) -> 500000
A90: Albatrosz Táncművészeti Társulat | C90: 500 | H90: =SUM(H89:H89) -> 0 | J90: =SUM(J89:J89) -> 0 | K90: =SUM(C90:I90) -> 500
A91: Alexanderért és a Higgy Bennem Programért Alapítvány | G91: 100 | K91: =SUM(B91:I91) -> 100
A92: Alsójánkahegyi Kulturális Egyesület | C92: 175000 | K92: =SUM(B92:J92) -> 175000
A93: Alsójánkahegyi Kulturális Egyesület | C93: 175 | J93: =SUM(J92:J92) -> 0 | K93: =SUM(B93:I93) -> 175
A94: Andráshida Torna Egylet | C94: 500 | I94: 868 | K94: =SUM(C94:J94) -> 1368
A95: Az Altatás Biztonságáért Alapítvány | K95: =SUM(B95:I95) -> 0
A96: ifj.Gróf Andrássy Gyula Alapítvány | K96: =SUM(C96:I96) -> 0
A97: Amerikai Futball | K97: =SUM(B97:I97) -> 0
A98: Andráshidai LSC | I98: 2625000 | K98: =SUM(B98:I98) -> 2625000
A99: Andráshidai LSC | I99: 875000 | K99: =SUM(B99:J99) -> 875000
A100: Andráshidai LSC | H100: =SUM(H98:H99) -> 0 | I100: 3500 | J100: =SUM(J98:J99) -> 0 | K100: =SUM(B100:I100) -> 3500
A101: Andráshidai Polgárőr Egyesület
A102: Artisztika Egyesület | G102: 200 | I102: 500 | K102: =SUM(B102:I102) -> 700
A103: André Kiadói Bt | K103: =SUM(C103:I103) -> 0
A104: Areión Kulturális Egyes. | K104: =SUM(B104:I104) -> 0
A105: Asztma Klub | I105: 40 | K105: =SUM(B105:I105) -> 40
A106: Autentika Alapítvány | G106: 100 | K106: =SUM(B106:I106) -> 100
...
