Workbook
Name _GoBack: '2'!#REF!

Sheet 1
B1: 2021. évi eredeti előirányzat | C1: 2021. évi módosított előirányzat | D1: Teljesítés | E1: Teljesítés %-a | G1: Megnevezés | H1: 2021. évi eredeti előirányzat | I1: 2021. évi módosított előirányzat | J1: Teljesítés | K1: Teljesítés %-a
A2: I. Működési célú bevételek | G2: I. Működési célú kiadások
A3: 1.) Működési célú támogatások államháztartáson belülről | B3: 6090370 | C3: 7670343 | D3: 7171380 | E3: =SUM(D3/C3)*100 -> 93.494906 | G3: 1.) Költségvetési szervek kiadásai | H3: 8235838 | I3: 8660456 | J3: 7710928 | K3: =SUM(J3/I3)*100 -> 89.036051
A4: 2.) Közhatalmi bevételek | B4: 4499747 | C4: 4540747 | D4: 5471425 | E4: =SUM(D4/C4)*100 -> 120.49614 | G4: 2.) Önkormányzat szakosztályainak kiadásai | H4: 8167142 | I4: 9531382 | J4: 6053949 | K4: =SUM(J4/I4)*100 -> 63.515962
A5: 3.) Működési bevételek | B5: 2392621 | C5: 2928780 | D5: 3028094 | E5: =SUM(D5/C5)*100 -> 103.39097 | G5: 3.Egyéb működési célú kiadások (költségvetési szervek és tartalék nélkül) | H5: 3145847 | I5: 3531085 | J5: 3486385 | K5: =SUM(J5/I5)*100 -> 98.7341
A6: 4.) Működési célú átvett pénzeszközök | C6: 133574 | D6: 132292 | E6: =SUM(D6/C6)*100 -> 99.040232 | G6: 4.) Céltartalékból működésre | H6: 622263 | I6: 762172 | K6: =SUM(J6/I6)*100 -> 0
A7: Költségvetési műk. bevételei összesen: | B7: =SUM(B3+B4+B5+B6) -> 12982738 | C7: =SUM(C3:C6) -> 15273444 | D7: =SUM(D3+D4+D5+D6) -> 15803191 | E7: =SUM(D7/C7)*100 -> 103.46842 | G7: 5.) Általános tartalék | H7: 10000 | I7: 5000 | K7: =SUM(J7/I7)*100 -> 0
A8: Finanszírozási bevételek | G8: Költségvetési műk. kiadásai összesen: | H8: =SUM(H2:H7) -> 20181090 | I8: =SUM(I3:I7) -> 22490095 | J8: =SUM(J2:J7) -> 17251262 | K8: =SUM(J8/I8)*100 -> 76.706043
A9: 5.) Előző év költségvetési maradványának igénybevétele | B9: 7367381 | C9: 7385680 | D9: 7385680 | E9: =SUM(D9/C9)*100 -> 100 | G9: 6.) Egyéb finanszírozási kiadás (államháztartáson belüli megelőlegezés visszafizetése) | H9: 169029 | I9: 201562 | J9: 201562 | K9: =SUM(J9/I9)*100 -> 100
A10: 6.) Államháztartáson belüli megelőlegezések | C10: 32533 | D10: 204116 | E10: =SUM(D10/C10)*100 -> 627.41217
A11: MŰKÖDÉSI CÉLÚ BEVÉTELEK ÖSSZ: | B11: =SUM(B7:B10) -> 20350119 | C11: =SUM(C7:C10) -> 22691657 | D11: =SUM(D7:D10) -> 23392987 | E11: =SUM(D11/C11)*100 -> 103.0907 | G11: MŰKÖDÉSI CÉLÚ KIADÁSOK ÖSSZ.: | H11: =SUM(H8:H9) -> 20350119 | I11: =SUM(I8:I10) -> 22691657 | J11: =SUM(J8:J10) -> 17452824 | K11: =SUM(J11/I11)*100 -> 76.912955
A12: II. Felhalmozási célú bevételek | G12: II. Felhalmozási célú kiadások
A13: 1.) Felhalmozási célú támogatások államháztartáson belülről | B13: 10507163 | C13: 19020040 | D13: 10072813 | E13: =SUM(D13/C13)*100 -> 52.958948 | G13: 1.) Egyéb felhalmozási célú kiadások | H13: 113334 | I13: 140670 | J13: 109968 | K13: =SUM(J13/I13)*100 -> 78.174451
A14: 2.) Felhalmozási bevételek | B14: 200441 | C14: 412615 | D14: 1183345 | E14: =SUM(D14/C14)*100 -> 286.79156 | G14: 2.) Beruházás | H14: 28743625 | I14: 34582324 | J14: 13255363 | K14: =SUM(J14/I14)*100 -> 38.329879
A15: 3.) Felhalmozási célú átvett pénzeszközök | B15: 134863 | C15: 217909 | D15: 230212 | E15: =SUM(D15/C15)*100 -> 105.64593 | G15: ebből: költségvetési szervek | H15: 191139 | I15: 293620 | J15: 148423 | K15: =SUM(J15/I15)*100 -> 50.549349
A16: 4.) Fejlesztéshez működési jellegű bevétel (HD, áfa visszaigénylés) | B16: 3423124 | C16: 3643731 | D16: 2461329 | E16: =SUM(D16/C16)*100 -> 67.54969 | G16: 3.) Felújítás | H16: 3618638 | I16: 6594881 | J16: 2303448 | K16: =SUM(J16/I16)*100 -> 34.927817
A17: Költségvetési felhalm. bevételei összesen: | B17: =SUM(B13:B16) -> 14265591 | C17: =SUM(C13:C16) -> 23294295 | D17: =SUM(D13:D16) -> 13947699 | E17: =SUM(D17/C17)*100 -> 59.87603 | G17: ebből: költségvetési szervek | H17: 22485 | I17: 28253 | J17: 22053 | K17: =SUM(J17/I17)*100 -> 78.055428
A18: Finanszírozási bevételek | G18: 4.) Céltartalék | H18: 29385 | I18: 168705 | K18: =SUM(J18/I18)*100 -> 0
A19: 5.) Hitel felvétel | B19: 34841 | C19: 34841 | D19: 34841 | E19: =SUM(D19/C19)*100 -> 100 | G19: 5.)Fejlesztési hitel kamata | H19: 35142 | I19: 35224 | J19: 35225 | K19: =SUM(J19/I19)*100 -> 100.00284
A20: 6.) Előző év költségvetési maradványának igénybevétele | B20: 3775789 | C20: 4048765 | D20: 4048765 | E20: =SUM(D20/C20)*100 -> 100 | G20: Költségvetési felh.célú kiadásai összesen: | H20: =SUM(H13+H14+H16+H18+H19) -> 32540124 | I20: =SUM(I13+I14+I16+I18+I19) -> 41521804 | J20: =SUM(J13+J14+J16+J18+J19) -> 15704004 | K20: =SUM(J20/I20)*100 -> 37.821102
A21: 7.) Forgatási célú értékpapír beváltás | B21: 14600437 | C21: 14605437 | D21: 9690850 | E21: =SUM(D21/C21)*100 -> 66.350976 | G21: Finanszírozási kiadások
G22: 6.) Hitel- és kölcsön törlesztések | H22: 111534 | I22: 111534 | J22: 111533 | K22: =SUM(J22/I22)*100 -> 99.999103
G23: 7.) Lízing kötelezettség | H23: 25000 | I23: 350000 | J23: 350000 | K23: =SUM(J23/I23)*100 -> 100
A24: FELHALMOZÁSI CÉLÚ BEVÉTELEK ÖSSZESEN: | B24: =SUM(B17:B23) -> 32676658 | C24: =SUM(C17:C23) -> 41983338 | D24: =SUM(D17:D23) -> 27722155 | E24: =SUM(D24/C24)*100 -> 66.031327 | G24: FELHALMOZÁSI CÉLÚ KIADÁSOK ÖSSZESEN: | H24: =SUM(H20:H23) -> 32676658 | I24: =SUM(I20:I23) -> 41983338 | J24: =SUM(J20:J23) -> 16165537 | K24: =SUM(J24/I24)*100 -> 38.504649
A25: ÖNKORMÁNYZAT ÖSSZESEN: | B25: =SUM(B11+B24) -> 53026777 | C25: =C11+C24 -> 64674995 | D25: =SUM(D11+D24) -> 51115142 | E25: =SUM(D25/C25)*100 -> 79.033855 | G25: ÖNKORMÁNYZAT ÖSSZESEN: | H25: =SUM(H11+H24) -> 53026777 | I25: =SUM(I11+I24) -> 64674995 | J25: =SUM(J11+J24) -> 33618361 | K25: =SUM(J25/I25)*100 -> 51.980462
A26: 9.) Forgatási célú értékpapír beváltás projektekhez kapcsolódóan | B26: 10000000 | C26: 11500000 | E26: =SUM(D26/C26)*100 -> 0 | G26: 8.) Forgatási célú értékpapír vásárlás hazai forrásból átmenetileg szabad pénzeszközökből | H26: 10000000 | I26: 11500000 | J26: 8670000 | K26: =SUM(J26/I26)*100 -> 75.391304
A27: MINDÖSSZESEN: | B27: =SUM(B25:B26) -> 63026777 | C27: =SUM(C25:C26) -> 76174995 | D27: =SUM(D25:D26) -> 51115142 | E27: =SUM(D27/C27)*100 -> 67.102258 | G27: MINDÖSSZESEN: | H27: =SUM(H25:H26) -> 63026777 | I27: =SUM(I25:I26) -> 76174995 | J27: =SUM(J25:J26) -> 42288361 | K27: =SUM(J27/I27)*100 -> 55.514754

Sheet 2
A1: Rovat száma | B1: Megnevezés | C1: 2021. évi eredeti előirányzat | D1: 2021. évi módosított előirányzat | E1: Teljesítés | F1: Teljesítés %-a
A2: B | B2: BEVÉTELEK
A3: B1 | B3: Működési célú támogatások államháztartáson belülről
A4: B11 | B4: Önkormányzatok működési támogatásai | C4: 4225717 | D4: 4401715 | E4: 4401715 | F4: =SUM(E4/D4)*100 -> 100
A5: B12 | B5: Elvonások és befizetések bevételei | C5: 43350 | D5: 47257 | E5: 47257 | F5: =SUM(E5/D5)*100 -> 100
A6: B14 | B6: Működési célú visszatérítendő támogatások, kölcsönök visszatérülése államháztartáson belülről | C6: 1821303 | D6: 43350 | E6: 37831 | F6: =SUM(E6/D6)*100 -> 87.268743
A7: B16 | B7: Egyéb működési célú támogatások bevételei államháztartáson belülről | D7: 3178021 | E7: 2684577 | F7: =SUM(E7/D7)*100 -> 84.47323
B8: Működési célú támogatások államháztartáson belülről összesen | C8: =SUM(C4:C7) -> 6090370 | D8: =SUM(D4:D7) -> 7670343 | E8: =SUM(E4:E7) -> 7171380 | F8: =SUM(E8/D8)*100 -> 93.494906
A9: B2 | B9: Felhalmozási célú támogatások államháztartáson belülről
A10: B21 | B10: Felhalmozási célú önkormányzati támogatás | D10: 657918 | E10: 657918 | F10: =SUM(E10/D10)*100 -> 100
A11: B25 | B11: Egyéb felhalmozási célú támogatások bevételei államháztartáson belülről | C11: 10507163 | D11: 18362122 | E11: 9414895 | F11: =SUM(E11/D11)*100 -> 51.273458
B12: Felhalmozási célú támogatások államháztartáson belülről összesen | C12: =SUM(C10:C11) -> 10507163 | D12: =SUM(D10:D11) -> 19020040 | E12: =SUM(E10:E11) -> 10072813 | F12: =SUM(E12/D12)*100 -> 52.958948
A13: B3 | B13: Közhatalmi bevételek
A14: B3111 | B14: Magánszemélyek jövedelemadói | E14: 63
A15: B34 | B15: Vagyoni típusú adók (építményadó, magánszemélyek kommunális adója) | C15: 1091747 | D15: 1116747 | E15: 1126053 | F15: =SUM(E15/D15)*100 -> 100.83331
A16: B35 | B16: Termékek és szolgáltatások adói
A17: B351 | B17: Értékesítési és forgalmi adók (iparűzési adó) | C17: 3400000 | D17: 3400000 | E17: 4271032 | F17: =SUM(E17/D17)*100 -> 125.61859
A18: B355 | B18: Egyéb áruhasználati és szolgáltatási adók ( idegenforgalmi adó) | D18: 16000 | E18: 17056 | F18: =SUM(E18/D18)*100 -> 106.6
A19: B36 | B19: Egyéb közhatalmi bevételek (különféle bírságok, talajterhelési díj) | C19: 8000 | D19: 8000 | E19: 57221 | F19: =SUM(E19/D19)*100 -> 715.2625
B20: Közhatalmi bevételek összesen | C20: =SUM(C13:C19) -> 4499747 | D20: =SUM(D15:D19) -> 4540747 | E20: =SUM(E14:E19) -> 5471425 | F20: =SUM(E20/D20)*100 -> 120.49614
A21: B4 | B21: Működési bevételek | C21: 5815745 | D21: 6572511 | E21: 5489423 | F21: =SUM(E21/D21)*100 -> 83.52094
A22: B5 | B22: Felhalmozási bevételek
A23: B52 | B23: Ingatlanok értékesítése | C23: 200441 | D23: 410463 | E23: 1180871 | F23: =SUM(E23/D23)*100 -> 287.69244
A24: B53 | B24: Egyéb tárgyi eszközök értékesítése | D24: 2152 | E24: 2450 | F24: =SUM(E24/D24)*100 -> 113.84758
A25: B55 | B25: Részesedések megszűnéséhez kapcsolódó bevételek | E25: 24
B26: Felhalmozási bevételek összesen | C26: =SUM(C23:C24) -> 200441 | D26: =SUM(D23:D24) -> 412615 | E26: =SUM(E23:E25) -> 1183345 | F26: =SUM(E26/D26)*100 -> 286.79156
A27: B6 | B27: Működési célú átvett pénzeszközök | D27: 133574 | E27: 132292 | F27: =SUM(E27/D27)*100 -> 99.040232
A28: B7 | B28: Felhalmozási célú átvett pénzeszközök
A29: B74 | B29: Felhalmozási célú visszatérítendő támogatások, kölcsönök visszatérülése államháztartáson kívülről | C29: 3000 | D29: 3000 | E29: 11799 | F29: =SUM(E29/D29)*100 -> 393.3
A30: B75 | B30: Egyéb felhalmozási célú átvett pénzeszközök | C30: 131863 | D30: 214909 | E30: 218413 | F30: =SUM(E30/D30)*100 -> 101.63046
B31: Felhalmozási célú átvett pénzeszközök összesen | C31: =SUM(C29:C30) -> 134863 | D31: =SUM(D29:D30) -> 217909 | E31: =SUM(E29:E30) -> 230212 | F31: =SUM(E31/D31)*100 -> 105.64593
A32: B1-B7 | B32: Költségvetési bevételek | C32: =SUM(C8+C12+C20+C21+C26+C27+C31) -> 27248329 | D32: =D8+D12+D20+D21+D26+D27+D31 -> 38567739 | E32: =SUM(E8+E12+E20+E21+E26+E27+E31) -> 29750890 | F32: =SUM(E32/D32)*100 -> 77.139316
A33: B8 | B33: Finanszírozási bevételek
A34: B81 | B34: Belföldi finanszírozás bevételei
A35: B811 | B35: Hitel-, kölcsönfelvétel államháztartáson kívülről | C35: 34841 | D35: 34841 | E35: 34841 | F35: =SUM(E35/D35)*100 -> 100
A36: B8121 | B36: Forgatási célú belföldi értékpapírok beváltása, értékesítése | C36: 24600437 | D36: 26105437 | E36: 9690850 | F36: =SUM(E36/D36)*100 -> 37.12196
A37: B813 | B37: Maradvány igénybevétele | C37: 11143170 | D37: 11434445 | E37: 11434445 | F37: =SUM(E37/D37)*100 -> 100
A38: B814 | B38: Államháztartáson belüli megelőlegezések | D38: 32533 | E38: 204116 | F38: =SUM(E38/D38)*100 -> 627.41217
B39: Finanszírozási bevételek összesen | C39: =SUM(C35:C37) -> 35778448 | D39: =SUM(D35:D38) -> 37607256 | E39: =SUM(E35:E38) -> 21364252 | F39: =SUM(E39/D39)*100 -> 56.808856
B40: BEVÉTELEK ÖSSZESEN: | C40: =SUM(C32+C39) -> 63026777 | D40: =D32+D39 -> 76174995 | E40: =SUM(E32+E39) -> 51115142 | F40: =SUM(E40/D40)*100 -> 67.102258

Sheet 3
B1: Mutató | D1: 2021. évi eredeti ei. | F1: Mutató | H1: 2021. évi módosított ei. | J1: 2021. évi
A2: Hozzájárulás jogcíme | B2: lakosságszám | C2: mutató | D2: Normatíva Ft/fő | E2: Hozzájárulás ezer Ft-ban | F2: lakosságszám | G2: mutató | H2: Normatíva Ft/fő | I2: Hozzájárulás ezer Ft-ban | J2: Teljesítés összege | K2: Teljesítés %-a
A3: 2. melléklet szerinti jogcímek
A4: 1.1. Települési önkormányzatok működésének általános támogatása
A5: 1.1.1.1. önkormányzati hivatal működésének támogatása - elismert hivatali létszám alapján | C5: 130.56 | D5: 5475000 | E5: 714816 | G5: 130.56 | H5: 5492000 | I5: 717035 | J5: 717035 | K5: =SUM(J5/I5)*100 -> 100
A6: Település-üzemeltetéshez kapcsolódó feladataellátás támogatása
A7: 1.1.1.2. zöldterület-gazdálkodás támogatása (hektár) | C7: 2369.2 | D7: 25200 | E7: 59704 | G7: 2369.2 | H7: 25200 | I7: 59704 | J7: 59704 | K7: =SUM(J7/I7)*100 -> 100
A8: 1.1.1.3. közvilágítás támogatása (km) | C8: 402.8 | D8: 415000 | E8: 167162 | G8: 402.8 | H8: 415000 | I8: 167162 | J8: 167162 | K8: =SUM(J8/I8)*100 -> 100
A9: 1.1.1.4. köztemető támogatása (m²) | C9: 323446 | D9: 70 | E9: 22641 | G9: 323446 | H9: 70 | I9: 22641 | J9: 22641 | K9: =SUM(J9/I9)*100 -> 100
A10: 1.1.1.5. közutak támogatása (km) | C10: 219.19 | D10: 470000 | E10: 103022 | G10: 219.19 | H10: 480000 | I10: 105214 | J10: 105214 | K10: =SUM(J10/I10)*100 -> 100
A11: 1.1.1.6. egyéb önkormányzati feladatok támogatása | B11: 56959 | D11: 2700 | E11: 153789 | F11: 56959 | H11: 2700 | I11: 153789 | J11: 153789 | K11: =SUM(J11/I11)*100 -> 100
A12: 1.1.1.7. Lakott külterülettel kapcsolatos feladatok támogatása | B12: 4236 | D12: 2550 | E12: 10802 | F12: 4236 | H12: 2550 | I12: 10802 | J12: 10802 | K12: =SUM(J12/I12)*100 -> 100
A13: 1.1.2.Nem közművel összegyűjtött háztartási szennyvíz ártalmatlanítása (köbméter) | E13: 100 | I13: 100 | J13: 100 | K13: =SUM(J13/I13)*100 -> 100
A14: 1.2. Óvodaműködtetési támogatás
A15: 1.2.1.1. Óvodaműködtetési támogatás | C15: 1529.7 | D15: 97400 | E15: 148993 | G15: 1503.7 | H15: 97400 | I15: 146460 | J15: 146460 | K15: =SUM(J15/I15)*100 -> 100
A16: 1.2.2.1. Az óvodában foglalkoztatott pedagógusok átlagbéralapú támogatása | C16: 137.9 | D16: 4861500 | E16: 670401 | G16: 135 | H16: 4861500 | I16: 656303 | J16: 656303 | K16: =SUM(J16/I16)*100 -> 100
A17: 1.2.3. Kiegészítő támogatás az óvodapedagógusok minősítéséből adódó többletkiadásokhoz
A18: 1.2.3.1.1.1.1. Pedagógus II. kategóriába sorolt pedagógusok kiegészítő támogatása | C18: 39.3 | D18: 432000 | E18: 16977 | G18: 38.5 | H18: 432000 | I18: 16632 | J18: 16632 | K18: =SUM(J18/I18)*100 -> 100
A19: 1.2.3.1.1.1.2. Pedagógus II. kategóriába sorolt óvodapedagógusok kiegészítő támogatása, akik a minősítés 2021. jan-1-jei átsorolással szerezték meg | D19: 363642 | G19: 4.3 | H19: 396000 | I19: 1703 | J19: 1703 | K19: =SUM(J19/I19)*100 -> 100
A20: 1.2.3.1.1.1.2. Mesterpedagógus, kutatótanár kategóriába sorolt pedagógusok kiegészítő támogatása | C20: 2 | D20: 1611000 | E20: 3222 | G20: 2 | H20: 1611000 | I20: 3222 | J20: 3222 | K20: =SUM(J20/I20)*100 -> 100
A21: 1.2.5.1.1. Az óvodában foglalkoztatott pedagógusok nevelőmunkáját közvetlenük segítők átlagbéralapú támogatása | C21: 90 | D21: 2919000 | E21: 262710 | G21: 89.7 | H21: 3318000 | I21: 297625 | J21: 297625 | K21: =SUM(J21/I21)*100 -> 100
A22: 1.2.7 Diabétesz ellátási pótlék | G22: 1 | H22: 120000 | I22: 120 | J22: 120 | K22: =SUM(J22/I22)*100 -> 100
A23: 1.3.2.Szociális és gyermekjóléti alapszolgáltatás feladatai
A24: 1.3.2.1. Család és gyermekjóléti szolgálat | C24: 8.6 | D24: 4100000 | E24: 35260 | G24: 8.6 | H24: 4256200 | I24: 36603 | J24: 36603 | K24: =SUM(J24/I24)*100 -> 100
A25: 1.3.2.2. Család- és gyermekjóléti központ ( járáshoz tartozó összes településre) | C25: 23.1 | D25: 3650000 | E25: 84315 | G25: 23.1 | H25: 3828555 | I25: 88440 | J25: 88440 | K25: =SUM(J25/I25)*100 -> 100
A26: 1.3.2.3.2. Szociális étkeztetés - társulás által történő feladatellátás | C26: 325 | D26: 72996 | E26: 23724 | G26: 325 | H26: 74328 | I26: 24157 | J26: 24157 | K26: =SUM(J26/I26)*100 -> 100
A27: 1.3.2.4. Házi segítségnyújtás
A28: 1.3.2.4.1. Szociális segítés | C28: 2 | D28: 25000 | E28: 50 | G28: 2 | H28: 25000 | I28: 50 | J28: 50 | K28: =SUM(J28/I28)*100 -> 100
A29: 1.3.2.4.3. Személyi gondozás - társulás által történő feladatellátás | C29: 53 | D29: 471900 | E29: 25011 | G29: 53 | H29: 491550 | I29: 26052 | J29: 26052 | K29: =SUM(J29/I29)*100 -> 100
A30: 1.3.2.6. Időskorúak nappali intézményi ellátása társulás által történő feladatellátás | C30: 55 | D30: 325500 | E30: 17902 | G30: 60 | H30: 336285 | I30: 20177 | J30: 20177 | K30: =SUM(J30/I30)*100 -> 100
A31: 1.3.2.8.2. Demens személyek nappali intézményi ellátása - társulás által történő feladatellátás | C31: 4 | D31: 805200 | E31: 3221 | G31: 3 | H31: 821200 | I31: 2464 | J31: 2464 | K31: =SUM(J31/I31)*100 -> 100
A32: 1.3.2.9.2. Pszichiátriai betegek nappali intézményi ellátása - társulás által történő feladatellátás | C32: 19 | D32: 450000 | E32: 8550 | G32: 20 | H32: 458580 | I32: 9171 | J32: 9171 | K32: =SUM(J32/I32)*100 -> 100
A33: 1.3.2.10.2. Szenvedélybetegek nappali intézményi ellátása - társulás által történő feladatellátás | C33: 9 | D33: 450000 | E33: 4050 | G33: 8 | H33: 458580 | I33: 3668 | J33: 3668 | K33: =SUM(J33/I33)*100 -> 100
A34: 1.3.3. Bölcsőde, mini bölcsőde támogatása
A35: 1.3.3.1. Bölcsődei bértámogatás
A36: 1.3.3.1.1. Felsőfokú végzettségű kisgyermeknevelők, szaktanácsadók bértámogatása | C36: 25 | D36: 5100000 | E36: 127500 | G36: 23.6 | H36: 5100000 | I36: 120360 | J36: 120360 | K36: =SUM(J36/I36)*100 -> 100
A37: 1.3.3.1.2. Bölcsődei dajkák,középfokú végzettségű kisgyermeknevelők, szaktanácsadók bértámogatása | C37: 44.4 | D37: 4260000 | E37: 189144 | G37: 51.4 | H37: 4260000 | I37: 218964 | J37: 218964 | K37: =SUM(J37/I37)*100 -> 100
A38: 1.3.3.2. Bölcsődei üzemeltetési támogatás | E38: 86299 | I38: 47009 | J38: 47009 | K38: =SUM(J38/I38)*100 -> 100
A39: 1.3.4. A települési önk. által biztosított egyes szociális szakosított ellátások, valamint a gyermekek átmeneti gondozásával kapcsolatos feladatok támogatása
A40: 1.3.4.1 Bértámogatása | C40: 34.2 | D40: 4234040 | E40: 144804 | G40: 32.2 | H40: 4442000 | I40: 143032 | J40: 143032 | K40: =SUM(J40/I40)*100 -> 100
...

Sheet 4
A3: Rovat száma | B3: Megnevezés | C3: 2021. évi eredeti előirányzat | D3: 2021. évi módosított előirányzat | E3: 2021. évi teljesítés | F3: Teljesítés %-a
B4: Költségvetési kiadások
A5: K1 | B5: Személyi juttatások | C5: 4845616 | D5: 5135057 | E5: ='7'!H18 -> 4736743 | F5: =E5/D5*100 -> 92.243241
A6: K2 | B6: Munkaadókat terhelő járulékok és szociális hj. adó | C6: 845508 | D6: 872528 | E6: ='7'!I18 -> 777775 | F6: =E6/D6*100 -> 89.140406
A7: K3 | B7: Dologi kiadások | C7: 10577885 | D7: 11951698 | E7: ='7'!J18 -> 8064978 | F7: =E7/D7*100 -> 67.479767
A8: K4 | B8: Ellátottak pénzbeli juttatásai | C8: 99170 | D8: 98587 | E8: ='7'!K18 -> 73973 | F8: =E8/D8*100 -> 75.033219
A9: K5 | B9: Egyéb működési célú kiadások | C9: 3848053 | D9: 4467449 | E9: ='7'!L18 -> 3633018 | F9: =E9/D9*100 -> 81.32198
B10: Működési költségvetés összesen: | C10: =SUM(C5:C9) -> 20216232 | D10: =SUM(D5:D9) -> 22525319 | E10: =SUM(E5:E9) -> 17286487 | F10: =E10/D10*100 -> 76.742474
A11: K6 | B11: Beruházások | C11: 28753625 | D11: 34751029 | E11: ='7'!M18 -> 13255363 | F11: =E11/D11*100 -> 38.1438
A12: K7 | B12: Felújítások | C12: 3638023 | D12: 6594881 | E12: ='7'!N18 -> 2303448 | F12: =E12/D12*100 -> 34.927817
A13: K8 | B13: Egyéb felhalmozási célú kiadások | C13: 113334 | D13: 140670 | E13: ='7'!O18 -> 109968 | F13: =E13/D13*100 -> 78.174451
B14: Felhalmozási költségvetés összesen: | C14: =SUM(C11:C13) -> 32504982 | D14: =SUM(D11:D13) -> 41486580 | E14: =SUM(E11:E13) -> 15668779 | F14: =E14/D14*100 -> 37.768307
A15: K1-K8 | B15: Költségvetési kiadások összesen: | C15: =C10+C14 -> 52721214 | D15: =D10+D14 -> 64011899 | E15: =SUM(E14+E10) -> 32955266 | F15: =E15/D15*100 -> 51.483031
A16: K9 | B16: Finanszírozási kiadások | C16: 10305563 | D16: 12163096 | E16: ='7'!P18+'7'!Q18 -> 9333095 | F16: =E16/D16*100 -> 76.732889
B17: Önkormányzat kiadásai összesen | C17: =SUM(C15:C16) -> 63026777 | D17: =SUM(D15:D16) -> 76174995 | E17: =SUM(E15:E16) -> 42288361 | F17: =E17/D17*100 -> 55.514754

Sheet 5
A1: Cím szám | B1: Alcím szám | C1: Megnevezés | D1: Előirányzat | F1: Teljesítés | H1: Költségvetési bevételek | O1: Finanszírozási bevételek
D2: Eredeti | E2: Módosított | F2: Összege | G2: %-a | H2: Működési célú támogatások áht-n belülről | I2: Felhalmozási célú támogatások áht-n belülről | J2: Közhatalmi bevételek | K2: Működési bevételek | L2: Felhalmozási bevételek | M2: Működési célú átvett pénzeszközök | N2: Felhalmozási célú átvett pénzeszközök | O2: Hitel-, kölcsönfelvétel áht-n kívülről | P2: Maradvány igénybevétele | Q2: Egyéb finanszírozási bevétel
C3: Önkormányzat
B4: 12 | C4: Szociális és igazgatási feladatok | D4: 9906 | E4: 10149 | F4: =SUM(H4:Q4) -> 11749 | G4: =F4/E4*100 -> 115.7651 | H4: ='6'!I15 -> 0 | I4: ='6'!J15 -> 0 | J4: ='6'!K15 -> 880 | K4: ='6'!L15 -> 10626 | L4: ='6'!M15 -> 0 | M4: ='6'!N15 -> 243 | N4: ='6'!O15 -> 0 | O4: ='6'!P15 -> 0 | ... Q4: ='6'!R15 -> 0
B5: 13 | C5: Humánigazgatási feladatok | D5: 420563 | E5: 601613 | F5: =SUM(H5:Q5) -> 607557 | G5: =F5/E5*100 -> 100.98801 | H5: ='6'!I52 -> 495871 | I5: ='6'!J52 -> 12000 | J5: ='6'!K52 -> 0 | K5: ='6'!L52 -> 6204 | L5: ='6'!M52 -> 0 | M5: ='6'!N52 -> 73524 | N5: ='6'!O52 -> 3 | O5: ='6'!P52 -> 0 | ... Q5: ='6'!R52 -> 0
B6: 14 | C6: Főépítészi feladatok | D6: 11529 | E6: 22486 | F6: =SUM(H6:Q6) -> 9607 | G6: =F6/E6*100 -> 42.724362 | H6: ='6'!I57 -> 0 | I6: ='6'!J57 -> 0 | J6: ='6'!K57 -> 0 | K6: ='6'!L57 -> 3094 | L6: ='6'!M57 -> 0 | M6: ='6'!N57 -> 0 | N6: ='6'!O57 -> 0 | O6: ='6'!P57 -> 0 | ... Q6: ='6'!R57 -> 0
B7: 15 | C7: Városüzemelési felad. | D7: 401618 | E7: 424140 | F7: =SUM(H7:Q7) -> 446353 | G7: =F7/E7*100 -> 105.23719 | H7: ='6'!I89 -> 0 | I7: ='6'!J89 -> 15884 | J7: ='6'!K89 -> 1755 | K7: ='6'!L89 -> 401597 | L7: ='6'!M89 -> 0 | M7: ='6'!N89 -> 0 | N7: ='6'!O89 -> 3250 | O7: ='6'!P89 -> 0 | ... Q7: ='6'!R89 -> 0
B8: 16 | C8: Városépítészeti feladatok | D8: 36072284 | E8: 45622129 | F8: =SUM(H8:Q8) -> 30785088 | G8: =F8/E8*100 -> 67.478412 | H8: ='6'!I147 -> 1109615 | I8: ='6'!J147 -> 9351033 | J8: ='6'!K147 -> 0 | K8: ='6'!L147 -> 3072570 | L8: ='6'!M147 -> 8794 | M8: ='6'!N147 -> 4500 | N8: ='6'!O147 -> 131863 | O8: ='6'!P147 -> 34841 | ... Q8: ='6'!R147 -> 9690850
B9: 17 | C9: Vagyonkez. feladatok | D9: 790503 | E9: 1055146 | F9: =SUM(H9:Q9) -> 1839770 | G9: =F9/E9*100 -> 174.36165 | H9: ='6'!I183 -> 0 | I9: ='6'!J183 -> 0 | J9: ='6'!K183 -> 0 | K9: ='6'!L183 -> 560510 | L9: ='6'!M183 -> 1172375 | M9: ='6'!N183 -> 0 | N9: ='6'!O183 -> 8870 | O9: ='6'!P183 -> 0 | ... Q9: ='6'!R183 -> 0
B10: 18 | C10: Jogi és közig. feladatok | D10: 79966 | E10: 84876 | F10: =SUM(H10:Q10) -> 72682 | G10: =F10/E10*100 -> 85.633159 | H10: ='6'!I192 -> 0 | I10: ='6'!J192 -> 0 | J10: ='6'!K192 -> 2900 | K10: ='6'!L192 -> 69782 | L10: ='6'!M192 -> 0 | M10: ='6'!N192 -> 0 | N10: ='6'!O192 -> 0 | O10: ='6'!P192 -> 0 | ... Q10: ='6'!R192 -> 0
B11: 19 | C11: Pénzügyi lebonyolítás | D11: 22451153 | E11: 25014482 | F11: =SUM(H11:Q11) -> 14076248 | G11: =F11/E11*100 -> 56.272395 | H11: ='6'!I230 -> 4477641 | I11: ='6'!J230 -> 657918 | J11: ='6'!K230 -> 5465834 | K11: ='6'!L230 -> 151631 | L11: ='6'!M230 -> 0 | M11: ='6'!N230 -> 33550 | N11: ='6'!O230 -> 2930 | O11: ='6'!P230 -> 0 | ... Q11: ='6'!R230 -> 204116
B12: 20 | C12: Építéshatósági feladatok | F12: =SUM(H12:Q12) -> 56 | H12: ='6'!I233 -> 0 | I12: ='6'!J233 -> 0 | J12: ='6'!K233 -> 56 | K12: ='6'!L233 -> 0 | L12: ='6'!M233 -> 0 | M12: ='6'!N233 -> 0 | N12: ='6'!O233 -> 0 | O12: ='6'!P233 -> 0 | ... Q12: ='6'!R233 -> 0
B13: 22 | C13: Polgármesteri Kabinet | E13: 97761 | F13: =SUM(H13:Q13) -> 99799 | G13: =F13/E13*100 -> 102.08468 | H13: ='6'!I244 -> 2190 | I13: ='6'!J244 -> 0 | J13: ='6'!K244 -> 0 | K13: ='6'!L244 -> 975 | L13: ='6'!M244 -> 24 | M13: ='6'!N244 -> 13564 | N13: ='6'!O244 -> 83046 | O13: ='6'!P244 -> 0 | ... Q13: ='6'!R244 -> 0
C14: Önkormányzat összesen költségvetési szervek nélkül | D14: =SUM(D4:D13) -> 60237522 | E14: =SUM(E4:E13) -> 72932782 | F14: =SUM(F4:F13) -> 47948909 | G14: =F14/E14*100 -> 65.743974 | H14: =SUM(H4:H13) -> 6085317 | I14: =SUM(I4:I13) -> 10036835 | J14: =SUM(J4:J13) -> 5471425 | K14: =SUM(K4:K13) -> 4276989 | L14: =SUM(L4:L13) -> 1181193 | M14: =SUM(M4:M13) -> 125381 | N14: =SUM(N4:N13) -> 229962 | O14: =SUM(O4:O13) -> 34841 | ... Q14: =SUM(Q4:Q13) -> 9894966
A15: 2 | C15: Költségvetési szervek | D15: 2789255 | E15: 3242213 | F15: =SUM(H15:Q15) -> 3166233 | G15: =F15/E15*100 -> 97.656539 | H15: ='6'!I246 -> 1086063 | I15: ='6'!J246 -> 35978 | J15: ='6'!K246 -> 0 | K15: ='6'!L246 -> 1212434 | L15: ='6'!M246 -> 2152 | M15: ='6'!N246 -> 6911 | N15: ='6'!O246 -> 250 | P15: ='6'!Q246 -> 822445
C16: Önkormányzat összesen: | D16: =SUM(D14:D15) -> 63026777 | E16: =SUM(E14:E15) -> 76174995 | F16: =SUM(F14:F15) -> 51115142 | G16: =F16/E16*100 -> 67.102258 | H16: =SUM(H14:H15) -> 7171380 | I16: =SUM(I14:I15) -> 10072813 | J16: =SUM(J14:J15) -> 5471425 | K16: =SUM(K14:K15) -> 5489423 | L16: =SUM(L14:L15) -> 1183345 | M16: =SUM(M14:M15) -> 132292 | N16: =SUM(N14:N15) -> 230212 | O16: =SUM(O14:O15) -> 34841 | ... Q16: =SUM(Q14:Q15) -> 9894966

Sheet 6
A1: Cím szám | B1: Alcím szám | C1: Megnevezés | D1: Tervezési alapegység | E1: Előirányzat | G1: Teljesítés | I1: Költségvetési bevételek | P1: Finanszírozási bevételek
E2: Eredeti | F2: Módosított | G2: Összege | H2: %-a | I2: Működési célú támogatások áht-n belülről | J2: Felhalmozási célú támogatások áht-n belülről | K2: Közhatalmi bevételek | L2: Működési bevételek | M2: Felhalmozási bevételek | N2: Működési célú átvett pénzeszközök | O2: Felhalmozási célú átvett pénzeszközök | P2: Hitel-, kölcsönfelvétel áht-n kívülről | Q2: Maradvány igénybevétele | R2: Egyéb finanszírozási bevétel
A3: 1 | C3: Önkormányzat
A4: 1 | B4: 1 | C4: Szakosztályok
A5: 1 | B5: 12 | C5: Szociális és igazgatási feladatok
C6: 011130 Önkorm. és önkorm. hivatal. jogalk. és ált.ig.tev.
C7: - Egerszeg kártya értékesítés | D7: 221 902 | E7: 9906 | F7: 9906 | G7: =SUM(I7:R7) -> 6710 | H7: =G7/F7*100 -> 67.736725 | L7: 6710
C8: - igazgatási bírság | D8: 121602 | G8: =SUM(I8:R8) -> 880 | K8: 880
C9: - birtokvédelmi ügyek | D9: 121118 | G9: =SUM(I9:R9) -> 159 | L9: 159
C10: 109010 Szociális szolgáltatás igazgatása
C11: - "Lakhatásért" Közalapítvány támogatása | D11: 121517 | F11: 243 | G11: =SUM(I11:R11) -> 243 | H11: =G11/F11*100 -> 100 | N11: 243
C12: 107060 Egyéb szociális pénzbeli ellátások, támogatások
C13: - jogtalanul felvett segélyek visszafizetése | D13: 121126 | G13: =SUM(I13:R13) -> 50 | L13: 50
C14: - köztemetés megtérítése | D14: 121203 | G14: =SUM(I14:R14) -> 3707 | L14: 3707
C15: Szociális és igazgatási feladatok összesen: | E15: =SUM(E5:E14) -> 9906 | F15: =SUM(F5:F14) -> 10149 | G15: =SUM(G5:G14) -> 11749 | H15: =G15/F15*100 -> 115.7651 | I15: =SUM(I5:I14) -> 0 | J15: =SUM(J5:J14) -> 0 | K15: =SUM(K5:K14) -> 880 | L15: =SUM(L5:L14) -> 10626 | M15: =SUM(M5:M14) -> 0 | N15: =SUM(N5:N14) -> 243 | O15: =SUM(O5:O14) -> 0 | P15: =SUM(P5:P14) -> 0 | ... R15: =SUM(R5:R14) -> 0
A16: 1 | B16: 13 | C16: Humánigazgatási feladatok
C17: 072112 Háziorvosi ügyeleti ellátás
C18: - körzeti orvosi ügyelet fenntartásához községek hozzájárulása | D18: 131705 | E18: 41101 | F18: 41101 | G18: =SUM(I18:R18) -> 41190 | H18: =G18/F18*100 -> 100.21654 | I18: 41190
C19: 013350 Önk-i vagyonnal való gazdálkodáshoz kapcs.fa.
C20: - Zalaegerszegi Tourinform Iroda felújítása | D20: 134939 | E20: 19955 | F20: 19955 | G20: =SUM(I20:R20) -> 19955 | H20: =G20/F20*100 -> 100 | Q20: 19955
C21: - Mihály deák szobor Göcseji Múzeum előtt | D21: 132913 | F21: 7000 | G21: =SUM(I21:R21) -> 7000 | H21: =G21/F21*100 -> 100 | J21: 7000
C22: - Múzeumban orgona felújítás támogatása | D22: 134912 | G22: =SUM(I22:R22) -> 3000 | J22: 3000
C23: 084031 Civil szervezetek műk. támogatása
C24: - peremkerületek működéséhez nyújtott támogatások elszámolása | D24: 131404 | G24: =SUM(I24:R24) -> 483 | N24: 483
C25: 101211 Fogyatékossággal élők tartós bentlakásos ellátása
C26: - Református Egyház által fizetendő bérleti díj | D26: 131703 | E26: 6007 | F26: 6007 | G26: =SUM(I26:R26) -> 6204 | H26: =G26/F26*100 -> 103.27951 | L26: 6204
C27: - Idősek Otthona férőhely megváltás | D27: 121319 | F27: 2632 | G27: =SUM(I27:R27) -> 2632 | H27: =G27/F27*100 -> 100 | N27: 2632
C28: 018030 Támogatási célú finanszírozási műveletek
C29: - Hevesi Sándor Színház társműködtetői támogatás | D29: 131508 | E29: =288500+[1]táj.1!E27 -> 288500 | F29: 288500 | G29: =SUM(I29:R29) -> 288500 | H29: =G29/F29*100 -> 100 | I29: 288500
C30: - Griff Bábszínház társműködtetői támogatás | D30: 131509 | E30: =65000+[1]táj.1!E28 -> 65000 | F30: 65000 | G30: =SUM(I30:R30) -> 65000 | H30: =G30/F30*100 -> 100 | I30: 65000
C31: 074040 Fertőző megbetegedések megelőzése,járványügyi ellátás
C32: - járványügyi védekezésre | D32: 131716 | F32: 293 | G32: =SUM(I32:R32) -> 321 | H32: =G32/F32*100 -> 109.55631 | N32: 318 | O32: 3
C33: 094260 Hallgatói és oktatói ösztöndíjak, egyéb juttatások
C34: - MOL adomány | D34: 131845 | F34: 2000 | G34: =SUM(I34:R34) -> 2000 | H34: =G34/F34*100 -> 100 | N34: 2000
C35: 082030 Művészeti tevékenységek
C36: - Térzenei koncertek EMT-TE-B-A-21-0515 | D36: 131304 | F36: 7500 | G36: =SUM(I36:R36) -> 7500 | H36: =G36/F36*100 -> 100 | I36: 7500
C37: - Zalaegerszegi amatőr kórusok és gyeremekkórus találkozó támogatása EMT-TE-B-A-21-0516 | D37: 131867 | F37: 4000 | G37: =SUM(I37:R37) -> 4000 | H37: =G37/F37*100 -> 100 | I37: 4000
C38: - István a király-ünnepi megemlékezés EMT-TE-B-A-21-0523 | D38: 131868 | F38: 4000 | G38: =SUM(I38:R38) -> 4000 | H38: =G38/F38*100 -> 100 | I38: 4000
C39: - R&J szinergiái - Egy történet száz alakban EMT-TE-B-A-21-0517 | D39: 131328 | F39: 2000 | G39: =SUM(I39:R39) -> 2000 | H39: =G39/F39*100 -> 100 | I39: 2000
C40: 016040 Nemzetpolitikai tevékenység igazgatása és támogatása
...

Sheet 7
A1: Cím szám | B1: Alcím szám | C1: Megnevezés | D1: Előirányzat | F1: Teljesítés | H1: Költségvetési kiadások | P1: Finanszírozási kiadások
D2: Eredeti | E2: Módosított | F2: Összege | G2: %-a | H2: Személyi juttatások | I2: Munkaadókat terhelő járulékok és szociális hj.adó | J2: Dologi kiadások | K2: Ellátottak pénzbeli juttatásai | L2: Egyéb működési célú kiadások | M2: Beruházások | N2: Felújítások | O2: Egyéb felhalmo-zási célú kiadások | P2: Hitel-, kölcsöntör-lesztés áht-n kívülre | Q2: Egyéb finanszírozási kiadás
A3: 1 | C3: Önkormányzat
A4: 1 | B4: 1 | C4: Szakosztályok
B5: 12 | C5: Szociális és igazgatási feladatok | D5: 153919 | E5: 151263 | F5: =SUM(H5:Q5) -> 92001 | G5: =F5/E5*100 -> 60.82188 | H5: ='8'!K46 -> 0 | I5: ='8'!L46 -> 3580 | J5: ='8'!M46 -> 14687 | K5: ='8'!N46 -> 66291 | L5: ='8'!O46 -> 3243 | M5: ='8'!P46 -> 0 | N5: ='8'!Q46 -> 0 | O5: ='8'!R46 -> 4200 | ... Q5: ='8'!T46 -> 0
B6: 13 | C6: Humánigazgatási feladatok | D6: 1125259 | E6: 1340379 | F6: =SUM(H6:Q6) -> 1221743 | G6: =F6/E6*100 -> 91.149071 | H6: ='8'!K224 -> 2375 | I6: ='8'!L224 -> 395 | J6: ='8'!M224 -> 26016 | K6: ='8'!N224 -> 4070 | L6: ='8'!O224 -> 974542 | M6: ='8'!P224 -> 53854 | N6: ='8'!Q224 -> 129015 | O6: ='8'!R224 -> 31476 | ... Q6: ='8'!T224 -> 0
B7: 14 | C7: Főépítészi feladatok | D7: 29420 | E7: 40280 | F7: =SUM(H7:Q7) -> 18925 | G7: =F7/E7*100 -> 46.983615 | H7: ='8'!K236 -> 0 | I7: ='8'!L236 -> 0 | J7: ='8'!M236 -> 14349 | K7: ='8'!N236 -> 0 | L7: ='8'!O236 -> 0 | M7: ='8'!P236 -> 4158 | N7: ='8'!Q236 -> 0 | O7: ='8'!R236 -> 418 | ... Q7: ='8'!T236 -> 0
B8: 15 | C8: Városüzemelési feladatok | D8: 2708366 | E8: 2978758 | F8: =SUM(H8:Q8) -> 2490948 | G8: =F8/E8*100 -> 83.623712 | H8: ='8'!K495 -> 9630 | I8: ='8'!L495 -> 1478 | J8: ='8'!M495 -> 1517695 | K8: ='8'!N495 -> 0 | L8: ='8'!O495 -> 660555 | M8: ='8'!P495 -> 113143 | N8: ='8'!Q495 -> 182247 | O8: ='8'!R495 -> 6200 | ... Q8: ='8'!T495 -> 0
B9: 16 | C9: Városépítészeti feladatok | D9: 36679202 | E9: 46302694 | F9: =SUM(H9:Q9) -> 18255869 | G9: =F9/E9*100 -> 39.427229 | H9: ='8'!K641 -> 1687 | I9: ='8'!L641 -> 177 | J9: ='8'!M641 -> 3712129 | K9: ='8'!N641 -> 0 | L9: ='8'!O641 -> 11197 | M9: ='8'!P641 -> 12547716 | N9: ='8'!Q641 -> 1967348 | O9: ='8'!R641 -> 15615 | ... Q9: ='8'!T641 -> 0
B10: 17 | C10: Vagyonkezelési feladatok | D10: 163568 | E10: 542864 | F10: =SUM(H10:Q10) -> 477659 | G10: =F10/E10*100 -> 87.988704 | H10: ='8'!K665 -> 0 | I10: ='8'!L665 -> 0 | J10: ='8'!M665 -> 59346 | K10: ='8'!N665 -> 0 | L10: ='8'!O665 -> 0 | M10: ='8'!P665 -> 21890 | N10: ='8'!Q665 -> 645 | O10: ='8'!R665 -> 45778 | ... Q10: ='8'!T665 -> 350000
B11: 18 | C11: Jogi és közig.feladatok | D11: 262660 | E11: 264501 | F11: =SUM(H11:Q11) -> 236350 | G11: =F11/E11*100 -> 89.35694 | H11: ='8'!K688 -> 148185 | I11: ='8'!L688 -> 18819 | J11: ='8'!M688 -> 59136 | K11: ='8'!N688 -> 0 | L11: ='8'!O688 -> 5800 | M11: ='8'!P688 -> 2959 | N11: ='8'!Q688 -> 1451 | O11: ='8'!R688 -> 0 | ... Q11: ='8'!T688 -> 0
B12: 19 | C12: Pénzügyi lebonyolítás | D12: 12014247 | E12: 13773429 | F12: =SUM(H12:Q12) -> 10840713 | G12: =F12/E12*100 -> 78.707437 | H12: ='8'!K721 -> 0 | I12: ='8'!L721 -> 0 | J12: ='8'!M721 -> 332077 | K12: ='8'!N721 -> 0 | L12: ='8'!O721 -> 1522516 | M12: ='8'!P721 -> 0 | N12: ='8'!Q721 -> 0 | O12: ='8'!R721 -> 3025 | ... Q12: ='8'!T721 -> 8871562
B13: 20 | C13: Építéshatósági feladatok
B14: 21 | C14: Polgármesteri Kabinet kiadásai | D14: 779026 | E14: 862321 | F14: =SUM(H14:Q14) -> 772449 | G14: =F14/E14*100 -> 89.577895 | H14: ='8'!K771 -> 15502 | I14: ='8'!L771 -> 3082 | J14: ='8'!M771 -> 78467 | K14: ='8'!N771 -> 0 | L14: ='8'!O771 -> 308533 | M14: ='8'!P771 -> 363220 | N14: ='8'!Q771 -> 689 | O14: ='8'!R771 -> 2956 | ... Q14: ='8'!T771 -> 0
B15: 30 | C15: Tartalékok | D15: 661648 | E15: 935877 | F15: =SUM(H15:Q15) -> 0 | G15: =F15/E15*100 -> 0 | H15: ='8'!K791 -> 0 | I15: ='8'!L791 -> 0 | J15: ='8'!M791 -> 0 | K15: ='8'!N791 -> 0 | L15: ='8'!O791 -> 0 | M15: ='8'!P791 -> 0 | N15: ='8'!Q791 -> 0 | O15: ='8'!R791 -> 0 | ... Q15: ='8'!T791 -> 0
C16: Önkormányzat összesen költségvetési szervek nélkül | D16: =SUM(D5:D15) -> 54577315 | E16: =SUM(E5:E15) -> 67192366 | F16: =SUM(F5:F15) -> 34406657 | G16: =F16/E16*100 -> 51.2062 | H16: =SUM(H3:H15) -> 177379 | I16: =SUM(I3:I15) -> 27531 | J16: =SUM(J5:J15) -> 5813902 | K16: =SUM(K5:K15) -> 70361 | L16: =SUM(L5:L15) -> 3486386 | M16: =SUM(M5:M15) -> 13106940 | N16: =SUM(N5:N15) -> 2281395 | O16: =SUM(O5:O15) -> 109668 | P16: =SUM(P5:P15) -> 111533 | Q16: =SUM(Q5:Q15) -> 9221562
A17: 2 | C17: Költségvetési szervek | D17: 8449462 | E17: 8982629 | F17: =SUM(H17:Q17) -> 7881704 | G17: =F17/E17*100 -> 87.743844 | H17: ='8'!K793 -> 4559364 | I17: ='8'!L793 -> 750244 | J17: ='8'!M793 -> 2251076 | K17: ='8'!N793 -> 3612 | L17: ='8'!O793 -> 146632 | M17: ='8'!P793 -> 148423 | N17: ='8'!Q793 -> 22053 | O17: ='8'!R793 -> 300 | ... Q17: ='8'!T793 -> 0
C18: Önkormányzat összesen: | D18: =SUM(D16:D17) -> 63026777 | E18: =SUM(E16:E17) -> 76174995 | F18: =SUM(F16:F17) -> 42288361 | G18: =F18/E18*100 -> 55.514754 | H18: =SUM(H16:H17) -> 4736743 | I18: =SUM(I16:I17) -> 777775 | J18: =SUM(J16:J17) -> 8064978 | K18: =SUM(K16:K17) -> 73973 | L18: =SUM(L16:L17) -> 3633018 | M18: =SUM(M16:M17) -> 13255363 | N18: =SUM(N16:N17) -> 2303448 | O18: =SUM(O16:O17) -> 109968 | ... Q18: =SUM(Q16:Q17) -> 9221562

Sheet 8
A1: Cím szám | B1: Alcím szám | C1: Sorszám | D1: Megnevezés | E1: feladat jellege | F1: Tervezési alapegység | G1: Előirányzat | I1: Teljesítés | K1: Költségvetési kiadások | S1: Finanszírozási kiadások
G2: Eredeti | H2: Módosított | I2: Összege | J2: %-a | K2: Személyi juttatások | L2: Munkaadókat terhelő járulékok és szociális hj.adó | M2: Dologi kiadások | N2: Ellátottak pénzbeli juttatásai | O2: Egyéb működési célú kiadások | P2: Beruházások | Q2: Felújítások | R2: Egyéb felhalmo-zási célú kiadások | S2: Hitel-, kölcsöntör-lesztés áht-n kívülre | T2: Egyéb finanszírozási kiadás
A3: 1 | D3: Önkormányzat
A4: 1 | B4: 1 | D4: Szakosztályok
A5: 1 | B5: 12 | D5: Szociális és igazgatási feladatok
D6: 105010 Munkanélküli aktív korúak ellátásai
D7: - megélhetési támogatás | E7: 2 | F7: 121103 | G7: 6000 | H7: 6000 | I7: =SUM(K7:T7) -> 4553 | J7: =I7/H7*100 -> 75.883333 | N7: 4553
D8: 106020 Lakásfenntartással, lakhatással összefüggő ellátások
D9: - lakásfenntartási segély | E9: 2 | F9: 121104 | G9: 20000 | H9: 18500 | I9: =SUM(K9:T9) -> 15344 | J9: =I9/H9*100 -> 82.940541 | N9: 15344
D10: - önkormányzati bérlakásban élők lakásfenntartási segélye Lakásalapból | E10: 2 | F10: 121117 | G10: 8000 | H10: 8000 | I10: =SUM(K10:T10) -> 6689 | J10: =I10/H10*100 -> 83.6125 | N10: 6689
D11: 107060 Egyéb szociális pénzbeli ellátások, támogatások
D12: - gyermekétkeztetési támogatás | E12: 2 | F12: 121111 | G12: 1600 | H12: 1600 | I12: =SUM(K12:T12) -> 749 | J12: =I12/H12*100 -> 46.8125 | N12: 749
D13: - átmeneti segély | E13: 2 | F13: 121127 | G13: 4000 | H13: 5000 | I13: =SUM(K13:T13) -> 3209 | J13: =I13/H13*100 -> 64.18 | N13: 3209
D14: - egyszeri nevelési támogatás | F14: 121115 | G14: 700 | H14: 3900 | I14: =SUM(K14:T14) -> 3865 | J14: =I14/H14*100 -> 99.102564 | N14: 3865
D15: - szociális krízis alap | E15: 2 | F15: 121129 | G15: 3000 | H15: 3000 | I15: =SUM(K15:T15) -> 1907 | J15: =I15/H15*100 -> 63.566667 | N15: 1907
D16: - tüzifa támogatás | E16: 2 | F16: 121106 | G16: 2000 | H16: 2000 | I16: =SUM(K16:T16) -> 1493 | J16: =I16/H16*100 -> 74.65 | N16: 1493
D17: 103010 Elhunyt személyek hátramaradottainak pénzbeli ellátása
D18: - temetési segély | E18: 2 | F18: 121131 | G18: 3000 | H18: 2000 | I18: =SUM(K18:T18) -> 1058 | J18: =I18/H18*100 -> 52.9 | N18: 1058
D19: 106020 Lakásfenntartással, lakhatással összefüggő ellátások
D20: - lakhatási krízis alap Lakásalapból | E20: 2 | F20: 121130 | G20: 2000 | H20: 2000 | I20: =SUM(K20:T20) -> 0 | J20: =I20/H20*100 -> 0
D21: 107060 Egyéb szociális pénzbeli ellátások, támogatások
D22: - gyógyszertámogatás | E22: 1 | F22: 121204 | G22: 14000 | H22: 11300 | I22: =SUM(K22:T22) -> 8929 | J22: =I22/H22*100 -> 79.017699 | N22: 8929
D23: - gyógyászati segédeszköz támogatás | E23: 1 | F23: 121132 | G23: 250 | H23: 250 | I23: =SUM(K23:T23) -> 114 | J23: =I23/H23*100 -> 45.6 | N23: 114
D24: - köztemetés | E24: 1 | F24: 121203 | G24: 6500 | H24: 7500 | I24: =SUM(K24:T24) -> 6437 | J24: =I24/H24*100 -> 85.826667 | M24: 1387 | N24: 5050
D25: 094260 Hallgatói és oktatói ösztöndíjak, egyéb juttatások
D26: - Bursa Hungarica ösztöndíj | E26: 2 | F26: 121504 | G26: 4400 | H26: 4400 | I26: =SUM(K26:T26) -> 3395 | J26: =I26/H26*100 -> 77.159091 | N26: 3395
D27: 061030 Lakáshoz jutást segítő támogatások
D28: - lakásgazdálkodási feladatokra | E28: 1 | F28: 121403 | G28: 50 | H28: 50 | I28: =SUM(K28:T28) -> 0 | J28: =I28/H28*100 -> 0
D29: 104042 Család- és gyermekjóléti szolgálat
D30: - Családsegítő Szolgálathoz krízissegélyezés | E30: 1 | F30: 121301 | G30: 2500 | I30: =SUM(K30:T30) -> 0
D31: 011130 Önkorm. és önkorm. hivatal. jogalk. és ált.ig.tev.
D32: - Egerszegkártya | E32: 2 | F32: 221902 | G32: 30000 | H32: 29601 | I32: =SUM(K32:T32) -> 12883 | J32: =I32/H32*100 -> 43.522178 | M32: 12883
D33: - Nemzedékek kézfogása | E33: 2 | F33: 22190** | G33: 20000 | H33: 20000 | I33: =SUM(K33:T33) -> 13784 | J33: =I33/H33*100 -> 68.92 | L33: 3580 | M33: 268 | N33: 9936
D34: - bírtokvédelmi költség megelőlegezés | E34: 1 | F34: 121118 | G34: 300 | H34: 300 | I34: =SUM(K34:T34) -> 79 | J34: =I34/H34*100 -> 26.333333 | M34: 79
D35: - talált tárgyak felértékeltetése | E35: 1 | F35: 121515 | G35: 200 | H35: 200 | I35: =SUM(K35:T35) -> 70 | J35: =I35/H35*100 -> 35 | M35: 70
D36: 032020 Tűz- és katasztrófavéd. tevékenység
D37: - helyi védelmi igazgatás | E37: 1 | F37: 121601 | G37: 500 | H37: 500 | I37: =SUM(K37:T37) -> 0 | J37: =I37/H37*100 -> 0
D38: 109010 Szociális szolgáltatás igazgatása
D39: - "Lakhatásért" Közalapítvány támogatása | E39: 2 | F39: 121517 | G39: 3000 | H39: 3243 | I39: =SUM(K39:T39) -> 3243 | J39: =I39/H39*100 -> 100 | O39: 3243
D40: Szociális és igazgatási fa.működési kiadás összesen: | G40: =SUM(G7:G39) -> 132000 | H40: =SUM(H7:H39) -> 129344 | I40: =SUM(I7:I39) -> 87801 | J40: =I40/H40*100 -> 67.881773 | K40: =SUM(K7:K39) -> 0 | L40: =SUM(L7:L39) -> 3580 | M40: =SUM(M7:M39) -> 14687 | N40: =SUM(N7:N39) -> 66291 | O40: =SUM(O7:O39) -> 3243 | P40: =SUM(P7:P39) -> 0 | Q40: =SUM(Q7:Q39) -> 0 | R40: =SUM(R7:R39) -> 0 | ... T40: =SUM(T7:T39) -> 0
...

Sheet 9
A1: Címszám | B1: Címszám | C1: Megnevezés | D1: 2021. évi kiadások | G1: Teljesítés %-a
D2: Eredeti ei. | E2: Módosított ei. | F2: Teljesítés
B3: 1 | C3: ZMJV Önkormányzata összesen, ebből: | D3: =SUM(D4:D13) -> 54577315 | E3: =SUM(E4:E13) -> 67192366 | F3: =SUM(F4:F13) -> 34406657 | G3: =SUM(F3/E3)*100 -> 51.2062
C4: - Személyi juttatások | D4: 222430 | E4: 229498 | F4: ='8'!K792 -> 177379 | G4: =SUM(F4/E4)*100 -> 77.289998
C5: - Munkaadókat terhelő járulékok és szoc. hj. adó | D5: 47211 | E5: 45823 | F5: ='8'!L792 -> 27531 | G5: =SUM(F5/E5)*100 -> 60.081182
C6: - Dologi kiadások | D6: 7834473 | E6: 9196790 | F6: ='8'!M792 -> 5813902 | G6: =SUM(F6/E6)*100 -> 63.216644
C7: - Ellátottak pénzbeli juttatásai | D7: 98170 | E7: 94495 | F7: ='8'!N792 -> 70361 | G7: =SUM(F7/E7)*100 -> 74.460024
C8: - Egyéb működési célú kiadások | D8: 3778110 | E8: 4298257 | F8: ='8'!O792 -> 3486386 | G8: =SUM(F8/E8)*100 -> 81.111623
C9: - Beruházások | D9: 28562486 | E9: 34457409 | F9: ='8'!P792 -> 13106940 | G9: =SUM(F9/E9)*100 -> 38.038089
C10: - Felújítások | D10: 3615538 | E10: 6566628 | F10: ='8'!Q792 -> 2281395 | G10: =SUM(F10/E10)*100 -> 34.74226
C11: - Egyéb felhalmozási célú kiadások | D11: 113334 | E11: 140370 | F11: ='8'!R792 -> 109668 | G11: =SUM(F11/E11)*100 -> 78.127805
C12: - Hitel-, kölcsöntörlesztés áht-n kívülre | D12: 111534 | E12: 111534 | F12: ='8'!S792 -> 111533 | G12: =SUM(F12/E12)*100 -> 99.999103
C13: - Egyéb finanszírozási kiadás | D13: 10194029 | E13: 12051562 | F13: ='8'!T792 -> 9221562 | G13: =SUM(F13/E13)*100 -> 76.517567
A14: 2 | B14: 2 | C14: Polgármesteri Hivatal összesen, ebből: | D14: =SUM(D15:D21) -> 1814430 | E14: =SUM(E15:E21) -> 1847934 | F14: =SUM(F15:F21) -> 1657817 | G14: =SUM(F14/E14)*100 -> 89.711916
C15: - Személyi juttatások | D15: 1269691 | E15: 1267746 | F15: 1183122 | G15: =SUM(F15/E15)*100 -> 93.324846
C16: - Munkaadókat terhelő járulékok és szoc. hj. adó | D16: 224854 | E16: 208895 | F16: 193672 | G16: =SUM(F16/E16)*100 -> 92.712607
C17: - Dologi kiadások | D17: 226124 | E17: 225495 | F17: 202483 | G17: =SUM(F17/E17)*100 -> 89.794896
C18: - Ellátottak pénzbeli juttatásai
C19: - Egyéb működési célú kiadások | E19: 45720 | F19: 45719 | G19: =SUM(F19/E19)*100 -> 99.997813
C20: - Beruházások | D20: 82261 | E20: 94462 | F20: 27291 | G20: =SUM(F20/E20)*100 -> 28.890983
C21: - Felújítások | D21: 11500 | E21: 5616 | F21: 5530 | G21: =SUM(F21/E21)*100 -> 98.468661
B22: 3 | C22: Zalaegerszegi Gazdasági Ellátó Szervezet összesen, ebből: | D22: =SUM(D23:D29) -> 1058472 | E22: =SUM(E23:E29) -> 887804 | F22: =SUM(F23:F29) -> 782515 | G22: =SUM(F22/E22)*100 -> 88.140513
C23: - Személyi juttatások | D23: 135973 | E23: 142681 | F23: 131449 | G23: =SUM(F23/E23)*100 -> 92.127894
C24: - Munkaadókat terhelő járulékok és szoc. hj. adó | D24: 24240 | E24: 25283 | F24: 21716 | G24: =SUM(F24/E24)*100 -> 85.891706
C25: - Dologi kiadások | D25: 897659 | E25: 685104 | F25: 595264 | G25: =SUM(F25/E25)*100 -> 86.886662
C26: - Ellátottak pénzbeli juttatásai
C27: - Egyéb működési célú kiadások | D27: 100 | E27: 32301 | F27: 32201 | G27: =SUM(F27/E27)*100 -> 99.690412
C28: - Beruházások | D28: 500 | E28: 2435 | F28: 1885 | G28: =SUM(F28/E28)*100 -> 77.412731
C29: - Felújítások
B30: 4 | C30: Zalaegerszegi Egyesített Bölcsődék összesen, ebből: | D30: =SUM(D31:D37) -> 676340 | E30: =SUM(E31:E38) -> 721465 | F30: =SUM(F31:F38) -> 669909 | G30: =SUM(F30/E30)*100 -> 92.853985
C31: - Személyi juttatások | D31: 461402 | E31: 491989 | F31: 467386 | G31: =SUM(F31/E31)*100 -> 94.999278
C32: - Munkaadókat terhelő járulékok és szoc. hj. adó | D32: 79610 | E32: 83895 | F32: 79567 | G32: =SUM(F32/E32)*100 -> 94.841171
C33: - Dologi kiadások | D33: 133671 | E33: 130323 | F33: 108195 | G33: =SUM(F33/E33)*100 -> 83.020649
C34: - Ellátottak pénzbeli juttatásai
C35: - Egyéb működési célú kiadások | D35: 200 | E35: 3128 | F35: 3102 | G35: =SUM(F35/E35)*100 -> 99.168798
C36: - Beruházások | D36: 1457 | E36: 5872 | F36: 5401 | G36: =SUM(F36/E36)*100 -> 91.978883
C37: - Felújítások | E37: 5958 | F37: 5958 | G37: =SUM(F37/E37)*100 -> 100
C38: - Egyéb felhalmozási célú kiadások | E38: 300 | F38: 300 | G38: =SUM(F38/E38)*100 -> 100
B39: 5 | C39: Zalaegerszegi Egészségügyi Alapellátási Intézmény összesen, ebből: | D39: =SUM(D40:D46) -> 576794 | E39: =SUM(E40:E46) -> 718809 | F39: =SUM(F40:F46) -> 558701 | G39: =SUM(F39/E39)*100 -> 77.725933
C40: - Személyi juttatások | D40: 326087 | E40: 407613 | F40: 317503 | G40: =SUM(F40/E40)*100 -> 77.893247
...

Sheet 10
A1: Címszám | B1: Költségvetési szerv megnevezése | C1: Előirányzat | E1: Teljesítés | G1: Költségvetési bevételek | N1: Finanszírozási bevételek
C2: Eredeti | D2: Módosított | E2: Összege | F2: %-a | G2: Működési célú támogatások áht-n belülről | H2: Felhalmozási célú támogatások áht-n belülről | I2: Közhatalmi bevételek | J2: Működési bevételek | K2: Felhalmozási bevételek | L2: Működési célú átvett pénzeszközök | M2: Felhalmozási célú átvett pénzeszközök | N2: Maradvány igénybevétele | O2: Központi, irányító szervi támogatás | P2: Egyéb finanszírozási bevétel
A3: 2 | B3: Polgármesteri Hivatal | C3: 1814430 | D3: 1847934 | E3: =SUM(G3:P3) -> 1892054 | F3: =E3/D3*100 -> 102.38753 | G3: 47451 | J3: 20257 | K3: 2 | N3: 241063 | O3: 1583281
A4: 3 | B4: Zalaegerszegi Gazdasági Ellátó Szervezet | C4: 1058472 | D4: 887804 | E4: =SUM(G4:P4) -> 907484 | F4: =E4/D4*100 -> 102.21671 | G4: 300 | H4: 775 | J4: 392130 | L4: 200 | N4: 35172 | O4: 478907
A5: 4 | B5: Zalaegerszegi Egyesített Bölcsődék | C5: 676340 | D5: 721465 | E5: =SUM(G5:P5) -> 725587 | F5: =E5/D5*100 -> 100.57134 | G5: 300 | H5: 7500 | J5: 71997 | N5: 29582 | O5: 616208
A6: 5 | B6: Zalaegerszegi Egészségügyi Alapellátási Intézmény | C6: 576794 | D6: 718809 | E6: =SUM(G6:P6) -> 671427 | F6: =E6/D6*100 -> 93.408263 | G6: 464588 | J6: 2622 | N6: 89601 | O6: 114616
A7: 6 | B7: Zalaegerszegi Család-és Gyermekjóléti Központ | C7: 224231 | D7: 305612 | E7: =SUM(G7:P7) -> 305614 | F7: =E7/D7*100 -> 100.00065 | J7: 1484 | N7: 32843 | O7: 271287
A8: 7 | B8: Zalaegerszegi Belvárosi I. számú Óvoda | C8: 377246 | D8: 392318 | E8: =SUM(G8:P8) -> 392573 | F8: =E8/D8*100 -> 100.065 | H8: 1700 | J8: 12981 | N8: 18283 | O8: 359609
A9: 8 | B9: Zalaegerszegi Belvárosi II. számú Óvoda | C9: 327099 | D9: 345466 | E9: =SUM(G9:P9) -> 346012 | F9: =E9/D9*100 -> 100.15805 | J9: 16624 | N9: 26808 | O9: 302580
A10: 9 | B10: Zalaegerszegi Kertvárosi Óvoda | C10: 374926 | D10: 397140 | E10: =SUM(G10:P10) -> 397886 | F10: =E10/D10*100 -> 100.18784 | H10: 1689 | J10: 18686 | N10: 38757 | O10: 338754
A11: 10 | B11: Zalaegerszegi Landorhegyi Óvoda | C11: 343570 | D11: 356399 | E11: =SUM(G11:P11) -> 357189 | F11: =E11/D11*100 -> 100.22166 | H11: 1947 | J11: 11637 | N11: 17226 | O11: 326379
A12: 11 | B12: Közgyűjteményi és Közművelődési GESZ | C12: 53686 | D12: 56381 | E12: =SUM(G12:P12) -> 56382 | F12: =E12/D12*100 -> 100.00177 | G12: 12763 | J12: 2 | N12: 575 | O12: 43042
A13: 12 | B13: Keresztury Dezső VMK | C13: 492898 | D13: 526842 | E13: =SUM(G13:P13) -> 504077 | F13: =E13/D13*100 -> 95.67897 | G13: 33238 | H13: 4790 | J13: 61337 | K13: 350 | L13: 3871 | N13: 141345 | O13: 259146
A14: 13 | B14: Zalaegerszegi Turisztikai Hivatal és Információs Iroda | C14: 20645 | D14: 26367 | E14: =SUM(G14:P14) -> 26587 | F14: =E14/D14*100 -> 100.83438 | G14: 3000 | J14: 1720 | N14: 1698 | O14: 20169
A15: 14 | B15: Deák Ferenc Megyei és Városi Könyvtár | C15: 456340 | D15: 487061 | E15: =SUM(G15:P15) -> 488985 | F15: =E15/D15*100 -> 100.39502 | G15: 26097 | H15: 841 | J15: 36809 | N15: 685 | O15: 424553
A16: 15 | B16: Göcseji Múzeum | C16: 517804 | D16: 630842 | E16: =SUM(G16:P16) -> 566239 | F16: =E16/D16*100 -> 89.759242 | G16: 34357 | H16: 3736 | J16: 220596 | K16: 1000 | L16: 2840 | M16: 250 | N16: 78508 | O16: 224952
A17: 16 | B17: Hevesi Sándor Színház | C17: 749650 | D17: 843642 | E17: =SUM(G17:P17) -> 830689 | F17: =E17/D17*100 -> 98.464633 | G17: 383405 | H17: 6000 | J17: 164558 | N17: 34908 | O17: 241818
A18: 17 | B18: Griff Bábszínház | C18: 144959 | D18: 167366 | E18: =SUM(G18:P18) -> 171996 | F18: =E18/D18*100 -> 102.76639 | G18: 75450 | H18: 7000 | J18: 28634 | N18: 13327 | O18: 47585
A19: 18 | B19: Városi Sportlétesítmény Gondnokság Intézménye | C19: 138125 | D19: 164896 | E19: =SUM(G19:P19) -> 165280 | F19: =E19/D19*100 -> 100.23287 | G19: 4484 | J19: 54638 | K19: 800 | N19: 17828 | O19: 87530
A20: 19 | B20: Vásárcsarnok | C20: 102247 | D20: 106285 | E20: =SUM(G20:P20) -> 100588 | F20: =E20/D20*100 -> 94.639883 | G20: 630 | J20: 95722 | N20: 4236 | O20: 0
B21: Költségvetési szervek mindösszesen: | C21: =SUM(C3:C20) -> 8449462 | D21: =SUM(D3:D20) -> 8982629 | E21: =SUM(E3:E20) -> 8906649 | F21: =E21/D21*100 -> 99.154145 | G21: =SUM(G3:G20) -> 1086063 | H21: =SUM(H3:H20) -> 35978 | I21: =SUM(I3:I20) -> 0 | J21: =SUM(J3:J20) -> 1212434 | K21: =SUM(K3:K20) -> 2152 | L21: =SUM(L3:L20) -> 6911 | M21: =SUM(M3:M20) -> 250 | N21: =SUM(N3:N20) -> 822445 | ... P21: =SUM(P3:P20) -> 0

Sheet 11
A1: Címszám | B1: Költségvetési szerv megnevezése | C1: Előirányzat | E1: Teljesítés | G1: Költségvetési kiadások | O1: Finanszírozási kiadások
C2: Eredeti | D2: Módosított | E2: összege | F2: %-a | G2: Személyi juttatások | H2: Munkaadókat terhelő járulékok és szociális hozzájárulási adó | I2: Dologi kiadások | J2: Ellátottak pénzbeli juttatásai | K2: Egyéb működési célú kiadások | L2: Beruházások | M2: Felújítások | N2: Egyéb felhalmozási célú kiadások
A3: 2 | B3: Polgármesteri Hivatal | C3: 1814430 | D3: 1847934 | E3: =SUM(G3:O3) -> 1657817 | F3: =E3/D3*100 -> 89.711916 | G3: 1183122 | H3: 193672 | I3: 202483 | K3: 45719 | L3: 27291 | M3: 5530
A4: 3 | B4: Zalaegerszegi Gazdasági Ellátó Szervezet | C4: 1058472 | D4: 887804 | E4: =SUM(G4:O4) -> 782515 | F4: =E4/D4*100 -> 88.140513 | G4: 131449 | H4: 21716 | I4: 595264 | K4: 32201 | L4: 1885
A5: 4 | B5: Zalaegerszegi Egyesített Bölcsődék | C5: 676340 | D5: 721465 | E5: =SUM(G5:O5) -> 669909 | F5: =E5/D5*100 -> 92.853985 | G5: 467386 | H5: 79567 | I5: 108195 | K5: 3102 | L5: 5401 | M5: 5958 | N5: 300
A6: 5 | B6: Zalaegerszegi Egészségügyi Alapellátási Intézmény | C6: 576794 | D6: 718809 | E6: =SUM(G6:O6) -> 558701 | F6: =E6/D6*100 -> 77.725933 | G6: 317503 | H6: 52775 | I6: 186102 | L6: 2321
A7: 6 | B7: Zalaegerszegi Család- és Gyermekjóléti Központ | C7: 224231 | D7: 305612 | E7: =SUM(G7:O7) -> 269209 | F7: =E7/D7*100 -> 88.088491 | G7: 208737 | H7: 36301 | I7: 16247 | J7: 3612 | K7: 173 | L7: 4139
A8: 7 | B8: Zalaegerszegi Belvárosi I. számú Óvoda | C8: 377246 | D8: 392318 | E8: =SUM(G8:O8) -> 368353 | F8: =E8/D8*100 -> 93.891435 | G8: 264778 | H8: 44286 | I8: 53953 | K8: 2281 | L8: 2495 | M8: 560
A9: 8 | B9: Zalaegerszegi Belvárosi II. számú Óvoda | C9: 327099 | D9: 345466 | E9: =SUM(G9:O9) -> 311432 | F9: =E9/D9*100 -> 90.148379 | G9: 204386 | H9: 35058 | I9: 66117 | K9: 3287 | L9: 2283 | M9: 301
A10: 9 | B10: Zalaegerszegi Kertvárosi Óvoda | C10: 374926 | D10: 397140 | E10: =SUM(G10:O10) -> 345607 | F10: =E10/D10*100 -> 87.023971 | G10: 221040 | H10: 37174 | I10: 77762 | K10: 4754 | L10: 4877
A11: 10 | B11: Zalaegerszegi Landorhegyi Óvoda | C11: 343570 | D11: 356399 | E11: =SUM(G11:O11) -> 328265 | F11: =E11/D11*100 -> 92.106038 | G11: 228501 | H11: 40241 | I11: 53629 | K11: 2049 | L11: 3845
A12: 11 | B12: Közgyűjteményi és Közművelődési GESZ | C12: 53686 | D12: 56381 | E12: =SUM(G12:O12) -> 54862 | F12: =E12/D12*100 -> 97.30583 | G12: 45496 | H12: 6909 | I12: 2412 | L12: 45
A13: 12 | B13: Keresztury Dezső VMK | C13: 492898 | D13: 526842 | E13: =SUM(G13:O13) -> 366637 | F13: =E13/D13*100 -> 69.591452 | G13: 196074 | H13: 29869 | I13: 124515 | L13: 11539 | M13: 4640
A14: 13 | B14: Zalaegerszegi Turisztikai Hivatal és Információs Iroda | C14: 20645 | D14: 26367 | E14: =SUM(G14:O14) -> 24433 | F14: =E14/D14*100 -> 92.665074 | G14: 15751 | H14: 2344 | I14: 6050 | L14: 288
A15: 14 | B15: Deák Ferenc Megyei és Városi Könyvtár | C15: 456340 | D15: 487061 | E15: =SUM(G15:O15) -> 468774 | F15: =E15/D15*100 -> 96.245439 | G15: 202351 | H15: 29843 | I15: 163038 | K15: 27000 | L15: 46542
A16: 15 | B16: Göcseji Múzeum | C16: 517804 | D16: 630842 | E16: =SUM(G16:O16) -> 528068 | F16: =E16/D16*100 -> 83.70844 | G16: 205056 | H16: 36653 | I16: 234813 | K16: 25921 | L16: 20561 | M16: 5064
A17: 16 | B17: Hevesi Sándor Színház | C17: 749650 | D17: 843642 | E17: =SUM(G17:O17) -> 784352 | F17: =E17/D17*100 -> 92.972137 | G17: 488356 | H17: 76109 | I17: 207466 | L17: 12421
A18: 17 | B18: Griff Bábszínház | C18: 144959 | D18: 167366 | E18: =SUM(G18:O18) -> 124913 | F18: =E18/D18*100 -> 74.634633 | G18: 70251 | H18: 10044 | I18: 44240 | K18: 145 | L18: 233
A19: 18 | B19: Városi Sportlétesítmények Gondnoksága | C19: 138125 | D19: 164896 | E19: =SUM(G19:O19) -> 143765 | F19: =E19/D19*100 -> 87.185256 | G19: 67190 | H19: 11210 | I19: 63985 | L19: 1380
A20: 19 | B20: Vásárcsarnok | C20: 102247 | D20: 106285 | E20: =SUM(G20:O20) -> 94092 | F20: =E20/D20*100 -> 88.528014 | G20: 41937 | H20: 6473 | I20: 44805 | L20: 877
B21: Költségvetési szervek mindösszesen: | C21: =SUM(C3:C20) -> 8449462 | D21: =SUM(D3:D20) -> 8982629 | E21: =SUM(E3:E20) -> 7881704 | F21: =E21/D21*100 -> 87.743844 | G21: =SUM(G3:G20) -> 4559364 | H21: =SUM(H3:H20) -> 750244 | I21: =SUM(I3:I20) -> 2251076 | J21: =SUM(J3:J20) -> 3612 | K21: =SUM(K3:K20) -> 146632 | L21: =SUM(L3:L20) -> 148423 | M21: =SUM(M3:M20) -> 22053 | N21: =SUM(N3:N20) -> 300 | O21: =SUM(O3:O20) -> 0

Sheet 12
A1: Megnevezés | C1: Polgármesteri Hivatal | D1: Zalaegerszegi Gazdasági Ellátó Szervezet | E1: Zalaegerszegi Egyesített Bölcsődék | F1: Zalaegerszegi Egészségügyi Alapellátás | G1: Zalaegerszegi Család- és Gyermekjóléti Központ | H1: Zalaegerszegi Belvárosi I. sz. Óvoda | I1: Zalaegerszegi Belvárosi II.sz.Óvoda | J1: Zalaegerszegi Kertvárosi Óvoda | K1: Zalaegerszegi Landorhegyi Óvoda | L1: Közgyűjteményi és Közművelődési GESZ | M1: Keresztury Dezső Városi Művelődési Központ | N1: Tourinform Iroda | O1: Deák Ferenc Megyei és Városi Könyvtár | P1: Göcseji Múzeum | Q1: Hevesi Sándor Színház | R1: Griff Bábszínház | S1: Városi Sportlétesítmények Gondnoksága | T1: Vásárcsarnok | U1: Költségvetési szervek összesen: | V1: ZMJV Önkormányzata | W1: Önkormányzat összesen:
A2: 01 | B2: Alaptevékenység költségvetési bevételei | C2: =SUM('10'!G3:M3) -> 67710 | D2: =SUM('10'!G4:M4) -> 393405 | E2: =SUM('10'!G5:M5) -> 79797 | F2: =SUM('10'!G6:M6) -> 467210 | G2: =SUM('10'!G7:M7) -> 1484 | H2: =SUM('10'!G8:M8) -> 14681 | I2: =SUM('10'!G9:M9) -> 16624 | J2: =SUM('10'!G10:M10) -> 20375 | K2: =SUM('10'!G11:M11) -> 13584 | L2: =SUM('10'!G12:M12) -> 12765 | M2: =SUM('10'!G13:M13) -> 103586 | N2: =SUM('10'!G14:M14) -> 4720 | O2: =SUM('10'!G15:M15) -> 63747 | P2: =SUM('10'!G16:M16) -> 262779 | Q2: =SUM('10'!G17:M17) -> 553963 | R2: =SUM('10'!G18:M18) -> 111084 | S2: =SUM('10'!G19:M19) -> 59922 | T2: =SUM('10'!G20:M20) -> 96352 | U2: =SUM(C2:T2) -> 2343788 | V2: =SUM('5'!H14:N14) -> 27407102 | W2: =SUM(U2:V2) -> 29750890
A3: 02 | B3: Alaptevékenység költségvetési kiadásai | C3: =SUM('11'!E3) -> 1657817 | D3: =SUM('11'!E4) -> 782515 | E3: =SUM('11'!E5) -> 669909 | F3: =SUM('11'!E6) -> 558701 | G3: =SUM('11'!E7) -> 269209 | H3: =SUM('11'!E8) -> 368353 | I3: =SUM('11'!E9) -> 311432 | J3: =SUM('11'!E10) -> 345607 | K3: =SUM('11'!E11) -> 328265 | L3: =SUM('11'!E12) -> 54862 | M3: =SUM('11'!E13) -> 366637 | N3: =SUM('11'!E14) -> 24433 | O3: =SUM('11'!E15) -> 468774 | P3: =SUM('11'!E16) -> 528068 | Q3: =SUM('11'!E17) -> 784352 | R3: =SUM('11'!E18) -> 124913 | S3: =SUM('11'!E19) -> 143765 | T3: =SUM('11'!E20) -> 94092 | U3: =SUM(C3:T3) -> 7881704 | V3: =SUM('7'!H16:O16) -> 25073562 | W3: =SUM(U3:V3) -> 32955266
A4: I. | B4: Alaptevékenység költségvetési egyenlege(=01-02) | C4: =C2-C3 -> -1590107 | D4: =D2-D3 -> -389110 | E4: =E2-E3 -> -590112 | F4: =F2-F3 -> -91491 | G4: =G2-G3 -> -267725 | H4: =H2-H3 -> -353672 | I4: =I2-I3 -> -294808 | J4: =J2-J3 -> -325232 | ... T4: =T2-T3 -> 2260 | U4: =SUM(C4:T4) -> -5537916 | V4: =V2-V3 -> 2333540 | W4: =SUM(U4:V4) -> -3204376
A5: 03 | B5: Alaptevékenység finanszírozási bevételei | C5: =SUM('10'!N3:P3) -> 1824344 | D5: =SUM('10'!N4:P4) -> 514079 | E5: =SUM('10'!N5:P5) -> 645790 | F5: =SUM('10'!N6:P6) -> 204217 | G5: =SUM('10'!N7:P7) -> 304130 | H5: =SUM('10'!N8:P8) -> 377892 | I5: =SUM('10'!N9:P9) -> 329388 | J5: =SUM('10'!N10:P10) -> 377511 | K5: =SUM('10'!N11:P11) -> 343605 | L5: =SUM('10'!N12:P12) -> 43617 | M5: =SUM('10'!N13:P13) -> 400491 | N5: =SUM('10'!N14:P14) -> 21867 | O5: =SUM('10'!N15:P15) -> 425238 | P5: =SUM('10'!N16:P16) -> 303460 | Q5: =SUM('10'!N17:P17) -> 276726 | R5: =SUM('10'!N18:P18) -> 60912 | S5: =SUM('10'!N19:P19) -> 105358 | T5: =SUM('10'!N20:P20) -> 4236 | U5: =SUM(C5:T5) -> 6562861 | V5: =SUM('5'!O14:Q14) -> 20541807 | W5: =SUM(U5:V5) -> 27104668
A6: 04 | B6: Alaptevékenység finanszírozási kiadásai | U6: =SUM(C6:T6) -> 0 | V6: 15073511 | W6: =SUM(U6:V6) -> 15073511
A7: II. | B7: Alaptevékenység finanszírozási egyenlege (=03-04) | C7: =C5-C6 -> 1824344 | D7: =D5-D6 -> 514079 | E7: =E5-E6 -> 645790 | F7: =F5-F6 -> 204217 | G7: =G5-G6 -> 304130 | H7: =H5-H6 -> 377892 | I7: =I5-I6 -> 329388 | J7: =J5-J6 -> 377511 | ... T7: =T5-T6 -> 4236 | U7: =SUM(C7:T7) -> 6562861 | V7: =V5-V6 -> 5468296 | W7: =SUM(U7:V7) -> 12031157
A8: A) | B8: Alaptevékenyság maradványa (= ±I.±II.) | C8: =SUM(C4+C7) -> 234237 | D8: =SUM(D4+D7) -> 124969 | E8: =SUM(E4+E7) -> 55678 | F8: =SUM(F4+F7) -> 112726 | G8: =SUM(G4+G7) -> 36405 | H8: =SUM(H4+H7) -> 24220 | I8: =SUM(I4+I7) -> 34580 | J8: =SUM(J4+J7) -> 52279 | ... T8: =SUM(T4+T7) -> 6496 | U8: =SUM(C8:T8) -> 1024945 | V8: =SUM(V4+V7) -> 7801836 | W8: =SUM(U8:V8) -> 8826781
A9: 05 | B9: Vállalkozási tevékenység költségvetési bevételei | U9: =SUM(C9:T9) -> 0 | W9: =SUM(U9:V9) -> 0
A10: 06 | B10: Vállalkozási tevékenység költségvetési kiadásai | U10: =SUM(C10:T10) -> 0 | W10: =SUM(U10:V10) -> 0
A11: III. | B11: Vállakozási tevékenység költségvetési egyenlege (=05-06) | C11: =C9-C10 -> 0 | D11: =D9-D10 -> 0 | E11: =E9-E10 -> 0 | F11: =F9-F10 -> 0 | G11: =G9-G10 -> 0 | H11: =H9-H10 -> 0 | I11: =I9-I10 -> 0 | J11: =J9-J10 -> 0 | ... T11: =T9-T10 -> 0 | U11: =SUM(C11:T11) -> 0 | V11: =V9-V10 -> 0 | W11: =SUM(U11:V11) -> 0
A12: 07 | B12: Vállakozási tevékenység finanszírozási bevételei | U12: =SUM(C12:T12) -> 0 | W12: =SUM(U12:V12) -> 0
A13: 08 | B13: Vállakozási tevékenység finanszírozási kiadásai | U13: =SUM(C13:T13) -> 0 | W13: =SUM(U13:V13) -> 0
A14: IV. | B14: Vállakozási tevékenység finanszírozási egyenlege (=07-08) | C14: =C12-C13 -> 0 | D14: =D12-D13 -> 0 | E14: =E12-E13 -> 0 | F14: =F12-F13 -> 0 | G14: =G12-G13 -> 0 | H14: =H12-H13 -> 0 | I14: =I12-I13 -> 0 | J14: =J12-J13 -> 0 | ... T14: =T12-T13 -> 0 | U14: =SUM(C14:T14) -> 0 | V14: =V12-V13 -> 0 | W14: =SUM(U14:V14) -> 0
A15: B) | B15: Vállalkozási tevékenység maradványa (=±III.±IV.) | C15: =SUM(C11+C14) -> 0 | D15: =SUM(D11+D14) -> 0 | E15: =SUM(E11+E14) -> 0 | F15: =SUM(F11+F14) -> 0 | G15: =SUM(G11+G14) -> 0 | H15: =SUM(H11+H14) -> 0 | I15: =SUM(I11+I14) -> 0 | J15: =SUM(J11+J14) -> 0 | ... T15: =SUM(T11+T14) -> 0 | U15: =SUM(C15:T15) -> 0 | V15: =SUM(V11+V14) -> 0 | W15: =SUM(U15:V15) -> 0
A16: C) | B16: Összes maradvány (=A+B) | C16: =SUM(C8+C15) -> 234237 | D16: =SUM(D8+D15) -> 124969 | E16: =SUM(E8+E15) -> 55678 | F16: =SUM(F8+F15) -> 112726 | G16: =SUM(G8+G15) -> 36405 | H16: =SUM(H8+H15) -> 24220 | I16: =SUM(I8+I15) -> 34580 | J16: =SUM(J8+J15) -> 52279 | ... T16: =SUM(T8+T15) -> 6496 | U16: =SUM(C16:T16) -> 1024945 | V16: =SUM(V8+V15) -> 7801836 | W16: =SUM(U16:V16) -> 8826781
A17: D) | B17: Alaptevékenység kötelezettségvállalással terhelt maradványa | C17: 11875 | D17: 47494 | E17: 2191 | F17: 5546 | G17: 10 | H17: 4285 | I17: 4868 | J17: 448 | K17: 424 | L17: 715 | M17: 854 | N17: 1438 | O17: 1260 | P17: 38171 | Q17: 6864 | R17: 12313 | U17: =SUM(C17:T17) -> 138756 | V17: 4361689 | W17: =SUM(U17:V17) -> 4500445
