Workbook

Sheet Babosdöbréte
A1: Gördülő fejlesztési terv a 2022 - 2036 időszakra
A2: BERUHÁZÁSOK ÖSSZEFOGLALÓ TÁBLÁZATA
A3: A tervet benyújtó szervezet megnevezése: | K3: BABOSDÖBRÉTE | R3: ellátásért felelős / ellátásért felelősök képviselője / víziközmű-szolgáltató *
A4: Víziközmű-szolgáltató megnevezése: | K4: ÉSZAK ZALAI VÍZ- ÉS CSATORNAMŰ ZÁRTKÖRŰEN MŰKÖDŐ RÉSZVÉNYTÁRSASÁG
A5: Víziközmű-szolgáltatási ágazat megnevezése: | K5: IVÓVÍZ ÁGAZAT
A6: Véleményeltérést megfogalmazó érintett fél megnevezése:
A7: Víziközmű-rendszer kódja: ** | K7: 11-32054-1-025-01-14 | R7: Zalaegerszeg-IV
A8: I. Felszín alatti vízkivétel
A9: Fontossági sorrend | B9: Felujítás és pótlás megnevezése | E9: Műszaki állapot felmérés, szükségességi indoklás | H9: Vízjogi létesítési/elvi engedély száma | I9: Az érintett ellátásért felelős(ök) megnevezése | J9: Tervezett nettó költség | K9: Forrás 2022 évre | L9: Megvalósítás időtartama | N9: Tervezett időtáv | O9: A beruházás ütemezése a tervezési időszak évei szerint
E10: Jelenlegi műszaki állapot | F10: Feladat szükségessége | G10: Megvalósítást követő várható műszaki állapot | J10: (eFt) | L10: Kezdés | M10: Befejezés | N10: (rövid / közép / hosszú) | O10: 1 | P10: 2 | Q10: 3 | R10: 4 | S10: 5 | T10: 6 | U10: 7 | V10: 8 | W10: 9 | X10: 10 | Y10: 11 | Z10: 12 | AA10: 13 | AB10: 14 | AC10: 15
B11: szakág | C11: Helyszín | D11: beruházás megnevezése
B13: MÉLYFÚRÁSÚ KÚT, HAGYOMÁNYOS ÁTMÉRŐVEL
B14: Épület, építmény
B16: Gép, berendezés
B18: Irányítástechnika, energiaellátás
B20: Összesen: | J20: =SUM(J12:J18) -> 0
A21: III. Vízműtelep és vízkezelő létesítmények
C22: Helyszín | D22: beruházás megnevezése
B23: VÍZMŰTELEP
B24: Épület, építmény
B26: Gép, berendezés
B28: Irányítástechnika, energiaellátás
B30: VÍZKEZELŐ LÉTESÍTMÉNYEK
B31: Épület, építmény
B33: Gép, berendezés
B35: Irányítástechnika, energiaellátás
B37: Összesen | J37: =SUM(J23:J36) -> 0
A38: IV. Vízelosztás
C39: Helyszín | D39: beruházás megnevezése
B40: IVÓVÍZHÁLÓZAT
B41: Épület, építmény
B43: Gép, berendezés
B45: Irányítástechnika, energiaellátás
B47: VÍZTÁROLÓK
B48: Épület, építmény
B50: Gép, berendezés
B52: Irányítástechnika, energiaellátás
B54: NYOMÁSFOKOZÓK
B55: Épület, építmény
B57: Gép, berendezés
B59: Irányítástechnika, energiaellátás
B61: Összesen: | J61: =SUM(J40:J60) -> 0 | K61: 0 | O61: =SUM(O12:O60) -> 0 | P61: =SUM(P11:P60) -> 0 | Q61: =SUM(Q11:Q60) -> 0 | R61: =SUM(R11:R60) -> 0 | S61: =SUM(S11:S60) -> 0 | T61: =SUM(T11:T60) -> 0 | U61: =SUM(U11:U60) -> 0 | V61: =SUM(V11:V60) -> 0 | W61: =SUM(W11:W60) -> 0 | ... AC61: =SUM(AC11:AC60) -> 0
B64: Tervezett feladatok nettó költsége a teljes ütem tekintetében (eFt) | C64: Rendelkezésre álló források számszerűsített értéke a teljes ütem tekintetében (eFt) | D64: Forrás megnevezése a teljes ütem tekintetében
A65: I. ütem | B65: =SUM(O61) -> 0 | C65: =K61 -> 0 | D65: Fejlesztési díj (2022)
A66: II. ütem | B66: =SUM(P61:S61) -> 0 | C66: =C65*4 -> 0 | D66: Fejlesztési díj (2023-2026)
A67: III. ütem | B67: =SUM(T61:AC61) -> 0 | C67: =C65*10 -> 0 | D67: Fejlesztési díj (2027-2036)
B70: Jelenleg beruházási igény nem ismert, nincs rendelkezésre álló forrás beruházásra.

Sheet Bagod
A1: Gördülő fejlesztési terv a 2022 - 2036 időszakra
A2: BERUHÁZÁSOK ÖSSZEFOGLALÓ TÁBLÁZATA
A3: A tervet benyújtó szervezet megnevezése: | K3: BAGOD | R3: ellátásért felelős / ellátásért felelősök képviselője / víziközmű-szolgáltató *
A4: Víziközmű-szolgáltató megnevezése: | K4: ÉSZAK ZALAI VÍZ- ÉS CSATORNAMŰ ZÁRTKÖRŰEN MŰKÖDŐ RÉSZVÉNYTÁRSASÁG
A5: Víziközmű-szolgáltatási ágazat megnevezése: | K5: IVÓVÍZ ÁGAZAT
A6: Véleményeltérést megfogalmazó érintett fél megnevezése:
A7: Víziközmű-rendszer kódja: ** | K7: 11-32054-1-025-01-14 | R7: Zalaegerszeg-IV
A8: I. Felszín alatti vízkivétel
A9: Fontossági sorrend | B9: Felujítás és pótlás megnevezése | E9: Műszaki állapot felmérés, szükségességi indoklás | H9: Vízjogi létesítési/elvi engedély száma | I9: Az érintett ellátásért felelős(ök) megnevezése | J9: Tervezett nettó költség | K9: Forrás 2022 évre | L9: Megvalósítás időtartama | N9: Tervezett időtáv | O9: A beruházás ütemezése a tervezési időszak évei szerint
E10: Jelenlegi műszaki állapot | F10: Feladat szükségessége | G10: Megvalósítást követő várható műszaki állapot | J10: (eFt) | L10: Kezdés | M10: Befejezés | N10: (rövid / közép / hosszú) | O10: 1 | P10: 2 | Q10: 3 | R10: 4 | S10: 5 | T10: 6 | U10: 7 | V10: 8 | W10: 9 | X10: 10 | Y10: 11 | Z10: 12 | AA10: 13 | AB10: 14 | AC10: 15
B11: szakág | C11: Helyszín | D11: beruházás megnevezése
B13: MÉLYFÚRÁSÚ KÚT, HAGYOMÁNYOS ÁTMÉRŐVEL
B14: Épület, építmény
B16: Gép, berendezés
B18: Irányítástechnika, energiaellátás
B20: Összesen: | J20: =SUM(J12:J19) -> 0
A21: III. Vízműtelep és vízkezelő létesítmények
C22: Helyszín | D22: beruházás megnevezése
B23: VÍZMŰTELEP
B24: Épület, építmény
B26: Gép, berendezés
B28: Irányítástechnika, energiaellátás
B30: VÍZKEZELŐ LÉTESÍTMÉNYEK
B31: Épület, építmény
B33: Gép, berendezés
B35: Irányítástechnika, energiaellátás
B37: Összesen | J37: =SUM(J23:J36) -> 0
A38: IV. Vízelosztás
C39: Helyszín | D39: beruházás megnevezése
B40: IVÓVÍZHÁLÓZAT
B41: Épület, építmény
B43: Gép, berendezés
B45: Irányítástechnika, energiaellátás
B47: VÍZTÁROLÓK
B48: Épület, építmény
B50: Gép, berendezés
B52: Irányítástechnika, energiaellátás
B54: NYOMÁSFOKOZÓK
B55: Épület, építmény
B57: Gép, berendezés
B59: Irányítástechnika, energiaellátás
B61: Összesen: | J61: =SUM(J40:J60) -> 0 | K61: 0 | O61: =SUM(O12:O60) -> 0 | P61: =SUM(P11:P60) -> 0 | Q61: =SUM(Q11:Q60) -> 0 | R61: =SUM(R11:R60) -> 0 | S61: =SUM(S11:S60) -> 0 | T61: =SUM(T11:T60) -> 0 | U61: =SUM(U11:U60) -> 0 | V61: =SUM(V11:V60) -> 0 | W61: =SUM(W11:W60) -> 0 | ... AC61: =SUM(AC11:AC60) -> 0
B64: Tervezett feladatok nettó költsége a teljes ütem tekintetében (eFt) | C64: Rendelkezésre álló források számszerűsített értéke a teljes ütem tekintetében (eFt) | D64: Forrás megnevezése a teljes ütem tekintetében
A65: I. ütem | B65: =SUM(O61) -> 0 | C65: =K61 -> 0 | D65: Fejlesztési díj (2022)
A66: II. ütem | B66: =SUM(P61:S61) -> 0 | C66: =C65*4 -> 0 | D66: Fejlesztési díj (2023-2026)
A67: III. ütem | B67: =SUM(T61:AC61) -> 0 | C67: =C65*10 -> 0 | D67: Fejlesztési díj (2027-2036)
B70: Jelenleg beruházási igény nem ismert, nincs rendelkezésre álló forrás beruházásra.

Sheet Becsvölgye
A1: Gördülő fejlesztési terv a 2022 - 2036 időszakra
A2: BERUHÁZÁSOK ÖSSZEFOGLALÓ TÁBLÁZATA
A3: A tervet benyújtó szervezet megnevezése: | K3: BECSVÖLGYE | R3: ellátásért felelős / ellátásért felelősök képviselője / víziközmű-szolgáltató *
A4: Víziközmű-szolgáltató megnevezése: | K4: ÉSZAK ZALAI VÍZ- ÉS CSATORNAMŰ ZÁRTKÖRŰEN MŰKÖDŐ RÉSZVÉNYTÁRSASÁG
A5: Víziközmű-szolgáltatási ágazat megnevezése: | K5: IVÓVÍZ ÁGAZAT
A6: Véleményeltérést megfogalmazó érintett fél megnevezése:
A7: Víziközmű-rendszer kódja: ** | K7: 11-32054-1-025-01-14 | R7: Zalaegerszeg-IV
A8: I. Felszín alatti vízkivétel
A9: Fontossági sorrend | B9: Felujítás és pótlás megnevezése | E9: Műszaki állapot felmérés, szükségességi indoklás | H9: Vízjogi létesítési/elvi engedély száma | I9: Az érintett ellátásért felelős(ök) megnevezése | J9: Tervezett nettó költség | K9: Forrás 2022 évre | L9: Megvalósítás időtartama | N9: Tervezett időtáv | O9: A beruházás ütemezése a tervezési időszak évei szerint
E10: Jelenlegi műszaki állapot | F10: Feladat szükségessége | G10: Megvalósítást követő várható műszaki állapot | J10: (eFt) | L10: Kezdés | M10: Befejezés | N10: (rövid / közép / hosszú) | O10: 1 | P10: 2 | Q10: 3 | R10: 4 | S10: 5 | T10: 6 | U10: 7 | V10: 8 | W10: 9 | X10: 10 | Y10: 11 | Z10: 12 | AA10: 13 | AB10: 14 | AC10: 15
B11: szakág | C11: Helyszín | D11: beruházás megnevezése
B13: MÉLYFÚRÁSÚ KÚT, HAGYOMÁNYOS ÁTMÉRŐVEL
B14: Épület, építmény
B16: Gép, berendezés
B18: Irányítástechnika, energiaellátás
B20: Összesen: | J20: =SUM(J12:J19) -> 0
A21: III. Vízműtelep és vízkezelő létesítmények
C22: Helyszín | D22: beruházás megnevezése
B23: VÍZMŰTELEP
B24: Épület, építmény
B26: Gép, berendezés
B28: Irányítástechnika, energiaellátás
B30: VÍZKEZELŐ LÉTESÍTMÉNYEK
B31: Épület, építmény
B33: Gép, berendezés
B35: Irányítástechnika, energiaellátás
B37: Összesen | J37: =SUM(J23:J36) -> 0
A38: IV. Vízelosztás
C39: Helyszín | D39: beruházás megnevezése
B40: IVÓVÍZHÁLÓZAT
B41: Épület, építmény
B43: Gép, berendezés
B45: Irányítástechnika, energiaellátás
B47: VÍZTÁROLÓK
B48: Épület, építmény
B50: Gép, berendezés
B52: Irányítástechnika, energiaellátás
B54: NYOMÁSFOKOZÓK
B55: Épület, építmény
B57: Gép, berendezés
B59: Irányítástechnika, energiaellátás
B61: Összesen: | J61: =SUM(J40:J60) -> 0 | K61: 0 | O61: =SUM(O12:O60) -> 0 | P61: =SUM(P11:P60) -> 0 | Q61: =SUM(Q11:Q60) -> 0 | R61: =SUM(R11:R60) -> 0 | S61: =SUM(S11:S60) -> 0 | T61: =SUM(T11:T60) -> 0 | U61: =SUM(U11:U60) -> 0 | V61: =SUM(V11:V60) -> 0 | W61: =SUM(W11:W60) -> 0 | ... AC61: =SUM(AC11:AC60) -> 0
B64: Tervezett feladatok nettó költsége a teljes ütem tekintetében (eFt) | C64: Rendelkezésre álló források számszerűsített értéke a teljes ütem tekintetében (eFt) | D64: Forrás megnevezése a teljes ütem tekintetében
A65: I. ütem | B65: =SUM(O61) -> 0 | C65: =K61 -> 0 | D65: Fejlesztési díj (2022)
A66: II. ütem | B66: =SUM(P61:S61) -> 0 | C66: =C65*4 -> 0 | D66: Fejlesztési díj (2023-2026)
A67: III. ütem | B67: =SUM(T61:AC61) -> 0 | C67: =C65*10 -> 0 | D67: Fejlesztési díj (2027-2036)
B70: Jelenleg beruházási igény nem ismert, nincs rendelkezésre álló forrás beruházásra.

Sheet Bocfölde
A1: Gördülő fejlesztési terv a 2022 - 2036 időszakra
A2: BERUHÁZÁSOK ÖSSZEFOGLALÓ TÁBLÁZATA
A3: A tervet benyújtó szervezet megnevezése: | K3: BOCFÖLDE | R3: ellátásért felelős / ellátásért felelősök képviselője / víziközmű-szolgáltató *
A4: Víziközmű-szolgáltató megnevezése: | K4: ÉSZAK ZALAI VÍZ- ÉS CSATORNAMŰ ZÁRTKÖRŰEN MŰKÖDŐ RÉSZVÉNYTÁRSASÁG
A5: Víziközmű-szolgáltatási ágazat megnevezése: | K5: IVÓVÍZ ÁGAZAT
A6: Véleményeltérést megfogalmazó érintett fél megnevezése:
A7: Víziközmű-rendszer kódja: ** | K7: 11-32054-1-025-01-14 | R7: Zalaegerszeg-IV
A8: I. Felszín alatti vízkivétel
A9: Fontossági sorrend | B9: Felujítás és pótlás megnevezése | E9: Műszaki állapot felmérés, szükségességi indoklás | H9: Vízjogi létesítési/elvi engedély száma | I9: Az érintett ellátásért felelős(ök) megnevezése | J9: Tervezett nettó költség | K9: Forrás 2022 évre | L9: Megvalósítás időtartama | N9: Tervezett időtáv | O9: A beruházás ütemezése a tervezési időszak évei szerint
E10: Jelenlegi műszaki állapot | F10: Feladat szükségessége | G10: Megvalósítást követő várható műszaki állapot | J10: (eFt) | L10: Kezdés | M10: Befejezés | N10: (rövid / közép / hosszú) | O10: 1 | P10: 2 | Q10: 3 | R10: 4 | S10: 5 | T10: 6 | U10: 7 | V10: 8 | W10: 9 | X10: 10 | Y10: 11 | Z10: 12 | AA10: 13 | AB10: 14 | AC10: 15
B11: szakág | C11: Helyszín | D11: beruházás megnevezése
B13: MÉLYFÚRÁSÚ KÚT, HAGYOMÁNYOS ÁTMÉRŐVEL
B14: Épület, építmény
B16: Gép, berendezés
B18: Irányítástechnika, energiaellátás
B20: Összesen: | J20: =SUM(J12:J19) -> 0
A21: III. Vízműtelep és vízkezelő létesítmények
C22: Helyszín | D22: beruházás megnevezése
B23: VÍZMŰTELEP
B24: Épület, építmény
B26: Gép, berendezés
B28: Irányítástechnika, energiaellátás
B30: VÍZKEZELŐ LÉTESÍTMÉNYEK
B31: Épület, építmény
B33: Gép, berendezés
B35: Irányítástechnika, energiaellátás
B37: Összesen | J37: =SUM(J23:J36) -> 0
A38: IV. Vízelosztás
C39: Helyszín | D39: beruházás megnevezése
B40: IVÓVÍZHÁLÓZAT
B41: Épület, építmény
B43: Gép, berendezés
B45: Irányítástechnika, energiaellátás
B47: VÍZTÁROLÓK
B48: Épület, építmény
B50: Gép, berendezés
B52: Irányítástechnika, energiaellátás
B54: NYOMÁSFOKOZÓK
B55: Épület, építmény
B57: Gép, berendezés
B59: Irányítástechnika, energiaellátás
B61: Összesen: | J61: =SUM(J40:J60) -> 0 | K61: =SUM(C65:C65) -> 0 | O61: =SUM(O12:O60) -> 0 | P61: =SUM(P12:P60) -> 0 | Q61: =SUM(Q12:Q60) -> 0 | R61: =SUM(R12:R60) -> 0 | S61: =SUM(S12:S60) -> 0 | T61: =SUM(T12:T60) -> 0 | U61: =SUM(U12:U60) -> 0 | V61: =SUM(V12:V60) -> 0 | ... AC61: =SUM(AC12:AC60) -> 0
B64: Tervezett feladatok nettó költsége a teljes ütem tekintetében (eFt) | C64: Rendelkezésre álló források számszerűsített értéke a teljes ütem tekintetében (eFt) | D64: Forrás megnevezése a teljes ütem tekintetében
A65: I. ütem | B65: =SUM(O61) -> 0 | C65: 0 | D65: Fejlesztési díj (2022)
A66: II. ütem | B66: =SUM(P61:S61) -> 0 | C66: 0 | D66: Fejlesztési díj (2023-2026)
A67: III. ütem | B67: =SUM(T61:AC61) -> 0 | C67: 0 | D67: Fejlesztési díj (2027-2036)

Sheet Boncodfölde
A1: Gördülő fejlesztési terv a 2022 - 2036 időszakra
A2: BERUHÁZÁSOK ÖSSZEFOGLALÓ TÁBLÁZATA
A3: A tervet benyújtó szervezet megnevezése: | K3: BONCODFÖLDE | R3: ellátásért felelős / ellátásért felelősök képviselője / víziközmű-szolgáltató *
A4: Víziközmű-szolgáltató megnevezése: | K4: ÉSZAK ZALAI VÍZ- ÉS CSATORNAMŰ ZÁRTKÖRŰEN MŰKÖDŐ RÉSZVÉNYTÁRSASÁG
A5: Víziközmű-szolgáltatási ágazat megnevezése: | K5: IVÓVÍZ ÁGAZAT
A6: Véleményeltérést megfogalmazó érintett fél megnevezése:
A7: Víziközmű-rendszer kódja: ** | K7: 11-32054-1-025-01-14 | R7: Zalaegerszeg-IV
A8: I. Felszín alatti vízkivétel
A9: Fontossági sorrend | B9: Felujítás és pótlás megnevezése | E9: Műszaki állapot felmérés, szükségességi indoklás | H9: Vízjogi létesítési/elvi engedély száma | I9: Az érintett ellátásért felelős(ök) megnevezése | J9: Tervezett nettó költség | K9: Forrás 2022 évre | L9: Megvalósítás időtartama | N9: Tervezett időtáv | O9: A beruházás ütemezése a tervezési időszak évei szerint
E10: Jelenlegi műszaki állapot | F10: Feladat szükségessége | G10: Megvalósítást követő várható műszaki állapot | J10: (eFt) | L10: Kezdés | M10: Befejezés | N10: (rövid / közép / hosszú) | O10: 1 | P10: 2 | Q10: 3 | R10: 4 | S10: 5 | T10: 6 | U10: 7 | V10: 8 | W10: 9 | X10: 10 | Y10: 11 | Z10: 12 | AA10: 13 | AB10: 14 | AC10: 15
B11: szakág | C11: Helyszín | D11: beruházás megnevezése
B13: MÉLYFÚRÁSÚ KÚT, HAGYOMÁNYOS ÁTMÉRŐVEL
B14: Épület, építmény
B16: Gép, berendezés
B18: Irányítástechnika, energiaellátás
B20: Összesen: | J20: =SUM(J12:J19) -> 0
A21: III. Vízműtelep és vízkezelő létesítmények
C22: Helyszín | D22: beruházás megnevezése
B23: VÍZMŰTELEP
B24: Épület, építmény
B26: Gép, berendezés
B28: Irányítástechnika, energiaellátás
B30: VÍZKEZELŐ LÉTESÍTMÉNYEK
B31: Épület, építmény
B33: Gép, berendezés
B35: Irányítástechnika, energiaellátás
B37: Összesen | J37: =SUM(J23:J36) -> 0
A38: IV. Vízelosztás
C39: Helyszín | D39: beruházás megnevezése
B40: IVÓVÍZHÁLÓZAT
B41: Épület, építmény
B43: Gép, berendezés
B45: Irányítástechnika, energiaellátás
B47: VÍZTÁROLÓK
B48: Épület, építmény
B50: Gép, berendezés
B52: Irányítástechnika, energiaellátás
B54: NYOMÁSFOKOZÓK
B55: Épület, építmény
B57: Gép, berendezés
B59: Irányítástechnika, energiaellátás
B61: Összesen: | J61: =SUM(J40:J60) -> 0 | K61: 0 | O61: =SUM(O12:O60) -> 0 | P61: =SUM(P12:P60) -> 0 | Q61: =SUM(Q12:Q60) -> 0 | R61: =SUM(R12:R60) -> 0 | S61: =SUM(S12:S60) -> 0 | T61: =SUM(T12:T60) -> 0 | U61: =SUM(U12:U60) -> 0 | V61: =SUM(V12:V60) -> 0 | ... AC61: =SUM(AC12:AC60) -> 0
B64: Tervezett feladatok nettó költsége a teljes ütem tekintetében (eFt) | C64: Rendelkezésre álló források számszerűsített értéke a teljes ütem tekintetében (eFt) | D64: Forrás megnevezése a teljes ütem tekintetében
A65: I. ütem | B65: =SUM(O61) -> 0 | C65: =K61 -> 0 | D65: Fejlesztési díj (2022)
A66: II. ütem | B66: =SUM(P61:S61) -> 0 | C66: =C65*4 -> 0 | D66: Fejlesztési díj (2023-2026)
A67: III. ütem | B67: =SUM(T61:AC61) -> 0 | C67: =C65*10 -> 0 | D67: Fejlesztési díj (2027-2036)
B70: Jelenleg beruházási igény nem ismert, nincs rendelkezésre álló forrás beruházásra.

Sheet Böde
A1: Gördülő fejlesztési terv a 2022 - 2036 időszakra
A2: BERUHÁZÁSOK ÖSSZEFOGLALÓ TÁBLÁZATA
A3: A tervet benyújtó szervezet megnevezése: | K3: BÖDE | R3: ellátásért felelős / ellátásért felelősök képviselője / víziközmű-szolgáltató *
A4: Víziközmű-szolgáltató megnevezése: | K4: ÉSZAK ZALAI VÍZ- ÉS CSATORNAMŰ ZÁRTKÖRŰEN MŰKÖDŐ RÉSZVÉNYTÁRSASÁG
A5: Víziközmű-szolgáltatási ágazat megnevezése: | K5: IVÓVÍZ ÁGAZAT
A6: Véleményeltérést megfogalmazó érintett fél megnevezése:
A7: Víziközmű-rendszer kódja: ** | K7: 11-32054-1-025-01-14 | R7: Zalaegerszeg-IV
A8: I. Felszín alatti vízkivétel
A9: Fontossági sorrend | B9: Felujítás és pótlás megnevezése | E9: Műszaki állapot felmérés, szükségességi indoklás | H9: Vízjogi létesítési/elvi engedély száma | I9: Az érintett ellátásért felelős(ök) megnevezése | J9: Tervezett nettó költség | K9: Forrás 2022 évre | L9: Megvalósítás időtartama | N9: Tervezett időtáv | O9: A beruházás ütemezése a tervezési időszak évei szerint
E10: Jelenlegi műszaki állapot | F10: Feladat szükségessége | G10: Megvalósítást követő várható műszaki állapot | J10: (eFt) | L10: Kezdés | M10: Befejezés | N10: (rövid / közép / hosszú) | O10: 1 | P10: 2 | Q10: 3 | R10: 4 | S10: 5 | T10: 6 | U10: 7 | V10: 8 | W10: 9 | X10: 10 | Y10: 11 | Z10: 12 | AA10: 13 | AB10: 14 | AC10: 15
B11: szakág | C11: Helyszín | D11: beruházás megnevezése
B13: MÉLYFÚRÁSÚ KÚT, HAGYOMÁNYOS ÁTMÉRŐVEL
B14: Épület, építmény
B16: Gép, berendezés
B18: Irányítástechnika, energiaellátás
B20: Összesen: | J20: =SUM(J12:J18) -> 0
A21: III. Vízműtelep és vízkezelő létesítmények
C22: Helyszín | D22: beruházás megnevezése
B23: VÍZMŰTELEP
B24: Épület, építmény
B26: Gép, berendezés
B28: Irányítástechnika, energiaellátás
B30: VÍZKEZELŐ LÉTESÍTMÉNYEK
B31: Épület, építmény
B33: Gép, berendezés
B35: Irányítástechnika, energiaellátás
B37: Összesen | J37: =SUM(J23:J36) -> 0
A38: IV. Vízelosztás
C39: Helyszín | D39: beruházás megnevezése
B40: IVÓVÍZHÁLÓZAT
B41: Épület, építmény
B43: Gép, berendezés
B45: Irányítástechnika, energiaellátás
B47: VÍZTÁROLÓK
B48: Épület, építmény
B50: Gép, berendezés
B52: Irányítástechnika, energiaellátás
B54: NYOMÁSFOKOZÓK
B55: Épület, építmény
B57: Gép, berendezés
B59: Irányítástechnika, energiaellátás
B61: Összesen: | J61: =SUM(J40:J60) -> 0 | K61: 0 | O61: =SUM(O12:O60) -> 0 | P61: =SUM(P12:P60) -> 0 | Q61: =SUM(Q12:Q60) -> 0 | R61: =SUM(R12:R60) -> 0 | S61: =SUM(S12:S60) -> 0 | T61: =SUM(T12:T60) -> 0 | U61: =SUM(U12:U60) -> 0 | V61: =SUM(V12:V60) -> 0 | ... AC61: =SUM(AC12:AC60) -> 0
B64: Tervezett feladatok nettó költsége a teljes ütem tekintetében (eFt) | C64: Rendelkezésre álló források számszerűsített értéke a teljes ütem tekintetében (eFt) | D64: Forrás megnevezése a teljes ütem tekintetében
A65: I. ütem | B65: =SUM(O61) -> 0 | C65: =K61 -> 0 | D65: Fejlesztési díj (2022)
A66: II. ütem | B66: =SUM(P61:S61) -> 0 | C66: =C65*4 -> 0 | D66: Fejlesztési díj (2023-2026)
A67: III. ütem | B67: =SUM(T61:AC61) -> 0 | C67: =C65*10 -> 0 | D67: Fejlesztési díj (2027-2036)
B70: Jelenleg beruházási igény nem ismert, nincs rendelkezésre álló forrás beruházásra.

Sheet Csatár
A1: Gördülő fejlesztési terv a 2022 - 2036 időszakra
A2: BERUHÁZÁSOK ÖSSZEFOGLALÓ TÁBLÁZATA
A3: A tervet benyújtó szervezet megnevezése: | K3: CSATÁR | R3: ellátásért felelős / ellátásért felelősök képviselője / víziközmű-szolgáltató *
A4: Víziközmű-szolgáltató megnevezése: | K4: ÉSZAK ZALAI VÍZ- ÉS CSATORNAMŰ ZÁRTKÖRŰEN MŰKÖDŐ RÉSZVÉNYTÁRSASÁG
A5: Víziközmű-szolgáltatási ágazat megnevezése: | K5: IVÓVÍZ ÁGAZAT
A6: Véleményeltérést megfogalmazó érintett fél megnevezése:
A7: Víziközmű-rendszer kódja: ** | K7: 11-32054-1-025-01-14 | R7: Zalaegerszeg-IV
A8: I. Felszín alatti vízkivétel
A9: Fontossági sorrend | B9: Felujítás és pótlás megnevezése | E9: Műszaki állapot felmérés, szükségességi indoklás | H9: Vízjogi létesítési/elvi engedély száma | I9: Az érintett ellátásért felelős(ök) megnevezése | J9: Tervezett nettó költség | K9: Forrás 2022 évre | L9: Megvalósítás időtartama | N9: Tervezett időtáv | O9: A beruházás ütemezése a tervezési időszak évei szerint
E10: Jelenlegi műszaki állapot | F10: Feladat szükségessége | G10: Megvalósítást követő várható műszaki állapot | J10: (eFt) | L10: Kezdés | M10: Befejezés | N10: (rövid / közép / hosszú) | O10: 1 | P10: 2 | Q10: 3 | R10: 4 | S10: 5 | T10: 6 | U10: 7 | V10: 8 | W10: 9 | X10: 10 | Y10: 11 | Z10: 12 | AA10: 13 | AB10: 14 | AC10: 15
B11: szakág | C11: Helyszín | D11: beruházás megnevezése
B13: MÉLYFÚRÁSÚ KÚT, HAGYOMÁNYOS ÁTMÉRŐVEL
B14: Épület, építmény
B16: Gép, berendezés
B18: Irányítástechnika, energiaellátás
B20: Összesen: | J20: =SUM(J12:J18) -> 0
A21: III. Vízműtelep és vízkezelő létesítmények
C22: Helyszín | D22: beruházás megnevezése
B23: VÍZMŰTELEP
B24: Épület, építmény
B26: Gép, berendezés
B28: Irányítástechnika, energiaellátás
B30: VÍZKEZELŐ LÉTESÍTMÉNYEK
B31: Épület, építmény
B33: Gép, berendezés
B35: Irányítástechnika, energiaellátás
B37: Összesen | J37: =SUM(J23:J36) -> 0
A38: IV. Vízelosztás
C39: Helyszín | D39: beruházás megnevezése
B40: IVÓVÍZHÁLÓZAT
B41: Épület, építmény
B43: Gép, berendezés
B45: Irányítástechnika, energiaellátás
B47: VÍZTÁROLÓK
B48: Épület, építmény
B50: Gép, berendezés
B52: Irányítástechnika, energiaellátás
B54: NYOMÁSFOKOZÓK
B55: Épület, építmény
B57: Gép, berendezés
B59: Irányítástechnika, energiaellátás
B61: Összesen: | J61: =SUM(J40:J60) -> 0 | K61: 0 | O61: =SUM(O12:O60) -> 0 | P61: =SUM(P12:P60) -> 0 | Q61: =SUM(Q12:Q60) -> 0 | R61: =SUM(R12:R60) -> 0 | S61: =SUM(S12:S60) -> 0 | T61: =SUM(T12:T60) -> 0 | U61: =SUM(U12:U60) -> 0 | V61: =SUM(V12:V60) -> 0 | ... AC61: =SUM(AC12:AC60) -> 0
B64: Tervezett feladatok nettó költsége a teljes ütem tekintetében (eFt) | C64: Rendelkezésre álló források számszerűsített értéke a teljes ütem tekintetében (eFt) | D64: Forrás megnevezése a teljes ütem tekintetében
A65: I. ütem | B65: =SUM(O61) -> 0 | C65: =K61 -> 0 | D65: Fejlesztési díj (2022)
A66: II. ütem | B66: =SUM(P61:S61) -> 0 | C66: =C65*4 -> 0 | D66: Fejlesztési díj (2023-2026)
A67: III. ütem | B67: =SUM(T61:AC61) -> 0 | C67: =C65*10 -> 0 | D67: Fejlesztési díj (2027-2036)
B70: Jelenleg beruházási igény nem ismert, nincs rendelkezésre álló forrás beruházásra.

Sheet Csonkahegyhát
A1: Gördülő fejlesztési terv a 2022 - 2036 időszakra
A2: BERUHÁZÁSOK ÖSSZEFOGLALÓ TÁBLÁZATA
A3: A tervet benyújtó szervezet megnevezése: | K3: CSONKAHEGYHÁT | R3: ellátásért felelős / ellátásért felelősök képviselője / víziközmű-szolgáltató *
A4: Víziközmű-szolgáltató megnevezése: | K4: ÉSZAK ZALAI VÍZ- ÉS CSATORNAMŰ ZÁRTKÖRŰEN MŰKÖDŐ RÉSZVÉNYTÁRSASÁG
A5: Víziközmű-szolgáltatási ágazat megnevezése: | K5: IVÓVÍZ ÁGAZAT
A6: Véleményeltérést megfogalmazó érintett fél megnevezése:
A7: Víziközmű-rendszer kódja: ** | K7: 11-32054-1-025-01-14 | R7: Zalaegerszeg-IV
A8: I. Felszín alatti vízkivétel
A9: Fontossági sorrend | B9: Felujítás és pótlás megnevezése | E9: Műszaki állapot felmérés, szükségességi indoklás | H9: Vízjogi létesítési/elvi engedély száma | I9: Az érintett ellátásért felelős(ök) megnevezése | J9: Tervezett nettó költség | K9: Forrás 2022 évre | L9: Megvalósítás időtartama | N9: Tervezett időtáv | O9: A beruházás ütemezése a tervezési időszak évei szerint
E10: Jelenlegi műszaki állapot | F10: Feladat szükségessége | G10: Megvalósítást követő várható műszaki állapot | J10: (eFt) | L10: Kezdés | M10: Befejezés | N10: (rövid / közép / hosszú) | O10: 1 | P10: 2 | Q10: 3 | R10: 4 | S10: 5 | T10: 6 | U10: 7 | V10: 8 | W10: 9 | X10: 10 | Y10: 11 | Z10: 12 | AA10: 13 | AB10: 14 | AC10: 15
B11: szakág | C11: Helyszín | D11: beruházás megnevezése
B13: MÉLYFÚRÁSÚ KÚT, HAGYOMÁNYOS ÁTMÉRŐVEL
B14: Épület, építmény
B16: Gép, berendezés
B18: Irányítástechnika, energiaellátás
B20: Összesen: | J20: =SUM(J12:J19) -> 0
A21: III. Vízműtelep és vízkezelő létesítmények
C22: Helyszín | D22: beruházás megnevezése
B23: VÍZMŰTELEP
B24: Épület, építmény
B26: Gép, berendezés
B28: Irányítástechnika, energiaellátás
B30: VÍZKEZELŐ LÉTESÍTMÉNYEK
B31: Épület, építmény
B33: Gép, berendezés
B35: Irányítástechnika, energiaellátás
B37: Összesen | J37: =SUM(J23:J36) -> 0
A38: IV. Vízelosztás
C39: Helyszín | D39: beruházás megnevezése
B40: IVÓVÍZHÁLÓZAT
B41: Épület, építmény
B43: Gép, berendezés
B45: Irányítástechnika, energiaellátás
B47: VÍZTÁROLÓK
B48: Épület, építmény
B50: Gép, berendezés
B52: Irányítástechnika, energiaellátás
B54: NYOMÁSFOKOZÓK
B55: Épület, építmény
B57: Gép, berendezés
B59: Irányítástechnika, energiaellátás
B61: Összesen: | J61: =SUM(J40:J60) -> 0 | K61: 0 | O61: =SUM(O12:O60) -> 0 | P61: =SUM(P11:P60) -> 0 | Q61: =SUM(Q11:Q60) -> 0 | R61: =SUM(R11:R60) -> 0 | S61: =SUM(S11:S60) -> 0 | T61: =SUM(T11:T60) -> 0 | U61: =SUM(U11:U60) -> 0 | V61: =SUM(V11:V60) -> 0 | W61: =SUM(W11:W60) -> 0 | ... AC61: =SUM(AC11:AC60) -> 0
B64: Tervezett feladatok nettó költsége a teljes ütem tekintetében (eFt) | C64: Rendelkezésre álló források számszerűsített értéke a teljes ütem tekintetében (eFt) | D64: Forrás megnevezése a teljes ütem tekintetében
A65: I. ütem | B65: =SUM(O61) -> 0 | C65: =K61 -> 0 | D65: Fejlesztési díj (2022)
A66: II. ütem | B66: =SUM(P61:S61) -> 0 | C66: =C65*4 -> 0 | D66: Fejlesztési díj (2023-2026)
A67: III. ütem | B67: =SUM(T61:AC61) -> 0 | C67: =C65*10 -> 0 | D67: Fejlesztési díj (2027-2036)
B70: Jelenleg beruházási igény nem ismert, nincs rendelkezésre álló forrás beruházásra.

Sheet Dobronhegy
A1: Gördülő fejlesztési terv a 2022 - 2036 időszakra
A2: BERUHÁZÁSOK ÖSSZEFOGLALÓ TÁBLÁZATA
A3: A tervet benyújtó szervezet megnevezése: | K3: DOBRONHEGY | R3: ellátásért felelős / ellátásért felelősök képviselője / víziközmű-szolgáltató *
A4: Víziközmű-szolgáltató megnevezése: | K4: ÉSZAK ZALAI VÍZ- ÉS CSATORNAMŰ ZÁRTKÖRŰEN MŰKÖDŐ RÉSZVÉNYTÁRSASÁG
A5: Víziközmű-szolgáltatási ágazat megnevezése: | K5: IVÓVÍZ ÁGAZAT
A6: Véleményeltérést megfogalmazó érintett fél megnevezése:
A7: Víziközmű-rendszer kódja: ** | K7: 11-32054-1-025-01-14 | R7: Zalaegerszeg-IV
A8: I. Felszín alatti vízkivétel
A9: Fontossági sorrend | B9: Felujítás és pótlás megnevezése | E9: Műszaki állapot felmérés, szükségességi indoklás | H9: Vízjogi létesítési/elvi engedély száma | I9: Az érintett ellátásért felelős(ök) megnevezése | J9: Tervezett nettó költség | K9: Forrás 2022 évre | L9: Megvalósítás időtartama | N9: Tervezett időtáv | O9: A beruházás ütemezése a tervezési időszak évei szerint
E10: Jelenlegi műszaki állapot | F10: Feladat szükségessége | G10: Megvalósítást követő várható műszaki állapot | J10: (eFt) | L10: Kezdés | M10: Befejezés | N10: (rövid / közép / hosszú) | O10: 1 | P10: 2 | Q10: 3 | R10: 4 | S10: 5 | T10: 6 | U10: 7 | V10: 8 | W10: 9 | X10: 10 | Y10: 11 | Z10: 12 | AA10: 13 | AB10: 14 | AC10: 15
B11: szakág | C11: Helyszín | D11: beruházás megnevezése
B13: MÉLYFÚRÁSÚ KÚT, HAGYOMÁNYOS ÁTMÉRŐVEL
B14: Épület, építmény
B16: Gép, berendezés
B18: Irányítástechnika, energiaellátás
B20: Összesen: | J20: =SUM(J12:J19) -> 0
A21: III. Vízműtelep és vízkezelő létesítmények
C22: Helyszín | D22: beruházás megnevezése
B23: VÍZMŰTELEP
B24: Épület, építmény
B26: Gép, berendezés
B28: Irányítástechnika, energiaellátás
B30: VÍZKEZELŐ LÉTESÍTMÉNYEK
B31: Épület, építmény
B33: Gép, berendezés
B35: Irányítástechnika, energiaellátás
B37: Összesen | J37: =SUM(J23:J36) -> 0
A38: IV. Vízelosztás
C39: Helyszín | D39: beruházás megnevezése
B40: IVÓVÍZHÁLÓZAT
B41: Épület, építmény
B43: Gép, berendezés
B45: Irányítástechnika, energiaellátás
B47: VÍZTÁROLÓK
B48: Épület, építmény
B50: Gép, berendezés
B52: Irányítástechnika, energiaellátás
B54: NYOMÁSFOKOZÓK
B55: Épület, építmény
B57: Gép, berendezés
B59: Irányítástechnika, energiaellátás
B61: Összesen: | J61: =SUM(J40:J60) -> 0 | K61: 0 | O61: =SUM(O12:O60) -> 0 | P61: =SUM(P12:P60) -> 0 | Q61: =SUM(Q12:Q60) -> 0 | R61: =SUM(R12:R60) -> 0 | S61: =SUM(S12:S60) -> 0 | T61: =SUM(T12:T60) -> 0 | U61: =SUM(U12:U60) -> 0 | V61: =SUM(V12:V60) -> 0 | ... AC61: =SUM(AC12:AC60) -> 0
B64: Tervezett feladatok nettó költsége a teljes ütem tekintetében (eFt) | C64: Rendelkezésre álló források számszerűsített értéke a teljes ütem tekintetében (eFt) | D64: Forrás megnevezése a teljes ütem tekintetében
A65: I. ütem | B65: =SUM(O61) -> 0 | C65: =K61 -> 0 | D65: Fejlesztési díj (2022)
A66: II. ütem | B66: =SUM(P61:S61) -> 0 | C66: =C65*4 -> 0 | D66: Fejlesztési díj (2023-2026)
A67: III. ütem | B67: =SUM(T61:AC61) -> 0 | C67: =C65*10 -> 0 | D67: Fejlesztési díj (2027-2036)
B70: Jelenleg beruházási igény nem ismert, nincs rendelkezésre álló forrás beruházásra.

Sheet Hagyárosbörönd
A1: Gördülő fejlesztési terv a 2022 - 2036 időszakra
A2: BERUHÁZÁSOK ÖSSZEFOGLALÓ TÁBLÁZATA
A3: A tervet benyújtó szervezet megnevezése: | K3: HAGYÁROSBÖRÖND | R3: ellátásért felelős / ellátásért felelősök képviselője / víziközmű-szolgáltató *
A4: Víziközmű-szolgáltató megnevezése: | K4: ÉSZAK ZALAI VÍZ- ÉS CSATORNAMŰ ZÁRTKÖRŰEN MŰKÖDŐ RÉSZVÉNYTÁRSASÁG
A5: Víziközmű-szolgáltatási ágazat megnevezése: | K5: IVÓVÍZ ÁGAZAT
A6: Véleményeltérést megfogalmazó érintett fél megnevezése:
A7: Víziközmű-rendszer kódja: ** | K7: 11-32054-1-025-01-14 | R7: Zalaegerszeg-IV
A8: I. Felszín alatti vízkivétel
A9: Fontossági sorrend | B9: Felujítás és pótlás megnevezése | E9: Műszaki állapot felmérés, szükségességi indoklás | H9: Vízjogi létesítési/elvi engedély száma | I9: Az érintett ellátásért felelős(ök) megnevezése | J9: Tervezett nettó költség | K9: Forrás 2022 évre | L9: Megvalósítás időtartama | N9: Tervezett időtáv | O9: A beruházás ütemezése a tervezési időszak évei szerint
E10: Jelenlegi műszaki állapot | F10: Feladat szükségessége | G10: Megvalósítást követő várható műszaki állapot | J10: (eFt) | L10: Kezdés | M10: Befejezés | N10: (rövid / közép / hosszú) | O10: 1 | P10: 2 | Q10: 3 | R10: 4 | S10: 5 | T10: 6 | U10: 7 | V10: 8 | W10: 9 | X10: 10 | Y10: 11 | Z10: 12 | AA10: 13 | AB10: 14 | AC10: 15
B11: szakág | C11: Helyszín | D11: beruházás megnevezése
B13: MÉLYFÚRÁSÚ KÚT, HAGYOMÁNYOS ÁTMÉRŐVEL
B14: Épület, építmény
B16: Gép, berendezés
B18: Irányítástechnika, energiaellátás
B20: Összesen: | J20: =SUM(J12:J19) -> 0
A21: III. Vízműtelep és vízkezelő létesítmények
C22: Helyszín | D22: beruházás megnevezése
B23: VÍZMŰTELEP
B24: Épület, építmény
B26: Gép, berendezés
B28: Irányítástechnika, energiaellátás
B30: VÍZKEZELŐ LÉTESÍTMÉNYEK
B31: Épület, építmény
B33: Gép, berendezés
B35: Irányítástechnika, energiaellátás
B37: Összesen | J37: =SUM(J23:J36) -> 0
A38: IV. Vízelosztás
C39: Helyszín | D39: beruházás megnevezése
B40: IVÓVÍZHÁLÓZAT
B41: Épület, építmény
B43: Gép, berendezés
B45: Irányítástechnika, energiaellátás
B47: VÍZTÁROLÓK
B48: Épület, építmény
B50: Gép, berendezés
B52: Irányítástechnika, energiaellátás
B54: NYOMÁSFOKOZÓK
B55: Épület, építmény
B57: Gép, berendezés
B59: Irányítástechnika, energiaellátás
B61: Összesen: | J61: =SUM(J40:J60) -> 0 | K61: 0 | O61: =SUM(O12:O60) -> 0 | P61: =SUM(P12:P60) -> 0 | Q61: =SUM(Q12:Q60) -> 0 | R61: =SUM(R12:R60) -> 0 | S61: =SUM(S12:S60) -> 0 | T61: =SUM(T12:T60) -> 0 | U61: =SUM(U12:U60) -> 0 | V61: =SUM(V12:V60) -> 0 | ... AC61: =SUM(AC12:AC60) -> 0
B64: Tervezett feladatok nettó költsége a teljes ütem tekintetében (eFt) | C64: Rendelkezésre álló források számszerűsített értéke a teljes ütem tekintetében (eFt) | D64: Forrás megnevezése a teljes ütem tekintetében
A65: I. ütem | B65: =SUM(O61) -> 0 | C65: =K61 -> 0 | D65: Fejlesztési díj (2022)
A66: II. ütem | B66: =SUM(P61:S61) -> 0 | C66: =C65*4 -> 0 | D66: Fejlesztési díj (2023-2026)
A67: III. ütem | B67: =SUM(T61:AC61) -> 0 | C67: =C65*10 -> 0 | D67: Fejlesztési díj (2027-2036)
B70: Jelenleg beruházási igény nem ismert, nincs rendelkezésre álló forrás beruházásra.

Sheet Hottó
A1: Gördülő fejlesztési terv a 2022 - 2036 időszakra
A2: BERUHÁZÁSOK ÖSSZEFOGLALÓ TÁBLÁZATA
A3: A tervet benyújtó szervezet megnevezése: | K3: HOTTÓ | R3: ellátásért felelős / ellátásért felelősök képviselője / víziközmű-szolgáltató *
A4: Víziközmű-szolgáltató megnevezése: | K4: ÉSZAK ZALAI VÍZ- ÉS CSATORNAMŰ ZÁRTKÖRŰEN MŰKÖDŐ RÉSZVÉNYTÁRSASÁG
A5: Víziközmű-szolgáltatási ágazat megnevezése: | K5: IVÓVÍZ ÁGAZAT
A6: Véleményeltérést megfogalmazó érintett fél megnevezése:
A7: Víziközmű-rendszer kódja: ** | K7: 11-32054-1-025-01-14 | R7: Zalaegerszeg-IV
A8: I. Felszín alatti vízkivétel
A9: Fontossági sorrend | B9: Felujítás és pótlás megnevezése | E9: Műszaki állapot felmérés, szükségességi indoklás | H9: Vízjogi létesítési/elvi engedély száma | I9: Az érintett ellátásért felelős(ök) megnevezése | J9: Tervezett nettó költség | K9: Forrás 2022 évre | L9: Megvalósítás időtartama | N9: Tervezett időtáv | O9: A beruházás ütemezése a tervezési időszak évei szerint
E10: Jelenlegi műszaki állapot | F10: Feladat szükségessége | G10: Megvalósítást követő várható műszaki állapot | J10: (eFt) | L10: Kezdés | M10: Befejezés | N10: (rövid / közép / hosszú) | O10: 1 | P10: 2 | Q10: 3 | R10: 4 | S10: 5 | T10: 6 | U10: 7 | V10: 8 | W10: 9 | X10: 10 | Y10: 11 | Z10: 12 | AA10: 13 | AB10: 14 | AC10: 15
B11: szakág | C11: Helyszín | D11: beruházás megnevezése
B13: MÉLYFÚRÁSÚ KÚT, HAGYOMÁNYOS ÁTMÉRŐVEL
B14: Épület, építmény
B16: Gép, berendezés
B18: Irányítástechnika, energiaellátás
B20: Összesen: | J20: =SUM(J12:J18) -> 0
A21: III. Vízműtelep és vízkezelő létesítmények
C22: Helyszín | D22: beruházás megnevezése
B23: VÍZMŰTELEP
B24: Épület, építmény
B26: Gép, berendezés
B28: Irányítástechnika, energiaellátás
B30: VÍZKEZELŐ LÉTESÍTMÉNYEK
B31: Épület, építmény
B33: Gép, berendezés
B35: Irányítástechnika, energiaellátás
B37: Összesen | J37: =SUM(J23:J36) -> 0
A38: IV. Vízelosztás
C39: Helyszín | D39: beruházás megnevezése
B40: IVÓVÍZHÁLÓZAT
B41: Épület, építmény
B43: Gép, berendezés
B45: Irányítástechnika, energiaellátás
B47: VÍZTÁROLÓK
B48: Épület, építmény
B50: Gép, berendezés
B52: Irányítástechnika, energiaellátás
B54: NYOMÁSFOKOZÓK
B55: Épület, építmény
B57: Gép, berendezés
B59: Irányítástechnika, energiaellátás
B61: Összesen: | J61: =SUM(J40:J60) -> 0 | K61: 0 | O61: =SUM(O12:O60) -> 0 | P61: =SUM(P12:P60) -> 0 | Q61: =SUM(Q12:Q60) -> 0 | R61: =SUM(R12:R60) -> 0 | S61: =SUM(S12:S60) -> 0 | T61: =SUM(T12:T60) -> 0 | U61: =SUM(U12:U60) -> 0 | V61: =SUM(V12:V60) -> 0 | ... AC61: =SUM(AC12:AC60) -> 0
B64: Tervezett feladatok nettó költsége a teljes ütem tekintetében (eFt) | C64: Rendelkezésre álló források számszerűsített értéke a teljes ütem tekintetében (eFt) | D64: Forrás megnevezése a teljes ütem tekintetében
A65: I. ütem | B65: =SUM(O61) -> 0 | C65: =K61 -> 0 | D65: Fejlesztési díj (2022)
A66: II. ütem | B66: =SUM(P61:S61) -> 0 | C66: =C65*4 -> 0 | D66: Fejlesztési díj (2023-2026)
A67: III. ütem | B67: =SUM(T61:AC61) -> 0 | C67: =C65*10 -> 0 | D67: Fejlesztési díj (2027-2036)
B70: Jelenleg beruházási igény nem ismert, nincs rendelkezésre álló forrás beruházásra.

Sheet Kávás
A1: Gördülő fejlesztési terv a 2022 - 2036 időszakra
A2: BERUHÁZÁSOK ÖSSZEFOGLALÓ TÁBLÁZATA
A3: A tervet benyújtó szervezet megnevezése: | K3: KÁVÁS | R3: ellátásért felelős / ellátásért felelősök képviselője / víziközmű-szolgáltató *
A4: Víziközmű-szolgáltató megnevezése: | K4: ÉSZAK ZALAI VÍZ- ÉS CSATORNAMŰ ZÁRTKÖRŰEN MŰKÖDŐ RÉSZVÉNYTÁRSASÁG
A5: Víziközmű-szolgáltatási ágazat megnevezése: | K5: IVÓVÍZ ÁGAZAT
A6: Véleményeltérést megfogalmazó érintett fél megnevezése:
A7: Víziközmű-rendszer kódja: ** | K7: 11-32054-1-025-01-14 | R7: Zalaegerszeg-IV
A8: I. Felszín alatti vízkivétel
A9: Fontossági sorrend | B9: Felujítás és pótlás megnevezése | E9: Műszaki állapot felmérés, szükségességi indoklás | H9: Vízjogi létesítési/elvi engedély száma | I9: Az érintett ellátásért felelős(ök) megnevezése | J9: Tervezett nettó költség | K9: Forrás 2022 évre | L9: Megvalósítás időtartama | N9: Tervezett időtáv | O9: A beruházás ütemezése a tervezési időszak évei szerint
E10: Jelenlegi műszaki állapot | F10: Feladat szükségessége | G10: Megvalósítást követő várható műszaki állapot | J10: (eFt) | L10: Kezdés | M10: Befejezés | N10: (rövid / közép / hosszú) | O10: 1 | P10: 2 | Q10: 3 | R10: 4 | S10: 5 | T10: 6 | U10: 7 | V10: 8 | W10: 9 | X10: 10 | Y10: 11 | Z10: 12 | AA10: 13 | AB10: 14 | AC10: 15
B11: szakág | C11: Helyszín | D11: beruházás megnevezése
B13: MÉLYFÚRÁSÚ KÚT, HAGYOMÁNYOS ÁTMÉRŐVEL
B14: Épület, építmény
B16: Gép, berendezés
B18: Irányítástechnika, energiaellátás
B20: Összesen: | J20: =SUM(J12:J19) -> 0
A21: III. Vízműtelep és vízkezelő létesítmények
C22: Helyszín | D22: beruházás megnevezése
B23: VÍZMŰTELEP
B24: Épület, építmény
B26: Gép, berendezés
B28: Irányítástechnika, energiaellátás
B30: VÍZKEZELŐ LÉTESÍTMÉNYEK
B31: Épület, építmény
B33: Gép, berendezés
B35: Irányítástechnika, energiaellátás
B37: Összesen | J37: =SUM(J23:J36) -> 0
A38: IV. Vízelosztás
C39: Helyszín | D39: beruházás megnevezése
B40: IVÓVÍZHÁLÓZAT
B41: Épület, építmény
B43: Gép, berendezés
B45: Irányítástechnika, energiaellátás
B47: VÍZTÁROLÓK
B48: Épület, építmény
B50: Gép, berendezés
B52: Irányítástechnika, energiaellátás
B54: NYOMÁSFOKOZÓK
B55: Épület, építmény
B57: Gép, berendezés
B59: Irányítástechnika, energiaellátás
B61: Összesen: | J61: =SUM(J40:J60) -> 0 | K61: 0 | O61: =SUM(O12:O60) -> 0 | P61: =SUM(P12:P60) -> 0 | Q61: =SUM(Q12:Q60) -> 0 | R61: =SUM(R12:R60) -> 0 | S61: =SUM(S12:S60) -> 0 | T61: =SUM(T12:T60) -> 0 | U61: =SUM(U12:U60) -> 0 | V61: =SUM(V12:V60) -> 0 | ... AC61: =SUM(AC12:AC60) -> 0
B64: Tervezett feladatok nettó költsége a teljes ütem tekintetében (eFt) | C64: Rendelkezésre álló források számszerűsített értéke a teljes ütem tekintetében (eFt) | D64: Forrás megnevezése a teljes ütem tekintetében
A65: I. ütem | B65: =SUM(O61) -> 0 | C65: =K61 -> 0 | D65: Fejlesztési díj (2022)
A66: II. ütem | B66: =SUM(P61:S61) -> 0 | C66: =C65*4 -> 0 | D66: Fejlesztési díj (2023-2026)
A67: III. ütem | B67: =SUM(T61:AC61) -> 0 | C67: =C65*10 -> 0 | D67: Fejlesztési díj (2027-2036)
B70: Jelenleg beruházási igény nem ismert, nincs rendelkezésre álló forrás beruházásra.

Sheet Kiskutas
A1: Gördülő fejlesztési terv a 2022 - 2036 időszakra
A2: BERUHÁZÁSOK ÖSSZEFOGLALÓ TÁBLÁZATA
A3: A tervet benyújtó szervezet megnevezése: | K3: KISKUTAS | R3: ellátásért felelős / ellátásért felelősök képviselője / víziközmű-szolgáltató *
A4: Víziközmű-szolgáltató megnevezése: | K4: ÉSZAK ZALAI VÍZ- ÉS CSATORNAMŰ ZÁRTKÖRŰEN MŰKÖDŐ RÉSZVÉNYTÁRSASÁG
A5: Víziközmű-szolgáltatási ágazat megnevezése: | K5: IVÓVÍZ ÁGAZAT
A6: Véleményeltérést megfogalmazó érintett fél megnevezése:
A7: Víziközmű-rendszer kódja: ** | K7: 11-32054-1-025-01-14 | R7: Zalaegerszeg-IV
A8: I. Felszín alatti vízkivétel
A9: Fontossági sorrend | B9: Felujítás és pótlás megnevezése | E9: Műszaki állapot felmérés, szükségességi indoklás | H9: Vízjogi létesítési/elvi engedély száma | I9: Az érintett ellátásért felelős(ök) megnevezése | J9: Tervezett nettó költség | K9: Forrás 2022 évre | L9: Megvalósítás időtartama | N9: Tervezett időtáv | O9: A beruházás ütemezése a tervezési időszak évei szerint
E10: Jelenlegi műszaki állapot | F10: Feladat szükségessége | G10: Megvalósítást követő várható műszaki állapot | J10: (eFt) | L10: Kezdés | M10: Befejezés | N10: (rövid / közép / hosszú) | O10: 1 | P10: 2 | Q10: 3 | R10: 4 | S10: 5 | T10: 6 | U10: 7 | V10: 8 | W10: 9 | X10: 10 | Y10: 11 | Z10: 12 | AA10: 13 | AB10: 14 | AC10: 15
B11: szakág | C11: Helyszín | D11: beruházás megnevezése
B13: MÉLYFÚRÁSÚ KÚT, HAGYOMÁNYOS ÁTMÉRŐVEL
B14: Épület, építmény
B16: Gép, berendezés
B18: Irányítástechnika, energiaellátás
B20: Összesen: | J20: =SUM(J12:J18) -> 0
A21: III. Vízműtelep és vízkezelő létesítmények
C22: Helyszín | D22: beruházás megnevezése
B23: VÍZMŰTELEP
B24: Épület, építmény
B26: Gép, berendezés
B28: Irányítástechnika, energiaellátás
B30: VÍZKEZELŐ LÉTESÍTMÉNYEK
B31: Épület, építmény
B33: Gép, berendezés
B35: Irányítástechnika, energiaellátás
B37: Összesen | J37: =SUM(J23:J36) -> 0
A38: IV. Vízelosztás
C39: Helyszín | D39: beruházás megnevezése
B40: IVÓVÍZHÁLÓZAT
B41: Épület, építmény
B43: Gép, berendezés
B45: Irányítástechnika, energiaellátás
B47: VÍZTÁROLÓK
B48: Épület, építmény
B50: Gép, berendezés
B52: Irányítástechnika, energiaellátás
B54: NYOMÁSFOKOZÓK
B55: Épület, építmény
B57: Gép, berendezés
B59: Irányítástechnika, energiaellátás
B61: Összesen: | J61: =SUM(J40:J60) -> 0 | K61: =SUM(C65) -> 0 | O61: =SUM(O12:O60) -> 0 | P61: =SUM(P12:P60) -> 0 | Q61: =SUM(Q12:Q60) -> 0 | R61: =SUM(R12:R60) -> 0 | S61: =SUM(S12:S60) -> 0 | T61: =SUM(T12:T60) -> 0 | U61: =SUM(U12:U60) -> 0 | V61: =SUM(V12:V60) -> 0 | ... AC61: =SUM(AC12:AC60) -> 0
B64: Tervezett feladatok nettó költsége a teljes ütem tekintetében (eFt) | C64: Rendelkezésre álló források számszerűsített értéke a teljes ütem tekintetében (eFt) | D64: Forrás megnevezése a teljes ütem tekintetében
A65: I. ütem | B65: =SUM(O61) -> 0 | C65: 0 | D65: Fejlesztési díj (2022)
A66: II. ütem | B66: =SUM(P61:S61) -> 0 | C66: =C65*4 -> 0 | D66: Fejlesztési díj (2023-2026)
A67: III. ütem | B67: =SUM(T61:AC61) -> 0 | C67: =C65*10 -> 0 | D67: Fejlesztési díj (2027-2036)
B70: Jelenleg beruházási igény nem ismert, nincs rendelkezésre álló forrás beruházásra.

Sheet Kispáli
A1: Gördülő fejlesztési terv a 2022 - 2036 időszakra
A2: BERUHÁZÁSOK ÖSSZEFOGLALÓ TÁBLÁZATA
A3: A tervet benyújtó szervezet megnevezése: | K3: KISPÁLI | R3: ellátásért felelős / ellátásért felelősök képviselője / víziközmű-szolgáltató *
A4: Víziközmű-szolgáltató megnevezése: | K4: ÉSZAK ZALAI VÍZ- ÉS CSATORNAMŰ ZÁRTKÖRŰEN MŰKÖDŐ RÉSZVÉNYTÁRSASÁG
A5: Víziközmű-szolgáltatási ágazat megnevezése: | K5: IVÓVÍZ ÁGAZAT
A6: Véleményeltérést megfogalmazó érintett fél megnevezése:
A7: Víziközmű-rendszer kódja: ** | K7: 11-32054-1-025-01-14 | R7: Zalaegerszeg-IV
A8: I. Felszín alatti vízkivétel
A9: Fontossági sorrend | B9: Felujítás és pótlás megnevezése | E9: Műszaki állapot felmérés, szükségességi indoklás | H9: Vízjogi létesítési/elvi engedély száma | I9: Az érintett ellátásért felelős(ök) megnevezése | J9: Tervezett nettó költség | K9: Forrás 2022 évre | L9: Megvalósítás időtartama | N9: Tervezett időtáv | O9: A beruházás ütemezése a tervezési időszak évei szerint
E10: Jelenlegi műszaki állapot | F10: Feladat szükségessége | G10: Megvalósítást követő várható műszaki állapot | J10: (eFt) | L10: Kezdés | M10: Befejezés | N10: (rövid / közép / hosszú) | O10: 1 | P10: 2 | Q10: 3 | R10: 4 | S10: 5 | T10: 6 | U10: 7 | V10: 8 | W10: 9 | X10: 10 | Y10: 11 | Z10: 12 | AA10: 13 | AB10: 14 | AC10: 15
B11: szakág | C11: Helyszín | D11: beruházás megnevezése
B13: MÉLYFÚRÁSÚ KÚT, HAGYOMÁNYOS ÁTMÉRŐVEL
B14: Épület, építmény
B16: Gép, berendezés
B18: Irányítástechnika, energiaellátás
B20: Összesen: | J20: =SUM(J12:J19) -> 0
A21: III. Vízműtelep és vízkezelő létesítmények
C22: Helyszín | D22: beruházás megnevezése
B23: VÍZMŰTELEP
B24: Épület, építmény
B26: Gép, berendezés
B28: Irányítástechnika, energiaellátás
B30: VÍZKEZELŐ LÉTESÍTMÉNYEK
B31: Épület, építmény
B33: Gép, berendezés
B35: Irányítástechnika, energiaellátás
B37: Összesen | J37: =SUM(J23:J36) -> 0
A38: IV. Vízelosztás
C39: Helyszín | D39: beruházás megnevezése
B40: IVÓVÍZHÁLÓZAT
B41: Épület, építmény
B43: Gép, berendezés
B45: Irányítástechnika, energiaellátás
B47: VÍZTÁROLÓK
B48: Épület, építmény
B50: Gép, berendezés
B52: Irányítástechnika, energiaellátás
B54: NYOMÁSFOKOZÓK
B55: Épület, építmény
B57: Gép, berendezés
B59: Irányítástechnika, energiaellátás
B61: Összesen: | J61: =SUM(J40:J60) -> 0 | K61: 0 | O61: =SUM(O12:O60) -> 0 | P61: =SUM(P11:P60) -> 0 | Q61: =SUM(Q11:Q60) -> 0 | R61: =SUM(R11:R60) -> 0 | S61: =SUM(S11:S60) -> 0 | T61: =SUM(T11:T60) -> 0 | U61: =SUM(U11:U60) -> 0 | V61: =SUM(V11:V60) -> 0 | W61: =SUM(W11:W60) -> 0 | ... AC61: =SUM(AC11:AC60) -> 0
B64: Tervezett feladatok nettó költsége a teljes ütem tekintetében (eFt) | C64: Rendelkezésre álló források számszerűsített értéke a teljes ütem tekintetében (eFt) | D64: Forrás megnevezése a teljes ütem tekintetében
A65: I. ütem | B65: =SUM(O61) -> 0 | C65: =K61 -> 0 | D65: Fejlesztési díj (2022)
A66: II. ütem | B66: =SUM(P61:S61) -> 0 | C66: =C65*4 -> 0 | D66: Fejlesztési díj (2023-2026)
A67: III. ütem | B67: =SUM(T61:AC61) -> 0 | C67: =C65*10 -> 0 | D67: Fejlesztési díj (2027-2036)
B70: Jelenleg beruházási igény nem ismert, nincs rendelkezésre álló forrás beruházásra.

Sheet Kustánszeg
A1: Gördülő fejlesztési terv a 2022 - 2036 időszakra
A2: BERUHÁZÁSOK ÖSSZEFOGLALÓ TÁBLÁZATA
A3: A tervet benyújtó szervezet megnevezése: | K3: KUSTÁNSZEG | R3: ellátásért felelős / ellátásért felelősök képviselője / víziközmű-szolgáltató *
A4: Víziközmű-szolgáltató megnevezése: | K4: ÉSZAK ZALAI VÍZ- ÉS CSATORNAMŰ ZÁRTKÖRŰEN MŰKÖDŐ RÉSZVÉNYTÁRSASÁG
A5: Víziközmű-szolgáltatási ágazat megnevezése: | K5: IVÓVÍZ ÁGAZAT
A6: Véleményeltérést megfogalmazó érintett fél megnevezése:
A7: Víziközmű-rendszer kódja: ** | K7: 11-32054-1-025-01-14 | R7: Zalaegerszeg-IV
A8: I. Felszín alatti vízkivétel
A9: Fontossági sorrend | B9: Felujítás és pótlás megnevezése | E9: Műszaki állapot felmérés, szükségességi indoklás | H9: Vízjogi létesítési/elvi engedély száma | I9: Az érintett ellátásért felelős(ök) megnevezése | J9: Tervezett nettó költség | K9: Forrás 2022 évre | L9: Megvalósítás időtartama | N9: Tervezett időtáv | O9: A beruházás ütemezése a tervezési időszak évei szerint
E10: Jelenlegi műszaki állapot | F10: Feladat szükségessége | G10: Megvalósítást követő várható műszaki állapot | J10: (eFt) | L10: Kezdés | M10: Befejezés | N10: (rövid / közép / hosszú) | O10: 1 | P10: 2 | Q10: 3 | R10: 4 | S10: 5 | T10: 6 | U10: 7 | V10: 8 | W10: 9 | X10: 10 | Y10: 11 | Z10: 12 | AA10: 13 | AB10: 14 | AC10: 15
B11: szakág | C11: Helyszín | D11: beruházás megnevezése
B13: MÉLYFÚRÁSÚ KÚT, HAGYOMÁNYOS ÁTMÉRŐVEL
B14: Épület, építmény
B16: Gép, berendezés
B18: Irányítástechnika, energiaellátás
B20: Összesen: | J20: =SUM(J12:J19) -> 0
A21: III. Vízműtelep és vízkezelő létesítmények
C22: Helyszín | D22: beruházás megnevezése
B23: VÍZMŰTELEP
B24: Épület, építmény
B26: Gép, berendezés
B28: Irányítástechnika, energiaellátás
B30: VÍZKEZELŐ LÉTESÍTMÉNYEK
B31: Épület, építmény
B33: Gép, berendezés
B35: Irányítástechnika, energiaellátás
B37: Összesen | J37: =SUM(J23:J36) -> 0
A38: IV. Vízelosztás
C39: Helyszín | D39: beruházás megnevezése
B40: IVÓVÍZHÁLÓZAT
B41: Épület, építmény
B43: Gép, berendezés
B45: Irányítástechnika, energiaellátás
B47: VÍZTÁROLÓK
B48: Épület, építmény
B50: Gép, berendezés
B52: Irányítástechnika, energiaellátás
B54: NYOMÁSFOKOZÓK
B55: Épület, építmény
B57: Gép, berendezés
B59: Irányítástechnika, energiaellátás
B61: Összesen: | J61: =SUM(J40:J60) -> 0 | K61: 0 | O61: =SUM(O12:O60) -> 0 | P61: =SUM(P12:P60) -> 0 | Q61: =SUM(Q12:Q60) -> 0 | R61: =SUM(R12:R60) -> 0 | S61: =SUM(S12:S60) -> 0 | T61: =SUM(T12:T60) -> 0 | U61: =SUM(U12:U60) -> 0 | V61: =SUM(V12:V60) -> 0 | ... AC61: =SUM(AC12:AC60) -> 0
B64: Tervezett feladatok nettó költsége a teljes ütem tekintetében (eFt) | C64: Rendelkezésre álló források számszerűsített értéke a teljes ütem tekintetében (eFt) | D64: Forrás megnevezése a teljes ütem tekintetében
A65: I. ütem | B65: =SUM(O61) -> 0 | C65: =K61 -> 0 | D65: Fejlesztési díj (2022)
A66: II. ütem | B66: =SUM(P61:S61) -> 0 | C66: =C65*4 -> 0 | D66: Fejlesztési díj (2023-2026)
A67: III. ütem | B67: =SUM(T61:AC61) -> 0 | C67: =C65*10 -> 0 | D67: Fejlesztési díj (2027-2036)
B70: Jelenleg beruházási igény nem ismert, nincs rendelkezésre álló forrás beruházásra.

Sheet Milejszeg
A1: Gördülő fejlesztési terv a 2022 - 2036 időszakra
A2: BERUHÁZÁSOK ÖSSZEFOGLALÓ TÁBLÁZATA
A3: A tervet benyújtó szervezet megnevezése: | K3: MILEJSZEG | R3: ellátásért felelős / ellátásért felelősök képviselője / víziközmű-szolgáltató *
A4: Víziközmű-szolgáltató megnevezése: | K4: ÉSZAK ZALAI VÍZ- ÉS CSATORNAMŰ ZÁRTKÖRŰEN MŰKÖDŐ RÉSZVÉNYTÁRSASÁG
A5: Víziközmű-szolgáltatási ágazat megnevezése: | K5: IVÓVÍZ ÁGAZAT
A6: Véleményeltérést megfogalmazó érintett fél megnevezése:
A7: Víziközmű-rendszer kódja: ** | K7: 11-32054-1-025-01-14 | R7: Zalaegerszeg-IV
A8: I. Felszín alatti vízkivétel
A9: Fontossági sorrend | B9: Felujítás és pótlás megnevezése | E9: Műszaki állapot felmérés, szükségességi indoklás | H9: Vízjogi létesítési/elvi engedély száma | I9: Az érintett ellátásért felelős(ök) megnevezése | J9: Tervezett nettó költség | K9: Forrás 2022 évre | L9: Megvalósítás időtartama | N9: Tervezett időtáv | O9: A beruházás ütemezése a tervezési időszak évei szerint
E10: Jelenlegi műszaki állapot | F10: Feladat szükségessége | G10: Megvalósítást követő várható műszaki állapot | J10: (eFt) | L10: Kezdés | M10: Befejezés | N10: (rövid / közép / hosszú) | O10: 1 | P10: 2 | Q10: 3 | R10: 4 | S10: 5 | T10: 6 | U10: 7 | V10: 8 | W10: 9 | X10: 10 | Y10: 11 | Z10: 12 | AA10: 13 | AB10: 14 | AC10: 15
B11: szakág | C11: Helyszín | D11: beruházás megnevezése
B13: MÉLYFÚRÁSÚ KÚT, HAGYOMÁNYOS ÁTMÉRŐVEL
B14: Épület, építmény
B16: Gép, berendezés
B18: Irányítástechnika, energiaellátás
B20: Összesen: | J20: =SUM(J12:J19) -> 0
A21: III. Vízműtelep és vízkezelő létesítmények
C22: Helyszín | D22: beruházás megnevezése
B23: VÍZMŰTELEP
B24: Épület, építmény
B26: Gép, berendezés
B28: Irányítástechnika, energiaellátás
B30: VÍZKEZELŐ LÉTESÍTMÉNYEK
B31: Épület, építmény
B33: Gép, berendezés
B35: Irányítástechnika, energiaellátás
B37: Összesen | J37: =SUM(J23:J36) -> 0
A38: IV. Vízelosztás
C39: Helyszín | D39: beruházás megnevezése
B40: IVÓVÍZHÁLÓZAT
B41: Épület, építmény
B43: Gép, berendezés
B45: Irányítástechnika, energiaellátás
B47: VÍZTÁROLÓK
B48: Épület, építmény
B50: Gép, berendezés
B52: Irányítástechnika, energiaellátás
B54: NYOMÁSFOKOZÓK
B55: Épület, építmény
B57: Gép, berendezés
B59: Irányítástechnika, energiaellátás
B61: Összesen: | J61: =SUM(J40:J60) -> 0 | K61: 0 | O61: =SUM(O12:O60) -> 0 | P61: =SUM(P12:P60) -> 0 | Q61: =SUM(Q12:Q60) -> 0 | R61: =SUM(R12:R60) -> 0 | S61: =SUM(S12:S60) -> 0 | T61: =SUM(T12:T60) -> 0 | U61: =SUM(U12:U60) -> 0 | V61: =SUM(V12:V60) -> 0 | ... AC61: =SUM(AC12:AC60) -> 0
B64: Tervezett feladatok nettó költsége a teljes ütem tekintetében (eFt) | C64: Rendelkezésre álló források számszerűsített értéke a teljes ütem tekintetében (eFt) | D64: Forrás megnevezése a teljes ütem tekintetében
A65: I. ütem | B65: =SUM(O61) -> 0 | C65: =K61 -> 0 | D65: Fejlesztési díj (2022)
A66: II. ütem | B66: =SUM(P61:S61) -> 0 | C66: =C65*4 -> 0 | D66: Fejlesztési díj (2023-2026)
A67: III. ütem | B67: =SUM(T61:AC61) -> 0 | C67: =C65*10 -> 0 | D67: Fejlesztési díj (2027-2036)
B70: Jelenleg beruházási igény nem ismert, nincs rendelkezésre álló forrás beruházásra.

Sheet Nagykutas
A1: Gördülő fejlesztési terv a 2022 - 2036 időszakra
A2: BERUHÁZÁSOK ÖSSZEFOGLALÓ TÁBLÁZATA
A3: A tervet benyújtó szervezet megnevezése: | K3: NAGYKUTAS | R3: ellátásért felelős / ellátásért felelősök képviselője / víziközmű-szolgáltató *
A4: Víziközmű-szolgáltató megnevezése: | K4: ÉSZAK ZALAI VÍZ- ÉS CSATORNAMŰ ZÁRTKÖRŰEN MŰKÖDŐ RÉSZVÉNYTÁRSASÁG
A5: Víziközmű-szolgáltatási ágazat megnevezése: | K5: IVÓVÍZ ÁGAZAT
A6: Véleményeltérést megfogalmazó érintett fél megnevezése:
A7: Víziközmű-rendszer kódja: ** | K7: 11-32054-1-025-01-14 | R7: Zalaegerszeg-IV
A8: I. Felszín alatti vízkivétel
A9: Fontossági sorrend | B9: Felujítás és pótlás megnevezése | E9: Műszaki állapot felmérés, szükségességi indoklás | H9: Vízjogi létesítési/elvi engedély száma | I9: Az érintett ellátásért felelős(ök) megnevezése | J9: Tervezett nettó költség | K9: Forrás 2022 évre | L9: Megvalósítás időtartama | N9: Tervezett időtáv | O9: A beruházás ütemezése a tervezési időszak évei szerint
E10: Jelenlegi műszaki állapot | F10: Feladat szükségessége | G10: Megvalósítást követő várható műszaki állapot | J10: (eFt) | L10: Kezdés | M10: Befejezés | N10: (rövid / közép / hosszú) | O10: 1 | P10: 2 | Q10: 3 | R10: 4 | S10: 5 | T10: 6 | U10: 7 | V10: 8 | W10: 9 | X10: 10 | Y10: 11 | Z10: 12 | AA10: 13 | AB10: 14 | AC10: 15
B11: szakág | C11: Helyszín | D11: beruházás megnevezése
B13: MÉLYFÚRÁSÚ KÚT, HAGYOMÁNYOS ÁTMÉRŐVEL
B14: Épület, építmény
B16: Gép, berendezés
B18: Irányítástechnika, energiaellátás
B20: Összesen: | J20: =SUM(J12:J18) -> 0
A21: III. Vízműtelep és vízkezelő létesítmények
C22: Helyszín | D22: beruházás megnevezése
B23: VÍZMŰTELEP
B24: Épület, építmény
B26: Gép, berendezés
B28: Irányítástechnika, energiaellátás
B30: VÍZKEZELŐ LÉTESÍTMÉNYEK
B31: Épület, építmény
B33: Gép, berendezés
B35: Irányítástechnika, energiaellátás
B37: Összesen | J37: =SUM(J23:J36) -> 0
A38: IV. Vízelosztás
C39: Helyszín | D39: beruházás megnevezése
B40: IVÓVÍZHÁLÓZAT
B41: Épület, építmény
B43: Gép, berendezés
B45: Irányítástechnika, energiaellátás
B47: VÍZTÁROLÓK
B48: Épület, építmény
B50: Gép, berendezés
B52: Irányítástechnika, energiaellátás
B54: NYOMÁSFOKOZÓK
B55: Épület, építmény
B57: Gép, berendezés
B59: Irányítástechnika, energiaellátás
B61: Összesen: | J61: =SUM(J40:J60) -> 0 | K61: =SUM(C65) -> 0 | O61: =SUM(O12:O60) -> 0 | P61: =SUM(P12:P60) -> 0 | Q61: =SUM(Q12:Q60) -> 0 | R61: =SUM(R12:R60) -> 0 | S61: =SUM(S12:S60) -> 0 | T61: =SUM(T12:T60) -> 0 | U61: =SUM(U12:U60) -> 0 | V61: =SUM(V12:V60) -> 0 | ... AC61: =SUM(AC12:AC60) -> 0
B64: Tervezett feladatok nettó költsége a teljes ütem tekintetében (eFt) | C64: Rendelkezésre álló források számszerűsített értéke a teljes ütem tekintetében (eFt) | D64: Forrás megnevezése a teljes ütem tekintetében
A65: I. ütem | B65: =SUM(O61) -> 0 | C65: 0 | D65: Fejlesztési díj (2022)
A66: II. ütem | B66: =SUM(P61:S61) -> 0 | C66: 0 | D66: Fejlesztési díj (2023-2026)
A67: III. ütem | B67: =SUM(T61:AC61) -> 0 | C67: 0 | D67: Fejlesztési díj (2027-2036)

Sheet Nagypáli
A1: Gördülő fejlesztési terv a 2022 - 2036 időszakra
A2: BERUHÁZÁSOK ÖSSZEFOGLALÓ TÁBLÁZATA
A3: A tervet benyújtó szervezet megnevezése: | K3: NAGYPÁLI | R3: ellátásért felelős / ellátásért felelősök képviselője / víziközmű-szolgáltató *
A4: Víziközmű-szolgáltató megnevezése: | K4: ÉSZAK ZALAI VÍZ- ÉS CSATORNAMŰ ZÁRTKÖRŰEN MŰKÖDŐ RÉSZVÉNYTÁRSASÁG
A5: Víziközmű-szolgáltatási ágazat megnevezése: | K5: IVÓVÍZ ÁGAZAT
A6: Véleményeltérést megfogalmazó érintett fél megnevezése:
A7: Víziközmű-rendszer kódja: ** | K7: 11-32054-1-025-01-14 | R7: Zalaegerszeg-IV
A8: I. Felszín alatti vízkivétel
A9: Fontossági sorrend | B9: Felujítás és pótlás megnevezése | E9: Műszaki állapot felmérés, szükségességi indoklás | H9: Vízjogi létesítési/elvi engedély száma | I9: Az érintett ellátásért felelős(ök) megnevezése | J9: Tervezett nettó költség | K9: Forrás 2022 évre | L9: Megvalósítás időtartama | N9: Tervezett időtáv | O9: A beruházás ütemezése a tervezési időszak évei szerint
E10: Jelenlegi műszaki állapot | F10: Feladat szükségessége | G10: Megvalósítást követő várható műszaki állapot | J10: (eFt) | L10: Kezdés | M10: Befejezés | N10: (rövid / közép / hosszú) | O10: 1 | P10: 2 | Q10: 3 | R10: 4 | S10: 5 | T10: 6 | U10: 7 | V10: 8 | W10: 9 | X10: 10 | Y10: 11 | Z10: 12 | AA10: 13 | AB10: 14 | AC10: 15
B11: szakág | C11: Helyszín | D11: beruházás megnevezése
B13: MÉLYFÚRÁSÚ KÚT, HAGYOMÁNYOS ÁTMÉRŐVEL
B14: Épület, építmény
B16: Gép, berendezés
B18: Irányítástechnika, energiaellátás
B20: Összesen: | J20: =SUM(J12:J19) -> 0
A21: III. Vízműtelep és vízkezelő létesítmények
C22: Helyszín | D22: beruházás megnevezése
B23: VÍZMŰTELEP
B24: Épület, építmény
B26: Gép, berendezés
B28: Irányítástechnika, energiaellátás
B30: VÍZKEZELŐ LÉTESÍTMÉNYEK
B31: Épület, építmény
B33: Gép, berendezés
B35: Irányítástechnika, energiaellátás
B37: Összesen | J37: =SUM(J23:J36) -> 0
A38: IV. Vízelosztás
C39: Helyszín | D39: beruházás megnevezése
B40: IVÓVÍZHÁLÓZAT
B41: Épület, építmény
B43: Gép, berendezés
B45: Irányítástechnika, energiaellátás
B47: VÍZTÁROLÓK
B48: Épület, építmény
B50: Gép, berendezés
B52: Irányítástechnika, energiaellátás
B54: NYOMÁSFOKOZÓK
B55: Épület, építmény
B57: Gép, berendezés
B59: Irányítástechnika, energiaellátás
B61: Összesen: | J61: =SUM(J40:J60) -> 0 | K61: 0 | O61: =SUM(O12:O60) -> 0 | P61: =SUM(P11:P60) -> 0 | Q61: =SUM(Q11:Q60) -> 0 | R61: =SUM(R11:R60) -> 0 | S61: =SUM(S11:S60) -> 0 | T61: =SUM(T11:T60) -> 0 | U61: =SUM(U11:U60) -> 0 | V61: =SUM(V11:V60) -> 0 | W61: =SUM(W11:W60) -> 0 | ... AC61: =SUM(AC11:AC60) -> 0
B64: Tervezett feladatok nettó költsége a teljes ütem tekintetében (eFt) | C64: Rendelkezésre álló források számszerűsített értéke a teljes ütem tekintetében (eFt) | D64: Forrás megnevezése a teljes ütem tekintetében
A65: I. ütem | B65: =SUM(O61) -> 0 | C65: =K61 -> 0 | D65: Fejlesztési díj (2022)
A66: II. ütem | B66: =SUM(P61:S61) -> 0 | C66: =C65*4 -> 0 | D66: Fejlesztési díj (2023-2026)
A67: III. ütem | B67: =SUM(T61:AC61) -> 0 | C67: =C65*10 -> 0 | D67: Fejlesztési díj (2027-2036)
B70: Jelenleg beruházási igény nem ismert, nincs rendelkezésre álló forrás beruházásra.

Sheet Németfalu
A1: Gördülő fejlesztési terv a 2022 - 2036 időszakra
A2: BERUHÁZÁSOK ÖSSZEFOGLALÓ TÁBLÁZATA
A3: A tervet benyújtó szervezet megnevezése: | K3: NÉMETFALU | R3: ellátásért felelős / ellátásért felelősök képviselője / víziközmű-szolgáltató *
A4: Víziközmű-szolgáltató megnevezése: | K4: ÉSZAK ZALAI VÍZ- ÉS CSATORNAMŰ ZÁRTKÖRŰEN MŰKÖDŐ RÉSZVÉNYTÁRSASÁG
A5: Víziközmű-szolgáltatási ágazat megnevezése: | K5: IVÓVÍZ ÁGAZAT
A6: Véleményeltérést megfogalmazó érintett fél megnevezése:
A7: Víziközmű-rendszer kódja: ** | K7: 11-32054-1-025-01-14 | R7: Zalaegerszeg-IV
A8: I. Felszín alatti vízkivétel
A9: Fontossági sorrend | B9: Felujítás és pótlás megnevezése | E9: Műszaki állapot felmérés, szükségességi indoklás | H9: Vízjogi létesítési/elvi engedély száma | I9: Az érintett ellátásért felelős(ök) megnevezése | J9: Tervezett nettó költség | K9: Forrás 2022 évre | L9: Megvalósítás időtartama | N9: Tervezett időtáv | O9: A beruházás ütemezése a tervezési időszak évei szerint
E10: Jelenlegi műszaki állapot | F10: Feladat szükségessége | G10: Megvalósítást követő várható műszaki állapot | J10: (eFt) | L10: Kezdés | M10: Befejezés | N10: (rövid / közép / hosszú) | O10: 1 | P10: 2 | Q10: 3 | R10: 4 | S10: 5 | T10: 6 | U10: 7 | V10: 8 | W10: 9 | X10: 10 | Y10: 11 | Z10: 12 | AA10: 13 | AB10: 14 | AC10: 15
B11: szakág | C11: Helyszín | D11: beruházás megnevezése
B13: MÉLYFÚRÁSÚ KÚT, HAGYOMÁNYOS ÁTMÉRŐVEL
B14: Épület, építmény
B16: Gép, berendezés
B18: Irányítástechnika, energiaellátás
B20: Összesen: | J20: =SUM(J12:J19) -> 0
A21: III. Vízműtelep és vízkezelő létesítmények
C22: Helyszín | D22: beruházás megnevezése
B23: VÍZMŰTELEP
B24: Épület, építmény
B26: Gép, berendezés
B28: Irányítástechnika, energiaellátás
B30: VÍZKEZELŐ LÉTESÍTMÉNYEK
B31: Épület, építmény
B33: Gép, berendezés
B35: Irányítástechnika, energiaellátás
B37: Összesen | J37: =SUM(J23:J36) -> 0
A38: IV. Vízelosztás
C39: Helyszín | D39: beruházás megnevezése
B40: IVÓVÍZHÁLÓZAT
B41: Épület, építmény
B43: Gép, berendezés
B45: Irányítástechnika, energiaellátás
B47: VÍZTÁROLÓK
B48: Épület, építmény
B50: Gép, berendezés
B52: Irányítástechnika, energiaellátás
B54: NYOMÁSFOKOZÓK
B55: Épület, építmény
B57: Gép, berendezés
B59: Irányítástechnika, energiaellátás
B61: Összesen: | J61: =SUM(J40:J60) -> 0 | O61: =SUM(O12:O60) -> 0 | P61: =SUM(P12:P60) -> 0 | Q61: =SUM(Q12:Q60) -> 0 | R61: =SUM(R12:R60) -> 0 | S61: =SUM(S12:S60) -> 0 | T61: =SUM(T12:T60) -> 0 | U61: =SUM(U12:U60) -> 0 | V61: =SUM(V12:V60) -> 0 | ... AC61: =SUM(AC12:AC60) -> 0
B64: Tervezett feladatok nettó költsége a teljes ütem tekintetében (eFt) | C64: Rendelkezésre álló források számszerűsített értéke a teljes ütem tekintetében (eFt) | D64: Forrás megnevezése a teljes ütem tekintetében
A65: I. ütem | B65: =SUM(O61) -> 0 | C65: 0 | D65: Fejlesztési díj (2022)
A66: II. ütem | B66: =SUM(P61:S61) -> 0 | C66: 0 | D66: Fejlesztési díj (2023-2026)
A67: III. ütem | B67: =SUM(T61:AC61) -> 0 | C67: 0 | D67: Fejlesztési díj (2027-2036)
B70: Jelenleg beruházási igény nem ismert, nincs rendelkezésre álló forrás beruházásra.

Sheet Pálfiszeg
A1: Gördülő fejlesztési terv a 2022 - 2036 időszakra
A2: BERUHÁZÁSOK ÖSSZEFOGLALÓ TÁBLÁZATA
A3: A tervet benyújtó szervezet megnevezése: | K3: PÁLFISZEG | R3: ellátásért felelős / ellátásért felelősök képviselője / víziközmű-szolgáltató *
A4: Víziközmű-szolgáltató megnevezése: | K4: ÉSZAK ZALAI VÍZ- ÉS CSATORNAMŰ ZÁRTKÖRŰEN MŰKÖDŐ RÉSZVÉNYTÁRSASÁG
A5: Víziközmű-szolgáltatási ágazat megnevezése: | K5: IVÓVÍZ ÁGAZAT
A6: Véleményeltérést megfogalmazó érintett fél megnevezése:
A7: Víziközmű-rendszer kódja: ** | K7: 11-32054-1-025-01-14 | R7: Zalaegerszeg-IV
A8: I. Felszín alatti vízkivétel
A9: Fontossági sorrend | B9: Felujítás és pótlás megnevezése | E9: Műszaki állapot felmérés, szükségességi indoklás | H9: Vízjogi létesítési/elvi engedély száma | I9: Az érintett ellátásért felelős(ök) megnevezése | J9: Tervezett nettó költség | K9: Forrás 2022 évre | L9: Megvalósítás időtartama | N9: Tervezett időtáv | O9: A beruházás ütemezése a tervezési időszak évei szerint
E10: Jelenlegi műszaki állapot | F10: Feladat szükségessége | G10: Megvalósítást követő várható műszaki állapot | J10: (eFt) | L10: Kezdés | M10: Befejezés | N10: (rövid / közép / hosszú) | O10: 1 | P10: 2 | Q10: 3 | R10: 4 | S10: 5 | T10: 6 | U10: 7 | V10: 8 | W10: 9 | X10: 10 | Y10: 11 | Z10: 12 | AA10: 13 | AB10: 14 | AC10: 15
B11: szakág | C11: Helyszín | D11: beruházás megnevezése
B13: MÉLYFÚRÁSÚ KÚT, HAGYOMÁNYOS ÁTMÉRŐVEL
B14: Épület, építmény
B16: Gép, berendezés
B18: Irányítástechnika, energiaellátás
B20: Összesen: | J20: =SUM(J12:J19) -> 0
A21: III. Vízműtelep és vízkezelő létesítmények
C22: Helyszín | D22: beruházás megnevezése
B23: VÍZMŰTELEP
B24: Épület, építmény
B26: Gép, berendezés
B28: Irányítástechnika, energiaellátás
B30: VÍZKEZELŐ LÉTESÍTMÉNYEK
B31: Épület, építmény
B33: Gép, berendezés
B35: Irányítástechnika, energiaellátás
B37: Összesen | J37: =SUM(J23:J36) -> 0
A38: IV. Vízelosztás
C39: Helyszín | D39: beruházás megnevezése
B40: IVÓVÍZHÁLÓZAT
B41: Épület, építmény
B43: Gép, berendezés
B45: Irányítástechnika, energiaellátás
B47: VÍZTÁROLÓK
B48: Épület, építmény
B50: Gép, berendezés
B52: Irányítástechnika, energiaellátás
B54: NYOMÁSFOKOZÓK
B55: Épület, építmény
B57: Gép, berendezés
B59: Irányítástechnika, energiaellátás
B61: Összesen: | J61: =SUM(J40:J60) -> 0 | K61: 0 | O61: =SUM(O12:O60) -> 0 | P61: =SUM(P12:P60) -> 0 | Q61: =SUM(Q12:Q60) -> 0 | R61: =SUM(R12:R60) -> 0 | S61: =SUM(S12:S60) -> 0 | T61: =SUM(T12:T60) -> 0 | U61: =SUM(U12:U60) -> 0 | V61: =SUM(V12:V60) -> 0 | ... AC61: =SUM(AC12:AC60) -> 0
B64: Tervezett feladatok nettó költsége a teljes ütem tekintetében (eFt) | C64: Rendelkezésre álló források számszerűsített értéke a teljes ütem tekintetében (eFt) | D64: Forrás megnevezése a teljes ütem tekintetében
A65: I. ütem | B65: =SUM(O61) -> 0 | C65: =K61 -> 0 | D65: Fejlesztési díj (2022)
A66: II. ütem | B66: =SUM(P61:S61) -> 0 | C66: =C65*4 -> 0 | D66: Fejlesztési díj (2023-2026)
A67: III. ütem | B67: =SUM(T61:AC61) -> 0 | C67: =C65*10 -> 0 | D67: Fejlesztési díj (2027-2036)
B70: Jelenleg beruházási igény nem ismert, nincs rendelkezésre álló forrás beruházásra.

Sheet Sárhida
A1: Gördülő fejlesztési terv a 2022 - 2036 időszakra
A2: BERUHÁZÁSOK ÖSSZEFOGLALÓ TÁBLÁZATA
A3: A tervet benyújtó szervezet megnevezése: | K3: SÁRHIDA | R3: ellátásért felelős / ellátásért felelősök képviselője / víziközmű-szolgáltató *
A4: Víziközmű-szolgáltató megnevezése: | K4: ÉSZAK ZALAI VÍZ- ÉS CSATORNAMŰ ZÁRTKÖRŰEN MŰKÖDŐ RÉSZVÉNYTÁRSASÁG
A5: Víziközmű-szolgáltatási ágazat megnevezése: | K5: IVÓVÍZ ÁGAZAT
A6: Véleményeltérést megfogalmazó érintett fél megnevezése:
A7: Víziközmű-rendszer kódja: ** | K7: 11-32054-1-025-01-14 | R7: Zalaegerszeg-IV
A8: I. Felszín alatti vízkivétel
A9: Fontossági sorrend | B9: Felujítás és pótlás megnevezése | E9: Műszaki állapot felmérés, szükségességi indoklás | H9: Vízjogi létesítési/elvi engedély száma | I9: Az érintett ellátásért felelős(ök) megnevezése | J9: Tervezett nettó költség | K9: Forrás 2022 évre | L9: Megvalósítás időtartama | N9: Tervezett időtáv | O9: A beruházás ütemezése a tervezési időszak évei szerint
E10: Jelenlegi műszaki állapot | F10: Feladat szükségessége | G10: Megvalósítást követő várható műszaki állapot | J10: (eFt) | L10: Kezdés | M10: Befejezés | N10: (rövid / közép / hosszú) | O10: 1 | P10: 2 | Q10: 3 | R10: 4 | S10: 5 | T10: 6 | U10: 7 | V10: 8 | W10: 9 | X10: 10 | Y10: 11 | Z10: 12 | AA10: 13 | AB10: 14 | AC10: 15
B11: szakág | C11: Helyszín | D11: beruházás megnevezése
B13: MÉLYFÚRÁSÚ KÚT, HAGYOMÁNYOS ÁTMÉRŐVEL
B14: Épület, építmény
B16: Gép, berendezés
B18: Irányítástechnika, energiaellátás
B20: Összesen: | J20: =SUM(J12:J18) -> 0
A21: III. Vízműtelep és vízkezelő létesítmények
C22: Helyszín | D22: beruházás megnevezése
B23: VÍZMŰTELEP
B24: Épület, építmény
B26: Gép, berendezés
B28: Irányítástechnika, energiaellátás
B30: VÍZKEZELŐ LÉTESÍTMÉNYEK
B31: Épület, építmény
B33: Gép, berendezés
B35: Irányítástechnika, energiaellátás
B37: Összesen | J37: =SUM(J23:J36) -> 0
A38: IV. Vízelosztás
C39: Helyszín | D39: beruházás megnevezése
B40: IVÓVÍZHÁLÓZAT
B41: Épület, építmény
B43: Gép, berendezés
B45: Irányítástechnika, energiaellátás
B47: VÍZTÁROLÓK
B48: Épület, építmény
B50: Gép, berendezés
B52: Irányítástechnika, energiaellátás
B54: NYOMÁSFOKOZÓK
B55: Épület, építmény
B57: Gép, berendezés
B59: Irányítástechnika, energiaellátás
B61: Összesen: | J61: =SUM(J40:J60) -> 0 | K61: =SUM(C65) -> 0 | O61: =SUM(O12:O60) -> 0 | P61: =SUM(P12:P60) -> 0 | Q61: =SUM(Q12:Q60) -> 0 | R61: =SUM(R12:R60) -> 0 | S61: =SUM(S12:S60) -> 0 | T61: =SUM(T12:T60) -> 0 | U61: =SUM(U12:U60) -> 0 | V61: =SUM(V12:V60) -> 0 | ... AC61: =SUM(AC12:AC60) -> 0
B64: Tervezett feladatok nettó költsége a teljes ütem tekintetében (eFt) | C64: Rendelkezésre álló források számszerűsített értéke a teljes ütem tekintetében (eFt) | D64: Forrás megnevezése a teljes ütem tekintetében
A65: I. ütem | B65: =SUM(O61) -> 0 | C65: 0 | D65: Fejlesztési díj (2022)
A66: II. ütem | B66: =SUM(P61:S61) -> 0 | C66: =C65*4 -> 0 | D66: Fejlesztési díj (2023-2026)
A67: III. ütem | B67: =SUM(T61:AC61) -> 0 | C67: =C65*10 -> 0 | D67: Fejlesztési díj (2027-2036)
B70: Jelenleg beruházási igény nem ismert, nincs rendelkezésre álló forrás beruházásra.

Sheet Teskánd
A1: Gördülő fejlesztési terv a 2022 - 2036 időszakra
A2: BERUHÁZÁSOK ÖSSZEFOGLALÓ TÁBLÁZATA
A3: A tervet benyújtó szervezet megnevezése: | K3: TESKÁND | R3: ellátásért felelős / ellátásért felelősök képviselője / víziközmű-szolgáltató *
A4: Víziközmű-szolgáltató megnevezése: | K4: ÉSZAK ZALAI VÍZ- ÉS CSATORNAMŰ ZÁRTKÖRŰEN MŰKÖDŐ RÉSZVÉNYTÁRSASÁG
A5: Víziközmű-szolgáltatási ágazat megnevezése: | K5: IVÓVÍZ ÁGAZAT
A6: Véleményeltérést megfogalmazó érintett fél megnevezése:
A7: Víziközmű-rendszer kódja: ** | K7: 11-32054-1-025-01-14 | R7: Zalaegerszeg-IV
A8: I. Felszín alatti vízkivétel
A9: Fontossági sorrend | B9: Felujítás és pótlás megnevezése | E9: Műszaki állapot felmérés, szükségességi indoklás | H9: Vízjogi létesítési/elvi engedély száma | I9: Az érintett ellátásért felelős(ök) megnevezése | J9: Tervezett nettó költség | K9: Forrás 2022 évre | L9: Megvalósítás időtartama | N9: Tervezett időtáv | O9: A beruházás ütemezése a tervezési időszak évei szerint
E10: Jelenlegi műszaki állapot | F10: Feladat szükségessége | G10: Megvalósítást követő várható műszaki állapot | J10: (eFt) | L10: Kezdés | M10: Befejezés | N10: (rövid / közép / hosszú) | O10: 1 | P10: 2 | Q10: 3 | R10: 4 | S10: 5 | T10: 6 | U10: 7 | V10: 8 | W10: 9 | X10: 10 | Y10: 11 | Z10: 12 | AA10: 13 | AB10: 14 | AC10: 15
B11: szakág | C11: Helyszín | D11: beruházás megnevezése
B13: MÉLYFÚRÁSÚ KÚT, HAGYOMÁNYOS ÁTMÉRŐVEL
B14: Épület, építmény
B16: Gép, berendezés
B18: Irányítástechnika, energiaellátás
B20: Összesen: | J20: =SUM(J12:J18) -> 0
A21: III. Vízműtelep és vízkezelő létesítmények
C22: Helyszín | D22: beruházás megnevezése
B23: VÍZMŰTELEP
B24: Épület, építmény
B26: Gép, berendezés
B28: Irányítástechnika, energiaellátás
B30: VÍZKEZELŐ LÉTESÍTMÉNYEK
B31: Épület, építmény
B33: Gép, berendezés
B35: Irányítástechnika, energiaellátás
B37: Összesen | J37: =SUM(J23:J36) -> 0
A38: IV. Vízelosztás
C39: Helyszín | D39: beruházás megnevezése
B40: IVÓVÍZHÁLÓZAT
B41: Épület, építmény
B43: Gép, berendezés
B45: Irányítástechnika, energiaellátás
B47: VÍZTÁROLÓK
B48: Épület, építmény
B50: Gép, berendezés
B52: Irányítástechnika, energiaellátás
B54: NYOMÁSFOKOZÓK
B55: Épület, építmény
B57: Gép, berendezés
B59: Irányítástechnika, energiaellátás
B61: Összesen: | J61: =SUM(J40:J60) -> 0 | K61: 0 | O61: =SUM(O12:O60) -> 0 | P61: =SUM(P12:P60) -> 0 | Q61: =SUM(Q12:Q60) -> 0 | R61: =SUM(R12:R60) -> 0 | S61: =SUM(S12:S60) -> 0 | T61: =SUM(T12:T60) -> 0 | U61: =SUM(U12:U60) -> 0 | V61: =SUM(V12:V60) -> 0 | ... AC61: =SUM(AC12:AC60) -> 0
B64: Tervezett feladatok nettó költsége a teljes ütem tekintetében (eFt) | C64: Rendelkezésre álló források számszerűsített értéke a teljes ütem tekintetében (eFt) | D64: Forrás megnevezése a teljes ütem tekintetében
A65: I. ütem | B65: =SUM(O61) -> 0 | C65: =K61 -> 0 | D65: Fejlesztési díj (2022)
A66: II. ütem | B66: =SUM(P61:S61) -> 0 | C66: =C65*4 -> 0 | D66: Fejlesztési díj (2023-2026)
A67: III. ütem | B67: =SUM(T61:AC61) -> 0 | C67: =C65*10 -> 0 | D67: Fejlesztési díj (2027-2036)
B70: Jelenleg beruházási igény nem ismert, nincs rendelkezésre álló forrás beruházásra.

Sheet Zalaboldogfa
A1: Gördülő fejlesztési terv a 2022 - 2036 időszakra
A2: BERUHÁZÁSOK ÖSSZEFOGLALÓ TÁBLÁZATA
A3: A tervet benyújtó szervezet megnevezése: | K3: ZALABOLDOGFA | R3: ellátásért felelős / ellátásért felelősök képviselője / víziközmű-szolgáltató *
A4: Víziközmű-szolgáltató megnevezése: | K4: ÉSZAK ZALAI VÍZ- ÉS CSATORNAMŰ ZÁRTKÖRŰEN MŰKÖDŐ RÉSZVÉNYTÁRSASÁG
A5: Víziközmű-szolgáltatási ágazat megnevezése: | K5: IVÓVÍZ ÁGAZAT
A6: Véleményeltérést megfogalmazó érintett fél megnevezése:
A7: Víziközmű-rendszer kódja: ** | K7: 11-32054-1-025-01-14 | R7: Zalaegerszeg-IV
A8: I. Felszín alatti vízkivétel
A9: Fontossági sorrend | B9: Felujítás és pótlás megnevezése | E9: Műszaki állapot felmérés, szükségességi indoklás | H9: Vízjogi létesítési/elvi engedély száma | I9: Az érintett ellátásért felelős(ök) megnevezése | J9: Tervezett nettó költség | K9: Forrás 2022 évre | L9: Megvalósítás időtartama | N9: Tervezett időtáv | O9: A beruházás ütemezése a tervezési időszak évei szerint
E10: Jelenlegi műszaki állapot | F10: Feladat szükségessége | G10: Megvalósítást követő várható műszaki állapot | J10: (eFt) | L10: Kezdés | M10: Befejezés | N10: (rövid / közép / hosszú) | O10: 1 | P10: 2 | Q10: 3 | R10: 4 | S10: 5 | T10: 6 | U10: 7 | V10: 8 | W10: 9 | X10: 10 | Y10: 11 | Z10: 12 | AA10: 13 | AB10: 14 | AC10: 15
B11: szakág | C11: Helyszín | D11: beruházás megnevezése
B13: MÉLYFÚRÁSÚ KÚT, HAGYOMÁNYOS ÁTMÉRŐVEL
B14: Épület, építmény
B16: Gép, berendezés
B18: Irányítástechnika, energiaellátás
B20: Összesen: | J20: =SUM(J12:J19) -> 0
A21: III. Vízműtelep és vízkezelő létesítmények
C22: Helyszín | D22: beruházás megnevezése
B23: VÍZMŰTELEP
B24: Épület, építmény
B26: Gép, berendezés
B28: Irányítástechnika, energiaellátás
B30: VÍZKEZELŐ LÉTESÍTMÉNYEK
B31: Épület, építmény
B33: Gép, berendezés
B35: Irányítástechnika, energiaellátás
B37: Összesen | J37: =SUM(J23:J36) -> 0
A38: IV. Vízelosztás
C39: Helyszín | D39: beruházás megnevezése
B40: IVÓVÍZHÁLÓZAT
B41: Épület, építmény
B43: Gép, berendezés
B45: Irányítástechnika, energiaellátás
B47: VÍZTÁROLÓK
B48: Épület, építmény
B50: Gép, berendezés
B52: Irányítástechnika, energiaellátás
B54: NYOMÁSFOKOZÓK
B55: Épület, építmény
B57: Gép, berendezés
B59: Irányítástechnika, energiaellátás
B61: Összesen: | J61: =SUM(J40:J60) -> 0 | K61: 0 | O61: =SUM(O12:O60) -> 0 | P61: =SUM(P12:P60) -> 0 | Q61: =SUM(Q12:Q60) -> 0 | R61: =SUM(R12:R60) -> 0 | S61: =SUM(S12:S60) -> 0 | T61: =SUM(T12:T60) -> 0 | U61: =SUM(U12:U60) -> 0 | V61: =SUM(V12:V60) -> 0 | ... AC61: =SUM(AC12:AC60) -> 0
B64: Tervezett feladatok nettó költsége a teljes ütem tekintetében (eFt) | C64: Rendelkezésre álló források számszerűsített értéke a teljes ütem tekintetében (eFt) | D64: Forrás megnevezése a teljes ütem tekintetében
A65: I. ütem | B65: =SUM(O61) -> 0 | C65: =K61 -> 0 | D65: Fejlesztési díj (2022)
A66: II. ütem | B66: =SUM(P61:S61) -> 0 | C66: =C65*4 -> 0 | D66: Fejlesztési díj (2023-2026)
A67: III. ütem | B67: =SUM(T61:AC61) -> 0 | C67: =C65*10 -> 0 | D67: Fejlesztési díj (2027-2036)
B70: Jelenleg beruházási igény nem ismert, nincs rendelkezésre álló forrás beruházásra.

Sheet Zalaegerszeg
A1: Gördülő fejlesztési terv a 2022 - 2036 időszakra
A2: BERUHÁZÁSOK ÖSSZEFOGLALÓ TÁBLÁZATA
A3: A tervet benyújtó szervezet megnevezése: | K3: ZALAEGERSZEG | R3: ellátásért felelős / ellátásért felelősök képviselője / víziközmű-szolgáltató *
A4: Víziközmű-szolgáltató megnevezése: | K4: ÉSZAK ZALAI VÍZ- ÉS CSATORNAMŰ ZÁRTKÖRŰEN MŰKÖDŐ RÉSZVÉNYTÁRSASÁG
A5: Víziközmű-szolgáltatási ágazat megnevezése: | K5: IVÓVÍZ ÁGAZAT
A6: Véleményeltérést megfogalmazó érintett fél megnevezése:
A7: Víziközmű-rendszer kódja: ** | K7: 11-32054-1-025-01-14 | R7: ZALAEGERSZEG-IV
A8: I. Felszín alatti vízkivétel
A9: Fontossági sorrend | B9: Felujítás és pótlás megnevezése | E9: Műszaki állapot felmérés, szükségességi indoklás | H9: Vízjogi létesítési/elvi engedély száma | I9: Az érintett ellátásért felelős(ök) megnevezése | J9: Tervezett nettó költség | K9: Forrás 2022 évre | L9: Megvalósítás időtartama | N9: Tervezett időtáv | O9: A beruházás ütemezése a tervezési időszak évei szerint
E10: Jelenlegi műszaki állapot | F10: Feladat szükségessége | G10: Megvalósítást követő várható műszaki állapot | J10: (eFt) | L10: Kezdés | M10: Befejezés | N10: (rövid / közép / hosszú) | O10: 1 | P10: 2 | Q10: 3 | R10: 4 | S10: 5 | T10: 6 | U10: 7 | V10: 8 | W10: 9 | X10: 10 | Y10: 11 | Z10: 12 | AA10: 13 | AB10: 14 | AC10: 15
B11: szakág | C11: Helyszín | D11: beruházás megnevezése
B13: MÉLYFÚRÁSÚ KÚT, HAGYOMÁNYOS ÁTMÉRŐVEL
B14: Épület, építmény
B16: Gép, berendezés
B18: Irányítástechnika, energiaellátás
B20: Összesen: | J20: =SUM(J12:J18) -> 0
A21: III. Vízműtelep és vízkezelő létesítmények
C22: Helyszín | D22: beruházás megnevezése
B23: VÍZMŰTELEP
B24: Épület, építmény
B26: Gép, berendezés
B28: Irányítástechnika, energiaellátás
B30: VÍZKEZELŐ LÉTESÍTMÉNYEK
B31: Épület, építmény
B33: Gép, berendezés
A34: 3 | C34: É-i vízbázis és vízműtelep kiépítése | D34: ivóvízminőség javítása és vízellátásának fejlesztése | I34: Zalaegerszeg | J34: =SUM(O34:AC34) -> 1500000 | L34: 47849 | M34: 48213 | N34: hosszú | X34: 1500000
B35: Irányítástechnika, energiaellátás
B37: Összesen | J37: =SUM(J23:J36) -> 1500000
A38: IV. Vízelosztás
C39: Helyszín | D39: beruházás megnevezése
B40: IVÓVÍZHÁLÓZAT
B41: Épület, építmény
A42: 1 | C42: Zalaegerszeg | D42: műszaki tervezések | I42: Zalaegerszeg | J42: =SUM(O42:AC42) -> 2790 | L42: 44562 | M42: 44926 | N42: rövid | O42: 2790
B44: Irányítástechnika, energiaellátás
B46: VÍZTÁROLÓK
B47: Épület, építmény
B48: Gép, berendezés
B50: Irányítástechnika, energiaellátás
B52: NYOMÁSFOKOZÓK
B53: Épület, építmény
B54: Gép, berendezés
B56: Irányítástechnika, energiaellátás
B58: Összesen: | J58: =SUM(J20+J37+J42+#REF!+#REF!) -> #REF! | K58: =SUM(C62:C62) -> 45450 | O58: =SUM(O12:O57) -> 2790 | P58: =SUM(P12:P57) -> 0 | Q58: =SUM(Q12:Q57) -> 0 | R58: =SUM(R12:R57) -> 0 | S58: =SUM(S12:S57) -> 0 | T58: =SUM(T12:T57) -> 0 | U58: =SUM(U12:U57) -> 0 | V58: =SUM(V12:V57) -> 0 | ... AC58: =SUM(AC12:AC57) -> 0
O59: 2022 évre a fejlesztési forrás biztosított
B61: Tervezett feladatok nettó költsége a teljes ütem tekintetében (eFt) | C61: Rendelkezésre álló források számszerűsített értéke a teljes ütem tekintetében (eFt) | D61: Forrás megnevezése a teljes ütem tekintetében
A62: I. ütem | B62: =SUM(O58) -> 2790 | C62: 45450 | D62: KEHOP pályázati forrás
C63: 2790 | D63: 2021 évi ivóvíz használati díj
A64: II. ütem | B64: =SUM(P58:S58) -> 0 | C64: 11050 | D64: KEHOP pályázati forrás
A65: III. ütem | B65: =SUM(T58:AC58) -> 1500000 | C65: 1500000 | D65: KEHOP pályázati forrás

Sheet Zalaszentgyörgy
A1: Gördülő fejlesztési terv a 2022 - 2036 időszakra
A2: BERUHÁZÁSOK ÖSSZEFOGLALÓ TÁBLÁZATA
A3: A tervet benyújtó szervezet megnevezése: | K3: ZALASZENTGYÖRGY | R3: ellátásért felelős / ellátásért felelősök képviselője / víziközmű-szolgáltató *
A4: Víziközmű-szolgáltató megnevezése: | K4: ÉSZAK ZALAI VÍZ- ÉS CSATORNAMŰ ZÁRTKÖRŰEN MŰKÖDŐ RÉSZVÉNYTÁRSASÁG
A5: Víziközmű-szolgáltatási ágazat megnevezése: | K5: IVÓVÍZ ÁGAZAT
A6: Véleményeltérést megfogalmazó érintett fél megnevezése:
A7: Víziközmű-rendszer kódja: ** | K7: 11-32054-1-025-01-14 | R7: Zalaegerszeg-IV
A8: I. Felszín alatti vízkivétel
A9: Fontossági sorrend | B9: Felujítás és pótlás megnevezése | E9: Műszaki állapot felmérés, szükségességi indoklás | H9: Vízjogi létesítési/elvi engedély száma | I9: Az érintett ellátásért felelős(ök) megnevezése | J9: Tervezett nettó költség | K9: Forrás 2022 évre | L9: Megvalósítás időtartama | N9: Tervezett időtáv | O9: A beruházás ütemezése a tervezési időszak évei szerint
E10: Jelenlegi műszaki állapot | F10: Feladat szükségessége | G10: Megvalósítást követő várható műszaki állapot | J10: (eFt) | L10: Kezdés | M10: Befejezés | N10: (rövid / közép / hosszú) | O10: 1 | P10: 2 | Q10: 3 | R10: 4 | S10: 5 | T10: 6 | U10: 7 | V10: 8 | W10: 9 | X10: 10 | Y10: 11 | Z10: 12 | AA10: 13 | AB10: 14 | AC10: 15
B11: szakág | C11: Helyszín | D11: beruházás megnevezése
B13: MÉLYFÚRÁSÚ KÚT, HAGYOMÁNYOS ÁTMÉRŐVEL
B14: Épület, építmény
B16: Gép, berendezés
B18: Irányítástechnika, energiaellátás
B20: Összesen: | J20: =SUM(J12:J19) -> 0
A21: III. Vízműtelep és vízkezelő létesítmények
C22: Helyszín | D22: beruházás megnevezése
B23: VÍZMŰTELEP
B24: Épület, építmény
B26: Gép, berendezés
B28: Irányítástechnika, energiaellátás
B30: VÍZKEZELŐ LÉTESÍTMÉNYEK
B31: Épület, építmény
B33: Gép, berendezés
B35: Irányítástechnika, energiaellátás
B37: Összesen | J37: =SUM(J23:J36) -> 0
A38: IV. Vízelosztás
C39: Helyszín | D39: beruházás megnevezése
B40: IVÓVÍZHÁLÓZAT
B41: Épület, építmény
B43: Gép, berendezés
B45: Irányítástechnika, energiaellátás
B47: VÍZTÁROLÓK
B48: Épület, építmény
B50: Gép, berendezés
B52: Irányítástechnika, energiaellátás
B54: NYOMÁSFOKOZÓK
B55: Épület, építmény
B57: Gép, berendezés
B59: Irányítástechnika, energiaellátás
B61: Összesen: | J61: =SUM(J40:J60) -> 0 | K61: 0 | O61: =SUM(O12:O60) -> 0 | P61: =SUM(P12:P60) -> 0 | Q61: =SUM(Q12:Q60) -> 0 | R61: =SUM(R12:R60) -> 0 | S61: =SUM(S12:S60) -> 0 | T61: =SUM(T12:T60) -> 0 | U61: =SUM(U12:U60) -> 0 | V61: =SUM(V12:V60) -> 0 | ... AC61: =SUM(AC12:AC60) -> 0
B64: Tervezett feladatok nettó költsége a teljes ütem tekintetében (eFt) | C64: Rendelkezésre álló források számszerűsített értéke a teljes ütem tekintetében (eFt) | D64: Forrás megnevezése a teljes ütem tekintetében
A65: I. ütem | B65: =SUM(O61) -> 0 | C65: =K61 -> 0 | D65: Fejlesztési díj (2022)
A66: II. ütem | B66: =SUM(P61:S61) -> 0 | C66: =C65*4 -> 0 | D66: Fejlesztési díj (2023-2026)
A67: III. ütem | B67: =SUM(T61:AC61) -> 0 | C67: =C65*10 -> 0 | D67: Fejlesztési díj (2027-2036)
B70: Jelenleg beruházási igény nem ismert, nincs rendelkezésre álló forrás beruházásra.

Sheet VKR_összesítő
A1: Gördülő fejlesztési terv a 2022 - 2036 időszakra
A2: BERUHÁZÁSOK ÖSSZEFOGLALÓ TÁBLÁZATA
A3: A tervet benyújtó szervezet megnevezése: | K3: BABOSDÖBRÉTE, BOCFÖLDE, BÖDE, CSATÁR, HOTTÓ, KISKUTAS, NAGYKUTAS, SÁRHIDA, TESKÁND, ZALAEGERSZEG | R3: ellátásért felelős / ellátásért felelősök képviselője / víziközmű-szolgáltató *
A4: Víziközmű-szolgáltató megnevezése: | K4: ÉSZAK ZALAI VÍZ- ÉS CSATORNAMŰ ZÁRTKÖRŰEN MŰKÖDŐ RÉSZVÉNYTÁRSASÁG
A5: Víziközmű-szolgáltatási ágazat megnevezése: | K5: IVÓVÍZ ÁGAZAT
A6: Véleményeltérést megfogalmazó érintett fél megnevezése:
A7: Víziközmű-rendszer kódja: ** | K7: 11-32054-1-025-01-14 | R7: ZALAEGERSZEG-IV
A8: I. Felszín alatti vízkivétel
A9: Fontossági sorrend | B9: Felujítás és pótlás megnevezése | E9: Műszaki állapot felmérés, szükségességi indoklás | H9: Vízjogi létesítési/elvi engedély száma | I9: Az érintett ellátásért felelős(ök) megnevezése | J9: Tervezett nettó költség | K9: Forrás 2022 évre | L9: Megvalósítás időtartama | N9: Tervezett időtáv | O9: A beruházás ütemezése a tervezési időszak évei szerint
E10: Jelenlegi műszaki állapot | F10: Feladat szükségessége | G10: Megvalósítást követő várható műszaki állapot | J10: (eFt) | L10: Kezdés | M10: Befejezés | N10: (rövid / közép / hosszú) | O10: 1 | P10: 2 | Q10: 3 | R10: 4 | S10: 5 | T10: 6 | U10: 7 | V10: 8 | W10: 9 | X10: 10 | Y10: 11 | Z10: 12 | AA10: 13 | AB10: 14 | AC10: 15
B11: szakág | C11: Helyszín | D11: beruházás megnevezése
B13: MÉLYFÚRÁSÚ KÚT, HAGYOMÁNYOS ÁTMÉRŐVEL
B14: Épület, építmény
B16: Gép, berendezés
B18: Irányítástechnika, energiaellátás
B20: Összesen: | J20: =SUM(J13:J18) -> 0
A21: III. Vízműtelep és vízkezelő létesítmények
C22: Helyszín | D22: beruházás megnevezése
B23: VÍZMŰTELEP
B24: Épület, építmény
B26: Gép, berendezés
B28: Irányítástechnika, energiaellátás
B30: VÍZKEZELŐ LÉTESÍTMÉNYEK
B31: Épület, építmény
B33: Gép, berendezés
A34: =Zalaegerszeg!A34 -> 3 | C34: =Zalaegerszeg!C34 -> É-i vízbázis és vízműtelep kiépítése | D34: =Zalaegerszeg!D34 -> ivóvízminőség javítása és vízellátásának fejlesztése | I34: =Zalaegerszeg!I34 -> Zalaegerszeg | J34: =Zalaegerszeg!J34 -> 1500000 | L34: =Zalaegerszeg!L34 -> 47849 | M34: =Zalaegerszeg!M34 -> 48213 | N34: =Zalaegerszeg!N34 -> hosszú | X34: =Zalaegerszeg!X34 -> 1500000
B35: Irányítástechnika, energiaellátás
B37: Összesen | J37: =SUM(J23:J36) -> 1500000
A38: IV. Vízelosztás
C39: Helyszín | D39: beruházás megnevezése
B40: IVÓVÍZHÁLÓZAT
B41: Épület, építmény
A42: =Zalaegerszeg!A42 -> 1 | C42: =Zalaegerszeg!C42 -> Zalaegerszeg | D42: =Zalaegerszeg!D42 -> műszaki tervezések | I42: =Zalaegerszeg!I42 -> Zalaegerszeg | J42: =SUM(O42:AC42) -> 2790 | L42: =Zalaegerszeg!L42 -> 44562 | M42: =Zalaegerszeg!M42 -> 44926 | N42: =Zalaegerszeg!N42 -> rövid | O42: =Zalaegerszeg!O42 -> 2790
B44: Gép, berendezés
B46: Irányítástechnika, energiaellátás
B48: VÍZTÁROLÓK
B49: Épület, építmény
B51: Gép, berendezés
B53: Irányítástechnika, energiaellátás
B55: NYOMÁSFOKOZÓK
B56: Épület, építmény
B58: Gép, berendezés
B60: Irányítástechnika, energiaellátás
B62: Összesen: | J62: =SUM(J20+J37+J42) -> 1502790 | K62: =SUM(C66:C67) -> 48240 | O62: =SUM(O12:O61) -> 2790 | P62: =SUM(P12:P61) -> 0 | Q62: =SUM(Q12:Q61) -> 0 | R62: =SUM(R12:R61) -> 0 | S62: =SUM(S12:S61) -> 0 | T62: =SUM(T12:T61) -> 0 | U62: =SUM(U12:U61) -> 0 | V62: =SUM(V12:V61) -> 0 | ... AC62: =SUM(AC12:AC61) -> 0
K63: 2022 évre a forrás biztosított
B65: Tervezett feladatok nettó költsége a teljes ütem tekintetében (eFt) | C65: Rendelkezésre álló források számszerűsített értéke a teljes ütem tekintetében (eFt) | D65: Forrás megnevezése a teljes ütem tekintetében
A66: I. ütem | B66: =SUM(O62) -> 2790 | C66: =Zalaegerszeg!C62 -> 45450 | D66: KEHOP pályázati forrás
C67: =Zalaegerszeg!C63 -> 2790 | D67: 2021 évi ivóvíz használati díj
A68: II. ütem | B68: =SUM(P62:S62) -> 0 | C68: =Zalaegerszeg!C64 -> 11050 | D68: KEHOP pályázati forrás
A69: III. ütem | B69: =SUM(T62:AC62) -> 1500000 | C69: =Babosdöbréte!C67+Bagod!C67+Becsvölgye!C67+Bocfölde!C67+Boncodfölde!C67+Böde!C67+Csatár!C67+Csonkahegyhát!C67+Dobronhegy!C67+Hagyárosbörönd!C67+Hottó!C67+Kávás!C67+Kiskutas!C67+Kispáli!C67+Kustánszeg!C67+Milejszeg!C67+Nagykutas!C67+Nagypáli!C67+Németfalu!C67+Pálfiszeg!C67+Sárhida!C67+Teskánd!C67+Zalaboldogfa!C67+Zalaegerszeg!C65+Zalaszentgyörgy!C67 -> 1500000 | D69: Fejlesztési díj (2027-2036)
