Workbook

Sheet Babosdöbréte
A1: Gördülő fejlesztési terv a 2020 - 2034 időszakra
A2: FELÚJÍTÁSOK ÉS PÓTLÁSOK ÖSSZEFOGLALÓ TÁBLÁZATA
A3: A tervet benyújtó szervezet megnevezése: | K3: BABOSDÖBRÉTE | R3: ellátásért felelős / ellátásért felelősök képviselője / víziközmű-szolgáltató *
A4: Víziközmű-szolgáltató megnevezése: | K4: ÉSZAK ZALAI VÍZ- ÉS CSATORNAMŰ ZÁRTKÖRŰEN MŰKÖDŐ RÉSZVÉNYTÁRSASÁG
A5: Víziközmű-szolgáltatási ágazat megnevezése: | K5: IVÓVÍZ ÁGAZAT
A6: Véleményeltérést megfogalmazó érintett fél megnevezése:
A7: Víziközmű-rendszer kódja: ** | K7: 11-32054-1-025-01-14 | R7: ZALAEGERSZEG-IV
A8: I. Felszín alatti vízkivétel
A9: Fontossági sorrend | B9: Felujítás és pótlás megnevezése | E9: Műszaki állapot felmérés, szükségességi indoklás | H9: Vízjogi létesítési/elvi engedély száma | I9: Az érintett ellátásért felelős(ök) megnevezése | J9: Tervezett nettó költség | K9: Forrás 2020 évre | L9: Megvalósítás időtartama | N9: Tervezett időtáv | O9: A beruházás ütemezése a tervezési időszak évei szerint
E10: Jelenlegi műszaki állapot | F10: Feladat szükségessége | G10: Megvalósítást követő várható műszaki állapot | J10: (eFt) | L10: Kezdés | M10: Befejezés | N10: (rövid / közép / hosszú) | O10: 1 | P10: 2 | Q10: 3 | R10: 4 | S10: 5 | T10: 6 | U10: 7 | V10: 8 | W10: 9 | X10: 10 | Y10: 11 | Z10: 12 | AA10: 13 | AB10: 14 | AC10: 15
B11: szakág | C11: Helyszín | D11: beruházás megnevezése
A12: 1 | D12: Rendkívüli helyzetből adódó azonnali feladatok (max. 15%) | F12: működőképeség biztosítása | I12: Babosdöbréte | J12: =SUM(O12:AC12) -> 1878.75 | L12: 43831 | M12: 49309 | O12: =0.15*$K$70 -> 125.25 | P12: =0.15*$K$70 -> 125.25 | Q12: =0.15*$K$70 -> 125.25 | R12: =0.15*$K$70 -> 125.25 | S12: =0.15*$K$70 -> 125.25 | T12: =0.15*$K$70 -> 125.25 | U12: =0.15*$K$70 -> 125.25 | V12: =0.15*$K$70 -> 125.25 | ... AC12: =0.15*$K$70 -> 125.25
B13: MÉLYFÚRÁSÚ KÚT, HAGYOMÁNYOS ÁTMÉRŐVEL
B14: Épület, építmény
B16: Gép, berendezés
B18: Irányítástechnika, energiaellátás
B20: Összesen: | J20: =SUM(J12:J18) -> 1878.75
A22: III. Vízműtelep és vízkezelő létesítmények
C23: Helyszín | D23: beruházás megnevezése
B24: VÍZMŰTELEP
B25: Épület, építmény
B27: Gép, berendezés
B29: Irányítástechnika, energiaellátás
B31: VÍZKEZELŐ LÉTESÍTMÉNYEK
B32: Épület, építmény
B34: Gép, berendezés
B36: Irányítástechnika, energiaellátás
B38: Összesen | J38: =SUM(J24:J37) -> 0
A40: IV. Vízelosztás
C41: Helyszín | D41: beruházás megnevezése
B42: IVÓVÍZHÁLÓZAT
B43: Épület, építmény
A44: 40 | C44: Babosdöbréte | D44: vezeték kiváltás, rekonstrukció, felújítás | E44: A vezeték állapota anyaga, kora, minősége miatt nem megfelelő, elavult. | F44: A vezeték elavult műszaki állapota miatt gyakoriak a csőtörések. | G44: A vízvezeték kiváltás a vízigények figyelembevételével megfelelő átmérőjű és anyagú hálózatot kapunk. | I44: Babosdöbréte | J44: =SUM(O44:AC44) -> 226 | L44: 43831 | M44: 44196 | N44: rövid | O44: 226
A45: 97 | C45: Babosdöbréte | D45: vezeték kiváltás, rekonstrukció, felújítás | E45: A vezeték állapota anyaga, kora, minősége miatt nem megfelelő, elavult. | F45: A vezeték elavult műszaki állapota miatt gyakoriak a csőtörések. | G45: A vízvezeték kiváltás a vízigények figyelembevételével megfelelő átmérőjű és anyagú hálózatot kapunk. | I45: Babosdöbréte | J45: =SUM(O45:AC45) -> 341 | L45: 45383 | M45: 45657 | N45: közép | S45: 341
A46: 101 | C46: Babosdöbréte | D46: vezeték kiváltás, rekonstrukció, felújítás | E46: A vezeték állapota anyaga, kora, minősége miatt nem megfelelő, elavult. | F46: A vezeték elavult műszaki állapota miatt gyakoriak a csőtörések. | G46: A vízvezeték kiváltás a vízigények figyelembevételével megfelelő átmérőjű és anyagú hálózatot kapunk. | I46: Babosdöbréte | J46: =SUM(O46:AC46) -> 5845 | L46: 45748 | M46: 49064 | N46: hosszú | T46: 562 | U46: 577 | V46: 577 | W46: 587 | X46: 547 | Y46: 687 | Z46: 577 | AA46: 577 | AB46: 577 | AC46: 577
B48: Gép, berendezés
B50: Irányítástechnika, energiaellátás
B52: VÍZTÁROLÓK
B53: Épület, építmény
B55: Gép, berendezés
B57: Irányítástechnika, energiaellátás
A58: 38 | C58: Babosdöbréte tároló | D58: URH kommunikáció átállás GPRS-re | E58: Az elektromos, irányítástechnikai szerelvények és vezetékek, műszaki állapota miatt fennáll a meghibásodás veszélye | F58: A megfelelő minőségű kommunikáció, a folyamatos távfelügyelet biztosítása. | G58: Megfelelő biztonságú adatkommunikációs csatorna. | I58: Babosdöbréte osztatlan közös | J58: =SUM(O58:AC58) -> 242 | L58: 43922 | M58: 44196 | N58: rövid | O58: 242
B59: NYOMÁSFOKOZÓK
B60: Épület, építmény
B62: Gép, berendezés
A63: 57 | C63: Babosdöbréte Rám nyomásfokozó | D63: Szivattyú csere (EMU K64-6), teljes gépészeti rekonstrukció | E63: A szivattyú kora, műszaki állapota miatt fennáll a meghibásodás veszélye. Feladat szükségessége | F63: A folyamatos víztermelés biztosítása. | G63: A Q–H diagramhoz illeszkedő energiahatékony szivattyú üzemeltetése. | I63: Babosdöbréte | J63: =SUM(O63:AC63) -> 2500 | L63: 44197 | M63: 45657 | N63: közép | P63: 740 | Q63: 731 | R63: 765 | S63: 264
A64: 131 | C64: Teskánd Babosdöbrétei átemelő | D64: Szivattyú csere (EMU K64-10 2 db), teljes gépészeti rekonstrukció | E64: A szivattyú kora, műszaki állapota miatt fennáll a meghibásodás veszélye. Feladat szükségessége | F64: A folyamatos víztermelés biztosítása. | G64: A Q–H diagramhoz illeszkedő energiahatékony szivattyú üzemeltetése. | I64: Babosdöbréte osztatlan közös | J64: =SUM(O64:AC64) -> 1322 | L64: 47119 | M64: 47483 | N64: hosszú | X64: 1322
B66: Irányítástechnika, energiaellátás
A67: 39 | C67: Babosdöbréte átemelő | D67: URH kommunikáció átállás GPRS-re | E67: Az elektromos, irányítástechnikai szerelvények és vezetékek, műszaki állapota miatt fennáll a meghibásodás veszélye | F67: A megfelelő minőségű kommunikáció, a folyamatos távfelügyelet biztosítása. | G67: Megfelelő biztonságú adatkommunikációs csatorna. | I67: Babosdöbréte osztatlan közös | J67: =SUM(O67:AC67) -> 242 | L67: 43922 | M67: 44196 | N67: rövid | O67: 242
A68: 58 | C68: Babosdöbréte Rám nyomásfokozó | D68: villamos és irányítéstechnika felújítása | E68: Az elektromos, irányítástechnikai szerelvények és vezetékek, műszaki állapota miatt fennáll a meghibásodás veszélye. | F68: A szivattyú elektromos megtáplálása, a folyamatos távfelügyelet biztosítása. | G68: A szivattyú elektromos paramétereihez illeszkedő erősáramú és vezérlőszekrény. | I68: Babosdöbréte | J68: =SUM(O68:AC68) -> 728 | L68: 44287 | M68: 44561 | N68: közép | P68: 728
B70: Összesen: | J70: =SUM(J42:J69) -> 11446 | K70: =SUM(C74) -> 835 | O70: =SUM(O11:O69) -> 835.25 | P70: =SUM(P11:P69) -> 1593.25 | Q70: =SUM(Q11:Q69) -> 856.25 | R70: =SUM(R11:R69) -> 890.25 | S70: =SUM(S11:S69) -> 730.25 | T70: =SUM(T11:T69) -> 687.25 | U70: =SUM(U11:U69) -> 702.25 | V70: =SUM(V11:V69) -> 702.25 | ... AC70: =SUM(AC11:AC69) -> 702.25
K71: 2020 évre a fejlesztési forrás biztosított
B73: Tervezett feladatok nettó költsége a teljes ütem tekintetében (eFt) | C73: Rendelkezésre álló források számszerűsített értéke a teljes ütem tekintetében (eFt) | D73: Forrás megnevezése a teljes ütem tekintetében
A74: I. ütem | B74: =SUM(O70) -> 835.25 | C74: 835 | D74: Használati díj (2020)
A75: II. ütem | B75: =SUM(P70:S70) -> 4070 | C75: =C74*4 -> 3340 | D75: Használati díj (2021-2024)
A76: III. ütem | B76: =SUM(T70:AC70) -> 8419.5 | C76: =C74*10 -> 8350 | D76: Használati díj (2025-2034)

Sheet Bagod
A1: Gördülő fejlesztési terv a 2020 - 2034 időszakra
A2: FELÚJÍTÁSOK ÉS PÓTLÁSOK ÖSSZEFOGLALÓ TÁBLÁZATA
A3: A tervet benyújtó szervezet megnevezése: | K3: BAGOD | R3: ellátásért felelős / ellátásért felelősök képviselője / víziközmű-szolgáltató *
A4: Víziközmű-szolgáltató megnevezése: | K4: ÉSZAK ZALAI VÍZ- ÉS CSATORNAMŰ ZÁRTKÖRŰEN MŰKÖDŐ RÉSZVÉNYTÁRSASÁG
A5: Víziközmű-szolgáltatási ágazat megnevezése: | K5: IVÓVÍZ ÁGAZAT
A6: Véleményeltérést megfogalmazó érintett fél megnevezése:
A7: Víziközmű-rendszer kódja: ** | K7: 11-32054-1-025-01-14 | R7: ZALAEGERSZEG-IV
A8: I. Felszín alatti vízkivétel
A9: Fontossági sorrend | B9: Felujítás és pótlás megnevezése | E9: Műszaki állapot felmérés, szükségességi indoklás | H9: Vízjogi létesítési/elvi engedély száma | I9: Az érintett ellátásért felelős(ök) megnevezése | J9: Tervezett nettó költség | K9: Forrás 2020 évre | L9: Megvalósítás időtartama | N9: Tervezett időtáv | O9: A beruházás ütemezése a tervezési időszak évei szerint
E10: Jelenlegi műszaki állapot | F10: Feladat szükségessége | G10: Megvalósítást követő várható műszaki állapot | J10: (eFt) | L10: Kezdés | M10: Befejezés | N10: (rövid / közép / hosszú) | O10: 1 | P10: 2 | Q10: 3 | R10: 4 | S10: 5 | T10: 6 | U10: 7 | V10: 8 | W10: 9 | X10: 10 | Y10: 11 | Z10: 12 | AA10: 13 | AB10: 14 | AC10: 15
B11: szakág | C11: Helyszín | D11: beruházás megnevezése
A12: 1 | D12: Rendkívüli helyzetből adódó azonnali feladatok (max. 15%) | F12: működőképeség biztosítása | I12: Bagod | J12: =SUM(O12:AC12) -> 8545.5 | L12: 43831 | M12: 49309 | O12: =0.15*$K$70 -> 569.7 | P12: =0.15*$K$70 -> 569.7 | Q12: =0.15*$K$70 -> 569.7 | R12: =0.15*$K$70 -> 569.7 | S12: =0.15*$K$70 -> 569.7 | T12: =0.15*$K$70 -> 569.7 | U12: =0.15*$K$70 -> 569.7 | V12: =0.15*$K$70 -> 569.7 | ... AC12: =0.15*$K$70 -> 569.7
B13: MÉLYFÚRÁSÚ KÚT, HAGYOMÁNYOS ÁTMÉRŐVEL
B14: Épület, építmény
B16: Gép, berendezés
B18: Irányítástechnika, energiaellátás
B20: Összesen: | J20: =SUM(J12:J19) -> 8545.5
A22: III. Vízműtelep és vízkezelő létesítmények
C23: Helyszín | D23: beruházás megnevezése
B24: VÍZMŰTELEP
B25: Épület, építmény
B27: Gép, berendezés
B29: Irányítástechnika, energiaellátás
B31: VÍZKEZELŐ LÉTESÍTMÉNYEK
B32: Épület, építmény
B34: Gép, berendezés
B36: Irányítástechnika, energiaellátás
B38: Összesen | J38: =SUM(J24:J37) -> 0
A40: IV. Vízelosztás
C41: Helyszín | D41: beruházás megnevezése
B42: IVÓVÍZHÁLÓZAT
B43: Épület, építmény
A45: 41 | C45: Bagod | D45: vezeték kiváltás, rekonstrukció, felújítás | E45: A vezeték állapota anyaga, kora, minősége miatt nem megfelelő, elavult. | F45: A vezeték elavult műszaki állapota miatt gyakoriak a csőtörések | G45: A vízvezeték kiváltás, a vízigények figyelembevételével megfelelő átmérőjű és anyagú hálózatot kapunk. | H45: - | I45: Bagod | J45: =SUM(O45:AC45) -> 3228 | L45: 43922 | M45: 44196 | N45: rövid | O45: 3228
A46: 59 | C46: Bagod | D46: tűzcsap építés, csere | E46: A szerelvény állapota anyaga, kora, minősége miatt nem megfelelő, elavult. | F46: A vezeték elavult műszaki állapota miatt gyakoriak a csőtörések | G46: A szerelvény kiváltás, a vízigények figyelembevételével megfelelő átmérőjű és anyagú hálózatot kapunk. | H46: - | I46: Bagod | J46: =SUM(O46:AC46) -> 500 | L46: 44287 | M46: 44561 | N46: közép | P46: 500
A47: 102 | C47: Bagod | D47: vezeték kiváltás, rekonstrukció, felújítás | E47: A vezeték állapota anyaga, kora, minősége miatt nem megfelelő, elavult. | F47: A vezeték elavult műszaki állapota miatt gyakoriak a csőtörések | G47: A vízvezeték kiváltás, a vízigények figyelembevételével megfelelő átmérőjű és anyagú hálózatot kapunk. | H47: - | I47: Bagod | J47: =SUM(O47:AC47) -> 135210 | L47: 45748 | M47: 49309 | N47: hosszú | T47: 13521 | U47: 13521 | V47: 13521 | W47: 13521 | X47: 13521 | Y47: 13521 | Z47: 13521 | AA47: 13521 | AB47: 13521 | AC47: 13521
A48: 103 | C48: Bagod Vitenyédi út | D48: gerincvezeték csere (d225 1210 fm) | E48: A vezeték állapota anyaga, kora, minősége miatt nem megfelelő, elavult. | F48: A vezeték elavult műszaki állapota miatt gyakoriak a csőtörések | G48: A vízvezeték kiváltás, a vízigények figyelembevételével megfelelő átmérőjű és anyagú hálózatot kapunk. | I48: Bagod | J48: =SUM(O48:AC48) -> 12417 | L48: 45748 | M48: 47483 | N48: hosszú | T48: 2721 | U48: 2721 | V48: 2721 | W48: 2721 | X48: 1533
A49: 141 | C49: Bagod Ady Endre utca | D49: gerincvezeték csere (d225 800 fm) | E49: A vezeték állapota anyaga, kora, minősége miatt nem megfelelő, elavult. | F49: A vezeték elavult műszaki állapota miatt gyakoriak a csőtörések | G49: A vízvezeték kiváltás, a vízigények figyelembevételével megfelelő átmérőjű és anyagú hálózatot kapunk. | H49: - | I49: Bagod | J49: =SUM(O49:AC49) -> 13605 | L49: 47574 | M49: 49309 | N49: hosszú | Y49: 2721 | Z49: 2721 | AA49: 2721 | AB49: 2721 | AC49: 2721
B51: Gép, berendezés
B53: Irányítástechnika, energiaellátás
B55: VÍZTÁROLÓK
B56: Épület, építmény
B58: Gép, berendezés
B60: Irányítástechnika, energiaellátás
B62: NYOMÁSFOKOZÓK
B63: Épület, építmény
B65: Gép, berendezés
A66: 132 | C66: Bagod Szentpál nyomásfokozó | D66: Szivattyú csere (CRIE3-5 2 db; CR45-3) | E66: A szivattyú kora, műszaki állapota miatt fennáll a meghibásodás veszélye. | F66: A folyamatos víztermelés biztosítása | G66: A Q–H diagramhoz illeszkedő energiahatékony szivattyú üzemeltetése | I66: Bagod | J66: =SUM(O66:AC66) -> 1500 | L66: 47119 | M66: 47483 | N66: hosszú | X66: 1500
B68: Irányítástechnika, energiaellátás
B70: Összesen: | J70: =SUM(J42:J69) -> 166460 | K70: =SUM(C74) -> 3798 | O70: =SUM(O11:O69) -> 3797.7 | P70: =SUM(P11:P69) -> 1069.7 | Q70: =SUM(Q11:Q69) -> 569.7 | R70: =SUM(R11:R69) -> 569.7 | S70: =SUM(S11:S69) -> 569.7 | T70: =SUM(T11:T69) -> 16811.7 | U70: =SUM(U11:U69) -> 16811.7 | V70: =SUM(V11:V69) -> 16811.7 | ... AC70: =SUM(AC11:AC69) -> 16811.7
K71: 2020 évre a fejlesztési forrás biztosított
B73: Tervezett feladatok nettó költsége a teljes ütem tekintetében (eFt) | C73: Rendelkezésre álló források számszerűsített értéke a teljes ütem tekintetében (eFt) | D73: Forrás megnevezése a teljes ütem tekintetében
A74: I. ütem | B74: =SUM(O70) -> 3797.7 | C74: 3798 | D74: Használati díj (2020)
A75: II. ütem | B75: =SUM(P70:S70) -> 2778.8 | C75: =C74*4 -> 15192 | D75: Használati díj (2021-2024)
A76: III. ütem | B76: =SUM(T70:AC70) -> 168429 | C76: =C74*10 -> 37980 | D76: Használati díj (2025-2034)

Sheet Becsvölgye
A1: Gördülő fejlesztési terv a 2020 - 2034 időszakra
A2: FELÚJÍTÁSOK ÉS PÓTLÁSOK ÖSSZEFOGLALÓ TÁBLÁZATA
A3: A tervet benyújtó szervezet megnevezése: | K3: BECSVÖLGYE | R3: ellátásért felelős / ellátásért felelősök képviselője / víziközmű-szolgáltató *
A4: Víziközmű-szolgáltató megnevezése: | K4: ÉSZAK ZALAI VÍZ- ÉS CSATORNAMŰ ZÁRTKÖRŰEN MŰKÖDŐ RÉSZVÉNYTÁRSASÁG
A5: Víziközmű-szolgáltatási ágazat megnevezése: | K5: IVÓVÍZ ÁGAZAT
A6: Véleményeltérést megfogalmazó érintett fél megnevezése:
A7: Víziközmű-rendszer kódja: ** | K7: 11-32054-1-025-01-14 | R7: ZALAEGERSZEG-IV
A8: I. Felszín alatti vízkivétel
A9: Fontossági sorrend | B9: Felujítás és pótlás megnevezése | E9: Műszaki állapot felmérés, szükségességi indoklás | H9: Vízjogi létesítési/elvi engedély száma | I9: Az érintett ellátásért felelős(ök) megnevezése | J9: Tervezett nettó költség | K9: Forrás 2020 évre | L9: Megvalósítás időtartama | N9: Tervezett időtáv | O9: A beruházás ütemezése a tervezési időszak évei szerint
E10: Jelenlegi műszaki állapot | F10: Feladat szükségessége | G10: Megvalósítást követő várható műszaki állapot | J10: (eFt) | L10: Kezdés | M10: Befejezés | N10: (rövid / közép / hosszú) | O10: 1 | P10: 2 | Q10: 3 | R10: 4 | S10: 5 | T10: 6 | U10: 7 | V10: 8 | W10: 9 | X10: 10 | Y10: 11 | Z10: 12 | AA10: 13 | AB10: 14 | AC10: 15
B11: szakág | C11: Helyszín | D11: beruházás megnevezése
A12: 1 | D12: Rendkívüli helyzetből adódó azonnali feladatok (max. 15%) | F12: működőképeség biztosítása | I12: Becsvölgye | J12: =SUM(O12:AC12) -> 4169.25 | L12: 43831 | M12: 49309 | O12: =0.15*$K$66 -> 277.95 | P12: =0.15*$K$66 -> 277.95 | Q12: =0.15*$K$66 -> 277.95 | R12: =0.15*$K$66 -> 277.95 | S12: =0.15*$K$66 -> 277.95 | T12: =0.15*$K$66 -> 277.95 | U12: =0.15*$K$66 -> 277.95 | V12: =0.15*$K$66 -> 277.95 | ... AC12: =0.15*$K$66 -> 277.95
B13: MÉLYFÚRÁSÚ KÚT, HAGYOMÁNYOS ÁTMÉRŐVEL
B14: Épület, építmény
B16: Gép, berendezés
B18: Irányítástechnika, energiaellátás
B20: Összesen: | J20: =SUM(J12:J19) -> 4169.25
A22: III. Vízműtelep és vízkezelő létesítmények
C23: Helyszín | D23: beruházás megnevezése
B24: VÍZMŰTELEP
B25: Épület, építmény
B27: Gép, berendezés
B29: Irányítástechnika, energiaellátás
B31: VÍZKEZELŐ LÉTESÍTMÉNYEK
B32: Épület, építmény
B34: Gép, berendezés
B36: Irányítástechnika, energiaellátás
B38: Összesen | J38: =SUM(J24:J37) -> 0
A40: IV. Vízelosztás
C41: Helyszín | D41: beruházás megnevezése
B42: IVÓVÍZHÁLÓZAT
B43: Épület, építmény
A44: 42 | C44: Becsölgye | D44: vezeték kiváltás, rekonstrukció, felújítás | E44: A vezeték állapota anyaga, kora, minősége miatt nem megfelelő, elavult. | F44: A vezeték elavult műszaki állapota miatt gyakoriak a csőtörések | G44: A vízvezeték kiváltás, a vízigények figyelembevételével megfelelő átmérőjű és anyagú hálózatot kapunk. | H44: - | I44: Becsvölgye | J44: =SUM(O44:AC44) -> 1575 | L44: 43831 | M44: 44196 | N44: rövid | O44: 1575
B46: Gép, berendezés
B48: Irányítástechnika, energiaellátás
B50: VÍZTÁROLÓK
B51: Épület, építmény
B53: Gép, berendezés
A54: 88 | C54: Kustánszeg víztorony | D54: közmű gépészet felújítása | E54: A technológia, szerelvények és vezetékek, műszaki állapota miatt fennáll a meghibásodás veszélye. | F54: A víztárolás gépészeti berendezései nem töltik be funkciójukat (nyitás-zárás). Az avultsági szint miatt fennáll a meghibásodás veszélye | G54: Megfelelő hatékonyságú technológia. A gépészeti funkciókat kifogástalanul ellátó szerelvények | I54: Becsvölgye osztatlan közös | J54: =SUM(O54:AC54) -> 2213 | L54: 44927 | M54: 45657 | N54: közép | R54: 1080 | S54: 1133
B56: Irányítástechnika, energiaellátás
A57: 89 | C57: Kustánszeg víztorony | D57: villamos és irányítástechnika felújítása | E57: Az elektromos, irányítástechnikai szerelvények és vezetékek, műszaki állapota miatt fennáll a meghibásodás veszélye. | F57: A víztárolók elektromos megtáplálása, a folyamatos távfelügyelet biztosítása. | G57: Az elektromos paramétereihez illeszkedő erős- és gyengeáramú vezérlőszekrény. | I57: Becsvölgye osztatlan közös | J57: =SUM(O57:AC57) -> 1824 | L57: 44927 | M57: 45657 | N57: közép | R57: 1452 | S57: 372
B59: NYOMÁSFOKOZÓK
B60: Épület, építmény
B62: Gép, berendezés
B64: Irányítástechnika, energiaellátás
B66: Összesen: | J66: =SUM(J42:J65) -> 5612 | K66: =SUM(C70) -> 1853 | O66: =SUM(O11:O65) -> 1852.95 | P66: =SUM(P11:P65) -> 277.95 | Q66: =SUM(Q11:Q65) -> 277.95 | R66: =SUM(R11:R65) -> 2809.95 | S66: =SUM(S11:S65) -> 1782.95 | T66: =SUM(T11:T65) -> 277.95 | U66: =SUM(U11:U65) -> 277.95 | V66: =SUM(V11:V65) -> 277.95 | ... AC66: =SUM(AC11:AC65) -> 277.95
K67: 2020 évre a fejlesztési forrás biztosított
B69: Tervezett feladatok nettó költsége a teljes ütem tekintetében (eFt) | C69: Rendelkezésre álló források számszerűsített értéke a teljes ütem tekintetében (eFt) | D69: Forrás megnevezése a teljes ütem tekintetében
A70: I. ütem | B70: =SUM(O66) -> 1852.95 | C70: 1853 | D70: Használati díj (2020)
A71: II. ütem | B71: =SUM(P66:S66) -> 5148.8 | C71: =C70*4 -> 7412 | D71: Használati díj (2021-2024)
A72: III. ütem | B72: =SUM(T66:AC66) -> 2779.5 | C72: =C70*10 -> 18530 | D72: Használati díj (2025-2034)

Sheet Bocfölde
A1: Gördülő fejlesztési terv a 2020 - 2034 időszakra
A2: FELÚJÍTÁSOK ÉS PÓTLÁSOK ÖSSZEFOGLALÓ TÁBLÁZATA
A3: A tervet benyújtó szervezet megnevezése: | K3: BOCFÖLDE | R3: ellátásért felelős / ellátásért felelősök képviselője / víziközmű-szolgáltató *
A4: Víziközmű-szolgáltató megnevezése: | K4: ÉSZAK ZALAI VÍZ- ÉS CSATORNAMŰ ZÁRTKÖRŰEN MŰKÖDŐ RÉSZVÉNYTÁRSASÁG
A5: Víziközmű-szolgáltatási ágazat megnevezése: | K5: IVÓVÍZ ÁGAZAT
A6: Véleményeltérést megfogalmazó érintett fél megnevezése:
A7: Víziközmű-rendszer kódja: ** | K7: 11-32054-1-025-01-14 | R7: ZALAEGERSZEG-IV
A8: I. Felszín alatti vízkivétel
A9: Fontossági sorrend | B9: Felujítás és pótlás megnevezése | E9: Műszaki állapot felmérés, szükségességi indoklás | H9: Vízjogi létesítési/elvi engedély száma | I9: Az érintett ellátásért felelős(ök) megnevezése | J9: Tervezett nettó költség | K9: Forrás 2020 évre | L9: Megvalósítás időtartama | N9: Tervezett időtáv | O9: A beruházás ütemezése a tervezési időszak évei szerint
E10: Jelenlegi műszaki állapot | F10: Feladat szükségessége | G10: Megvalósítást követő várható műszaki állapot | J10: (eFt) | L10: Kezdés | M10: Befejezés | N10: (rövid / közép / hosszú) | O10: 1 | P10: 2 | Q10: 3 | R10: 4 | S10: 5 | T10: 6 | U10: 7 | V10: 8 | W10: 9 | X10: 10 | Y10: 11 | Z10: 12 | AA10: 13 | AB10: 14 | AC10: 15
B11: szakág | C11: Helyszín | D11: beruházás megnevezése
A12: 1 | D12: Rendkívüli helyzetből adódó azonnali feladatok (max. 15%) | F12: működőképeség biztosítása | I12: Bocfölde | J12: =SUM(O12:AC12) -> 9760.5 | L12: 43831 | M12: 49309 | O12: =0.15*$K$64 -> 650.7 | P12: =0.15*$K$64 -> 650.7 | Q12: =0.15*$K$64 -> 650.7 | R12: =0.15*$K$64 -> 650.7 | S12: =0.15*$K$64 -> 650.7 | T12: =0.15*$K$64 -> 650.7 | U12: =0.15*$K$64 -> 650.7 | V12: =0.15*$K$64 -> 650.7 | ... AC12: =0.15*$K$64 -> 650.7
B13: MÉLYFÚRÁSÚ KÚT, HAGYOMÁNYOS ÁTMÉRŐVEL
B14: Épület, építmény
B16: Gép, berendezés
B18: Irányítástechnika, energiaellátás
B20: Összesen: | J20: =SUM(J12:J19) -> 9760.5
A22: III. Vízműtelep és vízkezelő létesítmények
C23: Helyszín | D23: beruházás megnevezése
B24: VÍZMŰTELEP
B25: Épület, építmény
B27: Gép, berendezés
B29: Irányítástechnika, energiaellátás
B31: VÍZKEZELŐ LÉTESÍTMÉNYEK
B32: Épület, építmény
B34: Gép, berendezés
B36: Irányítástechnika, energiaellátás
B38: Összesen | J38: =SUM(J24:J37) -> 0
A40: IV. Vízelosztás
C41: Helyszín | D41: beruházás megnevezése
B42: IVÓVÍZHÁLÓZAT
B43: Épület, építmény
A44: 43 | C44: Bocfölde | D44: vezeték kiváltás, rekonstrukció, felújítás | E44: A vezeték állapota anyaga, kora, minősége miatt nem megfelelő, elavult. | F44: A vezeték elavult műszaki állapota miatt gyakoriak a csőtörések. | G44: A vízvezeték kiváltás a vízigények figyelembevételével megfelelő átmérőjű és anyagú hálózatot kapunk. | I44: Bocfölde | J44: =SUM(O44:AC44) -> 3687 | L44: 43831 | M44: 44196 | N44: rövid | O44: 3687
B46: Gép, berendezés
B48: Irányítástechnika, energiaellátás
B50: VÍZTÁROLÓK
B51: Épület, építmény
B53: Gép, berendezés
B55: Irányítástechnika, energiaellátás
B57: NYOMÁSFOKOZÓK
B58: Épület, építmény
B60: Gép, berendezés
B62: Irányítástechnika, energiaellátás
B64: Összesen: | J64: =SUM(J42:J63) -> 3687 | K64: =SUM(C68) -> 4338 | O64: =SUM(O12:O63) -> 4337.7 | P64: =SUM(P12:P63) -> 650.7 | Q64: =SUM(Q12:Q63) -> 650.7 | R64: =SUM(R12:R63) -> 650.7 | S64: =SUM(S12:S63) -> 650.7 | T64: =SUM(T12:T63) -> 650.7 | U64: =SUM(U12:U63) -> 650.7 | V64: =SUM(V12:V63) -> 650.7 | ... AC64: =SUM(AC12:AC63) -> 650.7
K65: 2020 évre a fejlesztési forrás biztosított
B67: Tervezett feladatok nettó költsége a teljes ütem tekintetében (eFt) | C67: Rendelkezésre álló források számszerűsített értéke a teljes ütem tekintetében (eFt) | D67: Forrás megnevezése a teljes ütem tekintetében
A68: I. ütem | B68: =SUM(O64) -> 4337.7 | C68: 4338 | D68: Használati díj (2020)
A69: II. ütem | B69: =SUM(P64:S64) -> 2602.8 | C69: =C68*4 -> 17352 | D69: Használati díj (2021-2024)
A70: III. ütem | B70: =SUM(T64:AC64) -> 6507 | C70: =C68*10 -> 43380 | D70: Használati díj (2025-2034)

Sheet Boncodfölde
A1: Gördülő fejlesztési terv a 2020 - 2034 időszakra
A2: FELÚJÍTÁSOK ÉS PÓTLÁSOK ÖSSZEFOGLALÓ TÁBLÁZATA
A3: A tervet benyújtó szervezet megnevezése: | K3: BONCODFÖLDE | R3: ellátásért felelős / ellátásért felelősök képviselője / víziközmű-szolgáltató *
A4: Víziközmű-szolgáltató megnevezése: | K4: ÉSZAK ZALAI VÍZ- ÉS CSATORNAMŰ ZÁRTKÖRŰEN MŰKÖDŐ RÉSZVÉNYTÁRSASÁG
A5: Víziközmű-szolgáltatási ágazat megnevezése: | K5: IVÓVÍZ ÁGAZAT
A6: Véleményeltérést megfogalmazó érintett fél megnevezése:
A7: Víziközmű-rendszer kódja: ** | K7: 11-32054-1-025-01-14 | R7: ZALAEGERSZEG-IV
A8: I. Felszín alatti vízkivétel
A9: Fontossági sorrend | B9: Felujítás és pótlás megnevezése | E9: Műszaki állapot felmérés, szükségességi indoklás | H9: Vízjogi létesítési/elvi engedély száma | I9: Az érintett ellátásért felelős(ök) megnevezése | J9: Tervezett nettó költség | K9: Forrás 2020 évre | L9: Megvalósítás időtartama | N9: Tervezett időtáv | O9: A beruházás ütemezése a tervezési időszak évei szerint
E10: Jelenlegi műszaki állapot | F10: Feladat szükségessége | G10: Megvalósítást követő várható műszaki állapot | J10: (eFt) | L10: Kezdés | M10: Befejezés | N10: (rövid / közép / hosszú) | O10: 1 | P10: 2 | Q10: 3 | R10: 4 | S10: 5 | T10: 6 | U10: 7 | V10: 8 | W10: 9 | X10: 10 | Y10: 11 | Z10: 12 | AA10: 13 | AB10: 14 | AC10: 15
B11: szakág | C11: Helyszín | D11: beruházás megnevezése
A12: 1 | D12: Rendkívüli helyzetből adódó azonnali feladatok (max. 15%) | F12: működőképeség biztosítása | I12: Boncodfölde | J12: =SUM(O12:AC12) -> 3721.5 | L12: 43831 | M12: 49309 | O12: =0.15*$K$64 -> 248.1 | P12: =0.15*$K$64 -> 248.1 | Q12: =0.15*$K$64 -> 248.1 | R12: =0.15*$K$64 -> 248.1 | S12: =0.15*$K$64 -> 248.1 | T12: =0.15*$K$64 -> 248.1 | U12: =0.15*$K$64 -> 248.1 | V12: =0.15*$K$64 -> 248.1 | ... AC12: =0.15*$K$64 -> 248.1
B13: MÉLYFÚRÁSÚ KÚT, HAGYOMÁNYOS ÁTMÉRŐVEL
B14: Épület, építmény
B16: Gép, berendezés
B18: Irányítástechnika, energiaellátás
B20: Összesen: | J20: =SUM(J12:J19) -> 3721.5
A22: III. Vízműtelep és vízkezelő létesítmények
C23: Helyszín | D23: beruházás megnevezése
B24: VÍZMŰTELEP
B25: Épület, építmény
B27: Gép, berendezés
B29: Irányítástechnika, energiaellátás
B31: VÍZKEZELŐ LÉTESÍTMÉNYEK
B32: Épület, építmény
B34: Gép, berendezés
B36: Irányítástechnika, energiaellátás
B38: Összesen | J38: =SUM(J24:J37) -> 0
A40: IV. Vízelosztás
C41: Helyszín | D41: beruházás megnevezése
B42: IVÓVÍZHÁLÓZAT
B43: Épület, építmény
A44: 44 | C44: Boncodfölde | D44: vezeték kiváltás, rekonstrukció, felújítás | E44: A vezeték állapota anyaga, kora, minősége miatt nem megfelelő, elavult. | F44: A bekötővezeték anyaga vízbiztonsági kockázatot rejt magában, illetve nagyobb a valószínűsége a meghibásodásnak. | G44: A vízvezeték kiváltás, a vízigények figyelembevételével megfelelő átmérőjű és anyagú hálózatot kapunk. | I44: Boncodfölde | J44: =SUM(O44:AC44) -> 1406 | L44: 43922 | M44: 44196 | N44: rövid | O44: 1406
B46: Gép, berendezés
B48: Irányítástechnika, energiaellátás
B50: VÍZTÁROLÓK
B51: Épület, építmény
B53: Gép, berendezés
B55: Irányítástechnika, energiaellátás
B57: NYOMÁSFOKOZÓK
B58: Épület, építmény
B60: Gép, berendezés
B62: Irányítástechnika, energiaellátás
B64: Összesen: | J64: =SUM(J42:J63) -> 1406 | K64: =SUM(C68) -> 1654 | O64: =SUM(O12:O63) -> 1654.1 | P64: =SUM(P12:P63) -> 248.1 | Q64: =SUM(Q12:Q63) -> 248.1 | R64: =SUM(R12:R63) -> 248.1 | S64: =SUM(S12:S63) -> 248.1 | T64: =SUM(T12:T63) -> 248.1 | U64: =SUM(U12:U63) -> 248.1 | V64: =SUM(V12:V63) -> 248.1 | ... AC64: =SUM(AC12:AC63) -> 248.1
K65: 2020 évre a fejlesztési forrás biztosított
B67: Tervezett feladatok nettó költsége a teljes ütem tekintetében (eFt) | C67: Rendelkezésre álló források számszerűsített értéke a teljes ütem tekintetében (eFt) | D67: Forrás megnevezése a teljes ütem tekintetében
A68: I. ütem | B68: =SUM(O64) -> 1654.1 | C68: 1654 | D68: Használati díj (2020)
A69: II. ütem | B69: =SUM(P64:S64) -> 992.4 | C69: =C68*4 -> 6616 | D69: Használati díj (2021-2024)
A70: III. ütem | B70: =SUM(T64:AC64) -> 2481 | C70: =C68*10 -> 16540 | D70: Használati díj (2025-2034)

Sheet Böde
A1: Gördülő fejlesztési terv a 2020 - 2034 időszakra
A2: FELÚJÍTÁSOK ÉS PÓTLÁSOK ÖSSZEFOGLALÓ TÁBLÁZATA
A3: A tervet benyújtó szervezet megnevezése: | K3: BÖDE | R3: ellátásért felelős / ellátásért felelősök képviselője / víziközmű-szolgáltató *
A4: Víziközmű-szolgáltató megnevezése: | K4: ÉSZAK ZALAI VÍZ- ÉS CSATORNAMŰ ZÁRTKÖRŰEN MŰKÖDŐ RÉSZVÉNYTÁRSASÁG
A5: Víziközmű-szolgáltatási ágazat megnevezése: | K5: IVÓVÍZ ÁGAZAT
A6: Véleményeltérést megfogalmazó érintett fél megnevezése:
A7: Víziközmű-rendszer kódja: ** | K7: 11-32054-1-025-01-14 | R7: ZLAEGERSZEG-IV
A8: I. Felszín alatti vízkivétel
A9: Fontossági sorrend | B9: Felujítás és pótlás megnevezése | E9: Műszaki állapot felmérés, szükségességi indoklás | H9: Vízjogi létesítési/elvi engedély száma | I9: Az érintett ellátásért felelős(ök) megnevezése | J9: Tervezett nettó költség | K9: Forrás 2020 évre | L9: Megvalósítás időtartama | N9: Tervezett időtáv | O9: A beruházás ütemezése a tervezési időszak évei szerint
E10: Jelenlegi műszaki állapot | F10: Feladat szükségessége | G10: Megvalósítást követő várható műszaki állapot | J10: (eFt) | L10: Kezdés | M10: Befejezés | N10: (rövid / közép / hosszú) | O10: 1 | P10: 2 | Q10: 3 | R10: 4 | S10: 5 | T10: 6 | U10: 7 | V10: 8 | W10: 9 | X10: 10 | Y10: 11 | Z10: 12 | AA10: 13 | AB10: 14 | AC10: 15
B11: szakág | C11: Helyszín | D11: beruházás megnevezése
A12: 1 | D12: Rendkívüli helyzetből adódó azonnali feladatok (max. 15%) | F12: működőképeség biztosítása | I12: Böde | J12: =SUM(O12:AC12) -> 771.75 | L12: 43831 | M12: 49309 | O12: =0.15*$C$70 -> 51.45 | P12: =0.15*$K$66 -> 51.45 | Q12: =0.15*$K$66 -> 51.45 | R12: =0.15*$K$66 -> 51.45 | S12: =0.15*$K$66 -> 51.45 | T12: =0.15*$K$66 -> 51.45 | U12: =0.15*$K$66 -> 51.45 | V12: =0.15*$K$66 -> 51.45 | W12: =0.15*$K$66 -> 51.45 | ... AC12: =0.15*$K$66 -> 51.45
B13: MÉLYFÚRÁSÚ KÚT, HAGYOMÁNYOS ÁTMÉRŐVEL
B14: Épület, építmény
B16: Gép, berendezés
B18: Irányítástechnika, energiaellátás
B20: Összesen: | J20: =SUM(J12:J18) -> 771.75
A22: III. Vízműtelep és vízkezelő létesítmények
C23: Helyszín | D23: beruházás megnevezése
B24: VÍZMŰTELEP
B25: Épület, építmény
B27: Gép, berendezés
B29: Irányítástechnika, energiaellátás
B31: VÍZKEZELŐ LÉTESÍTMÉNYEK
B32: Épület, építmény
B34: Gép, berendezés
B36: Irányítástechnika, energiaellátás
B38: Összesen | J38: =SUM(J24:J37) -> 0
A40: IV. Vízelosztás
C41: Helyszín | D41: beruházás megnevezése
B42: IVÓVÍZHÁLÓZAT
B43: Épület, építmény
B45: Gép, berendezés
B47: Irányítástechnika, energiaellátás
B49: VÍZTÁROLÓK
B50: Épület, építmény
B52: Gép, berendezés
B54: Irányítástechnika, energiaellátás
A55: 38 | C55: Babosdöbréte tároló | D55: URH kommunikáció átállás GPRS-re | E55: Az elektromos, irányítástechnikai szerelvények és vezetékek, műszaki állapota miatt fennáll a meghibásodás veszélye. | F55: A szivattyú elektromos megtáplálása, a folyamatos távfelügyelet biztosítása. | G55: A szivattyú elektromos paramétereihez illeszkedő erősáramú és vezérlőszekrény. | I55: Babosdöbréte osztatlan közös | J55: =SUM(O55:AC55) -> 128 | L55: 43922 | M55: 44196 | N55: rövid | O55: 128
B57: NYOMÁSFOKOZÓK
B58: Épület, építmény
B60: Gép, berendezés
A61: 131 | C61: Teskánd Babosdöbrétei átemelő | D61: Szivattyú csere (EMU K64-10 2 db), teljes gépészeti rekonstrukció | E61: A szivattyú kora, műszaki állapota miatt fennáll a meghibásodás veszélye. Feladat szükségessége | F61: A folyamatos víztermelés biztosítása. | G61: A Q–H diagramhoz illeszkedő energiahatékony szivattyú üzemeltetése. | I61: Babosdöbréte osztatlan közös | J61: =SUM(O61:AC61) -> 697 | L61: 47119 | M61: 47483 | N61: hosszú | X61: 697
B63: Irányítástechnika, energiaellátás
A64: 39 | C64: Babosdöbréte átemelő | D64: URH kommunikáció átállás GPRS-re | E64: Az elektromos, irányítástechnikai szerelvények és vezetékek, műszaki állapota miatt fennáll a meghibásodás veszélye. | F64: A szivattyú elektromos megtáplálása, a folyamatos távfelügyelet biztosítása. | G64: A szivattyú elektromos paramétereihez illeszkedő erősáramú és vezérlőszekrény. | I64: Babosdöbréte osztatlan közös | J64: =SUM(O64:AC64) -> 128 | L64: 43922 | M64: 44196 | N64: rövid | O64: 128
B66: Összesen: | J66: =SUM(J42:J65) -> 953 | K66: =SUM(C70) -> 343 | O66: =SUM(O12:O65) -> 307.45 | P66: =SUM(P12:P65) -> 51.45 | Q66: =SUM(Q12:Q65) -> 51.45 | R66: =SUM(R12:R65) -> 51.45 | S66: =SUM(S12:S65) -> 51.45 | T66: =SUM(T12:T65) -> 51.45 | U66: =SUM(U12:U65) -> 51.45 | V66: =SUM(V12:V65) -> 51.45 | ... AC66: =SUM(AC12:AC65) -> 51.45
K67: 2020 évre a fejlesztési forrás biztosított
B69: Tervezett feladatok nettó költsége a teljes ütem tekintetében (eFt) | C69: Rendelkezésre álló források számszerűsített értéke a teljes ütem tekintetében (eFt) | D69: Forrás megnevezése a teljes ütem tekintetében
A70: I. ütem | B70: =SUM(O66) -> 307.45 | C70: 343 | D70: Használati díj (2020)
A71: II. ütem | B71: =SUM(P66:S66) -> 205.8 | C71: =C70*4 -> 1372 | D71: Használati díj (2021-2024)
A72: III. ütem | B72: =SUM(T66:AC66) -> 1211.5 | C72: =C70*10 -> 3430 | D72: Használati díj (2025-2034)

Sheet Csatár
A1: Gördülő fejlesztési terv a 2020 - 2034 időszakra
A2: FELÚJÍTÁSOK ÉS PÓTLÁSOK ÖSSZEFOGLALÓ TÁBLÁZATA
A3: A tervet benyújtó szervezet megnevezése: | K3: CSATÁR | R3: ellátásért felelős / ellátásért felelősök képviselője / víziközmű-szolgáltató *
A4: Víziközmű-szolgáltató megnevezése: | K4: ÉSZAK ZALAI VÍZ- ÉS CSATORNAMŰ ZÁRTKÖRŰEN MŰKÖDŐ RÉSZVÉNYTÁRSASÁG
A5: Víziközmű-szolgáltatási ágazat megnevezése: | K5: IVÓVÍZ ÁGAZAT
A6: Véleményeltérést megfogalmazó érintett fél megnevezése:
A7: Víziközmű-rendszer kódja: ** | K7: 11-32054-1-025-01-14 | R7: ZALAEGERSZEG-IV
A8: I. Felszín alatti vízkivétel
A9: Fontossági sorrend | B9: Felujítás és pótlás megnevezése | E9: Műszaki állapot felmérés, szükségességi indoklás | H9: Vízjogi létesítési/elvi engedély száma | I9: Az érintett ellátásért felelős(ök) megnevezése | J9: Tervezett nettó költség | K9: Forrás 2020 évre | L9: Megvalósítás időtartama | N9: Tervezett időtáv | O9: A beruházás ütemezése a tervezési időszak évei szerint
E10: Jelenlegi műszaki állapot | F10: Feladat szükségessége | G10: Megvalósítást követő várható műszaki állapot | J10: (eFt) | L10: Kezdés | M10: Befejezés | N10: (rövid / közép / hosszú) | O10: 1 | P10: 2 | Q10: 3 | R10: 4 | S10: 5 | T10: 6 | U10: 7 | V10: 8 | W10: 9 | X10: 10 | Y10: 11 | Z10: 12 | AA10: 13 | AB10: 14 | AC10: 15
B11: szakág | C11: Helyszín | D11: beruházás megnevezése
A12: 1 | D12: Rendkívüli helyzetből adódó azonnali feladatok (max. 15%) | F12: működőképeség biztosítása | I12: Csatár | J12: =SUM(O12:AC12) -> 2481.75 | L12: 43831 | M12: 49309 | O12: =0.15*$K$64 -> 165.45 | P12: =0.15*$K$64 -> 165.45 | Q12: =0.15*$K$64 -> 165.45 | R12: =0.15*$K$64 -> 165.45 | S12: =0.15*$K$64 -> 165.45 | T12: =0.15*$K$64 -> 165.45 | U12: =0.15*$K$64 -> 165.45 | V12: =0.15*$K$64 -> 165.45 | ... AC12: =0.15*$K$64 -> 165.45
B13: MÉLYFÚRÁSÚ KÚT, HAGYOMÁNYOS ÁTMÉRŐVEL
B14: Épület, építmény
B16: Gép, berendezés
B18: Irányítástechnika, energiaellátás
B20: Összesen: | J20: =SUM(J12:J18) -> 2481.75
A22: III. Vízműtelep és vízkezelő létesítmények
C23: Helyszín | D23: beruházás megnevezése
B24: VÍZMŰTELEP
B25: Épület, építmény
B27: Gép, berendezés
B29: Irányítástechnika, energiaellátás
B31: VÍZKEZELŐ LÉTESÍTMÉNYEK
B32: Épület, építmény
B34: Gép, berendezés
B36: Irányítástechnika, energiaellátás
B38: Összesen | J38: =SUM(J24:J37) -> 0
A40: IV. Vízelosztás
C41: Helyszín | D41: beruházás megnevezése
B42: IVÓVÍZHÁLÓZAT
B43: Épület, építmény
A44: 45 | C44: Csatár | D44: vezeték kiváltás, rekonstrukció, felújítás | E44: A vezeték állapota anyaga, kora, minősége miatt nem megfelelő, elavult. | F44: A vezeték elavult műszaki állapota miatt gyakoriak a csőtörések. | G44: A vízvezeték kiváltás a vízigények figyelembevételével megfelelő átmérőjű és anyagú hálózatot kapunk. | I44: Csatár | J44: =SUM(O44:AC44) -> 938 | L44: 43831 | M44: 44196 | N44: rövid | O44: 938
B46: Gép, berendezés
B48: Irányítástechnika, energiaellátás
B50: VÍZTÁROLÓK
B51: Épület, építmény
B53: Gép, berendezés
B55: Irányítástechnika, energiaellátás
B57: NYOMÁSFOKOZÓK
B58: Épület, építmény
B60: Gép, berendezés
B62: Irányítástechnika, energiaellátás
B64: Összesen: | J64: =SUM(J42:J63) -> 938 | K64: =SUM(C68) -> 1103 | O64: =SUM(O12:O63) -> 1103.45 | P64: =SUM(P12:P63) -> 165.45 | Q64: =SUM(Q12:Q63) -> 165.45 | R64: =SUM(R12:R63) -> 165.45 | S64: =SUM(S12:S63) -> 165.45 | T64: =SUM(T12:T63) -> 165.45 | U64: =SUM(U12:U63) -> 165.45 | V64: =SUM(V12:V63) -> 165.45 | ... AC64: =SUM(AC12:AC63) -> 165.45
K65: 2020 évre a fejlesztési forrás biztosított
B67: Tervezett feladatok nettó költsége a teljes ütem tekintetében (eFt) | C67: Rendelkezésre álló források számszerűsített értéke a teljes ütem tekintetében (eFt) | D67: Forrás megnevezése a teljes ütem tekintetében
A68: I. ütem | B68: =SUM(O64) -> 1103.45 | C68: 1103 | D68: Használati díj (2020)
A69: II. ütem | B69: =SUM(P64:S64) -> 661.8 | C69: =C68*4 -> 4412 | D69: Használati díj (2021-2024)
A70: III. ütem | B70: =SUM(T64:AC64) -> 1654.5 | C70: =C68*10 -> 11030 | D70: Használati díj (2025-2034)

Sheet Csonkahegyhát
A1: Gördülő fejlesztési terv a 2020 - 2034 időszakra
A2: FELÚJÍTÁSOK ÉS PÓTLÁSOK ÖSSZEFOGLALÓ TÁBLÁZATA
A3: A tervet benyújtó szervezet megnevezése: | K3: CSONKAHEGYHÁT | R3: ellátásért felelős / ellátásért felelősök képviselője / víziközmű-szolgáltató *
A4: Víziközmű-szolgáltató megnevezése: | K4: ÉSZAK ZALAI VÍZ- ÉS CSATORNAMŰ ZÁRTKÖRŰEN MŰKÖDŐ RÉSZVÉNYTÁRSASÁG
A5: Víziközmű-szolgáltatási ágazat megnevezése: | K5: IVÓVÍZ ÁGAZAT
A6: Véleményeltérést megfogalmazó érintett fél megnevezése:
A7: Víziközmű-rendszer kódja: ** | K7: 11-32054-1-025-01-14 | R7: ZALAEGERSZEG-IV
A8: I. Felszín alatti vízkivétel
A9: Fontossági sorrend | B9: Felujítás és pótlás megnevezése | E9: Műszaki állapot felmérés, szükségességi indoklás | H9: Vízjogi létesítési/elvi engedély száma | I9: Az érintett ellátásért felelős(ök) megnevezése | J9: Tervezett nettó költség | K9: Forrás 2020 évre | L9: Megvalósítás időtartama | N9: Tervezett időtáv | O9: A beruházás ütemezése a tervezési időszak évei szerint
E10: Jelenlegi műszaki állapot | F10: Feladat szükségessége | G10: Megvalósítást követő várható műszaki állapot | J10: (eFt) | L10: Kezdés | M10: Befejezés | N10: (rövid / közép / hosszú) | O10: 1 | P10: 2 | Q10: 3 | R10: 4 | S10: 5 | T10: 6 | U10: 7 | V10: 8 | W10: 9 | X10: 10 | Y10: 11 | Z10: 12 | AA10: 13 | AB10: 14 | AC10: 15
B11: szakág | C11: Helyszín | D11: beruházás megnevezése
A12: 1 | D12: Rendkívüli helyzetből adódó azonnali feladatok (max. 15%) | F12: működőképeség biztosítása | I12: Csonkahegyhát | J12: =SUM(O12:AC12) -> 1153.2 | L12: 43831 | M12: 49309 | O12: =1*$C$67 -> 372 | P12: =0.15*$K$63 -> 55.8 | Q12: =0.15*$K$63 -> 55.8 | R12: =0.15*$K$63 -> 55.8 | S12: =0.15*$K$63 -> 55.8 | T12: =0.15*$K$63 -> 55.8 | U12: =0.15*$K$63 -> 55.8 | V12: =0.15*$K$63 -> 55.8 | W12: =0.15*$K$63 -> 55.8 | ... AC12: =0.15*$K$63 -> 55.8
B13: MÉLYFÚRÁSÚ KÚT, HAGYOMÁNYOS ÁTMÉRŐVEL
B14: Épület, építmény
B16: Gép, berendezés
B18: Irányítástechnika, energiaellátás
B20: Összesen: | J20: =SUM(J12:J19) -> 1153.2
A22: III. Vízműtelep és vízkezelő létesítmények
C23: Helyszín | D23: beruházás megnevezése
B24: VÍZMŰTELEP
B25: Épület, építmény
B27: Gép, berendezés
B29: Irányítástechnika, energiaellátás
B31: VÍZKEZELŐ LÉTESÍTMÉNYEK
B32: Épület, építmény
B34: Gép, berendezés
B36: Irányítástechnika, energiaellátás
B38: Összesen | J38: =SUM(J24:J37) -> 0
A40: IV. Vízelosztás
C41: Helyszín | D41: beruházás megnevezése
B42: IVÓVÍZHÁLÓZAT
B43: Épület, építmény
B45: Gép, berendezés
B47: Irányítástechnika, energiaellátás
B49: VÍZTÁROLÓK
B50: Épület, építmény
B52: Gép, berendezés
B54: Irányítástechnika, energiaellátás
B56: NYOMÁSFOKOZÓK
B57: Épület, építmény
B59: Gép, berendezés
B61: Irányítástechnika, energiaellátás
B63: Összesen: | J63: =SUM(J42:J62) -> 0 | K63: =SUM(C67) -> 372 | O63: =SUM(O11:O62) -> 372 | P63: =SUM(P11:P62) -> 55.8 | Q63: =SUM(Q11:Q62) -> 55.8 | R63: =SUM(R11:R62) -> 55.8 | S63: =SUM(S11:S62) -> 55.8 | T63: =SUM(T11:T62) -> 55.8 | U63: =SUM(U11:U62) -> 55.8 | V63: =SUM(V11:V62) -> 55.8 | ... AC63: =SUM(AC11:AC62) -> 55.8
K64: 2020 évre a fejlesztési forrás biztosított
B66: Tervezett feladatok nettó költsége a teljes ütem tekintetében (eFt) | C66: Rendelkezésre álló források számszerűsített értéke a teljes ütem tekintetében (eFt) | D66: Forrás megnevezése a teljes ütem tekintetében
A67: I. ütem | B67: =SUM(O63) -> 372 | C67: 372 | D67: Használati díj (2020)
A68: II. ütem | B68: =SUM(P63:S63) -> 223.2 | C68: =C67*4 -> 1488 | D68: Használati díj (2021-2024)
A69: III. ütem | B69: =SUM(T63:AC63) -> 558 | C69: =C67*10 -> 3720 | D69: Használati díj (2025-2034)

Sheet Dobronhegy
A1: Gördülő fejlesztési terv a 2020 - 2034 időszakra
A2: FELÚJÍTÁSOK ÉS PÓTLÁSOK ÖSSZEFOGLALÓ TÁBLÁZATA
A3: A tervet benyújtó szervezet megnevezése: | K3: DOBRONHEGY | R3: ellátásért felelős / ellátásért felelősök képviselője / víziközmű-szolgáltató *
A4: Víziközmű-szolgáltató megnevezése: | K4: ÉSZAK ZALAI VÍZ- ÉS CSATORNAMŰ ZÁRTKÖRŰEN MŰKÖDŐ RÉSZVÉNYTÁRSASÁG
A5: Víziközmű-szolgáltatási ágazat megnevezése: | K5: IVÓVÍZ ÁGAZAT
A6: Véleményeltérést megfogalmazó érintett fél megnevezése:
A7: Víziközmű-rendszer kódja: ** | K7: 11-32054-1-025-01-14 | R7: ZALAEGERSZEG-IV
A8: I. Felszín alatti vízkivétel
A9: Fontossági sorrend | B9: Felujítás és pótlás megnevezése | E9: Műszaki állapot felmérés, szükségességi indoklás | H9: Vízjogi létesítési/elvi engedély száma | I9: Az érintett ellátásért felelős(ök) megnevezése | J9: Tervezett nettó költség | K9: Forrás 2020 évre | L9: Megvalósítás időtartama | N9: Tervezett időtáv | O9: A beruházás ütemezése a tervezési időszak évei szerint
E10: Jelenlegi műszaki állapot | F10: Feladat szükségessége | G10: Megvalósítást követő várható műszaki állapot | J10: (eFt) | L10: Kezdés | M10: Befejezés | N10: (rövid / közép / hosszú) | O10: 1 | P10: 2 | Q10: 3 | R10: 4 | S10: 5 | T10: 6 | U10: 7 | V10: 8 | W10: 9 | X10: 10 | Y10: 11 | Z10: 12 | AA10: 13 | AB10: 14 | AC10: 15
B11: szakág | C11: Helyszín | D11: beruházás megnevezése
A12: 1 | D12: Rendkívüli helyzetből adódó azonnali feladatok (max. 15%) | F12: működőképeség biztosítása | I12: Dobronhegy | J12: =SUM(O12:AC12) -> 449.5 | L12: 43831 | M12: 49309 | O12: =1*$C$68 -> 145 | P12: =0.15*$K$64 -> 21.75 | Q12: =0.15*$K$64 -> 21.75 | R12: =0.15*$K$64 -> 21.75 | S12: =0.15*$K$64 -> 21.75 | T12: =0.15*$K$64 -> 21.75 | U12: =0.15*$K$64 -> 21.75 | V12: =0.15*$K$64 -> 21.75 | W12: =0.15*$K$64 -> 21.75 | ... AC12: =0.15*$K$64 -> 21.75
B13: MÉLYFÚRÁSÚ KÚT, HAGYOMÁNYOS ÁTMÉRŐVEL
B14: Épület, építmény
B16: Gép, berendezés
B18: Irányítástechnika, energiaellátás
B20: Összesen: | J20: =SUM(J12:J19) -> 449.5
A22: III. Vízműtelep és vízkezelő létesítmények
C23: Helyszín | D23: beruházás megnevezése
B24: VÍZMŰTELEP
B25: Épület, építmény
B27: Gép, berendezés
B29: Irányítástechnika, energiaellátás
B31: VÍZKEZELŐ LÉTESÍTMÉNYEK
B32: Épület, építmény
B34: Gép, berendezés
B36: Irányítástechnika, energiaellátás
B38: Összesen | J38: =SUM(J24:J37) -> 0
A40: IV. Vízelosztás
C41: Helyszín | D41: beruházás megnevezése
B42: IVÓVÍZHÁLÓZAT
B43: Épület, építmény
A44: 133 | C44: Dobronhegy Petőfi u. | D44: csőhíd csere (NA100 6 fm) | E44: A vezeték állapota anyaga, kora, minősége miatt nem megfelelő, elavult. | F44: A vezeték elavult műszaki állapota miatt gyakoriak a csőtörések | G44: A vízvezeték kiváltás, a vízigények figyelembevételével megfelelő átmérőjű és anyagú hálózatot kapunk. | H44: - | I44: Dobronhegy | J44: =SUM(O44:AC44) -> 400 | L44: 47209 | M44: 48579 | N44: hosszú | X44: 100 | Y44: 100 | Z44: 100 | AA44: 100
B46: Gép, berendezés
B48: Irányítástechnika, energiaellátás
B50: VÍZTÁROLÓK
B51: Épület, építmény
B53: Gép, berendezés
B55: Irányítástechnika, energiaellátás
B57: NYOMÁSFOKOZÓK
B58: Épület, építmény
B60: Gép, berendezés
B62: Irányítástechnika, energiaellátás
B64: Összesen: | J64: =SUM(J42:J63) -> 400 | K64: =SUM(C68) -> 145 | O64: =SUM(O12:O63) -> 145 | P64: =SUM(P12:P63) -> 21.75 | Q64: =SUM(Q12:Q63) -> 21.75 | R64: =SUM(R12:R63) -> 21.75 | S64: =SUM(S12:S63) -> 21.75 | T64: =SUM(T12:T63) -> 21.75 | U64: =SUM(U12:U63) -> 21.75 | V64: =SUM(V12:V63) -> 21.75 | ... AC64: =SUM(AC12:AC63) -> 21.75
K65: 2020 évre a fejlesztési forrás biztosított
B67: Tervezett feladatok nettó költsége a teljes ütem tekintetében (eFt) | C67: Rendelkezésre álló források számszerűsített értéke a teljes ütem tekintetében (eFt) | D67: Forrás megnevezése a teljes ütem tekintetében
A68: I. ütem | B68: =SUM(O64) -> 145 | C68: 145 | D68: Használati díj (2020)
A69: II. ütem | B69: =SUM(P64:S64) -> 87 | C69: =C68*4 -> 580 | D69: Használati díj (2021-2024)
A70: III. ütem | B70: =SUM(T64:AC64) -> 617.5 | C70: =C68*10 -> 1450 | D70: Használati díj (2025-2034)

Sheet Hagyárosbörönd
A1: Gördülő fejlesztési terv a 2020 - 2034 időszakra
A2: FELÚJÍTÁSOK ÉS PÓTLÁSOK ÖSSZEFOGLALÓ TÁBLÁZATA
A3: A tervet benyújtó szervezet megnevezése: | K3: HAGYÁROSBÖRÖND | R3: ellátásért felelős / ellátásért felelősök képviselője / víziközmű-szolgáltató *
A4: Víziközmű-szolgáltató megnevezése: | K4: ÉSZAK ZALAI VÍZ- ÉS CSATORNAMŰ ZÁRTKÖRŰEN MŰKÖDŐ RÉSZVÉNYTÁRSASÁG
A5: Víziközmű-szolgáltatási ágazat megnevezése: | K5: IVÓVÍZ ÁGAZAT
A6: Véleményeltérést megfogalmazó érintett fél megnevezése:
A7: Víziközmű-rendszer kódja: ** | K7: 11-32054-1-025-01-14 | R7: ZALAEGERSZEG-IV
A8: I. Felszín alatti vízkivétel
A9: Fontossági sorrend | B9: Felujítás és pótlás megnevezése | E9: Műszaki állapot felmérés, szükségességi indoklás | H9: Vízjogi létesítési/elvi engedély száma | I9: Az érintett ellátásért felelős(ök) megnevezése | J9: Tervezett nettó költség | K9: Forrás 2020 évre | L9: Megvalósítás időtartama | N9: Tervezett időtáv | O9: A beruházás ütemezése a tervezési időszak évei szerint
E10: Jelenlegi műszaki állapot | F10: Feladat szükségessége | G10: Megvalósítást követő várható műszaki állapot | J10: (eFt) | L10: Kezdés | M10: Befejezés | N10: (rövid / közép / hosszú) | O10: 1 | P10: 2 | Q10: 3 | R10: 4 | S10: 5 | T10: 6 | U10: 7 | V10: 8 | W10: 9 | X10: 10 | Y10: 11 | Z10: 12 | AA10: 13 | AB10: 14 | AC10: 15
B11: szakág | C11: Helyszín | D11: beruházás megnevezése
A12: 1 | D12: Rendkívüli helyzetből adódó azonnali feladatok (max. 15%) | F12: működőképeség biztosítása | I12: Hagyárosbörönd | J12: =SUM(O12:AC12) -> 1796.6 | L12: 43831 | M12: 49309 | O12: 272 | P12: =0.15*$K$66 -> 108.9 | Q12: =0.15*$K$66 -> 108.9 | R12: =0.15*$K$66 -> 108.9 | S12: =0.15*$K$66 -> 108.9 | T12: =0.15*$K$66 -> 108.9 | U12: =0.15*$K$66 -> 108.9 | V12: =0.15*$K$66 -> 108.9 | W12: =0.15*$K$66 -> 108.9 | ... AC12: =0.15*$K$66 -> 108.9
B13: MÉLYFÚRÁSÚ KÚT, HAGYOMÁNYOS ÁTMÉRŐVEL
B14: Épület, építmény
B16: Gép, berendezés
B18: Irányítástechnika, energiaellátás
B20: Összesen: | J20: =SUM(J12:J19) -> 1796.6
A22: III. Vízműtelep és vízkezelő létesítmények
C23: Helyszín | D23: beruházás megnevezése
B24: VÍZMŰTELEP
B25: Épület, építmény
B27: Gép, berendezés
B29: Irányítástechnika, energiaellátás
B31: VÍZKEZELŐ LÉTESÍTMÉNYEK
B32: Épület, építmény
B34: Gép, berendezés
B36: Irányítástechnika, energiaellátás
B38: Összesen | J38: =SUM(J24:J37) -> 0
A40: IV. Vízelosztás
C41: Helyszín | D41: beruházás megnevezése
B42: IVÓVÍZHÁLÓZAT
B43: Épület, építmény
A44: 60 | C44: Hagyárosbörönd | D44: tűzcsap építés, csere | E44: A szerelvény állapota anyaga, kora, minősége miatt nem megfelelő, elavult. | F44: A vezeték elavult műszaki állapota miatt gyakoriak a csőtörések | G44: A szerelvény kiváltás, a vízigények figyelembevételével megfelelő átmérőjű és anyagú hálózatot kapunk. | H44: - | I44: Hagyárosbörönd | J44: =SUM(O44:AC44) -> 500 | L44: 44287 | M44: 44561 | N44: közép | P44: 500
B46: Gép, berendezés
B48: Irányítástechnika, energiaellátás
B50: VÍZTÁROLÓK
B51: Épület, építmény
B53: Gép, berendezés
B55: Irányítástechnika, energiaellátás
B57: NYOMÁSFOKOZÓK
B58: Épület, építmény
B60: Gép, berendezés
A61: 134 | C61: Hagyárosbörönd nyomásfokozó | D61: Szivattyú csere (CRIE5-9 2 db; CR45-6) | E61: A szivattyú kora, műszaki állapota miatt fennáll a meghibásodás veszélye. | F61: A folyamatos víztermelés biztosítása | G61: A Q–H diagramhoz illeszkedő energiahatékony szivattyú üzemeltetése | I61: Hagyárosbörönd | J61: =SUM(O61:AC61) -> 1500 | L61: 47119 | M61: 48213 | N61: hosszú | X61: 254 | Y61: 674 | Z61: 572
B63: Irányítástechnika, energiaellátás
A64: 46 | C64: Hagyárosbörönd nyomásfokozó | D64: polidom villamos vezérlő szekrény védelem felújítás | E64: Az elektromos, irányítástechnikai szerelvények és vezetékek, műszaki állapota miatt fennáll a meghibásodás veszélye. | F64: A szivattyú elektromos megtáplálása, a folyamatos távfelügyelet biztosítása. | G64: A szivattyú elektromos paramétereihez illeszkedő erősáramú és vezérlőszekrény. | I64: Hagyárosbörönd | J64: =SUM(O64:AC64) -> 300 | L64: 43922 | M64: 44196 | N64: rövid | O64: 300
B66: Összesen: | J66: =SUM(J42:J65) -> 2300 | K66: =SUM(C70) -> 726 | O66: =SUM(O12:O65) -> 572 | P66: =SUM(P12:P65) -> 608.9 | Q66: =SUM(Q12:Q65) -> 108.9 | R66: =SUM(R12:R65) -> 108.9 | S66: =SUM(S12:S65) -> 108.9 | T66: =SUM(T12:T65) -> 108.9 | U66: =SUM(U12:U65) -> 108.9 | V66: =SUM(V12:V65) -> 108.9 | ... AC66: =SUM(AC12:AC65) -> 108.9
K67: 2020 évre a fejlesztési forrás biztosított
B69: Tervezett feladatok nettó költsége a teljes ütem tekintetében (eFt) | C69: Rendelkezésre álló források számszerűsített értéke a teljes ütem tekintetében (eFt) | D69: Forrás megnevezése a teljes ütem tekintetében
A70: I. ütem | B70: =SUM(O66) -> 572 | C70: 726 | D70: Használati díj (2020)
A71: II. ütem | B71: =SUM(P66:S66) -> 935.6 | C71: =C70*4 -> 2904 | D71: Használati díj (2021-2024)
A72: III. ütem | B72: =SUM(T66:AC66) -> 2589 | C72: =C70*10 -> 7260 | D72: Használati díj (2025-2034)

Sheet Hottó
A1: Gördülő fejlesztési terv a 2020 - 2034 időszakra
A2: FELÚJÍTÁSOK ÉS PÓTLÁSOK ÖSSZEFOGLALÓ TÁBLÁZATA
A3: A tervet benyújtó szervezet megnevezése: | K3: HOTTÓ | R3: ellátásért felelős / ellátásért felelősök képviselője / víziközmű-szolgáltató *
A4: Víziközmű-szolgáltató megnevezése: | K4: ÉSZAK ZALAI VÍZ- ÉS CSATORNAMŰ ZÁRTKÖRŰEN MŰKÖDŐ RÉSZVÉNYTÁRSASÁG
A5: Víziközmű-szolgáltatási ágazat megnevezése: | K5: IVÓVÍZ ÁGAZAT
A6: Véleményeltérést megfogalmazó érintett fél megnevezése:
A7: Víziközmű-rendszer kódja: ** | K7: 11-32054-1-025-01-14 | R7: ZALAEGERSZEG-IV
A8: I. Felszín alatti vízkivétel
A9: Fontossági sorrend | B9: Felujítás és pótlás megnevezése | E9: Műszaki állapot felmérés, szükségességi indoklás | H9: Vízjogi létesítési/elvi engedély száma | I9: Az érintett ellátásért felelős(ök) megnevezése | J9: Tervezett nettó költség | K9: Forrás 2020 évre | L9: Megvalósítás időtartama | N9: Tervezett időtáv | O9: A beruházás ütemezése a tervezési időszak évei szerint
E10: Jelenlegi műszaki állapot | F10: Feladat szükségessége | G10: Megvalósítást követő várható műszaki állapot | J10: (eFt) | L10: Kezdés | M10: Befejezés | N10: (rövid / közép / hosszú) | O10: 1 | P10: 2 | Q10: 3 | R10: 4 | S10: 5 | T10: 6 | U10: 7 | V10: 8 | W10: 9 | X10: 10 | Y10: 11 | Z10: 12 | AA10: 13 | AB10: 14 | AC10: 15
B11: szakág | C11: Helyszín | D11: beruházás megnevezése
A12: 1 | D12: Rendkívüli helyzetből adódó azonnali feladatok (max. 15%) | F12: működőképeség biztosítása | I12: Hottó | J12: =SUM(O12:AC12) -> 1269 | L12: 43831 | M12: 49309 | O12: =0.15*$C$70 -> 84.6 | P12: =0.15*$K$66 -> 84.6 | Q12: =0.15*$K$66 -> 84.6 | R12: =0.15*$K$66 -> 84.6 | S12: =0.15*$K$66 -> 84.6 | T12: =0.15*$K$66 -> 84.6 | U12: =0.15*$K$66 -> 84.6 | V12: =0.15*$K$66 -> 84.6 | W12: =0.15*$K$66 -> 84.6 | ... AC12: =0.15*$K$66 -> 84.6
B13: MÉLYFÚRÁSÚ KÚT, HAGYOMÁNYOS ÁTMÉRŐVEL
B14: Épület, építmény
B16: Gép, berendezés
B18: Irányítástechnika, energiaellátás
B20: Összesen: | J20: =SUM(J12:J18) -> 1269
A22: III. Vízműtelep és vízkezelő létesítmények
C23: Helyszín | D23: beruházás megnevezése
B24: VÍZMŰTELEP
B25: Épület, építmény
B27: Gép, berendezés
B29: Irányítástechnika, energiaellátás
B31: VÍZKEZELŐ LÉTESÍTMÉNYEK
B32: Épület, építmény
B34: Gép, berendezés
B36: Irányítástechnika, energiaellátás
B38: Összesen | J38: =SUM(J24:J37) -> 0
A40: IV. Vízelosztás
C41: Helyszín | D41: beruházás megnevezése
B42: IVÓVÍZHÁLÓZAT
B43: Épület, építmény
B45: Gép, berendezés
B47: Irányítástechnika, energiaellátás
B49: VÍZTÁROLÓK
B50: Épület, építmény
B52: Gép, berendezés
B54: Irányítástechnika, energiaellátás
A55: 38 | C55: Babosdöbréte tároló | D55: URH kommunikáció átállás GPRS-re | E55: Az elektromos, irányítástechnikai szerelvények és vezetékek, műszaki állapota miatt fennáll a meghibásodás veszélye. | F55: A szivattyú elektromos megtáplálása, a folyamatos távfelügyelet biztosítása. | G55: A szivattyú elektromos paramétereihez illeszkedő erősáramú és vezérlőszekrény. | I55: Babosdöbréte osztatlan közös | J55: =SUM(O55:AC55) -> 180 | L55: 43922 | M55: 44196 | N55: rövid | O55: 180
B57: NYOMÁSFOKOZÓK
B58: Épület, építmény
B60: Gép, berendezés
A61: 131 | C61: Teskánd Babosdöbrétei átemelő | D61: Szivattyú csere (EMU K64-10 2 db), teljes gépészeti rekonstrukció | E61: A szivattyú kora, műszaki állapota miatt fennáll a meghibásodás veszélye. Feladat szükségessége | F61: A folyamatos víztermelés biztosítása. | G61: A Q–H diagramhoz illeszkedő energiahatékony szivattyú üzemeltetése. | I61: Babosdöbréte osztatlan közös | J61: =SUM(O61:AC61) -> 981 | L61: 47119 | M61: 47483 | N61: hosszú | X61: 981
B63: Irányítástechnika, energiaellátás
A64: 39 | C64: Babosdöbréte átemelő | D64: URH kommunikáció átállás GPRS-re | E64: Az elektromos, irányítástechnikai szerelvények és vezetékek, műszaki állapota miatt fennáll a meghibásodás veszélye. | F64: A szivattyú elektromos megtáplálása, a folyamatos távfelügyelet biztosítása. | G64: A szivattyú elektromos paramétereihez illeszkedő erősáramú és vezérlőszekrény. | I64: Babosdöbréte osztatlan közös | J64: =SUM(O64:AC64) -> 180 | L64: 43922 | M64: 44196 | N64: rövid | O64: 180
B66: Összesen: | J66: =SUM(J42:J65) -> 1341 | K66: =SUM(C70) -> 564 | O66: =SUM(O12:O65) -> 444.6 | P66: =SUM(P12:P65) -> 84.6 | Q66: =SUM(Q12:Q65) -> 84.6 | R66: =SUM(R12:R65) -> 84.6 | S66: =SUM(S12:S65) -> 84.6 | T66: =SUM(T12:T65) -> 84.6 | U66: =SUM(U12:U65) -> 84.6 | V66: =SUM(V12:V65) -> 84.6 | ... AC66: =SUM(AC12:AC65) -> 84.6
K67: 2020 évre a fejlesztési forrás biztosított
B69: Tervezett feladatok nettó költsége a teljes ütem tekintetében (eFt) | C69: Rendelkezésre álló források számszerűsített értéke a teljes ütem tekintetében (eFt) | D69: Forrás megnevezése a teljes ütem tekintetében
A70: I. ütem | B70: =SUM(O66) -> 444.6 | C70: 564 | D70: Használati díj (2020)
A71: II. ütem | B71: =SUM(P66:S66) -> 338.4 | C71: =C70*4 -> 2256 | D71: Használati díj (2021-2024)
A72: III. ütem | B72: =SUM(T66:AC66) -> 1827 | C72: =C70*10 -> 5640 | D72: Használati díj (2025-2034)

Sheet Kávás
A1: Gördülő fejlesztési terv a 2020 - 2034 időszakra
A2: FELÚJÍTÁSOK ÉS PÓTLÁSOK ÖSSZEFOGLALÓ TÁBLÁZATA
A3: A tervet benyújtó szervezet megnevezése: | K3: KÁVÁS | R3: ellátásért felelős / ellátásért felelősök képviselője / víziközmű-szolgáltató *
A4: Víziközmű-szolgáltató megnevezése: | K4: ÉSZAK ZALAI VÍZ- ÉS CSATORNAMŰ ZÁRTKÖRŰEN MŰKÖDŐ RÉSZVÉNYTÁRSASÁG
A5: Víziközmű-szolgáltatási ágazat megnevezése: | K5: IVÓVÍZ ÁGAZAT
A6: Véleményeltérést megfogalmazó érintett fél megnevezése:
A7: Víziközmű-rendszer kódja: ** | K7: 11-32054-1-025-01-14 | R7: ZALAEGERSZEG-IV
A8: I. Felszín alatti vízkivétel
A9: Fontossági sorrend | B9: Felujítás és pótlás megnevezése | E9: Műszaki állapot felmérés, szükségességi indoklás | H9: Vízjogi létesítési/elvi engedély száma | I9: Az érintett ellátásért felelős(ök) megnevezése | J9: Tervezett nettó költség | K9: Forrás 2020 évre | L9: Megvalósítás időtartama | N9: Tervezett időtáv | O9: A beruházás ütemezése a tervezési időszak évei szerint
E10: Jelenlegi műszaki állapot | F10: Feladat szükségessége | G10: Megvalósítást követő várható műszaki állapot | J10: (eFt) | L10: Kezdés | M10: Befejezés | N10: (rövid / közép / hosszú) | O10: 1 | P10: 2 | Q10: 3 | R10: 4 | S10: 5 | T10: 6 | U10: 7 | V10: 8 | W10: 9 | X10: 10 | Y10: 11 | Z10: 12 | AA10: 13 | AB10: 14 | AC10: 15
B11: szakág | C11: Helyszín | D11: beruházás megnevezése
A12: 1 | D12: Rendkívüli helyzetből adódó azonnali feladatok (max.15%) | F12: működőképeség biztosítása | I12: Kávás | J12: =SUM(O12:AC12) -> 2352.9 | L12: 43831 | M12: 49309 | O12: =1*$C$70 -> 759 | P12: =0.15*$K$66 -> 113.85 | Q12: =0.15*$K$66 -> 113.85 | R12: =0.15*$K$66 -> 113.85 | S12: =0.15*$K$66 -> 113.85 | T12: =0.15*$K$66 -> 113.85 | U12: =0.15*$K$66 -> 113.85 | V12: =0.15*$K$66 -> 113.85 | W12: =0.15*$K$66 -> 113.85 | ... AC12: =0.15*$K$66 -> 113.85
B13: MÉLYFÚRÁSÚ KÚT, HAGYOMÁNYOS ÁTMÉRŐVEL
B14: Épület, építmény
B16: Gép, berendezés
B18: Irányítástechnika, energiaellátás
B20: Összesen: | J20: =SUM(J12:J19) -> 2352.9
A22: III. Vízműtelep és vízkezelő létesítmények
C23: Helyszín | D23: beruházás megnevezése
B24: VÍZMŰTELEP
B25: Épület, építmény
B27: Gép, berendezés
B29: Irányítástechnika, energiaellátás
B31: VÍZKEZELŐ LÉTESÍTMÉNYEK
B32: Épület, építmény
B34: Gép, berendezés
B36: Irányítástechnika, energiaellátás
B38: Összesen | J38: =SUM(J24:J37) -> 0
A40: IV. Vízelosztás
C41: Helyszín | D41: beruházás megnevezése
B42: IVÓVÍZHÁLÓZAT
B43: Épület, építmény
A44: 61 | C44: Kávás | D44: tűzcsap építés, csere | E44: A szerelvény állapota anyaga, kora, minősége miatt nem megfelelő, elavult. | F44: A szerelvény elavult műszaki állapota miatt gyakoriak a csőtörések | G44: A szerelvény kiváltás, a vízigények figyelembevételével megfelelő átmérőjű és anyagú hálózatot kapunk. | I44: Kávás | J44: =SUM(O44:AC44) -> 500 | L44: 44287 | M44: 44561 | N44: közép | P44: 500
A45: 104 | C45: Kávás | D45: vezeték kiváltás, rekonstrukció, felújítás | E45: A vezeték állapota anyaga, kora, minősége miatt nem megfelelő, elavult. | F45: A vezeték elavult műszaki állapota miatt gyakoriak a csőtörések | G45: A vízvezeték kiváltás, a vízigények figyelembevételével megfelelő átmérőjű és anyagú hálózatot kapunk. | I45: Kávás | J45: =SUM(O45:AC45) -> 66130 | L45: 45748 | M45: 49309 | N45: hosszú | T45: 6613 | U45: 6613 | V45: 6613 | W45: 6613 | X45: 6613 | Y45: 6613 | Z45: 6613 | AA45: 6613 | AB45: 6613 | AC45: 6613
B47: Gép, berendezés
B49: Irányítástechnika, energiaellátás
B51: VÍZTÁROLÓK
B52: Épület, építmény
B54: Gép, berendezés
B56: Irányítástechnika, energiaellátás
B58: NYOMÁSFOKOZÓK
B59: Épület, építmény
B61: Gép, berendezés
A62: 135 | C62: Kávás Öreghegy nyomásfokozó | D62: Szivattyú csere (CRIE3-8 2 db) | E62: A szivattyú kora, műszaki állapota miatt fennáll a meghibásodás veszélye. | F62: A folyamatos víztermelés biztosítása | G62: A Q–H diagramhoz illeszkedő energiahatékony szivattyú üzemeltetése | I62: Kávás | J62: =SUM(O62:AC62) -> 500 | L62: 47119 | M62: 47848 | N62: hosszú | X62: 310 | Y62: 190
B64: Irányítástechnika, energiaellátás
B66: Összesen: | J66: =SUM(J42:J65) -> 67130 | K66: =SUM(C70) -> 759 | O66: =SUM(O12:O65) -> 759 | P66: =SUM(P12:P65) -> 613.85 | Q66: =SUM(Q12:Q65) -> 113.85 | R66: =SUM(R12:R65) -> 113.85 | S66: =SUM(S12:S65) -> 113.85 | T66: =SUM(T12:T65) -> 6726.85 | U66: =SUM(U12:U65) -> 6726.85 | V66: =SUM(V12:V65) -> 6726.85 | ... AC66: =SUM(AC12:AC65) -> 6726.85
K67: 2020 évre a fejlesztési forrás biztosított
B69: Tervezett feladatok nettó költsége a teljes ütem tekintetében (eFt) | C69: Rendelkezésre álló források számszerűsített értéke a teljes ütem tekintetében (eFt) | D69: Forrás megnevezése a teljes ütem tekintetében
A70: I. ütem | B70: =SUM(O66) -> 759 | C70: 759 | D70: Használati díj (2020)
A71: II. ütem | B71: =SUM(P66:S66) -> 955.4 | C71: =C70*4 -> 3036 | D71: Használati díj (2021-2024)
A72: III. ütem | B72: =SUM(T66:AC66) -> 67768.5 | C72: =C70*10 -> 7590 | D72: Használati díj (2025-2034)

Sheet Kiskutas
A1: Gördülő fejlesztési terv a 2020 - 2034 időszakra
A2: FELÚJÍTÁSOK ÉS PÓTLÁSOK ÖSSZEFOGLALÓ TÁBLÁZATA
A3: A tervet benyújtó szervezet megnevezése: | K3: KISKUTAS | R3: ellátásért felelős / ellátásért felelősök képviselője / víziközmű-szolgáltató *
A4: Víziközmű-szolgáltató megnevezése: | K4: ÉSZAK ZALAI VÍZ- ÉS CSATORNAMŰ ZÁRTKÖRŰEN MŰKÖDŐ RÉSZVÉNYTÁRSASÁG
A5: Víziközmű-szolgáltatási ágazat megnevezése: | K5: IVÓVÍZ ÁGAZAT
A6: Véleményeltérést megfogalmazó érintett fél megnevezése:
A7: Víziközmű-rendszer kódja: ** | K7: 11-32054-1-025-01-14 | R7: ZALAEGERSZEG-IV
A8: I. Felszín alatti vízkivétel
A9: Fontossági sorrend | B9: Felujítás és pótlás megnevezése | E9: Műszaki állapot felmérés, szükségességi indoklás | H9: Vízjogi létesítési/elvi engedély száma | I9: Az érintett ellátásért felelős(ök) megnevezése | J9: Tervezett nettó költség | K9: Forrás 2020 évre | L9: Megvalósítás időtartama | N9: Tervezett időtáv | O9: A beruházás ütemezése a tervezési időszak évei szerint
E10: Jelenlegi műszaki állapot | F10: Feladat szükségessége | G10: Megvalósítást követő várható műszaki állapot | J10: (eFt) | L10: Kezdés | M10: Befejezés | N10: (rövid / közép / hosszú) | O10: 1 | P10: 2 | Q10: 3 | R10: 4 | S10: 5 | T10: 6 | U10: 7 | V10: 8 | W10: 9 | X10: 10 | Y10: 11 | Z10: 12 | AA10: 13 | AB10: 14 | AC10: 15
B11: szakág | C11: Helyszín | D11: beruházás megnevezése
A12: 1 | D12: Rendkívüli helyzetből adódó azonnali feladatok (max. 15%) | F12: működőképeség biztosítása | I12: Kiskutas | J12: =SUM(O12:AC12) -> 1592.8 | L12: 43831 | M12: 49309 | O12: 400 | P12: =0.15*$K$68 -> 85.2 | Q12: =0.15*$K$68 -> 85.2 | R12: =0.15*$K$68 -> 85.2 | S12: =0.15*$K$68 -> 85.2 | T12: =0.15*$K$68 -> 85.2 | U12: =0.15*$K$68 -> 85.2 | V12: =0.15*$K$68 -> 85.2 | W12: =0.15*$K$68 -> 85.2 | ... AC12: =0.15*$K$68 -> 85.2
B13: MÉLYFÚRÁSÚ KÚT, HAGYOMÁNYOS ÁTMÉRŐVEL
B14: Épület, építmény
B16: Gép, berendezés
B18: Irányítástechnika, energiaellátás
B20: Összesen: | J20: =SUM(J12:J18) -> 1592.8
A22: III. Vízműtelep és vízkezelő létesítmények
C23: Helyszín | D23: beruházás megnevezése
B24: VÍZMŰTELEP
B25: Épület, építmény
B27: Gép, berendezés
B29: Irányítástechnika, energiaellátás
B31: VÍZKEZELŐ LÉTESÍTMÉNYEK
B32: Épület, építmény
B34: Gép, berendezés
B36: Irányítástechnika, energiaellátás
B38: Összesen | J38: =SUM(J24:J37) -> 0
A40: IV. Vízelosztás
C41: Helyszín | D41: beruházás megnevezése
B42: IVÓVÍZHÁLÓZAT
B43: Épület, építmény
A44: 105 | C44: Kiskutas átemelő és a település között | D44: gerincvezeték csere (D160 410 fm | E44: A vezeték állapota anyaga, kora, minősége miatt nem megfelelő, elavult. | F44: A vezeték elavult műszaki állapota miatt gyakoriak a csőtörések | G44: A vezeték kiváltás, a vízigények figyelembevételével megfelelő átmérőjű és anyagú hálózatot kapunk. | I44: Kiskutas | J44: =SUM(O44:AC44) -> 14350 | L44: 45748 | M44: 49309 | N44: hosszú | T44: 1435 | U44: 1435 | V44: 1435 | W44: 1435 | X44: 1435 | Y44: 1435 | Z44: 1435 | AA44: 1435 | AB44: 1435 | AC44: 1435
B46: Gép, berendezés
B48: Irányítástechnika, energiaellátás
B50: VÍZTÁROLÓK
B51: Épület, építmény
B53: Gép, berendezés
B55: Irányítástechnika, energiaellátás
A56: 47 | C56: Nagykutas víztorony | D56: URH kommunikáció átállás GPRS-re | E56: Az elektromos, irányítástechnikai szerelvények és vezetékek, műszaki állapota miatt fennáll a meghibásodás veszélye | F56: A megfelelő minőségű kommunikáció, a folyamatos távfelügyelet biztosítása. | G56: Megfelelő biztonságú adatkommunikációs csatorna. | I56: Nagykutas osztatlan közös | J56: =SUM(O56:AC56) -> 84 | L56: 43922 | M56: 44196 | N56: rövid | O56: 84
B58: NYOMÁSFOKOZÓK
B59: Épület, építmény
B61: Gép, berendezés
A62: 122 | C62: Nagykutasi átemelő | D62: Szivattyú csere (EMU K64-6 2 db), teljes gépészeti rekonstrukció | E62: A szivattyú kora, műszaki állapota miatt fennáll a meghibásodás veszélye. Feladat szükségessége | F62: A folyamatos víztermelés biztosítása. | G62: A Q–H diagramhoz illeszkedő energiahatékony szivattyú üzemeltetése. | I62: Nagykutas osztatlan közös | J62: =SUM(O62:AC62) -> 456 | L62: 46388 | M62: 46752 | N62: hosszú | V62: 456
B64: Irányítástechnika, energiaellátás
A65: 48 | C65: Kiskutas átemelő | D65: URH kommunikáció átállás GPRS-re | E65: Az elektromos, irányítástechnikai szerelvények és vezetékek, műszaki állapota miatt fennáll a meghibásodás veszélye | F65: A szivattyú elektromos megtáplálása, a folyamatos távfelügyelet biztosítása. | G65: A szivattyú elektromos paramétereihez illeszkedő erősáramú és vezérlőszekrény. | I65: Nagykutas osztatlan közös | J65: =SUM(O65:AC65) -> 84 | L65: 43922 | M65: 44196 | N65: rövid | O65: 84
A66: 123 | C66: Nagykutas átemelő | D66: villamos és irányítástechnika felújítása | E66: Az elektromos, irányítástechnikai szerelvények és vezetékek, műszaki állapota miatt fennáll a meghibásodás veszélye. | F66: A szivattyú elektromos megtáplálása, a folyamatos távfelügyelet biztosítása. | G66: A szivattyú elektromos paramétereihez illeszkedő erősáramú és vezérlőszekrény. | I66: Nagykutas osztatlan közös | J66: =SUM(O66:AC66) -> 456 | L66: 46388 | M66: 46752 | N66: hosszú | V66: 456
B68: Összesen: | J68: =SUM(J42:J67) -> 15430 | K68: =SUM(C72) -> 568 | O68: =SUM(O12:O67) -> 568 | P68: =SUM(P12:P67) -> 85.2 | Q68: =SUM(Q12:Q67) -> 85.2 | R68: =SUM(R12:R67) -> 85.2 | S68: =SUM(S12:S67) -> 85.2 | T68: =SUM(T12:T67) -> 1520.2 | U68: =SUM(U12:U67) -> 1520.2 | V68: =SUM(V12:V67) -> 2432.2 | ... AC68: =SUM(AC12:AC67) -> 1520.2
K69: 2020 évre a fejlesztési forrás biztosított
B71: Tervezett feladatok nettó költsége a teljes ütem tekintetében (eFt) | C71: Rendelkezésre álló források számszerűsített értéke a teljes ütem tekintetében (eFt) | D71: Forrás megnevezése a teljes ütem tekintetében
A72: I. ütem | B72: =SUM(O68) -> 568 | C72: 568 | D72: Használati díj (2020)
A73: II. ütem | B73: =SUM(P68:S68) -> 340.8 | C73: =C72*4 -> 2272 | D73: Használati díj (2021-2024)
A74: III. ütem | B74: =SUM(T68:AC68) -> 16114 | C74: =C72*10 -> 5680 | D74: Használati díj (2025-2034)

Sheet Kispáli
A1: Gördülő fejlesztési terv a 2020 - 2034 időszakra
A2: FELÚJÍTÁSOK ÉS PÓTLÁSOK ÖSSZEFOGLALÓ TÁBLÁZATA
A3: A tervet benyújtó szervezet megnevezése: | K3: KISPÁLI | R3: ellátásért felelős / ellátásért felelősök képviselője / víziközmű-szolgáltató *
A4: Víziközmű-szolgáltató megnevezése: | K4: ÉSZAK ZALAI VÍZ- ÉS CSATORNAMŰ ZÁRTKÖRŰEN MŰKÖDŐ RÉSZVÉNYTÁRSASÁG
A5: Víziközmű-szolgáltatási ágazat megnevezése: | K5: IVÓVÍZ ÁGAZAT
A6: Véleményeltérést megfogalmazó érintett fél megnevezése:
A7: Víziközmű-rendszer kódja: ** | K7: 11-32054-1-025-01-14 | R7: ZALAEGERSZEG-IV
A8: I. Felszín alatti vízkivétel
A9: Fontossági sorrend | B9: Felujítás és pótlás megnevezése | E9: Műszaki állapot felmérés, szükségességi indoklás | H9: Vízjogi létesítési/elvi engedély száma | I9: Az érintett ellátásért felelős(ök) megnevezése | J9: Tervezett nettó költség | K9: Forrás 2020 évre | L9: Megvalósítás időtartama | N9: Tervezett időtáv | O9: A beruházás ütemezése a tervezési időszak évei szerint
E10: Jelenlegi műszaki állapot | F10: Feladat szükségessége | G10: Megvalósítást követő várható műszaki állapot | J10: (eFt) | L10: Kezdés | M10: Befejezés | N10: (rövid / közép / hosszú) | O10: 1 | P10: 2 | Q10: 3 | R10: 4 | S10: 5 | T10: 6 | U10: 7 | V10: 8 | W10: 9 | X10: 10 | Y10: 11 | Z10: 12 | AA10: 13 | AB10: 14 | AC10: 15
B11: szakág | C11: Helyszín | D11: beruházás megnevezése
A12: 1 | D12: Rendkívüli helyzetből adódó azonnali feladatok (max.15%) | F12: működőképeség biztosítása | I12: Kispáli | J12: =SUM(O12:AC12) -> 3735 | L12: 43831 | M12: 49309 | O12: =0.15*$K$71 -> 249 | P12: =0.15*$K$71 -> 249 | Q12: =0.15*$K$71 -> 249 | R12: =0.15*$K$71 -> 249 | S12: =0.15*$K$71 -> 249 | T12: =0.15*$K$71 -> 249 | U12: =0.15*$K$71 -> 249 | V12: =0.15*$K$71 -> 249 | ... AC12: =0.15*$K$71 -> 249
B13: MÉLYFÚRÁSÚ KÚT, HAGYOMÁNYOS ÁTMÉRŐVEL
B14: Épület, építmény
B16: Gép, berendezés
B18: Irányítástechnika, energiaellátás
B20: Összesen: | J20: =SUM(J12:J19) -> 3735
A22: III. Vízműtelep és vízkezelő létesítmények
C23: Helyszín | D23: beruházás megnevezése
B24: VÍZMŰTELEP
B25: Épület, építmény
B27: Gép, berendezés
B29: Irányítástechnika, energiaellátás
B31: VÍZKEZELŐ LÉTESÍTMÉNYEK
B32: Épület, építmény
B34: Gép, berendezés
B36: Irányítástechnika, energiaellátás
B38: Összesen | J38: =SUM(J24:J37) -> 0
A40: IV. Vízelosztás
C41: Helyszín | D41: beruházás megnevezése
B42: IVÓVÍZHÁLÓZAT
B43: Épület, építmény
A44: 49 | C44: Kispáli | D44: vezeték kiváltás, rekonstrukció, felújítás | E44: A vezeték állapota anyaga, kora, minősége miatt nem megfelelő, elavult. | F44: A vezeték elavult műszaki állapota miatt gyakoriak a csőtörések. | G44: A vízvezeték kiváltás, a vízigények figyelembevételével megfelelő átmérőjű és anyagú hálózatot kapunk. | H44: - | I44: Kispáli | J44: =SUM(O44:AC44) -> 1211 | L44: 43831 | M44: 44196 | N44: rövid | O44: 1211
A45: 62 | C45: Kispáli | D45: bekötéscsere | E45: A vezeték állapota anyaga, kora, minősége miatt nem megfelelő, elavult. | F45: A bekötővezeték anyaga vízbiztonsági kockázatot rejt magában, illetve nagyobb a valószínűsége a meghibásodásnak. | G45: A vízvezeték kiváltás, a vízigények figyelembevételével megfelelő átmérőjű és anyagú hálózatot kapunk. | H45: - | I45: Kispáli | J45: =SUM(O45:AC45) -> 4124 | L45: 44317 | M45: 45657 | N45: közép | P45: 1031 | Q45: 1031 | R45: 1031 | S45: 1031
A46: 90 | C46: Kispáli | D46: tűzcsap építés, csere | E46: A vezeték állapota anyaga, kora, minősége miatt nem megfelelő, elavult. | F46: A vezeték elavult műszaki állapota miatt gyakoriak a csőtörések. | G46: A vízvezeték kiváltás, a vízigények figyelembevételével megfelelő átmérőjű és anyagú hálózatot kapunk. | H46: - | I46: Kispáli | J46: =SUM(O46:AC46) -> 2062 | L46: 45047 | M46: 45657 | N46: közép | R46: 1031 | S46: 1031
A47: 106 | C47: Kispáli | D47: bekötéscsere | E47: A vezeték állapota anyaga, kora, minősége miatt nem megfelelő, elavult. | F47: A bekötővezeték anyaga vízbiztonsági kockázatot rejt magában, illetve nagyobb a valószínűsége a meghibásodásnak. | G47: A vízvezeték kiváltás, a vízigények figyelembevételével megfelelő átmérőjű és anyagú hálózatot kapunk. | H47: - | I47: Kispáli | J47: =SUM(O47:AC47) -> 10310 | L47: 45778 | M47: 49309 | N47: hosszú | T47: 1031 | U47: 1031 | V47: 1031 | W47: 1031 | X47: 1031 | Y47: 1031 | Z47: 1031 | AA47: 1031 | AB47: 1031 | AC47: 1031
B49: Gép, berendezés
B51: Irányítástechnika, energiaellátás
B53: VÍZTÁROLÓK
B54: Épület, építmény
B56: Gép, berendezés
B58: Irányítástechnika, energiaellátás
A59: 47 | C59: Nagykutas víztorony | D59: URH kommunikáció átállás GPRS-re | E59: Az elektromos, irányítástechnikai szerelvények és vezetékek, műszaki állapota miatt fennáll a meghibásodás veszélye | F59: A szivattyú elektromos megtáplálása, a folyamatos távfelügyelet biztosítása. | G59: A szivattyú elektromos paramétereihez illeszkedő erősáramú és vezérlőszekrény. | I59: Nagykutas osztatlan közös | J59: =SUM(O59:AC59) -> 100 | L59: 43922 | M59: 44196 | N59: rövid | O59: 100
B61: NYOMÁSFOKOZÓK
B62: Épület, építmény
B64: Gép, berendezés
A65: 122 | C65: Nagykutasi átemelő | D65: Szivattyú csere (EMU K64-6 2 db), teljes gépészeti rekonstrukció | E65: A szivattyú kora, műszaki állapota miatt fennáll a meghibásodás veszélye. Feladat szükségessége | F65: A folyamatos víztermelés biztosítása. | G65: A Q–H diagramhoz illeszkedő energiahatékony szivattyú üzemeltetése. | I65: Nagykutas osztatlan közös | J65: =SUM(O65:AC65) -> 974 | L65: 46388 | M65: 46752 | N65: hosszú | V65: 974
B67: Irányítástechnika, energiaellátás
A68: 48 | C68: Kiskutas átemelő | D68: URH kommunikáció átállás GPRS-re | E68: Az elektromos, irányítástechnikai szerelvények és vezetékek, műszaki állapota miatt fennáll a meghibásodás veszélye | F68: A szivattyú elektromos megtáplálása, a folyamatos távfelügyelet biztosítása. | G68: A szivattyú elektromos paramétereihez illeszkedő erősáramú és vezérlőszekrény. | I68: Nagykutas osztatlan közös | J68: =SUM(O68:AC68) -> 100 | L68: 43922 | M68: 44196 | N68: rövid | O68: 100
A69: 123 | C69: Nagykutas átemelő | D69: villamos és irányítástechnika felújítása | E69: Az elektromos, irányítástechnikai szerelvények és vezetékek, műszaki állapota miatt fennáll a meghibásodás veszélye. | F69: A szivattyú elektromos megtáplálása, a folyamatos távfelügyelet biztosítása. | G69: A szivattyú elektromos paramétereihez illeszkedő erősáramú és vezérlőszekrény. | I69: Nagykutas osztatlan közös | J69: =SUM(O69:AC69) -> 974 | L69: 46388 | M69: 46752 | N69: hosszú | V69: 974
B71: Összesen: | J71: =SUM(J42:J70) -> 19855 | K71: =SUM(C75) -> 1660 | O71: =SUM(O11:O70) -> 1660 | P71: =SUM(P11:P70) -> 1280 | Q71: =SUM(Q11:Q70) -> 1280 | R71: =SUM(R11:R70) -> 2311 | S71: =SUM(S11:S70) -> 2311 | T71: =SUM(T11:T70) -> 1280 | U71: =SUM(U11:U70) -> 1280 | V71: =SUM(V11:V70) -> 3228 | ... AC71: =SUM(AC11:AC70) -> 1280
K72: 2020 évre a fejlesztési forrás biztosított
B74: Tervezett feladatok nettó költsége a teljes ütem tekintetében (eFt) | C74: Rendelkezésre álló források számszerűsített értéke a teljes ütem tekintetében (eFt) | D74: Forrás megnevezése a teljes ütem tekintetében
A75: I. ütem | B75: =SUM(O71) -> 1660 | C75: 1660 | D75: Használati díj (2020)
A76: II. ütem | B76: =SUM(P71:S71) -> 7182 | C76: =C75*4 -> 6640 | D76: Használati díj (2021-2024)
A77: III. ütem | B77: =SUM(T71:AC71) -> 14748 | C77: =C75*10 -> 16600 | D77: Használati díj (2025-2034)

Sheet Kustánszeg
A1: Gördülő fejlesztési terv a 2020 - 2034 időszakra
A2: FELÚJÍTÁSOK ÉS PÓTLÁSOK ÖSSZEFOGLALÓ TÁBLÁZATA
A3: A tervet benyújtó szervezet megnevezése: | K3: KUSTÁNSZEG | R3: ellátásért felelős / ellátásért felelősök képviselője / víziközmű-szolgáltató *
A4: Víziközmű-szolgáltató megnevezése: | K4: ÉSZAK ZALAI VÍZ- ÉS CSATORNAMŰ ZÁRTKÖRŰEN MŰKÖDŐ RÉSZVÉNYTÁRSASÁG
A5: Víziközmű-szolgáltatási ágazat megnevezése: | K5: IVÓVÍZ ÁGAZAT
A6: Véleményeltérést megfogalmazó érintett fél megnevezése:
A7: Víziközmű-rendszer kódja: ** | K7: 11-32054-1-025-01-14 | R7: ZALAEGERSZEG-IV
A8: I. Felszín alatti vízkivétel
A9: Fontossági sorrend | B9: Felujítás és pótlás megnevezése | E9: Műszaki állapot felmérés, szükségességi indoklás | H9: Vízjogi létesítési/elvi engedély száma | I9: Az érintett ellátásért felelős(ök) megnevezése | J9: Tervezett nettó költség | K9: Forrás 2020 évre | L9: Megvalósítás időtartama | N9: Tervezett időtáv | O9: A beruházás ütemezése a tervezési időszak évei szerint
E10: Jelenlegi műszaki állapot | F10: Feladat szükségessége | G10: Megvalósítást követő várható műszaki állapot | J10: (eFt) | L10: Kezdés | M10: Befejezés | N10: (rövid / közép / hosszú) | O10: 1 | P10: 2 | Q10: 3 | R10: 4 | S10: 5 | T10: 6 | U10: 7 | V10: 8 | W10: 9 | X10: 10 | Y10: 11 | Z10: 12 | AA10: 13 | AB10: 14 | AC10: 15
B11: szakág | C11: Helyszín | D11: beruházás megnevezése
A12: 1 | D12: Rendkívüli helyzetből adódó azonnali feladatok (max. 5%) | F12: működőképeség biztosítása | I12: Kustánszeg | J12: =SUM(O12:AC12) -> 5760 | L12: 43831 | M12: 49309 | O12: =0.15*$K$66 -> 384 | P12: =0.15*$K$66 -> 384 | Q12: =0.15*$K$66 -> 384 | R12: =0.15*$K$66 -> 384 | S12: =0.15*$K$66 -> 384 | T12: =0.15*$K$66 -> 384 | U12: =0.15*$K$66 -> 384 | V12: =0.15*$K$66 -> 384 | ... AC12: =0.15*$K$66 -> 384
B13: MÉLYFÚRÁSÚ KÚT, HAGYOMÁNYOS ÁTMÉRŐVEL
B14: Épület, építmény
B16: Gép, berendezés
B18: Irányítástechnika, energiaellátás
B20: Összesen: | J20: =SUM(J12:J19) -> 5760
A22: III. Vízműtelep és vízkezelő létesítmények
C23: Helyszín | D23: beruházás megnevezése
B24: VÍZMŰTELEP
B25: Épület, építmény
B27: Gép, berendezés
B29: Irányítástechnika, energiaellátás
B31: VÍZKEZELŐ LÉTESÍTMÉNYEK
B32: Épület, építmény
B34: Gép, berendezés
B36: Irányítástechnika, energiaellátás
B38: Összesen | J38: =SUM(J24:J37) -> 0
A40: IV. Vízelosztás
C41: Helyszín | D41: beruházás megnevezése
B42: IVÓVÍZHÁLÓZAT
B43: Épület, építmény
A44: 50 | C44: Kustánszeg | D44: vezeték kiváltás, rekonstrukció, felújítás | E44: A vezeték állapota anyaga, kora, minősége miatt nem megfelelő, elavult. | F44: A bekötővezeték anyaga vízbiztonsági kockázatot rejt magában, illetve nagyobb a valószínűsége a meghibásodásnak. | G44: A vízvezeték kiváltás, a vízigények figyelembevételével megfelelő átmérőjű és anyagú hálózatot kapunk. | H44: - | I44: Kustánszeg | J44: =SUM(O44:AC44) -> 2196 | L44: 43831 | M44: 44196 | N44: rövid | O44: 2196
B46: Gép, berendezés
B48: Irányítástechnika, energiaellátás
B50: VÍZTÁROLÓK
B51: Épület, építmény
B53: Gép, berendezés
A54: 88 | C54: Kustánszeg víztorony | D54: közmű gépészet felújítása | E54: A technológia, szerelvények és vezetékek, műszaki állapota miatt fennáll a meghibásodás veszélye. | F54: A víztárolás gépészeti berendezései nem töltik be funkciójukat (nyitás-zárás). Az avultsági szint miatt fennáll a meghibásodás veszélye | G54: Megfelelő hatékonyságú technológia. A gépészeti funkciókat kifogástalanul ellátó szerelvények | I54: Becsvölgye osztatlan közös | J54: =SUM(O54:AC54) -> 1427 | L54: 44927 | M54: 45657 | N54: közép | R54: 562 | S54: 865
B56: Irányítástechnika, energiaellátás
A57: 89 | C57: Kustánszeg víztorony | D57: villamos és irányítástechnika felújítása | E57: Az elektromos, irányítástechnikai szerelvények és vezetékek, műszaki állapota miatt fennáll a meghibásodás veszélye. | F57: A víztárolók elektromos megtáplálása, a folyamatos távfelügyelet biztosítása. | G57: Az elektromos paramétereihez illeszkedő erős- és gyengeáramú vezérlőszekrény. | I57: Becsvölgye osztatlan közös | J57: =SUM(O57:AC57) -> 1176 | L57: 45292 | M57: 45657 | N57: közép | S57: 1176
B59: NYOMÁSFOKOZÓK
B60: Épület, építmény
B62: Gép, berendezés
B64: Irányítástechnika, energiaellátás
B66: Összesen: | J66: =SUM(J42:J65) -> 4799 | K66: =SUM(C70) -> 2560 | O66: =SUM(O12:O65) -> 2580 | P66: =SUM(P12:P65) -> 384 | Q66: =SUM(Q12:Q65) -> 384 | R66: =SUM(R12:R65) -> 946 | S66: =SUM(S12:S65) -> 2425 | T66: =SUM(T12:T65) -> 384 | U66: =SUM(U12:U65) -> 384 | V66: =SUM(V12:V65) -> 384 | ... AC66: =SUM(AC12:AC65) -> 384
K67: 2020 évre a fejlesztési forrás biztosított
B69: Tervezett feladatok nettó költsége a teljes ütem tekintetében (eFt) | C69: Rendelkezésre álló források számszerűsített értéke a teljes ütem tekintetében (eFt) | D69: Forrás megnevezése a teljes ütem tekintetében
A70: I. ütem | B70: =SUM(O66) -> 2580 | C70: 2560 | D70: Használati díj (2020)
A71: II. ütem | B71: =SUM(P66:S66) -> 4139 | C71: =C70*4 -> 10240 | D71: Használati díj (2021-2024)
A72: III. ütem | B72: =SUM(T66:AC66) -> 3840 | C72: =C70*10 -> 25600 | D72: Használati díj (2025-2034)

Sheet Milejszeg
A1: Gördülő fejlesztési terv a 2020 - 2034 időszakra
A2: FELÚJÍTÁSOK ÉS PÓTLÁSOK ÖSSZEFOGLALÓ TÁBLÁZATA
A3: A tervet benyújtó szervezet megnevezése: | K3: MILEJSZEG | R3: ellátásért felelős / ellátásért felelősök képviselője / víziközmű-szolgáltató *
A4: Víziközmű-szolgáltató megnevezése: | K4: ÉSZAK ZALAI VÍZ- ÉS CSATORNAMŰ ZÁRTKÖRŰEN MŰKÖDŐ RÉSZVÉNYTÁRSASÁG
A5: Víziközmű-szolgáltatási ágazat megnevezése: | K5: IVÓVÍZ ÁGAZAT
A6: Véleményeltérést megfogalmazó érintett fél megnevezése:
A7: Víziközmű-rendszer kódja: ** | K7: 11-32054-1-025-01-14 | R7: ZALAEGERSZEG-IV
A8: I. Felszín alatti vízkivétel
A9: Fontossági sorrend | B9: Felujítás és pótlás megnevezése | E9: Műszaki állapot felmérés, szükségességi indoklás | H9: Vízjogi létesítési/elvi engedély száma | I9: Az érintett ellátásért felelős(ök) megnevezése | J9: Tervezett nettó költség | K9: Forrás 2020 évre | L9: Megvalósítás időtartama | N9: Tervezett időtáv | O9: A beruházás ütemezése a tervezési időszak évei szerint
E10: Jelenlegi műszaki állapot | F10: Feladat szükségessége | G10: Megvalósítást követő várható műszaki állapot | J10: (eFt) | L10: Kezdés | M10: Befejezés | N10: (rövid / közép / hosszú) | O10: 1 | P10: 2 | Q10: 3 | R10: 4 | S10: 5 | T10: 6 | U10: 7 | V10: 8 | W10: 9 | X10: 10 | Y10: 11 | Z10: 12 | AA10: 13 | AB10: 14 | AC10: 15
B11: szakág | C11: Helyszín | D11: beruházás megnevezése
A12: 1 | D12: Rendkívüli helyzetből adódó azonnali feladatok (max. 15%) | F12: működőképeség biztosítása | I12: Milejszeg | J12: =SUM(O12:AC12) -> 1171.8 | L12: 43831 | M12: 49309 | O12: =1*$C$69 -> 378 | P12: =0.15*$K$65 -> 56.7 | Q12: =0.15*$K$65 -> 56.7 | R12: =0.15*$K$65 -> 56.7 | S12: =0.15*$K$65 -> 56.7 | T12: =0.15*$K$65 -> 56.7 | U12: =0.15*$K$65 -> 56.7 | V12: =0.15*$K$65 -> 56.7 | W12: =0.15*$K$65 -> 56.7 | ... AC12: =0.15*$K$65 -> 56.7
B13: MÉLYFÚRÁSÚ KÚT, HAGYOMÁNYOS ÁTMÉRŐVEL
B14: Épület, építmény
B16: Gép, berendezés
B18: Irányítástechnika, energiaellátás
B20: Összesen: | J20: =SUM(J12:J19) -> 1171.8
A22: III. Vízműtelep és vízkezelő létesítmények
C23: Helyszín | D23: beruházás megnevezése
B24: VÍZMŰTELEP
B25: Épület, építmény
B27: Gép, berendezés
B29: Irányítástechnika, energiaellátás
B31: VÍZKEZELŐ LÉTESÍTMÉNYEK
B32: Épület, építmény
B34: Gép, berendezés
B36: Irányítástechnika, energiaellátás
B38: Összesen | J38: =SUM(J24:J37) -> 0
A40: IV. Vízelosztás
C41: Helyszín | D41: beruházás megnevezése
B42: IVÓVÍZHÁLÓZAT
B43: Épület, építmény
A44: 63 | C44: Milejszeg - Pálfiszeg | D44: gerincvezeték csere (NA100 840 fm) | E44: A vezeték állapota anyaga, kora, minősége miatt nem megfelelő, elavult. | F44: A bekötővezeték anyaga vízbiztonsági kockázatot rejt magában, illetve nagyobb a valószínűsége a meghibásodásnak. | G44: A vízvezeték kiváltás, a vízigények figyelembevételével megfelelő átmérőjű és anyagú hálózatot kapunk. | H44: - | I44: Milejszeg | J44: =SUM(O44:AC44) -> 748 | L44: 44287 | M44: 45657 | N44: közép | P44: 187 | Q44: 187 | R44: 187 | S44: 187
C45: Milejszeg - Pálfiszeg | D45: gerincvezeték csere (NA100 840 fm) | E45: A vezeték állapota anyaga, kora, minősége miatt nem megfelelő, elavult. | F45: A bekötővezeték anyaga vízbiztonsági kockázatot rejt magában, illetve nagyobb a valószínűsége a meghibásodásnak. | G45: A vízvezeték kiváltás, a vízigények figyelembevételével megfelelő átmérőjű és anyagú hálózatot kapunk. | H45: - | I45: Milejszeg | J45: =SUM(O45:AC45) -> 1945 | L45: 45748 | M45: 49309 | N45: hosszú | T45: 230 | U45: 230 | V45: 230 | W45: 230 | X45: 230 | Y45: 230 | Z45: 175 | AA45: 130 | AB45: 130 | AC45: 130
B47: Gép, berendezés
B49: Irányítástechnika, energiaellátás
B51: VÍZTÁROLÓK
B52: Épület, építmény
B54: Gép, berendezés
B56: Irányítástechnika, energiaellátás
B58: NYOMÁSFOKOZÓK
B59: Épület, építmény
B61: Gép, berendezés
B63: Irányítástechnika, energiaellátás
B65: Összesen: | J65: =SUM(J42:J64) -> 2693 | K65: =SUM(C69) -> 378 | O65: =SUM(O12:O64) -> 378 | P65: =SUM(P12:P64) -> 243.7 | Q65: =SUM(Q12:Q64) -> 243.7 | R65: =SUM(R12:R64) -> 243.7 | S65: =SUM(S12:S64) -> 243.7 | T65: =SUM(T12:T64) -> 286.7 | U65: =SUM(U12:U64) -> 286.7 | V65: =SUM(V12:V64) -> 286.7 | ... AC65: =SUM(AC12:AC64) -> 186.7
K66: 2020 évre a fejlesztési forrás biztosított
B68: Tervezett feladatok nettó költsége a teljes ütem tekintetében (eFt) | C68: Rendelkezésre álló források számszerűsített értéke a teljes ütem tekintetében (eFt) | D68: Forrás megnevezése a teljes ütem tekintetében
A69: I. ütem | B69: =SUM(O65) -> 378 | C69: 378 | D69: Használati díj (2020)
A70: II. ütem | B70: =SUM(P65:S65) -> 974.8 | C70: =C69*4 -> 1512 | D70: Használati díj (2021-2024)
A71: III. ütem | B71: =SUM(T65:AC65) -> 2512 | C71: =C69*10 -> 3780 | D71: Használati díj (2025-2034)

Sheet Nagykutas
A1: Gördülő fejlesztési terv a 2020 - 2034 időszakra
A2: FELÚJÍTÁSOK ÉS PÓTLÁSOK ÖSSZEFOGLALÓ TÁBLÁZATA
A3: A tervet benyújtó szervezet megnevezése: | K3: NAGYKUTAS | R3: ellátásért felelős / ellátásért felelősök képviselője / víziközmű-szolgáltató *
A4: Víziközmű-szolgáltató megnevezése: | K4: ÉSZAK ZALAI VÍZ- ÉS CSATORNAMŰ ZÁRTKÖRŰEN MŰKÖDŐ RÉSZVÉNYTÁRSASÁG
A5: Víziközmű-szolgáltatási ágazat megnevezése: | K5: IVÓVÍZ ÁGAZAT
A6: Véleményeltérést megfogalmazó érintett fél megnevezése:
A7: Víziközmű-rendszer kódja: ** | K7: 11-32054-1-025-01-14 | R7: ZALAEGERSZEG-IV
A8: I. Felszín alatti vízkivétel
A9: Fontossági sorrend | B9: Felujítás és pótlás megnevezése | E9: Műszaki állapot felmérés, szükségességi indoklás | H9: Vízjogi létesítési/elvi engedély száma | I9: Az érintett ellátásért felelős(ök) megnevezése | J9: Tervezett nettó költség | K9: Forrás 2020 évre | L9: Megvalósítás időtartama | N9: Tervezett időtáv | O9: A beruházás ütemezése a tervezési időszak évei szerint
E10: Jelenlegi műszaki állapot | F10: Feladat szükségessége | G10: Megvalósítást követő várható műszaki állapot | J10: (eFt) | L10: Kezdés | M10: Befejezés | N10: (rövid / közép / hosszú) | O10: 1 | P10: 2 | Q10: 3 | R10: 4 | S10: 5 | T10: 6 | U10: 7 | V10: 8 | W10: 9 | X10: 10 | Y10: 11 | Z10: 12 | AA10: 13 | AB10: 14 | AC10: 15
B11: szakág | C11: Helyszín | D11: beruházás megnevezése
A12: 1 | D12: Rendkívüli helyzetből adódó azonnali feladatok (max. 15%) | F12: működőképeség biztosítása | I12: Nagykutas | J12: =SUM(O12:AC12) -> 2700 | L12: 43831 | M12: 49309 | O12: =0.15*$K$68 -> 180 | P12: =0.15*$K$68 -> 180 | Q12: =0.15*$K$68 -> 180 | R12: =0.15*$K$68 -> 180 | S12: =0.15*$K$68 -> 180 | T12: =0.15*$K$68 -> 180 | U12: =0.15*$K$68 -> 180 | V12: =0.15*$K$68 -> 180 | ... AC12: =0.15*$K$68 -> 180
B13: MÉLYFÚRÁSÚ KÚT, HAGYOMÁNYOS ÁTMÉRŐVEL
B14: Épület, építmény
B16: Gép, berendezés
B18: Irányítástechnika, energiaellátás
B20: Összesen: | J20: =SUM(J12:J18) -> 2700
A22: III. Vízműtelep és vízkezelő létesítmények
C23: Helyszín | D23: beruházás megnevezése
B24: VÍZMŰTELEP
B25: Épület, építmény
B27: Gép, berendezés
B29: Irányítástechnika, energiaellátás
B31: VÍZKEZELŐ LÉTESÍTMÉNYEK
B32: Épület, építmény
B34: Gép, berendezés
B36: Irányítástechnika, energiaellátás
B38: Összesen | J38: =SUM(J24:J37) -> 0
A40: IV. Vízelosztás
C41: Helyszín | D41: beruházás megnevezése
B42: IVÓVÍZHÁLÓZAT
B43: Épület, építmény
A44: 51 | C44: Nagykutas | D44: vezeték kiváltás, rekonstrukció, felújítás | E44: A vezeték állapota anyaga, kora, minősége miatt nem megfelelő, elavult. | F44: A vezeték elavult műszaki állapota miatt gyakoriak a csőtörések. | G44: A vízvezeték kiváltás a vízigények figyelembevételével megfelelő átmérőjű és anyagú hálózatot kapunk. | I44: Nagykutas | J44: =SUM(O44:AC44) -> 662 | L44: 43831 | M44: 44196 | N44: rövid | O44: 662
B46: Gép, berendezés
B48: Irányítástechnika, energiaellátás
B50: VÍZTÁROLÓK
B51: Épület, építmény
B53: Gép, berendezés
B55: Irányítástechnika, energiaellátás
A56: 47 | C56: Nagykutas víztorony | D56: URH kommunikáció átállás GPRS-re | E56: Az elektromos, irányítástechnikai szerelvények és vezetékek, műszaki állapota miatt fennáll a meghibásodás veszélye | F56: A megfelelő minőségű kommunikáció, a folyamatos távfelügyelet biztosítása. | G56: Megfelelő biztonságú adatkommunikációs csatorna. | I56: Nagykutas osztatlan közös | J56: =SUM(O56:AC56) -> 179 | L56: 43922 | M56: 44196 | N56: rövid | O56: 179
B58: NYOMÁSFOKOZÓK
B59: Épület, építmény
B61: Gép, berendezés
A62: 122 | C62: Nagykutasi átemelő | D62: Szivattyú csere (EMU K64-6 2 db), teljes gépészeti rekonstrukció | E62: A szivattyú kora, műszaki állapota miatt fennáll a meghibásodás veszélye. Feladat szükségessége | F62: A folyamatos víztermelés biztosítása. | G62: A Q–H diagramhoz illeszkedő energiahatékony szivattyú üzemeltetése. | I62: Nagykutas osztatlan közös | J62: =SUM(O62:AC62) -> 546 | L62: 46388 | M62: 46752 | N62: hosszú | V62: 546
B64: Irányítástechnika, energiaellátás
A65: 48 | C65: Kiskutas átemelő | D65: URH kommunikáció átállás GPRS-re | E65: Az elektromos, irányítástechnikai szerelvények és vezetékek, műszaki állapota miatt fennáll a meghibásodás veszélye | F65: A szivattyú elektromos megtáplálása, a folyamatos távfelügyelet biztosítása. | G65: A szivattyú elektromos paramétereihez illeszkedő erősáramú és vezérlőszekrény. | I65: Nagykutas osztatlan közös | J65: =SUM(O65:AC65) -> 179 | L65: 43922 | M65: 44196 | N65: rövid | O65: 179
A66: 123 | C66: Nagykutas átemelő | D66: villamos és irányítástechnika felújítása | E66: Az elektromos, irányítástechnikai szerelvények és vezetékek, műszaki állapota miatt fennáll a meghibásodás veszélye. | F66: A szivattyú elektromos megtáplálása, a folyamatos távfelügyelet biztosítása. | G66: A szivattyú elektromos paramétereihez illeszkedő erősáramú és vezérlőszekrény. | I66: Nagykutas osztatlan közös | J66: =SUM(O66:AC66) -> 546 | L66: 46388 | M66: 46752 | N66: hosszú | V66: 546
B68: Összesen: | J68: =SUM(J42:J67) -> 2112 | K68: =SUM(C72) -> 1200 | O68: =SUM(O12:O67) -> 1200 | P68: =SUM(P12:P67) -> 180 | Q68: =SUM(Q12:Q67) -> 180 | R68: =SUM(R12:R67) -> 180 | S68: =SUM(S12:S67) -> 180 | T68: =SUM(T12:T67) -> 180 | U68: =SUM(U12:U67) -> 180 | V68: =SUM(V12:V67) -> 1272 | ... AC68: =SUM(AC12:AC67) -> 180
K69: 2020 évre a fejlesztési forrás biztosított
B71: Tervezett feladatok nettó költsége a teljes ütem tekintetében (eFt) | C71: Rendelkezésre álló források számszerűsített értéke a teljes ütem tekintetében (eFt) | D71: Forrás megnevezése a teljes ütem tekintetében
A72: I. ütem | B72: =SUM(O68) -> 1200 | C72: 1200 | D72: Használati díj (2020)
A73: II. ütem | B73: =SUM(P68:S68) -> 720 | C73: =C72*4 -> 4800 | D73: Használati díj (2021-2024)
A74: III. ütem | B74: =SUM(T68:AC68) -> 2892 | C74: =C72*10 -> 12000 | D74: Használati díj (2025-2034)

Sheet Nagypáli
A1: Gördülő fejlesztési terv a 2020 - 2034 időszakra
A2: FELÚJÍTÁSOK ÉS PÓTLÁSOK ÖSSZEFOGLALÓ TÁBLÁZATA
A3: A tervet benyújtó szervezet megnevezése: | K3: NAGYPÁLI | R3: ellátásért felelős / ellátásért felelősök képviselője / víziközmű-szolgáltató *
A4: Víziközmű-szolgáltató megnevezése: | K4: ÉSZAK ZALAI VÍZ- ÉS CSATORNAMŰ ZÁRTKÖRŰEN MŰKÖDŐ RÉSZVÉNYTÁRSASÁG
A5: Víziközmű-szolgáltatási ágazat megnevezése: | K5: IVÓVÍZ ÁGAZAT
A6: Véleményeltérést megfogalmazó érintett fél megnevezése:
A7: Víziközmű-rendszer kódja: ** | K7: 11-32054-1-025-01-14 | R7: ZALAEGERSZEG-IV
A8: I. Felszín alatti vízkivétel
A9: Fontossági sorrend | B9: Felujítás és pótlás megnevezése | E9: Műszaki állapot felmérés, szükségességi indoklás | H9: Vízjogi létesítési/elvi engedély száma | I9: Az érintett ellátásért felelős(ök) megnevezése | J9: Tervezett nettó költség | K9: Forrás 2020 évre | L9: Megvalósítás időtartama | N9: Tervezett időtáv | O9: A beruházás ütemezése a tervezési időszak évei szerint
E10: Jelenlegi műszaki állapot | F10: Feladat szükségessége | G10: Megvalósítást követő várható műszaki állapot | J10: (eFt) | L10: Kezdés | M10: Befejezés | N10: (rövid / közép / hosszú) | O10: 1 | P10: 2 | Q10: 3 | R10: 4 | S10: 5 | T10: 6 | U10: 7 | V10: 8 | W10: 9 | X10: 10 | Y10: 11 | Z10: 12 | AA10: 13 | AB10: 14 | AC10: 15
B11: szakág | C11: Helyszín | D11: beruházás megnevezése
A12: 1 | D12: Rendkívüli helyzetből adódó azonnali feladatok (max. 15%) | F12: működőképeség biztosítása | I12: Nagypáli | J12: =SUM(O12:AC12) -> 4083.75 | L12: 43831 | M12: 49309 | O12: =0.15*$K$71 -> 272.25 | P12: =0.15*$K$71 -> 272.25 | Q12: =0.15*$K$71 -> 272.25 | R12: =0.15*$K$71 -> 272.25 | S12: =0.15*$K$71 -> 272.25 | T12: =0.15*$K$71 -> 272.25 | U12: =0.15*$K$71 -> 272.25 | V12: =0.15*$K$71 -> 272.25 | ... AC12: =0.15*$K$71 -> 272.25
B13: MÉLYFÚRÁSÚ KÚT, HAGYOMÁNYOS ÁTMÉRŐVEL
B14: Épület, építmény
B16: Gép, berendezés
B18: Irányítástechnika, energiaellátás
B20: Összesen: | J20: =SUM(J12:J19) -> 4083.75
A22: III. Vízműtelep és vízkezelő létesítmények
C23: Helyszín | D23: beruházás megnevezése
B24: VÍZMŰTELEP
B25: Épület, építmény
B27: Gép, berendezés
B29: Irányítástechnika, energiaellátás
B31: VÍZKEZELŐ LÉTESÍTMÉNYEK
B32: Épület, építmény
B34: Gép, berendezés
B36: Irányítástechnika, energiaellátás
B38: Összesen | J38: =SUM(J24:J37) -> 0
A40: IV. Vízelosztás
C41: Helyszín | D41: beruházás megnevezése
B42: IVÓVÍZHÁLÓZAT
B43: Épület, építmény
A44: 52 | C44: Nagypáli | D44: vezeték kiváltás, rekonstrukció, felújítás | E44: A vezeték állapota anyaga, kora, minősége miatt nem megfelelő, elavult. | F44: A bekötővezeték anyaga vízbiztonsági kockázatot rejt magában, illetve nagyobb a valószínűsége a meghibásodásnak. | G44: A vízvezeték kiváltás, a vízigények figyelembevételével megfelelő átmérőjű és anyagú hálózatot kapunk. | H44: - | I44: Nagypáli | J44: =SUM(O44:AC44) -> 1169 | L44: 43952 | M44: 44196 | N44: rövid | O44: 1169
A45: 64 | C45: Nagypáli | D45: tűzcsap építés, csere | E45: A vezeték állapota anyaga, kora, minősége miatt nem megfelelő, elavult. | F45: A bekötővezeték anyaga vízbiztonsági kockázatot rejt magában, illetve nagyobb a valószínűsége a meghibásodásnak. | G45: A vízvezeték kiváltás, a vízigények figyelembevételével megfelelő átmérőjű és anyagú hálózatot kapunk. | H45: - | I45: Nagypáli | J45: =SUM(O45:AC45) -> 2000 | L45: 44317 | M45: 45657 | N45: közép | P45: 500 | Q45: 500 | R45: 500 | S45: 500
A46: 65 | C46: Nagypáli | D46: bekötéscsere | E46: A vezeték állapota anyaga, kora, minősége miatt nem megfelelő, elavult. | F46: A vezeték elavult műszaki állapota miatt gyakoriak a csőtörések. | G46: A vízvezeték kiváltás, a vízigények figyelembevételével megfelelő átmérőjű és anyagú hálózatot kapunk. | H46: - | I46: Nagypáli | J46: =SUM(O46:AC46) -> 2348 | L46: 44317 | M46: 45657 | N46: közép | P46: 587 | Q46: 587 | R46: 587 | S46: 587
A47: 107 | C47: Nagypáli | D47: vezeték kiváltás, rekonstrukció, felújítás | E47: A vezeték állapota anyaga, kora, minősége miatt nem megfelelő, elavult. | F47: A vezeték elavult műszaki állapota miatt gyakoriak a csőtörések. | G47: A vízvezeték kiváltás, a vízigények figyelembevételével megfelelő átmérőjű és anyagú hálózatot kapunk. | H47: - | I47: Nagypáli | J47: =SUM(O47:AC47) -> 88190 | L47: 45778 | M47: 49309 | N47: hosszú | T47: 8819 | U47: 8819 | V47: 8819 | W47: 8819 | X47: 8819 | Y47: 8819 | Z47: 8819 | AA47: 8819 | AB47: 8819 | AC47: 8819
B49: Gép, berendezés
B51: Irányítástechnika, energiaellátás
B53: VÍZTÁROLÓK
B54: Épület, építmény
B56: Gép, berendezés
B58: Irányítástechnika, energiaellátás
A59: 47 | C59: Nagykutas víztorony | D59: URH kommunikáció átállás GPRS-re | E59: Az elektromos, irányítástechnikai szerelvények és vezetékek, műszaki állapota miatt fennáll a meghibásodás veszélye | F59: A szivattyú elektromos megtáplálása, a folyamatos távfelügyelet biztosítása. | G59: A szivattyú elektromos paramétereihez illeszkedő erősáramú és vezérlőszekrény. | I59: Nagykutas osztatlan közös | J59: =SUM(O59:AC59) -> 187 | L59: 43922 | M59: 44196 | N59: rövid | O59: 187
B61: NYOMÁSFOKOZÓK
B62: Épület, építmény
B64: Gép, berendezés
A65: 122 | C65: Nagykutasi átemelő | D65: Szivattyú csere (EMU K64-6 2 db), teljes gépészeti rekonstrukció | E65: A szivattyú kora, műszaki állapota miatt fennáll a meghibásodás veszélye. Feladat szükségessége | F65: A folyamatos víztermelés biztosítása. | G65: A Q–H diagramhoz illeszkedő energiahatékony szivattyú üzemeltetése. | I65: Nagykutas osztatlan közös | J65: =SUM(O65:AC65) -> 1024 | L65: 46388 | M65: 46752 | N65: hosszú | V65: 1024
B67: Irányítástechnika, energiaellátás
A68: 48 | C68: Kiskutas átemelő | D68: URH kommunikáció átállás GPRS-re | E68: Az elektromos, irányítástechnikai szerelvények és vezetékek, műszaki állapota miatt fennáll a meghibásodás veszélye | F68: A szivattyú elektromos megtáplálása, a folyamatos távfelügyelet biztosítása. | G68: A szivattyú elektromos paramétereihez illeszkedő erősáramú és vezérlőszekrény. | I68: Nagykutas osztatlan közös | J68: =SUM(O68:AC68) -> 187 | L68: 43922 | M68: 44196 | N68: rövid | O68: 187
A69: 123 | C69: Nagykutas átemelő | D69: villamos és irányítástechnika felújítása | E69: Az elektromos, irányítástechnikai szerelvények és vezetékek, műszaki állapota miatt fennáll a meghibásodás veszélye. | F69: A szivattyú elektromos megtáplálása, a folyamatos távfelügyelet biztosítása. | G69: A szivattyú elektromos paramétereihez illeszkedő erősáramú és vezérlőszekrény. | I69: Nagykutas osztatlan közös | J69: =SUM(O69:AC69) -> 1024 | L69: 46388 | M69: 46752 | N69: hosszú | V69: 1024
B71: Összesen: | J71: =SUM(J42:J70) -> 96129 | K71: =SUM(C75) -> 1815 | O71: =SUM(O11:O70) -> 1815.25 | P71: =SUM(P11:P70) -> 1359.25 | Q71: =SUM(Q11:Q70) -> 1359.25 | R71: =SUM(R11:R70) -> 1359.25 | S71: =SUM(S11:S70) -> 1359.25 | T71: =SUM(T11:T70) -> 9091.25 | U71: =SUM(U11:U70) -> 9091.25 | V71: =SUM(V11:V70) -> 11139.25 | ... AC71: =SUM(AC11:AC70) -> 9091.25
K72: 2020 évre a fejlesztési forrás biztosított
B74: Tervezett feladatok nettó költsége a teljes ütem tekintetében (eFt) | C74: Rendelkezésre álló források számszerűsített értéke a teljes ütem tekintetében (eFt) | D74: Forrás megnevezése a teljes ütem tekintetében
A75: I. ütem | B75: =SUM(O71) -> 1815.25 | C75: 1815 | D75: Használati díj (2020)
A76: II. ütem | B76: =SUM(P71:S71) -> 5437 | C76: =C75*4 -> 7260 | D76: Használati díj (2021-2024)
A77: III. ütem | B77: =SUM(T71:AC71) -> 92960.5 | C77: =C75*10 -> 18150 | D77: Használati díj (2025-2034)

Sheet Németfalu
A1: Gördülő fejlesztési terv a 2020 - 2034 időszakra
A2: FELÚJÍTÁSOK ÉS PÓTLÁSOK ÖSSZEFOGLALÓ TÁBLÁZATA
A3: A tervet benyújtó szervezet megnevezése: | K3: NÉMETFALU | R3: ellátásért felelős / ellátásért felelősök képviselője / víziközmű-szolgáltató *
A4: Víziközmű-szolgáltató megnevezése: | K4: ÉSZAK ZALAI VÍZ- ÉS CSATORNAMŰ ZÁRTKÖRŰEN MŰKÖDŐ RÉSZVÉNYTÁRSASÁG
A5: Víziközmű-szolgáltatási ágazat megnevezése: | K5: IVÓVÍZ ÁGAZAT
A6: Véleményeltérést megfogalmazó érintett fél megnevezése:
A7: Víziközmű-rendszer kódja: ** | K7: 11-32054-1-025-01-14 | R7: ZALAEGERSZEG-IV
A8: I. Felszín alatti vízkivétel
A9: Fontossági sorrend | B9: Felujítás és pótlás megnevezése | E9: Műszaki állapot felmérés, szükségességi indoklás | H9: Vízjogi létesítési/elvi engedély száma | I9: Az érintett ellátásért felelős(ök) megnevezése | J9: Tervezett nettó költség | K9: Forrás 2020 évre | L9: Megvalósítás időtartama | N9: Tervezett időtáv | O9: A beruházás ütemezése a tervezési időszak évei szerint
E10: Jelenlegi műszaki állapot | F10: Feladat szükségessége | G10: Megvalósítást követő várható műszaki állapot | J10: (eFt) | L10: Kezdés | M10: Befejezés | N10: (rövid / közép / hosszú) | O10: 1 | P10: 2 | Q10: 3 | R10: 4 | S10: 5 | T10: 6 | U10: 7 | V10: 8 | W10: 9 | X10: 10 | Y10: 11 | Z10: 12 | AA10: 13 | AB10: 14 | AC10: 15
B11: szakág | C11: Helyszín | D11: beruházás megnevezése
A12: 1 | D12: Rendkívüli helyzetből adódó azonnali feladatok (max. 15%) | F12: működőképeség biztosítása | I12: Németfalu | J12: =SUM(O12:AC12) -> 886.6 | L12: 43831 | M12: 49309 | O12: =1*C67 -> 286 | P12: =0.15*$K$63 -> 42.9 | Q12: =0.15*$K$63 -> 42.9 | R12: =0.15*$K$63 -> 42.9 | S12: =0.15*$K$63 -> 42.9 | T12: =0.15*$K$63 -> 42.9 | U12: =0.15*$K$63 -> 42.9 | V12: =0.15*$K$63 -> 42.9 | W12: =0.15*$K$63 -> 42.9 | ... AC12: =0.15*$K$63 -> 42.9
B13: MÉLYFÚRÁSÚ KÚT, HAGYOMÁNYOS ÁTMÉRŐVEL
B14: Épület, építmény
B16: Gép, berendezés
B18: Irányítástechnika, energiaellátás
B20: Összesen: | J20: =SUM(J12:J19) -> 886.6
A22: III. Vízműtelep és vízkezelő létesítmények
C23: Helyszín | D23: beruházás megnevezése
B24: VÍZMŰTELEP
B25: Épület, építmény
B27: Gép, berendezés
B29: Irányítástechnika, energiaellátás
B31: VÍZKEZELŐ LÉTESÍTMÉNYEK
B32: Épület, építmény
B34: Gép, berendezés
B36: Irányítástechnika, energiaellátás
B38: Összesen | J38: =SUM(J24:J37) -> 0
A40: IV. Vízelosztás
C41: Helyszín | D41: beruházás megnevezése
B42: IVÓVÍZHÁLÓZAT
B43: Épület, építmény
B45: Gép, berendezés
B47: Irányítástechnika, energiaellátás
B49: VÍZTÁROLÓK
B50: Épület, építmény
B52: Gép, berendezés
B54: Irányítástechnika, energiaellátás
B56: NYOMÁSFOKOZÓK
B57: Épület, építmény
B59: Gép, berendezés
B61: Irányítástechnika, energiaellátás
B63: Összesen: | J63: =SUM(J42:J62) -> 0 | K63: =SUM(C67) -> 286 | O63: =SUM(O12:O62) -> 286 | P63: =SUM(P12:P62) -> 42.9 | Q63: =SUM(Q12:Q62) -> 42.9 | R63: =SUM(R12:R62) -> 42.9 | S63: =SUM(S12:S62) -> 42.9 | T63: =SUM(T12:T62) -> 42.9 | U63: =SUM(U12:U62) -> 42.9 | V63: =SUM(V12:V62) -> 42.9 | ... AC63: =SUM(AC12:AC62) -> 42.9
K64: 2020 évre a fejlesztési forrás biztosított
B66: Tervezett feladatok nettó költsége a teljes ütem tekintetében (eFt) | C66: Rendelkezésre álló források számszerűsített értéke a teljes ütem tekintetében (eFt) | D66: Forrás megnevezése a teljes ütem tekintetében
A67: I. ütem | B67: =SUM(O63) -> 286 | C67: 286 | D67: Használati díj (2020)
A68: II. ütem | B68: =SUM(P63:S63) -> 171.6 | C68: =C67*4 -> 1144 | D68: Használati díj (2021-2024)
A69: III. ütem | B69: =SUM(T63:AC63) -> 429 | C69: =C67*10 -> 2860 | D69: Használati díj (2025-2034)

Sheet Pálfiszeg
A1: Gördülő fejlesztési terv a 2020 - 2034 időszakra
A2: FELÚJÍTÁSOK ÉS PÓTLÁSOK ÖSSZEFOGLALÓ TÁBLÁZATA
A3: A tervet benyújtó szervezet megnevezése: | K3: PÁLFISZEG | R3: ellátásért felelős / ellátásért felelősök képviselője / víziközmű-szolgáltató *
A4: Víziközmű-szolgáltató megnevezése: | K4: ÉSZAK ZALAI VÍZ- ÉS CSATORNAMŰ ZÁRTKÖRŰEN MŰKÖDŐ RÉSZVÉNYTÁRSASÁG
A5: Víziközmű-szolgáltatási ágazat megnevezése: | K5: IVÓVÍZ ÁGAZAT
A6: Véleményeltérést megfogalmazó érintett fél megnevezése:
A7: Víziközmű-rendszer kódja: ** | K7: 11-32054-1-025-01-14 | R7: ZALAEGERSZEG-IV
A8: I. Felszín alatti vízkivétel
A9: Fontossági sorrend | B9: Felujítás és pótlás megnevezése | E9: Műszaki állapot felmérés, szükségességi indoklás | H9: Vízjogi létesítési/elvi engedély száma | I9: Az érintett ellátásért felelős(ök) megnevezése | J9: Tervezett nettó költség | K9: Forrás 2020 évre | L9: Megvalósítás időtartama | N9: Tervezett időtáv | O9: A beruházás ütemezése a tervezési időszak évei szerint
E10: Jelenlegi műszaki állapot | F10: Feladat szükségessége | G10: Megvalósítást követő várható műszaki állapot | J10: (eFt) | L10: Kezdés | M10: Befejezés | N10: (rövid / közép / hosszú) | O10: 1 | P10: 2 | Q10: 3 | R10: 4 | S10: 5 | T10: 6 | U10: 7 | V10: 8 | W10: 9 | X10: 10 | Y10: 11 | Z10: 12 | AA10: 13 | AB10: 14 | AC10: 15
B11: szakág | C11: Helyszín | D11: beruházás megnevezése
A12: 1 | D12: Rendkívüli helyzetből adódó azonnali feladatok (max. 15%) | F12: működőképeség biztosítása | I12: Pálfiszeg | J12: =SUM(O12:AC12) -> 573.5 | L12: 43831 | M12: 49309 | O12: =1*C67 -> 185 | P12: =0.15*$K$63 -> 27.75 | Q12: =0.15*$K$63 -> 27.75 | R12: =0.15*$K$63 -> 27.75 | S12: =0.15*$K$63 -> 27.75 | T12: =0.15*$K$63 -> 27.75 | U12: =0.15*$K$63 -> 27.75 | V12: =0.15*$K$63 -> 27.75 | W12: =0.15*$K$63 -> 27.75 | ... AC12: =0.15*$K$63 -> 27.75
B13: MÉLYFÚRÁSÚ KÚT, HAGYOMÁNYOS ÁTMÉRŐVEL
B14: Épület, építmény
B16: Gép, berendezés
B18: Irányítástechnika, energiaellátás
B20: Összesen: | J20: =SUM(J12:J19) -> 573.5
A22: III. Vízműtelep és vízkezelő létesítmények
C23: Helyszín | D23: beruházás megnevezése
B24: VÍZMŰTELEP
B25: Épület, építmény
B27: Gép, berendezés
B29: Irányítástechnika, energiaellátás
B31: VÍZKEZELŐ LÉTESÍTMÉNYEK
B32: Épület, építmény
B34: Gép, berendezés
B36: Irányítástechnika, energiaellátás
B38: Összesen | J38: =SUM(J24:J37) -> 0
A40: IV. Vízelosztás
C41: Helyszín | D41: beruházás megnevezése
B42: IVÓVÍZHÁLÓZAT
B43: Épület, építmény
B45: Gép, berendezés
B47: Irányítástechnika, energiaellátás
B49: VÍZTÁROLÓK
B50: Épület, építmény
B52: Gép, berendezés
B54: Irányítástechnika, energiaellátás
B56: NYOMÁSFOKOZÓK
B57: Épület, építmény
B59: Gép, berendezés
B61: Irányítástechnika, energiaellátás
B63: Összesen: | J63: =SUM(J42:J62) -> 0 | K63: =SUM(C67) -> 185 | O63: =SUM(O12:O62) -> 185 | P63: =SUM(P12:P62) -> 27.75 | Q63: =SUM(Q12:Q62) -> 27.75 | R63: =SUM(R12:R62) -> 27.75 | S63: =SUM(S12:S62) -> 27.75 | T63: =SUM(T12:T62) -> 27.75 | U63: =SUM(U12:U62) -> 27.75 | V63: =SUM(V12:V62) -> 27.75 | ... AC63: =SUM(AC12:AC62) -> 27.75
K64: 2020 évre a fejlesztési forrás biztosított
B66: Tervezett feladatok nettó költsége a teljes ütem tekintetében (eFt) | C66: Rendelkezésre álló források számszerűsített értéke a teljes ütem tekintetében (eFt) | D66: Forrás megnevezése a teljes ütem tekintetében
A67: I. ütem | B67: =SUM(O63) -> 185 | C67: 185 | D67: Használati díj (2020)
A68: II. ütem | B68: =SUM(P63:S63) -> 111 | C68: =C67*4 -> 740 | D68: Használati díj (2021-2024)
A69: III. ütem | B69: =SUM(T63:AC63) -> 277.5 | C69: =C67*10 -> 1850 | D69: Használati díj (2025-2034)

Sheet Sárhida
A1: Gördülő fejlesztési terv a 2020 - 2034 időszakra
A2: FELÚJÍTÁSOK ÉS PÓTLÁSOK ÖSSZEFOGLALÓ TÁBLÁZATA
A3: A tervet benyújtó szervezet megnevezése: | K3: SÁRHIDA | R3: ellátásért felelős / ellátásért felelősök képviselője / víziközmű-szolgáltató *
A4: Víziközmű-szolgáltató megnevezése: | K4: ÉSZAK ZALAI VÍZ- ÉS CSATORNAMŰ ZÁRTKÖRŰEN MŰKÖDŐ RÉSZVÉNYTÁRSASÁG
A5: Víziközmű-szolgáltatási ágazat megnevezése: | K5: IVÓVÍZ ÁGAZAT
A6: Véleményeltérést megfogalmazó érintett fél megnevezése:
A7: Víziközmű-rendszer kódja: ** | K7: 11-32054-1-025-01-14 | R7: ZALAEGERSZEG-IV
A8: I. Felszín alatti vízkivétel
A9: Fontossági sorrend | B9: Felujítás és pótlás megnevezése | E9: Műszaki állapot felmérés, szükségességi indoklás | H9: Vízjogi létesítési/elvi engedély száma | I9: Az érintett ellátásért felelős(ök) megnevezése | J9: Tervezett nettó költség | K9: Forrás 2020 évre | L9: Megvalósítás időtartama | N9: Tervezett időtáv | O9: A beruházás ütemezése a tervezési időszak évei szerint
E10: Jelenlegi műszaki állapot | F10: Feladat szükségessége | G10: Megvalósítást követő várható műszaki állapot | J10: (eFt) | L10: Kezdés | M10: Befejezés | N10: (rövid / közép / hosszú) | O10: 1 | P10: 2 | Q10: 3 | R10: 4 | S10: 5 | T10: 6 | U10: 7 | V10: 8 | W10: 9 | X10: 10 | Y10: 11 | Z10: 12 | AA10: 13 | AB10: 14 | AC10: 15
B11: szakág | C11: Helyszín | D11: beruházás megnevezése
A12: 1 | D12: Rendkívüli helyzetből adódó azonnali feladatok (max. 15%) | F12: működőképeség biztosítása | I12: Sárhida | J12: =SUM(O12:AC12) -> 28007.2 | L12: 43831 | M12: 49309 | O12: =1*C71 -> 892 | P12: =0.15*$K$67 -> 1936.8 | Q12: =0.15*$K$67 -> 1936.8 | R12: =0.15*$K$67 -> 1936.8 | S12: =0.15*$K$67 -> 1936.8 | T12: =0.15*$K$67 -> 1936.8 | U12: =0.15*$K$67 -> 1936.8 | V12: =0.15*$K$67 -> 1936.8 | W12: =0.15*$K$67 -> 1936.8 | ... AC12: =0.15*$K$67 -> 1936.8
B13: MÉLYFÚRÁSÚ KÚT, HAGYOMÁNYOS ÁTMÉRŐVEL
B14: Épület, építmény
B16: Gép, berendezés
B18: Irányítástechnika, energiaellátás
B20: Összesen: | J20: =SUM(J12:J18) -> 28007.2
A22: III. Vízműtelep és vízkezelő létesítmények
C23: Helyszín | D23: beruházás megnevezése
B24: VÍZMŰTELEP
B25: Épület, építmény
B27: Gép, berendezés
B29: Irányítástechnika, energiaellátás
B31: VÍZKEZELŐ LÉTESÍTMÉNYEK
B32: Épület, építmény
B34: Gép, berendezés
B36: Irányítástechnika, energiaellátás
B38: Összesen | J38: =SUM(J24:J37) -> 0
A40: IV. Vízelosztás
C41: Helyszín | D41: beruházás megnevezése
B42: IVÓVÍZHÁLÓZAT
B43: Épület, építmény
A44: 53 | C44: Sárhida Kossuth u. | D44: ivóvízhálózat rekonstrukció | E44: A vezeték állapota anyaga, kora, minősége miatt nem megfelelő, elavult. | F44: A bekötővezeték anyaga vízbiztonsági kockázatot rejt magában, illetve nagyobb a valószínűsége a meghibásodásnak. | G44: A vízvezeték kiváltás a vízigények figyelembevételével megfelelő átmérőjű és anyagú hálózatot kapunk. | I44: Sárhida | J44: =SUM(O44:AC44) -> 12020 | L44: 43922 | M44: 44196 | N44: rövid | O44: 12020
A45: 66 | C45: Sárhida | D45: bekötéscsere | E45: A vezeték állapota anyaga, kora, minősége miatt nem megfelelő, elavult. | F45: A bekötővezeték anyaga vízbiztonsági kockázatot rejt magában, illetve nagyobb a valószínűsége a meghibásodásnak. | G45: A vízvezeték kiváltás a vízigények figyelembevételével megfelelő átmérőjű és anyagú hálózatot kapunk. | I45: Sárhida | J45: =SUM(O45:AC45) -> 2352 | L45: 44287 | M45: 45657 | N45: közép | P45: 569 | Q45: 586 | R45: 571 | S45: 626
A46: 67 | C46: Sárhida | D46: vezeték kiváltás, rekonstrukció, felújítás | E46: A vezeték állapota anyaga, kora, minősége miatt nem megfelelő, elavult. | F46: A vezeték anyaga vízbiztonsági kockázatot rejt magában, illetve nagyobb a valószínűsége a meghibásodásnak. | G46: A vízvezeték kiváltás a vízigények figyelembevételével megfelelő átmérőjű és anyagú hálózatot kapunk. | I46: Sárhida | J46: =SUM(O46:AC46) -> 14744 | L46: 44287 | M46: 45657 | N46: közép | P46: 3686 | Q46: 3686 | R46: 3686 | S46: 3686
A47: 105 | C47: Sárhida | D47: vezeték kiváltás, rekonstrukció, felújítás | E47: A vezeték állapota anyaga, kora, minősége miatt nem megfelelő, elavult. | F47: A vezeték anyaga vízbiztonsági kockázatot rejt magában, illetve nagyobb a valószínűsége a meghibásodásnak. | G47: A vízvezeték kiváltás a vízigények figyelembevételével megfelelő átmérőjű és anyagú hálózatot kapunk. | I47: Sárhida | J47: =SUM(O47:AC47) -> 71210 | L47: 45748 | M47: 49309 | N47: hosszú | T47: 7121 | U47: 7121 | V47: 7121 | W47: 7121 | X47: 7121 | Y47: 7121 | Z47: 7121 | AA47: 7121 | AB47: 7121 | AC47: 7121
B49: Gép, berendezés
B51: Irányítástechnika, energiaellátás
B53: VÍZTÁROLÓK
B54: Épület, építmény
B56: Gép, berendezés
B58: Irányítástechnika, energiaellátás
B60: NYOMÁSFOKOZÓK
B61: Épület, építmény
B63: Gép, berendezés
B65: Irányítástechnika, energiaellátás
B67: Összesen: | J67: =SUM(J42:J66) -> 100326 | K67: =SUM(C71:C72) -> 12912 | O67: =SUM(O12:O66) -> 12912 | P67: =SUM(P12:P66) -> 6191.8 | Q67: =SUM(Q12:Q66) -> 6208.8 | R67: =SUM(R12:R66) -> 6193.8 | S67: =SUM(S12:S66) -> 6248.8 | T67: =SUM(T12:T66) -> 9057.8 | U67: =SUM(U12:U66) -> 9057.8 | V67: =SUM(V12:V66) -> 9057.8 | ... AC67: =SUM(AC12:AC66) -> 9057.8
K68: 2020 évre a fejlesztési forrás biztosított
B70: Tervezett feladatok nettó költsége a teljes ütem tekintetében (eFt) | C70: Rendelkezésre álló források számszerűsített értéke a teljes ütem tekintetében (eFt) | D70: Forrás megnevezése a teljes ütem tekintetében
A71: I. ütem | B71: =SUM(O67) -> 12912 | C71: 892 | D71: Használati díj (2020)
A72: I. ütem | C72: 12020 | D72: EKPA
A73: II. ütem | B73: =SUM(P67:S67) -> 24843.2 | C73: =C71*4 -> 3568 | D73: Használati díj (2021-2024)
A74: III. ütem | B74: =SUM(T67:AC67) -> 90578 | C74: =C71*10 -> 8920 | D74: Használati díj (2025-2034)

Sheet Teskánd
A1: Gördülő fejlesztési terv a 2020 - 2034 időszakra
A2: FELÚJÍTÁSOK ÉS PÓTLÁSOK ÖSSZEFOGLALÓ TÁBLÁZATA
A3: A tervet benyújtó szervezet megnevezése: | K3: TESKÁND | R3: ellátásért felelős / ellátásért felelősök képviselője / víziközmű-szolgáltató *
A4: Víziközmű-szolgáltató megnevezése: | K4: ÉSZAK ZALAI VÍZ- ÉS CSATORNAMŰ ZÁRTKÖRŰEN MŰKÖDŐ RÉSZVÉNYTÁRSASÁG
A5: Víziközmű-szolgáltatási ágazat megnevezése: | K5: IVÓVÍZ ÁGAZAT
A6: Véleményeltérést megfogalmazó érintett fél megnevezése:
A7: Víziközmű-rendszer kódja: ** | K7: 11-32054-1-025-01-14 | R7: ZALAEGERSZEG-IV
A8: I. Felszín alatti vízkivétel
A9: Fontossági sorrend | B9: Felujítás és pótlás megnevezése | E9: Műszaki állapot felmérés, szükségességi indoklás | H9: Vízjogi létesítési/elvi engedély száma | I9: Az érintett ellátásért felelős(ök) megnevezése | J9: Tervezett nettó költség | K9: Forrás 2020 évre | L9: Megvalósítás időtartama | N9: Tervezett időtáv | O9: A beruházás ütemezése a tervezési időszak évei szerint
E10: Jelenlegi műszaki állapot | F10: Feladat szükségessége | G10: Megvalósítást követő várható műszaki állapot | J10: (eFt) | L10: Kezdés | M10: Befejezés | N10: (rövid / közép / hosszú) | O10: 1 | P10: 2 | Q10: 3 | R10: 4 | S10: 5 | T10: 6 | U10: 7 | V10: 8 | W10: 9 | X10: 10 | Y10: 11 | Z10: 12 | AA10: 13 | AB10: 14 | AC10: 15
B11: szakág | C11: Helyszín | D11: beruházás megnevezése
A12: 1 | D12: Rendkívüli helyzetből adódó azonnali feladatok (max. 15%) | F12: működőképeség biztosítása | I12: Teskánd | J12: =SUM(O12:AC12) -> 5883.75 | L12: 43831 | M12: 49309 | O12: =0.15*$K$67 -> 392.25 | P12: =0.15*$K$67 -> 392.25 | Q12: =0.15*$K$67 -> 392.25 | R12: =0.15*$K$67 -> 392.25 | S12: =0.15*$K$67 -> 392.25 | T12: =0.15*$K$67 -> 392.25 | U12: =0.15*$K$67 -> 392.25 | V12: =0.15*$K$67 -> 392.25 | ... AC12: =0.15*$K$67 -> 392.25
B13: MÉLYFÚRÁSÚ KÚT, HAGYOMÁNYOS ÁTMÉRŐVEL
B14: Épület, építmény
B16: Gép, berendezés
B18: Irányítástechnika, energiaellátás
B20: Összesen: | J20: =SUM(J12:J18) -> 5883.75
A22: III. Vízműtelep és vízkezelő létesítmények
C23: Helyszín | D23: beruházás megnevezése
B24: VÍZMŰTELEP
B25: Épület, építmény
B27: Gép, berendezés
B29: Irányítástechnika, energiaellátás
B31: VÍZKEZELŐ LÉTESÍTMÉNYEK
B32: Épület, építmény
B34: Gép, berendezés
B36: Irányítástechnika, energiaellátás
B38: Összesen | J38: =SUM(J24:J37) -> 0
A40: IV. Vízelosztás
C41: Helyszín | D41: beruházás megnevezése
B42: IVÓVÍZHÁLÓZAT
B43: Épület, építmény
A44: 54 | C44: Teskánd | D44: vezeték kiváltás, rekonstrukció, felújítás | E44: A szerelvény állapota anyaga, kora, minősége miatt nem megfelelő, elavult. | F44: A szerelvény elavult műszaki állapota miatt gyakoriak a csőtörések. | G44: A szerelvény kiváltás a vízigények figyelembevételével megfelelő átmérőjű és anyagú hálózatot kapunk. | I44: Teskánd | J44: =SUM(O44:AC44) -> 2223 | L44: 43922 | M44: 44196 | N44: rövid | O44: 2223
A45: 68 | C45: Teskánd | D45: bekötéscsere | E45: A vezeték állapota anyaga, kora, minősége miatt nem megfelelő, elavult. | F45: A bekötővezeték anyaga vízbiztonsági kockázatot rejt magában, illetve nagyobb a valószínűsége a meghibásodásnak. | G45: A vízvezeték kiváltás a vízigények figyelembevételével megfelelő átmérőjű és anyagú hálózatot kapunk. | I45: Teskánd | J45: =SUM(O45:AC45) -> 5337 | L45: 44287 | M45: 45657 | N45: közép | P45: 1299 | Q45: 1330 | R45: 1303 | S45: 1405
A46: 69 | C46: Teskánd | D46: tűzcsap építés, csere | E46: A szerelvény állapota anyaga, kora, minősége miatt nem megfelelő, elavult. | F46: A szerelvény elavult műszaki állapota miatt gyakoriak a csőtörések. | G46: A szerelvény kiváltás a vízigények figyelembevételével megfelelő átmérőjű és anyagú hálózatot kapunk. | I46: Teskánd | J46: =SUM(O46:AC46) -> 2400 | L46: 44287 | M46: 45657 | N46: közép | P46: 600 | Q46: 600 | R46: 600 | S46: 600
A47: 109 | C47: Teskánd | D47: vezeték kiváltás, rekonstrukció, felújítás | E47: A vezeték állapota anyaga, kora, minősége miatt nem megfelelő, elavult. | F47: A vezeték elavult műszaki állapota miatt gyakoriak a csőtörések. | G47: A vízvezeték kiváltás a vízigények figyelembevételével megfelelő átmérőjű és anyagú hálózatot kapunk. | I47: Teskánd | J47: =SUM(O47:AC47) -> 173750 | L47: 45748 | M47: 49309 | N47: hosszú | T47: 17375 | U47: 17375 | V47: 17375 | W47: 17375 | X47: 17375 | Y47: 17375 | Z47: 17375 | AA47: 17375 | AB47: 17375 | AC47: 17375
B49: Gép, berendezés
B51: Irányítástechnika, energiaellátás
B53: VÍZTÁROLÓK
B54: Épület, építmény
B56: Gép, berendezés
B58: Irányítástechnika, energiaellátás
B60: NYOMÁSFOKOZÓK
B61: Épület, építmény
B63: Gép, berendezés
B65: Irányítástechnika, energiaellátás
B67: Összesen: | J67: =SUM(J42:J66) -> 183710 | K67: =SUM(C71) -> 2615 | O67: =SUM(O12:O66) -> 2615.25 | P67: =SUM(P12:P66) -> 2291.25 | Q67: =SUM(Q12:Q66) -> 2322.25 | R67: =SUM(R12:R66) -> 2295.25 | S67: =SUM(S12:S66) -> 2397.25 | T67: =SUM(T12:T66) -> 17767.25 | U67: =SUM(U12:U66) -> 17767.25 | V67: =SUM(V12:V66) -> 17767.25 | ... AC67: =SUM(AC12:AC66) -> 17767.25
K68: 2020 évre a fejlesztési forrás biztosított
B70: Tervezett feladatok nettó költsége a teljes ütem tekintetében (eFt) | C70: Rendelkezésre álló források számszerűsített értéke a teljes ütem tekintetében (eFt) | D70: Forrás megnevezése a teljes ütem tekintetében
A71: I. ütem | B71: =SUM(O67) -> 2615.25 | C71: 2615 | D71: Használati díj (2020)
A72: II. ütem | B72: =SUM(P67:S67) -> 9306 | C72: =C71*4 -> 10460 | D72: Használati díj (2021-2024)
A73: III. ütem | B73: =SUM(T67:AC67) -> 177672.5 | C73: =C71*10 -> 26150 | D73: Használati díj (2025-2034)

Sheet Zalaboldogfa
A1: Gördülő fejlesztési terv a 2020 - 2034 időszakra
A2: FELÚJÍTÁSOK ÉS PÓTLÁSOK ÖSSZEFOGLALÓ TÁBLÁZATA
A3: A tervet benyújtó szervezet megnevezése: | K3: ZALABOLDOGFA | R3: ellátásért felelős / ellátásért felelősök képviselője / víziközmű-szolgáltató *
A4: Víziközmű-szolgáltató megnevezése: | K4: ÉSZAK ZALAI VÍZ- ÉS CSATORNAMŰ ZÁRTKÖRŰEN MŰKÖDŐ RÉSZVÉNYTÁRSASÁG
A5: Víziközmű-szolgáltatási ágazat megnevezése: | K5: IVÓVÍZ ÁGAZAT
A6: Véleményeltérést megfogalmazó érintett fél megnevezése:
A7: Víziközmű-rendszer kódja: ** | K7: 11-32054-1-025-01-14 | R7: ZALAEGERSZEG-IV
A8: I. Felszín alatti vízkivétel
A9: Fontossági sorrend | B9: Felujítás és pótlás megnevezése | E9: Műszaki állapot felmérés, szükségességi indoklás | H9: Vízjogi létesítési/elvi engedély száma | I9: Az érintett ellátásért felelős(ök) megnevezése | J9: Tervezett nettó költség | K9: Forrás 2020 évre | L9: Megvalósítás időtartama | N9: Tervezett időtáv | O9: A beruházás ütemezése a tervezési időszak évei szerint
E10: Jelenlegi műszaki állapot | F10: Feladat szükségessége | G10: Megvalósítást követő várható műszaki állapot | J10: (eFt) | L10: Kezdés | M10: Befejezés | N10: (rövid / közép / hosszú) | O10: 1 | P10: 2 | Q10: 3 | R10: 4 | S10: 5 | T10: 6 | U10: 7 | V10: 8 | W10: 9 | X10: 10 | Y10: 11 | Z10: 12 | AA10: 13 | AB10: 14 | AC10: 15
B11: szakág | C11: Helyszín | D11: beruházás megnevezése
A12: 1 | D12: Rendkívüli helyzetből adódó azonnali feladatok (max. 15%) | F12: működőképeség biztosítása | I12: Zalaboldogfa | J12: =SUM(O12:AC12) -> 3060 | L12: 43831 | M12: 49309 | O12: =0.15*$K$67 -> 204 | P12: =0.15*$K$67 -> 204 | Q12: =0.15*$K$67 -> 204 | R12: =0.15*$K$67 -> 204 | S12: =0.15*$K$67 -> 204 | T12: =0.15*$K$67 -> 204 | U12: =0.15*$K$67 -> 204 | V12: =0.15*$K$67 -> 204 | ... AC12: =0.15*$K$67 -> 204
B13: MÉLYFÚRÁSÚ KÚT, HAGYOMÁNYOS ÁTMÉRŐVEL
B14: Épület, építmény
B16: Gép, berendezés
B18: Irányítástechnika, energiaellátás
B20: Összesen: | J20: =SUM(J12:J19) -> 3060
A22: III. Vízműtelep és vízkezelő létesítmények
C23: Helyszín | D23: beruházás megnevezése
B24: VÍZMŰTELEP
B25: Épület, építmény
B27: Gép, berendezés
B29: Irányítástechnika, energiaellátás
B31: VÍZKEZELŐ LÉTESÍTMÉNYEK
B32: Épület, építmény
B34: Gép, berendezés
B36: Irányítástechnika, energiaellátás
B38: Összesen | J38: =SUM(J24:J37) -> 0
A40: IV. Vízelosztás
C41: Helyszín | D41: beruházás megnevezése
B42: IVÓVÍZHÁLÓZAT
B43: Épület, építmény
A44: 55 | C44: Zalaboldogfa | D44: vezeték kiváltás, rekonstrukció, felújítás | E44: A vezeték állapota anyaga, kora, minősége miatt nem megfelelő, elavult. | F44: A bekötővezeték anyaga vízbiztonsági kockázatot rejt magában, illetve nagyobb a valószínűsége a meghibásodásnak. | G44: A vízvezeték kiváltás, a vízigények figyelembevételével megfelelő átmérőjű és anyagú hálózatot kapunk. | H44: - | I44: Zalaboldogfa | J44: =SUM(O44:AC44) -> 1156 | L44: 43922 | M44: 44196 | N44: rövid | O44: 1156
A45: 70 | C45: Zalaboldogfa | D45: tűzcsap építés, csere | E45: A szerelvény állapota anyaga, kora, minősége miatt nem megfelelő, elavult. | F45: A vezeték elavult műszaki állapota miatt gyakoriak a csőtörések | G45: A szerelvény kiváltás, a vízigények figyelembevételével megfelelő átmérőjű és anyagú hálózatot kapunk. | H45: - | I45: Zalaboldogfa | J45: =SUM(O45:AC45) -> 500 | L45: 44287 | M45: 44561 | N45: közép | P45: 500
A46: 110 | C46: Zalaboldogfa | D46: vezeték kiváltás, rekonstrukció, felújítás | E46: A vezeték állapota anyaga, kora, minősége miatt nem megfelelő, elavult. | F46: A vezeték elavult műszaki állapota miatt gyakoriak a csőtörések | G46: A vízvezeték kiváltás, a vízigények figyelembevételével megfelelő átmérőjű és anyagú hálózatot kapunk. | H46: - | I46: Zalaboldogfa | J46: =SUM(O46:AC46) -> 101440 | L46: 45748 | M46: 49309 | N46: hosszú | T46: 10144 | U46: 10144 | V46: 10144 | W46: 10144 | X46: 10144 | Y46: 10144 | Z46: 10144 | AA46: 10144 | AB46: 10144 | AC46: 10144
B48: Gép, berendezés
B50: Irányítástechnika, energiaellátás
B52: VÍZTÁROLÓK
B53: Épület, építmény
B55: Gép, berendezés
B57: Irányítástechnika, energiaellátás
B59: NYOMÁSFOKOZÓK
B60: Épület, építmény
B62: Gép, berendezés
A63: 136 | C63: Zalaboldogfa nyomásfokozó | D63: Szivattyú csere (CRIE3-5 2 db; CR45-3) | E63: A szivattyú kora, műszaki állapota miatt fennáll a meghibásodás veszélye. | F63: A folyamatos víztermelés biztosítása | G63: A Q–H diagramhoz illeszkedő energiahatékony szivattyú üzemeltetése | I63: Zalaboldogfa | J63: =SUM(O63:AC63) -> 1200 | L63: 47119 | M63: 47848 | N63: hosszú | X63: 832 | Y63: 368
B65: Irányítástechnika, energiaellátás
B67: Összesen: | J67: =SUM(J42:J66) -> 104296 | K67: =SUM(C71) -> 1360 | O67: =SUM(O12:O66) -> 1360 | P67: =SUM(P12:P66) -> 704 | Q67: =SUM(Q12:Q66) -> 204 | R67: =SUM(R12:R66) -> 204 | S67: =SUM(S12:S66) -> 204 | T67: =SUM(T12:T66) -> 10348 | U67: =SUM(U12:U66) -> 10348 | V67: =SUM(V12:V66) -> 10348 | ... AC67: =SUM(AC12:AC66) -> 10348
K68: 2020 évre a fejlesztési forrás biztosított
B70: Tervezett feladatok nettó költsége a teljes ütem tekintetében (eFt) | C70: Rendelkezésre álló források számszerűsített értéke a teljes ütem tekintetében (eFt) | D70: Forrás megnevezése a teljes ütem tekintetében
A71: I. ütem | B71: =SUM(O67) -> 1360 | C71: 1360 | D71: Használati díj (2020)
A72: II. ütem | B72: =SUM(P67:S67) -> 1316 | C72: =C71*4 -> 5440 | D72: Használati díj (2021-2024)
A73: III. ütem | B73: =SUM(T67:AC67) -> 104680 | C73: =C71*10 -> 13600 | D73: Használati díj (2025-2034)

Sheet Zalaegerszeg
A1: Gördülő fejlesztési terv a 2020 - 2034 időszakra
A2: FELÚJÍTÁSOK ÉS PÓTLÁSOK ÖSSZEFOGLALÓ TÁBLÁZATA
A3: A tervet benyújtó szervezet megnevezése: | K3: ZALAEGERSZEG | R3: ellátásért felelős / ellátásért felelősök képviselője / víziközmű-szolgáltató *
A4: Víziközmű-szolgáltató megnevezése: | K4: ÉSZAK ZALAI VÍZ- ÉS CSATORNAMŰ ZÁRTKÖRŰEN MŰKÖDŐ RÉSZVÉNYTÁRSASÁG
A5: Víziközmű-szolgáltatási ágazat megnevezése: | K5: IVÓVÍZ ÁGAZAT
A6: Véleményeltérést megfogalmazó érintett fél megnevezése:
A7: Víziközmű-rendszer kódja: ** | K7: 11-32054-1-025-01-14 | R7: ZALAEGERSZEG-IV
A8: I. Felszín alatti vízkivétel
A9: Fontossági sorrend | B9: Felujítás és pótlás megnevezése | E9: Műszaki állapot felmérés, szükségességi indoklás | H9: Vízjogi létesítési/elvi engedély száma | I9: Az érintett ellátásért felelős(ök) megnevezése | J9: Tervezett nettó költség | K9: Forrás 2020 évre | L9: Megvalósítás időtartama | N9: Tervezett időtáv | O9: A beruházás ütemezése a tervezési időszak évei szerint
E10: Jelenlegi műszaki állapot | F10: Feladat szükségessége | G10: Megvalósítást követő várható műszaki állapot | J10: (eFt) | L10: Kezdés | M10: Befejezés | N10: (rövid / közép / hosszú) | O10: 1 | P10: 2 | Q10: 3 | R10: 4 | S10: 5 | T10: 6 | U10: 7 | V10: 8 | W10: 9 | X10: 10 | Y10: 11 | Z10: 12 | AA10: 13 | AB10: 14 | AC10: 15
B11: szakág | C11: Helyszín | D11: beruházás megnevezése
A12: 1 | D12: Rendkívüli helyzetből adódó azonnali feladatok (max. 15%) | F12: működőképeség biztosítása | I12: Zalaegerszeg | J12: =SUM(O12:AC12) -> 465009.9 | L12: 43831 | M12: 49309 | O12: 18993 | P12: =0.15*$K$165 -> 31858.35 | Q12: =0.15*$K$165 -> 31858.35 | R12: =0.15*$K$165 -> 31858.35 | S12: =0.15*$K$165 -> 31858.35 | T12: =0.15*$K$165 -> 31858.35 | U12: =0.15*$K$165 -> 31858.35 | V12: =0.15*$K$165 -> 31858.35 | W12: =0.15*$K$165 -> 31858.35 | ... AC12: =0.15*$K$165 -> 31858.35
A13: 36 | C13: Zalaegerszeg | D13: utólagos szolgalmi ügyintézés | F13: jogszabályi kötelezettség | I13: Zalaegerszeg | J13: =SUM(O13:AC13) -> 3000 | L13: 43831 | M13: 44196 | N13: rövid | O13: 3000
A14: 37 | C14: Zalaegerszeg | D14: MEKH igazgatási díjak | F14: jogszabályi kötelezettség | I14: Zalaegerszeg | J14: =SUM(O14:AC14) -> 350 | L14: 43831 | M14: 44196 | N14: rövid | O14: 350
B15: MÉLYFÚRÁSÚ KÚT, HAGYOMÁNYOS ÁTMÉRŐVEL
B16: Épület, építmény
A17: 25 | C17: Zalaegerszeg 21. kút | D17: kút felépítmény lapostető vízszigaetelés és bádogozás felújítás 9m2 | E17: Az objektum kora, műszaki állapota miatt fennáll a meghibásodás veszélye. Feladat szükségessége | F17: A felhasználók folyamatos vízellátásának biztosítására | G17: Az elvárt vízigényeket kielégítő megfelelő műszaki állapotú vízbázis. | I17: Zalaegerszeg | J17: =SUM(O17:AC17) -> 120 | L17: 43831 | M17: 44196 | N17: rövid | O17: 120
A18: 26 | C18: Zalaegerszeg 19. kút | D18: kút felépítmény lapostető vízszigaetelés és bádogozás felújítás 9m2 | E18: Az objektum kora, műszaki állapota miatt fennáll a meghibásodás veszélye. Feladat szükségessége | F18: A felhasználók folyamatos vízellátásának biztosítására | G18: Az elvárt vízigényeket kielégítő megfelelő műszaki állapotú vízbázis. | I18: Zalaegerszeg | J18: =SUM(O18:AC18) -> 120 | L18: 43831 | M18: 44196 | N18: rövid | O18: 120
A19: 27 | C19: Zalaegerszeg 18. kút | D19: kút felépítmény lapostető vízszigaetelés és bádogozás felújítás 9m2 | E19: Az objektum kora, műszaki állapota miatt fennáll a meghibásodás veszélye. Feladat szükségessége | F19: A felhasználók folyamatos vízellátásának biztosítására | G19: Az elvárt vízigényeket kielégítő megfelelő műszaki állapotú vízbázis. | I19: Zalaegerszeg | J19: =SUM(O19:AC19) -> 120 | L19: 43831 | M19: 44196 | N19: rövid | O19: 120
A20: 28 | C20: Zalaegerszeg 15. kút | D20: kút felépítmény lapostető vízszigaetelés és bádogozás felújítás 9m2 | E20: Az objektum kora, műszaki állapota miatt fennáll a meghibásodás veszélye. Feladat szükségessége | F20: A felhasználók folyamatos vízellátásának biztosítására | G20: Az elvárt vízigényeket kielégítő megfelelő műszaki állapotú vízbázis. | I20: Zalaegerszeg | J20: =SUM(O20:AC20) -> 120 | L20: 43831 | M20: 44196 | N20: rövid | O20: 120
A21: 29 | C21: Zalaegerszeg 13. kút | D21: kút felépítmény lapostető vízszigaetelés és bádogozás felújítás 9m2 | E21: Az objektum kora, műszaki állapota miatt fennáll a meghibásodás veszélye. Feladat szükségessége | F21: A felhasználók folyamatos vízellátásának biztosítására | G21: Az elvárt vízigényeket kielégítő megfelelő műszaki állapotú vízbázis. | I21: Zalaegerszeg | J21: =SUM(O21:AC21) -> 120 | L21: 43831 | M21: 44196 | N21: rövid | O21: 120
A22: 30 | C22: Zalaegerszeg 21. kút | D22: kút felépítmény homlokzat felújítás 30m2 | E22: Az objektum kora, műszaki állapota miatt fennáll a meghibásodás veszélye. Feladat szükségessége | F22: A felhasználók folyamatos vízellátásának biztosítására | G22: Az elvárt vízigényeket kielégítő megfelelő műszaki állapotú vízbázis. | I22: Zalaegerszeg | J22: =SUM(O22:AC22) -> 250 | L22: 43831 | M22: 44196 | N22: rövid | O22: 250
A23: 87 | C23: Zalaegerszeg … kút | D23: kútfelújítás | E23: Az objektum kora, műszaki állapota miatt fennáll a meghibásodás veszélye. Feladat szükségessége | F23: A felhasználók folyamatos vízellátásának biztosítására | G23: Az elvárt vízigényeket kielégítő megfelelő műszaki állapotú vízbázis. | I23: Zalaegerszeg | J23: =SUM(O23:AC23) -> 6000 | L23: 44927 | M23: 45291 | N23: közép | R23: 6000
A24: 123 | C24: Zalaegerszeg … kút | D24: kútfelújítás | E24: Az objektum kora, műszaki állapota miatt fennáll a meghibásodás veszélye. Feladat szükségessége | F24: A felhasználók folyamatos vízellátásának biztosítására | G24: Az elvárt vízigényeket kielégítő megfelelő műszaki állapotú vízbázis. | I24: Zalaegerszeg | J24: =SUM(O24:AC24) -> 12000 | L24: 46753 | M24: 48944 | N24: hosszú | W24: 6000 | AB24: 6000
B26: Gép, berendezés
A27: 31 | C27: Zalaegerszeg 13. kút | D27: közmű gépészet felújítása | E27: A szivattyú kora, műszaki állapota miatt fennáll a meghibásodás veszélye. | F27: A folyamatos víztermelés biztosítása. | G27: A Q–H diagramhoz illeszkedő energiahatékony szivattyú üzemeltetése. | I27: Zalaegerszeg | J27: =SUM(O27:AC27) -> 1800 | L27: 43922 | M27: 44196 | N27: rövid | O27: 1800
A28: 32 | C28: Zalaegerszeg 18. kút | D28: közmű gépészet felújítása | E28: A szivattyú kora, műszaki állapota miatt fennáll a meghibásodás veszélye. | F28: A folyamatos víztermelés biztosítása. | G28: A Q–H diagramhoz illeszkedő energiahatékony szivattyú üzemeltetése. | I28: Zalaegerszeg | J28: =SUM(O28:AC28) -> 1800 | L28: 43922 | M28: 44196 | N28: rövid | O28: 1800
A29: 33 | C29: Zalaegerszeg 19. kút | D29: közmű gépészet felújítása | E29: A szivattyú kora, műszaki állapota miatt fennáll a meghibásodás veszélye. | F29: A folyamatos víztermelés biztosítása. | G29: A Q–H diagramhoz illeszkedő energiahatékony szivattyú üzemeltetése. | I29: Zalaegerszeg | J29: =SUM(O29:AC29) -> 1800 | L29: 43922 | M29: 44196 | N29: rövid | O29: 1800
A30: 34 | C30: Zalaegerszeg 21. kút | D30: közmű gépészet felújítása | E30: A szivattyú kora, műszaki állapota miatt fennáll a meghibásodás veszélye. | F30: A folyamatos víztermelés biztosítása. | G30: A Q–H diagramhoz illeszkedő energiahatékony szivattyú üzemeltetése. | I30: Zalaegerszeg | J30: =SUM(O30:AC30) -> 1800 | L30: 43922 | M30: 44196 | N30: rövid | O30: 1800
A31: 35 | C31: Zalaegerszeg | D31: szivattyú javítás és csere | E31: A szivattyú kora, műszaki állapota miatt fennáll a meghibásodás veszélye. | F31: A folyamatos víztermelés biztosítása. | G31: A Q–H diagramhoz illeszkedő energiahatékony szivattyú üzemeltetése. | I31: Zalaegerszeg | J31: =SUM(O31:AC31) -> 5000 | L31: 43922 | M31: 44196 | N31: rövid | O31: 5000
A32: 97 | C32: Zalaegerszeg … kút | D32: szivattyú javítás és csere | E32: A szivattyú kora, műszaki állapota miatt fennáll a meghibásodás veszélye. | F32: A folyamatos víztermelés biztosítása. | G32: A Q–H diagramhoz illeszkedő energiahatékony szivattyú üzemeltetése. | I32: Zalaegerszeg | J32: =SUM(O32:AC32) -> 601 | L32: 45292 | M32: 45657 | N32: közép | S32: 601
C33: Zalaegerszeg … kút | D33: közmű gépészet felújítása | E33: A szerelvények és vezetékek, műszaki állapota miatt fennáll a meghibásodás veszélye. | F33: A folyamatos víztermelés biztosítása. | G33: A gépészeti funkciókat kifogástalanul ellátó szerelvények. | I33: Zalaegerszeg | J33: =SUM(O33:AC33) -> 2000 | L33: 45292 | M33: 45657 | N33: közép | S33: 2000
A34: 111 | C34: Zalaegerszeg … kút | D34: szivattyú javítás és csere | E34: A szivattyú kora, műszaki állapota miatt fennáll a meghibásodás veszélye. | F34: A folyamatos víztermelés biztosítása. | G34: A Q–H diagramhoz illeszkedő energiahatékony szivattyú üzemeltetése. | I34: Zalaegerszeg | J34: =SUM(O34:AC34) -> 601 | L34: 45658 | M34: 46022 | N34: hosszú | T34: 601
C35: Zalaegerszeg … kút | D35: közmű gépészet felújítása | E35: A szerelvények és vezetékek, műszaki állapota miatt fennáll a meghibásodás veszélye. | F35: A folyamatos víztermelés biztosítása. | G35: A gépészeti funkciókat kifogástalanul ellátó szerelvények. | I35: Zalaegerszeg | J35: =SUM(O35:AC35) -> 2000 | L35: 45658 | M35: 46022 | N35: hosszú | T35: 2000
A36: 120 | C36: Zalaegerszeg … kút | D36: szivattyú javítás és csere | E36: A szivattyú kora, műszaki állapota miatt fennáll a meghibásodás veszélye. | F36: A folyamatos víztermelés biztosítása. | G36: A Q–H diagramhoz illeszkedő energiahatékony szivattyú üzemeltetése. | I36: Zalaegerszeg | J36: =SUM(O36:AC36) -> 601 | L36: 46023 | M36: 46387 | N36: hosszú | U36: 601
C37: Zalaegerszeg … kút | D37: közmű gépészet felújítása | E37: A szerelvények és vezetékek, műszaki állapota miatt fennáll a meghibásodás veszélye. | F37: A folyamatos víztermelés biztosítása. | G37: A gépészeti funkciókat kifogástalanul ellátó szerelvények. | I37: Zalaegerszeg | J37: =SUM(O37:AC37) -> 2000 | L37: 46023 | M37: 46387 | N37: hosszú | U37: 2000
A38: 124 | C38: Zalaegerszeg … kút | D38: szivattyú javítás és csere | E38: A szivattyú kora, műszaki állapota miatt fennáll a meghibásodás veszélye. | F38: A folyamatos víztermelés biztosítása. | G38: A Q–H diagramhoz illeszkedő energiahatékony szivattyú üzemeltetése. | I38: Zalaegerszeg | J38: =SUM(O38:AC38) -> 601 | L38: 46388 | M38: 46752 | N38: hosszú | V38: 601
C39: Zalaegerszeg … kút | D39: közmű gépészet felújítása | E39: A szerelvények és vezetékek, műszaki állapota miatt fennáll a meghibásodás veszélye. | F39: A folyamatos víztermelés biztosítása. | G39: A gépészeti funkciókat kifogástalanul ellátó szerelvények. | I39: Zalaegerszeg | J39: =SUM(O39:AC39) -> 2000 | L39: 46388 | M39: 46752 | N39: hosszú | V39: 2000
A40: 128 | C40: Zalaegerszeg … kút | D40: szivattyú javítás és csere | E40: A szivattyú kora, műszaki állapota miatt fennáll a meghibásodás veszélye. | F40: A folyamatos víztermelés biztosítása. | G40: A Q–H diagramhoz illeszkedő energiahatékony szivattyú üzemeltetése. | I40: Zalaegerszeg | J40: =SUM(O40:AC40) -> 601 | L40: 46753 | M40: 47118 | N40: hosszú | W40: 601
C41: Zalaegerszeg … kút | D41: közmű gépészet felújítása | E41: A szerelvények és vezetékek, műszaki állapota miatt fennáll a meghibásodás veszélye. | F41: A folyamatos víztermelés biztosítása. | G41: A gépészeti funkciókat kifogástalanul ellátó szerelvények. | I41: Zalaegerszeg | J41: =SUM(O41:AC41) -> 2000 | L41: 46753 | M41: 47118 | N41: hosszú | W41: 2000
A42: 137 | C42: Zalaegerszeg … kút | D42: szivattyú javítás és csere | E42: A szivattyú kora, műszaki állapota miatt fennáll a meghibásodás veszélye. | F42: A folyamatos víztermelés biztosítása. | G42: A Q–H diagramhoz illeszkedő energiahatékony szivattyú üzemeltetése. | I42: Zalaegerszeg | J42: =SUM(O42:AC42) -> 601 | L42: 47119 | M42: 47483 | N42: hosszú | X42: 601
C43: Zalaegerszeg … kút | D43: közmű gépészet felújítása | E43: A szerelvények és vezetékek, műszaki állapota miatt fennáll a meghibásodás veszélye. | F43: A folyamatos víztermelés biztosítása. | G43: A gépészeti funkciókat kifogástalanul ellátó szerelvények. | I43: Zalaegerszeg | J43: =SUM(O43:AC43) -> 2000 | L43: 47119 | M43: 47483 | N43: hosszú | X43: 2000
A44: 142 | C44: Zalaegerszeg … kút | D44: szivattyú javítás és csere | E44: A szivattyú kora, műszaki állapota miatt fennáll a meghibásodás veszélye. | F44: A folyamatos víztermelés biztosítása. | G44: A Q–H diagramhoz illeszkedő energiahatékony szivattyú üzemeltetése. | I44: Zalaegerszeg | J44: =SUM(O44:AC44) -> 601 | L44: 47484 | M44: 47848 | N44: hosszú | Y44: 601
C45: Zalaegerszeg … kút | D45: közmű gépészet felújítása | E45: A szerelvények és vezetékek, műszaki állapota miatt fennáll a meghibásodás veszélye. | F45: A folyamatos víztermelés biztosítása. | G45: A gépészeti funkciókat kifogástalanul ellátó szerelvények. | I45: Zalaegerszeg | J45: =SUM(O45:AC45) -> 2000 | L45: 47484 | M45: 47848 | N45: hosszú | Y45: 2000
A46: 144 | C46: Zalaegerszeg … kút | D46: szivattyú javítás és csere | E46: A szivattyú kora, műszaki állapota miatt fennáll a meghibásodás veszélye. | F46: A folyamatos víztermelés biztosítása. | G46: A Q–H diagramhoz illeszkedő energiahatékony szivattyú üzemeltetése. | I46: Zalaegerszeg | J46: =SUM(O46:AC46) -> 601 | L46: 47849 | M46: 48213 | N46: hosszú | Z46: 601
C47: Zalaegerszeg … kút | D47: közmű gépészet felújítása | E47: A szerelvények és vezetékek, műszaki állapota miatt fennáll a meghibásodás veszélye. | F47: A folyamatos víztermelés biztosítása. | G47: A gépészeti funkciókat kifogástalanul ellátó szerelvények. | I47: Zalaegerszeg | J47: =SUM(O47:AC47) -> 2000 | L47: 47849 | M47: 48213 | N47: hosszú | Z47: 2000
A48: 146 | C48: Zalaegerszeg … kút | D48: szivattyú javítás és csere | E48: A szivattyú kora, műszaki állapota miatt fennáll a meghibásodás veszélye. | F48: A folyamatos víztermelés biztosítása. | G48: A Q–H diagramhoz illeszkedő energiahatékony szivattyú üzemeltetése. | I48: Zalaegerszeg | J48: =SUM(O48:AC48) -> 601 | L48: 48214 | M48: 48579 | N48: hosszú | AA48: 601
C49: Zalaegerszeg … kút | D49: közmű gépészet felújítása | E49: A szerelvények és vezetékek, műszaki állapota miatt fennáll a meghibásodás veszélye. | F49: A folyamatos víztermelés biztosítása. | G49: A gépészeti funkciókat kifogástalanul ellátó szerelvények. | I49: Zalaegerszeg | J49: =SUM(O49:AC49) -> 2000 | L49: 48214 | M49: 48579 | N49: hosszú | AA49: 2000
A50: 148 | C50: Zalaegerszeg … kút | D50: szivattyú javítás és csere | E50: A szivattyú kora, műszaki állapota miatt fennáll a meghibásodás veszélye. | F50: A folyamatos víztermelés biztosítása. | G50: A Q–H diagramhoz illeszkedő energiahatékony szivattyú üzemeltetése. | I50: Zalaegerszeg | J50: =SUM(O50:AC50) -> 601 | L50: 48580 | M50: 48944 | N50: hosszú | AB50: 601
C51: Zalaegerszeg … kút | D51: közmű gépészet felújítása | E51: A szerelvények és vezetékek, műszaki állapota miatt fennáll a meghibásodás veszélye. | F51: A folyamatos víztermelés biztosítása. | G51: A gépészeti funkciókat kifogástalanul ellátó szerelvények. | I51: Zalaegerszeg | J51: =SUM(O51:AC51) -> 2000 | L51: 48580 | M51: 48944 | N51: hosszú | AB51: 2000
A52: 150 | C52: Zalaegerszeg … kút | D52: szivattyú javítás és csere | E52: A szivattyú kora, műszaki állapota miatt fennáll a meghibásodás veszélye. | F52: A folyamatos víztermelés biztosítása. | G52: A Q–H diagramhoz illeszkedő energiahatékony szivattyú üzemeltetése. | I52: Zalaegerszeg | J52: =SUM(O52:AC52) -> 601 | L52: 48945 | M52: 49309 | N52: hosszú | AC52: 601
C53: Zalaegerszeg … kút | D53: közmű gépészet felújítása | E53: A szerelvények és vezetékek, műszaki állapota miatt fennáll a meghibásodás veszélye. | F53: A folyamatos víztermelés biztosítása. | G53: A gépészeti funkciókat kifogástalanul ellátó szerelvények. | I53: Zalaegerszeg | J53: =SUM(O53:AC53) -> 2000 | L53: 48945 | M53: 49309 | N53: hosszú | AC53: 2000
B55: Irányítástechnika, energiaellátás
A56: 19 | C56: Zalaegerszeg 26. kút | D56: URH kommunikáció átállás GPRS-re | E56: Az elektromos, irányítástechnikai szerelvények és vezetékek, műszaki állapota miatt fennáll a meghibásodás veszélye | F56: A megfelelő minőségű kommunikáció, a folyamatos távfelügyelet biztosítása. | G56: Megfelelő biztonságú adatkommunikációs csatorna. | I56: Zalaegerszeg | J56: =SUM(O56:AC56) -> 550 | L56: 43922 | M56: 44196 | N56: rövid | O56: 550
A57: 23 | C57: Zalaegerszeg | D57: Földkábeles kommunikációról való átállás GPRS-re | E57: Az elektromos, irányítástechnikai szerelvények és vezetékek, műszaki állapota miatt fennáll a meghibásodás veszélye | F57: A megfelelő minőségű kommunikáció, a folyamatos távfelügyelet biztosítása. | G57: Megfelelő biztonságú adatkommunikációs csatorna. | I57: Zalaegerszeg | J57: =SUM(O57:AC57) -> 8800 | L57: 43922 | M57: 44196 | N57: rövid | O57: 8800
A58: 71 | C58: Zalaegerszeg Keleti kútcsoport | D58: GPRS kommunikációra történő átállás | E58: Az elektromos, irányítástechnikai szerelvények és vezetékek, műszaki állapota miatt fennáll a meghibásodás veszélye. | F58: A búvárszivattyú elektromos megtáplálása, a folyamatos távfelügyelet biztosítása. | G58: A búvárszivattyú elektromos paramétereihez illeszkedő erősáramú és vezérlőszekrény. | I58: Zalaegerszeg | J58: =SUM(O58:AC58) -> 6078 | L58: 44197 | M58: 44561 | N58: közép | P58: 6078
A59: 98 | C59: Zalaegerszeg … kút | D59: elektromos és irányítástechnikai szekrény csere (2 db) | E59: Az elektromos, irányítástechnikai szerelvények és vezetékek, műszaki állapota miatt fennáll a meghibásodás veszélye. | F59: A búvárszivattyú elektromos megtáplálása, a folyamatos távfelügyelet biztosítása. | G59: A búvárszivattyú elektromos paramétereihez illeszkedő erősáramú és vezérlőszekrény. | I59: Zalaegerszeg | J59: =SUM(O59:AC59) -> 6000 | L59: 45292 | M59: 45657 | N59: közép | S59: 6000
A60: 112 | C60: Zalaegerszeg … kút | D60: elektromos és irányítástechnikai szekrény csere (2 db) | E60: Az elektromos, irányítástechnikai szerelvények és vezetékek, műszaki állapota miatt fennáll a meghibásodás veszélye. | F60: A búvárszivattyú elektromos megtáplálása, a folyamatos távfelügyelet biztosítása. | G60: A búvárszivattyú elektromos paramétereihez illeszkedő erősáramú és vezérlőszekrény. | I60: Zalaegerszeg | J60: =SUM(O60:AC60) -> 6000 | L60: 45658 | M60: 46022 | N60: hosszú | T60: 6000
A61: 121 | C61: Zalaegerszeg … kút | D61: elektromos és irányítástechnikai szekrény csere (2 db) | E61: Az elektromos, irányítástechnikai szerelvények és vezetékek, műszaki állapota miatt fennáll a meghibásodás veszélye. | F61: A búvárszivattyú elektromos megtáplálása, a folyamatos távfelügyelet biztosítása. | G61: A búvárszivattyú elektromos paramétereihez illeszkedő erősáramú és vezérlőszekrény. | I61: Zalaegerszeg | J61: =SUM(O61:AC61) -> 6000 | L61: 46023 | M61: 46387 | N61: hosszú | U61: 6000
A62: 125 | C62: Zalaegerszeg … kút | D62: elektromos és irányítástechnikai szekrény csere (2 db) | E62: Az elektromos, irányítástechnikai szerelvények és vezetékek, műszaki állapota miatt fennáll a meghibásodás veszélye. | F62: A búvárszivattyú elektromos megtáplálása, a folyamatos távfelügyelet biztosítása. | G62: A búvárszivattyú elektromos paramétereihez illeszkedő erősáramú és vezérlőszekrény. | I62: Zalaegerszeg | J62: =SUM(O62:AC62) -> 6000 | L62: 46388 | M62: 46752 | N62: hosszú | V62: 6000
A63: 129 | C63: Zalaegerszeg … kút | D63: elektromos és irányítástechnikai szekrény csere (2 db) | E63: Az elektromos, irányítástechnikai szerelvények és vezetékek, műszaki állapota miatt fennáll a meghibásodás veszélye. | F63: A búvárszivattyú elektromos megtáplálása, a folyamatos távfelügyelet biztosítása. | G63: A búvárszivattyú elektromos paramétereihez illeszkedő erősáramú és vezérlőszekrény. | I63: Zalaegerszeg | J63: =SUM(O63:AC63) -> 6000 | L63: 46753 | M63: 47118 | N63: hosszú | W63: 6000
A64: 138 | C64: Zalaegerszeg … kút | D64: elektromos és irányítástechnikai szekrény csere (2 db) | E64: Az elektromos, irányítástechnikai szerelvények és vezetékek, műszaki állapota miatt fennáll a meghibásodás veszélye. | F64: A búvárszivattyú elektromos megtáplálása, a folyamatos távfelügyelet biztosítása. | G64: A búvárszivattyú elektromos paramétereihez illeszkedő erősáramú és vezérlőszekrény. | I64: Zalaegerszeg | J64: =SUM(O64:AC64) -> 6000 | L64: 47119 | M64: 47483 | N64: hosszú | X64: 6000
A65: 143 | C65: Zalaegerszeg … kút | D65: elektromos és irányítástechnikai szekrény csere (2 db) | E65: Az elektromos, irányítástechnikai szerelvények és vezetékek, műszaki állapota miatt fennáll a meghibásodás veszélye. | F65: A búvárszivattyú elektromos megtáplálása, a folyamatos távfelügyelet biztosítása. | G65: A búvárszivattyú elektromos paramétereihez illeszkedő erősáramú és vezérlőszekrény. | I65: Zalaegerszeg | J65: =SUM(O65:AC65) -> 6000 | L65: 47484 | M65: 47848 | N65: hosszú | Y65: 6000
A66: 145 | C66: Zalaegerszeg … kút | D66: elektromos és irányítástechnikai szekrény csere (2 db) | E66: Az elektromos, irányítástechnikai szerelvények és vezetékek, műszaki állapota miatt fennáll a meghibásodás veszélye. | F66: A búvárszivattyú elektromos megtáplálása, a folyamatos távfelügyelet biztosítása. | G66: A búvárszivattyú elektromos paramétereihez illeszkedő erősáramú és vezérlőszekrény. | I66: Zalaegerszeg | J66: =SUM(O66:AC66) -> 6000 | L66: 47849 | M66: 48213 | N66: hosszú | Z66: 6000
A67: 147 | C67: Zalaegerszeg … kút | D67: elektromos és irányítástechnikai szekrény csere (2 db) | E67: Az elektromos, irányítástechnikai szerelvények és vezetékek, műszaki állapota miatt fennáll a meghibásodás veszélye. | F67: A búvárszivattyú elektromos megtáplálása, a folyamatos távfelügyelet biztosítása. | G67: A búvárszivattyú elektromos paramétereihez illeszkedő erősáramú és vezérlőszekrény. | I67: Zalaegerszeg | J67: =SUM(O67:AC67) -> 6000 | L67: 48214 | M67: 48579 | N67: hosszú | AA67: 6000
A68: 149 | C68: Zalaegerszeg … kút | D68: elektromos és irányítástechnikai szekrény csere (2 db) | E68: Az elektromos, irányítástechnikai szerelvények és vezetékek, műszaki állapota miatt fennáll a meghibásodás veszélye. | F68: A búvárszivattyú elektromos megtáplálása, a folyamatos távfelügyelet biztosítása. | G68: A búvárszivattyú elektromos paramétereihez illeszkedő erősáramú és vezérlőszekrény. | I68: Zalaegerszeg | J68: =SUM(O68:AC68) -> 6000 | L68: 48580 | M68: 48944 | N68: hosszú | AB68: 6000
A69: 151 | C69: Zalaegerszeg … kút | D69: elektromos és irányítástechnikai szekrény csere (2 db) | E69: Az elektromos, irányítástechnikai szerelvények és vezetékek, műszaki állapota miatt fennáll a meghibásodás veszélye. | F69: A búvárszivattyú elektromos megtáplálása, a folyamatos távfelügyelet biztosítása. | G69: A búvárszivattyú elektromos paramétereihez illeszkedő erősáramú és vezérlőszekrény. | I69: Zalaegerszeg | J69: =SUM(O69:AC69) -> 6000 | L69: 48945 | M69: 49309 | N69: hosszú | AC69: 6000
B71: Összesen: | J71: =SUM(J12:J55) -> 528020.9
A73: III. Vízműtelep és vízkezelő létesítmények
C74: Helyszín | D74: beruházás megnevezése
B75: VÍZMŰTELEP
B76: Épület, építmény
B78: Gép, berendezés
B80: Irányítástechnika, energiaellátás
A81: 22 | C81: Zalaegerszeg Keleti vízműtelep | D81: URH központ megszüntetése, átállás GPRS kommunikációra | E81: Az elektromos, irányítástechnikai szerelvények és vezetékek, műszaki állapota miatt fennáll a meghibásodás veszélye | F81: A megfelelő minőségű kommunikáció, a folyamatos távfelügyelet biztosítása. | G81: Megfelelő biztonságú adatkommunikációs csatorna. | I81: Zalaegerszeg | J81: =SUM(O81:AC81) -> 550 | L81: 43922 | M81: 44196 | N81: rövid | O81: 550
A82: 24 | C82: Zalaegerszeg Nyugati vízműtelep | D82: térvilágítás korszerűsítése | E82: Az elektromos, irányítástechnikai szerelvények és vezetékek, műszaki állapota miatt fennáll a meghibásodás veszélye | F82: A vízműtelep elektromos megtáplálása, a folyamatos távfelügyelet biztosítása. | G82: Az elektromos paramétereihez illeszkedő erős- és gyengeáramú vezérlőszekrény. | I82: Zalaegerszeg | J82: =SUM(O82:AC82) -> 460 | L82: 43922 | M82: 44196 | N82: rövid | O82: 460
A83: 72 | C83: Zalaegerszeg vízműtelep | D83: PLC - PLC közti kommunikáció felújítása | E83: Az elektromos, irányítástechnikai szerelvények és vezetékek, műszaki állapota miatt fennáll a meghibásodás veszélye | F83: A vízműtelep elektromos megtáplálása, a folyamatos távfelügyelet biztosítása. | G83: Az elektromos paramétereihez illeszkedő erős- és gyengeáramú vezérlőszekrény. | I83: Zalaegerszeg | J83: =SUM(O83:AC83) -> 1000 | L83: 44287 | M83: 44561 | N83: közép | P83: 1000
A84: 73 | C84: Zalaegerszeg Nyugati vízműtelep | D84: 20 KV-os főelosztó felújítása, feszültségváltó, megszakító csere mindkét betáp oldalon | E84: Az elektromos, irányítástechnikai szerelvények és vezetékek, műszaki állapota miatt fennáll a meghibásodás veszélye | F84: A vízműtelep elektromos megtáplálása, a folyamatos távfelügyelet biztosítása. | G84: Az elektromos paramétereihez illeszkedő erős- és gyengeáramú vezérlőszekrény. | I84: Zalaegerszeg | J84: =SUM(O84:AC84) -> 21000 | L84: 44287 | M84: 44561 | N84: közép | P84: 21000
B86: VÍZKEZELŐ LÉTESÍTMÉNYEK
B87: Épület, építmény
B89: Gép, berendezés
A90: 113 | C90: Zalaegerszeg Keleti vastalanító | D90: közmű gépészet felújítása | E90: A technológia, szerelvények és vezetékek, műszaki állapota miatt fennáll a meghibásodás veszélye. | F90: A tisztítás technológia jelenlegi műszaki állapota miatt nem képes az elvárt paramétereket biztosítani. Az avultsági szint miatt fennáll a meghibásodás veszélye. | G90: Megfelelő hatékonyságú technológia. A gépészeti funkciókat kifogástalanul ellátó szerelvények. | I90: Zalaegerszeg | J90: =SUM(O90:AC90) -> 100000 | L90: 45748 | M90: 46387 | N90: hosszú | T90: 50000 | U90: 50000
B92: Irányítástechnika, energiaellátás
B94: Összesen | J94: =SUM(J75:J93) -> 123010
A96: IV. Vízelosztás
C97: Helyszín | D97: beruházás megnevezése
B98: IVÓVÍZHÁLÓZAT
B99: Épület, építmény
A100: 2 | C100: Zalaegerszeg Perlaki u. | D100: ivóvízvezeték kiváltáshoz kacsolódó végleges helyreállítás | E100: A vezeték állapota anyaga, kora, minősége miatt nem megfelelő, elavult. | F100: A bekötővezeték anyaga vízbiztonsági kockázatot rejt magában, illetve nagyobb a valószínűsége a meghibásodásnak. | G100: A vízvezeték kiváltás a vízigények figyelembevételével megfelelő átmérőjű és anyagú hálózatot kapunk. | I100: Zalaegerszeg | J100: =SUM(O100:AC100) -> 2250 | L100: 43922 | M100: 43921 | N100: rövid | O100: 2250
A101: 3 | C101: Zalaegerszeg Czobor u. | D101: ivóvízvezeték kiváltáshoz kacsolódó végleges helyreállítás | E101: A vezeték állapota anyaga, kora, minősége miatt nem megfelelő, elavult. | F101: A bekötővezeték anyaga vízbiztonsági kockázatot rejt magában, illetve nagyobb a valószínűsége a meghibásodásnak. | G101: A vízvezeték kiváltás a vízigények figyelembevételével megfelelő átmérőjű és anyagú hálózatot kapunk. | I101: Zalaegerszeg | J101: =SUM(O101:AC101) -> 2400 | L101: 43922 | M101: 43921 | N101: rövid | O101: 2400
A102: 4 | C102: Zalaegerszeg Juhász Gy. - Zrínyi út között | D102: gerincvezeték csere (D315 400 fm) | E102: A vezeték állapota anyaga, kora, minősége miatt nem megfelelő, elavult. | F102: A bekötővezeték anyaga vízbiztonsági kockázatot rejt magában, illetve nagyobb a valószínűsége a meghibásodásnak. | G102: A vízvezeték kiváltás a vízigények figyelembevételével megfelelő átmérőjű és anyagú hálózatot kapunk. | I102: Zalaegerszeg | J102: =SUM(O102:AC102) -> 19635 | L102: 43922 | M102: 43921 | N102: rövid | O102: 19635
A103: 5 | C103: Zalaegerszeg 74 - 76. út | D103: csomópont rekonstrukció | E103: A vezeték állapota anyaga, kora, minősége miatt nem megfelelő, elavult. | F103: A bekötővezeték anyaga vízbiztonsági kockázatot rejt magában, illetve nagyobb a valószínűsége a meghibásodásnak. | G103: A vízvezeték kiváltás a vízigények figyelembevételével megfelelő átmérőjű és anyagú hálózatot kapunk. | I103: Zalaegerszeg | J103: =SUM(O103:AC103) -> 60000 | L103: 43922 | M103: 43921 | N103: rövid | O103: 60000
A104: 6 | C104: Zalaegerszeg | D104: mechanikai tisztítási csomópontok kiépítése | E104: A meglévő szerelvényekkel korlátozott korlátozottak a hálózattisztítási lehetőségek. | F104: Rendszeres hálózatisztítás végrehajtása a jövőben. | G104: A tisztítási csomópontok kialakításával lehetőség nyílik a rendszeres hálózattisztítások elvégzésére. | I104: Zalaegerszeg | J104: =SUM(O104:AC104) -> 10000 | L104: 43922 | M104: 43921 | N104: rövid | O104: 10000
A105: 7 | C105: Zalaegerszeg | D105: ivóvízvezeték rekonstrukcióhoz köthető tervezési feladatok | E105: A vezeték állapota anyaga, kora, minősége miatt nem megfelelő, elavult. | F105: A vezeték elavult műszaki állapota miatt gyakoriak a csőtörések. | G105: A vízvezeték kiváltás a vízigények figyelembevételével megfelelő átmérőjű és anyagú hálózatot kapunk. | I105: Zalaegerszeg | J105: =SUM(O105:AC105) -> 3550 | L105: 43922 | M105: 43921 | N105: rövid | O105: 3550
C106: Zalaegerszeg | D106: ivóvízvezeték rekonstrukcióhoz köthető tervezési feladatok (2019-ről áthúzódó) | E106: A vezeték állapota anyaga, kora, minősége miatt nem megfelelő, elavult. | F106: A vezeték elavult műszaki állapota miatt gyakoriak a csőtörések. | G106: A vízvezeték kiváltás a vízigények figyelembevételével megfelelő átmérőjű és anyagú hálózatot kapunk. | I106: Zalaegerszeg | J106: =SUM(O106:AC106) -> 2320 | L106: 43922 | M106: 43921 | N106: rövid | O106: 2320
A107: 8 | C107: Zalaegerszeg | D107: bekötéscsere | E107: A vezeték állapota anyaga, kora, minősége miatt nem megfelelő, elavult. | F107: A bekötővezeték anyaga vízbiztonsági kockázatot rejt magában, illetve nagyobb a valószínűsége a meghibásodásnak. | G107: A vízvezeték kiváltás a vízigények figyelembevételével megfelelő átmérőjű és anyagú hálózatot kapunk. | I107: Zalaegerszeg | J107: =SUM(O107:AC107) -> 15397 | L107: 43922 | M107: 43921 | N107: rövid | O107: 15397
A108: 9 | C108: Zalaegerszeg | D108: tűzcsap építés, csere | E108: A szerelvény állapota anyaga, kora, minősége miatt nem megfelelő, elavult. | F108: A szerelvény elavult műszaki állapota miatt gyakoriak a csőtörések. | G108: A szerelvény kiváltás a vízigények figyelembevételével megfelelő átmérőjű és anyagú hálózatot kapunk. | I108: Zalaegerszeg | J108: =SUM(O108:AC108) -> 5943 | L108: 43922 | M108: 43921 | N108: rövid | O108: 5943
A109: 10 | C109: Zalaegerszeg | D109: vezeték kiváltás, rekonstrukció, felújítás | E109: A vezeték állapota anyaga, kora, minősége miatt nem megfelelő, elavult. | F109: A vezeték elavult műszaki állapota miatt gyakoriak a csőtörések. | G109: A vízvezeték kiváltás a vízigények figyelembevételével megfelelő átmérőjű és anyagú hálózatot kapunk. | I109: Zalaegerszeg | J109: =SUM(O109:AC109) -> 16951 | L109: 43922 | M109: 43921 | N109: rövid | O109: 16951
A110: 11 | C110: Zalaegerszeg Falumúzeum u. | D110: ivóvízvezeték kiváltás nyomvonalas helyreállítással | E110: A vezeték állapota anyaga, kora, minősége miatt nem megfelelő, elavult. | F110: A bekötővezeték anyaga vízbiztonsági kockázatot rejt magában, illetve nagyobb a valószínűsége a meghibásodásnak. | G110: A vízvezeték kiváltás a vízigények figyelembevételével megfelelő átmérőjű és anyagú hálózatot kapunk. | I110: Zalaegerszeg | J110: =SUM(O110:AC110) -> 10000 | L110: 43831 | M110: 44196 | N110: rövid | O110: 10000
A111: 12 | C111: Zalaegerszeg | D111: Önkormányzati útfelújatáshoz kapcsolódó közmű rekonstrukciók | E111: A vezeték állapota anyaga, kora, minősége miatt nem megfelelő, elavult. | F111: A bekötővezeték anyaga vízbiztonsági kockázatot rejt magában, illetve nagyobb a valószínűsége a meghibásodásnak. | G111: A vízvezeték kiváltás a vízigények figyelembevételével megfelelő átmérőjű és anyagú hálózatot kapunk. | I111: Zalaegerszeg | J111: =SUM(O111:AC111) -> 8000 | L111: 43831 | M111: 44196 | N111: rövid | O111: 8000
...

Sheet Zalaszentgyörgy
A1: Gördülő fejlesztési terv a 2020 - 2034 időszakra
A2: FELÚJÍTÁSOK ÉS PÓTLÁSOK ÖSSZEFOGLALÓ TÁBLÁZATA
A3: A tervet benyújtó szervezet megnevezése: | K3: ZALASZENTGYÖRGY | R3: ellátásért felelős / ellátásért felelősök képviselője / víziközmű-szolgáltató *
A4: Víziközmű-szolgáltató megnevezése: | K4: ÉSZAK ZALAI VÍZ- ÉS CSATORNAMŰ ZÁRTKÖRŰEN MŰKÖDŐ RÉSZVÉNYTÁRSASÁG
A5: Víziközmű-szolgáltatási ágazat megnevezése: | K5: IVÓVÍZ ÁGAZAT
A6: Véleményeltérést megfogalmazó érintett fél megnevezése:
A7: Víziközmű-rendszer kódja: ** | K7: 11-32054-1-025-01-14 | R7: ZALAEGERSZEG-IV
A8: I. Felszín alatti vízkivétel
A9: Fontossági sorrend | B9: Felujítás és pótlás megnevezése | E9: Műszaki állapot felmérés, szükségességi indoklás | H9: Vízjogi létesítési/elvi engedély száma | I9: Az érintett ellátásért felelős(ök) megnevezése | J9: Tervezett nettó költség | K9: Forrás 2020 évre | L9: Megvalósítás időtartama | N9: Tervezett időtáv | O9: A beruházás ütemezése a tervezési időszak évei szerint
E10: Jelenlegi műszaki állapot | F10: Feladat szükségessége | G10: Megvalósítást követő várható műszaki állapot | J10: (eFt) | L10: Kezdés | M10: Befejezés | N10: (rövid / közép / hosszú) | O10: 1 | P10: 2 | Q10: 3 | R10: 4 | S10: 5 | T10: 6 | U10: 7 | V10: 8 | W10: 9 | X10: 10 | Y10: 11 | Z10: 12 | AA10: 13 | AB10: 14 | AC10: 15
B11: szakág | C11: Helyszín | D11: beruházás megnevezése
A12: 1 | D12: Rendkívüli helyzetből adódó azonnali feladatok (max. 15%) | F12: működőképeség biztosítása | I12: Zalaszentgyörgy | J12: =SUM(O12:AC12) -> 2432.25 | L12: 43831 | M12: 49309 | O12: =0.15*$K$68 -> 162.15 | P12: =0.15*$K$68 -> 162.15 | Q12: =0.15*$K$68 -> 162.15 | R12: =0.15*$K$68 -> 162.15 | S12: =0.15*$K$68 -> 162.15 | T12: =0.15*$K$68 -> 162.15 | U12: =0.15*$K$68 -> 162.15 | V12: =0.15*$K$68 -> 162.15 | ... AC12: =0.15*$K$68 -> 162.15
B13: MÉLYFÚRÁSÚ KÚT, HAGYOMÁNYOS ÁTMÉRŐVEL
B14: Épület, építmény
B16: Gép, berendezés
B18: Irányítástechnika, energiaellátás
B20: Összesen: | J20: =SUM(J12:J19) -> 2432.25
A22: III. Vízműtelep és vízkezelő létesítmények
C23: Helyszín | D23: beruházás megnevezése
B24: VÍZMŰTELEP
B25: Épület, építmény
B27: Gép, berendezés
B29: Irányítástechnika, energiaellátás
B31: VÍZKEZELŐ LÉTESÍTMÉNYEK
B32: Épület, építmény
B34: Gép, berendezés
B36: Irányítástechnika, energiaellátás
B38: Összesen | J38: =SUM(J24:J37) -> 0
A40: IV. Vízelosztás
C41: Helyszín | D41: beruházás megnevezése
B42: IVÓVÍZHÁLÓZAT
B43: Épület, építmény
A44: 56 | C44: Zalaszentgyörgy | D44: vezeték kiváltás, rekonstrukció, felújítás | E44: A vezeték állapota anyaga, kora, minősége miatt nem megfelelő, elavult. | F44: A bekötővezeték anyaga vízbiztonsági kockázatot rejt magában, illetve nagyobb a valószínűsége a meghibásodásnak. | G44: A vízvezeték kiváltás, a vízigények figyelembevételével megfelelő átmérőjű és anyagú hálózatot kapunk. | I44: Zalaszentgyörgy | J44: =SUM(O44:AC44) -> 919 | L44: 43922 | M44: 44196 | N44: rövid | O44: 919
A45: 86 | C45: Zalaszentgyörgy | D45: tűzcsap építés, csere | E45: A szerelvény állapota anyaga, kora, minősége miatt nem megfelelő, elavult. | F45: A vezeték elavult műszaki állapota miatt gyakoriak a csőtörések | G45: A szerelvény kiváltás, a vízigények figyelembevételével megfelelő átmérőjű és anyagú hálózatot kapunk. | I45: Zalaszentgyörgy | J45: =SUM(O45:AC45) -> 500 | L45: 44287 | M45: 44561 | N45: közép | P45: 500
A46: 87 | C46: Zalaszentgyörgy - Kávás | D46: gerincvezeték csere (d160 260 fm) I. ütem | E46: A vezeték állapota anyaga, kora, minősége miatt nem megfelelő, elavult. | F46: A vezeték elavult műszaki állapota miatt gyakoriak a csőtörések | G46: A vízvezeték kiváltás, a vízigények figyelembevételével megfelelő átmérőjű és anyagú hálózatot kapunk. | I46: Zalaszentgyörgy | J46: =SUM(O46:AC46) -> 5199 | L46: 44652 | M46: 45656 | N46: közép | Q46: 1733 | R46: 1733 | S46: 1733
A47: 119 | C47: Zalaszentgyörgy | D47: ivóvízhálózat rekonstrukció | E47: A vezeték állapota anyaga, kora, minősége miatt nem megfelelő, elavult. | F47: A vezeték elavult műszaki állapota miatt gyakoriak a csőtörések | G47: A vízvezeték kiváltás, a vízigények figyelembevételével megfelelő átmérőjű és anyagú hálózatot kapunk. | I47: Zalaszentgyörgy | J47: =SUM(O47:AC47) -> 102580 | L47: 45748 | M47: 49309 | N47: hosszú | T47: 10258 | U47: 10258 | V47: 10258 | W47: 10258 | X47: 10258 | Y47: 10258 | Z47: 10258 | AA47: 10258 | AB47: 10258 | AC47: 10258
A48: 138 | C48: Zalaszentgyörgy | D48: tűzcsap építés, csere | E48: A szerelvény állapota anyaga, kora, minősége miatt nem megfelelő, elavult. | F48: A vezeték elavult műszaki állapota miatt gyakoriak a csőtörések | G48: A szerelvény kiváltás, a vízigények figyelembevételével megfelelő átmérőjű és anyagú hálózatot kapunk. | I48: Zalaszentgyörgy | J48: =SUM(O48:AC48) -> 500 | L48: 47209 | M48: 47483 | N48: hosszú | X48: 500
B50: Gép, berendezés
B52: Irányítástechnika, energiaellátás
B54: VÍZTÁROLÓK
B55: Épület, építmény
B57: Gép, berendezés
B59: Irányítástechnika, energiaellátás
B61: NYOMÁSFOKOZÓK
B62: Épület, építmény
B64: Gép, berendezés
B66: Irányítástechnika, energiaellátás
B68: Összesen: | J68: =SUM(J42:J67) -> 109698 | K68: =SUM(C72) -> 1081 | O68: =SUM(O12:O67) -> 1081.15 | P68: =SUM(P12:P67) -> 662.15 | Q68: =SUM(Q12:Q67) -> 1895.15 | R68: =SUM(R12:R67) -> 1895.15 | S68: =SUM(S12:S67) -> 1895.15 | T68: =SUM(T12:T67) -> 10420.15 | U68: =SUM(U12:U67) -> 10420.15 | V68: =SUM(V12:V67) -> 10420.15 | ... AC68: =SUM(AC12:AC67) -> 10420.15
K69: 2020 évre a fejlesztési forrás biztosított
B71: Tervezett feladatok nettó költsége a teljes ütem tekintetében (eFt) | C71: Rendelkezésre álló források számszerűsített értéke a teljes ütem tekintetében (eFt) | D71: Forrás megnevezése a teljes ütem tekintetében
A72: I. ütem | B72: =SUM(O68) -> 1081.15 | C72: 1081 | D72: Használati díj (2020)
A73: II. ütem | B73: =SUM(P68:S68) -> 6347.6 | C73: =C72*4 -> 4324 | D73: Használati díj (2021-2024)
A74: III. ütem | B74: =SUM(T68:AC68) -> 104701.5 | C74: =C72*10 -> 10810 | D74: Használati díj (2025-2034)

Sheet VKR_összesítő
A1: Gördülő fejlesztési terv a 2020 - 2034 időszakra
A2: FELÚJÍTÁSOK ÉS PÓTLÁSOK ÖSSZEFOGLALÓ TÁBLÁZATA
A3: A tervet benyújtó szervezet megnevezése: | K3: BABOSDÖBRÉTE, BOCFÖLDE, BÖDE, CSATÁR, HOTTÓ, KISKUTAS, NAGYKUTAS, SÁRHIDA, TESKÁND, ZALAEGERSZEG, BAGOD, BONCODFÖLDE, HAGYÁROSBÖRÖND, KÁVÁS, ZALABOLDOGFA, ZALASZENTGYÖRGY, CSONKAHEGYHÁT, DOBRONHEGY, MILEJSZEG, NÉMETFALU, PÁLFISZEG, BECSVÖLGYE, KUSTÁNSZEG, KISPÁLI, NAGYPÁLI | R3: ellátásért felelős / ellátásért felelősök képviselője / víziközmű-szolgáltató *
A4: Víziközmű-szolgáltató megnevezése: | K4: ÉSZAK ZALAI VÍZ- ÉS CSATORNAMŰ ZÁRTKÖRŰEN MŰKÖDŐ RÉSZVÉNYTÁRSASÁG
A5: Víziközmű-szolgáltatási ágazat megnevezése: | K5: IVÓVÍZ ÁGAZAT
A6: Véleményeltérést megfogalmazó érintett fél megnevezése:
A7: Víziközmű-rendszer kódja: ** | K7: 11-32054-1-025-01-14 | R7: ZALAEGERSZEG-IV
A8: I. Felszín alatti vízkivétel
A9: Fontossági sorrend | B9: Felujítás és pótlás megnevezése | E9: Műszaki állapot felmérés, szükségességi indoklás | H9: Vízjogi létesítési/elvi engedély száma | I9: Az érintett ellátásért felelős(ök) megnevezése | J9: Tervezett nettó költség | K9: Forrás 2020 évre | L9: Megvalósítás időtartama | N9: Tervezett időtáv | O9: A beruházás ütemezése a tervezési időszak évei szerint
E10: Jelenlegi műszaki állapot | F10: Feladat szükségessége | G10: Megvalósítást követő várható műszaki állapot | J10: (eFt) | L10: Kezdés | M10: Befejezés | N10: (rövid / közép / hosszú) | O10: 1 | P10: 2 | Q10: 3 | R10: 4 | S10: 5 | T10: 6 | U10: 7 | V10: 8 | W10: 9 | X10: 10 | Y10: 11 | Z10: 12 | AA10: 13 | AB10: 14 | AC10: 15
B11: szakág | C11: Helyszín | D11: beruházás megnevezése
A12: 1 | D12: Rendkívüli helyzetből adódó azonnali feladatok (max. 15%) | F12: működőképeség biztosítása | I12: Babosdöbréte | J12: =SUM(O12:AC12) -> 1878.75 | L12: 43831 | M12: 49309 | O12: =Babosdöbréte!O12 -> 125.25 | P12: =Babosdöbréte!P12 -> 125.25 | Q12: =Babosdöbréte!Q12 -> 125.25 | R12: =Babosdöbréte!R12 -> 125.25 | S12: =Babosdöbréte!S12 -> 125.25 | T12: =Babosdöbréte!T12 -> 125.25 | U12: =Babosdöbréte!U12 -> 125.25 | V12: =Babosdöbréte!V12 -> 125.25 | ... AC12: =Babosdöbréte!AC12 -> 125.25
A13: 1 | D13: Rendkívüli helyzetből adódó azonnali feladatok (max. 15%) | F13: működőképeség biztosítása | I13: Bocfölde | J13: =SUM(O13:AC13) -> 9760.5 | L13: 43831 | M13: 49309 | O13: =Bocfölde!O12 -> 650.7 | P13: =Bocfölde!P12 -> 650.7 | Q13: =Bocfölde!Q12 -> 650.7 | R13: =Bocfölde!R12 -> 650.7 | S13: =Bocfölde!S12 -> 650.7 | T13: =Bocfölde!T12 -> 650.7 | U13: =Bocfölde!U12 -> 650.7 | V13: =Bocfölde!V12 -> 650.7 | ... AC13: =Bocfölde!AC12 -> 650.7
A14: 1 | D14: Rendkívüli helyzetből adódó azonnali feladatok (max. 15%) | F14: működőképeség biztosítása | I14: Böde | J14: =SUM(O14:AC14) -> 771.75 | L14: 43831 | M14: 49309 | O14: =Böde!O12 -> 51.45 | P14: =Böde!P12 -> 51.45 | Q14: =Böde!Q12 -> 51.45 | R14: =Böde!R12 -> 51.45 | S14: =Böde!S12 -> 51.45 | T14: =Böde!T12 -> 51.45 | U14: =Böde!U12 -> 51.45 | V14: =Böde!V12 -> 51.45 | ... AC14: =Böde!AC12 -> 51.45
A15: 1 | D15: Rendkívüli helyzetből adódó azonnali feladatok (max. 15%) | F15: működőképeség biztosítása | I15: Csatár | J15: =SUM(O15:AC15) -> 2481.75 | L15: 43831 | M15: 49309 | O15: =Csatár!O12 -> 165.45 | P15: =Csatár!P12 -> 165.45 | Q15: =Csatár!Q12 -> 165.45 | R15: =Csatár!R12 -> 165.45 | S15: =Csatár!S12 -> 165.45 | T15: =Csatár!T12 -> 165.45 | U15: =Csatár!U12 -> 165.45 | V15: =Csatár!V12 -> 165.45 | ... AC15: =Csatár!AC12 -> 165.45
A16: 1 | D16: Rendkívüli helyzetből adódó azonnali feladatok (max. 15%) | F16: működőképeség biztosítása | I16: Hottó | J16: =SUM(O16:AC16) -> 1269 | L16: 43831 | M16: 49309 | O16: =Hottó!O12 -> 84.6 | P16: =Hottó!P12 -> 84.6 | Q16: =Hottó!Q12 -> 84.6 | R16: =Hottó!R12 -> 84.6 | S16: =Hottó!S12 -> 84.6 | T16: =Hottó!T12 -> 84.6 | U16: =Hottó!U12 -> 84.6 | V16: =Hottó!V12 -> 84.6 | ... AC16: =Hottó!AC12 -> 84.6
A17: 1 | D17: Rendkívüli helyzetből adódó azonnali feladatok (max. 15%) | F17: működőképeség biztosítása | I17: Kiskutas | J17: =SUM(O17:AC17) -> 1592.8 | L17: 43831 | M17: 49309 | O17: =Kiskutas!O12 -> 400 | P17: =Kiskutas!P12 -> 85.2 | Q17: =Kiskutas!Q12 -> 85.2 | R17: =Kiskutas!R12 -> 85.2 | S17: =Kiskutas!S12 -> 85.2 | T17: =Kiskutas!T12 -> 85.2 | U17: =Kiskutas!U12 -> 85.2 | V17: =Kiskutas!V12 -> 85.2 | ... AC17: =Kiskutas!AC12 -> 85.2
A18: 1 | D18: Rendkívüli helyzetből adódó azonnali feladatok (max. 15%) | F18: működőképeség biztosítása | I18: Nagykutas | J18: =SUM(O18:AC18) -> 2700 | L18: 43831 | M18: 49309 | O18: =Nagykutas!O12 -> 180 | P18: =Nagykutas!P12 -> 180 | Q18: =Nagykutas!Q12 -> 180 | R18: =Nagykutas!R12 -> 180 | S18: =Nagykutas!S12 -> 180 | T18: =Nagykutas!T12 -> 180 | U18: =Nagykutas!U12 -> 180 | V18: =Nagykutas!V12 -> 180 | ... AC18: =Nagykutas!AC12 -> 180
A19: 1 | D19: Rendkívüli helyzetből adódó azonnali feladatok (max. 15%) | F19: működőképeség biztosítása | I19: Sárhida | J19: =SUM(O19:AC19) -> 28007.2 | L19: 43831 | M19: 49309 | O19: =Sárhida!O12 -> 892 | P19: =Sárhida!P12 -> 1936.8 | Q19: =Sárhida!Q12 -> 1936.8 | R19: =Sárhida!R12 -> 1936.8 | S19: =Sárhida!S12 -> 1936.8 | T19: =Sárhida!T12 -> 1936.8 | U19: =Sárhida!U12 -> 1936.8 | V19: =Sárhida!V12 -> 1936.8 | ... AC19: =Sárhida!AC12 -> 1936.8
A20: 1 | D20: Rendkívüli helyzetből adódó azonnali feladatok (max. 15%) | F20: működőképeség biztosítása | I20: Teskánd | J20: =SUM(O20:AC20) -> 5883.75 | L20: 43831 | M20: 49309 | O20: =Teskánd!O12 -> 392.25 | P20: =Teskánd!P12 -> 392.25 | Q20: =Teskánd!Q12 -> 392.25 | R20: =Teskánd!R12 -> 392.25 | S20: =Teskánd!S12 -> 392.25 | T20: =Teskánd!T12 -> 392.25 | U20: =Teskánd!U12 -> 392.25 | V20: =Teskánd!V12 -> 392.25 | ... AC20: =Teskánd!AC12 -> 392.25
A21: 1 | D21: Rendkívüli helyzetből adódó azonnali feladatok (max. 15%) | F21: működőképeség biztosítása | I21: Zalaegerszeg | J21: =SUM(O21:AC21) -> 465009.9 | L21: 43831 | M21: 49309 | O21: =Zalaegerszeg!O12 -> 18993 | P21: =Zalaegerszeg!P12 -> 31858.35 | Q21: =Zalaegerszeg!Q12 -> 31858.35 | R21: =Zalaegerszeg!R12 -> 31858.35 | S21: =Zalaegerszeg!S12 -> 31858.35 | T21: =Zalaegerszeg!T12 -> 31858.35 | U21: =Zalaegerszeg!U12 -> 31858.35 | V21: =Zalaegerszeg!V12 -> 31858.35 | ... AC21: =Zalaegerszeg!AC12 -> 31858.35
A22: 1 | D22: Rendkívüli helyzetből adódó azonnali feladatok (max. 15%) | F22: működőképeség biztosítása | I22: Bagod | J22: =SUM(O22:AC22) -> 8545.5 | L22: 43831 | M22: 49309 | O22: =Bagod!O12 -> 569.7 | P22: =Bagod!P12 -> 569.7 | Q22: =Bagod!Q12 -> 569.7 | R22: =Bagod!R12 -> 569.7 | S22: =Bagod!S12 -> 569.7 | T22: =Bagod!T12 -> 569.7 | U22: =Bagod!U12 -> 569.7 | V22: =Bagod!V12 -> 569.7 | ... AC22: =Bagod!AC12 -> 569.7
A23: 1 | D23: Rendkívüli helyzetből adódó azonnali feladatok (max. 15%) | F23: működőképeség biztosítása | I23: Boncodfölde | J23: =SUM(O23:AC23) -> 3721.5 | L23: 43831 | M23: 49309 | O23: =Boncodfölde!O12 -> 248.1 | P23: =Boncodfölde!P12 -> 248.1 | Q23: =Boncodfölde!Q12 -> 248.1 | R23: =Boncodfölde!R12 -> 248.1 | S23: =Boncodfölde!S12 -> 248.1 | T23: =Boncodfölde!T12 -> 248.1 | U23: =Boncodfölde!U12 -> 248.1 | V23: =Boncodfölde!V12 -> 248.1 | ... AC23: =Boncodfölde!AC12 -> 248.1
A24: 1 | D24: Rendkívüli helyzetből adódó azonnali feladatok (max. 15%) | F24: működőképeség biztosítása | I24: Hagyárosbörönd | J24: =SUM(O24:AC24) -> 1796.6 | L24: 43831 | M24: 49309 | O24: =Hagyárosbörönd!O12 -> 272 | P24: =Hagyárosbörönd!P12 -> 108.9 | Q24: =Hagyárosbörönd!Q12 -> 108.9 | R24: =Hagyárosbörönd!R12 -> 108.9 | S24: =Hagyárosbörönd!S12 -> 108.9 | T24: =Hagyárosbörönd!T12 -> 108.9 | U24: =Hagyárosbörönd!U12 -> 108.9 | V24: =Hagyárosbörönd!V12 -> 108.9 | ... AC24: =Hagyárosbörönd!AC12 -> 108.9
A25: 1 | D25: Rendkívüli helyzetből adódó azonnali feladatok (max. 15%) | F25: működőképeség biztosítása | I25: Kávás | J25: =SUM(O25:AC25) -> 2352.9 | L25: 43831 | M25: 49309 | O25: =Kávás!O12 -> 759 | P25: =Kávás!P12 -> 113.85 | Q25: =Kávás!Q12 -> 113.85 | R25: =Kávás!R12 -> 113.85 | S25: =Kávás!S12 -> 113.85 | T25: =Kávás!T12 -> 113.85 | U25: =Kávás!U12 -> 113.85 | V25: =Kávás!V12 -> 113.85 | ... AC25: =Kávás!AC12 -> 113.85
A26: 1 | D26: Rendkívüli helyzetből adódó azonnali feladatok (max. 15%) | F26: működőképeség biztosítása | I26: Zalaboldogfa | J26: =SUM(O26:AC26) -> 3060 | L26: 43831 | M26: 49309 | O26: =Zalaboldogfa!O12 -> 204 | P26: =Zalaboldogfa!P12 -> 204 | Q26: =Zalaboldogfa!Q12 -> 204 | R26: =Zalaboldogfa!R12 -> 204 | S26: =Zalaboldogfa!S12 -> 204 | T26: =Zalaboldogfa!T12 -> 204 | U26: =Zalaboldogfa!U12 -> 204 | V26: =Zalaboldogfa!V12 -> 204 | ... AC26: =Zalaboldogfa!AC12 -> 204
A27: 1 | D27: Rendkívüli helyzetből adódó azonnali feladatok (max. 15%) | F27: működőképeség biztosítása | I27: Zalaszentgyörgy | J27: =SUM(O27:AC27) -> 2432.25 | L27: 43831 | M27: 49309 | O27: =Zalaszentgyörgy!O12 -> 162.15 | P27: =Zalaszentgyörgy!P12 -> 162.15 | Q27: =Zalaszentgyörgy!Q12 -> 162.15 | R27: =Zalaszentgyörgy!R12 -> 162.15 | S27: =Zalaszentgyörgy!S12 -> 162.15 | T27: =Zalaszentgyörgy!T12 -> 162.15 | U27: =Zalaszentgyörgy!U12 -> 162.15 | V27: =Zalaszentgyörgy!V12 -> 162.15 | ... AC27: =Zalaszentgyörgy!AC12 -> 162.15
A28: 1 | D28: Rendkívüli helyzetből adódó azonnali feladatok (max. 15%) | F28: működőképeség biztosítása | I28: Csonkahegyhát | J28: =SUM(O28:AC28) -> 1153.2 | L28: 43831 | M28: 49309 | O28: =Csonkahegyhát!O12 -> 372 | P28: =Csonkahegyhát!P12 -> 55.8 | Q28: =Csonkahegyhát!Q12 -> 55.8 | R28: =Csonkahegyhát!R12 -> 55.8 | S28: =Csonkahegyhát!S12 -> 55.8 | T28: =Csonkahegyhát!T12 -> 55.8 | U28: =Csonkahegyhát!U12 -> 55.8 | V28: =Csonkahegyhát!V12 -> 55.8 | ... AC28: =Csonkahegyhát!AC12 -> 55.8
A29: 1 | D29: Rendkívüli helyzetből adódó azonnali feladatok (max. 15%) | F29: működőképeség biztosítása | I29: Dobronhegy | J29: =SUM(O29:AC29) -> 449.5 | L29: 43831 | M29: 49309 | O29: =Dobronhegy!O12 -> 145 | P29: =Dobronhegy!P12 -> 21.75 | Q29: =Dobronhegy!Q12 -> 21.75 | R29: =Dobronhegy!R12 -> 21.75 | S29: =Dobronhegy!S12 -> 21.75 | T29: =Dobronhegy!T12 -> 21.75 | U29: =Dobronhegy!U12 -> 21.75 | V29: =Dobronhegy!V12 -> 21.75 | ... AC29: =Dobronhegy!AC12 -> 21.75
A30: 1 | D30: Rendkívüli helyzetből adódó azonnali feladatok (max. 15%) | F30: működőképeség biztosítása | I30: Milejszeg | J30: =SUM(O30:AC30) -> 1171.8 | L30: 43831 | M30: 49309 | O30: =Milejszeg!O12 -> 378 | P30: =Milejszeg!P12 -> 56.7 | Q30: =Milejszeg!Q12 -> 56.7 | R30: =Milejszeg!R12 -> 56.7 | S30: =Milejszeg!S12 -> 56.7 | T30: =Milejszeg!T12 -> 56.7 | U30: =Milejszeg!U12 -> 56.7 | V30: =Milejszeg!V12 -> 56.7 | ... AC30: =Milejszeg!AC12 -> 56.7
A31: 1 | D31: Rendkívüli helyzetből adódó azonnali feladatok (max. 15%) | F31: működőképeség biztosítása | I31: Németfalu | J31: =SUM(O31:AC31) -> 886.6 | L31: 43831 | M31: 49309 | O31: =Németfalu!O12 -> 286 | P31: =Németfalu!P12 -> 42.9 | Q31: =Németfalu!Q12 -> 42.9 | R31: =Németfalu!R12 -> 42.9 | S31: =Németfalu!S12 -> 42.9 | T31: =Németfalu!T12 -> 42.9 | U31: =Németfalu!U12 -> 42.9 | V31: =Németfalu!V12 -> 42.9 | ... AC31: =Németfalu!AC12 -> 42.9
A32: 1 | D32: Rendkívüli helyzetből adódó azonnali feladatok (max. 15%) | F32: működőképeség biztosítása | I32: Pálfiszeg | J32: =SUM(O32:AC32) -> 573.5 | L32: 43831 | M32: 49309 | O32: =Pálfiszeg!O12 -> 185 | P32: =Pálfiszeg!P12 -> 27.75 | Q32: =Pálfiszeg!Q12 -> 27.75 | R32: =Pálfiszeg!R12 -> 27.75 | S32: =Pálfiszeg!S12 -> 27.75 | T32: =Pálfiszeg!T12 -> 27.75 | U32: =Pálfiszeg!U12 -> 27.75 | V32: =Pálfiszeg!V12 -> 27.75 | ... AC32: =Pálfiszeg!AC12 -> 27.75
A33: 1 | D33: Rendkívüli helyzetből adódó azonnali feladatok (max. 15%) | F33: működőképeség biztosítása | I33: Becsvölgye | J33: =SUM(O33:AC33) -> 4169.25 | L33: 43831 | M33: 49309 | O33: =Becsvölgye!O12 -> 277.95 | P33: =Becsvölgye!P12 -> 277.95 | Q33: =Becsvölgye!Q12 -> 277.95 | R33: =Becsvölgye!R12 -> 277.95 | S33: =Becsvölgye!S12 -> 277.95 | T33: =Becsvölgye!T12 -> 277.95 | U33: =Becsvölgye!U12 -> 277.95 | V33: =Becsvölgye!V12 -> 277.95 | ... AC33: =Becsvölgye!AC12 -> 277.95
A34: 1 | D34: Rendkívüli helyzetből adódó azonnali feladatok (max. 15%) | F34: működőképeség biztosítása | I34: Kustánszeg | J34: =SUM(O34:AC34) -> 5760 | L34: 43831 | M34: 49309 | O34: =Kustánszeg!O12 -> 384 | P34: =Kustánszeg!P12 -> 384 | Q34: =Kustánszeg!Q12 -> 384 | R34: =Kustánszeg!R12 -> 384 | S34: =Kustánszeg!S12 -> 384 | T34: =Kustánszeg!T12 -> 384 | U34: =Kustánszeg!U12 -> 384 | V34: =Kustánszeg!V12 -> 384 | ... AC34: =Kustánszeg!AC12 -> 384
A35: 1 | D35: Rendkívüli helyzetből adódó azonnali feladatok (max. 15%) | F35: működőképeség biztosítása | I35: Nagypáli | J35: =SUM(O35:AC35) -> 4083.75 | L35: 43831 | M35: 49309 | O35: =Nagypáli!O12 -> 272.25 | P35: =Nagypáli!P12 -> 272.25 | Q35: =Nagypáli!Q12 -> 272.25 | R35: =Nagypáli!R12 -> 272.25 | S35: =Nagypáli!S12 -> 272.25 | T35: =Nagypáli!T12 -> 272.25 | U35: =Nagypáli!U12 -> 272.25 | V35: =Nagypáli!V12 -> 272.25 | ... AC35: =Nagypáli!AC12 -> 272.25
A36: 1 | D36: Rendkívüli helyzetből adódó azonnali feladatok (max.15%) | F36: működőképeség biztosítása | I36: Kispáli | J36: =SUM(O36:AC36) -> 3735 | L36: 43831 | M36: 49309 | O36: =Kispáli!O12 -> 249 | P36: =Kispáli!P12 -> 249 | Q36: =Kispáli!Q12 -> 249 | R36: =Kispáli!R12 -> 249 | S36: =Kispáli!S12 -> 249 | T36: =Kispáli!T12 -> 249 | U36: =Kispáli!U12 -> 249 | V36: =Kispáli!V12 -> 249 | ... AC36: =Kispáli!AC12 -> 249
A37: =Zalaegerszeg!A13 -> 36 | C37: =Zalaegerszeg!C13 -> Zalaegerszeg | D37: =Zalaegerszeg!D13 -> utólagos szolgalmi ügyintézés | F37: =Zalaegerszeg!F13 -> jogszabályi kötelezettség | I37: =Zalaegerszeg!I13 -> Zalaegerszeg | J37: =Zalaegerszeg!J13 -> 3000 | L37: =Zalaegerszeg!L13 -> 43831 | M37: =Zalaegerszeg!M13 -> 44196 | N37: =Zalaegerszeg!N13 -> rövid | O37: 3000
A38: =Zalaegerszeg!A14 -> 37 | C38: =Zalaegerszeg!C14 -> Zalaegerszeg | D38: =Zalaegerszeg!D14 -> MEKH igazgatási díjak | F38: =Zalaegerszeg!F14 -> jogszabályi kötelezettség | I38: =Zalaegerszeg!I14 -> Zalaegerszeg | J38: =Zalaegerszeg!J14 -> 350 | L38: =Zalaegerszeg!L14 -> 43831 | M38: =Zalaegerszeg!M14 -> 44196 | N38: =Zalaegerszeg!N14 -> rövid | O38: 350
B39: MÉLYFÚRÁSÚ KÚT, HAGYOMÁNYOS ÁTMÉRŐVEL
B40: Épület, építmény
A41: =Zalaegerszeg!A17 -> 25 | C41: =Zalaegerszeg!C17 -> Zalaegerszeg 21. kút | D41: =Zalaegerszeg!D17 -> kút felépítmény lapostető vízszigaetelés és bádogozás felújítás 9m2 | E41: =Zalaegerszeg!E17 -> Az objektum kora, műszaki állapota miatt fennáll a meghibásodás veszélye. Feladat szükségessége | F41: =Zalaegerszeg!F17 -> A felhasználók folyamatos vízellátásának biztosítására | G41: =Zalaegerszeg!G17 -> Az elvárt vízigényeket kielégítő megfelelő műszaki állapotú vízbázis. | I41: =Zalaegerszeg!I17 -> Zalaegerszeg | J41: =SUM(O41:AC41) -> 120 | L41: =Zalaegerszeg!L17 -> 43831 | M41: =Zalaegerszeg!M17 -> 44196 | N41: =Zalaegerszeg!N17 -> rövid | O41: =Zalaegerszeg!O17 -> 120
A42: =Zalaegerszeg!A18 -> 26 | C42: =Zalaegerszeg!C18 -> Zalaegerszeg 19. kút | D42: =Zalaegerszeg!D18 -> kút felépítmény lapostető vízszigaetelés és bádogozás felújítás 9m2 | E42: =Zalaegerszeg!E18 -> Az objektum kora, műszaki állapota miatt fennáll a meghibásodás veszélye. Feladat szükségessége | F42: =Zalaegerszeg!F18 -> A felhasználók folyamatos vízellátásának biztosítására | G42: =Zalaegerszeg!G18 -> Az elvárt vízigényeket kielégítő megfelelő műszaki állapotú vízbázis. | I42: =Zalaegerszeg!I18 -> Zalaegerszeg | J42: =SUM(O42:AC42) -> 120 | L42: =Zalaegerszeg!L18 -> 43831 | M42: =Zalaegerszeg!M18 -> 44196 | N42: =Zalaegerszeg!N18 -> rövid | O42: =Zalaegerszeg!O18 -> 120
A43: =Zalaegerszeg!A19 -> 27 | C43: =Zalaegerszeg!C19 -> Zalaegerszeg 18. kút | D43: =Zalaegerszeg!D19 -> kút felépítmény lapostető vízszigaetelés és bádogozás felújítás 9m2 | E43: =Zalaegerszeg!E19 -> Az objektum kora, műszaki állapota miatt fennáll a meghibásodás veszélye. Feladat szükségessége | F43: =Zalaegerszeg!F19 -> A felhasználók folyamatos vízellátásának biztosítására | G43: =Zalaegerszeg!G19 -> Az elvárt vízigényeket kielégítő megfelelő műszaki állapotú vízbázis. | I43: =Zalaegerszeg!I19 -> Zalaegerszeg | J43: =SUM(O43:AC43) -> 120 | L43: =Zalaegerszeg!L19 -> 43831 | M43: =Zalaegerszeg!M19 -> 44196 | N43: =Zalaegerszeg!N19 -> rövid | O43: =Zalaegerszeg!O19 -> 120
A44: =Zalaegerszeg!A20 -> 28 | C44: =Zalaegerszeg!C20 -> Zalaegerszeg 15. kút | D44: =Zalaegerszeg!D20 -> kút felépítmény lapostető vízszigaetelés és bádogozás felújítás 9m2 | E44: =Zalaegerszeg!E20 -> Az objektum kora, műszaki állapota miatt fennáll a meghibásodás veszélye. Feladat szükségessége | F44: =Zalaegerszeg!F20 -> A felhasználók folyamatos vízellátásának biztosítására | G44: =Zalaegerszeg!G20 -> Az elvárt vízigényeket kielégítő megfelelő műszaki állapotú vízbázis. | I44: =Zalaegerszeg!I20 -> Zalaegerszeg | J44: =SUM(O44:AC44) -> 120 | L44: =Zalaegerszeg!L20 -> 43831 | M44: =Zalaegerszeg!M20 -> 44196 | N44: =Zalaegerszeg!N20 -> rövid | O44: =Zalaegerszeg!O20 -> 120
A45: =Zalaegerszeg!A21 -> 29 | C45: =Zalaegerszeg!C21 -> Zalaegerszeg 13. kút | D45: =Zalaegerszeg!D21 -> kút felépítmény lapostető vízszigaetelés és bádogozás felújítás 9m2 | E45: =Zalaegerszeg!E21 -> Az objektum kora, műszaki állapota miatt fennáll a meghibásodás veszélye. Feladat szükségessége | F45: =Zalaegerszeg!F21 -> A felhasználók folyamatos vízellátásának biztosítására | G45: =Zalaegerszeg!G21 -> Az elvárt vízigényeket kielégítő megfelelő műszaki állapotú vízbázis. | I45: =Zalaegerszeg!I21 -> Zalaegerszeg | J45: =SUM(O45:AC45) -> 120 | L45: =Zalaegerszeg!L21 -> 43831 | M45: =Zalaegerszeg!M21 -> 44196 | N45: =Zalaegerszeg!N21 -> rövid | O45: =Zalaegerszeg!O21 -> 120
A46: =Zalaegerszeg!A22 -> 30 | C46: =Zalaegerszeg!C22 -> Zalaegerszeg 21. kút | D46: =Zalaegerszeg!D22 -> kút felépítmény homlokzat felújítás 30m2 | E46: =Zalaegerszeg!E22 -> Az objektum kora, műszaki állapota miatt fennáll a meghibásodás veszélye. Feladat szükségessége | F46: =Zalaegerszeg!F22 -> A felhasználók folyamatos vízellátásának biztosítására | G46: =Zalaegerszeg!G22 -> Az elvárt vízigényeket kielégítő megfelelő műszaki állapotú vízbázis. | I46: =Zalaegerszeg!I22 -> Zalaegerszeg | J46: =SUM(O46:AC46) -> 250 | L46: =Zalaegerszeg!L22 -> 43831 | M46: =Zalaegerszeg!M22 -> 44196 | N46: =Zalaegerszeg!N22 -> rövid | O46: =Zalaegerszeg!O22 -> 250
A47: =Zalaegerszeg!A23 -> 87 | C47: =Zalaegerszeg!C23 -> Zalaegerszeg … kút | D47: =Zalaegerszeg!D23 -> kútfelújítás | E47: =Zalaegerszeg!E23 -> Az objektum kora, műszaki állapota miatt fennáll a meghibásodás veszélye. Feladat szükségessége | F47: =Zalaegerszeg!F23 -> A felhasználók folyamatos vízellátásának biztosítására | G47: =Zalaegerszeg!G23 -> Az elvárt vízigényeket kielégítő megfelelő műszaki állapotú vízbázis. | I47: =Zalaegerszeg!I23 -> Zalaegerszeg | J47: =SUM(O47:AC47) -> 6000 | L47: =Zalaegerszeg!L23 -> 44927 | M47: =Zalaegerszeg!M23 -> 45291 | N47: =Zalaegerszeg!N23 -> közép | R47: =Zalaegerszeg!R23 -> 6000
A48: =Zalaegerszeg!A24 -> 123 | C48: =Zalaegerszeg!C24 -> Zalaegerszeg … kút | D48: =Zalaegerszeg!D24 -> kútfelújítás | E48: =Zalaegerszeg!E24 -> Az objektum kora, műszaki állapota miatt fennáll a meghibásodás veszélye. Feladat szükségessége | F48: =Zalaegerszeg!F24 -> A felhasználók folyamatos vízellátásának biztosítására | G48: =Zalaegerszeg!G24 -> Az elvárt vízigényeket kielégítő megfelelő műszaki állapotú vízbázis. | I48: =Zalaegerszeg!I24 -> Zalaegerszeg | J48: =SUM(O48:AC48) -> 12000 | L48: =Zalaegerszeg!L24 -> 46753 | M48: =Zalaegerszeg!M24 -> 48944 | N48: =Zalaegerszeg!N24 -> hosszú | W48: =Zalaegerszeg!W24 -> 6000 | AB48: =Zalaegerszeg!AB24 -> 6000
B50: Gép, berendezés
A51: =Zalaegerszeg!A27 -> 31 | C51: =Zalaegerszeg!C27 -> Zalaegerszeg 13. kút | D51: =Zalaegerszeg!D27 -> közmű gépészet felújítása | E51: =Zalaegerszeg!E27 -> A szivattyú kora, műszaki állapota miatt fennáll a meghibásodás veszélye. | F51: =Zalaegerszeg!F27 -> A folyamatos víztermelés biztosítása. | G51: =Zalaegerszeg!G27 -> A Q–H diagramhoz illeszkedő energiahatékony szivattyú üzemeltetése. | I51: =Zalaegerszeg!I27 -> Zalaegerszeg | J51: =SUM(O51:AC51) -> 1800 | L51: =Zalaegerszeg!L27 -> 43922 | M51: =Zalaegerszeg!M27 -> 44196 | N51: =Zalaegerszeg!N27 -> rövid | O51: =Zalaegerszeg!O27 -> 1800
A52: =Zalaegerszeg!A28 -> 32 | C52: =Zalaegerszeg!C28 -> Zalaegerszeg 18. kút | D52: =Zalaegerszeg!D28 -> közmű gépészet felújítása | E52: =Zalaegerszeg!E28 -> A szivattyú kora, műszaki állapota miatt fennáll a meghibásodás veszélye. | F52: =Zalaegerszeg!F28 -> A folyamatos víztermelés biztosítása. | G52: =Zalaegerszeg!G28 -> A Q–H diagramhoz illeszkedő energiahatékony szivattyú üzemeltetése. | I52: =Zalaegerszeg!I28 -> Zalaegerszeg | J52: =SUM(O52:AC52) -> 1800 | L52: =Zalaegerszeg!L28 -> 43922 | M52: =Zalaegerszeg!M28 -> 44196 | N52: =Zalaegerszeg!N28 -> rövid | O52: =Zalaegerszeg!O28 -> 1800
A53: =Zalaegerszeg!A29 -> 33 | C53: =Zalaegerszeg!C29 -> Zalaegerszeg 19. kút | D53: =Zalaegerszeg!D29 -> közmű gépészet felújítása | E53: =Zalaegerszeg!E29 -> A szivattyú kora, műszaki állapota miatt fennáll a meghibásodás veszélye. | F53: =Zalaegerszeg!F29 -> A folyamatos víztermelés biztosítása. | G53: =Zalaegerszeg!G29 -> A Q–H diagramhoz illeszkedő energiahatékony szivattyú üzemeltetése. | I53: =Zalaegerszeg!I29 -> Zalaegerszeg | J53: =SUM(O53:AC53) -> 1800 | L53: =Zalaegerszeg!L29 -> 43922 | M53: =Zalaegerszeg!M29 -> 44196 | N53: =Zalaegerszeg!N29 -> rövid | O53: =Zalaegerszeg!O29 -> 1800
A54: =Zalaegerszeg!A30 -> 34 | C54: =Zalaegerszeg!C30 -> Zalaegerszeg 21. kút | D54: =Zalaegerszeg!D30 -> közmű gépészet felújítása | E54: =Zalaegerszeg!E30 -> A szivattyú kora, műszaki állapota miatt fennáll a meghibásodás veszélye. | F54: =Zalaegerszeg!F30 -> A folyamatos víztermelés biztosítása. | G54: =Zalaegerszeg!G30 -> A Q–H diagramhoz illeszkedő energiahatékony szivattyú üzemeltetése. | I54: =Zalaegerszeg!I30 -> Zalaegerszeg | J54: =SUM(O54:AC54) -> 1800 | L54: =Zalaegerszeg!L30 -> 43922 | M54: =Zalaegerszeg!M30 -> 44196 | N54: =Zalaegerszeg!N30 -> rövid | O54: =Zalaegerszeg!O30 -> 1800
A55: =Zalaegerszeg!A31 -> 35 | C55: =Zalaegerszeg!C31 -> Zalaegerszeg | D55: =Zalaegerszeg!D31 -> szivattyú javítás és csere | E55: =Zalaegerszeg!E31 -> A szivattyú kora, műszaki állapota miatt fennáll a meghibásodás veszélye. | F55: =Zalaegerszeg!F31 -> A folyamatos víztermelés biztosítása. | G55: =Zalaegerszeg!G31 -> A Q–H diagramhoz illeszkedő energiahatékony szivattyú üzemeltetése. | I55: =Zalaegerszeg!I31 -> Zalaegerszeg | J55: =SUM(O55:AC55) -> 5000 | L55: =Zalaegerszeg!L31 -> 43922 | M55: =Zalaegerszeg!M31 -> 44196 | N55: =Zalaegerszeg!N31 -> rövid | O55: =Zalaegerszeg!O31 -> 5000
A56: =Zalaegerszeg!A32 -> 97 | C56: =Zalaegerszeg!C32 -> Zalaegerszeg … kút | D56: =Zalaegerszeg!D32 -> szivattyú javítás és csere | E56: =Zalaegerszeg!E32 -> A szivattyú kora, műszaki állapota miatt fennáll a meghibásodás veszélye. | F56: =Zalaegerszeg!F32 -> A folyamatos víztermelés biztosítása. | G56: =Zalaegerszeg!G32 -> A Q–H diagramhoz illeszkedő energiahatékony szivattyú üzemeltetése. | I56: =Zalaegerszeg!I32 -> Zalaegerszeg | J56: =SUM(O56:AC56) -> 601 | L56: =Zalaegerszeg!L32 -> 45292 | M56: =Zalaegerszeg!M32 -> 45657 | N56: =Zalaegerszeg!N32 -> közép | S56: =Zalaegerszeg!S32 -> 601
C57: =Zalaegerszeg!C33 -> Zalaegerszeg … kút | D57: =Zalaegerszeg!D33 -> közmű gépészet felújítása | E57: =Zalaegerszeg!E33 -> A szerelvények és vezetékek, műszaki állapota miatt fennáll a meghibásodás veszélye. | F57: =Zalaegerszeg!F33 -> A folyamatos víztermelés biztosítása. | G57: =Zalaegerszeg!G33 -> A gépészeti funkciókat kifogástalanul ellátó szerelvények. | I57: =Zalaegerszeg!I33 -> Zalaegerszeg | J57: =SUM(O57:AC57) -> 2000 | L57: =Zalaegerszeg!L33 -> 45292 | M57: =Zalaegerszeg!M33 -> 45657 | N57: =Zalaegerszeg!N33 -> közép | S57: =Zalaegerszeg!S33 -> 2000
A58: =Zalaegerszeg!A34 -> 111 | C58: =Zalaegerszeg!C34 -> Zalaegerszeg … kút | D58: =Zalaegerszeg!D34 -> szivattyú javítás és csere | E58: =Zalaegerszeg!E34 -> A szivattyú kora, műszaki állapota miatt fennáll a meghibásodás veszélye. | F58: =Zalaegerszeg!F34 -> A folyamatos víztermelés biztosítása. | G58: =Zalaegerszeg!G34 -> A Q–H diagramhoz illeszkedő energiahatékony szivattyú üzemeltetése. | I58: =Zalaegerszeg!I34 -> Zalaegerszeg | J58: =SUM(O58:AC58) -> 601 | L58: =Zalaegerszeg!L34 -> 45658 | M58: =Zalaegerszeg!M34 -> 46022 | N58: =Zalaegerszeg!N34 -> hosszú | T58: =Zalaegerszeg!T34 -> 601
C59: =Zalaegerszeg!C35 -> Zalaegerszeg … kút | D59: =Zalaegerszeg!D35 -> közmű gépészet felújítása | E59: =Zalaegerszeg!E35 -> A szerelvények és vezetékek, műszaki állapota miatt fennáll a meghibásodás veszélye. | F59: =Zalaegerszeg!F35 -> A folyamatos víztermelés biztosítása. | G59: =Zalaegerszeg!G35 -> A gépészeti funkciókat kifogástalanul ellátó szerelvények. | I59: =Zalaegerszeg!I35 -> Zalaegerszeg | J59: =SUM(O59:AC59) -> 2000 | L59: =Zalaegerszeg!L35 -> 45658 | M59: =Zalaegerszeg!M35 -> 46022 | N59: =Zalaegerszeg!N35 -> hosszú | T59: =Zalaegerszeg!T35 -> 2000
A60: =Zalaegerszeg!A36 -> 120 | C60: =Zalaegerszeg!C36 -> Zalaegerszeg … kút | D60: =Zalaegerszeg!D36 -> szivattyú javítás és csere | E60: =Zalaegerszeg!E36 -> A szivattyú kora, műszaki állapota miatt fennáll a meghibásodás veszélye. | F60: =Zalaegerszeg!F36 -> A folyamatos víztermelés biztosítása. | G60: =Zalaegerszeg!G36 -> A Q–H diagramhoz illeszkedő energiahatékony szivattyú üzemeltetése. | I60: =Zalaegerszeg!I36 -> Zalaegerszeg | J60: =SUM(O60:AC60) -> 601 | L60: =Zalaegerszeg!L36 -> 46023 | M60: =Zalaegerszeg!M36 -> 46387 | N60: =Zalaegerszeg!N36 -> hosszú | U60: =Zalaegerszeg!U36 -> 601
C61: =Zalaegerszeg!C37 -> Zalaegerszeg … kút | D61: =Zalaegerszeg!D37 -> közmű gépészet felújítása | E61: =Zalaegerszeg!E37 -> A szerelvények és vezetékek, műszaki állapota miatt fennáll a meghibásodás veszélye. | F61: =Zalaegerszeg!F37 -> A folyamatos víztermelés biztosítása. | G61: =Zalaegerszeg!G37 -> A gépészeti funkciókat kifogástalanul ellátó szerelvények. | I61: =Zalaegerszeg!I37 -> Zalaegerszeg | J61: =SUM(O61:AC61) -> 2000 | L61: =Zalaegerszeg!L37 -> 46023 | M61: =Zalaegerszeg!M37 -> 46387 | N61: =Zalaegerszeg!N37 -> hosszú | U61: =Zalaegerszeg!U37 -> 2000
A62: =Zalaegerszeg!A38 -> 124 | C62: =Zalaegerszeg!C38 -> Zalaegerszeg … kút | D62: =Zalaegerszeg!D38 -> szivattyú javítás és csere | E62: =Zalaegerszeg!E38 -> A szivattyú kora, műszaki állapota miatt fennáll a meghibásodás veszélye. | F62: =Zalaegerszeg!F38 -> A folyamatos víztermelés biztosítása. | G62: =Zalaegerszeg!G38 -> A Q–H diagramhoz illeszkedő energiahatékony szivattyú üzemeltetése. | I62: =Zalaegerszeg!I38 -> Zalaegerszeg | J62: =SUM(O62:AC62) -> 601 | L62: =Zalaegerszeg!L38 -> 46388 | M62: =Zalaegerszeg!M38 -> 46752 | N62: =Zalaegerszeg!N38 -> hosszú | V62: =Zalaegerszeg!V38 -> 601
C63: =Zalaegerszeg!C39 -> Zalaegerszeg … kút | D63: =Zalaegerszeg!D39 -> közmű gépészet felújítása | E63: =Zalaegerszeg!E39 -> A szerelvények és vezetékek, műszaki állapota miatt fennáll a meghibásodás veszélye. | F63: =Zalaegerszeg!F39 -> A folyamatos víztermelés biztosítása. | G63: =Zalaegerszeg!G39 -> A gépészeti funkciókat kifogástalanul ellátó szerelvények. | I63: =Zalaegerszeg!I39 -> Zalaegerszeg | J63: =SUM(O63:AC63) -> 2000 | L63: =Zalaegerszeg!L39 -> 46388 | M63: =Zalaegerszeg!M39 -> 46752 | N63: =Zalaegerszeg!N39 -> hosszú | V63: =Zalaegerszeg!V39 -> 2000
A64: =Zalaegerszeg!A40 -> 128 | C64: =Zalaegerszeg!C40 -> Zalaegerszeg … kút | D64: =Zalaegerszeg!D40 -> szivattyú javítás és csere | E64: =Zalaegerszeg!E40 -> A szivattyú kora, műszaki állapota miatt fennáll a meghibásodás veszélye. | F64: =Zalaegerszeg!F40 -> A folyamatos víztermelés biztosítása. | G64: =Zalaegerszeg!G40 -> A Q–H diagramhoz illeszkedő energiahatékony szivattyú üzemeltetése. | I64: =Zalaegerszeg!I40 -> Zalaegerszeg | J64: =SUM(O64:AC64) -> 601 | L64: =Zalaegerszeg!L40 -> 46753 | M64: =Zalaegerszeg!M40 -> 47118 | N64: =Zalaegerszeg!N40 -> hosszú | W64: =Zalaegerszeg!W40 -> 601
C65: =Zalaegerszeg!C41 -> Zalaegerszeg … kút | D65: =Zalaegerszeg!D41 -> közmű gépészet felújítása | E65: =Zalaegerszeg!E41 -> A szerelvények és vezetékek, műszaki állapota miatt fennáll a meghibásodás veszélye. | F65: =Zalaegerszeg!F41 -> A folyamatos víztermelés biztosítása. | G65: =Zalaegerszeg!G41 -> A gépészeti funkciókat kifogástalanul ellátó szerelvények. | I65: =Zalaegerszeg!I41 -> Zalaegerszeg | J65: =SUM(O65:AC65) -> 2000 | L65: =Zalaegerszeg!L41 -> 46753 | M65: =Zalaegerszeg!M41 -> 47118 | N65: =Zalaegerszeg!N41 -> hosszú | W65: =Zalaegerszeg!W41 -> 2000
A66: =Zalaegerszeg!A42 -> 137 | C66: =Zalaegerszeg!C42 -> Zalaegerszeg … kút | D66: =Zalaegerszeg!D42 -> szivattyú javítás és csere | E66: =Zalaegerszeg!E42 -> A szivattyú kora, műszaki állapota miatt fennáll a meghibásodás veszélye. | F66: =Zalaegerszeg!F42 -> A folyamatos víztermelés biztosítása. | G66: =Zalaegerszeg!G42 -> A Q–H diagramhoz illeszkedő energiahatékony szivattyú üzemeltetése. | I66: =Zalaegerszeg!I42 -> Zalaegerszeg | J66: =SUM(O66:AC66) -> 601 | L66: =Zalaegerszeg!L42 -> 47119 | M66: =Zalaegerszeg!M42 -> 47483 | N66: =Zalaegerszeg!N42 -> hosszú | X66: =Zalaegerszeg!X42 -> 601
C67: =Zalaegerszeg!C43 -> Zalaegerszeg … kút | D67: =Zalaegerszeg!D43 -> közmű gépészet felújítása | E67: =Zalaegerszeg!E43 -> A szerelvények és vezetékek, műszaki állapota miatt fennáll a meghibásodás veszélye. | F67: =Zalaegerszeg!F43 -> A folyamatos víztermelés biztosítása. | G67: =Zalaegerszeg!G43 -> A gépészeti funkciókat kifogástalanul ellátó szerelvények. | I67: =Zalaegerszeg!I43 -> Zalaegerszeg | J67: =SUM(O67:AC67) -> 2000 | L67: =Zalaegerszeg!L43 -> 47119 | M67: =Zalaegerszeg!M43 -> 47483 | N67: =Zalaegerszeg!N43 -> hosszú | X67: =Zalaegerszeg!X43 -> 2000
A68: =Zalaegerszeg!A44 -> 142 | C68: =Zalaegerszeg!C44 -> Zalaegerszeg … kút | D68: =Zalaegerszeg!D44 -> szivattyú javítás és csere | E68: =Zalaegerszeg!E44 -> A szivattyú kora, műszaki állapota miatt fennáll a meghibásodás veszélye. | F68: =Zalaegerszeg!F44 -> A folyamatos víztermelés biztosítása. | G68: =Zalaegerszeg!G44 -> A Q–H diagramhoz illeszkedő energiahatékony szivattyú üzemeltetése. | I68: =Zalaegerszeg!I44 -> Zalaegerszeg | J68: =SUM(O68:AC68) -> 601 | L68: =Zalaegerszeg!L44 -> 47484 | M68: =Zalaegerszeg!M44 -> 47848 | N68: =Zalaegerszeg!N44 -> hosszú | Y68: =Zalaegerszeg!Y44 -> 601
C69: =Zalaegerszeg!C45 -> Zalaegerszeg … kút | D69: =Zalaegerszeg!D45 -> közmű gépészet felújítása | E69: =Zalaegerszeg!E45 -> A szerelvények és vezetékek, műszaki állapota miatt fennáll a meghibásodás veszélye. | F69: =Zalaegerszeg!F45 -> A folyamatos víztermelés biztosítása. | G69: =Zalaegerszeg!G45 -> A gépészeti funkciókat kifogástalanul ellátó szerelvények. | I69: =Zalaegerszeg!I45 -> Zalaegerszeg | J69: =SUM(O69:AC69) -> 2000 | L69: =Zalaegerszeg!L45 -> 47484 | M69: =Zalaegerszeg!M45 -> 47848 | N69: =Zalaegerszeg!N45 -> hosszú | Y69: =Zalaegerszeg!Y45 -> 2000
A70: =Zalaegerszeg!A46 -> 144 | C70: =Zalaegerszeg!C46 -> Zalaegerszeg … kút | D70: =Zalaegerszeg!D46 -> szivattyú javítás és csere | E70: =Zalaegerszeg!E46 -> A szivattyú kora, műszaki állapota miatt fennáll a meghibásodás veszélye. | F70: =Zalaegerszeg!F46 -> A folyamatos víztermelés biztosítása. | G70: =Zalaegerszeg!G46 -> A Q–H diagramhoz illeszkedő energiahatékony szivattyú üzemeltetése. | I70: =Zalaegerszeg!I46 -> Zalaegerszeg | J70: =SUM(O70:AC70) -> 601 | L70: =Zalaegerszeg!L46 -> 47849 | M70: =Zalaegerszeg!M46 -> 48213 | N70: =Zalaegerszeg!N46 -> hosszú | Z70: =Zalaegerszeg!Z46 -> 601
C71: =Zalaegerszeg!C47 -> Zalaegerszeg … kút | D71: =Zalaegerszeg!D47 -> közmű gépészet felújítása | E71: =Zalaegerszeg!E47 -> A szerelvények és vezetékek, műszaki állapota miatt fennáll a meghibásodás veszélye. | F71: =Zalaegerszeg!F47 -> A folyamatos víztermelés biztosítása. | G71: =Zalaegerszeg!G47 -> A gépészeti funkciókat kifogástalanul ellátó szerelvények. | I71: =Zalaegerszeg!I47 -> Zalaegerszeg | J71: =SUM(O71:AC71) -> 2000 | L71: =Zalaegerszeg!L47 -> 47849 | M71: =Zalaegerszeg!M47 -> 48213 | N71: =Zalaegerszeg!N47 -> hosszú | Z71: =Zalaegerszeg!Z47 -> 2000
A72: =Zalaegerszeg!A48 -> 146 | C72: =Zalaegerszeg!C48 -> Zalaegerszeg … kút | D72: =Zalaegerszeg!D48 -> szivattyú javítás és csere | E72: =Zalaegerszeg!E48 -> A szivattyú kora, műszaki állapota miatt fennáll a meghibásodás veszélye. | F72: =Zalaegerszeg!F48 -> A folyamatos víztermelés biztosítása. | G72: =Zalaegerszeg!G48 -> A Q–H diagramhoz illeszkedő energiahatékony szivattyú üzemeltetése. | I72: =Zalaegerszeg!I48 -> Zalaegerszeg | J72: =SUM(O72:AC72) -> 601 | L72: =Zalaegerszeg!L48 -> 48214 | M72: =Zalaegerszeg!M48 -> 48579 | N72: =Zalaegerszeg!N48 -> hosszú | AA72: =Zalaegerszeg!AA48 -> 601
C73: =Zalaegerszeg!C49 -> Zalaegerszeg … kút | D73: =Zalaegerszeg!D49 -> közmű gépészet felújítása | E73: =Zalaegerszeg!E49 -> A szerelvények és vezetékek, műszaki állapota miatt fennáll a meghibásodás veszélye. | F73: =Zalaegerszeg!F49 -> A folyamatos víztermelés biztosítása. | G73: =Zalaegerszeg!G49 -> A gépészeti funkciókat kifogástalanul ellátó szerelvények. | I73: =Zalaegerszeg!I49 -> Zalaegerszeg | J73: =SUM(O73:AC73) -> 2000 | L73: =Zalaegerszeg!L49 -> 48214 | M73: =Zalaegerszeg!M49 -> 48579 | N73: =Zalaegerszeg!N49 -> hosszú | AA73: =Zalaegerszeg!AA49 -> 2000
A74: =Zalaegerszeg!A50 -> 148 | C74: =Zalaegerszeg!C50 -> Zalaegerszeg … kút | D74: =Zalaegerszeg!D50 -> szivattyú javítás és csere | E74: =Zalaegerszeg!E50 -> A szivattyú kora, műszaki állapota miatt fennáll a meghibásodás veszélye. | F74: =Zalaegerszeg!F50 -> A folyamatos víztermelés biztosítása. | G74: =Zalaegerszeg!G50 -> A Q–H diagramhoz illeszkedő energiahatékony szivattyú üzemeltetése. | I74: =Zalaegerszeg!I50 -> Zalaegerszeg | J74: =SUM(O74:AC74) -> 601 | L74: =Zalaegerszeg!L50 -> 48580 | M74: =Zalaegerszeg!M50 -> 48944 | N74: =Zalaegerszeg!N50 -> hosszú | AB74: =Zalaegerszeg!AB50 -> 601
C75: =Zalaegerszeg!C51 -> Zalaegerszeg … kút | D75: =Zalaegerszeg!D51 -> közmű gépészet felújítása | E75: =Zalaegerszeg!E51 -> A szerelvények és vezetékek, műszaki állapota miatt fennáll a meghibásodás veszélye. | F75: =Zalaegerszeg!F51 -> A folyamatos víztermelés biztosítása. | G75: =Zalaegerszeg!G51 -> A gépészeti funkciókat kifogástalanul ellátó szerelvények. | I75: =Zalaegerszeg!I51 -> Zalaegerszeg | J75: =SUM(O75:AC75) -> 2000 | L75: =Zalaegerszeg!L51 -> 48580 | M75: =Zalaegerszeg!M51 -> 48944 | N75: =Zalaegerszeg!N51 -> hosszú | AB75: =Zalaegerszeg!AB51 -> 2000
A76: =Zalaegerszeg!A52 -> 150 | C76: =Zalaegerszeg!C52 -> Zalaegerszeg … kút | D76: =Zalaegerszeg!D52 -> szivattyú javítás és csere | E76: =Zalaegerszeg!E52 -> A szivattyú kora, műszaki állapota miatt fennáll a meghibásodás veszélye. | F76: =Zalaegerszeg!F52 -> A folyamatos víztermelés biztosítása. | G76: =Zalaegerszeg!G52 -> A Q–H diagramhoz illeszkedő energiahatékony szivattyú üzemeltetése. | I76: =Zalaegerszeg!I52 -> Zalaegerszeg | J76: =SUM(O76:AC76) -> 601 | L76: =Zalaegerszeg!L52 -> 48945 | M76: =Zalaegerszeg!M52 -> 49309 | N76: =Zalaegerszeg!N52 -> hosszú | AC76: =Zalaegerszeg!AC52 -> 601
C77: =Zalaegerszeg!C53 -> Zalaegerszeg … kút | D77: =Zalaegerszeg!D53 -> közmű gépészet felújítása | E77: =Zalaegerszeg!E53 -> A szerelvények és vezetékek, műszaki állapota miatt fennáll a meghibásodás veszélye. | F77: =Zalaegerszeg!F53 -> A folyamatos víztermelés biztosítása. | G77: =Zalaegerszeg!G53 -> A gépészeti funkciókat kifogástalanul ellátó szerelvények. | I77: =Zalaegerszeg!I53 -> Zalaegerszeg | J77: =SUM(O77:AC77) -> 2000 | L77: =Zalaegerszeg!L53 -> 48945 | M77: =Zalaegerszeg!M53 -> 49309 | N77: =Zalaegerszeg!N53 -> hosszú | AC77: =Zalaegerszeg!AC53 -> 2000
B79: Irányítástechnika, energiaellátás
A80: =Zalaegerszeg!A56 -> 19 | C80: =Zalaegerszeg!C56 -> Zalaegerszeg 26. kút | D80: =Zalaegerszeg!D56 -> URH kommunikáció átállás GPRS-re | E80: =Zalaegerszeg!E56 -> Az elektromos, irányítástechnikai szerelvények és vezetékek, műszaki állapota miatt fennáll a meghibásodás veszélye | F80: =Zalaegerszeg!F56 -> A megfelelő minőségű kommunikáció, a folyamatos távfelügyelet biztosítása. | G80: =Zalaegerszeg!G56 -> Megfelelő biztonságú adatkommunikációs csatorna. | I80: =Zalaegerszeg!I56 -> Zalaegerszeg | J80: =SUM(O80:AC80) -> 550 | L80: =Zalaegerszeg!L56 -> 43922 | M80: =Zalaegerszeg!M56 -> 44196 | N80: =Zalaegerszeg!N56 -> rövid | O80: =Zalaegerszeg!O56 -> 550
A81: =Zalaegerszeg!A57 -> 23 | C81: =Zalaegerszeg!C57 -> Zalaegerszeg | D81: =Zalaegerszeg!D57 -> Földkábeles kommunikációról való átállás GPRS-re | E81: =Zalaegerszeg!E57 -> Az elektromos, irányítástechnikai szerelvények és vezetékek, műszaki állapota miatt fennáll a meghibásodás veszélye | F81: =Zalaegerszeg!F57 -> A megfelelő minőségű kommunikáció, a folyamatos távfelügyelet biztosítása. | G81: =Zalaegerszeg!G57 -> Megfelelő biztonságú adatkommunikációs csatorna. | I81: =Zalaegerszeg!I57 -> Zalaegerszeg | J81: =SUM(O81:AC81) -> 8800 | L81: =Zalaegerszeg!L57 -> 43922 | M81: =Zalaegerszeg!M57 -> 44196 | N81: =Zalaegerszeg!N57 -> rövid | O81: 8800
A82: =Zalaegerszeg!A58 -> 71 | C82: =Zalaegerszeg!C58 -> Zalaegerszeg Keleti kútcsoport | D82: =Zalaegerszeg!D58 -> GPRS kommunikációra történő átállás | E82: =Zalaegerszeg!E58 -> Az elektromos, irányítástechnikai szerelvények és vezetékek, műszaki állapota miatt fennáll a meghibásodás veszélye. | F82: =Zalaegerszeg!F58 -> A búvárszivattyú elektromos megtáplálása, a folyamatos távfelügyelet biztosítása. | G82: =Zalaegerszeg!G58 -> A búvárszivattyú elektromos paramétereihez illeszkedő erősáramú és vezérlőszekrény. | I82: =Zalaegerszeg!I58 -> Zalaegerszeg | J82: =SUM(O82:AC82) -> 6078 | L82: =Zalaegerszeg!L58 -> 44197 | M82: =Zalaegerszeg!M58 -> 44561 | N82: =Zalaegerszeg!N58 -> közép | P82: =Zalaegerszeg!P58 -> 6078
A83: =Zalaegerszeg!A59 -> 98 | C83: =Zalaegerszeg!C59 -> Zalaegerszeg … kút | D83: =Zalaegerszeg!D59 -> elektromos és irányítástechnikai szekrény csere (2 db) | E83: =Zalaegerszeg!E59 -> Az elektromos, irányítástechnikai szerelvények és vezetékek, műszaki állapota miatt fennáll a meghibásodás veszélye. | F83: =Zalaegerszeg!F59 -> A búvárszivattyú elektromos megtáplálása, a folyamatos távfelügyelet biztosítása. | G83: =Zalaegerszeg!G59 -> A búvárszivattyú elektromos paramétereihez illeszkedő erősáramú és vezérlőszekrény. | I83: =Zalaegerszeg!I59 -> Zalaegerszeg | J83: =SUM(O83:AC83) -> 6000 | L83: =Zalaegerszeg!L59 -> 45292 | M83: =Zalaegerszeg!M59 -> 45657 | N83: =Zalaegerszeg!N59 -> közép | S83: =Zalaegerszeg!S59 -> 6000
A84: =Zalaegerszeg!A60 -> 112 | C84: =Zalaegerszeg!C60 -> Zalaegerszeg … kút | D84: =Zalaegerszeg!D60 -> elektromos és irányítástechnikai szekrény csere (2 db) | E84: =Zalaegerszeg!E60 -> Az elektromos, irányítástechnikai szerelvények és vezetékek, műszaki állapota miatt fennáll a meghibásodás veszélye. | F84: =Zalaegerszeg!F60 -> A búvárszivattyú elektromos megtáplálása, a folyamatos távfelügyelet biztosítása. | G84: =Zalaegerszeg!G60 -> A búvárszivattyú elektromos paramétereihez illeszkedő erősáramú és vezérlőszekrény. | I84: =Zalaegerszeg!I60 -> Zalaegerszeg | J84: =SUM(O84:AC84) -> 6000 | L84: =Zalaegerszeg!L60 -> 45658 | M84: =Zalaegerszeg!M60 -> 46022 | N84: =Zalaegerszeg!N60 -> hosszú | T84: =Zalaegerszeg!T60 -> 6000
A85: =Zalaegerszeg!A61 -> 121 | C85: =Zalaegerszeg!C61 -> Zalaegerszeg … kút | D85: =Zalaegerszeg!D61 -> elektromos és irányítástechnikai szekrény csere (2 db) | E85: =Zalaegerszeg!E61 -> Az elektromos, irányítástechnikai szerelvények és vezetékek, műszaki állapota miatt fennáll a meghibásodás veszélye. | F85: =Zalaegerszeg!F61 -> A búvárszivattyú elektromos megtáplálása, a folyamatos távfelügyelet biztosítása. | G85: =Zalaegerszeg!G61 -> A búvárszivattyú elektromos paramétereihez illeszkedő erősáramú és vezérlőszekrény. | I85: =Zalaegerszeg!I61 -> Zalaegerszeg | J85: =SUM(O85:AC85) -> 6000 | L85: =Zalaegerszeg!L61 -> 46023 | M85: =Zalaegerszeg!M61 -> 46387 | N85: =Zalaegerszeg!N61 -> hosszú | U85: =Zalaegerszeg!U61 -> 6000
A86: =Zalaegerszeg!A62 -> 125 | C86: =Zalaegerszeg!C62 -> Zalaegerszeg … kút | D86: =Zalaegerszeg!D62 -> elektromos és irányítástechnikai szekrény csere (2 db) | E86: =Zalaegerszeg!E62 -> Az elektromos, irányítástechnikai szerelvények és vezetékek, műszaki állapota miatt fennáll a meghibásodás veszélye. | F86: =Zalaegerszeg!F62 -> A búvárszivattyú elektromos megtáplálása, a folyamatos távfelügyelet biztosítása. | G86: =Zalaegerszeg!G62 -> A búvárszivattyú elektromos paramétereihez illeszkedő erősáramú és vezérlőszekrény. | I86: =Zalaegerszeg!I62 -> Zalaegerszeg | J86: =SUM(O86:AC86) -> 6000 | L86: =Zalaegerszeg!L62 -> 46388 | M86: =Zalaegerszeg!M62 -> 46752 | N86: =Zalaegerszeg!N62 -> hosszú | V86: =Zalaegerszeg!V62 -> 6000
A87: =Zalaegerszeg!A63 -> 129 | C87: =Zalaegerszeg!C63 -> Zalaegerszeg … kút | D87: =Zalaegerszeg!D63 -> elektromos és irányítástechnikai szekrény csere (2 db) | E87: =Zalaegerszeg!E63 -> Az elektromos, irányítástechnikai szerelvények és vezetékek, műszaki állapota miatt fennáll a meghibásodás veszélye. | F87: =Zalaegerszeg!F63 -> A búvárszivattyú elektromos megtáplálása, a folyamatos távfelügyelet biztosítása. | G87: =Zalaegerszeg!G63 -> A búvárszivattyú elektromos paramétereihez illeszkedő erősáramú és vezérlőszekrény. | I87: =Zalaegerszeg!I63 -> Zalaegerszeg | J87: =SUM(O87:AC87) -> 6000 | L87: =Zalaegerszeg!L63 -> 46753 | M87: =Zalaegerszeg!M63 -> 47118 | N87: =Zalaegerszeg!N63 -> hosszú | W87: =Zalaegerszeg!W63 -> 6000
A88: =Zalaegerszeg!A64 -> 138 | C88: =Zalaegerszeg!C64 -> Zalaegerszeg … kút | D88: =Zalaegerszeg!D64 -> elektromos és irányítástechnikai szekrény csere (2 db) | E88: =Zalaegerszeg!E64 -> Az elektromos, irányítástechnikai szerelvények és vezetékek, műszaki állapota miatt fennáll a meghibásodás veszélye. | F88: =Zalaegerszeg!F64 -> A búvárszivattyú elektromos megtáplálása, a folyamatos távfelügyelet biztosítása. | G88: =Zalaegerszeg!G64 -> A búvárszivattyú elektromos paramétereihez illeszkedő erősáramú és vezérlőszekrény. | I88: =Zalaegerszeg!I64 -> Zalaegerszeg | J88: =SUM(O88:AC88) -> 6000 | L88: =Zalaegerszeg!L64 -> 47119 | M88: =Zalaegerszeg!M64 -> 47483 | N88: =Zalaegerszeg!N64 -> hosszú | X88: =Zalaegerszeg!X64 -> 6000
A89: =Zalaegerszeg!A65 -> 143 | C89: =Zalaegerszeg!C65 -> Zalaegerszeg … kút | D89: =Zalaegerszeg!D65 -> elektromos és irányítástechnikai szekrény csere (2 db) | E89: =Zalaegerszeg!E65 -> Az elektromos, irányítástechnikai szerelvények és vezetékek, műszaki állapota miatt fennáll a meghibásodás veszélye. | F89: =Zalaegerszeg!F65 -> A búvárszivattyú elektromos megtáplálása, a folyamatos távfelügyelet biztosítása. | G89: =Zalaegerszeg!G65 -> A búvárszivattyú elektromos paramétereihez illeszkedő erősáramú és vezérlőszekrény. | I89: =Zalaegerszeg!I65 -> Zalaegerszeg | J89: =SUM(O89:AC89) -> 6000 | L89: =Zalaegerszeg!L65 -> 47484 | M89: =Zalaegerszeg!M65 -> 47848 | N89: =Zalaegerszeg!N65 -> hosszú | Y89: =Zalaegerszeg!Y65 -> 6000
