Workbook

Sheet adat
A1: 2010-2016. évek statisztikai kimutatása
A2: Zalaegerszegi Rendőrkapitányság
A4: Intézkedési mutatók, rendészeti adatok
B6: 2010. év | C6: 2011. év | D6: 2012. év | E6: 2013. év | F6: 2014. év | G6: 2015. év | H6: 2016. év | I6: Változás 2015-2016. | J6: Dinamika 2015-2016. (%)
A7: Elfogások száma | B7: 237 | C7: 178 | D7: 195 | E7: 238 | F7: 336 | G7: 325 | H7: 379 | I7: =H7-G7 -> 54 | J7: =IF(G7=0,"",(H7/G7)-1) -> 0.16615385
A8: Előállítások száma | B8: 567 | C8: 669 | D8: 1009 | E8: 896 | F8: 782 | G8: 646 | H8: 837 | I8: =H8-G8 -> 191 | J8: =IF(G8=0,"",(H8/G8)-1) -> 0.29566563
A9: Biztonsági intézkedések száma | B9: 214 | C9: 222 | D9: 339 | E9: 294 | F9: 399 | G9: 353 | H9: 267 | I9: =H9-G9 -> -86 | J9: =IF(G9=0,"",(H9/G9)-1) -> -0.24362606
A10: Elrendelt elővezetések száma | B10: 251 | C10: 307 | D10: 454 | E10: 722 | F10: 642 | G10: 333 | H10: 359 | I10: =H10-G10 -> 26 | J10: =IF(G10=0,"",(H10/G10)-1) -> 0.078078078
A11: Végrehajtott elővezetések száma | B11: 142 | C11: 164 | D11: 223 | E11: 246 | F11: 318 | G11: 218 | H11: 216 | I11: =H11-G11 -> -2 | J11: =IF(G11=0,"",(H11/G11)-1) -> -0.0091743119
A12: Szabálysértési feljelentések száma | B12: 3299 | C12: 3337 | D12: 5134 | E12: 2044 | F12: 1596 | G12: 1173 | H12: 1520 | I12: =H12-G12 -> 347 | J12: =IF(G12=0,"",(H12/G12)-1) -> 0.29582268
A13: Büntető feljelentések száma | B13: 734 | C13: 608 | D13: 737 | E13: 105 | F13: 87 | G13: 36 | H13: 84 | I13: =H13-G13 -> 48 | J13: =IF(G13=0,"",(H13/G13)-1) -> 1.3333333
A14: Helyszíni bírsággal sújtott személyek száma (fő) | B14: 1581 | C14: 796 | D14: 2874 | E14: 3724 | F14: 2072 | G14: 1547 | H14: 2661 | I14: =H14-G14 -> 1114 | J14: =IF(G14=0,"",(H14/G14)-1) -> 0.72010343
A15: Kiszabott helyszíni bírságok összege (ezer Ft) | B15: 9486000 | C15: 5056000 | D15: 37930 | E15: 54997000 | F15: 27000000 | G15: 17072000 | H15: 27334000 | I15: =H15-G15 -> 10262000 | J15: =IF(G15=0,"",(H15/G15)-1) -> 0.60110122
A16: Alkoholszonda alkalmazások száma összesen (eset) | B16: 2239 | C16: 1368 | D16: 1429 | E16: 5442 | F16: 7141 | G16: 9247 | H16: 14770 | I16: =H16-G16 -> 5523 | J16: =IF(G16=0,"",(H16/G16)-1) -> 0.59727479
A17: Pozitív eredményű alkoholszonda alkalmazások száma (eset) | B17: 98 | C17: 77 | D17: 99 | E17: 149 | F17: 241 | G17: 113 | H17: 130 | I17: =H17-G17 -> 17 | J17: =IF(G17=0,"",(H17/G17)-1) -> 0.15044248
A18: Közterületi szolgálati létszám (fő) | B18: 8462 | C18: 9097 | D18: 8951 | E18: 9125 | F18: 9121 | G18: 12662 | H18: 12223 | I18: =H18-G18 -> -439 | J18: =IF(G18=0,"",(H18/G18)-1) -> -0.034670668
... A20: Egy főre jutó közterületi óraszám (óra/fő) | B20: 9.9 | C20: 9.3 | D20: 8.8 | E20: 7.1 | F20: 7.1 | G20: 8 | H20: 8.5 | I20: =H20-G20 -> 0.5 | J20: =IF(G20=0,"",(H20/G20)-1) -> 0.0625
A21: Tulajdon elleni szabálysértési ügyek száma | C21: 801 | D21: 939 | E21: 693 | F21: 759 | G21: 706 | H21: 718 | I21: =H21-G21 -> 12 | J21: =IF(G21=0,"",(H21/G21)-1) -> 0.016997167
A22: Tulajdon elleni szabálysértési ügyek felderítési mutatója (%) | C22: 24.11 | D22: 22.33 | E22: 25.18 | F22: 31.78 | G22: 36.78 | H22: 29.79 | I22: =H22-G22 -> -6.99 | J22: =IF(G22=0,"",(H22/G22)-1) -> -0.19004894
A24: Közúti közlekedési baleseti adatok
B26: 2010. év | C26: 2011. év | D26: 2012. év | E26: 2013. év | F26: 2014. év | G26: 2015. év | H26: 2016. év | I26: Változás 2015-2016. | J26: Dinamika 2015-2016. (%)
A27: Személysérüléses közúti közlekedési balesetek száma | B27: 179 | C27: 219 | D27: 175 | E27: 185 | F27: 191 | G27: 171 | H27: 192 | I27: =H27-G27 -> 21 | J27: =IF(G27=0,"",(H27/G27)-1) -> 0.12280702
A28: Halálos közúti közlekedési balesetek | B28: 4 | C28: 8 | D28: 5 | E28: 6 | F28: 9 | G28: 5 | H28: 6 | I28: =H28-G28 -> 1 | J28: =IF(G28=0,"",(H28/G28)-1) -> 0.2
A29: Súlyos sérüléses közúti közlekedési balesetek | B29: 57 | C29: 84 | D29: 69 | E29: 57 | F29: 54 | G29: 58 | H29: 62 | I29: =H29-G29 -> 4 | J29: =IF(G29=0,"",(H29/G29)-1) -> 0.068965517
A30: Könnyű sérüléses közúti közlekedési balesetek | B30: 118 | C30: 127 | D30: 101 | E30: 122 | F30: 128 | G30: 108 | H30: 124 | I30: =H30-G30 -> 16 | J30: =IF(G30=0,"",(H30/G30)-1) -> 0.14814815
A31: Személysérüléses közúti közlekedési baleset során meghalt, illetve megsérült személyek száma (fő) | B31: 236 | C31: 277 | D31: 227 | E31: 236 | F31: 265 | G31: 232 | H31: 242 | I31: =H31-G31 -> 10 | J31: =IF(G31=0,"",(H31/G31)-1) -> 0.043103448
A32: Meghalt személyek száma (fő) | B32: 4 | C32: 9 | D32: 5 | E32: 8 | F32: 10 | G32: 5 | H32: 6 | I32: =H32-G32 -> 1 | J32: =IF(G32=0,"",(H32/G32)-1) -> 0.2
A33: Súlyosan sérült személyek száma (fő) | B33: 61 | C33: 88 | D33: 77 | E33: 63 | F33: 68 | G33: 73 | H33: 66 | I33: =H33-G33 -> -7 | J33: =IF(G33=0,"",(H33/G33)-1) -> -0.095890411
A34: Könnyen sérült személyek száma (fő) | B34: 171 | C34: 180 | D34: 145 | E34: 165 | F34: 187 | G34: 154 | H34: 170 | I34: =H34-G34 -> 16 | J34: =IF(G34=0,"",(H34/G34)-1) -> 0.1038961
A35: Ittasan okozott közúti közlekedési balesetek száma | B35: 28 | C35: 25 | D35: 30 | E35: 26 | F35: 28 | G35: 18 | H35: 24 | I35: =H35-G35 -> 6 | J35: =IF(G35=0,"",(H35/G35)-1) -> 0.33333333
A38: Határrendészeti adatok (amennyiben a megye rendelkezik Schengen külső határszakasszal)
B40: 2010. év | C40: 2011. év | D40: 2012. év | E40: 2013. év | F40: 2014. év | G40: 2015. év | H40: 2016. év | I40: Változás 2015-2016. | J40: Dinamika 2015-2016. (%)
A41: Illegális migrációhoz kapcsolódó jogellenes cselekmények száma | I41: =H41-G41 -> 0 | J41: =IF(G41=0,"",(H41/G41)-1)
A42: Embercsempészés bűncselekmény | I42: =H42-G42 -> 0 | J42: =IF(G42=0,"",(H42/G42)-1)
A43: Közokirat-hamisítás bűncselekmény | I43: =H43-G43 -> 0 | J43: =IF(G43=0,"",(H43/G43)-1)
A44: Tiltott határátlépés és kísérlete szabálysértés | I44: =H44-G44 -> 0 | J44: =IF(G44=0,"",(H44/G44)-1)
A45: Túltartózkodás (Tiltott határátlépés és kísérlete szabálysértés belső határon be elfogás ki) | I45: =H45-G45 -> 0 | J45: =IF(G45=0,"",(H45/G45)-1)
A46: Külföldiek rendészetével kapcsolatos szabálysértés | I46: =H46-G46 -> 0 | J46: =IF(G46=0,"",(H46/G46)-1)
A47: Határzár tiltott átlépése bűncselekmény | I47: =H47-G47 -> 0 | J47: =IF(G47=0,"",(H47/G47)-1)
A48: Határzár megrongálása bűncselekmény be tiltott határátlépés | I48: =H48-G48 -> 0 | J48: =IF(G48=0,"",(H48/G48)-1)
A49: Határzár megrongálása bűncselekmény nincs tiltott határátlépés | I49: =H49-G49 -> 0 | J49: =IF(G49=0,"",(H49/G49)-1)
A50: Határzárral kapcsolatos építési munka akadályozása bűncselekmény | I50: =H50-G50 -> 0 | J50: =IF(G50=0,"",(H50/G50)-1)
A51: Körözések | I51: =H51-G51 -> 0 | J51: =IF(G51=0,"",(H51/G51)-1)
A52: SIS találatok | I52: =H52-G52 -> 0 | J52: =IF(G52=0,"",(H52/G52)-1)
... A55: Járműforgalmi statisztikai adatok | I55: =H55-G55 -> 0 | J55: =IF(G55=0,"",(H55/G55)-1)

Sheet diagram
A1: Elfogások száma | I1: Biztonsági intézkedések száma | Q1: Személysérüléses közúti közlekedési balesetek száma | Y1: Személysérüléses közúti közlekedési balesetek megoszlása | AG1: Illegális migrációhoz kapcsolódó jogellenes cselekmények száma | AO1: Embercsempészés bűncselekmények száma
A2: =adat!$A$1 -> 2010-2016. évek statisztikai kimutatása | I2: =adat!$A$1 -> 2010-2016. évek statisztikai kimutatása | Q2: =adat!$A$1 -> 2010-2016. évek statisztikai kimutatása | Y2: =adat!$A$1 -> 2010-2016. évek statisztikai kimutatása | AG2: =adat!$A$1 -> 2010-2016. évek statisztikai kimutatása | AO2: =adat!$A$1 -> 2010-2016. évek statisztikai kimutatása
A3: =adat!$A$2 -> Zalaegerszegi Rendőrkapitányság | I3: =adat!$A$2 -> Zalaegerszegi Rendőrkapitányság | Q3: =adat!$A$2 -> Zalaegerszegi Rendőrkapitányság | Y3: =adat!$A$2 -> Zalaegerszegi Rendőrkapitányság | AG3: =adat!$A$2 -> Zalaegerszegi Rendőrkapitányság | AO3: =adat!$A$2 -> Zalaegerszegi Rendőrkapitányság
A21: Előállítások száma | I21: Elrendelt és végrehajtott elővezetések száma | Q21: Halálos közúti közlekedési balesetek száma | Y21: Súlyos sérüléses közúti közlekedési balesetek száma | AG21: Közokirat-hamisítás bűncselekmények száma | AO21: Tiltott határátlépés és kísérlete szabálysértések száma
A22: =adat!$A$1 -> 2010-2016. évek statisztikai kimutatása | I22: =adat!$A$1 -> 2010-2016. évek statisztikai kimutatása | Q22: =adat!$A$1 -> 2010-2016. évek statisztikai kimutatása | Y22: =adat!$A$1 -> 2010-2016. évek statisztikai kimutatása | AG22: =adat!$A$1 -> 2010-2016. évek statisztikai kimutatása | AO22: =adat!$A$1 -> 2010-2016. évek statisztikai kimutatása
A23: =adat!$A$2 -> Zalaegerszegi Rendőrkapitányság | I23: =adat!$A$2 -> Zalaegerszegi Rendőrkapitányság | Q23: =adat!$A$2 -> Zalaegerszegi Rendőrkapitányság | Y23: =adat!$A$2 -> Zalaegerszegi Rendőrkapitányság | AG23: =adat!$A$2 -> Zalaegerszegi Rendőrkapitányság | AO23: =adat!$A$2 -> Zalaegerszegi Rendőrkapitányság
A40: Szabálysértési feljelentések és a kiszabott helyszíni bírságok száma | I40: Az egy főre jutó helyszíni bírságok összege (Ft) | Q40: Könnyű sérüléses közúti közlekedési balesetek száma | Y40: Balesetet szenvedett személyek száma (fő) | AG40: Túltartózkodás (tiltott határátlépés és kísérlete szabálysértés belső határon be elfogás ki) szabálysértések száma | AO40: Külföldiek rendészetével kapcsolatos szabálysértések száma
A41: =adat!$A$1 -> 2010-2016. évek statisztikai kimutatása | I41: =adat!$A$1 -> 2010-2016. évek statisztikai kimutatása | Q41: =adat!$A$1 -> 2010-2016. évek statisztikai kimutatása | Y41: =adat!$A$1 -> 2010-2016. évek statisztikai kimutatása | AG41: 2012-2016. évek statisztikai kimutatása | AO41: =adat!$A$1 -> 2010-2016. évek statisztikai kimutatása
A42: =adat!$A$2 -> Zalaegerszegi Rendőrkapitányság | I42: =adat!$A$2 -> Zalaegerszegi Rendőrkapitányság | Q42: =adat!$A$2 -> Zalaegerszegi Rendőrkapitányság | Y42: =adat!$A$2 -> Zalaegerszegi Rendőrkapitányság | AG42: =adat!$A$2 -> Zalaegerszegi Rendőrkapitányság | AO42: =adat!$A$2 -> Zalaegerszegi Rendőrkapitányság
A60: Büntető feljelentések száma | I60: Pozitív alkoholszonda alkalmazások száma | Q60: Balesetet szenvedett személyek megoszlása (fő) | Y60: Személysérüléses közúti közlekedési balesetekben meghalt személyek száma (fő) | AG60: Nemzeti körözések és SIS találatok | AO60: Menekültkérelmek száma
A61: =adat!$A$1 -> 2010-2016. évek statisztikai kimutatása | I61: =adat!$A$1 -> 2010-2016. évek statisztikai kimutatása | Q61: =adat!$A$1 -> 2010-2016. évek statisztikai kimutatása | Y61: =adat!$A$1 -> 2010-2016. évek statisztikai kimutatása | AG61: =adat!$A$1 -> 2010-2016. évek statisztikai kimutatása | AO61: =adat!$A$1 -> 2010-2016. évek statisztikai kimutatása
A62: =adat!$A$2 -> Zalaegerszegi Rendőrkapitányság | I62: =adat!$A$2 -> Zalaegerszegi Rendőrkapitányság | Q62: =adat!$A$2 -> Zalaegerszegi Rendőrkapitányság | Y62: =adat!$A$2 -> Zalaegerszegi Rendőrkapitányság | AG62: =adat!$A$2 -> Zalaegerszegi Rendőrkapitányság | AO62: =adat!$A$2 -> Zalaegerszegi Rendőrkapitányság
A79: Rendészeti állomány, közterületre vezényeltek száma (fő) | I79: Rendészeti állomány, közterületre vezényeltek óraszáma (óra) | Q79: Személysérüléses közúti közlekedési balesetekben súlyosan megsérült személyek száma (fő) | Y79: Személysérüléses közúti közlekedési balesetekben könnyen sérült személyek száma (fő) | AG79: Személyforgalmi statisztikai adatok | AO79: Járműforgalmi statisztikai adatok
A80: =adat!$A$1 -> 2010-2016. évek statisztikai kimutatása | I80: =adat!$A$1 -> 2010-2016. évek statisztikai kimutatása | Q80: =adat!$A$1 -> 2010-2016. évek statisztikai kimutatása | Y80: =adat!$A$1 -> 2010-2016. évek statisztikai kimutatása | AG80: =adat!$A$1 -> 2010-2016. évek statisztikai kimutatása | AO80: =adat!$A$1 -> 2010-2016. évek statisztikai kimutatása
A81: =adat!$A$2 -> Zalaegerszegi Rendőrkapitányság | I81: =adat!$A$2 -> Zalaegerszegi Rendőrkapitányság | Q81: =adat!$A$2 -> Zalaegerszegi Rendőrkapitányság | Y81: =adat!$A$2 -> Zalaegerszegi Rendőrkapitányság | AG81: =adat!$A$2 -> Zalaegerszegi Rendőrkapitányság | AO81: =adat!$A$2 -> Zalaegerszegi Rendőrkapitányság
A99: Tulajdon elleni szabálysértési ügyek száma | I99: Tulajdon elleni szabálysértési ügyek felderítési mutatója (%) | Q99: Ittasan okozott személysérüléses közúti közlekedési balesetek száma | AG99: Határzárral kapcsolatos események 2016. évben
A100: 2011-2016. évek statisztikai kimutatása | I100: 2011-2016. évek statisztikai kimutatása | Q100: =adat!$A$1 -> 2010-2016. évek statisztikai kimutatása | AG100: =adat!$A$2 -> Zalaegerszegi Rendőrkapitányság
A101: =adat!$A$2 -> Zalaegerszegi Rendőrkapitányság | I101: =adat!$A$2 -> Zalaegerszegi Rendőrkapitányság | Q101: =adat!$A$2 -> Zalaegerszegi Rendőrkapitányság
