Workbook

Sheet VKR_összesítő
A1: Gördülő fejlesztési terv a 2018 - 2032 időszakra
A2: FELÚJÍTÁSOK ÉS PÓTLÁSOK ÖSSZEFOGLALÓ TÁBLÁZATA
A3: A tervet benyújtó szervezet megnevezése: | K3: ZALAEGERSZEG | R3: ellátásért felelős / ellátásért felelősök képviselője / víziközmű-szolgáltató *
A4: Víziközmű-szolgáltató megnevezése: | K4: ÉSZAK ZALAI VÍZ- ÉS CSATORNAMŰ ZÁRTKÖRŰEN MŰKÖDŐ RÉSZVÉNYTÁRSASÁG
A5: Víziközmű-szolgáltatási ágazat megnevezése: | K5: SZENNYVÍZ ÁGAZAT
A6: Véleményeltérést megfogalmazó érintett fél megnevezése:
A7: Víziközmű-rendszer kódja: ** | K7: 21-32054-1-048-01-10 | R7: ZALAEGERSZEG-SZV
A8: V. szennyvízelvezetés
A9: Fontossági sorrend | B9: Felujítás és pótlás megnevezése | E9: Műszaki állapot felmérés, szükségességi indoklás | H9: Vízjogi létesítési/elvi engedély száma | I9: Az érintett ellátásért felelős(ök) megnevezése | J9: Tervezett nettó költség | K9: Forrás 2018 évre | L9: Megvalósítás időtartama | N9: Tervezett időtáv | O9: A beruházás ütemezése a tervezési időszak évei szerint
E10: Jelenlegi műszaki állapot | F10: Feladat szükségessége | G10: Megvalósítást követő várható műszaki állapot | J10: (eFt) | L10: Kezdés | M10: Befejezés | N10: (rövid / közép / hosszú) | O10: 1 | P10: 2 | Q10: 3 | R10: 4 | S10: 5 | T10: 6 | U10: 7 | V10: 8 | W10: 9 | X10: 10 | Y10: 11 | Z10: 12 | AA10: 13 | AB10: 14 | AC10: 15
B11: szakág | C11: Helyszín | D11: beruházás megnevezése
A12: 1 | B12: 0 | C12: 0 | D12: Rendkívüli helyzetből adódó azonnali feladatok (max. 15%) | E12: 0 | F12: A rendszer zavartalan üzemének biztosítása érdekében szükséges a beavatkozás | G12: 0 | H12: 0 | I12: Zalaegerszeg | J12: =SUM(O12:AC12) -> 621213 | K12: 0 | L12: 43101 | M12: 48579 | O12: =Zalaegerszeg!O12 -> 60156 | P12: =Zalaegerszeg!P12 -> 40075.5 | Q12: =Zalaegerszeg!Q12 -> 40075.5 | R12: =Zalaegerszeg!R12 -> 40075.5 | S12: =Zalaegerszeg!S12 -> 40075.5 | T12: =Zalaegerszeg!T12 -> 40075.5 | U12: =Zalaegerszeg!U12 -> 40075.5 | V12: =Zalaegerszeg!V12 -> 40075.5 | ... AC12: =Zalaegerszeg!AC12 -> 40075.5
A13: 1 | B13: 0 | C13: 0 | D13: Rendkívüli helyzetből adódó azonnali feladatok (max. 15%) | E13: 0 | F13: A rendszer zavartalan üzemének biztosítása érdekében szükséges a beavatkozás | G13: 0 | H13: 0 | I13: Alibánfa | J13: =SUM(O13:AC13) -> 7112.6 | K13: 0 | L13: 43101 | M13: 48579 | O13: =Alibánfa!O12 -> 323.3 | P13: =Alibánfa!P12 -> 484.95 | Q13: =Alibánfa!Q12 -> 484.95 | R13: =Alibánfa!R12 -> 484.95 | S13: =Alibánfa!S12 -> 484.95 | T13: =Alibánfa!T12 -> 484.95 | U13: =Alibánfa!U12 -> 484.95 | V13: =Alibánfa!V12 -> 484.95 | ... AC13: =Alibánfa!AC12 -> 484.95
A14: 1 | D14: Rendkívüli helyzetből adódó azonnali feladatok (max. 15%) | F14: A rendszer zavartalan üzemének biztosítása érdekében szükséges a beavatkozás | I14: Alsónemesapáti | J14: =SUM(O14:AC14) -> 4461.75 | L14: 43101 | M14: 48579 | O14: =Alsónemesapáti!O12 -> 297.45 | P14: =Alsónemesapáti!P12 -> 297.45 | Q14: =Alsónemesapáti!Q12 -> 297.45 | R14: =Alsónemesapáti!R12 -> 297.45 | S14: =Alsónemesapáti!S12 -> 297.45 | T14: =Alsónemesapáti!T12 -> 297.45 | U14: =Alsónemesapáti!U12 -> 297.45 | V14: =Alsónemesapáti!V12 -> 297.45 | ... AC14: =Alsónemesapáti!AC12 -> 297.45
A15: 1 | D15: Rendkívüli helyzetből adódó azonnali feladatok (max. 15%) | F15: A rendszer zavartalan üzemének biztosítása érdekében szükséges a beavatkozás | I15: Babosdöbréte | J15: 4889.25 | L15: 43101 | M15: 48579 | O15: =Babosdöbréte!O12 -> 325.95 | P15: =Babosdöbréte!P12 -> 325.95 | Q15: =Babosdöbréte!Q12 -> 325.95 | R15: =Babosdöbréte!R12 -> 325.95 | S15: =Babosdöbréte!S12 -> 325.95 | T15: =Babosdöbréte!T12 -> 325.95 | U15: =Babosdöbréte!U12 -> 325.95 | V15: =Babosdöbréte!V12 -> 325.95 | ... AC15: =Babosdöbréte!AC12 -> 325.95
A16: 1 | D16: Rendkívüli helyzetből adódó azonnali feladatok (max. 15%) | F16: A rendszer zavartalan üzemének biztosítása érdekében szükséges a beavatkozás | I16: Bagod | J16: 14580 | L16: 43101 | M16: 48579 | O16: =Bagod!O12 -> 972 | P16: =Bagod!P12 -> 972 | Q16: =Bagod!Q12 -> 972 | R16: =Bagod!R12 -> 972 | S16: =Bagod!S12 -> 972 | T16: =Bagod!T12 -> 972 | U16: =Bagod!U12 -> 972 | V16: =Bagod!V12 -> 972 | ... AC16: =Bagod!AC12 -> 972
A17: 1 | D17: Rendkívüli helyzetből adódó azonnali feladatok (max. 15%) | F17: A rendszer zavartalan üzemének biztosítása érdekében szükséges a beavatkozás | I17: Bak | J17: 10683 | L17: 43101 | M17: 48579 | O17: =Bak!O12 -> 712.2 | P17: =Bak!P12 -> 712.2 | Q17: =Bak!Q12 -> 712.2 | R17: =Bak!R12 -> 712.2 | S17: =Bak!S12 -> 712.2 | T17: =Bak!T12 -> 712.2 | U17: =Bak!U12 -> 712.2 | V17: =Bak!V12 -> 712.2 | ... AC17: =Bak!AC12 -> 712.2
A18: 1 | D18: Rendkívüli helyzetből adódó azonnali feladatok (max. 15%) | F18: A rendszer zavartalan üzemének biztosítása érdekében szükséges a beavatkozás | I18: Bocfölde | J18: 8372.25 | L18: 43101 | M18: 48579 | O18: =Bocfölde!O12 -> 502.1 | P18: =Bocfölde!P12 -> 753.15 | Q18: =Bocfölde!Q12 -> 753.15 | R18: =Bocfölde!R12 -> 753.15 | S18: =Bocfölde!S12 -> 753.15 | T18: =Bocfölde!T12 -> 753.15 | U18: =Bocfölde!U12 -> 753.15 | V18: =Bocfölde!V12 -> 753.15 | ... AC18: =Bocfölde!AC12 -> 753.15
A19: 1 | D19: Rendkívüli helyzetből adódó azonnali feladatok (max. 15%) | F19: A rendszer zavartalan üzemének biztosítása érdekében szükséges a beavatkozás | I19: Boncodfölde | J19: 2410.6 | L19: 43101 | M19: 48579 | O19: =Boncodfölde!O12 -> 676 | P19: =Boncodfölde!P12 -> 123.9 | Q19: =Boncodfölde!Q12 -> 123.9 | R19: =Boncodfölde!R12 -> 123.9 | S19: =Boncodfölde!S12 -> 123.9 | T19: =Boncodfölde!T12 -> 123.9 | U19: =Boncodfölde!U12 -> 123.9 | V19: =Boncodfölde!V12 -> 123.9 | ... AC19: =Boncodfölde!AC12 -> 123.9
A20: 1 | D20: Rendkívüli helyzetből adódó azonnali feladatok (max. 15%) | F20: A rendszer zavartalan üzemének biztosítása érdekében szükséges a beavatkozás | I20: Böde | J20: 2461.5 | L20: 43101 | M20: 48579 | O20: =Böde!O12 -> 164.1 | P20: =Böde!P12 -> 164.1 | Q20: =Böde!Q12 -> 164.1 | R20: =Böde!R12 -> 164.1 | S20: =Böde!S12 -> 164.1 | T20: =Böde!T12 -> 164.1 | U20: =Böde!U12 -> 164.1 | V20: =Böde!V12 -> 164.1 | ... AC20: =Böde!AC12 -> 164.1
A21: 1 | D21: Rendkívüli helyzetből adódó azonnali feladatok (max. 15%) | F21: A rendszer zavartalan üzemének biztosítása érdekében szükséges a beavatkozás | I21: Búcsúszentlászló | J21: 13761 | L21: 43101 | M21: 48579 | O21: =Búcsúszentlászló!O12 -> 917.4 | P21: =Búcsúszentlászló!P12 -> 917.4 | Q21: =Búcsúszentlászló!Q12 -> 917.4 | R21: =Búcsúszentlászló!R12 -> 917.4 | S21: =Búcsúszentlászló!S12 -> 917.4 | T21: =Búcsúszentlászló!T12 -> 917.4 | U21: =Búcsúszentlászló!U12 -> 917.4 | V21: =Búcsúszentlászló!V12 -> 917.4 | ... AC21: =Búcsúszentlászló!AC12 -> 917.4
A22: 1 | D22: Rendkívüli helyzetből adódó azonnali feladatok (max. 15%) | F22: A rendszer zavartalan üzemének biztosítása érdekében szükséges a beavatkozás | I22: Csatár | J22: 3235.5 | L22: 43101 | M22: 48579 | O22: =Csatár!O12 -> 215.7 | P22: =Csatár!P12 -> 215.7 | Q22: =Csatár!Q12 -> 215.7 | R22: =Csatár!R12 -> 215.7 | S22: =Csatár!S12 -> 215.7 | T22: =Csatár!T12 -> 215.7 | U22: =Csatár!U12 -> 215.7 | V22: =Csatár!V12 -> 215.7 | ... AC22: =Csatár!AC12 -> 215.7
A23: 1 | D23: Rendkívüli helyzetből adódó azonnali feladatok (max. 15%) | F23: A rendszer zavartalan üzemének biztosítása érdekében szükséges a beavatkozás | I23: Csonkahegyhát | J23: 3016.3 | L23: 43101 | M23: 48579 | O23: =Csonkahegyhát!O12 -> 973 | P23: =Csonkahegyhát!P12 -> 145.95 | Q23: =Csonkahegyhát!Q12 -> 145.95 | R23: =Csonkahegyhát!R12 -> 145.95 | S23: =Csonkahegyhát!S12 -> 145.95 | T23: =Csonkahegyhát!T12 -> 145.95 | U23: =Csonkahegyhát!U12 -> 145.95 | V23: =Csonkahegyhát!V12 -> 145.95 | ... AC23: =Csonkahegyhát!AC12 -> 145.95
A24: 1 | D24: Rendkívüli helyzetből adódó azonnali feladatok (max. 15%) | F24: A rendszer zavartalan üzemének biztosítása érdekében szükséges a beavatkozás | I24: Dobronhegy | J24: 6675 | L24: 43101 | M24: 48579 | O24: =Dobronhegy!O12 -> 445 | P24: =Dobronhegy!P12 -> 445 | Q24: =Dobronhegy!Q12 -> 445 | R24: =Dobronhegy!R12 -> 445 | S24: =Dobronhegy!S12 -> 445 | T24: =Dobronhegy!T12 -> 445 | U24: =Dobronhegy!U12 -> 445 | V24: =Dobronhegy!V12 -> 445 | ... AC24: =Dobronhegy!AC12 -> 445
A25: 1 | D25: Rendkívüli helyzetből adódó azonnali feladatok (max. 15%) | F25: A rendszer zavartalan üzemének biztosítása érdekében szükséges a beavatkozás | I25: Egervár | J25: 9339.75 | L25: 43101 | M25: 48579 | O25: =Egervár!O12 -> 622.65 | P25: =Egervár!P12 -> 622.65 | Q25: =Egervár!Q12 -> 622.65 | R25: =Egervár!R12 -> 622.65 | S25: =Egervár!S12 -> 622.65 | T25: =Egervár!T12 -> 622.65 | U25: =Egervár!U12 -> 622.65 | V25: =Egervár!V12 -> 622.65 | ... AC25: =Egervár!AC12 -> 622.65
A26: 1 | D26: Rendkívüli helyzetből adódó azonnali feladatok (max. 15%) | F26: A rendszer zavartalan üzemének biztosítása érdekében szükséges a beavatkozás | I26: Gősfa | J26: 2876 | L26: 43101 | M26: 48579 | O26: =Gősfa!O12 -> 860 | P26: =Gősfa!P12 -> 144 | Q26: =Gősfa!Q12 -> 144 | R26: =Gősfa!R12 -> 144 | S26: =Gősfa!S12 -> 144 | T26: =Gősfa!T12 -> 144 | U26: =Gősfa!U12 -> 144 | V26: =Gősfa!V12 -> 144 | ... AC26: =Gősfa!AC12 -> 144
A27: 1 | D27: Rendkívüli helyzetből adódó azonnali feladatok (max. 15%) | F27: A rendszer zavartalan üzemének biztosítása érdekében szükséges a beavatkozás | I27: Hagyárosbörönd | J27: 10489.5 | L27: 43101 | M27: 48579 | O27: =Hagyárosbörönd!O12 -> 699.3 | P27: =Hagyárosbörönd!P12 -> 699.3 | Q27: =Hagyárosbörönd!Q12 -> 699.3 | R27: =Hagyárosbörönd!R12 -> 699.3 | S27: =Hagyárosbörönd!S12 -> 699.3 | T27: =Hagyárosbörönd!T12 -> 699.3 | U27: =Hagyárosbörönd!U12 -> 699.3 | V27: =Hagyárosbörönd!V12 -> 699.3 | ... AC27: =Hagyárosbörönd!AC12 -> 699.3
A28: 1 | D28: Rendkívüli helyzetből adódó azonnali feladatok (max. 15%) | F28: A rendszer zavartalan üzemének biztosítása érdekében szükséges a beavatkozás | I28: Hottó | J28: 3422.25 | L28: 43101 | M28: 48579 | O28: =Hottó!O12 -> 228.15 | P28: =Hottó!P12 -> 228.15 | Q28: =Hottó!Q12 -> 228.15 | R28: =Hottó!R12 -> 228.15 | S28: =Hottó!S12 -> 228.15 | T28: =Hottó!T12 -> 228.15 | U28: =Hottó!U12 -> 228.15 | V28: =Hottó!V12 -> 228.15 | ... AC28: =Hottó!AC12 -> 228.15
A29: 1 | D29: Rendkívüli helyzetből adódó azonnali feladatok (max. 15%) | F29: A rendszer zavartalan üzemének biztosítása érdekében szükséges a beavatkozás | I29: Kávás | J29: 1636.8 | L29: 43101 | M29: 48579 | O29: =Kávás!O12 -> 528 | P29: =Kávás!P12 -> 79.2 | Q29: =Kávás!Q12 -> 79.2 | R29: =Kávás!R12 -> 79.2 | S29: =Kávás!S12 -> 79.2 | T29: =Kávás!T12 -> 79.2 | U29: =Kávás!U12 -> 79.2 | V29: =Kávás!V12 -> 79.2 | ... AC29: =Kávás!AC12 -> 79.2
A30: 1 | D30: Rendkívüli helyzetből adódó azonnali feladatok (max. 15%) | F30: A rendszer zavartalan üzemének biztosítása érdekében szükséges a beavatkozás | I30: Kemendollár | J30: 5730.75 | L30: 43101 | M30: 48579 | O30: =Kemendollár!O12 -> 382.2 | P30: =Kemendollár!P12 -> 382.2 | Q30: =Kemendollár!Q12 -> 382.2 | R30: =Kemendollár!R12 -> 382.2 | S30: =Kemendollár!S12 -> 382.2 | T30: =Kemendollár!T12 -> 382.2 | U30: =Kemendollár!U12 -> 382.2 | V30: =Kemendollár!V12 -> 382.2 | ... AC30: =Kemendollár!AC12 -> 382.2
A31: 1 | D31: Rendkívüli helyzetből adódó azonnali feladatok (max. 15%) | F31: A rendszer zavartalan üzemének biztosítása érdekében szükséges a beavatkozás | I31: Keménfa | J31: 1488 | L31: 43101 | M31: 48579 | O31: =Keménfa!O12 -> 480 | P31: =Keménfa!P12 -> 72 | Q31: =Keménfa!Q12 -> 72 | R31: =Keménfa!R12 -> 72 | S31: =Keménfa!S12 -> 72 | T31: =Keménfa!T12 -> 72 | U31: =Keménfa!U12 -> 72 | V31: =Keménfa!V12 -> 72 | ... AC31: =Keménfa!AC12 -> 72
A32: 1 | D32: Rendkívüli helyzetből adódó azonnali feladatok (max. 15%) | F32: A rendszer zavartalan üzemének biztosítása érdekében szükséges a beavatkozás | I32: Kisbucsa | J32: 3582 | L32: 43101 | M32: 48579 | O32: =Kisbucsa!O12 -> 238.8 | P32: =Kisbucsa!P12 -> 238.8 | Q32: =Kisbucsa!Q12 -> 238.8 | R32: =Kisbucsa!R12 -> 238.8 | S32: =Kisbucsa!S12 -> 238.8 | T32: =Kisbucsa!T12 -> 238.8 | U32: =Kisbucsa!U12 -> 238.8 | V32: =Kisbucsa!V12 -> 238.8 | ... AC32: =Kisbucsa!AC12 -> 238.8
A33: 1 | D33: Rendkívüli helyzetből adódó azonnali feladatok (max. 15%) | F33: A rendszer zavartalan üzemének biztosítása érdekében szükséges a beavatkozás | I33: Kiskutas | J33: 2269.2 | L33: 43101 | M33: 48579 | O33: =Kiskutas!O12 -> 732 | P33: =Kiskutas!P12 -> 109.8 | Q33: =Kiskutas!Q12 -> 109.8 | R33: =Kiskutas!R12 -> 109.8 | S33: =Kiskutas!S12 -> 109.8 | T33: =Kiskutas!T12 -> 109.8 | U33: =Kiskutas!U12 -> 109.8 | V33: =Kiskutas!V12 -> 109.8 | ... AC33: =Kiskutas!AC12 -> 109.8
A34: 1 | D34: Rendkívüli helyzetből adódó azonnali feladatok (max. 15%) | F34: A rendszer zavartalan üzemének biztosítása érdekében szükséges a beavatkozás | I34: Kispáli | J34: 3906 | L34: 43101 | M34: 48579 | O34: =Kispáli!O12 -> 260.4 | P34: =Kispáli!P12 -> 260.4 | Q34: =Kispáli!Q12 -> 260.4 | R34: =Kispáli!R12 -> 260.4 | S34: =Kispáli!S12 -> 260.4 | T34: =Kispáli!T12 -> 260.4 | U34: =Kispáli!U12 -> 260.4 | V34: =Kispáli!V12 -> 260.4 | ... AC34: =Kispáli!AC12 -> 260.4
A35: 1 | D35: Rendkívüli helyzetből adódó azonnali feladatok (max. 15%) | F35: A rendszer zavartalan üzemének biztosítása érdekében szükséges a beavatkozás | I35: Lakhegy | J35: 4029.75 | L35: 43101 | M35: 48579 | O35: =Lakhegy!O12 -> 268.65 | P35: =Lakhegy!P12 -> 268.65 | Q35: =Lakhegy!Q12 -> 268.65 | R35: =Lakhegy!R12 -> 268.65 | S35: =Lakhegy!S12 -> 268.65 | T35: =Lakhegy!T12 -> 268.65 | U35: =Lakhegy!U12 -> 268.65 | V35: =Lakhegy!V12 -> 268.65 | ... AC35: =Lakhegy!AC12 -> 268.65
A36: 1 | D36: Rendkívüli helyzetből adódó azonnali feladatok (max. 15%) | F36: A rendszer zavartalan üzemének biztosítása érdekében szükséges a beavatkozás | I36: Nagykutas | J36: 3228.75 | L36: 43101 | M36: 48579 | O36: =Nagykutas!O12 -> 90 | P36: =Nagykutas!P12 -> 215.25 | Q36: =Nagykutas!Q12 -> 215.25 | R36: =Nagykutas!R12 -> 215.25 | S36: =Nagykutas!S12 -> 215.25 | T36: =Nagykutas!T12 -> 215.25 | U36: =Nagykutas!U12 -> 215.25 | V36: =Nagykutas!V12 -> 215.25 | ... AC36: =Nagykutas!AC12 -> 215.25
A37: 1 | D37: Rendkívüli helyzetből adódó azonnali feladatok (max. 15%) | F37: A rendszer zavartalan üzemének biztosítása érdekében szükséges a beavatkozás | I37: Nagypáli | J37: 5832 | L37: 43101 | M37: 48579 | O37: =Nagypáli!O12 -> 388.8 | P37: =Nagypáli!P12 -> 388.8 | Q37: =Nagypáli!Q12 -> 388.8 | R37: =Nagypáli!R12 -> 388.8 | S37: =Nagypáli!S12 -> 388.8 | T37: =Nagypáli!T12 -> 388.8 | U37: =Nagypáli!U12 -> 388.8 | V37: =Nagypáli!V12 -> 388.8 | ... AC37: =Nagypáli!AC12 -> 388.8
A38: 1 | D38: Rendkívüli helyzetből adódó azonnali feladatok (max. 15%) | F38: A rendszer zavartalan üzemének biztosítása érdekében szükséges a beavatkozás | I38: Nemesapáti | J38: 3294 | L38: 43101 | M38: 48579 | O38: =Nemesapáti!O12 -> 219.6 | P38: =Nemesapáti!P12 -> 219.6 | Q38: =Nemesapáti!Q12 -> 219.6 | R38: =Nemesapáti!R12 -> 219.6 | S38: =Nemesapáti!S12 -> 219.6 | T38: =Nemesapáti!T12 -> 219.6 | U38: =Nemesapáti!U12 -> 219.6 | V38: =Nemesapáti!V12 -> 219.6 | ... AC38: =Nemesapáti!AC12 -> 219.6
A39: 1 | D39: Rendkívüli helyzetből adódó azonnali feladatok (max. 15%) | F39: A rendszer zavartalan üzemének biztosítása érdekében szükséges a beavatkozás | I39: Nemeshetés | J39: 2278.5 | L39: 43101 | M39: 48579 | O39: =Nemeshetés!O12 -> 735 | P39: =Nemeshetés!P12 -> 110.25 | Q39: =Nemeshetés!Q12 -> 110.25 | R39: =Nemeshetés!R12 -> 110.25 | S39: =Nemeshetés!S12 -> 110.25 | T39: =Nemeshetés!T12 -> 110.25 | U39: =Nemeshetés!U12 -> 110.25 | V39: =Nemeshetés!V12 -> 110.25 | ... AC39: =Nemeshetés!AC12 -> 110.25
A40: 1 | D40: Rendkívüli helyzetből adódó azonnali feladatok (max. 15%) | F40: A rendszer zavartalan üzemének biztosítása érdekében szükséges a beavatkozás | I40: Nemessándorháza | J40: 3161.25 | L40: 43101 | M40: 48579 | O40: =Nemesándorháza!O12 -> 210.75 | P40: =Nemesándorháza!P12 -> 210.75 | Q40: =Nemesándorháza!Q12 -> 210.75 | R40: =Nemesándorháza!R12 -> 210.75 | S40: =Nemesándorháza!S12 -> 210.75 | T40: =Nemesándorháza!T12 -> 210.75 | U40: =Nemesándorháza!U12 -> 210.75 | V40: =Nemesándorháza!V12 -> 210.75 | ... AC40: =Nemesándorháza!AC12 -> 210.75
...

Sheet Zalaegerszeg
A1: Gördülő fejlesztési terv a 2018 - 2032 időszakra
A2: FELÚJÍTÁSOK ÉS PÓTLÁSOK ÖSSZEFOGLALÓ TÁBLÁZATA
A3: A tervet benyújtó szervezet megnevezése: | K3: ZALAEGERSZEG | R3: ellátásért felelős / ellátásért felelősök képviselője / víziközmű-szolgáltató *
A4: Víziközmű-szolgáltató megnevezése: | K4: ÉSZAK ZALAI VÍZ- ÉS CSATORNAMŰ ZÁRTKÖRŰEN MŰKÖDŐ RÉSZVÉNYTÁRSASÁG
A5: Víziközmű-szolgáltatási ágazat megnevezése: | K5: SZENNYVÍZ ÁGAZAT
A6: Véleményeltérést megfogalmazó érintett fél megnevezése:
A7: Víziközmű-rendszer kódja: ** | K7: 21-32054-1-048-01-10 | R7: ZALAEGERSZEG-SZV
A8: V. szennyvízelvezetés
A9: Fontossági sorrend | B9: Felujítás és pótlás megnevezése | E9: Műszaki állapot felmérés, szükségességi indoklás | H9: Vízjogi létesítési/elvi engedély száma | I9: Az érintett ellátásért felelős(ök) megnevezése | J9: Tervezett nettó költség | K9: Forrás 2018 évre | L9: Megvalósítás időtartama | N9: Tervezett időtáv | O9: A beruházás ütemezése a tervezési időszak évei szerint
E10: Jelenlegi műszaki állapot | F10: Feladat szükségessége | G10: Megvalósítást követő várható műszaki állapot | J10: (eFt) | L10: Kezdés | M10: Befejezés | N10: (rövid / közép / hosszú) | O10: 1 | P10: 2 | Q10: 3 | R10: 4 | S10: 5 | T10: 6 | U10: 7 | V10: 8 | W10: 9 | X10: 10 | Y10: 11 | Z10: 12 | AA10: 13 | AB10: 14 | AC10: 15
B11: szakág | C11: Helyszín | D11: beruházás megnevezése
A12: 1 | D12: Rendkívüli helyzetből adódó azonnali feladatok (max. 15%) | F12: A rendszer zavartalan üzemének biztosítása érdekében szükséges a beavatkozás | I12: Zalaegerszeg | J12: =SUM(O12:AC12) -> 621213 | L12: 43101 | M12: 48579 | O12: 60156 | P12: =$C$166*0.15 -> 40075.5 | Q12: =$C$166*0.15 -> 40075.5 | R12: =$C$166*0.15 -> 40075.5 | S12: =$C$166*0.15 -> 40075.5 | T12: =$C$166*0.15 -> 40075.5 | U12: =$C$166*0.15 -> 40075.5 | V12: =$C$166*0.15 -> 40075.5 | W12: =$C$166*0.15 -> 40075.5 | ... AC12: =$C$166*0.15 -> 40075.5
B13: SZENNYVÍZCSATORNA (GRAVITÁCIÓS)
B14: Épület, építmény
A15: 2 | C15: Zalaegerszeg, Berzsenyi út 11-13. | D15: szennyvíz rekonstrukció (2016 évi forrás) | E15: Az üzemelő viziközmű technológiailag elavult, üzemeltetése, és javítása már nem gazdaságos. Jelenleg a piacon magasabb műszaki tartalmak érhetőek el | F15: A viziközmű rendszer hatékonyságának növelése, az üzemeltetési költségek szinten tartása miatt szükséges | G15: A beavatkozás után egy hatékonyan működő viziközmű elemet kapunk, mely a kor elvárásainak megfelel. A rendszer üzembiztos, hatékony, és korszerű lesz | I15: Zalaegerszeg | J15: =SUM(O15:AC15) -> 16867 | L15: 43101 | M15: 43465 | N15: rövid | O15: 16867
A16: 3 | C16: Zalaegerszeg, Arany János utca | D16: szennyvíz rekonstrukció | E16: Az üzemelő viziközmű technológiailag elavult, üzemeltetése, és javítása már nem gazdaságos. Jelenleg a piacon magasabb műszaki tartalmak érhetőek el | F16: A viziközmű rendszer hatékonyságának növelése, az üzemeltetési költségek szinten tartása miatt szükséges | G16: A beavatkozás után egy hatékonyan működő viziközmű elemet kapunk, mely a kor elvárásainak megfelel. A rendszer üzembiztos, hatékony, és korszerű lesz | I16: Zalaegerszeg | J16: =SUM(O16:AC16) -> 188000 | L16: 43101 | M16: 43465 | N16: rövid | O16: 188000
A17: 14 | C17: Zalaegerszeg , Mókus utca | D17: szennyvíz vezeték kiváltás | E17: Az üzemelő viziközmű technológiailag elavult, üzemeltetése, és javítása már nem gazdaságos. Jelenleg a piacon magasabb műszaki tartalmak érhetőek el | F17: A viziközmű rendszer hatékonyságának növelése, az üzemeltetési költségek szinten tartása miatt szükséges | G17: A beavatkozás után egy hatékonyan működő viziközmű elemet kapunk, mely a kor elvárásainak megfelel. A rendszer üzembiztos, hatékony, és korszerű lesz | I17: Zalaegerszeg | J17: =SUM(O17:AC17) -> 23000 | L17: 43101 | M17: 43465 | N17: rövid | O17: 23000
A18: 15 | C18: Zalaegerszeg , Hegyalja utca tömbbeblsők | D18: szennyvíz vezeték kiváltás | E18: Az üzemelő viziközmű technológiailag elavult, üzemeltetése, és javítása már nem gazdaságos. Jelenleg a piacon magasabb műszaki tartalmak érhetőek el | F18: A viziközmű rendszer hatékonyságának növelése, az üzemeltetési költségek szinten tartása miatt szükséges | G18: A beavatkozás után egy hatékonyan működő viziközmű elemet kapunk, mely a kor elvárásainak megfelel. A rendszer üzembiztos, hatékony, és korszerű lesz | I18: Zalaegerszeg | J18: =SUM(O18:AC18) -> 29000 | L18: 43101 | M18: 43465 | N18: rövid | O18: 29000
A19: 16 | C19: Zalaegerszeg Kosztolányi út | D19: szennyvíz vezeték kiváltás | E19: Az üzemelő viziközmű technológiailag elavult, üzemeltetése, és javítása már nem gazdaságos. Jelenleg a piacon magasabb műszaki tartalmak érhetőek el | F19: A viziközmű rendszer hatékonyságának növelése, az üzemeltetési költségek szinten tartása miatt szükséges | G19: A beavatkozás után egy hatékonyan működő viziközmű elemet kapunk, mely a kor elvárásainak megfelel. A rendszer üzembiztos, hatékony, és korszerű lesz | I19: Zalaegerszeg | J19: =SUM(O19:AC19) -> 10000 | L19: 43101 | M19: 43465 | N19: rövid | O19: 10000
A20: 17 | C20: Zalaegerszeg Takarék köz III. ütem | D20: szennyvíz vezeték kiváltás | E20: Az üzemelő viziközmű technológiailag elavult, üzemeltetése, és javítása már nem gazdaságos. Jelenleg a piacon magasabb műszaki tartalmak érhetőek el | F20: A viziközmű rendszer hatékonyságának növelése, az üzemeltetési költségek szinten tartása miatt szükséges | G20: A beavatkozás után egy hatékonyan működő viziközmű elemet kapunk, mely a kor elvárásainak megfelel. A rendszer üzembiztos, hatékony, és korszerű lesz | I20: Zalaegerszeg | J20: =SUM(O20:AC20) -> 10000 | L20: 43101 | M20: 43465 | N20: rövid | O20: 10000
A21: 18 | C21: Zalaegerszeg Fenyves-köz | D21: szennyvíz vezeték kiváltás | E21: Az üzemelő viziközmű technológiailag elavult, üzemeltetése, és javítása már nem gazdaságos. Jelenleg a piacon magasabb műszaki tartalmak érhetőek el | F21: A viziközmű rendszer hatékonyságának növelése, az üzemeltetési költségek szinten tartása miatt szükséges | G21: A beavatkozás után egy hatékonyan működő viziközmű elemet kapunk, mely a kor elvárásainak megfelel. A rendszer üzembiztos, hatékony, és korszerű lesz | I21: Zalaegerszeg | J21: =SUM(O21:AC21) -> 12000 | L21: 43101 | M21: 43465 | N21: rövid | O21: 12000
A22: 19 | C22: Zalaegerszeg | D22: szennyvízvezeték rekonstrukcióhoz köthető tervezési feladatok | E22: Az üzemelő viziközmű technológiailag elavult, üzemeltetése, és javítása már nem gazdaságos. Jelenleg a piacon magasabb műszaki tartalmak érhetőek el | F22: A viziközmű rendszer hatékonyságának növelése, az üzemeltetési költségek szinten tartása miatt szükséges | G22: A beavatkozás után egy hatékonyan működő viziközmű elemet kapunk, mely a kor elvárásainak megfelel. A rendszer üzembiztos, hatékony, és korszerű lesz | I22: Zalaegerszeg | J22: =SUM(O22:AC22) -> 6700 | L22: 43101 | M22: 43465 | N22: rövid | O22: 6700
A23: 38 | C23: Zalaegerszeg | D23: szennyvízakna cserék | E23: Az üzemelő viziközmű technológiailag elavult, üzemeltetése, és javítása már nem gazdaságos. Jelenleg a piacon magasabb műszaki tartalmak érhetőek el | F23: A viziközmű rendszer hatékonyságának növelése, az üzemeltetési költségek szinten tartása miatt szükséges | G23: A beavatkozás után egy hatékonyan működő viziközmű elemet kapunk, mely a kor elvárásainak megfelel. A rendszer üzembiztos, hatékony, és korszerű lesz | I23: Zalaegerszeg | J23: =SUM(O23:AC23) -> 15000 | L23: 43101 | M23: 43465 | N23: rövid | O23: 15000
A24: 328 | C24: Zalaegerszeg | D24: Gravitációs csatorna NA 150 rekonstrukció | E24: Az üzemelő viziközmű technológiailag elavult, üzemeltetése, és javítása már nem gazdaságos. Jelenleg a piacon magasabb műszaki tartalmak érhetőek el | F24: A viziközmű rendszer hatékonyságának növelése, az üzemeltetési költségek szinten tartása miatt szükséges | G24: A beavatkozás után egy hatékonyan működő viziközmű elemet kapunk, mely a kor elvárásainak megfelel. A rendszer üzembiztos, hatékony, és korszerű lesz | I24: Zalaegerszeg | J24: =SUM(O24:AC24) -> 40620 | L24: 43831 | M24: 44926 | N24: közép | Q24: 20310 | S24: 20310
A25: 709 | C25: Zalaegerszeg | D25: Gravitációs csatorna NA 150 rekonstrukció | E25: Az üzemelő viziközmű technológiailag elavult, üzemeltetése, és javítása már nem gazdaságos. Jelenleg a piacon magasabb műszaki tartalmak érhetőek el | F25: A viziközmű rendszer hatékonyságának növelése, az üzemeltetési költségek szinten tartása miatt szükséges | G25: A beavatkozás után egy hatékonyan működő viziközmű elemet kapunk, mely a kor elvárásainak megfelel. A rendszer üzembiztos, hatékony, és korszerű lesz | I25: Zalaegerszeg | J25: =SUM(O25:AC25) -> 101550 | L25: 45292 | M25: 48579 | N25: hosszú | U25: 20310 | W25: 20310 | Y25: 20310 | AA25: 20310 | AC25: 20310
A26: 329 | C26: Zalaegerszeg | D26: Gravitációs csatorna NA 200 rekonstrukció | E26: Az üzemelő viziközmű technológiailag elavult, üzemeltetése, és javítása már nem gazdaságos. Jelenleg a piacon magasabb műszaki tartalmak érhetőek el | F26: A viziközmű rendszer hatékonyságának növelése, az üzemeltetési költségek szinten tartása miatt szükséges | G26: A beavatkozás után egy hatékonyan működő viziközmű elemet kapunk, mely a kor elvárásainak megfelel. A rendszer üzembiztos, hatékony, és korszerű lesz | I26: Zalaegerszeg | J26: =SUM(O26:AC26) -> 472000 | L26: 43831 | M26: 44926 | N26: közép | Q26: 236000 | S26: 236000
A27: 710 | C27: Zalaegerszeg | D27: Gravitációs csatorna NA 200 rekonstrukció | E27: Az üzemelő viziközmű technológiailag elavult, üzemeltetése, és javítása már nem gazdaságos. Jelenleg a piacon magasabb műszaki tartalmak érhetőek el | F27: A viziközmű rendszer hatékonyságának növelése, az üzemeltetési költségek szinten tartása miatt szükséges | G27: A beavatkozás után egy hatékonyan működő viziközmű elemet kapunk, mely a kor elvárásainak megfelel. A rendszer üzembiztos, hatékony, és korszerű lesz | I27: Zalaegerszeg | J27: =SUM(O27:AC27) -> 1180000 | L27: 45292 | M27: 48579 | N27: hosszú | U27: 236000 | W27: 236000 | Y27: 236000 | AA27: 236000 | AC27: 236000
A28: 960 | C28: Zalaegerszeg | D28: Gravitációs csatorna NA 250 rekonstrukció | E28: Az üzemelő viziközmű technológiailag elavult, üzemeltetése, és javítása már nem gazdaságos. Jelenleg a piacon magasabb műszaki tartalmak érhetőek el | F28: A viziközmű rendszer hatékonyságának növelése, az üzemeltetési költségek szinten tartása miatt szükséges | G28: A beavatkozás után egy hatékonyan működő viziközmű elemet kapunk, mely a kor elvárásainak megfelel. A rendszer üzembiztos, hatékony, és korszerű lesz | I28: Zalaegerszeg | J28: =SUM(O28:AC28) -> 2200 | L28: 47484 | M28: 47848 | N28: hosszú | AA28: 2200
A29: 330 | C29: Zalaegerszeg | D29: Gravitációs csatorna NA 300 rekonstrukció | E29: Az üzemelő viziközmű technológiailag elavult, üzemeltetése, és javítása már nem gazdaságos. Jelenleg a piacon magasabb műszaki tartalmak érhetőek el | F29: A viziközmű rendszer hatékonyságának növelése, az üzemeltetési költségek szinten tartása miatt szükséges | G29: A beavatkozás után egy hatékonyan működő viziközmű elemet kapunk, mely a kor elvárásainak megfelel. A rendszer üzembiztos, hatékony, és korszerű lesz | I29: Zalaegerszeg | J29: =SUM(O29:AC29) -> 22400 | L29: 43831 | M29: 44926 | N29: közép | Q29: 11200 | S29: 11200
A30: 711 | C30: Zalaegerszeg | D30: Gravitációs csatorna NA 300 rekonstrukció | E30: Az üzemelő viziközmű technológiailag elavult, üzemeltetése, és javítása már nem gazdaságos. Jelenleg a piacon magasabb műszaki tartalmak érhetőek el | F30: A viziközmű rendszer hatékonyságának növelése, az üzemeltetési költségek szinten tartása miatt szükséges | G30: A beavatkozás után egy hatékonyan működő viziközmű elemet kapunk, mely a kor elvárásainak megfelel. A rendszer üzembiztos, hatékony, és korszerű lesz | I30: Zalaegerszeg | J30: =SUM(O30:AC30) -> 56000 | L30: 45292 | M30: 48579 | N30: hosszú | U30: 11200 | W30: 11200 | Y30: 11200 | AA30: 11200 | AC30: 11200
A31: 331 | C31: Zalaegerszeg | D31: Gravitációs csatorna NA 400 rekonstrukció | E31: Az üzemelő viziközmű technológiailag elavult, üzemeltetése, és javítása már nem gazdaságos. Jelenleg a piacon magasabb műszaki tartalmak érhetőek el | F31: A viziközmű rendszer hatékonyságának növelése, az üzemeltetési költségek szinten tartása miatt szükséges | G31: A beavatkozás után egy hatékonyan működő viziközmű elemet kapunk, mely a kor elvárásainak megfelel. A rendszer üzembiztos, hatékony, és korszerű lesz | I31: Zalaegerszeg | J31: =SUM(O31:AC31) -> 8400 | L31: 43831 | M31: 44926 | N31: közép | Q31: 4200 | S31: 4200
A32: 712 | C32: Zalaegerszeg | D32: Gravitációs csatorna NA 400 rekonstrukció | E32: Az üzemelő viziközmű technológiailag elavult, üzemeltetése, és javítása már nem gazdaságos. Jelenleg a piacon magasabb műszaki tartalmak érhetőek el | F32: A viziközmű rendszer hatékonyságának növelése, az üzemeltetési költségek szinten tartása miatt szükséges | G32: A beavatkozás után egy hatékonyan működő viziközmű elemet kapunk, mely a kor elvárásainak megfelel. A rendszer üzembiztos, hatékony, és korszerű lesz | I32: Zalaegerszeg | J32: =SUM(O32:AC32) -> 21000 | L32: 45292 | M32: 48579 | N32: hosszú | U32: 4200 | W32: 4200 | Y32: 4200 | AA32: 4200 | AC32: 4200
A33: 332 | C33: Zalaegerszeg | D33: Gravitációs csatorna NA 500 rekonstrukció | E33: Az üzemelő viziközmű technológiailag elavult, üzemeltetése, és javítása már nem gazdaságos. Jelenleg a piacon magasabb műszaki tartalmak érhetőek el | F33: A viziközmű rendszer hatékonyságának növelése, az üzemeltetési költségek szinten tartása miatt szükséges | G33: A beavatkozás után egy hatékonyan működő viziközmű elemet kapunk, mely a kor elvárásainak megfelel. A rendszer üzembiztos, hatékony, és korszerű lesz | I33: Zalaegerszeg | J33: =SUM(O33:AC33) -> 8800 | L33: 43831 | M33: 44926 | N33: közép | Q33: 4400 | S33: 4400
A34: 713 | C34: Zalaegerszeg | D34: Gravitációs csatorna NA 500 rekonstrukció | E34: Az üzemelő viziközmű technológiailag elavult, üzemeltetése, és javítása már nem gazdaságos. Jelenleg a piacon magasabb műszaki tartalmak érhetőek el | F34: A viziközmű rendszer hatékonyságának növelése, az üzemeltetési költségek szinten tartása miatt szükséges | G34: A beavatkozás után egy hatékonyan működő viziközmű elemet kapunk, mely a kor elvárásainak megfelel. A rendszer üzembiztos, hatékony, és korszerű lesz | I34: Zalaegerszeg | J34: =SUM(O34:AC34) -> 22000 | L34: 45292 | M34: 48579 | N34: hosszú | U34: 4400 | W34: 4400 | Y34: 4400 | AA34: 4400 | AC34: 4400
A35: 333 | C35: Zalaegerszeg | D35: Gravitációs csatorna NA 600 rekonstrukció | E35: Az üzemelő viziközmű technológiailag elavult, üzemeltetése, és javítása már nem gazdaságos. Jelenleg a piacon magasabb műszaki tartalmak érhetőek el | F35: A viziközmű rendszer hatékonyságának növelése, az üzemeltetési költségek szinten tartása miatt szükséges | G35: A beavatkozás után egy hatékonyan működő viziközmű elemet kapunk, mely a kor elvárásainak megfelel. A rendszer üzembiztos, hatékony, és korszerű lesz | I35: Zalaegerszeg | J35: =SUM(O35:AC35) -> 4600 | L35: 43831 | M35: 44926 | N35: közép | Q35: 2300 | S35: 2300
A36: 714 | C36: Zalaegerszeg | D36: Gravitációs csatorna NA 600 rekonstrukció | E36: Az üzemelő viziközmű technológiailag elavult, üzemeltetése, és javítása már nem gazdaságos. Jelenleg a piacon magasabb műszaki tartalmak érhetőek el | F36: A viziközmű rendszer hatékonyságának növelése, az üzemeltetési költségek szinten tartása miatt szükséges | G36: A beavatkozás után egy hatékonyan működő viziközmű elemet kapunk, mely a kor elvárásainak megfelel. A rendszer üzembiztos, hatékony, és korszerű lesz | I36: Zalaegerszeg | J36: =SUM(O36:AC36) -> 11500 | L36: 45292 | M36: 48579 | N36: hosszú | U36: 2300 | W36: 2300 | Y36: 2300 | AA36: 2300 | AC36: 2300
A37: 103 | C37: Zalaegerszeg | D37: Gravitációs csatorna NA 800 rekonstrukció | E37: Az üzemelő viziközmű technológiailag elavult, üzemeltetése, és javítása már nem gazdaságos. Jelenleg a piacon magasabb műszaki tartalmak érhetőek el | F37: A viziközmű rendszer hatékonyságának növelése, az üzemeltetési költségek szinten tartása miatt szükséges | G37: A beavatkozás után egy hatékonyan működő viziközmű elemet kapunk, mely a kor elvárásainak megfelel. A rendszer üzembiztos, hatékony, és korszerű lesz | I37: Zalaegerszeg | J37: =SUM(O37:AC37) -> 5200 | L37: 43466 | M37: 44561 | N37: közép | P37: 2600 | R37: 2600
A38: 517 | C38: Zalaegerszeg | D38: Gravitációs csatorna NA 800 rekonstrukció | E38: Az üzemelő viziközmű technológiailag elavult, üzemeltetése, és javítása már nem gazdaságos. Jelenleg a piacon magasabb műszaki tartalmak érhetőek el | F38: A viziközmű rendszer hatékonyságának növelése, az üzemeltetési költségek szinten tartása miatt szükséges | G38: A beavatkozás után egy hatékonyan működő viziközmű elemet kapunk, mely a kor elvárásainak megfelel. A rendszer üzembiztos, hatékony, és korszerű lesz | I38: Zalaegerszeg | J38: =SUM(O38:AC38) -> 13000 | L38: 44927 | M38: 48213 | N38: hosszú | T38: 2600 | V38: 2600 | X38: 2600 | Z38: 2600 | AB38: 2600
B39: SZENNYVÍZVEZETÉKEK (KÉNYSZERÁRAMOLTATÁSÚ)
A40: 334 | C40: Zalaegerszeg | D40: Nyomott vezeték NA 50 rekonstrukció | E40: Az üzemelő viziközmű technológiailag elavult, üzemeltetése, és javítása már nem gazdaságos. Jelenleg a piacon magasabb műszaki tartalmak érhetőek el | F40: A kiépített rendszer működőképességének megóvása, a biztonságos üzemelés biztosítása miatt van szükség a munka elvégzésére | G40: A viziközmű elem állapota megközelíti az új elem berendezés állapotát. Az üzembiztonság jelentősen növekszik | I40: Zalaegerszeg | J40: =SUM(O40:AC40) -> 12000 | L40: 43831 | M40: 44926 | N40: közép | Q40: 6000 | S40: 6000
...

Sheet Alibánfa
A1: Gördülő fejlesztési terv a 2018 - 2032 időszakra
A2: FELÚJÍTÁSOK ÉS PÓTLÁSOK ÖSSZEFOGLALÓ TÁBLÁZATA
A3: A tervet benyújtó szervezet megnevezése: | K3: ALIBÁNFA | R3: ellátásért felelős / ellátásért felelősök képviselője / víziközmű-szolgáltató *
A4: Víziközmű-szolgáltató megnevezése: | K4: ÉSZAK ZALAI VÍZ- ÉS CSATORNAMŰ ZÁRTKÖRŰEN MŰKÖDŐ RÉSZVÉNYTÁRSASÁG
A5: Víziközmű-szolgáltatási ágazat megnevezése: | K5: SZENNYVÍZ ÁGAZAT
A6: Véleményeltérést megfogalmazó érintett fél megnevezése:
A7: Víziközmű-rendszer kódja: ** | K7: 21-32054-1-048-01-10 | R7: ZALAEGERSZEG-SZV
A8: V. Szennyvízelvezetés
A9: Fontossági sorrend | B9: Felujítás és pótlás megnevezése | E9: Műszaki állapot felmérés, szükségességi indoklás | H9: Vízjogi létesítési/elvi engedély száma | I9: Az érintett ellátásért felelős(ök) megnevezése | J9: Tervezett nettó költség | K9: Forrás 2018 évre | L9: Megvalósítás időtartama | N9: Tervezett időtáv | O9: A beruházás ütemezése a tervezési időszak évei szerint
E10: Jelenlegi műszaki állapot | F10: Feladat szükségessége | G10: Megvalósítást követő várható műszaki állapot | J10: (eFt) | L10: Kezdés | M10: Befejezés | N10: (rövid / közép / hosszú) | O10: 1 | P10: 2 | Q10: 3 | R10: 4 | S10: 5 | T10: 6 | U10: 7 | V10: 8 | W10: 9 | X10: 10 | Y10: 11 | Z10: 12 | AA10: 13 | AB10: 14 | AC10: 15
B11: szakág | C11: Helyszín | D11: beruházás megnevezése
A12: 1 | D12: Rendkívüli helyzetből adódó azonnali feladatok (max. 15%) | F12: A rendszer zavartalan üzemének biztosítása érdekében szükséges a beavatkozás | I12: Alibánfa | J12: =SUM(O12:AC12) -> 7112.6 | L12: 43101 | M12: 48579 | O12: =$K$40*0.1 -> 323.3 | P12: =$K$40*0.15 -> 484.95 | Q12: =$K$40*0.15 -> 484.95 | R12: =$K$40*0.15 -> 484.95 | S12: =$K$40*0.15 -> 484.95 | T12: =$K$40*0.15 -> 484.95 | U12: =$K$40*0.15 -> 484.95 | V12: =$K$40*0.15 -> 484.95 | W12: =$K$40*0.15 -> 484.95 | ... AC12: =$K$40*0.15 -> 484.95
B13: SZENNYVÍZCSATORNA (GRAVITÁCIÓS)
B14: Épület, építmény
A15: 106 | C15: Alibánfa | D15: Idegenvíz kizárása a csatornadiagnosztikai vizsgálat és a helyszíni ellenőrzés alapján¹ | E15: Az üzemelő viziközmű technológiailag elavult, üzemeltetése, és javítása már nem gazdaságos. Jelenleg a piacon magasabb műszaki tartalmak érhetőek el | F15: A viziközmű rendszer hatékonyságának növelése, az üzemeltetési költségek szinten tartása miatt szükséges | G15: A beavatkozás után egy hatékonyan működő viziközmű elemet kapunk, mely a kor elvárásainak megfelel. A rendszer üzembiztos, hatékony, és korszerű lesz | I15: Alibánfa | J15: =SUM(O15:AC15) -> 2000 | L15: 43466 | M15: 44926 | N15: közép | P15: 500 | Q15: 500 | R15: 500 | S15: 500
A16: 529 | C16: Alibánfa | D16: Idegenvíz kizárása a csatornadiagnosztikai vizsgálat és a helyszíni ellenőrzés alapján¹ | E16: Az üzemelő viziközmű technológiailag elavult, üzemeltetése, és javítása már nem gazdaságos. Jelenleg a piacon magasabb műszaki tartalmak érhetőek el | F16: A viziközmű rendszer hatékonyságának növelése, az üzemeltetési költségek szinten tartása miatt szükséges | G16: A beavatkozás után egy hatékonyan működő viziközmű elemet kapunk, mely a kor elvárásainak megfelel. A rendszer üzembiztos, hatékony, és korszerű lesz | I16: Alibánfa | J16: =SUM(O16:AC16) -> 2900 | L16: 44927 | M16: 48579 | N16: hosszú | T16: 500 | U16: 500 | V16: 500 | W16: 200 | X16: 200 | Y16: 200 | Z16: 200 | AA16: 200 | AB16: 200 | AC16: 200
A17: 107 | C17: Alibánfa | D17: Gravitációs csatorna NA 150 rekonstrukció | E17: Az üzemelő viziközmű technológiailag elavult, üzemeltetése, és javítása már nem gazdaságos. Jelenleg a piacon magasabb műszaki tartalmak érhetőek el | F17: A viziközmű rendszer hatékonyságának növelése, az üzemeltetési költségek szinten tartása miatt szükséges | G17: A beavatkozás után egy hatékonyan működő viziközmű elemet kapunk, mely a kor elvárásainak megfelel. A rendszer üzembiztos, hatékony, és korszerű lesz | I17: Alibánfa | J17: =SUM(O17:AC17) -> 2000 | L17: 43466 | M17: 43830 | N17: közép | P17: 2000
A18: 530 | C18: Alibánfa | D18: Gravitációs csatorna NA 150 rekonstrukció | E18: Az üzemelő viziközmű technológiailag elavult, üzemeltetése, és javítása már nem gazdaságos. Jelenleg a piacon magasabb műszaki tartalmak érhetőek el | F18: A viziközmű rendszer hatékonyságának növelése, az üzemeltetési költségek szinten tartása miatt szükséges | G18: A beavatkozás után egy hatékonyan működő viziközmű elemet kapunk, mely a kor elvárásainak megfelel. A rendszer üzembiztos, hatékony, és korszerű lesz | I18: Alibánfa | J18: =SUM(O18:AC18) -> 6000 | L18: 44927 | M18: 48213 | N18: hosszú | T18: 2000 | X18: 2000 | AB18: 2000
A19: 352 | C19: Alibánfa | D19: Gravitációs csatorna NA200 rekonstrukció | E19: Az üzemelő viziközmű technológiailag elavult, üzemeltetése, és javítása már nem gazdaságos. Jelenleg a piacon magasabb műszaki tartalmak érhetőek el | F19: A viziközmű rendszer hatékonyságának növelése, az üzemeltetési költségek szinten tartása miatt szükséges | G19: A beavatkozás után egy hatékonyan működő viziközmű elemet kapunk, mely a kor elvárásainak megfelel. A rendszer üzembiztos, hatékony, és korszerű lesz | I19: Alibánfa | J19: =SUM(O19:AC19) -> 5000 | L19: 43831 | M19: 44196 | N19: közép | Q19: 5000
A20: 726 | C20: Alibánfa | D20: Gravitációs csatorna NA200 rekonstrukció | E20: Az üzemelő viziközmű technológiailag elavult, üzemeltetése, és javítása már nem gazdaságos. Jelenleg a piacon magasabb műszaki tartalmak érhetőek el | F20: A viziközmű rendszer hatékonyságának növelése, az üzemeltetési költségek szinten tartása miatt szükséges | G20: A beavatkozás után egy hatékonyan működő viziközmű elemet kapunk, mely a kor elvárásainak megfelel. A rendszer üzembiztos, hatékony, és korszerű lesz | I20: Alibánfa | J20: =SUM(O20:AC20) -> 15000 | L20: 45292 | M20: 48579 | N20: hosszú | U20: 5000 | Y20: 5000 | AC20: 5000
B21: SZENNYVÍZVEZETÉKEK (KÉNYSZERÁRAMOLTATÁSÚ)
A22: 39 | C22: Alibánfa I. átemelőnél | D22: Nyomott vezeték rekonstrukció | E22: Az üzemelő viziközmű elem műszaki állapota az évek során leromlott, jelentős mértékben megnövekedett a meghibásodás veszélye | F22: A rendszer zavartalan üzemének biztosítása érdekében szükséges a beavatkozás | G22: A viziközmű elem állapota megközelíti az új elem berendezés állapotát. Az üzembiztonság jelentősen növekszik | I22: Alibánfa | J22: =SUM(O22:AC22) -> 1500 | L22: 43101 | M22: 43465 | N22: rövid | O22: 1500
A23: 108 | C23: Alibánfa | D23: Nyomott vezeték NA100 rekonstrukció | E23: Az üzemelő viziközmű technológiailag elavult, üzemeltetése, és javítása már nem gazdaságos. Jelenleg a piacon magasabb műszaki tartalmak érhetőek el | F23: A kiépített rendszer működőképességének megóvása, a biztonságos üzemelés biztosítása miatt van szükség a munka elvégzésére | G23: A viziközmű elem állapota megközelíti az új elem berendezés állapotát. Az üzembiztonság jelentősen növekszik | I23: Alibánfa | J23: =SUM(O23:AC23) -> 3030 | L23: 43466 | M23: 43830 | N23: közép | P23: 3030
A24: 531 | C24: Alibánfa | D24: Nyomott vezeték NA100 rekonstrukció | E24: Az üzemelő viziközmű technológiailag elavult, üzemeltetése, és javítása már nem gazdaságos. Jelenleg a piacon magasabb műszaki tartalmak érhetőek el | F24: A kiépített rendszer működőképességének megóvása, a biztonságos üzemelés biztosítása miatt van szükség a munka elvégzésére | G24: A viziközmű elem állapota megközelíti az új elem berendezés állapotát. Az üzembiztonság jelentősen növekszik | I24: Alibánfa | J24: =SUM(O24:AC24) -> 9090 | L24: 44927 | M24: 48213 | N24: hosszú | T24: 3030 | X24: 3030 | AB24: 3030
A25: 423 | C25: Alibánfa | D25: Nyomott vezeték NA100 rekonstrukció | E25: Az üzemelő viziközmű technológiailag elavult, üzemeltetése, és javítása már nem gazdaságos. Jelenleg a piacon magasabb műszaki tartalmak érhetőek el | F25: A kiépített rendszer működőképességének megóvása, a biztonságos üzemelés biztosítása miatt van szükség a munka elvégzésére | G25: A viziközmű elem állapota megközelíti az új elem berendezés állapotát. Az üzembiztonság jelentősen növekszik | I25: Alibánfa | J25: =SUM(O25:AC25) -> 2200 | L25: 44197 | M25: 44561 | N25: közép | R25: 2200
A26: 727 | C26: Alibánfa | D26: Nyomott vezeték NA100 rekonstrukció | E26: Az üzemelő viziközmű technológiailag elavult, üzemeltetése, és javítása már nem gazdaságos. Jelenleg a piacon magasabb műszaki tartalmak érhetőek el | F26: A kiépített rendszer működőképességének megóvása, a biztonságos üzemelés biztosítása miatt van szükség a munka elvégzésére | G26: A viziközmű elem állapota megközelíti az új elem berendezés állapotát. Az üzembiztonság jelentősen növekszik | I26: Alibánfa | J26: =SUM(O26:AC26) -> 5500 | L26: 45292 | M26: 47848 | N26: hosszú | U26: 2200 | X26: 2200 | AA26: 1100
B27: SZENNYVÍZÁTEMELŐK
B28: Épület, építmény
A29: 40 | C29: Alibánfa I. átemelő | D29: gépészeti akna vízzárózása | E29: A viziközmű elem nem vízzáró. A rendszerbe nagy mennyiségű idegen víz, vagy a rendszerből nagy mennyiségű szennyvíz kerül a környezetbe | F29: A kiépített rendszer működőképességének megóvása, a biztonságos üzemelés biztosítása miatt van szükség a munka elvégzésére | G29: A viziközmű elem állapota megközelíti az új elem berendezés állapotát. Az üzembiztonság jelentősen növekszik | I29: Alibánfa | J29: =SUM(O29:AC29) -> 150 | L29: 43101 | M29: 43465 | N29: rövid | O29: 150
A30: 41 | C30: Alibánfa II. átemelő | D30: gépészeti akna vízzárózása | E30: A viziközmű elem nem vízzáró. A rendszerbe nagy mennyiségű idegen víz, vagy a rendszerből nagy mennyiségű szennyvíz kerül a környezetbe | F30: A kiépített rendszer működőképességének megóvása, a biztonságos üzemelés biztosítása miatt van szükség a munka elvégzésére | G30: A viziközmű elem állapota megközelíti az új elem berendezés állapotát. Az üzembiztonság jelentősen növekszik | I30: Alibánfa | J30: =SUM(O30:AC30) -> 150 | L30: 43101 | M30: 20118.12.31 | N30: rövid | O30: 150
A31: 109 | C31: Alibánfa | D31: átemelő akna építészeti rekonstrukció | E31: A szennyvíz, és a belőle felszabaduló gázok hatására a felületek elkorrodálnak. Ezen elemek cseréje a A kiépített rendszer működőképességének megóvása, a biztonságos üzemelés biztosítása miatt van szükség a munka elvégzésérehez elengedhetetlen | F31: A kiépített rendszer működőképességének megóvása, a biztonságos üzemelés biztosítása miatt van szükség a munka elvégzésére | G31: A viziközmű elem állapota megközelíti az új elem berendezés állapotát. Az üzembiztonság jelentősen növekszik | I31: Alibánfa | J31: =SUM(O31:AC31) -> 264 | L31: 43466 | M31: 43830 | N31: közép | P31: 264
A32: 832 | C32: Alibánfa | D32: átemelő akna építészeti rekonstrukció | E32: A szennyvíz, és a belőle felszabaduló gázok hatására a felületek elkorrodálnak. Ezen elemek cseréje a A kiépített rendszer működőképességének megóvása, a biztonságos üzemelés biztosítása miatt van szükség a munka elvégzésérehez elengedhetetlen | F32: A kiépített rendszer működőképességének megóvása, a biztonságos üzemelés biztosítása miatt van szükség a munka elvégzésére | G32: A viziközmű elem állapota megközelíti az új elem berendezés állapotát. Az üzembiztonság jelentősen növekszik | I32: Alibánfa | J32: =SUM(O32:AC32) -> 4570 | L32: 45658 | M32: 47848 | N32: hosszú | V32: 1200 | W32: 1200 | X32: 1200 | Y32: 550 | Z32: 120 | AA32: 300
B33: Gép, berendezés
A34: 42 | C34: Alibánfa I. átemelő | D34: gépészeti felújítás (1-6) | E34: A szennyvíz, és a belőle felszabaduló gázok hatására a felületek elkorrodálnak. Ezen elemek cseréje a A kiépített rendszer működőképességének megóvása, a biztonságos üzemelés biztosítása miatt van szükség a munka elvégzésére.hez elengedhetetlen. | F34: A kiépített rendszer működőképességének megóvása, a biztonságos üzemelés biztosítása miatt van szükség a munka elvégzésére. | G34: A viziközmű elem állapota megközelíti az új elem berendezés állapotát. Az üzembiztonság jelentősen növekszik. | I34: Alibánfa | J34: =SUM(O34:AC34) -> 1100 | L34: 43101 | M34: 43465 | N34: rövid | O34: 1100
A35: 353 | C35: Alibánfa | D35: gépészeti rekonstrukció (1-6) | E35: A viziközmű elem a napi üzemmenet során oly mértékig elhasználódott, hogy a normál karbantartási munkákkal már nem biztosítható az üzembiztos működése | F35: A rendszer zavartalan üzemének biztosítása érdekében szükséges a beavatkozás | G35: A beavatkozás után egy hatékonyan működő viziközmű elemet kapunk, mely a kor elvárásainak megfelel. A rendszer üzembiztos, hatékony, és korszerű lesz | I35: Alibánfa | J35: =SUM(O35:AC35) -> 1600 | L35: 43831 | M35: 44926 | N35: közép | Q35: 800 | S35: 800
A36: 728 | C36: Alibánfa | D36: gépészeti rekonstrukció (1-6) | E36: Az üzemelő viziközmű elem működése közben előforduló eseti meghibásodások fordulhatnak elő, melyek előre nem tervezhetők | F36: A rendszer zavartalan üzemének biztosítása érdekében szükséges a beavatkozás | G36: A beavatkozás után egy hatékonyan működő viziközmű elemet kapunk, mely a kor elvárásainak megfelel. A rendszer üzembiztos, hatékony, és korszerű lesz | I36: Alibánfa | J36: =SUM(O36:AC36) -> 7700 | L36: 44927 | M36: 48579 | N36: hosszú | U36: 800 | V36: 800 | X36: 4500 | Z36: 800 | AA36: 800
B37: Irányítástechnika, energiaellátás
A38: 424 | C38: Alibánfa | D38: erősáramú és irányítástechnikai rekonstrukció | E38: A viziközmű elem a napi üzemmenet során oly mértékig elhasználódott, hogy a normál karbantartási munkákkal már nem biztosítható az üzembiztos működése | F38: A kiépített rendszer működőképességének megóvása, a biztonságos üzemelés biztosítása miatt van szükség a munka elvégzésére | G38: A viziközmű elem állapota megközelíti az új elem berendezés állapotát. Az üzembiztonság jelentősen növekszik | I38: Alibánfa | J38: =SUM(O38:AC38) -> 2000 | L38: 44926 | M38: 44926 | N38: közép | R38: 2000
A39: 895 | C39: Alibánfa | D39: erősáramú és irányítástechnikai rekonstrukció | E39: A viziközmű elem a napi üzemmenet során oly mértékig elhasználódott, hogy a normál karbantartási munkákkal már nem biztosítható az üzembiztos működése | F39: A kiépített rendszer működőképességének megóvása, a biztonságos üzemelés biztosítása miatt van szükség a munka elvégzésére | G39: A viziközmű elem állapota megközelíti az új elem berendezés állapotát. Az üzembiztonság jelentősen növekszik | I39: Alibánfa | J39: =SUM(O39:AC39) -> 2000 | L39: 46023 | M39: 46387 | N39: hosszú | W39: 2000
B40: Összesen: | J40: =SUM(J12:J39) -> 80866.6 | K40: =C44+C45 -> 3233 | O40: =SUM(O12:O39) -> 3223.3 | P40: =SUM(P12:P39) -> 6278.95 | Q40: =SUM(Q12:Q39) -> 6784.95 | R40: =SUM(R12:R39) -> 5184.95 | S40: =SUM(S12:S39) -> 1784.95 | T40: =SUM(T12:T39) -> 6014.95 | U40: =SUM(U12:U39) -> 8984.95 | V40: =SUM(V12:V39) -> 2984.95 | ... AC40: =SUM(AC12:AC39) -> 5684.95
...

Sheet Alsónemesapáti
A1: Gördülő fejlesztési terv a 2018 - 2032 időszakra
A2: FELÚJÍTÁSOK ÉS PÓTLÁSOK ÖSSZEFOGLALÓ TÁBLÁZATA
A3: A tervet benyújtó szervezet megnevezése: | K3: ALSÓNEMESAPÁTI | R3: ellátásért felelős / ellátásért felelősök képviselője / víziközmű-szolgáltató *
A4: Víziközmű-szolgáltató megnevezése: | K4: ÉSZAK ZALAI VÍZ- ÉS CSATORNAMŰ ZÁRTKÖRŰEN MŰKÖDŐ RÉSZVÉNYTÁRSASÁG
A5: Víziközmű-szolgáltatási ágazat megnevezése: | K5: SZENNYVÍZ ÁGAZAT
A6: Véleményeltérést megfogalmazó érintett fél megnevezése:
A7: Víziközmű-rendszer kódja: ** | K7: 21-32054-1-048-01-10 | R7: ZALAEGERSZEG-SZV
A8: V. Szennyvízelvezetés
A9: Fontossági sorrend | B9: Felujítás és pótlás megnevezése | E9: Műszaki állapot felmérés, szükségességi indoklás | H9: Vízjogi létesítési/elvi engedély száma | I9: Az érintett ellátásért felelős(ök) megnevezése | J9: Tervezett nettó költség | K9: Forrás 2018 évre | L9: Megvalósítás időtartama | N9: Tervezett időtáv | O9: A beruházás ütemezése a tervezési időszak évei szerint
E10: Jelenlegi műszaki állapot | F10: Feladat szükségessége | G10: Megvalósítást követő várható műszaki állapot | J10: (eFt) | L10: Kezdés | M10: Befejezés | N10: (rövid / közép / hosszú) | O10: 1 | P10: 2 | Q10: 3 | R10: 4 | S10: 5 | T10: 6 | U10: 7 | V10: 8 | W10: 9 | X10: 10 | Y10: 11 | Z10: 12 | AA10: 13 | AB10: 14 | AC10: 15
B11: szakág | C11: Helyszín | D11: beruházás megnevezése
A12: 1 | D12: Rendkívüli helyzetből adódó azonnali feladatok (max. 15%) | F12: A rendszer zavartalan üzemének biztosítása érdekében szükséges a beavatkozás | I12: Alsónemesapáti | J12: =SUM(O12:AC12) -> 4461.75 | L12: 43101 | M12: 48579 | O12: =$K$43*0.15 -> 297.45 | P12: =$K$43*0.15 -> 297.45 | Q12: =$K$43*0.15 -> 297.45 | R12: =$K$43*0.15 -> 297.45 | S12: =$K$43*0.15 -> 297.45 | T12: =$K$43*0.15 -> 297.45 | U12: =$K$43*0.15 -> 297.45 | V12: =$K$43*0.15 -> 297.45 | ... AC12: =$K$43*0.15 -> 297.45
B13: SZENNYVÍZCSATORNA (GRAVITÁCIÓS)
B14: Épület, építmény
A15: 110 | C15: Alsónemesapáti | D15: Idegenvíz kizárása a csatornadiagnosztikai vizsgálat és a helyszíni ellenőrzés alapján¹ | E15: Az üzemelő viziközmű technológiailag elavult, üzemeltetése, és javítása már nem gazdaságos. Jelenleg a piacon magasabb műszaki tartalmak érhetőek el | F15: A viziközmű rendszer hatékonyságának növelése, az üzemeltetési költségek szinten tartása miatt szükséges | G15: A beavatkozás után egy hatékonyan működő viziközmű elemet kapunk, mely a kor elvárásainak megfelel. A rendszer üzembiztos, hatékony, és korszerű lesz | I15: Alsónemesapáti | J15: =SUM(O15:AC15) -> 2644 | L15: 43466 | M15: 44926 | N15: közép | P15: 661 | Q15: 661 | R15: 661 | S15: 661
A16: 532 | C16: Alsónemesapáti | D16: Idegenvíz kizárása a csatornadiagnosztikai vizsgálat és a helyszíni ellenőrzés alapján¹ | E16: Az üzemelő viziközmű technológiailag elavult, üzemeltetése, és javítása már nem gazdaságos. Jelenleg a piacon magasabb műszaki tartalmak érhetőek el | F16: A viziközmű rendszer hatékonyságának növelése, az üzemeltetési költségek szinten tartása miatt szükséges | G16: A beavatkozás után egy hatékonyan működő viziközmű elemet kapunk, mely a kor elvárásainak megfelel. A rendszer üzembiztos, hatékony, és korszerű lesz | I16: Alsónemesapáti | J16: =SUM(O16:AC16) -> 4083 | L16: 44927 | M16: 48579 | N16: hosszú | T16: 661 | U16: 661 | V16: 661 | W16: 300 | X16: 300 | Y16: 300 | Z16: 300 | AA16: 300 | AB16: 300 | AC16: 300
A17: 111 | C17: Alsónemesapáti | D17: Gravitációs csatorna NA 150 rekonstrukció | E17: Az üzemelő viziközmű technológiailag elavult, üzemeltetése, és javítása már nem gazdaságos. Jelenleg a piacon magasabb műszaki tartalmak érhetőek el | F17: A viziközmű rendszer hatékonyságának növelése, az üzemeltetési költségek szinten tartása miatt szükséges | G17: A beavatkozás után egy hatékonyan működő viziközmű elemet kapunk, mely a kor elvárásainak megfelel. A rendszer üzembiztos, hatékony, és korszerű lesz | I17: Alsónemesapáti | J17: =SUM(O17:AC17) -> 2400 | L17: 43466 | M17: 43830 | N17: közép | P17: 2400
A18: 533 | C18: Alsónemesapáti | D18: Gravitációs csatorna NA 150 rekonstrukció | E18: Az üzemelő viziközmű technológiailag elavult, üzemeltetése, és javítása már nem gazdaságos. Jelenleg a piacon magasabb műszaki tartalmak érhetőek el | F18: A viziközmű rendszer hatékonyságának növelése, az üzemeltetési költségek szinten tartása miatt szükséges | G18: A beavatkozás után egy hatékonyan működő viziközmű elemet kapunk, mely a kor elvárásainak megfelel. A rendszer üzembiztos, hatékony, és korszerű lesz | I18: Alsónemesapáti | J18: =SUM(O18:AC18) -> 7200 | L18: 44927 | M18: 48213 | N18: hosszú | T18: 2400 | X18: 2400 | AB18: 2400
A19: 501 | C19: Alsónemesapáti | D19: Gravitációs csatorna NA 150 rekonstrukció | E19: Az üzemelő viziközmű technológiailag elavult, üzemeltetése, és javítása már nem gazdaságos. Jelenleg a piacon magasabb műszaki tartalmak érhetőek el | F19: A viziközmű rendszer hatékonyságának növelése, az üzemeltetési költségek szinten tartása miatt szükséges | G19: A beavatkozás után egy hatékonyan működő viziközmű elemet kapunk, mely a kor elvárásainak megfelel. A rendszer üzembiztos, hatékony, és korszerű lesz | I19: Alsónemesapáti | J19: =SUM(O19:AC19) -> 4500 | L19: 44562 | M19: 44926 | N19: közép | S19: 4500
A20: 896 | C20: Alsónemesapáti | D20: Gravitációs csatorna NA 150 rekonstrukció | E20: Az üzemelő viziközmű technológiailag elavult, üzemeltetése, és javítása már nem gazdaságos. Jelenleg a piacon magasabb műszaki tartalmak érhetőek el | F20: A viziközmű rendszer hatékonyságának növelése, az üzemeltetési költségek szinten tartása miatt szükséges | G20: A beavatkozás után egy hatékonyan működő viziközmű elemet kapunk, mely a kor elvárásainak megfelel. A rendszer üzembiztos, hatékony, és korszerű lesz | I20: Alsónemesapáti | J20: =SUM(O20:AC20) -> 8800 | L20: 46023 | M20: 47848 | N20: hosszú | W20: 4300 | AA20: 4500
B21: SZENNYVÍZVEZETÉKEK (KÉNYSZERÁRAMOLTATÁSÚ)
B22: Épület, építmény
A23: 729 | C23: Alsónemesapáti | D23: nyomó/légtelenítő akna | E23: Az üzemelő viziközmű technológiailag elavult, üzemeltetése, és javítása már nem gazdaságos. Jelenleg a piacon magasabb műszaki tartalmak érhetőek el | F23: A kiépített rendszer működőképességének megóvása, a biztonságos üzemelés biztosítása miatt van szükség a munka elvégzésére | G23: A beavatkozás után egy hatékonyan működő viziközmű elemet kapunk, mely a kor elvárásainak megfelel. A rendszer üzembiztos, hatékony, és korszerű lesz | I23: Alsónemesapáti | J23: =SUM(O23:AC23) -> 360 | L23: 45292 | M23: 45657 | N23: hosszú | U23: 360
A24: 964 | C24: Alsónemesapáti | D24: Nyomott vezeték NA80 rekonstrukció | E24: Az üzemelő viziközmű technológiailag elavult, üzemeltetése, és javítása már nem gazdaságos. Jelenleg a piacon magasabb műszaki tartalmak érhetőek el | F24: A kiépített rendszer működőképességének megóvása, a biztonságos üzemelés biztosítása miatt van szükség a munka elvégzésére | G24: A viziközmű elem állapota megközelíti az új elem berendezés állapotát. Az üzembiztonság jelentősen növekszik | I24: Alsónemesapáti | J24: =SUM(O24:AC24) -> 850 | L24: 47484 | M24: 47848 | N24: hosszú | AA24: 850
A25: 425 | C25: Alsónemesapáti | D25: Nyomott vezeték NA125 rekonstrukció | E25: Az üzemelő viziközmű technológiailag elavult, üzemeltetése, és javítása már nem gazdaságos. Jelenleg a piacon magasabb műszaki tartalmak érhetőek el | F25: A kiépített rendszer működőképességének megóvása, a biztonságos üzemelés biztosítása miatt van szükség a munka elvégzésére | G25: A viziközmű elem állapota megközelíti az új elem berendezés állapotát. Az üzembiztonság jelentősen növekszik | I25: Alsónemesapáti | J25: =SUM(O25:AC25) -> 2200 | L25: 44197 | M25: 44561 | N25: közép | R25: 2200
A26: 730 | C26: Alsónemesapáti | D26: Nyomott vezeték NA125 rekonstrukció | E26: Az üzemelő viziközmű technológiailag elavult, üzemeltetése, és javítása már nem gazdaságos. Jelenleg a piacon magasabb műszaki tartalmak érhetőek el | F26: A kiépített rendszer működőképességének megóvása, a biztonságos üzemelés biztosítása miatt van szükség a munka elvégzésére | G26: A viziközmű elem állapota megközelíti az új elem berendezés állapotát. Az üzembiztonság jelentősen növekszik | I26: Alsónemesapáti | J26: =SUM(O26:AC26) -> 6900 | L26: 45292 | M26: 47848 | N26: hosszú | U26: 2300 | X26: 2300 | AA26: 2300
A27: 426 | C27: Alsónemesapáti | D27: Nyomott vezeték NA150 rekonstrukció | E27: Az üzemelő viziközmű technológiailag elavult, üzemeltetése, és javítása már nem gazdaságos. Jelenleg a piacon magasabb műszaki tartalmak érhetőek el | F27: A kiépített rendszer működőképességének megóvása, a biztonságos üzemelés biztosítása miatt van szükség a munka elvégzésére | G27: A viziközmű elem állapota megközelíti az új elem berendezés állapotát. Az üzembiztonság jelentősen növekszik | I27: Alsónemesapáti | J27: =SUM(O27:AC27) -> 2200 | L27: 44197 | M27: 44561 | N27: közép | R27: 2200
A28: 731 | C28: Alsónemesapáti | D28: Nyomott vezeték NA150 rekonstrukció | E28: Az üzemelő viziközmű technológiailag elavult, üzemeltetése, és javítása már nem gazdaságos. Jelenleg a piacon magasabb műszaki tartalmak érhetőek el | F28: A kiépített rendszer működőképességének megóvása, a biztonságos üzemelés biztosítása miatt van szükség a munka elvégzésére | G28: A viziközmű elem állapota megközelíti az új elem berendezés állapotát. Az üzembiztonság jelentősen növekszik | I28: Alsónemesapáti | J28: =SUM(O28:AC28) -> 6600 | L28: 45292 | M28: 47848 | N28: hosszú | U28: 2200 | X28: 2200 | AA28: 2200
B29: SZENNYVÍZÁTEMELŐK
B30: Épület, építmény
A31: 43 | C31: Alsónemesapáti | D31: I. átemelő akna bélelése | E31: A szennyvíz, és a belőle felszabaduló gázok hatására a felületek elkorrodálnak. Ezen elemek cseréje a A kiépített rendszer működőképességének megóvása, a biztonságos üzemelés biztosítása miatt van szükség a munka elvégzésérehez elengedhetetlen | F31: Statikai stabilitás biztosítása | G31: A viziközmű elem állapota megközelíti az új elem berendezés állapotát. Az üzembiztonság jelentősen növekszik | I31: Alsónemesapáti | J31: =SUM(O31:AC31) -> 1600 | L31: 43101 | M31: 43465 | N31: rövid | O31: 1600
A32: 112 | C32: Alsónemesapáti | D32: átemelő akna építészeti rekonstrukció | E32: A szennyvíz, és a belőle felszabaduló gázok hatására a felületek elkorrodálnak. Ezen elemek cseréje a A kiépített rendszer működőképességének megóvása, a biztonságos üzemelés biztosítása miatt van szükség a munka elvégzésérehez elengedhetetlen | F32: Statikai stabilitás biztosítása | G32: A viziközmű elem állapota megközelíti az új elem berendezés állapotát. Az üzembiztonság jelentősen növekszik | I32: Alsónemesapáti | J32: =SUM(O32:AC32) -> 2200 | L32: 43466 | M32: 44196 | N32: közép | P32: 1100 | Q32: 1100
A33: 732 | C33: Alsónemesapáti | D33: átemelő akna építészeti rekonstrukció | E33: A szennyvíz, és a belőle felszabaduló gázok hatására a felületek elkorrodálnak. Ezen elemek cseréje a A kiépített rendszer működőképességének megóvása, a biztonságos üzemelés biztosítása miatt van szükség a munka elvégzésérehez elengedhetetlen | F33: Statikai stabilitás biztosítása | G33: A viziközmű elem állapota megközelíti az új elem berendezés állapotát. Az üzembiztonság jelentősen növekszik | I33: Alsónemesapáti | J33: =SUM(O33:AC33) -> 9580 | L33: 45292 | M33: 48579 | N33: hosszú | U33: 1550 | V33: 1410 | W33: 2060 | X33: 810 | Y33: 750 | Z33: 750 | AA33: 750 | AB33: 750 | AC33: 750
