Workbook

Sheet VKR_összesítő
A1: Gördülő fejlesztési terv a 2018 - 2032 időszakra
A2: FELÚJÍTÁSOK ÉS PÓTLÁSOK ÖSSZEFOGLALÓ TÁBLÁZATA
A3: A tervet benyújtó szervezet megnevezése: | K3: ZALAEGERSZEG | R3: ellátásért felelős / ellátásért felelősök képviselője / víziközmű-szolgáltató *
A4: Víziközmű-szolgáltató megnevezése: | K4: ÉSZAK ZALAI VÍZ- ÉS CSATORNAMŰ ZÁRTKÖRŰEN MŰKÖDŐ RÉSZVÉNYTÁRSASÁG
A5: Víziközmű-szolgáltatási ágazat megnevezése: | K5: SZENNYVÍZ ÁGAZAT
A6: Véleményeltérést megfogalmazó érintett fél megnevezése:
A7: Víziközmű-rendszer kódja: ** | K7: 21-32054-1-048-01-10 | R7: ZALAEGERSZEG-SZV
A8: V. szennyvízelvezetés
A9: Fontossági sorrend | B9: Felujítás és pótlás megnevezése | E9: Műszaki állapot felmérés, szükségességi indoklás | H9: Vízjogi létesítési/elvi engedély száma | I9: Az érintett ellátásért felelős(ök) megnevezése | J9: Tervezett nettó költség | K9: Forrás 2018 évre | L9: Megvalósítás időtartama | N9: Tervezett időtáv | O9: A beruházás ütemezése a tervezési időszak évei szerint
E10: Jelenlegi műszaki állapot | F10: Feladat szükségessége | G10: Megvalósítást követő várható műszaki állapot | J10: (eFt) | L10: Kezdés | M10: Befejezés | N10: (rövid / közép / hosszú) | O10: 1 | P10: 2 | Q10: 3 | R10: 4 | S10: 5 | T10: 6 | U10: 7 | V10: 8 | W10: 9 | X10: 10 | Y10: 11 | Z10: 12 | AA10: 13 | AB10: 14 | AC10: 15
B11: szakág | C11: Helyszín | D11: beruházás megnevezése
A12: 1 | B12: 0 | C12: 0 | D12: Rendkívüli helyzetből adódó azonnali feladatok (max. 15%) | E12: 0 | F12: A rendszer zavartalan üzemének biztosítása érdekében szükséges a beavatkozás | G12: 0 | H12: 0 | I12: Zalaegerszeg | J12: =SUM(O12:AC12) -> 621213 | K12: 0 | L12: 43101 | M12: 48579 | O12: =Zalaegerszeg!O12 -> 60156 | P12: =Zalaegerszeg!P12 -> 40075.5 | Q12: =Zalaegerszeg!Q12 -> 40075.5 | R12: =Zalaegerszeg!R12 -> 40075.5 | S12: =Zalaegerszeg!S12 -> 40075.5 | T12: =Zalaegerszeg!T12 -> 40075.5 | U12: =Zalaegerszeg!U12 -> 40075.5 | V12: =Zalaegerszeg!V12 -> 40075.5 | ... AC12: =Zalaegerszeg!AC12 -> 40075.5
A13: 1 | B13: 0 | C13: 0 | D13: Rendkívüli helyzetből adódó azonnali feladatok (max. 15%) | E13: 0 | F13: A rendszer zavartalan üzemének biztosítása érdekében szükséges a beavatkozás | G13: 0 | H13: 0 | I13: Alibánfa | J13: =SUM(O13:AC13) -> 7112.6 | K13: 0 | L13: 43101 | M13: 48579 | O13: =Alibánfa!O12 -> 323.3 | P13: =Alibánfa!P12 -> 484.95 | Q13: =Alibánfa!Q12 -> 484.95 | R13: =Alibánfa!R12 -> 484.95 | S13: =Alibánfa!S12 -> 484.95 | T13: =Alibánfa!T12 -> 484.95 | U13: =Alibánfa!U12 -> 484.95 | V13: =Alibánfa!V12 -> 484.95 | ... AC13: =Alibánfa!AC12 -> 484.95
A14: 1 | D14: Rendkívüli helyzetből adódó azonnali feladatok (max. 15%) | F14: A rendszer zavartalan üzemének biztosítása érdekében szükséges a beavatkozás | I14: Alsónemesapáti | J14: =SUM(O14:AC14) -> 4461.75 | L14: 43101 | M14: 48579 | O14: =Alsónemesapáti!O12 -> 297.45 | P14: =Alsónemesapáti!P12 -> 297.45 | Q14: =Alsónemesapáti!Q12 -> 297.45 | R14: =Alsónemesapáti!R12 -> 297.45 | S14: =Alsónemesapáti!S12 -> 297.45 | T14: =Alsónemesapáti!T12 -> 297.45 | U14: =Alsónemesapáti!U12 -> 297.45 | V14: =Alsónemesapáti!V12 -> 297.45 | ... AC14: =Alsónemesapáti!AC12 -> 297.45
A15: 1 | D15: Rendkívüli helyzetből adódó azonnali feladatok (max. 15%) | F15: A rendszer zavartalan üzemének biztosítása érdekében szükséges a beavatkozás | I15: Babosdöbréte | J15: 4889.25 | L15: 43101 | M15: 48579 | O15: =Babosdöbréte!O12 -> 325.95 | P15: =Babosdöbréte!P12 -> 325.95 | Q15: =Babosdöbréte!Q12 -> 325.95 | R15: =Babosdöbréte!R12 -> 325.95 | S15: =Babosdöbréte!S12 -> 325.95 | T15: =Babosdöbréte!T12 -> 325.95 | U15: =Babosdöbréte!U12 -> 325.95 | V15: =Babosdöbréte!V12 -> 325.95 | ... AC15: =Babosdöbréte!AC12 -> 325.95
A16: 1 | D16: Rendkívüli helyzetből adódó azonnali feladatok (max. 15%) | F16: A rendszer zavartalan üzemének biztosítása érdekében szükséges a beavatkozás | I16: Bagod | J16: 14580 | L16: 43101 | M16: 48579 | O16: =Bagod!O12 -> 972 | P16: =Bagod!P12 -> 972 | Q16: =Bagod!Q12 -> 972 | R16: =Bagod!R12 -> 972 | S16: =Bagod!S12 -> 972 | T16: =Bagod!T12 -> 972 | U16: =Bagod!U12 -> 972 | V16: =Bagod!V12 -> 972 | ... AC16: =Bagod!AC12 -> 972
A17: 1 | D17: Rendkívüli helyzetből adódó azonnali feladatok (max. 15%) | F17: A rendszer zavartalan üzemének biztosítása érdekében szükséges a beavatkozás | I17: Bak | J17: 10683 | L17: 43101 | M17: 48579 | O17: =Bak!O12 -> 712.2 | P17: =Bak!P12 -> 712.2 | Q17: =Bak!Q12 -> 712.2 | R17: =Bak!R12 -> 712.2 | S17: =Bak!S12 -> 712.2 | T17: =Bak!T12 -> 712.2 | U17: =Bak!U12 -> 712.2 | V17: =Bak!V12 -> 712.2 | ... AC17: =Bak!AC12 -> 712.2
A18: 1 | D18: Rendkívüli helyzetből adódó azonnali feladatok (max. 15%) | F18: A rendszer zavartalan üzemének biztosítása érdekében szükséges a beavatkozás | I18: Bocfölde | J18: 8372.25 | L18: 43101 | M18: 48579 | O18: =Bocfölde!O12 -> 502.1 | P18: =Bocfölde!P12 -> 753.15 | Q18: =Bocfölde!Q12 -> 753.15 | R18: =Bocfölde!R12 -> 753.15 | S18: =Bocfölde!S12 -> 753.15 | T18: =Bocfölde!T12 -> 753.15 | U18: =Bocfölde!U12 -> 753.15 | V18: =Bocfölde!V12 -> 753.15 | ... AC18: =Bocfölde!AC12 -> 753.15
A19: 1 | D19: Rendkívüli helyzetből adódó azonnali feladatok (max. 15%) | F19: A rendszer zavartalan üzemének biztosítása érdekében szükséges a beavatkozás | I19: Boncodfölde | J19: 2410.6 | L19: 43101 | M19: 48579 | O19: =Boncodfölde!O12 -> 676 | P19: =Boncodfölde!P12 -> 123.9 | Q19: =Boncodfölde!Q12 -> 123.9 | R19: =Boncodfölde!R12 -> 123.9 | S19: =Boncodfölde!S12 -> 123.9 | T19: =Boncodfölde!T12 -> 123.9 | U19: =Boncodfölde!U12 -> 123.9 | V19: =Boncodfölde!V12 -> 123.9 | ... AC19: =Boncodfölde!AC12 -> 123.9
A20: 1 | D20: Rendkívüli helyzetből adódó azonnali feladatok (max. 15%) | F20: A rendszer zavartalan üzemének biztosítása érdekében szükséges a beavatkozás | I20: Böde | J20: 2461.5 | L20: 43101 | M20: 48579 | O20: =Böde!O12 -> 164.1 | P20: =Böde!P12 -> 164.1 | Q20: =Böde!Q12 -> 164.1 | R20: =Böde!R12 -> 164.1 | S20: =Böde!S12 -> 164.1 | T20: =Böde!T12 -> 164.1 | U20: =Böde!U12 -> 164.1 | V20: =Böde!V12 -> 164.1 | ... AC20: =Böde!AC12 -> 164.1
A21: 1 | D21: Rendkívüli helyzetből adódó azonnali feladatok (max. 15%) | F21: A rendszer zavartalan üzemének biztosítása érdekében szükséges a beavatkozás | I21: Búcsúszentlászló | J21: 13761 | L21: 43101 | M21: 48579 | O21: =Búcsúszentlászló!O12 -> 917.4 | P21: =Búcsúszentlászló!P12 -> 917.4 | Q21: =Búcsúszentlászló!Q12 -> 917.4 | R21: =Búcsúszentlászló!R12 -> 917.4 | S21: =Búcsúszentlászló!S12 -> 917.4 | T21: =Búcsúszentlászló!T12 -> 917.4 | U21: =Búcsúszentlászló!U12 -> 917.4 | V21: =Búcsúszentlászló!V12 -> 917.4 | ... AC21: =Búcsúszentlászló!AC12 -> 917.4
A22: 1 | D22: Rendkívüli helyzetből adódó azonnali feladatok (max. 15%) | F22: A rendszer zavartalan üzemének biztosítása érdekében szükséges a beavatkozás | I22: Csatár | J22: 3235.5 | L22: 43101 | M22: 48579 | O22: =Csatár!O12 -> 215.7 | P22: =Csatár!P12 -> 215.7 | Q22: =Csatár!Q12 -> 215.7 | R22: =Csatár!R12 -> 215.7 | S22: =Csatár!S12 -> 215.7 | T22: =Csatár!T12 -> 215.7 | U22: =Csatár!U12 -> 215.7 | V22: =Csatár!V12 -> 215.7 | ... AC22: =Csatár!AC12 -> 215.7
A23: 1 | D23: Rendkívüli helyzetből adódó azonnali feladatok (max. 15%) | F23: A rendszer zavartalan üzemének biztosítása érdekében szükséges a beavatkozás | I23: Csonkahegyhát | J23: 3016.3 | L23: 43101 | M23: 48579 | O23: =Csonkahegyhát!O12 -> 973 | P23: =Csonkahegyhát!P12 -> 145.95 | Q23: =Csonkahegyhát!Q12 -> 145.95 | R23: =Csonkahegyhát!R12 -> 145.95 | S23: =Csonkahegyhát!S12 -> 145.95 | T23: =Csonkahegyhát!T12 -> 145.95 | U23: =Csonkahegyhát!U12 -> 145.95 | V23: =Csonkahegyhát!V12 -> 145.95 | ... AC23: =Csonkahegyhát!AC12 -> 145.95
A24: 1 | D24: Rendkívüli helyzetből adódó azonnali feladatok (max. 15%) | F24: A rendszer zavartalan üzemének biztosítása érdekében szükséges a beavatkozás | I24: Dobronhegy | J24: 6675 | L24: 43101 | M24: 48579 | O24: =Dobronhegy!O12 -> 445 | P24: =Dobronhegy!P12 -> 445 | Q24: =Dobronhegy!Q12 -> 445 | R24: =Dobronhegy!R12 -> 445 | S24: =Dobronhegy!S12 -> 445 | T24: =Dobronhegy!T12 -> 445 | U24: =Dobronhegy!U12 -> 445 | V24: =Dobronhegy!V12 -> 445 | ... AC24: =Dobronhegy!AC12 -> 445
A25: 1 | D25: Rendkívüli helyzetből adódó azonnali feladatok (max. 15%) | F25: A rendszer zavartalan üzemének biztosítása érdekében szükséges a beavatkozás | I25: Egervár | J25: 9339.75 | L25: 43101 | M25: 48579 | O25: =Egervár!O12 -> 622.65 | P25: =Egervár!P12 -> 622.65 | Q25: =Egervár!Q12 -> 622.65 | R25: =Egervár!R12 -> 622.65 | S25: =Egervár!S12 -> 622.65 | T25: =Egervár!T12 -> 622.65 | U25: =Egervár!U12 -> 622.65 | V25: =Egervár!V12 -> 622.65 | ... AC25: =Egervár!AC12 -> 622.65
A26: 1 | D26: Rendkívüli helyzetből adódó azonnali feladatok (max. 15%) | F26: A rendszer zavartalan üzemének biztosítása érdekében szükséges a beavatkozás | I26: Gősfa | J26: 2876 | L26: 43101 | M26: 48579 | O26: =Gősfa!O12 -> 860 | P26: =Gősfa!P12 -> 144 | Q26: =Gősfa!Q12 -> 144 | R26: =Gősfa!R12 -> 144 | S26: =Gősfa!S12 -> 144 | T26: =Gősfa!T12 -> 144 | U26: =Gősfa!U12 -> 144 | V26: =Gősfa!V12 -> 144 | ... AC26: =Gősfa!AC12 -> 144
A27: 1 | D27: Rendkívüli helyzetből adódó azonnali feladatok (max. 15%) | F27: A rendszer zavartalan üzemének biztosítása érdekében szükséges a beavatkozás | I27: Hagyárosbörönd | J27: 10489.5 | L27: 43101 | M27: 48579 | O27: =Hagyárosbörönd!O12 -> 699.3 | P27: =Hagyárosbörönd!P12 -> 699.3 | Q27: =Hagyárosbörönd!Q12 -> 699.3 | R27: =Hagyárosbörönd!R12 -> 699.3 | S27: =Hagyárosbörönd!S12 -> 699.3 | T27: =Hagyárosbörönd!T12 -> 699.3 | U27: =Hagyárosbörönd!U12 -> 699.3 | V27: =Hagyárosbörönd!V12 -> 699.3 | ... AC27: =Hagyárosbörönd!AC12 -> 699.3
A28: 1 | D28: Rendkívüli helyzetből adódó azonnali feladatok (max. 15%) | F28: A rendszer zavartalan üzemének biztosítása érdekében szükséges a beavatkozás | I28: Hottó | J28: 3422.25 | L28: 43101 | M28: 48579 | O28: =Hottó!O12 -> 228.15 | P28: =Hottó!P12 -> 228.15 | Q28: =Hottó!Q12 -> 228.15 | R28: =Hottó!R12 -> 228.15 | S28: =Hottó!S12 -> 228.15 | T28: =Hottó!T12 -> 228.15 | U28: =Hottó!U12 -> 228.15 | V28: =Hottó!V12 -> 228.15 | ... AC28: =Hottó!AC12 -> 228.15
A29: 1 | D29: Rendkívüli helyzetből adódó azonnali feladatok (max. 15%) | F29: A rendszer zavartalan üzemének biztosítása érdekében szükséges a beavatkozás | I29: Kávás | J29: 1636.8 | L29: 43101 | M29: 48579 | O29: =Kávás!O12 -> 528 | P29: =Kávás!P12 -> 79.2 | Q29: =Kávás!Q12 -> 79.2 | R29: =Kávás!R12 -> 79.2 | S29: =Kávás!S12 -> 79.2 | T29: =Kávás!T12 -> 79.2 | U29: =Kávás!U12 -> 79.2 | V29: =Kávás!V12 -> 79.2 | ... AC29: =Kávás!AC12 -> 79.2
A30: 1 | D30: Rendkívüli helyzetből adódó azonnali feladatok (max. 15%) | F30: A rendszer zavartalan üzemének biztosítása érdekében szükséges a beavatkozás | I30: Kemendollár | J30: 5730.75 | L30: 43101 | M30: 48579 | O30: =Kemendollár!O12 -> 382.2 | P30: =Kemendollár!P12 -> 382.2 | Q30: =Kemendollár!Q12 -> 382.2 | R30: =Kemendollár!R12 -> 382.2 | S30: =Kemendollár!S12 -> 382.2 | T30: =Kemendollár!T12 -> 382.2 | U30: =Kemendollár!U12 -> 382.2 | V30: =Kemendollár!V12 -> 382.2 | ... AC30: =Kemendollár!AC12 -> 382.2
A31: 1 | D31: Rendkívüli helyzetből adódó azonnali feladatok (max. 15%) | F31: A rendszer zavartalan üzemének biztosítása érdekében szükséges a beavatkozás | I31: Keménfa | J31: 1488 | L31: 43101 | M31: 48579 | O31: =Keménfa!O12 -> 480 | P31: =Keménfa!P12 -> 72 | Q31: =Keménfa!Q12 -> 72 | R31: =Keménfa!R12 -> 72 | S31: =Keménfa!S12 -> 72 | T31: =Keménfa!T12 -> 72 | U31: =Keménfa!U12 -> 72 | V31: =Keménfa!V12 -> 72 | ... AC31: =Keménfa!AC12 -> 72
A32: 1 | D32: Rendkívüli helyzetből adódó azonnali feladatok (max. 15%) | F32: A rendszer zavartalan üzemének biztosítása érdekében szükséges a beavatkozás | I32: Kisbucsa | J32: 3582 | L32: 43101 | M32: 48579 | O32: =Kisbucsa!O12 -> 238.8 | P32: =Kisbucsa!P12 -> 238.8 | Q32: =Kisbucsa!Q12 -> 238.8 | R32: =Kisbucsa!R12 -> 238.8 | S32: =Kisbucsa!S12 -> 238.8 | T32: =Kisbucsa!T12 -> 238.8 | U32: =Kisbucsa!U12 -> 238.8 | V32: =Kisbucsa!V12 -> 238.8 | ... AC32: =Kisbucsa!AC12 -> 238.8
A33: 1 | D33: Rendkívüli helyzetből adódó azonnali feladatok (max. 15%) | F33: A rendszer zavartalan üzemének biztosítása érdekében szükséges a beavatkozás | I33: Kiskutas | J33: 2269.2 | L33: 43101 | M33: 48579 | O33: =Kiskutas!O12 -> 732 | P33: =Kiskutas!P12 -> 109.8 | Q33: =Kiskutas!Q12 -> 109.8 | R33: =Kiskutas!R12 -> 109.8 | S33: =Kiskutas!S12 -> 109.8 | T33: =Kiskutas!T12 -> 109.8 | U33: =Kiskutas!U12 -> 109.8 | V33: =Kiskutas!V12 -> 109.8 | ... AC33: =Kiskutas!AC12 -> 109.8
A34: 1 | D34: Rendkívüli helyzetből adódó azonnali feladatok (max. 15%) | F34: A rendszer zavartalan üzemének biztosítása érdekében szükséges a beavatkozás | I34: Kispáli | J34: 3906 | L34: 43101 | M34: 48579 | O34: =Kispáli!O12 -> 260.4 | P34: =Kispáli!P12 -> 260.4 | Q34: =Kispáli!Q12 -> 260.4 | R34: =Kispáli!R12 -> 260.4 | S34: =Kispáli!S12 -> 260.4 | T34: =Kispáli!T12 -> 260.4 | U34: =Kispáli!U12 -> 260.4 | V34: =Kispáli!V12 -> 260.4 | ... AC34: =Kispáli!AC12 -> 260.4
A35: 1 | D35: Rendkívüli helyzetből adódó azonnali feladatok (max. 15%) | F35: A rendszer zavartalan üzemének biztosítása érdekében szükséges a beavatkozás | I35: Lakhegy | J35: 4029.75 | L35: 43101 | M35: 48579 | O35: =Lakhegy!O12 -> 268.65 | P35: =Lakhegy!P12 -> 268.65 | Q35: =Lakhegy!Q12 -> 268.65 | R35: =Lakhegy!R12 -> 268.65 | S35: =Lakhegy!S12 -> 268.65 | T35: =Lakhegy!T12 -> 268.65 | U35: =Lakhegy!U12 -> 268.65 | V35: =Lakhegy!V12 -> 268.65 | ... AC35: =Lakhegy!AC12 -> 268.65
A36: 1 | D36: Rendkívüli helyzetből adódó azonnali feladatok (max. 15%) | F36: A rendszer zavartalan üzemének biztosítása érdekében szükséges a beavatkozás | I36: Nagykutas | J36: 3228.75 | L36: 43101 | M36: 48579 | O36: =Nagykutas!O12 -> 90 | P36: =Nagykutas!P12 -> 215.25 | Q36: =Nagykutas!Q12 -> 215.25 | R36: =Nagykutas!R12 -> 215.25 | S36: =Nagykutas!S12 -> 215.25 | T36: =Nagykutas!T12 -> 215.25 | U36: =Nagykutas!U12 -> 215.25 | V36: =Nagykutas!V12 -> 215.25 | ... AC36: =Nagykutas!AC12 -> 215.25
A37: 1 | D37: Rendkívüli helyzetből adódó azonnali feladatok (max. 15%) | F37: A rendszer zavartalan üzemének biztosítása érdekében szükséges a beavatkozás | I37: Nagypáli | J37: 5832 | L37: 43101 | M37: 48579 | O37: =Nagypáli!O12 -> 388.8 | P37: =Nagypáli!P12 -> 388.8 | Q37: =Nagypáli!Q12 -> 388.8 | R37: =Nagypáli!R12 -> 388.8 | S37: =Nagypáli!S12 -> 388.8 | T37: =Nagypáli!T12 -> 388.8 | U37: =Nagypáli!U12 -> 388.8 | V37: =Nagypáli!V12 -> 388.8 | ... AC37: =Nagypáli!AC12 -> 388.8
A38: 1 | D38: Rendkívüli helyzetből adódó azonnali feladatok (max. 15%) | F38: A rendszer zavartalan üzemének biztosítása érdekében szükséges a beavatkozás | I38: Nemesapáti | J38: 3294 | L38: 43101 | M38: 48579 | O38: =Nemesapáti!O12 -> 219.6 | P38: =Nemesapáti!P12 -> 219.6 | Q38: =Nemesapáti!Q12 -> 219.6 | R38: =Nemesapáti!R12 -> 219.6 | S38: =Nemesapáti!S12 -> 219.6 | T38: =Nemesapáti!T12 -> 219.6 | U38: =Nemesapáti!U12 -> 219.6 | V38: =Nemesapáti!V12 -> 219.6 | ... AC38: =Nemesapáti!AC12 -> 219.6
A39: 1 | D39: Rendkívüli helyzetből adódó azonnali feladatok (max. 15%) | F39: A rendszer zavartalan üzemének biztosítása érdekében szükséges a beavatkozás | I39: Nemeshetés | J39: 2278.5 | L39: 43101 | M39: 48579 | O39: =Nemeshetés!O12 -> 735 | P39: =Nemeshetés!P12 -> 110.25 | Q39: =Nemeshetés!Q12 -> 110.25 | R39: =Nemeshetés!R12 -> 110.25 | S39: =Nemeshetés!S12 -> 110.25 | T39: =Nemeshetés!T12 -> 110.25 | U39: =Nemeshetés!U12 -> 110.25 | V39: =Nemeshetés!V12 -> 110.25 | ... AC39: =Nemeshetés!AC12 -> 110.25
A40: 1 | D40: Rendkívüli helyzetből adódó azonnali feladatok (max. 15%) | F40: A rendszer zavartalan üzemének biztosítása érdekében szükséges a beavatkozás | I40: Nemessándorháza | J40: 3161.25 | L40: 43101 | M40: 48579 | O40: =Nemesándorháza!O12 -> 210.75 | P40: =Nemesándorháza!P12 -> 210.75 | Q40: =Nemesándorháza!Q12 -> 210.75 | R40: =Nemesándorháza!R12 -> 210.75 | S40: =Nemesándorháza!S12 -> 210.75 | T40: =Nemesándorháza!T12 -> 210.75 | U40: =Nemesándorháza!U12 -> 210.75 | V40: =Nemesándorháza!V12 -> 210.75 | ... AC40: =Nemesándorháza!AC12 -> 210.75
A41: 1 | D41: Rendkívüli helyzetből adódó azonnali feladatok (max. 15%) | F41: A rendszer zavartalan üzemének biztosítása érdekében szükséges a beavatkozás | I41: Nemesszentandrás | J41: 2713.5 | L41: 43101 | M41: 48579 | O41: =Nemesszentandrás!O12 -> 180.9 | P41: =Nemesszentandrás!P12 -> 180.9 | Q41: =Nemesszentandrás!Q12 -> 180.9 | R41: =Nemesszentandrás!R12 -> 180.9 | S41: =Nemesszentandrás!S12 -> 180.9 | T41: =Nemesszentandrás!T12 -> 180.9 | U41: =Nemesszentandrás!U12 -> 180.9 | V41: =Nemesszentandrás!V12 -> 180.9 | ... AC41: =Nemesszentandrás!AC12 -> 180.9
A42: 1 | D42: Rendkívüli helyzetből adódó azonnali feladatok (max. 15%) | F42: A rendszer zavartalan üzemének biztosítása érdekében szükséges a beavatkozás | I42: Németfalu | J42: 1872.4 | L42: 43101 | M42: 48579 | O42: =Németfalu!O12 -> 604 | P42: =Németfalu!P12 -> 90.6 | Q42: =Németfalu!Q12 -> 90.6 | R42: =Németfalu!R12 -> 90.6 | S42: =Németfalu!S12 -> 90.6 | T42: =Németfalu!T12 -> 90.6 | U42: =Németfalu!U12 -> 90.6 | V42: =Németfalu!V12 -> 90.6 | ... AC42: =Németfalu!AC12 -> 90.6
A43: 1 | D43: Rendkívüli helyzetből adódó azonnali feladatok (max. 15%) | F43: A rendszer zavartalan üzemének biztosítása érdekében szükséges a beavatkozás | I43: Ozmánbük | J43: 5769 | L43: 43101 | M43: 48579 | O43: =Ozmánbük!O12 -> 384.6 | P43: =Ozmánbük!P12 -> 384.6 | Q43: =Ozmánbük!Q12 -> 384.6 | R43: =Ozmánbük!R12 -> 384.6 | S43: =Ozmánbük!S12 -> 384.6 | T43: =Ozmánbük!T12 -> 384.6 | U43: =Ozmánbük!U12 -> 384.6 | V43: =Ozmánbük!V12 -> 384.6 | ... AC43: =Ozmánbük!AC12 -> 384.6
A44: 1 | D44: Rendkívüli helyzetből adódó azonnali feladatok (max. 15%) | F44: A rendszer zavartalan üzemének biztosítása érdekében szükséges a beavatkozás | I44: Pethőhenye | J44: 6167.25 | L44: 43101 | M44: 48579 | O44: =Pethőhenye!O12 -> 411.15 | P44: =Pethőhenye!P12 -> 411.15 | Q44: =Pethőhenye!Q12 -> 411.15 | R44: =Pethőhenye!R12 -> 411.15 | S44: =Pethőhenye!S12 -> 411.15 | T44: =Pethőhenye!T12 -> 411.15 | U44: =Pethőhenye!U12 -> 411.15 | V44: =Pethőhenye!V12 -> 411.15 | ... AC44: =Pethőhenye!AC12 -> 411.15
A45: 1 | D45: Rendkívüli helyzetből adódó azonnali feladatok (max. 15%) | F45: A rendszer zavartalan üzemének biztosítása érdekében szükséges a beavatkozás | I45: Pókaszepetk | J45: 7645.5 | L45: 43101 | M45: 48579 | O45: =Pókaszepetk!O12 -> 509.7 | P45: =Pókaszepetk!P12 -> 509.7 | Q45: =Pókaszepetk!Q12 -> 509.7 | R45: =Pókaszepetk!R12 -> 509.7 | S45: =Pókaszepetk!S12 -> 509.7 | T45: =Pókaszepetk!T12 -> 509.7 | U45: =Pókaszepetk!U12 -> 509.7 | V45: =Pókaszepetk!V12 -> 509.7 | ... AC45: =Pókaszepetk!AC12 -> 509.7
A46: 1 | D46: Rendkívüli helyzetből adódó azonnali feladatok (max. 15%) | F46: A rendszer zavartalan üzemének biztosítása érdekében szükséges a beavatkozás | I46: Pusztaszentlászló | J46: 6138 | L46: 43101 | M46: 48579 | O46: =Pusztaszenlászló!O12 -> 409.2 | P46: =Pusztaszenlászló!P12 -> 409.2 | Q46: =Pusztaszenlászló!Q12 -> 409.2 | R46: =Pusztaszenlászló!R12 -> 409.2 | S46: =Pusztaszenlászló!S12 -> 409.2 | T46: =Pusztaszenlászló!T12 -> 409.2 | U46: =Pusztaszenlászló!U12 -> 409.2 | V46: =Pusztaszenlászló!V12 -> 409.2 | ... AC46: =Pusztaszenlászló!AC12 -> 409.2
A47: 1 | D47: Rendkívüli helyzetből adódó azonnali feladatok (max. 15%) | F47: A rendszer zavartalan üzemének biztosítása érdekében szükséges a beavatkozás | I47: Salomvár | J47: 4457.25 | L47: 43101 | M47: 48579 | O47: =Salomvár!O12 -> 297.15 | P47: =Salomvár!P12 -> 297.15 | Q47: =Salomvár!Q12 -> 297.15 | R47: =Salomvár!R12 -> 297.15 | S47: =Salomvár!S12 -> 297.15 | T47: =Salomvár!T12 -> 297.15 | U47: =Salomvár!U12 -> 297.15 | V47: =Salomvár!V12 -> 297.15 | ... AC47: =Salomvár!AC12 -> 297.15
A48: 1 | D48: Rendkívüli helyzetből adódó azonnali feladatok (max. 15%) | F48: A rendszer zavartalan üzemének biztosítása érdekében szükséges a beavatkozás | I48: Sárhida | J48: 4142.25 | L48: 43101 | M48: 48579 | O48: =Sárhida!O12 -> 276.15 | P48: =Sárhida!P12 -> 276.15 | Q48: =Sárhida!Q12 -> 276.15 | R48: =Sárhida!R12 -> 276.15 | S48: =Sárhida!S12 -> 276.15 | T48: =Sárhida!T12 -> 276.15 | U48: =Sárhida!U12 -> 276.15 | V48: =Sárhida!V12 -> 276.15 | ... AC48: =Sárhida!AC12 -> 276.15
A49: 1 | D49: Rendkívüli helyzetből adódó azonnali feladatok (max. 15%) | F49: A rendszer zavartalan üzemének biztosítása érdekében szükséges a beavatkozás | I49: Söjtör | J49: 10723.5 | L49: 43101 | M49: 48579 | O49: =Söjtör!O12 -> 714.9 | P49: =Söjtör!P12 -> 714.9 | Q49: =Söjtör!Q12 -> 714.9 | R49: =Söjtör!R12 -> 714.9 | S49: =Söjtör!S12 -> 714.9 | T49: =Söjtör!T12 -> 714.9 | U49: =Söjtör!U12 -> 714.9 | V49: =Söjtör!V12 -> 714.9 | ... AC49: =Söjtör!AC12 -> 714.9
A50: 1 | D50: Rendkívüli helyzetből adódó azonnali feladatok (max. 15%) | F50: A rendszer zavartalan üzemének biztosítása érdekében szükséges a beavatkozás | I50: Teskánd | J50: 25553.25 | L50: 43101 | M50: 48579 | O50: =Teskánd!O12 -> 1703.55 | P50: =Teskánd!P12 -> 1703.55 | Q50: =Teskánd!Q12 -> 1703.55 | R50: =Teskánd!R12 -> 1703.55 | S50: =Teskánd!S12 -> 1703.55 | T50: =Teskánd!T12 -> 1703.55 | U50: =Teskánd!U12 -> 1703.55 | V50: =Teskánd!V12 -> 1703.55 | ... AC50: =Teskánd!AC12 -> 1703.55
A51: 1 | D51: Rendkívüli helyzetből adódó azonnali feladatok (max. 15%) | F51: A rendszer zavartalan üzemének biztosítása érdekében szükséges a beavatkozás | I51: Vasboldogasszony | J51: 4286.25 | L51: 43101 | M51: 48579 | O51: =Vasboldogasszony!O12 -> 285.75 | P51: =Vasboldogasszony!P12 -> 285.75 | Q51: =Vasboldogasszony!Q12 -> 285.75 | R51: =Vasboldogasszony!R12 -> 285.75 | S51: =Vasboldogasszony!S12 -> 285.75 | T51: =Vasboldogasszony!T12 -> 285.75 | U51: =Vasboldogasszony!U12 -> 285.75 | V51: =Vasboldogasszony!V12 -> 285.75 | ... AC51: =Vasboldogasszony!AC12 -> 285.75
A52: 1 | D52: Rendkívüli helyzetből adódó azonnali feladatok (max. 15%) | F52: A rendszer zavartalan üzemének biztosítása érdekében szükséges a beavatkozás | I52: Vaspör | J52: 7683.75 | L52: 43101 | M52: 48579 | O52: =Vaspör!O12 -> 512.25 | P52: =Vaspör!P12 -> 512.25 | Q52: =Vaspör!Q12 -> 512.25 | R52: =Vaspör!R12 -> 512.25 | S52: =Vaspör!S12 -> 512.25 | T52: =Vaspör!T12 -> 512.25 | U52: =Vaspör!U12 -> 512.25 | V52: =Vaspör!V12 -> 512.25 | ... AC52: =Vaspör!AC12 -> 512.25
A53: 1 | D53: Rendkívüli helyzetből adódó azonnali feladatok (max. 15%) | F53: A rendszer zavartalan üzemének biztosítása érdekében szükséges a beavatkozás | I53: Vöckönd | J53: 1004.4 | L53: 43101 | M53: 48579 | O53: =Vöckönd!O12 -> 324 | P53: =Vöckönd!P12 -> 48.6 | Q53: =Vöckönd!Q12 -> 48.6 | R53: =Vöckönd!R12 -> 48.6 | S53: =Vöckönd!S12 -> 48.6 | T53: =Vöckönd!T12 -> 48.6 | U53: =Vöckönd!U12 -> 48.6 | V53: =Vöckönd!V12 -> 48.6 | ... AC53: =Vöckönd!AC12 -> 48.6
A54: 1 | D54: Rendkívüli helyzetből adódó azonnali feladatok (max. 15%) | F54: A rendszer zavartalan üzemének biztosítása érdekében szükséges a beavatkozás | I54: Zalaboldogfa | J54: 2449 | L54: 43101 | M54: 48579 | O54: =Zalaboldogfa!O12 -> 118.5 | P54: =Zalaboldogfa!P12 -> 118.5 | Q54: =Zalaboldogfa!Q12 -> 118.5 | R54: =Zalaboldogfa!R12 -> 118.5 | S54: =Zalaboldogfa!S12 -> 118.5 | T54: =Zalaboldogfa!T12 -> 118.5 | U54: =Zalaboldogfa!U12 -> 118.5 | V54: =Zalaboldogfa!V12 -> 118.5 | ... AC54: =Zalaboldogfa!AC12 -> 118.5
A55: 1 | D55: Rendkívüli helyzetből adódó azonnali feladatok (max. 15%) | F55: A rendszer zavartalan üzemének biztosítása érdekében szükséges a beavatkozás | I55: Zalacséb | J55: 3845.25 | L55: 43101 | M55: 48579 | O55: =Zalacséb!O12 -> 256.35 | P55: =Zalacséb!P12 -> 256.35 | Q55: =Zalacséb!Q12 -> 256.35 | R55: =Zalacséb!R12 -> 256.35 | S55: =Zalacséb!S12 -> 256.35 | T55: =Zalacséb!T12 -> 256.35 | U55: =Zalacséb!U12 -> 256.35 | V55: =Zalacséb!V12 -> 256.35 | ... AC55: =Zalacséb!AC12 -> 256.35
A56: 1 | D56: Rendkívüli helyzetből adódó azonnali feladatok (max. 15%) | F56: A rendszer zavartalan üzemének biztosítása érdekében szükséges a beavatkozás | I56: Zalaistvánd | J56: 2306.25 | L56: 43101 | M56: 48579 | O56: =Zalaistvánd!O12 -> 153.75 | P56: =Zalaistvánd!P12 -> 153.75 | Q56: =Zalaistvánd!Q12 -> 153.75 | R56: =Zalaistvánd!R12 -> 153.75 | S56: =Zalaistvánd!S12 -> 153.75 | T56: =Zalaistvánd!T12 -> 153.75 | U56: =Zalaistvánd!U12 -> 153.75 | V56: =Zalaistvánd!V12 -> 153.75 | ... AC56: =Zalaistvánd!AC12 -> 153.75
A57: 1 | D57: Rendkívüli helyzetből adódó azonnali feladatok (max. 15%) | F57: A rendszer zavartalan üzemének biztosítása érdekében szükséges a beavatkozás | I57: Zalaszentgyörgy | J57: 3262.5 | L57: 43101 | M57: 48579 | O57: =Zalaszentgyörgy!O12 -> 217.5 | P57: =Zalaszentgyörgy!P12 -> 217.5 | Q57: =Zalaszentgyörgy!Q12 -> 217.5 | R57: =Zalaszentgyörgy!R12 -> 217.5 | S57: =Zalaszentgyörgy!S12 -> 217.5 | T57: =Zalaszentgyörgy!T12 -> 217.5 | U57: =Zalaszentgyörgy!U12 -> 217.5 | V57: =Zalaszentgyörgy!V12 -> 217.5 | ... AC57: =Zalaszentgyörgy!AC12 -> 217.5
A58: 1 | D58: Rendkívüli helyzetből adódó azonnali feladatok (max. 15%) | F58: A rendszer zavartalan üzemének biztosítása érdekében szükséges a beavatkozás | I58: Zalaszentiván | J58: 19545.75 | L58: 43101 | M58: 48579 | O58: =Zalaszentiván!O12 -> 1259.31 | P58: =Zalaszentiván!P12 -> 1453.05 | Q58: =Zalaszentiván!Q12 -> 1453.05 | R58: =Zalaszentiván!R12 -> 1453.05 | S58: =Zalaszentiván!S12 -> 1453.05 | T58: =Zalaszentiván!T12 -> 1453.05 | U58: =Zalaszentiván!U12 -> 1453.05 | V58: =Zalaszentiván!V12 -> 1453.05 | ... AC58: =Zalaszentiván!AC12 -> 1453.05
A59: 1 | D59: Rendkívüli helyzetből adódó azonnali feladatok (max. 15%) | F59: A rendszer zavartalan üzemének biztosítása érdekében szükséges a beavatkozás | I59: Zalaszentlőrinc | J59: 3480.75 | L59: 43101 | M59: 48579 | O59: =Zalaszentlőrinc!O12 -> 232.05 | P59: =Zalaszentlőrinc!P12 -> 232.05 | Q59: =Zalaszentlőrinc!Q12 -> 232.05 | R59: =Zalaszentlőrinc!R12 -> 232.05 | S59: =Zalaszentlőrinc!S12 -> 232.05 | T59: =Zalaszentlőrinc!T12 -> 232.05 | U59: =Zalaszentlőrinc!U12 -> 232.05 | V59: =Zalaszentlőrinc!V12 -> 232.05 | ... AC59: =Zalaszentlőrinc!AC12 -> 232.05
B60: SZENNYVÍZCSATORNA (GRAVITÁCIÓS)
B61: Épület, építmény
A62: =Zalaegerszeg!A15 -> 2 | B62: =Zalaegerszeg!B15 -> 0 | C62: =Zalaegerszeg!C15 -> Zalaegerszeg, Berzsenyi út 11-13. | D62: =Zalaegerszeg!D15 -> szennyvíz rekonstrukció (2016 évi forrás) | E62: =Zalaegerszeg!E15 -> Az üzemelő viziközmű technológiailag elavult, üzemeltetése, és javítása már nem gazdaságos. Jelenleg a piacon magasabb műszaki tartalmak érhetőek el | F62: =Zalaegerszeg!F15 -> A viziközmű rendszer hatékonyságának növelése, az üzemeltetési költségek szinten tartása miatt szükséges | G62: =Zalaegerszeg!G15 -> A beavatkozás után egy hatékonyan működő viziközmű elemet kapunk, mely a kor elvárásainak megfelel. A rendszer üzembiztos, hatékony, és korszerű lesz | H62: =Zalaegerszeg!H15 -> 0 | ... O62: =Zalaegerszeg!O15 -> 16867
A63: =Zalaegerszeg!A16 -> 3 | B63: =Zalaegerszeg!B16 -> 0 | C63: =Zalaegerszeg!C16 -> Zalaegerszeg, Arany János utca | D63: =Zalaegerszeg!D16 -> szennyvíz rekonstrukció | E63: =Zalaegerszeg!E16 -> Az üzemelő viziközmű technológiailag elavult, üzemeltetése, és javítása már nem gazdaságos. Jelenleg a piacon magasabb műszaki tartalmak érhetőek el | F63: =Zalaegerszeg!F16 -> A viziközmű rendszer hatékonyságának növelése, az üzemeltetési költségek szinten tartása miatt szükséges | G63: =Zalaegerszeg!G16 -> A beavatkozás után egy hatékonyan működő viziközmű elemet kapunk, mely a kor elvárásainak megfelel. A rendszer üzembiztos, hatékony, és korszerű lesz | H63: =Zalaegerszeg!H16 -> 0 | ... O63: =Zalaegerszeg!O16 -> 188000
A64: =Zalaegerszeg!A17 -> 14 | B64: =Zalaegerszeg!B17 -> 0 | C64: =Zalaegerszeg!C17 -> Zalaegerszeg , Mókus utca | D64: =Zalaegerszeg!D17 -> szennyvíz vezeték kiváltás | E64: =Zalaegerszeg!E17 -> Az üzemelő viziközmű technológiailag elavult, üzemeltetése, és javítása már nem gazdaságos. Jelenleg a piacon magasabb műszaki tartalmak érhetőek el | F64: =Zalaegerszeg!F17 -> A viziközmű rendszer hatékonyságának növelése, az üzemeltetési költségek szinten tartása miatt szükséges | G64: =Zalaegerszeg!G17 -> A beavatkozás után egy hatékonyan működő viziközmű elemet kapunk, mely a kor elvárásainak megfelel. A rendszer üzembiztos, hatékony, és korszerű lesz | H64: =Zalaegerszeg!H17 -> 0 | ... O64: =Zalaegerszeg!O17 -> 23000
A65: =Zalaegerszeg!A18 -> 15 | B65: =Zalaegerszeg!B18 -> 0 | C65: =Zalaegerszeg!C18 -> Zalaegerszeg , Hegyalja utca tömbbeblsők | D65: =Zalaegerszeg!D18 -> szennyvíz vezeték kiváltás | E65: =Zalaegerszeg!E18 -> Az üzemelő viziközmű technológiailag elavult, üzemeltetése, és javítása már nem gazdaságos. Jelenleg a piacon magasabb műszaki tartalmak érhetőek el | F65: =Zalaegerszeg!F18 -> A viziközmű rendszer hatékonyságának növelése, az üzemeltetési költségek szinten tartása miatt szükséges | G65: =Zalaegerszeg!G18 -> A beavatkozás után egy hatékonyan működő viziközmű elemet kapunk, mely a kor elvárásainak megfelel. A rendszer üzembiztos, hatékony, és korszerű lesz | H65: =Zalaegerszeg!H18 -> 0 | ... O65: =Zalaegerszeg!O18 -> 29000
A66: =Zalaegerszeg!A19 -> 16 | B66: =Zalaegerszeg!B19 -> 0 | C66: =Zalaegerszeg!C19 -> Zalaegerszeg Kosztolányi út | D66: =Zalaegerszeg!D19 -> szennyvíz vezeték kiváltás | E66: =Zalaegerszeg!E19 -> Az üzemelő viziközmű technológiailag elavult, üzemeltetése, és javítása már nem gazdaságos. Jelenleg a piacon magasabb műszaki tartalmak érhetőek el | F66: =Zalaegerszeg!F19 -> A viziközmű rendszer hatékonyságának növelése, az üzemeltetési költségek szinten tartása miatt szükséges | G66: =Zalaegerszeg!G19 -> A beavatkozás után egy hatékonyan működő viziközmű elemet kapunk, mely a kor elvárásainak megfelel. A rendszer üzembiztos, hatékony, és korszerű lesz | H66: =Zalaegerszeg!H19 -> 0 | ... O66: =Zalaegerszeg!O19 -> 10000
A67: =Zalaegerszeg!A20 -> 17 | B67: =Zalaegerszeg!B20 -> 0 | C67: =Zalaegerszeg!C20 -> Zalaegerszeg Takarék köz III. ütem | D67: =Zalaegerszeg!D20 -> szennyvíz vezeték kiváltás | E67: =Zalaegerszeg!E20 -> Az üzemelő viziközmű technológiailag elavult, üzemeltetése, és javítása már nem gazdaságos. Jelenleg a piacon magasabb műszaki tartalmak érhetőek el | F67: =Zalaegerszeg!F20 -> A viziközmű rendszer hatékonyságának növelése, az üzemeltetési költségek szinten tartása miatt szükséges | G67: =Zalaegerszeg!G20 -> A beavatkozás után egy hatékonyan működő viziközmű elemet kapunk, mely a kor elvárásainak megfelel. A rendszer üzembiztos, hatékony, és korszerű lesz | H67: =Zalaegerszeg!H20 -> 0 | ... O67: =Zalaegerszeg!O20 -> 10000
A68: =Zalaegerszeg!A21 -> 18 | B68: =Zalaegerszeg!B21 -> 0 | C68: =Zalaegerszeg!C21 -> Zalaegerszeg Fenyves-köz | D68: =Zalaegerszeg!D21 -> szennyvíz vezeték kiváltás | E68: =Zalaegerszeg!E21 -> Az üzemelő viziközmű technológiailag elavult, üzemeltetése, és javítása már nem gazdaságos. Jelenleg a piacon magasabb műszaki tartalmak érhetőek el | F68: =Zalaegerszeg!F21 -> A viziközmű rendszer hatékonyságának növelése, az üzemeltetési költségek szinten tartása miatt szükséges | G68: =Zalaegerszeg!G21 -> A beavatkozás után egy hatékonyan működő viziközmű elemet kapunk, mely a kor elvárásainak megfelel. A rendszer üzembiztos, hatékony, és korszerű lesz | H68: =Zalaegerszeg!H21 -> 0 | ... O68: =Zalaegerszeg!O21 -> 12000
A69: =Zalaegerszeg!A22 -> 19 | B69: =Zalaegerszeg!B22 -> 0 | C69: =Zalaegerszeg!C22 -> Zalaegerszeg | D69: =Zalaegerszeg!D22 -> szennyvízvezeték rekonstrukcióhoz köthető tervezési feladatok | E69: =Zalaegerszeg!E22 -> Az üzemelő viziközmű technológiailag elavult, üzemeltetése, és javítása már nem gazdaságos. Jelenleg a piacon magasabb műszaki tartalmak érhetőek el | F69: =Zalaegerszeg!F22 -> A viziközmű rendszer hatékonyságának növelése, az üzemeltetési költségek szinten tartása miatt szükséges | G69: =Zalaegerszeg!G22 -> A beavatkozás után egy hatékonyan működő viziközmű elemet kapunk, mely a kor elvárásainak megfelel. A rendszer üzembiztos, hatékony, és korszerű lesz | H69: =Zalaegerszeg!H22 -> 0 | ... O69: =Zalaegerszeg!O22 -> 6700
A70: =Zalaegerszeg!A23 -> 38 | B70: =Zalaegerszeg!B23 -> 0 | C70: =Zalaegerszeg!C23 -> Zalaegerszeg | D70: =Zalaegerszeg!D23 -> szennyvízakna cserék | E70: =Zalaegerszeg!E23 -> Az üzemelő viziközmű technológiailag elavult, üzemeltetése, és javítása már nem gazdaságos. Jelenleg a piacon magasabb műszaki tartalmak érhetőek el | F70: =Zalaegerszeg!F23 -> A viziközmű rendszer hatékonyságának növelése, az üzemeltetési költségek szinten tartása miatt szükséges | G70: =Zalaegerszeg!G23 -> A beavatkozás után egy hatékonyan működő viziközmű elemet kapunk, mely a kor elvárásainak megfelel. A rendszer üzembiztos, hatékony, és korszerű lesz | H70: =Zalaegerszeg!H23 -> 0 | ... O70: =Zalaegerszeg!O23 -> 15000
A71: =Zalaegerszeg!A24 -> 328 | B71: =Zalaegerszeg!B24 -> 0 | C71: =Zalaegerszeg!C24 -> Zalaegerszeg | D71: =Zalaegerszeg!D24 -> Gravitációs csatorna NA 150 rekonstrukció | E71: =Zalaegerszeg!E24 -> Az üzemelő viziközmű technológiailag elavult, üzemeltetése, és javítása már nem gazdaságos. Jelenleg a piacon magasabb műszaki tartalmak érhetőek el | F71: =Zalaegerszeg!F24 -> A viziközmű rendszer hatékonyságának növelése, az üzemeltetési költségek szinten tartása miatt szükséges | G71: =Zalaegerszeg!G24 -> A beavatkozás után egy hatékonyan működő viziközmű elemet kapunk, mely a kor elvárásainak megfelel. A rendszer üzembiztos, hatékony, és korszerű lesz | H71: =Zalaegerszeg!H24 -> 0 | ... N71: =Zalaegerszeg!N24 -> közép | P71: =Zalaegerszeg!P24 -> 0 | Q71: =Zalaegerszeg!Q24 -> 20310 | R71: =Zalaegerszeg!R24 -> 0 | S71: =Zalaegerszeg!S24 -> 20310 | T71: =Zalaegerszeg!T24 -> 0 | U71: =Zalaegerszeg!U24 -> 0 | V71: =Zalaegerszeg!V24 -> 0 | W71: =Zalaegerszeg!W24 -> 0 | ... AC71: =Zalaegerszeg!AC24 -> 0
A72: =Zalaegerszeg!A25 -> 709 | B72: =Zalaegerszeg!B25 -> 0 | C72: =Zalaegerszeg!C25 -> Zalaegerszeg | D72: =Zalaegerszeg!D25 -> Gravitációs csatorna NA 150 rekonstrukció | E72: =Zalaegerszeg!E25 -> Az üzemelő viziközmű technológiailag elavult, üzemeltetése, és javítása már nem gazdaságos. Jelenleg a piacon magasabb műszaki tartalmak érhetőek el | F72: =Zalaegerszeg!F25 -> A viziközmű rendszer hatékonyságának növelése, az üzemeltetési költségek szinten tartása miatt szükséges | G72: =Zalaegerszeg!G25 -> A beavatkozás után egy hatékonyan működő viziközmű elemet kapunk, mely a kor elvárásainak megfelel. A rendszer üzembiztos, hatékony, és korszerű lesz | H72: =Zalaegerszeg!H25 -> 0 | ... N72: =Zalaegerszeg!N25 -> hosszú | P72: =Zalaegerszeg!P25 -> 0 | Q72: =Zalaegerszeg!Q25 -> 0 | R72: =Zalaegerszeg!R25 -> 0 | S72: =Zalaegerszeg!S25 -> 0 | T72: =Zalaegerszeg!T25 -> 0 | U72: =Zalaegerszeg!U25 -> 20310 | V72: =Zalaegerszeg!V25 -> 0 | W72: =Zalaegerszeg!W25 -> 20310 | ... AC72: =Zalaegerszeg!AC25 -> 20310
A73: =Zalaegerszeg!A26 -> 329 | B73: =Zalaegerszeg!B26 -> 0 | C73: =Zalaegerszeg!C26 -> Zalaegerszeg | D73: =Zalaegerszeg!D26 -> Gravitációs csatorna NA 200 rekonstrukció | E73: =Zalaegerszeg!E26 -> Az üzemelő viziközmű technológiailag elavult, üzemeltetése, és javítása már nem gazdaságos. Jelenleg a piacon magasabb műszaki tartalmak érhetőek el | F73: =Zalaegerszeg!F26 -> A viziközmű rendszer hatékonyságának növelése, az üzemeltetési költségek szinten tartása miatt szükséges | G73: =Zalaegerszeg!G26 -> A beavatkozás után egy hatékonyan működő viziközmű elemet kapunk, mely a kor elvárásainak megfelel. A rendszer üzembiztos, hatékony, és korszerű lesz | H73: =Zalaegerszeg!H26 -> 0 | ... N73: =Zalaegerszeg!N26 -> közép | P73: =Zalaegerszeg!P26 -> 0 | Q73: =Zalaegerszeg!Q26 -> 236000 | R73: =Zalaegerszeg!R26 -> 0 | S73: =Zalaegerszeg!S26 -> 236000 | T73: =Zalaegerszeg!T26 -> 0 | U73: =Zalaegerszeg!U26 -> 0 | V73: =Zalaegerszeg!V26 -> 0 | W73: =Zalaegerszeg!W26 -> 0 | ... AC73: =Zalaegerszeg!AC26 -> 0
A74: =Zalaegerszeg!A27 -> 710 | B74: =Zalaegerszeg!B27 -> 0 | C74: =Zalaegerszeg!C27 -> Zalaegerszeg | D74: =Zalaegerszeg!D27 -> Gravitációs csatorna NA 200 rekonstrukció | E74: =Zalaegerszeg!E27 -> Az üzemelő viziközmű technológiailag elavult, üzemeltetése, és javítása már nem gazdaságos. Jelenleg a piacon magasabb műszaki tartalmak érhetőek el | F74: =Zalaegerszeg!F27 -> A viziközmű rendszer hatékonyságának növelése, az üzemeltetési költségek szinten tartása miatt szükséges | G74: =Zalaegerszeg!G27 -> A beavatkozás után egy hatékonyan működő viziközmű elemet kapunk, mely a kor elvárásainak megfelel. A rendszer üzembiztos, hatékony, és korszerű lesz | H74: =Zalaegerszeg!H27 -> 0 | ... N74: =Zalaegerszeg!N27 -> hosszú | P74: =Zalaegerszeg!P27 -> 0 | Q74: =Zalaegerszeg!Q27 -> 0 | R74: =Zalaegerszeg!R27 -> 0 | S74: =Zalaegerszeg!S27 -> 0 | T74: =Zalaegerszeg!T27 -> 0 | U74: =Zalaegerszeg!U27 -> 236000 | V74: =Zalaegerszeg!V27 -> 0 | W74: =Zalaegerszeg!W27 -> 236000 | ... AC74: =Zalaegerszeg!AC27 -> 236000
A75: =Zalaegerszeg!A28 -> 960 | B75: =Zalaegerszeg!B28 -> 0 | C75: =Zalaegerszeg!C28 -> Zalaegerszeg | D75: =Zalaegerszeg!D28 -> Gravitációs csatorna NA 250 rekonstrukció | E75: =Zalaegerszeg!E28 -> Az üzemelő viziközmű technológiailag elavult, üzemeltetése, és javítása már nem gazdaságos. Jelenleg a piacon magasabb műszaki tartalmak érhetőek el | F75: =Zalaegerszeg!F28 -> A viziközmű rendszer hatékonyságának növelése, az üzemeltetési költségek szinten tartása miatt szükséges | G75: =Zalaegerszeg!G28 -> A beavatkozás után egy hatékonyan működő viziközmű elemet kapunk, mely a kor elvárásainak megfelel. A rendszer üzembiztos, hatékony, és korszerű lesz | H75: =Zalaegerszeg!H28 -> 0 | ... N75: =Zalaegerszeg!N28 -> hosszú | P75: =Zalaegerszeg!P28 -> 0 | Q75: =Zalaegerszeg!Q28 -> 0 | R75: =Zalaegerszeg!R28 -> 0 | S75: =Zalaegerszeg!S28 -> 0 | T75: =Zalaegerszeg!T28 -> 0 | U75: =Zalaegerszeg!U28 -> 0 | V75: =Zalaegerszeg!V28 -> 0 | W75: =Zalaegerszeg!W28 -> 0 | ... AC75: =Zalaegerszeg!AC28 -> 0
A76: =Zalaegerszeg!A29 -> 330 | B76: =Zalaegerszeg!B29 -> 0 | C76: =Zalaegerszeg!C29 -> Zalaegerszeg | D76: =Zalaegerszeg!D29 -> Gravitációs csatorna NA 300 rekonstrukció | E76: =Zalaegerszeg!E29 -> Az üzemelő viziközmű technológiailag elavult, üzemeltetése, és javítása már nem gazdaságos. Jelenleg a piacon magasabb műszaki tartalmak érhetőek el | F76: =Zalaegerszeg!F29 -> A viziközmű rendszer hatékonyságának növelése, az üzemeltetési költségek szinten tartása miatt szükséges | G76: =Zalaegerszeg!G29 -> A beavatkozás után egy hatékonyan működő viziközmű elemet kapunk, mely a kor elvárásainak megfelel. A rendszer üzembiztos, hatékony, és korszerű lesz | H76: =Zalaegerszeg!H29 -> 0 | ... N76: =Zalaegerszeg!N29 -> közép | P76: =Zalaegerszeg!P29 -> 0 | Q76: =Zalaegerszeg!Q29 -> 11200 | R76: =Zalaegerszeg!R29 -> 0 | S76: =Zalaegerszeg!S29 -> 11200 | T76: =Zalaegerszeg!T29 -> 0 | U76: =Zalaegerszeg!U29 -> 0 | V76: =Zalaegerszeg!V29 -> 0 | W76: =Zalaegerszeg!W29 -> 0 | ... AC76: =Zalaegerszeg!AC29 -> 0
A77: =Zalaegerszeg!A30 -> 711 | B77: =Zalaegerszeg!B30 -> 0 | C77: =Zalaegerszeg!C30 -> Zalaegerszeg | D77: =Zalaegerszeg!D30 -> Gravitációs csatorna NA 300 rekonstrukció | E77: =Zalaegerszeg!E30 -> Az üzemelő viziközmű technológiailag elavult, üzemeltetése, és javítása már nem gazdaságos. Jelenleg a piacon magasabb műszaki tartalmak érhetőek el | F77: =Zalaegerszeg!F30 -> A viziközmű rendszer hatékonyságának növelése, az üzemeltetési költségek szinten tartása miatt szükséges | G77: =Zalaegerszeg!G30 -> A beavatkozás után egy hatékonyan működő viziközmű elemet kapunk, mely a kor elvárásainak megfelel. A rendszer üzembiztos, hatékony, és korszerű lesz | H77: =Zalaegerszeg!H30 -> 0 | ... N77: =Zalaegerszeg!N30 -> hosszú | P77: =Zalaegerszeg!P30 -> 0 | Q77: =Zalaegerszeg!Q30 -> 0 | R77: =Zalaegerszeg!R30 -> 0 | S77: =Zalaegerszeg!S30 -> 0 | T77: =Zalaegerszeg!T30 -> 0 | U77: =Zalaegerszeg!U30 -> 11200 | V77: =Zalaegerszeg!V30 -> 0 | W77: =Zalaegerszeg!W30 -> 11200 | ... AC77: =Zalaegerszeg!AC30 -> 11200
A78: =Zalaegerszeg!A31 -> 331 | B78: =Zalaegerszeg!B31 -> 0 | C78: =Zalaegerszeg!C31 -> Zalaegerszeg | D78: =Zalaegerszeg!D31 -> Gravitációs csatorna NA 400 rekonstrukció | E78: =Zalaegerszeg!E31 -> Az üzemelő viziközmű technológiailag elavult, üzemeltetése, és javítása már nem gazdaságos. Jelenleg a piacon magasabb műszaki tartalmak érhetőek el | F78: =Zalaegerszeg!F31 -> A viziközmű rendszer hatékonyságának növelése, az üzemeltetési költségek szinten tartása miatt szükséges | G78: =Zalaegerszeg!G31 -> A beavatkozás után egy hatékonyan működő viziközmű elemet kapunk, mely a kor elvárásainak megfelel. A rendszer üzembiztos, hatékony, és korszerű lesz | H78: =Zalaegerszeg!H31 -> 0 | ... N78: =Zalaegerszeg!N31 -> közép | P78: =Zalaegerszeg!P31 -> 0 | Q78: =Zalaegerszeg!Q31 -> 4200 | R78: =Zalaegerszeg!R31 -> 0 | S78: =Zalaegerszeg!S31 -> 4200 | T78: =Zalaegerszeg!T31 -> 0 | U78: =Zalaegerszeg!U31 -> 0 | V78: =Zalaegerszeg!V31 -> 0 | W78: =Zalaegerszeg!W31 -> 0 | ... AC78: =Zalaegerszeg!AC31 -> 0
A79: =Zalaegerszeg!A32 -> 712 | B79: =Zalaegerszeg!B32 -> 0 | C79: =Zalaegerszeg!C32 -> Zalaegerszeg | D79: =Zalaegerszeg!D32 -> Gravitációs csatorna NA 400 rekonstrukció | E79: =Zalaegerszeg!E32 -> Az üzemelő viziközmű technológiailag elavult, üzemeltetése, és javítása már nem gazdaságos. Jelenleg a piacon magasabb műszaki tartalmak érhetőek el | F79: =Zalaegerszeg!F32 -> A viziközmű rendszer hatékonyságának növelése, az üzemeltetési költségek szinten tartása miatt szükséges | G79: =Zalaegerszeg!G32 -> A beavatkozás után egy hatékonyan működő viziközmű elemet kapunk, mely a kor elvárásainak megfelel. A rendszer üzembiztos, hatékony, és korszerű lesz | H79: =Zalaegerszeg!H32 -> 0 | ... N79: =Zalaegerszeg!N32 -> hosszú | P79: =Zalaegerszeg!P32 -> 0 | Q79: =Zalaegerszeg!Q32 -> 0 | R79: =Zalaegerszeg!R32 -> 0 | S79: =Zalaegerszeg!S32 -> 0 | T79: =Zalaegerszeg!T32 -> 0 | U79: =Zalaegerszeg!U32 -> 4200 | V79: =Zalaegerszeg!V32 -> 0 | W79: =Zalaegerszeg!W32 -> 4200 | ... AC79: =Zalaegerszeg!AC32 -> 4200
A80: =Zalaegerszeg!A33 -> 332 | B80: =Zalaegerszeg!B33 -> 0 | C80: =Zalaegerszeg!C33 -> Zalaegerszeg | D80: =Zalaegerszeg!D33 -> Gravitációs csatorna NA 500 rekonstrukció | E80: =Zalaegerszeg!E33 -> Az üzemelő viziközmű technológiailag elavult, üzemeltetése, és javítása már nem gazdaságos. Jelenleg a piacon magasabb műszaki tartalmak érhetőek el | F80: =Zalaegerszeg!F33 -> A viziközmű rendszer hatékonyságának növelése, az üzemeltetési költségek szinten tartása miatt szükséges | G80: =Zalaegerszeg!G33 -> A beavatkozás után egy hatékonyan működő viziközmű elemet kapunk, mely a kor elvárásainak megfelel. A rendszer üzembiztos, hatékony, és korszerű lesz | H80: =Zalaegerszeg!H33 -> 0 | ... N80: =Zalaegerszeg!N33 -> közép | P80: =Zalaegerszeg!P33 -> 0 | Q80: =Zalaegerszeg!Q33 -> 4400 | R80: =Zalaegerszeg!R33 -> 0 | S80: =Zalaegerszeg!S33 -> 4400 | T80: =Zalaegerszeg!T33 -> 0 | U80: =Zalaegerszeg!U33 -> 0 | V80: =Zalaegerszeg!V33 -> 0 | W80: =Zalaegerszeg!W33 -> 0 | ... AC80: =Zalaegerszeg!AC33 -> 0
A81: =Zalaegerszeg!A34 -> 713 | B81: =Zalaegerszeg!B34 -> 0 | C81: =Zalaegerszeg!C34 -> Zalaegerszeg | D81: =Zalaegerszeg!D34 -> Gravitációs csatorna NA 500 rekonstrukció | E81: =Zalaegerszeg!E34 -> Az üzemelő viziközmű technológiailag elavult, üzemeltetése, és javítása már nem gazdaságos. Jelenleg a piacon magasabb műszaki tartalmak érhetőek el | F81: =Zalaegerszeg!F34 -> A viziközmű rendszer hatékonyságának növelése, az üzemeltetési költségek szinten tartása miatt szükséges | G81: =Zalaegerszeg!G34 -> A beavatkozás után egy hatékonyan működő viziközmű elemet kapunk, mely a kor elvárásainak megfelel. A rendszer üzembiztos, hatékony, és korszerű lesz | H81: =Zalaegerszeg!H34 -> 0 | ... N81: =Zalaegerszeg!N34 -> hosszú | P81: =Zalaegerszeg!P34 -> 0 | Q81: =Zalaegerszeg!Q34 -> 0 | R81: =Zalaegerszeg!R34 -> 0 | S81: =Zalaegerszeg!S34 -> 0 | T81: =Zalaegerszeg!T34 -> 0 | U81: =Zalaegerszeg!U34 -> 4400 | V81: =Zalaegerszeg!V34 -> 0 | W81: =Zalaegerszeg!W34 -> 4400 | ... AC81: =Zalaegerszeg!AC34 -> 4400
A82: =Zalaegerszeg!A35 -> 333 | B82: =Zalaegerszeg!B35 -> 0 | C82: =Zalaegerszeg!C35 -> Zalaegerszeg | D82: =Zalaegerszeg!D35 -> Gravitációs csatorna NA 600 rekonstrukció | E82: =Zalaegerszeg!E35 -> Az üzemelő viziközmű technológiailag elavult, üzemeltetése, és javítása már nem gazdaságos. Jelenleg a piacon magasabb műszaki tartalmak érhetőek el | F82: =Zalaegerszeg!F35 -> A viziközmű rendszer hatékonyságának növelése, az üzemeltetési költségek szinten tartása miatt szükséges | G82: =Zalaegerszeg!G35 -> A beavatkozás után egy hatékonyan működő viziközmű elemet kapunk, mely a kor elvárásainak megfelel. A rendszer üzembiztos, hatékony, és korszerű lesz | H82: =Zalaegerszeg!H35 -> 0 | ... N82: =Zalaegerszeg!N35 -> közép | P82: =Zalaegerszeg!P35 -> 0 | Q82: =Zalaegerszeg!Q35 -> 2300 | R82: =Zalaegerszeg!R35 -> 0 | S82: =Zalaegerszeg!S35 -> 2300 | T82: =Zalaegerszeg!T35 -> 0 | U82: =Zalaegerszeg!U35 -> 0 | V82: =Zalaegerszeg!V35 -> 0 | W82: =Zalaegerszeg!W35 -> 0 | ... AC82: =Zalaegerszeg!AC35 -> 0
... A85: =Zalaegerszeg!A38 -> 517 | B85: =Zalaegerszeg!B38 -> 0 | C85: =Zalaegerszeg!C38 -> Zalaegerszeg | D85: =Zalaegerszeg!D38 -> Gravitációs csatorna NA 800 rekonstrukció | E85: =Zalaegerszeg!E38 -> Az üzemelő viziközmű technológiailag elavult, üzemeltetése, és javítása már nem gazdaságos. Jelenleg a piacon magasabb műszaki tartalmak érhetőek el | F85: =Zalaegerszeg!F38 -> A viziközmű rendszer hatékonyságának növelése, az üzemeltetési költségek szinten tartása miatt szükséges | G85: =Zalaegerszeg!G38 -> A beavatkozás után egy hatékonyan működő viziközmű elemet kapunk, mely a kor elvárásainak megfelel. A rendszer üzembiztos, hatékony, és korszerű lesz | H85: =Zalaegerszeg!H38 -> 0 | ... N85: =Zalaegerszeg!N38 -> hosszú | P85: =Zalaegerszeg!P38 -> 0 | Q85: =Zalaegerszeg!Q38 -> 0 | R85: =Zalaegerszeg!R38 -> 0 | S85: =Zalaegerszeg!S38 -> 0 | T85: =Zalaegerszeg!T38 -> 2600 | U85: =Zalaegerszeg!U38 -> 0 | V85: =Zalaegerszeg!V38 -> 2600 | W85: =Zalaegerszeg!W38 -> 0 | ... AC85: =Zalaegerszeg!AC38 -> 0
A86: =Alibánfa!A15 -> 106 | B86: =Alibánfa!B15 -> 0 | C86: =Alibánfa!C15 -> Alibánfa | D86: =Alibánfa!D15 -> Idegenvíz kizárása a csatornadiagnosztikai vizsgálat és a helyszíni ellenőrzés alapján¹ | E86: =Alibánfa!E15 -> Az üzemelő viziközmű technológiailag elavult, üzemeltetése, és javítása már nem gazdaságos. Jelenleg a piacon magasabb műszaki tartalmak érhetőek el | F86: =Alibánfa!F15 -> A viziközmű rendszer hatékonyságának növelése, az üzemeltetési költségek szinten tartása miatt szükséges | G86: =Alibánfa!G15 -> A beavatkozás után egy hatékonyan működő viziközmű elemet kapunk, mely a kor elvárásainak megfelel. A rendszer üzembiztos, hatékony, és korszerű lesz | H86: =Alibánfa!H15 -> 0 | ... N86: =Alibánfa!N15 -> közép | P86: =Alibánfa!P15 -> 500 | Q86: =Alibánfa!Q15 -> 500 | R86: =Alibánfa!R15 -> 500 | S86: =Alibánfa!S15 -> 500 | T86: =Alibánfa!T15 -> 0 | U86: =Alibánfa!U15 -> 0 | V86: =Alibánfa!V15 -> 0 | W86: =Alibánfa!W15 -> 0 | ... AC86: =Alibánfa!AC15 -> 0
A87: =Alibánfa!A16 -> 529 | B87: =Alibánfa!B16 -> 0 | C87: =Alibánfa!C16 -> Alibánfa | D87: =Alibánfa!D16 -> Idegenvíz kizárása a csatornadiagnosztikai vizsgálat és a helyszíni ellenőrzés alapján¹ | E87: =Alibánfa!E16 -> Az üzemelő viziközmű technológiailag elavult, üzemeltetése, és javítása már nem gazdaságos. Jelenleg a piacon magasabb műszaki tartalmak érhetőek el | F87: =Alibánfa!F16 -> A viziközmű rendszer hatékonyságának növelése, az üzemeltetési költségek szinten tartása miatt szükséges | G87: =Alibánfa!G16 -> A beavatkozás után egy hatékonyan működő viziközmű elemet kapunk, mely a kor elvárásainak megfelel. A rendszer üzembiztos, hatékony, és korszerű lesz | H87: =Alibánfa!H16 -> 0 | ... N87: =Alibánfa!N16 -> hosszú | P87: =Alibánfa!P16 -> 0 | Q87: =Alibánfa!Q16 -> 0 | R87: =Alibánfa!R16 -> 0 | S87: =Alibánfa!S16 -> 0 | T87: =Alibánfa!T16 -> 500 | U87: =Alibánfa!U16 -> 500 | V87: =Alibánfa!V16 -> 500 | W87: =Alibánfa!W16 -> 200 | ... AC87: =Alibánfa!AC16 -> 200
A88: =Alibánfa!A17 -> 107 | B88: =Alibánfa!B17 -> 0 | C88: =Alibánfa!C17 -> Alibánfa | D88: =Alibánfa!D17 -> Gravitációs csatorna NA 150 rekonstrukció | E88: =Alibánfa!E17 -> Az üzemelő viziközmű technológiailag elavult, üzemeltetése, és javítása már nem gazdaságos. Jelenleg a piacon magasabb műszaki tartalmak érhetőek el | F88: =Alibánfa!F17 -> A viziközmű rendszer hatékonyságának növelése, az üzemeltetési költségek szinten tartása miatt szükséges | G88: =Alibánfa!G17 -> A beavatkozás után egy hatékonyan működő viziközmű elemet kapunk, mely a kor elvárásainak megfelel. A rendszer üzembiztos, hatékony, és korszerű lesz | H88: =Alibánfa!H17 -> 0 | ... N88: =Alibánfa!N17 -> közép | P88: =Alibánfa!P17 -> 2000 | Q88: =Alibánfa!Q17 -> 0 | R88: =Alibánfa!R17 -> 0 | S88: =Alibánfa!S17 -> 0 | T88: =Alibánfa!T17 -> 0 | U88: =Alibánfa!U17 -> 0 | V88: =Alibánfa!V17 -> 0 | W88: =Alibánfa!W17 -> 0 | ... AC88: =Alibánfa!AC17 -> 0
A89: =Alibánfa!A18 -> 530 | B89: =Alibánfa!B18 -> 0 | C89: =Alibánfa!C18 -> Alibánfa | D89: =Alibánfa!D18 -> Gravitációs csatorna NA 150 rekonstrukció | E89: =Alibánfa!E18 -> Az üzemelő viziközmű technológiailag elavult, üzemeltetése, és javítása már nem gazdaságos. Jelenleg a piacon magasabb műszaki tartalmak érhetőek el | F89: =Alibánfa!F18 -> A viziközmű rendszer hatékonyságának növelése, az üzemeltetési költségek szinten tartása miatt szükséges | G89: =Alibánfa!G18 -> A beavatkozás után egy hatékonyan működő viziközmű elemet kapunk, mely a kor elvárásainak megfelel. A rendszer üzembiztos, hatékony, és korszerű lesz | H89: =Alibánfa!H18 -> 0 | ... N89: =Alibánfa!N18 -> hosszú | P89: =Alibánfa!P18 -> 0 | Q89: =Alibánfa!Q18 -> 0 | R89: =Alibánfa!R18 -> 0 | S89: =Alibánfa!S18 -> 0 | T89: =Alibánfa!T18 -> 2000 | U89: =Alibánfa!U18 -> 0 | V89: =Alibánfa!V18 -> 0 | W89: =Alibánfa!W18 -> 0 | ... AC89: =Alibánfa!AC18 -> 0
A90: =Alibánfa!A19 -> 352 | B90: =Alibánfa!B19 -> 0 | C90: =Alibánfa!C19 -> Alibánfa | D90: =Alibánfa!D19 -> Gravitációs csatorna NA200 rekonstrukció | E90: =Alibánfa!E19 -> Az üzemelő viziközmű technológiailag elavult, üzemeltetése, és javítása már nem gazdaságos. Jelenleg a piacon magasabb műszaki tartalmak érhetőek el | F90: =Alibánfa!F19 -> A viziközmű rendszer hatékonyságának növelése, az üzemeltetési költségek szinten tartása miatt szükséges | G90: =Alibánfa!G19 -> A beavatkozás után egy hatékonyan működő viziközmű elemet kapunk, mely a kor elvárásainak megfelel. A rendszer üzembiztos, hatékony, és korszerű lesz | H90: =Alibánfa!H19 -> 0 | ... N90: =Alibánfa!N19 -> közép | P90: =Alibánfa!P19 -> 0 | Q90: =Alibánfa!Q19 -> 5000 | R90: =Alibánfa!R19 -> 0 | S90: =Alibánfa!S19 -> 0 | T90: =Alibánfa!T19 -> 0 | U90: =Alibánfa!U19 -> 0 | V90: =Alibánfa!V19 -> 0 | W90: =Alibánfa!W19 -> 0 | ... AC90: =Alibánfa!AC19 -> 0
A91: =Alibánfa!A20 -> 726 | B91: =Alibánfa!B20 -> 0 | C91: =Alibánfa!C20 -> Alibánfa | D91: =Alibánfa!D20 -> Gravitációs csatorna NA200 rekonstrukció | E91: =Alibánfa!E20 -> Az üzemelő viziközmű technológiailag elavult, üzemeltetése, és javítása már nem gazdaságos. Jelenleg a piacon magasabb műszaki tartalmak érhetőek el | F91: =Alibánfa!F20 -> A viziközmű rendszer hatékonyságának növelése, az üzemeltetési költségek szinten tartása miatt szükséges | G91: =Alibánfa!G20 -> A beavatkozás után egy hatékonyan működő viziközmű elemet kapunk, mely a kor elvárásainak megfelel. A rendszer üzembiztos, hatékony, és korszerű lesz | H91: =Alibánfa!H20 -> 0 | ... N91: =Alibánfa!N20 -> hosszú | P91: =Alibánfa!P20 -> 0 | Q91: =Alibánfa!Q20 -> 0 | R91: =Alibánfa!R20 -> 0 | S91: =Alibánfa!S20 -> 0 | T91: =Alibánfa!T20 -> 0 | U91: =Alibánfa!U20 -> 5000 | V91: =Alibánfa!V20 -> 0 | W91: =Alibánfa!W20 -> 0 | ... AC91: =Alibánfa!AC20 -> 5000
A92: =Alsónemesapáti!A15 -> 110 | B92: =Alsónemesapáti!B15 -> 0 | C92: =Alsónemesapáti!C15 -> Alsónemesapáti | D92: =Alsónemesapáti!D15 -> Idegenvíz kizárása a csatornadiagnosztikai vizsgálat és a helyszíni ellenőrzés alapján¹ | E92: =Alsónemesapáti!E15 -> Az üzemelő viziközmű technológiailag elavult, üzemeltetése, és javítása már nem gazdaságos. Jelenleg a piacon magasabb műszaki tartalmak érhetőek el | F92: =Alsónemesapáti!F15 -> A viziközmű rendszer hatékonyságának növelése, az üzemeltetési költségek szinten tartása miatt szükséges | G92: =Alsónemesapáti!G15 -> A beavatkozás után egy hatékonyan működő viziközmű elemet kapunk, mely a kor elvárásainak megfelel. A rendszer üzembiztos, hatékony, és korszerű lesz | H92: =Alsónemesapáti!H15 -> 0 | ... N92: =Alsónemesapáti!N15 -> közép | P92: =Alsónemesapáti!P15 -> 661 | Q92: =Alsónemesapáti!Q15 -> 661 | R92: =Alsónemesapáti!R15 -> 661 | S92: =Alsónemesapáti!S15 -> 661 | T92: =Alsónemesapáti!T15 -> 0 | U92: =Alsónemesapáti!U15 -> 0 | V92: =Alsónemesapáti!V15 -> 0 | W92: =Alsónemesapáti!W15 -> 0 | ... AC92: =Alsónemesapáti!AC15 -> 0
A93: =Alsónemesapáti!A16 -> 532 | B93: =Alsónemesapáti!B16 -> 0 | C93: =Alsónemesapáti!C16 -> Alsónemesapáti | D93: =Alsónemesapáti!D16 -> Idegenvíz kizárása a csatornadiagnosztikai vizsgálat és a helyszíni ellenőrzés alapján¹ | E93: =Alsónemesapáti!E16 -> Az üzemelő viziközmű technológiailag elavult, üzemeltetése, és javítása már nem gazdaságos. Jelenleg a piacon magasabb műszaki tartalmak érhetőek el | F93: =Alsónemesapáti!F16 -> A viziközmű rendszer hatékonyságának növelése, az üzemeltetési költségek szinten tartása miatt szükséges | G93: =Alsónemesapáti!G16 -> A beavatkozás után egy hatékonyan működő viziközmű elemet kapunk, mely a kor elvárásainak megfelel. A rendszer üzembiztos, hatékony, és korszerű lesz | H93: =Alsónemesapáti!H16 -> 0 | ... N93: =Alsónemesapáti!N16 -> hosszú | P93: =Alsónemesapáti!P16 -> 0 | Q93: =Alsónemesapáti!Q16 -> 0 | R93: =Alsónemesapáti!R16 -> 0 | S93: =Alsónemesapáti!S16 -> 0 | T93: =Alsónemesapáti!T16 -> 661 | U93: =Alsónemesapáti!U16 -> 661 | V93: =Alsónemesapáti!V16 -> 661 | W93: =Alsónemesapáti!W16 -> 300 | ... AC93: =Alsónemesapáti!AC16 -> 300
A94: =Alsónemesapáti!A17 -> 111 | B94: =Alsónemesapáti!B17 -> 0 | C94: =Alsónemesapáti!C17 -> Alsónemesapáti | D94: =Alsónemesapáti!D17 -> Gravitációs csatorna NA 150 rekonstrukció | E94: =Alsónemesapáti!E17 -> Az üzemelő viziközmű technológiailag elavult, üzemeltetése, és javítása már nem gazdaságos. Jelenleg a piacon magasabb műszaki tartalmak érhetőek el | F94: =Alsónemesapáti!F17 -> A viziközmű rendszer hatékonyságának növelése, az üzemeltetési költségek szinten tartása miatt szükséges | G94: =Alsónemesapáti!G17 -> A beavatkozás után egy hatékonyan működő viziközmű elemet kapunk, mely a kor elvárásainak megfelel. A rendszer üzembiztos, hatékony, és korszerű lesz | H94: =Alsónemesapáti!H17 -> 0 | ... N94: =Alsónemesapáti!N17 -> közép | P94: =Alsónemesapáti!P17 -> 2400 | Q94: =Alsónemesapáti!Q17 -> 0 | R94: =Alsónemesapáti!R17 -> 0 | S94: =Alsónemesapáti!S17 -> 0 | T94: =Alsónemesapáti!T17 -> 0 | U94: =Alsónemesapáti!U17 -> 0 | V94: =Alsónemesapáti!V17 -> 0 | W94: =Alsónemesapáti!W17 -> 0 | ... AC94: =Alsónemesapáti!AC17 -> 0
A95: =Alsónemesapáti!A18 -> 533 | B95: =Alsónemesapáti!B18 -> 0 | C95: =Alsónemesapáti!C18 -> Alsónemesapáti | D95: =Alsónemesapáti!D18 -> Gravitációs csatorna NA 150 rekonstrukció | E95: =Alsónemesapáti!E18 -> Az üzemelő viziközmű technológiailag elavult, üzemeltetése, és javítása már nem gazdaságos. Jelenleg a piacon magasabb műszaki tartalmak érhetőek el | F95: =Alsónemesapáti!F18 -> A viziközmű rendszer hatékonyságának növelése, az üzemeltetési költségek szinten tartása miatt szükséges | G95: =Alsónemesapáti!G18 -> A beavatkozás után egy hatékonyan működő viziközmű elemet kapunk, mely a kor elvárásainak megfelel. A rendszer üzembiztos, hatékony, és korszerű lesz | H95: =Alsónemesapáti!H18 -> 0 | ... N95: =Alsónemesapáti!N18 -> hosszú | P95: =Alsónemesapáti!P18 -> 0 | Q95: =Alsónemesapáti!Q18 -> 0 | R95: =Alsónemesapáti!R18 -> 0 | S95: =Alsónemesapáti!S18 -> 0 | T95: =Alsónemesapáti!T18 -> 2400 | U95: =Alsónemesapáti!U18 -> 0 | V95: =Alsónemesapáti!V18 -> 0 | W95: =Alsónemesapáti!W18 -> 0 | ... AC95: =Alsónemesapáti!AC18 -> 0
A96: =Alsónemesapáti!A19 -> 501 | B96: =Alsónemesapáti!B19 -> 0 | C96: =Alsónemesapáti!C19 -> Alsónemesapáti | D96: =Alsónemesapáti!D19 -> Gravitációs csatorna NA 150 rekonstrukció | E96: =Alsónemesapáti!E19 -> Az üzemelő viziközmű technológiailag elavult, üzemeltetése, és javítása már nem gazdaságos. Jelenleg a piacon magasabb műszaki tartalmak érhetőek el | F96: =Alsónemesapáti!F19 -> A viziközmű rendszer hatékonyságának növelése, az üzemeltetési költségek szinten tartása miatt szükséges | G96: =Alsónemesapáti!G19 -> A beavatkozás után egy hatékonyan működő viziközmű elemet kapunk, mely a kor elvárásainak megfelel. A rendszer üzembiztos, hatékony, és korszerű lesz | H96: =Alsónemesapáti!H19 -> 0 | ... N96: =Alsónemesapáti!N19 -> közép | P96: =Alsónemesapáti!P19 -> 0 | Q96: =Alsónemesapáti!Q19 -> 0 | R96: =Alsónemesapáti!R19 -> 0 | S96: =Alsónemesapáti!S19 -> 4500 | T96: =Alsónemesapáti!T19 -> 0 | U96: =Alsónemesapáti!U19 -> 0 | V96: =Alsónemesapáti!V19 -> 0 | W96: =Alsónemesapáti!W19 -> 0 | ... AC96: =Alsónemesapáti!AC19 -> 0
A97: =Alsónemesapáti!A20 -> 896 | B97: =Alsónemesapáti!B20 -> 0 | C97: =Alsónemesapáti!C20 -> Alsónemesapáti | D97: =Alsónemesapáti!D20 -> Gravitációs csatorna NA 150 rekonstrukció | E97: =Alsónemesapáti!E20 -> Az üzemelő viziközmű technológiailag elavult, üzemeltetése, és javítása már nem gazdaságos. Jelenleg a piacon magasabb műszaki tartalmak érhetőek el | F97: =Alsónemesapáti!F20 -> A viziközmű rendszer hatékonyságának növelése, az üzemeltetési költségek szinten tartása miatt szükséges | G97: =Alsónemesapáti!G20 -> A beavatkozás után egy hatékonyan működő viziközmű elemet kapunk, mely a kor elvárásainak megfelel. A rendszer üzembiztos, hatékony, és korszerű lesz | H97: =Alsónemesapáti!H20 -> 0 | ... N97: =Alsónemesapáti!N20 -> hosszú | P97: =Alsónemesapáti!P20 -> 0 | Q97: =Alsónemesapáti!Q20 -> 0 | R97: =Alsónemesapáti!R20 -> 0 | S97: =Alsónemesapáti!S20 -> 0 | T97: =Alsónemesapáti!T20 -> 0 | U97: =Alsónemesapáti!U20 -> 0 | V97: =Alsónemesapáti!V20 -> 0 | W97: =Alsónemesapáti!W20 -> 4300 | ... AC97: =Alsónemesapáti!AC20 -> 0
A98: =Babosdöbréte!A15 -> 115 | B98: =Babosdöbréte!B15 -> 0 | C98: =Babosdöbréte!C15 -> Babosdöbréte | D98: =Babosdöbréte!D15 -> Idegenvíz kizárása a csatornadiagnosztikai vizsgálat és a helyszíni ellenőrzés alapján¹ | E98: =Babosdöbréte!E15 -> Az üzemelő viziközmű technológiailag elavult, üzemeltetése, és javítása már nem gazdaságos. Jelenleg a piacon magasabb műszaki tartalmak érhetőek el | F98: =Babosdöbréte!F15 -> A viziközmű rendszer hatékonyságának növelése, az üzemeltetési költségek szinten tartása miatt szükséges | G98: =Babosdöbréte!G15 -> A beavatkozás után egy hatékonyan működő viziközmű elemet kapunk, mely a kor elvárásainak megfelel. A rendszer üzembiztos, hatékony, és korszerű lesz | H98: =Babosdöbréte!H15 -> 0 | ... N98: =Babosdöbréte!N15 -> közép | P98: =Babosdöbréte!P15 -> 395 | Q98: =Babosdöbréte!Q15 -> 395 | R98: =Babosdöbréte!R15 -> 395 | S98: =Babosdöbréte!S15 -> 395 | T98: =Babosdöbréte!T15 -> 0 | U98: =Babosdöbréte!U15 -> 0 | V98: =Babosdöbréte!V15 -> 0 | W98: =Babosdöbréte!W15 -> 0 | ... AC98: =Babosdöbréte!AC15 -> 0
A99: =Babosdöbréte!A16 -> 536 | B99: =Babosdöbréte!B16 -> 0 | C99: =Babosdöbréte!C16 -> Babosdöbréte | D99: =Babosdöbréte!D16 -> Idegenvíz kizárása a csatornadiagnosztikai vizsgálat és a helyszíni ellenőrzés alapján¹ | E99: =Babosdöbréte!E16 -> Az üzemelő viziközmű technológiailag elavult, üzemeltetése, és javítása már nem gazdaságos. Jelenleg a piacon magasabb műszaki tartalmak érhetőek el | F99: =Babosdöbréte!F16 -> A viziközmű rendszer hatékonyságának növelése, az üzemeltetési költségek szinten tartása miatt szükséges | G99: =Babosdöbréte!G16 -> A beavatkozás után egy hatékonyan működő viziközmű elemet kapunk, mely a kor elvárásainak megfelel. A rendszer üzembiztos, hatékony, és korszerű lesz | H99: =Babosdöbréte!H16 -> 0 | ... N99: =Babosdöbréte!N16 -> hosszú | P99: =Babosdöbréte!P16 -> 0 | Q99: =Babosdöbréte!Q16 -> 0 | R99: =Babosdöbréte!R16 -> 0 | S99: =Babosdöbréte!S16 -> 0 | T99: =Babosdöbréte!T16 -> 395 | U99: =Babosdöbréte!U16 -> 395 | V99: =Babosdöbréte!V16 -> 395 | W99: =Babosdöbréte!W16 -> 150 | ... AC99: =Babosdöbréte!AC16 -> 150
A100: =Babosdöbréte!A17 -> 116 | B100: =Babosdöbréte!B17 -> 0 | C100: =Babosdöbréte!C17 -> Babosdöbréte | D100: =Babosdöbréte!D17 -> Gravitációs csatorna NA 150 rekonstrukció | E100: =Babosdöbréte!E17 -> Az üzemelő viziközmű technológiailag elavult, üzemeltetése, és javítása már nem gazdaságos. Jelenleg a piacon magasabb műszaki tartalmak érhetőek el | F100: =Babosdöbréte!F17 -> A viziközmű rendszer hatékonyságának növelése, az üzemeltetési költségek szinten tartása miatt szükséges | G100: =Babosdöbréte!G17 -> A beavatkozás után egy hatékonyan működő viziközmű elemet kapunk, mely a kor elvárásainak megfelel. A rendszer üzembiztos, hatékony, és korszerű lesz | H100: =Babosdöbréte!H17 -> 0 | ... N100: =Babosdöbréte!N17 -> közép | P100: =Babosdöbréte!P17 -> 2300 | Q100: =Babosdöbréte!Q17 -> 0 | R100: =Babosdöbréte!R17 -> 0 | S100: =Babosdöbréte!S17 -> 0 | T100: =Babosdöbréte!T17 -> 0 | U100: =Babosdöbréte!U17 -> 0 | V100: =Babosdöbréte!V17 -> 0 | W100: =Babosdöbréte!W17 -> 0 | ... AC100: =Babosdöbréte!AC17 -> 0
A101: =Babosdöbréte!A18 -> 537 | B101: =Babosdöbréte!B18 -> 0 | C101: =Babosdöbréte!C18 -> Babosdöbréte | D101: =Babosdöbréte!D18 -> Gravitációs csatorna NA 150 rekonstrukció | E101: =Babosdöbréte!E18 -> Az üzemelő viziközmű technológiailag elavult, üzemeltetése, és javítása már nem gazdaságos. Jelenleg a piacon magasabb műszaki tartalmak érhetőek el | F101: =Babosdöbréte!F18 -> A viziközmű rendszer hatékonyságának növelése, az üzemeltetési költségek szinten tartása miatt szükséges | G101: =Babosdöbréte!G18 -> A beavatkozás után egy hatékonyan működő viziközmű elemet kapunk, mely a kor elvárásainak megfelel. A rendszer üzembiztos, hatékony, és korszerű lesz | H101: =Babosdöbréte!H18 -> 0 | ... N101: =Babosdöbréte!N18 -> hosszú | P101: =Babosdöbréte!P18 -> 0 | Q101: =Babosdöbréte!Q18 -> 0 | R101: =Babosdöbréte!R18 -> 0 | S101: =Babosdöbréte!S18 -> 0 | T101: =Babosdöbréte!T18 -> 2300 | U101: =Babosdöbréte!U18 -> 0 | V101: =Babosdöbréte!V18 -> 0 | W101: =Babosdöbréte!W18 -> 0 | ... AC101: =Babosdöbréte!AC18 -> 0
A102: =Babosdöbréte!A19 -> 354 | B102: =Babosdöbréte!B19 -> 0 | C102: =Babosdöbréte!C19 -> Babosdöbréte | D102: =Babosdöbréte!D19 -> Gravitációs csatorna NA200 rekonstrukció | E102: =Babosdöbréte!E19 -> Az üzemelő viziközmű technológiailag elavult, üzemeltetése, és javítása már nem gazdaságos. Jelenleg a piacon magasabb műszaki tartalmak érhetőek el | F102: =Babosdöbréte!F19 -> A viziközmű rendszer hatékonyságának növelése, az üzemeltetési költségek szinten tartása miatt szükséges | G102: =Babosdöbréte!G19 -> A beavatkozás után egy hatékonyan működő viziközmű elemet kapunk, mely a kor elvárásainak megfelel. A rendszer üzembiztos, hatékony, és korszerű lesz | H102: =Babosdöbréte!H19 -> 0 | ... N102: =Babosdöbréte!N19 -> közép | P102: =Babosdöbréte!P19 -> 0 | Q102: =Babosdöbréte!Q19 -> 3700 | R102: =Babosdöbréte!R19 -> 0 | S102: =Babosdöbréte!S19 -> 3700 | T102: =Babosdöbréte!T19 -> 0 | U102: =Babosdöbréte!U19 -> 0 | V102: =Babosdöbréte!V19 -> 0 | W102: =Babosdöbréte!W19 -> 0 | ... AC102: =Babosdöbréte!AC19 -> 0
...

Sheet Zalaegerszeg
A1: Gördülő fejlesztési terv a 2018 - 2032 időszakra
A2: FELÚJÍTÁSOK ÉS PÓTLÁSOK ÖSSZEFOGLALÓ TÁBLÁZATA
A3: A tervet benyújtó szervezet megnevezése: | K3: ZALAEGERSZEG | R3: ellátásért felelős / ellátásért felelősök képviselője / víziközmű-szolgáltató *
A4: Víziközmű-szolgáltató megnevezése: | K4: ÉSZAK ZALAI VÍZ- ÉS CSATORNAMŰ ZÁRTKÖRŰEN MŰKÖDŐ RÉSZVÉNYTÁRSASÁG
A5: Víziközmű-szolgáltatási ágazat megnevezése: | K5: SZENNYVÍZ ÁGAZAT
A6: Véleményeltérést megfogalmazó érintett fél megnevezése:
A7: Víziközmű-rendszer kódja: ** | K7: 21-32054-1-048-01-10 | R7: ZALAEGERSZEG-SZV
A8: V. szennyvízelvezetés
A9: Fontossági sorrend | B9: Felujítás és pótlás megnevezése | E9: Műszaki állapot felmérés, szükségességi indoklás | H9: Vízjogi létesítési/elvi engedély száma | I9: Az érintett ellátásért felelős(ök) megnevezése | J9: Tervezett nettó költség | K9: Forrás 2018 évre | L9: Megvalósítás időtartama | N9: Tervezett időtáv | O9: A beruházás ütemezése a tervezési időszak évei szerint
E10: Jelenlegi műszaki állapot | F10: Feladat szükségessége | G10: Megvalósítást követő várható műszaki állapot | J10: (eFt) | L10: Kezdés | M10: Befejezés | N10: (rövid / közép / hosszú) | O10: 1 | P10: 2 | Q10: 3 | R10: 4 | S10: 5 | T10: 6 | U10: 7 | V10: 8 | W10: 9 | X10: 10 | Y10: 11 | Z10: 12 | AA10: 13 | AB10: 14 | AC10: 15
B11: szakág | C11: Helyszín | D11: beruházás megnevezése
A12: 1 | D12: Rendkívüli helyzetből adódó azonnali feladatok (max. 15%) | F12: A rendszer zavartalan üzemének biztosítása érdekében szükséges a beavatkozás | I12: Zalaegerszeg | J12: =SUM(O12:AC12) -> 621213 | L12: 43101 | M12: 48579 | O12: 60156 | P12: =$C$166*0.15 -> 40075.5 | Q12: =$C$166*0.15 -> 40075.5 | R12: =$C$166*0.15 -> 40075.5 | S12: =$C$166*0.15 -> 40075.5 | T12: =$C$166*0.15 -> 40075.5 | U12: =$C$166*0.15 -> 40075.5 | V12: =$C$166*0.15 -> 40075.5 | W12: =$C$166*0.15 -> 40075.5 | ... AC12: =$C$166*0.15 -> 40075.5
B13: SZENNYVÍZCSATORNA (GRAVITÁCIÓS)
B14: Épület, építmény
A15: 2 | C15: Zalaegerszeg, Berzsenyi út 11-13. | D15: szennyvíz rekonstrukció (2016 évi forrás) | E15: Az üzemelő viziközmű technológiailag elavult, üzemeltetése, és javítása már nem gazdaságos. Jelenleg a piacon magasabb műszaki tartalmak érhetőek el | F15: A viziközmű rendszer hatékonyságának növelése, az üzemeltetési költségek szinten tartása miatt szükséges | G15: A beavatkozás után egy hatékonyan működő viziközmű elemet kapunk, mely a kor elvárásainak megfelel. A rendszer üzembiztos, hatékony, és korszerű lesz | I15: Zalaegerszeg | J15: =SUM(O15:AC15) -> 16867 | L15: 43101 | M15: 43465 | N15: rövid | O15: 16867
A16: 3 | C16: Zalaegerszeg, Arany János utca | D16: szennyvíz rekonstrukció | E16: Az üzemelő viziközmű technológiailag elavult, üzemeltetése, és javítása már nem gazdaságos. Jelenleg a piacon magasabb műszaki tartalmak érhetőek el | F16: A viziközmű rendszer hatékonyságának növelése, az üzemeltetési költségek szinten tartása miatt szükséges | G16: A beavatkozás után egy hatékonyan működő viziközmű elemet kapunk, mely a kor elvárásainak megfelel. A rendszer üzembiztos, hatékony, és korszerű lesz | I16: Zalaegerszeg | J16: =SUM(O16:AC16) -> 188000 | L16: 43101 | M16: 43465 | N16: rövid | O16: 188000
A17: 14 | C17: Zalaegerszeg , Mókus utca | D17: szennyvíz vezeték kiváltás | E17: Az üzemelő viziközmű technológiailag elavult, üzemeltetése, és javítása már nem gazdaságos. Jelenleg a piacon magasabb műszaki tartalmak érhetőek el | F17: A viziközmű rendszer hatékonyságának növelése, az üzemeltetési költségek szinten tartása miatt szükséges | G17: A beavatkozás után egy hatékonyan működő viziközmű elemet kapunk, mely a kor elvárásainak megfelel. A rendszer üzembiztos, hatékony, és korszerű lesz | I17: Zalaegerszeg | J17: =SUM(O17:AC17) -> 23000 | L17: 43101 | M17: 43465 | N17: rövid | O17: 23000
A18: 15 | C18: Zalaegerszeg , Hegyalja utca tömbbeblsők | D18: szennyvíz vezeték kiváltás | E18: Az üzemelő viziközmű technológiailag elavult, üzemeltetése, és javítása már nem gazdaságos. Jelenleg a piacon magasabb műszaki tartalmak érhetőek el | F18: A viziközmű rendszer hatékonyságának növelése, az üzemeltetési költségek szinten tartása miatt szükséges | G18: A beavatkozás után egy hatékonyan működő viziközmű elemet kapunk, mely a kor elvárásainak megfelel. A rendszer üzembiztos, hatékony, és korszerű lesz | I18: Zalaegerszeg | J18: =SUM(O18:AC18) -> 29000 | L18: 43101 | M18: 43465 | N18: rövid | O18: 29000
A19: 16 | C19: Zalaegerszeg Kosztolányi út | D19: szennyvíz vezeték kiváltás | E19: Az üzemelő viziközmű technológiailag elavult, üzemeltetése, és javítása már nem gazdaságos. Jelenleg a piacon magasabb műszaki tartalmak érhetőek el | F19: A viziközmű rendszer hatékonyságának növelése, az üzemeltetési költségek szinten tartása miatt szükséges | G19: A beavatkozás után egy hatékonyan működő viziközmű elemet kapunk, mely a kor elvárásainak megfelel. A rendszer üzembiztos, hatékony, és korszerű lesz | I19: Zalaegerszeg | J19: =SUM(O19:AC19) -> 10000 | L19: 43101 | M19: 43465 | N19: rövid | O19: 10000
A20: 17 | C20: Zalaegerszeg Takarék köz III. ütem | D20: szennyvíz vezeték kiváltás | E20: Az üzemelő viziközmű technológiailag elavult, üzemeltetése, és javítása már nem gazdaságos. Jelenleg a piacon magasabb műszaki tartalmak érhetőek el | F20: A viziközmű rendszer hatékonyságának növelése, az üzemeltetési költségek szinten tartása miatt szükséges | G20: A beavatkozás után egy hatékonyan működő viziközmű elemet kapunk, mely a kor elvárásainak megfelel. A rendszer üzembiztos, hatékony, és korszerű lesz | I20: Zalaegerszeg | J20: =SUM(O20:AC20) -> 10000 | L20: 43101 | M20: 43465 | N20: rövid | O20: 10000
A21: 18 | C21: Zalaegerszeg Fenyves-köz | D21: szennyvíz vezeték kiváltás | E21: Az üzemelő viziközmű technológiailag elavult, üzemeltetése, és javítása már nem gazdaságos. Jelenleg a piacon magasabb műszaki tartalmak érhetőek el | F21: A viziközmű rendszer hatékonyságának növelése, az üzemeltetési költségek szinten tartása miatt szükséges | G21: A beavatkozás után egy hatékonyan működő viziközmű elemet kapunk, mely a kor elvárásainak megfelel. A rendszer üzembiztos, hatékony, és korszerű lesz | I21: Zalaegerszeg | J21: =SUM(O21:AC21) -> 12000 | L21: 43101 | M21: 43465 | N21: rövid | O21: 12000
A22: 19 | C22: Zalaegerszeg | D22: szennyvízvezeték rekonstrukcióhoz köthető tervezési feladatok | E22: Az üzemelő viziközmű technológiailag elavult, üzemeltetése, és javítása már nem gazdaságos. Jelenleg a piacon magasabb műszaki tartalmak érhetőek el | F22: A viziközmű rendszer hatékonyságának növelése, az üzemeltetési költségek szinten tartása miatt szükséges | G22: A beavatkozás után egy hatékonyan működő viziközmű elemet kapunk, mely a kor elvárásainak megfelel. A rendszer üzembiztos, hatékony, és korszerű lesz | I22: Zalaegerszeg | J22: =SUM(O22:AC22) -> 6700 | L22: 43101 | M22: 43465 | N22: rövid | O22: 6700
A23: 38 | C23: Zalaegerszeg | D23: szennyvízakna cserék | E23: Az üzemelő viziközmű technológiailag elavult, üzemeltetése, és javítása már nem gazdaságos. Jelenleg a piacon magasabb műszaki tartalmak érhetőek el | F23: A viziközmű rendszer hatékonyságának növelése, az üzemeltetési költségek szinten tartása miatt szükséges | G23: A beavatkozás után egy hatékonyan működő viziközmű elemet kapunk, mely a kor elvárásainak megfelel. A rendszer üzembiztos, hatékony, és korszerű lesz | I23: Zalaegerszeg | J23: =SUM(O23:AC23) -> 15000 | L23: 43101 | M23: 43465 | N23: rövid | O23: 15000
A24: 328 | C24: Zalaegerszeg | D24: Gravitációs csatorna NA 150 rekonstrukció | E24: Az üzemelő viziközmű technológiailag elavult, üzemeltetése, és javítása már nem gazdaságos. Jelenleg a piacon magasabb műszaki tartalmak érhetőek el | F24: A viziközmű rendszer hatékonyságának növelése, az üzemeltetési költségek szinten tartása miatt szükséges | G24: A beavatkozás után egy hatékonyan működő viziközmű elemet kapunk, mely a kor elvárásainak megfelel. A rendszer üzembiztos, hatékony, és korszerű lesz | I24: Zalaegerszeg | J24: =SUM(O24:AC24) -> 40620 | L24: 43831 | M24: 44926 | N24: közép | Q24: 20310 | S24: 20310
A25: 709 | C25: Zalaegerszeg | D25: Gravitációs csatorna NA 150 rekonstrukció | E25: Az üzemelő viziközmű technológiailag elavult, üzemeltetése, és javítása már nem gazdaságos. Jelenleg a piacon magasabb műszaki tartalmak érhetőek el | F25: A viziközmű rendszer hatékonyságának növelése, az üzemeltetési költségek szinten tartása miatt szükséges | G25: A beavatkozás után egy hatékonyan működő viziközmű elemet kapunk, mely a kor elvárásainak megfelel. A rendszer üzembiztos, hatékony, és korszerű lesz | I25: Zalaegerszeg | J25: =SUM(O25:AC25) -> 101550 | L25: 45292 | M25: 48579 | N25: hosszú | U25: 20310 | W25: 20310 | Y25: 20310 | AA25: 20310 | AC25: 20310
A26: 329 | C26: Zalaegerszeg | D26: Gravitációs csatorna NA 200 rekonstrukció | E26: Az üzemelő viziközmű technológiailag elavult, üzemeltetése, és javítása már nem gazdaságos. Jelenleg a piacon magasabb műszaki tartalmak érhetőek el | F26: A viziközmű rendszer hatékonyságának növelése, az üzemeltetési költségek szinten tartása miatt szükséges | G26: A beavatkozás után egy hatékonyan működő viziközmű elemet kapunk, mely a kor elvárásainak megfelel. A rendszer üzembiztos, hatékony, és korszerű lesz | I26: Zalaegerszeg | J26: =SUM(O26:AC26) -> 472000 | L26: 43831 | M26: 44926 | N26: közép | Q26: 236000 | S26: 236000
A27: 710 | C27: Zalaegerszeg | D27: Gravitációs csatorna NA 200 rekonstrukció | E27: Az üzemelő viziközmű technológiailag elavult, üzemeltetése, és javítása már nem gazdaságos. Jelenleg a piacon magasabb műszaki tartalmak érhetőek el | F27: A viziközmű rendszer hatékonyságának növelése, az üzemeltetési költségek szinten tartása miatt szükséges | G27: A beavatkozás után egy hatékonyan működő viziközmű elemet kapunk, mely a kor elvárásainak megfelel. A rendszer üzembiztos, hatékony, és korszerű lesz | I27: Zalaegerszeg | J27: =SUM(O27:AC27) -> 1180000 | L27: 45292 | M27: 48579 | N27: hosszú | U27: 236000 | W27: 236000 | Y27: 236000 | AA27: 236000 | AC27: 236000
A28: 960 | C28: Zalaegerszeg | D28: Gravitációs csatorna NA 250 rekonstrukció | E28: Az üzemelő viziközmű technológiailag elavult, üzemeltetése, és javítása már nem gazdaságos. Jelenleg a piacon magasabb műszaki tartalmak érhetőek el | F28: A viziközmű rendszer hatékonyságának növelése, az üzemeltetési költségek szinten tartása miatt szükséges | G28: A beavatkozás után egy hatékonyan működő viziközmű elemet kapunk, mely a kor elvárásainak megfelel. A rendszer üzembiztos, hatékony, és korszerű lesz | I28: Zalaegerszeg | J28: =SUM(O28:AC28) -> 2200 | L28: 47484 | M28: 47848 | N28: hosszú | AA28: 2200
A29: 330 | C29: Zalaegerszeg | D29: Gravitációs csatorna NA 300 rekonstrukció | E29: Az üzemelő viziközmű technológiailag elavult, üzemeltetése, és javítása már nem gazdaságos. Jelenleg a piacon magasabb műszaki tartalmak érhetőek el | F29: A viziközmű rendszer hatékonyságának növelése, az üzemeltetési költségek szinten tartása miatt szükséges | G29: A beavatkozás után egy hatékonyan működő viziközmű elemet kapunk, mely a kor elvárásainak megfelel. A rendszer üzembiztos, hatékony, és korszerű lesz | I29: Zalaegerszeg | J29: =SUM(O29:AC29) -> 22400 | L29: 43831 | M29: 44926 | N29: közép | Q29: 11200 | S29: 11200
A30: 711 | C30: Zalaegerszeg | D30: Gravitációs csatorna NA 300 rekonstrukció | E30: Az üzemelő viziközmű technológiailag elavult, üzemeltetése, és javítása már nem gazdaságos. Jelenleg a piacon magasabb műszaki tartalmak érhetőek el | F30: A viziközmű rendszer hatékonyságának növelése, az üzemeltetési költségek szinten tartása miatt szükséges | G30: A beavatkozás után egy hatékonyan működő viziközmű elemet kapunk, mely a kor elvárásainak megfelel. A rendszer üzembiztos, hatékony, és korszerű lesz | I30: Zalaegerszeg | J30: =SUM(O30:AC30) -> 56000 | L30: 45292 | M30: 48579 | N30: hosszú | U30: 11200 | W30: 11200 | Y30: 11200 | AA30: 11200 | AC30: 11200
A31: 331 | C31: Zalaegerszeg | D31: Gravitációs csatorna NA 400 rekonstrukció | E31: Az üzemelő viziközmű technológiailag elavult, üzemeltetése, és javítása már nem gazdaságos. Jelenleg a piacon magasabb műszaki tartalmak érhetőek el | F31: A viziközmű rendszer hatékonyságának növelése, az üzemeltetési költségek szinten tartása miatt szükséges | G31: A beavatkozás után egy hatékonyan működő viziközmű elemet kapunk, mely a kor elvárásainak megfelel. A rendszer üzembiztos, hatékony, és korszerű lesz | I31: Zalaegerszeg | J31: =SUM(O31:AC31) -> 8400 | L31: 43831 | M31: 44926 | N31: közép | Q31: 4200 | S31: 4200
A32: 712 | C32: Zalaegerszeg | D32: Gravitációs csatorna NA 400 rekonstrukció | E32: Az üzemelő viziközmű technológiailag elavult, üzemeltetése, és javítása már nem gazdaságos. Jelenleg a piacon magasabb műszaki tartalmak érhetőek el | F32: A viziközmű rendszer hatékonyságának növelése, az üzemeltetési költségek szinten tartása miatt szükséges | G32: A beavatkozás után egy hatékonyan működő viziközmű elemet kapunk, mely a kor elvárásainak megfelel. A rendszer üzembiztos, hatékony, és korszerű lesz | I32: Zalaegerszeg | J32: =SUM(O32:AC32) -> 21000 | L32: 45292 | M32: 48579 | N32: hosszú | U32: 4200 | W32: 4200 | Y32: 4200 | AA32: 4200 | AC32: 4200
A33: 332 | C33: Zalaegerszeg | D33: Gravitációs csatorna NA 500 rekonstrukció | E33: Az üzemelő viziközmű technológiailag elavult, üzemeltetése, és javítása már nem gazdaságos. Jelenleg a piacon magasabb műszaki tartalmak érhetőek el | F33: A viziközmű rendszer hatékonyságának növelése, az üzemeltetési költségek szinten tartása miatt szükséges | G33: A beavatkozás után egy hatékonyan működő viziközmű elemet kapunk, mely a kor elvárásainak megfelel. A rendszer üzembiztos, hatékony, és korszerű lesz | I33: Zalaegerszeg | J33: =SUM(O33:AC33) -> 8800 | L33: 43831 | M33: 44926 | N33: közép | Q33: 4400 | S33: 4400
A34: 713 | C34: Zalaegerszeg | D34: Gravitációs csatorna NA 500 rekonstrukció | E34: Az üzemelő viziközmű technológiailag elavult, üzemeltetése, és javítása már nem gazdaságos. Jelenleg a piacon magasabb műszaki tartalmak érhetőek el | F34: A viziközmű rendszer hatékonyságának növelése, az üzemeltetési költségek szinten tartása miatt szükséges | G34: A beavatkozás után egy hatékonyan működő viziközmű elemet kapunk, mely a kor elvárásainak megfelel. A rendszer üzembiztos, hatékony, és korszerű lesz | I34: Zalaegerszeg | J34: =SUM(O34:AC34) -> 22000 | L34: 45292 | M34: 48579 | N34: hosszú | U34: 4400 | W34: 4400 | Y34: 4400 | AA34: 4400 | AC34: 4400
A35: 333 | C35: Zalaegerszeg | D35: Gravitációs csatorna NA 600 rekonstrukció | E35: Az üzemelő viziközmű technológiailag elavult, üzemeltetése, és javítása már nem gazdaságos. Jelenleg a piacon magasabb műszaki tartalmak érhetőek el | F35: A viziközmű rendszer hatékonyságának növelése, az üzemeltetési költségek szinten tartása miatt szükséges | G35: A beavatkozás után egy hatékonyan működő viziközmű elemet kapunk, mely a kor elvárásainak megfelel. A rendszer üzembiztos, hatékony, és korszerű lesz | I35: Zalaegerszeg | J35: =SUM(O35:AC35) -> 4600 | L35: 43831 | M35: 44926 | N35: közép | Q35: 2300 | S35: 2300
A36: 714 | C36: Zalaegerszeg | D36: Gravitációs csatorna NA 600 rekonstrukció | E36: Az üzemelő viziközmű technológiailag elavult, üzemeltetése, és javítása már nem gazdaságos. Jelenleg a piacon magasabb műszaki tartalmak érhetőek el | F36: A viziközmű rendszer hatékonyságának növelése, az üzemeltetési költségek szinten tartása miatt szükséges | G36: A beavatkozás után egy hatékonyan működő viziközmű elemet kapunk, mely a kor elvárásainak megfelel. A rendszer üzembiztos, hatékony, és korszerű lesz | I36: Zalaegerszeg | J36: =SUM(O36:AC36) -> 11500 | L36: 45292 | M36: 48579 | N36: hosszú | U36: 2300 | W36: 2300 | Y36: 2300 | AA36: 2300 | AC36: 2300
A37: 103 | C37: Zalaegerszeg | D37: Gravitációs csatorna NA 800 rekonstrukció | E37: Az üzemelő viziközmű technológiailag elavult, üzemeltetése, és javítása már nem gazdaságos. Jelenleg a piacon magasabb műszaki tartalmak érhetőek el | F37: A viziközmű rendszer hatékonyságának növelése, az üzemeltetési költségek szinten tartása miatt szükséges | G37: A beavatkozás után egy hatékonyan működő viziközmű elemet kapunk, mely a kor elvárásainak megfelel. A rendszer üzembiztos, hatékony, és korszerű lesz | I37: Zalaegerszeg | J37: =SUM(O37:AC37) -> 5200 | L37: 43466 | M37: 44561 | N37: közép | P37: 2600 | R37: 2600
A38: 517 | C38: Zalaegerszeg | D38: Gravitációs csatorna NA 800 rekonstrukció | E38: Az üzemelő viziközmű technológiailag elavult, üzemeltetése, és javítása már nem gazdaságos. Jelenleg a piacon magasabb műszaki tartalmak érhetőek el | F38: A viziközmű rendszer hatékonyságának növelése, az üzemeltetési költségek szinten tartása miatt szükséges | G38: A beavatkozás után egy hatékonyan működő viziközmű elemet kapunk, mely a kor elvárásainak megfelel. A rendszer üzembiztos, hatékony, és korszerű lesz | I38: Zalaegerszeg | J38: =SUM(O38:AC38) -> 13000 | L38: 44927 | M38: 48213 | N38: hosszú | T38: 2600 | V38: 2600 | X38: 2600 | Z38: 2600 | AB38: 2600
B39: SZENNYVÍZVEZETÉKEK (KÉNYSZERÁRAMOLTATÁSÚ)
A40: 334 | C40: Zalaegerszeg | D40: Nyomott vezeték NA 50 rekonstrukció | E40: Az üzemelő viziközmű technológiailag elavult, üzemeltetése, és javítása már nem gazdaságos. Jelenleg a piacon magasabb műszaki tartalmak érhetőek el | F40: A kiépített rendszer működőképességének megóvása, a biztonságos üzemelés biztosítása miatt van szükség a munka elvégzésére | G40: A viziközmű elem állapota megközelíti az új elem berendezés állapotát. Az üzembiztonság jelentősen növekszik | I40: Zalaegerszeg | J40: =SUM(O40:AC40) -> 12000 | L40: 43831 | M40: 44926 | N40: közép | Q40: 6000 | S40: 6000
A41: 715 | C41: Zalaegerszeg | D41: Nyomott vezeték NA 50 rekonstrukció | E41: Az üzemelő viziközmű technológiailag elavult, üzemeltetése, és javítása már nem gazdaságos. Jelenleg a piacon magasabb műszaki tartalmak érhetőek el | F41: A kiépített rendszer működőképességének megóvása, a biztonságos üzemelés biztosítása miatt van szükség a munka elvégzésére | G41: A viziközmű elem állapota megközelíti az új elem berendezés állapotát. Az üzembiztonság jelentősen növekszik | I41: Zalaegerszeg | J41: =SUM(O41:AC41) -> 30000 | L41: 45292 | M41: 48579 | N41: hosszú | U41: 6000 | W41: 6000 | Y41: 6000 | AA41: 6000 | AC41: 6000
A42: 335 | C42: Zalaegerszeg | D42: Nyomott vezeték NA 80 rekonstrukció | E42: Az üzemelő viziközmű technológiailag elavult, üzemeltetése, és javítása már nem gazdaságos. Jelenleg a piacon magasabb műszaki tartalmak érhetőek el | F42: A kiépített rendszer működőképességének megóvása, a biztonságos üzemelés biztosítása miatt van szükség a munka elvégzésére | G42: A viziközmű elem állapota megközelíti az új elem berendezés állapotát. Az üzembiztonság jelentősen növekszik | I42: Zalaegerszeg | J42: =SUM(O42:AC42) -> 6800 | L42: 43831 | M42: 44926 | N42: közép | Q42: 3400 | S42: 3400
A43: 716 | C43: Zalaegerszeg | D43: Nyomott vezeték NA 80 rekonstrukció | E43: Az üzemelő viziközmű technológiailag elavult, üzemeltetése, és javítása már nem gazdaságos. Jelenleg a piacon magasabb műszaki tartalmak érhetőek el | F43: A kiépített rendszer működőképességének megóvása, a biztonságos üzemelés biztosítása miatt van szükség a munka elvégzésére | G43: A viziközmű elem állapota megközelíti az új elem berendezés állapotát. Az üzembiztonság jelentősen növekszik | I43: Zalaegerszeg | J43: =SUM(O43:AC43) -> 17000 | L43: 45292 | M43: 48579 | N43: hosszú | U43: 3400 | W43: 3400 | Y43: 3400 | AA43: 3400 | AC43: 3400
A44: 336 | C44: Zalaegerszeg | D44: Nyomott vezeték NA 100 rekonstrukció | E44: Az üzemelő viziközmű technológiailag elavult, üzemeltetése, és javítása már nem gazdaságos. Jelenleg a piacon magasabb műszaki tartalmak érhetőek el | F44: A kiépített rendszer működőképességének megóvása, a biztonságos üzemelés biztosítása miatt van szükség a munka elvégzésére | G44: A viziközmű elem állapota megközelíti az új elem berendezés állapotát. Az üzembiztonság jelentősen növekszik | I44: Zalaegerszeg | J44: =SUM(O44:AC44) -> 8600 | L44: 43831 | M44: 44926 | N44: közép | Q44: 4300 | S44: 4300
A45: 717 | C45: Zalaegerszeg | D45: Nyomott vezeték NA 100 rekonstrukció | E45: Az üzemelő viziközmű technológiailag elavult, üzemeltetése, és javítása már nem gazdaságos. Jelenleg a piacon magasabb műszaki tartalmak érhetőek el | F45: A kiépített rendszer működőképességének megóvása, a biztonságos üzemelés biztosítása miatt van szükség a munka elvégzésére | G45: A viziközmű elem állapota megközelíti az új elem berendezés állapotát. Az üzembiztonság jelentősen növekszik | I45: Zalaegerszeg | J45: =SUM(O45:AC45) -> 21500 | L45: 45292 | M45: 48579 | N45: hosszú | U45: 4300 | W45: 4300 | Y45: 4300 | AA45: 4300 | AC45: 4300
A46: 518 | C46: Zalaegerszeg | D46: Nyomott vezeték NA 125 rekonstrukció | E46: Az üzemelő viziközmű technológiailag elavult, üzemeltetése, és javítása már nem gazdaságos. Jelenleg a piacon magasabb műszaki tartalmak érhetőek el | F46: A kiépített rendszer működőképességének megóvása, a biztonságos üzemelés biztosítása miatt van szükség a munka elvégzésére | G46: A viziközmű elem állapota megközelíti az új elem berendezés állapotát. Az üzembiztonság jelentősen növekszik | I46: Zalaegerszeg | J46: =SUM(O46:AC46) -> 2100 | L46: 44927 | M46: 45291 | N46: hosszú | T46: 2100
A47: 337 | C47: Zalaegerszeg | D47: Nyomott vezeték NA 150 rekonstrukció | E47: Az üzemelő viziközmű technológiailag elavult, üzemeltetése, és javítása már nem gazdaságos. Jelenleg a piacon magasabb műszaki tartalmak érhetőek el | F47: A kiépített rendszer működőképességének megóvása, a biztonságos üzemelés biztosítása miatt van szükség a munka elvégzésére | G47: A viziközmű elem állapota megközelíti az új elem berendezés állapotát. Az üzembiztonság jelentősen növekszik | I47: Zalaegerszeg | J47: =SUM(O47:AC47) -> 13400 | L47: 43831 | M47: 44926 | N47: közép | Q47: 6700 | S47: 6700
A48: 718 | C48: Zalaegerszeg | D48: Nyomott vezeték NA 150 rekonstrukció | E48: Az üzemelő viziközmű technológiailag elavult, üzemeltetése, és javítása már nem gazdaságos. Jelenleg a piacon magasabb műszaki tartalmak érhetőek el | F48: A kiépített rendszer működőképességének megóvása, a biztonságos üzemelés biztosítása miatt van szükség a munka elvégzésére | G48: A viziközmű elem állapota megközelíti az új elem berendezés állapotát. Az üzembiztonság jelentősen növekszik | I48: Zalaegerszeg | J48: =SUM(O48:AC48) -> 33500 | L48: 45292 | M48: 48579 | N48: hosszú | U48: 6700 | W48: 6700 | Y48: 6700 | AA48: 6700 | AC48: 6700
A49: 338 | C49: Zalaegerszeg | D49: Nyomott vezeték NA 200 rekonstrukció | E49: Az üzemelő viziközmű technológiailag elavult, üzemeltetése, és javítása már nem gazdaságos. Jelenleg a piacon magasabb műszaki tartalmak érhetőek el | F49: A kiépített rendszer működőképességének megóvása, a biztonságos üzemelés biztosítása miatt van szükség a munka elvégzésére | G49: A viziközmű elem állapota megközelíti az új elem berendezés állapotát. Az üzembiztonság jelentősen növekszik | I49: Zalaegerszeg | J49: =SUM(O49:AC49) -> 7600 | L49: 43831 | M49: 44926 | N49: közép | Q49: 3800 | S49: 3800
A50: 719 | C50: Zalaegerszeg | D50: Nyomott vezeték NA 200 rekonstrukció | E50: Az üzemelő viziközmű technológiailag elavult, üzemeltetése, és javítása már nem gazdaságos. Jelenleg a piacon magasabb műszaki tartalmak érhetőek el | F50: A kiépített rendszer működőképességének megóvása, a biztonságos üzemelés biztosítása miatt van szükség a munka elvégzésére | G50: A viziközmű elem állapota megközelíti az új elem berendezés állapotát. Az üzembiztonság jelentősen növekszik | I50: Zalaegerszeg | J50: =SUM(O50:AC50) -> 19000 | L50: 45292 | M50: 48579 | N50: hosszú | U50: 3800 | W50: 3800 | Y50: 3800 | AA50: 3800 | AC50: 3800
A51: 519 | C51: Zalaegerszeg | D51: Nyomott vezeték NA 250 rekonstrukció | E51: Az üzemelő viziközmű technológiailag elavult, üzemeltetése, és javítása már nem gazdaságos. Jelenleg a piacon magasabb műszaki tartalmak érhetőek el | F51: A kiépített rendszer működőképességének megóvása, a biztonságos üzemelés biztosítása miatt van szükség a munka elvégzésére | G51: A viziközmű elem állapota megközelíti az új elem berendezés állapotát. Az üzembiztonság jelentősen növekszik | I51: Zalaegerszeg | J51: =SUM(O51:AC51) -> 4200 | L51: 44927 | M51: 47848 | N51: hosszú | T51: 2100 | AA51: 2100
A52: 417 | C52: Zalaegerszeg | D52: Nyomott vezeték NA 300 rekonstrukció | E52: Az üzemelő viziközmű technológiailag elavult, üzemeltetése, és javítása már nem gazdaságos. Jelenleg a piacon magasabb műszaki tartalmak érhetőek el | F52: A kiépített rendszer működőképességének megóvása, a biztonságos üzemelés biztosítása miatt van szükség a munka elvégzésére | G52: A viziközmű elem állapota megközelíti az új elem berendezés állapotát. Az üzembiztonság jelentősen növekszik | I52: Zalaegerszeg | J52: =SUM(O52:AC52) -> 2100 | L52: 44197 | M52: 44561 | N52: közép | R52: 2100
A53: 918 | C53: Zalaegerszeg | D53: Nyomott vezeték NA 300 rekonstrukció | E53: Az üzemelő viziközmű technológiailag elavult, üzemeltetése, és javítása már nem gazdaságos. Jelenleg a piacon magasabb műszaki tartalmak érhetőek el | F53: A kiépített rendszer működőképességének megóvása, a biztonságos üzemelés biztosítása miatt van szükség a munka elvégzésére | G53: A viziközmű elem állapota megközelíti az új elem berendezés állapotát. Az üzembiztonság jelentősen növekszik | I53: Zalaegerszeg | J53: =SUM(O53:AC53) -> 2100 | L53: 46388 | M53: 46752 | N53: hosszú | X53: 2100
B54: SZENNYVÍZÁTEMELŐK
B55: Épület, építmény
A56: 20 | C56: Zalaegerszeg Régi szennyvíztelep átemelő | D56: átemelő akna bélelés | E56: Az üzemelő viziközmű technológiailag elavult, üzemeltetése, és javítása már nem gazdaságos. Jelenleg a piacon magasabb műszaki tartalmak érhetőek el | F56: A viziközmű elemhez vezető út oly mértékig rongálódott meg, hogy a napi munkavégzés már nem minden esetben biztosítható. A bejutást biztosítani szükséges a biztonságos üzemeltetés érdekében | G56: A viziközmű elem állapota megközelíti az új elem berendezés állapotát. Az üzembiztonság jelentősen növekszik | I56: Zalaegerszeg | J56: =SUM(O56:AC56) -> 9000 | L56: 43101 | M56: 43465 | N56: rövid | O56: 9000
A57: 21 | C57: Zalaegerszeg Új szennyvíztelep átemelő | D57: átemelő akna bélelés | E57: Az üzemelő viziközmű technológiailag elavult, üzemeltetése, és javítása már nem gazdaságos. Jelenleg a piacon magasabb műszaki tartalmak érhetőek el | F57: A viziközmű elemhez vezető út oly mértékig rongálódott meg, hogy a napi munkavégzés már nem minden esetben biztosítható. A bejutást biztosítani szükséges a biztonságos üzemeltetés érdekében | G57: A viziközmű elem állapota megközelíti az új elem berendezés állapotát. Az üzembiztonság jelentősen növekszik | I57: Zalaegerszeg | J57: =SUM(O57:AC57) -> 1800 | L57: 43101 | M57: 43465 | N57: rövid | O57: 1800
A58: 22 | C58: Zalaegerszeg Kabók L. úti átemelő | D58: gépészeti akna vízzárózása | E58: A viziközmű elem nem vízzáró. A rendszerbe nagy mennyiségű idegen víz, vagy a rendszerből nagy mennyiségű szennyvíz kerül a környezetbe | F58: A kiépített rendszer működőképességének megóvása, a biztonságos üzemelés biztosítása miatt van szükség a munka elvégzésére | G58: A beavatkozás után egy hatékonyan működő viziközmű elemet kapunk, mely a kor elvárásainak megfelel. A rendszer üzembiztos, hatékony, és korszerű lesz | I58: Zalaegerszeg | J58: =SUM(O58:AC58) -> 150 | L58: 43101 | M58: 43465 | N58: rövid | O58: 150
A59: 104 | C59: Zalaegerszeg | D59: átemelő akna építészeti rekonstrukció | E59: A szennyvíz, és a belőle felszabaduló gázok hatására a felületek elkorrodálnak. Ezen elemek cseréje a A kiépített rendszer működőképességének megóvása, a biztonságos üzemelés biztosítása miatt van szükség a munka elvégzésérehez elengedhetetlen | F59: A kiépített rendszer működőképességének megóvása, a biztonságos üzemelés biztosítása miatt van szükség a munka elvégzésére | G59: A viziközmű elem állapota megközelíti az új elem berendezés állapotát. Az üzembiztonság jelentősen növekszik | I59: Zalaegerszeg | J59: =SUM(O59:AC59) -> 55740 | L59: 43466 | M59: 44926 | N59: közép | P59: 12840 | Q59: 11990 | R59: 16420 | S59: 14490
A60: 520 | C60: Zalaegerszeg | D60: átemelő akna építészeti rekonstrukció | E60: A szennyvíz, és a belőle felszabaduló gázok hatására a felületek elkorrodálnak. Ezen elemek cseréje a A kiépített rendszer működőképességének megóvása, a biztonságos üzemelés biztosítása miatt van szükség a munka elvégzésérehez elengedhetetlen | F60: A kiépített rendszer működőképességének megóvása, a biztonságos üzemelés biztosítása miatt van szükség a munka elvégzésére | G60: A viziközmű elem állapota megközelíti az új elem berendezés állapotát. Az üzembiztonság jelentősen növekszik | I60: Zalaegerszeg | J60: =SUM(O60:AC60) -> 176820 | L60: 44927 | M60: 48579 | N60: hosszú | T60: 12940 | U60: 15500 | V60: 22910 | W60: 13990 | X60: 20230 | Y60: 20090 | Z60: 17120 | AA60: 18040 | AB60: 18000 | AC60: 18000
B61: Gép, berendezés
A62: 23 | C62: Zalaegerszeg Damjanich úti átemelő | D62: gépészeti felújítás² | E62: A szennyvíz, és a belőle felszabaduló gázok hatására a felületek elkorrodálnak. Ezen elemek cseréje a A kiépített rendszer működőképességének megóvása, a biztonságos üzemelés biztosítása miatt van szükség a munka elvégzésérehez elengedhetetlen | F62: A kiépített rendszer működőképességének megóvása, a biztonságos üzemelés biztosítása miatt van szükség a munka elvégzésére | G62: A viziközmű elem állapota megközelíti az új elem berendezés állapotát. Az üzembiztonság jelentősen növekszik | I62: Zalaegerszeg | J62: =SUM(O62:AC62) -> 1600 | L62: 43101 | M62: 43465 | N62: rövid | O62: 1600
A63: 24 | C63: Zalaegerszeg Régi szennyvíz telepi átemelő | D63: szivattyú csere 1 db | E63: A szennyvíz, és a belőle felszabaduló gázok hatására a felületek elkorrodálnak. Ezen elemek cseréje a A kiépített rendszer működőképességének megóvása, a biztonságos üzemelés biztosítása miatt van szükség a munka elvégzésérehez elengedhetetlen | F63: A kiépített rendszer működőképességének megóvása, a biztonságos üzemelés biztosítása miatt van szükség a munka elvégzésére | G63: A viziközmű elem állapota megközelíti az új elem berendezés állapotát. Az üzembiztonság jelentősen növekszik | I63: Zalaegerszeg | J63: =SUM(O63:AC63) -> 18000 | L63: 43101 | M63: 43465 | N63: rövid | O63: 18000
A64: 25 | C64: Zalaegerszeg Hatháza I. átemelő | D64: szivattyú csere 2 db | E64: A szennyvíz, és a belőle felszabaduló gázok hatására a felületek elkorrodálnak. Ezen elemek cseréje a A kiépített rendszer működőképességének megóvása, a biztonságos üzemelés biztosítása miatt van szükség a munka elvégzésérehez elengedhetetlen | F64: A kiépített rendszer működőképességének megóvása, a biztonságos üzemelés biztosítása miatt van szükség a munka elvégzésére | G64: A viziközmű elem állapota megközelíti az új elem berendezés állapotát. Az üzembiztonság jelentősen növekszik | I64: Zalaegerszeg | J64: =SUM(O64:AC64) -> 2800 | L64: 43101 | M64: 43465 | N64: rövid | O64: 2800
A65: 26 | C65: Zalaegerszeg Jákum Ferenc úti átemelő | D65: szivattyú csere 2 db | E65: A szennyvíz, és a belőle felszabaduló gázok hatására a felületek elkorrodálnak. Ezen elemek cseréje a A kiépített rendszer működőképességének megóvása, a biztonságos üzemelés biztosítása miatt van szükség a munka elvégzésérehez elengedhetetlen | F65: A kiépített rendszer működőképességének megóvása, a biztonságos üzemelés biztosítása miatt van szükség a munka elvégzésére | G65: A viziközmű elem állapota megközelíti az új elem berendezés állapotát. Az üzembiztonság jelentősen növekszik | I65: Zalaegerszeg | J65: =SUM(O65:AC65) -> 2800 | L65: 43101 | M65: 43465 | N65: rövid | O65: 2800
A66: 105 | C66: Zalaegerszeg | D66: gépészeti rekonstrukció (1-6) | E66: A viziközmű elem a napi üzemmenet során oly mértékig elhasználódott, hogy a normál karbantartási munkákkal már nem biztosítható az üzembiztos működése | F66: A rendszer zavartalan üzemének biztosítása érdekében szükséges a beavatkozás | G66: A beavatkozás után egy hatékonyan működő viziközmű elemet kapunk, mely a kor elvárásainak megfelel. A rendszer üzembiztos, hatékony, és korszerű lesz | I66: Zalaegerszeg | J66: =SUM(O66:AC66) -> 228850 | L66: 43466 | M66: 44926 | N66: közép | P66: 42200 | Q66: 174800 | R66: 8350 | S66: 3500
A67: 521 | C67: Zalaegerszeg | D67: gépészeti rekonstrukció (1-6) | E67: Az üzemelő viziközmű elem működése közben előforduló eseti meghibásodások fordulhatnak elő, melyek előre nem tervezhetők | F67: A rendszer zavartalan üzemének biztosítása érdekében szükséges a beavatkozás | G67: A beavatkozás után egy hatékonyan működő viziközmű elemet kapunk, mely a kor elvárásainak megfelel. A rendszer üzembiztos, hatékony, és korszerű lesz | I67: Zalaegerszeg | J67: =SUM(O67:AC67) -> 453888 | L67: 44927 | M67: 48579 | N67: hosszú | T67: 131250 | U67: 59450 | V67: 35350 | W67: 3950 | X67: 182438 | Y67: 14250 | Z67: 7100 | AA67: 6700 | AB67: 6700 | AC67: 6700
B68: Irányítástechnika, energiaellátás
A69: 27 | C69: Zalaegerszeg Balatoni úti átemelő | D69: Villamos fogyasztásmérő hely felújítás (kismegszakítók cseréje) | E69: A viziközmű elem a napi üzemmenet során oly mértékig elhasználódott, hogy a normál karbantartási munkákkal már nem biztosítható az üzembiztos működése | F69: A rendszer zavartalan üzemének biztosítása érdekében szükséges a beavatkozás | G69: A beavatkozás után egy hatékonyan működő viziközmű elemet kapunk, mely a kor elvárásainak megfelel. A rendszer üzembiztos, hatékony, és korszerű lesz | I69: Zalaegerszeg | J69: =SUM(O69:AC69) -> 183 | L69: 43101 | M69: 43465 | N69: rövid | O69: 183
A70: 418 | C70: Zalaegerszeg | D70: erősáramú és irányítástechnikai rekonstrukció | E70: A viziközmű elem a napi üzemmenet során oly mértékig elhasználódott, hogy a normál karbantartási munkákkal már nem biztosítható az üzembiztos működése | F70: A kiépített rendszer működőképességének megóvása, a biztonságos üzemelés biztosítása miatt van szükség a munka elvégzésére | G70: A viziközmű elem állapota megközelíti az új elem berendezés állapotát. Az üzembiztonság jelentősen növekszik | I70: Zalaegerszeg | J70: =SUM(O70:AC70) -> 353500 | L70: 44197 | M70: 44561 | N70: közép | R70: 353500
A71: 941 | C71: Zalaegerszeg | D71: erősáramú és irányítástechnikai rekonstrukció | E71: A viziközmű elem a napi üzemmenet során oly mértékig elhasználódott, hogy a normál karbantartási munkákkal már nem biztosítható az üzembiztos működése | F71: A kiépített rendszer működőképességének megóvása, a biztonságos üzemelés biztosítása miatt van szükség a munka elvégzésére | G71: A viziközmű elem állapota megközelíti az új elem berendezés állapotát. Az üzembiztonság jelentősen növekszik | I71: Zalaegerszeg | J71: =SUM(O71:AC71) -> 353500 | L71: 46753 | M71: 47118 | N71: hosszú | Y71: 353500
B72: Összesen: | J72: =SUM(J12:J71) -> 4739581
A73: VI. Szennyvíztisztítás
A74: sorszám | B74: szakág | C74: Helyszín | D74: beruházás megnevezése
B75: SZENNYVÍZTISZTÍTÓ-TELEP
B76: Épület, építmény
A77: 37 | C77: Zalaegerszeg szennyvíztelep | D77: biológiai medence vízzáró felület rekonstrukciója | E77: Üzemszerűen használható. | F77: Állagromlás miatti balesetveszély illetve üzemzavar megszűntetése. | G77: Biztonságos használat illetve működőképes állapot. | I77: Zalaegerszeg | J77: =SUM(O77:AC77) -> 5000 | L77: 43101 | M77: 43465 | N77: rövid | O77: 5000
A78: 961 | C78: Zalaegerszeg szennyvíztelep kezelő épület | D78: építészeti rekonstrukció | E78: Üzemszerűen használható. | F78: Állagromlás miatti balesetveszély illetve üzemzavar megszűntetése. | G78: Biztonságos használat illetve működőképes állapot. | I78: Zalaegerszeg | J78: =SUM(O78:AC78) -> 20000 | L78: 47484 | M78: 47848 | N78: hosszú | AA78: 20000
A79: 419 | C79: Zalaegerszeg szennyvíztelep Iszapgépház | D79: építészeti rekonstrukció | E79: Üzemszerűen használható. | F79: Állagromlás miatti balesetveszély illetve üzemzavar megszűntetése. | G79: Biztonságos használat illetve működőképes állapot. | I79: Zalaegerszeg | J79: =SUM(O79:AC79) -> 10000 | L79: 44197 | M79: 44561 | N79: közép | R79: 10000
A80: 942 | C80: Zalaegerszeg szennyvíztelep biológiai medence | D80: 2 db biológiai medence építészeti felújítása | E80: Üzemszerűen használható. | F80: Állagromlás miatti balesetveszély illetve üzemzavar megszűntetése. | G80: Biztonságos használat illetve működőképes állapot. | I80: Zalaegerszeg | J80: =SUM(O80:AC80) -> 30000 | L80: 46753 | M80: 47118 | N80: hosszú | Y80: 30000
A81: 889 | C81: Zalaegerszeg szennyvíztelep utóülepítő | D81: építészeti rekonstrukció | E81: Üzemszerűen használható. | F81: Állagromlás miatti balesetveszély illetve üzemzavar megszűntetése. | G81: Biztonságos használat illetve működőképes állapot. | I81: Zalaegerszeg | J81: =SUM(O81:AC81) -> 12000 | L81: 46023 | M81: 46387 | N81: hosszú | W81: 12000
A82: 339 | C82: Zalaegerszeg szennyvíztelep elfolyó vályú | D82: építészeti rekonstrukció (lefedés) | E82: Üzemszerűen használható. | F82: Állagromlás miatti balesetveszély illetve üzemzavar megszűntetése. | G82: Biztonságos használat illetve működőképes állapot. | I82: Zalaegerszeg | J82: =SUM(O82:AC82) -> 10000 | L82: 43831 | M82: 44196 | N82: közép | Q82: 10000
A83: 826 | C83: Zalaegerszeg szennyvíztelep rothasztó tornyok | D83: építészeti rekonstrukció | E83: Üzemszerűen használható. | F83: Állagromlás miatti balesetveszély illetve üzemzavar megszűntetése. | G83: Biztonságos használat illetve működőképes állapot. | I83: Zalaegerszeg | J83: =SUM(O83:AC83) -> 10000 | L83: 45658 | M83: 46022 | N83: hosszú | V83: 10000
A84: 890 | C84: Zalaegerszeg szennyvíztelep Iszaptároló tartályok | D84: építészeti rekonstrukció | E84: Üzemszerűen használható. | F84: Állagromlás miatti balesetveszély illetve üzemzavar megszűntetése. | G84: Biztonságos használat illetve működőképes állapot. | I84: Zalaegerszeg | J84: =SUM(O84:AC84) -> 21000 | L84: 46023 | M84: 48579 | N84: hosszú | W84: 7000 | Z84: 7000 | AC84: 7000
A85: 1001 | C85: Zalaegerszeg szennyvíztelep mechanikai tisztító egység | D85: építészeti rekonstrukció | E85: Üzemszerűen használható. | F85: Állagromlás miatti balesetveszély illetve üzemzavar megszűntetése. | G85: Biztonságos használat illetve működőképes állapot. | I85: Zalaegerszeg | J85: =SUM(O85:AC85) -> 10000 | L85: 48579 | M85: 48579 | N85: hosszú | AC85: 10000
A86: 998 | C86: Zalaegerszeg szennyvíztelep NKÖHSZ szippantott szennyvízfogadó | D86: építészeti rekonstrukció | E86: Üzemszerűen használható. | F86: Állagromlás miatti balesetveszély illetve üzemzavar megszűntetése. | G86: Biztonságos használat illetve működőképes állapot. | I86: Zalaegerszeg | J86: =SUM(O86:AC86) -> 18000 | L86: 48213 | M86: 48213 | N86: hosszú | AB86: 18000
A87: 720 | C87: Zalaegerszeg szennyvíztelep csatornaiszapfogadó | D87: építészeti rekonstrukció | E87: Üzemszerűen használható. | F87: Állagromlás miatti balesetveszély illetve üzemzavar megszűntetése. | G87: Biztonságos használat illetve működőképes állapot. | I87: Zalaegerszeg | J87: =SUM(O87:AC87) -> 5000 | L87: 45292 | M87: 45657 | N87: hosszú | U87: 5000
A88: 891 | C88: Zalaegerszeg szennyvíztelep Demon medencék | D88: építészeti rekonstrukció | E88: Üzemszerűen használható. | F88: Állagromlás miatti balesetveszély illetve üzemzavar megszűntetése. | G88: Biztonságos használat illetve működőképes állapot. | I88: Zalaegerszeg | J88: =SUM(O88:AC88) -> 15000 | L88: 46023 | M88: 46387 | N88: hosszú | W88: 15000
A89: 340 | C89: Zalaegerszeg szennyvíztelep Iszapsűrítők | D89: építészeti rekonstrukció | E89: Üzemszerűen használható. | F89: Állagromlás miatti balesetveszély illetve üzemzavar megszűntetése. | G89: Biztonságos használat illetve működőképes állapot. | I89: Zalaegerszeg | J89: =SUM(O89:AC89) -> 5000 | L89: 43831 | M89: 44196 | N89: közép | Q89: 5000
B90: Gép, berendezés
A91: 4 | C91: Zalaegerszeg szennyvíztelep recirkulációs gépház | D91: 1 db Recirkulációs szivattyú cseréje (2017-ről áthúzódó) | E91: gyártó által megadott üzemidő lejár, gyakori üzem közbeni hibák, | F91: a berendezés nem tudja betölteni funkcióját, technológiai paraméterek nem teljesülnek. Határérték túllépés várható | G91: Biztonságos használat illetve működőképes állapot. | I91: Zalaegerszeg | J91: =SUM(O91:AC91) -> 5500 | L91: 43101 | M91: 43465 | N91: rövid | O91: 5500
A92: 5 | C92: Zalaegerszeg szennyvíztelep 1. biológia | D92: levegőztető elemek cseréje medence előkészítés és 4200 db membrán cseréje (2017-ről áthúzódó) | E92: A viziközmű elem a napi üzemmenet során oly mértékig elhasználódott, hogy a normál karbantartási munkákkal már nem biztosítható az üzembiztos működése, mechanikai részek elkoptak. | F92: Mechanikai szennyeződések bejutása a további tisztási egységekbe, súlyos üzemzavarokat okoz | G92: Biztonságos használat illetve működőképes állapot. | I92: Zalaegerszeg | J92: =SUM(O92:AC92) -> 4190 | L92: 43101 | M92: 43465 | N92: rövid | O92: 4190
A93: 6 | C93: Zalaegerszeg szennyvíztelep | D93: Gépi rácsok cseréje (Típusa: MEVA RS 14-120-3 típusú gépi finomrács EN 1.4307 (berendezés, vezérlés, beépítés) 2db) (2017-ről áthúzódó) | E93: A viziközmű elem a napi üzemmenet során oly mértékig elhasználódott, hogy a normál karbantartási munkákkal már nem biztosítható az üzembiztos működése, mechanikai részek elkoptak. | F93: Mechanikai szennyeződések bejutása a további tisztási egységekbe, súlyos üzemzavarokat okoz | G93: Biztonságos használat illetve működőképes állapot. | I93: Zalaegerszeg | J93: =SUM(O93:AC93) -> 17243 | L93: 43101 | M93: 43465 | N93: rövid | O93: 17243
A94: 7 | C94: Zalaegerszeg szennyvíztelep | D94: Iszap szállító csigaszivattyúk felújítása (2017-ről áthúzódó) | E94: gyártó által megadott üzemidő lejár, gyakori üzem közbeni hibák, | F94: a berendezés nem tudja betölteni funkcióját, technológiai paraméterek nem teljesülnek. Határérték túllépés várható | G94: Biztonságos használat illetve működőképes állapot. | I94: Zalaegerszeg | J94: =SUM(O94:AC94) -> 5000 | L94: 43101 | M94: 43465 | N94: rövid | O94: 5000
A95: 8 | C95: Zalaegerszeg szennyvíztelep | D95: 1. Dobsűrítők és vegyszerbekeverők felújítása (2017-ről áthúzódó) | E95: gyártó által megadott üzemidő lejár, gyakori üzem közbeni hibák, | F95: a berendezés nem tudja betölteni funkcióját, technológiai paraméterek nem teljesülnek. Határérték túllépés várható | G95: Biztonságos használat illetve működőképes állapot. | I95: Zalaegerszeg | J95: =SUM(O95:AC95) -> 2800 | L95: 43101 | M95: 43465 | N95: rövid | O95: 2800
A96: 9 | C96: Zalaegerszeg szennyvíztelep | D96: Szabályozó zsilipek cseréje, mennyiségmérők felújítása vagy cseréje (2017-ről áthúzódó) | E96: gyártó által megadott üzemidő lejár, gyakori üzem közbeni hibák, | F96: a berendezés nem tudja betölteni funkcióját, technológiai paraméterek nem teljesülnek. Határérték túllépés várható | G96: Biztonságos használat illetve működőképes állapot. | I96: Zalaegerszeg | J96: =SUM(O96:AC96) -> 4000 | L96: 43101 | M96: 43465 | N96: rövid | O96: 4000
A97: 10 | C97: Zalaegerszeg szennyvíztelep | D97: Pálcás sűrítő gépészeti felújítása (Iszapelvételi osztóakna gépészeti felújítás csőkiváltások illetve iszapelvétel átalakítása) (2017-ről áthúzódó) | E97: állandó dugulások, iszapszint beállító elemek tönkre mentek | F97: Iszapkezelés (sűrítés) hatásfoka Az üzemelő viziközmű elem műszaki állapota az évek során leromlott, jelentős mértékben megnövekedett a meghibásodás veszélye, a további elemek ez által alul működnek | G97: Biztonságos használat illetve működőképes állapot. | I97: Zalaegerszeg | J97: =SUM(O97:AC97) -> 2500 | L97: 43101 | M97: 43465 | N97: rövid | O97: 2500
A98: 11 | C98: Zalaegerszeg szennyvíztelep | D98: Pálcás sűrítő gépészeti felújítása (Szivattyú vezérlés felújítása (Frekvenciaváltó beépítéssel)) (2017-ről áthúzódó) | E98: gyártó által megadott üzemidő lejárt, gyakori üzem közbeni hibák | F98: A műtárgyból az iszapelvétel nehezen vagy egyeltalán nem szabályozható. Energia hatékonysága nem elfogadható. | G98: Biztonságos használat illetve működőképes állapot. | I98: Zalaegerszeg | J98: =SUM(O98:AC98) -> 1900 | L98: 43101 | M98: 43465 | N98: rövid | O98: 1900
A99: 12 | C99: Zalaegerszeg szennyvíztelep | D99: Utóülepítő gépészete és csatlakozó vezetékek és elzárószerelvények felújítása (II.) (2017-ről áthúzódó) | E99: gyártó által megadott üzemidő lejárt, gyakori üzem közbeni hibák | F99: A műtárgyból az iszapelvétel nehezen vagy egyeltalán nem szabályozható. Energia hatékonysága nem elfogadható. | G99: Biztonságos használat illetve működőképes állapot. | I99: Zalaegerszeg | J99: =SUM(O99:AC99) -> 6000 | L99: 43101 | M99: 43465 | N99: rövid | O99: 6000
A100: 13 | C100: Zalaegerszeg szennyvíztelep | D100: Iszapcentrifuga felújítása (2017-ről áthúzódó) | E100: gyártó által megadott üzemidő lejárt, gyakori üzem közbeni hibák | F100: A műtárgyból az iszapelvétel nehezen vagy egyeltalán nem szabályozható. Energia hatékonysága nem elfogadható. | G100: Biztonságos használat illetve működőképes állapot. | I100: Zalaegerszeg | J100: =SUM(O100:AC100) -> 3500 | L100: 43101 | M100: 43465 | N100: rövid | O100: 3500
...

Sheet Alibánfa
A1: Gördülő fejlesztési terv a 2018 - 2032 időszakra
A2: FELÚJÍTÁSOK ÉS PÓTLÁSOK ÖSSZEFOGLALÓ TÁBLÁZATA
A3: A tervet benyújtó szervezet megnevezése: | K3: ALIBÁNFA | R3: ellátásért felelős / ellátásért felelősök képviselője / víziközmű-szolgáltató *
A4: Víziközmű-szolgáltató megnevezése: | K4: ÉSZAK ZALAI VÍZ- ÉS CSATORNAMŰ ZÁRTKÖRŰEN MŰKÖDŐ RÉSZVÉNYTÁRSASÁG
A5: Víziközmű-szolgáltatási ágazat megnevezése: | K5: SZENNYVÍZ ÁGAZAT
A6: Véleményeltérést megfogalmazó érintett fél megnevezése:
A7: Víziközmű-rendszer kódja: ** | K7: 21-32054-1-048-01-10 | R7: ZALAEGERSZEG-SZV
A8: V. Szennyvízelvezetés
A9: Fontossági sorrend | B9: Felujítás és pótlás megnevezése | E9: Műszaki állapot felmérés, szükségességi indoklás | H9: Vízjogi létesítési/elvi engedély száma | I9: Az érintett ellátásért felelős(ök) megnevezése | J9: Tervezett nettó költség | K9: Forrás 2018 évre | L9: Megvalósítás időtartama | N9: Tervezett időtáv | O9: A beruházás ütemezése a tervezési időszak évei szerint
E10: Jelenlegi műszaki állapot | F10: Feladat szükségessége | G10: Megvalósítást követő várható műszaki állapot | J10: (eFt) | L10: Kezdés | M10: Befejezés | N10: (rövid / közép / hosszú) | O10: 1 | P10: 2 | Q10: 3 | R10: 4 | S10: 5 | T10: 6 | U10: 7 | V10: 8 | W10: 9 | X10: 10 | Y10: 11 | Z10: 12 | AA10: 13 | AB10: 14 | AC10: 15
B11: szakág | C11: Helyszín | D11: beruházás megnevezése
A12: 1 | D12: Rendkívüli helyzetből adódó azonnali feladatok (max. 15%) | F12: A rendszer zavartalan üzemének biztosítása érdekében szükséges a beavatkozás | I12: Alibánfa | J12: =SUM(O12:AC12) -> 7112.6 | L12: 43101 | M12: 48579 | O12: =$K$40*0.1 -> 323.3 | P12: =$K$40*0.15 -> 484.95 | Q12: =$K$40*0.15 -> 484.95 | R12: =$K$40*0.15 -> 484.95 | S12: =$K$40*0.15 -> 484.95 | T12: =$K$40*0.15 -> 484.95 | U12: =$K$40*0.15 -> 484.95 | V12: =$K$40*0.15 -> 484.95 | W12: =$K$40*0.15 -> 484.95 | ... AC12: =$K$40*0.15 -> 484.95
B13: SZENNYVÍZCSATORNA (GRAVITÁCIÓS)
B14: Épület, építmény
A15: 106 | C15: Alibánfa | D15: Idegenvíz kizárása a csatornadiagnosztikai vizsgálat és a helyszíni ellenőrzés alapján¹ | E15: Az üzemelő viziközmű technológiailag elavult, üzemeltetése, és javítása már nem gazdaságos. Jelenleg a piacon magasabb műszaki tartalmak érhetőek el | F15: A viziközmű rendszer hatékonyságának növelése, az üzemeltetési költségek szinten tartása miatt szükséges | G15: A beavatkozás után egy hatékonyan működő viziközmű elemet kapunk, mely a kor elvárásainak megfelel. A rendszer üzembiztos, hatékony, és korszerű lesz | I15: Alibánfa | J15: =SUM(O15:AC15) -> 2000 | L15: 43466 | M15: 44926 | N15: közép | P15: 500 | Q15: 500 | R15: 500 | S15: 500
A16: 529 | C16: Alibánfa | D16: Idegenvíz kizárása a csatornadiagnosztikai vizsgálat és a helyszíni ellenőrzés alapján¹ | E16: Az üzemelő viziközmű technológiailag elavult, üzemeltetése, és javítása már nem gazdaságos. Jelenleg a piacon magasabb műszaki tartalmak érhetőek el | F16: A viziközmű rendszer hatékonyságának növelése, az üzemeltetési költségek szinten tartása miatt szükséges | G16: A beavatkozás után egy hatékonyan működő viziközmű elemet kapunk, mely a kor elvárásainak megfelel. A rendszer üzembiztos, hatékony, és korszerű lesz | I16: Alibánfa | J16: =SUM(O16:AC16) -> 2900 | L16: 44927 | M16: 48579 | N16: hosszú | T16: 500 | U16: 500 | V16: 500 | W16: 200 | X16: 200 | Y16: 200 | Z16: 200 | AA16: 200 | AB16: 200 | AC16: 200
A17: 107 | C17: Alibánfa | D17: Gravitációs csatorna NA 150 rekonstrukció | E17: Az üzemelő viziközmű technológiailag elavult, üzemeltetése, és javítása már nem gazdaságos. Jelenleg a piacon magasabb műszaki tartalmak érhetőek el | F17: A viziközmű rendszer hatékonyságának növelése, az üzemeltetési költségek szinten tartása miatt szükséges | G17: A beavatkozás után egy hatékonyan működő viziközmű elemet kapunk, mely a kor elvárásainak megfelel. A rendszer üzembiztos, hatékony, és korszerű lesz | I17: Alibánfa | J17: =SUM(O17:AC17) -> 2000 | L17: 43466 | M17: 43830 | N17: közép | P17: 2000
A18: 530 | C18: Alibánfa | D18: Gravitációs csatorna NA 150 rekonstrukció | E18: Az üzemelő viziközmű technológiailag elavult, üzemeltetése, és javítása már nem gazdaságos. Jelenleg a piacon magasabb műszaki tartalmak érhetőek el | F18: A viziközmű rendszer hatékonyságának növelése, az üzemeltetési költségek szinten tartása miatt szükséges | G18: A beavatkozás után egy hatékonyan működő viziközmű elemet kapunk, mely a kor elvárásainak megfelel. A rendszer üzembiztos, hatékony, és korszerű lesz | I18: Alibánfa | J18: =SUM(O18:AC18) -> 6000 | L18: 44927 | M18: 48213 | N18: hosszú | T18: 2000 | X18: 2000 | AB18: 2000
A19: 352 | C19: Alibánfa | D19: Gravitációs csatorna NA200 rekonstrukció | E19: Az üzemelő viziközmű technológiailag elavult, üzemeltetése, és javítása már nem gazdaságos. Jelenleg a piacon magasabb műszaki tartalmak érhetőek el | F19: A viziközmű rendszer hatékonyságának növelése, az üzemeltetési költségek szinten tartása miatt szükséges | G19: A beavatkozás után egy hatékonyan működő viziközmű elemet kapunk, mely a kor elvárásainak megfelel. A rendszer üzembiztos, hatékony, és korszerű lesz | I19: Alibánfa | J19: =SUM(O19:AC19) -> 5000 | L19: 43831 | M19: 44196 | N19: közép | Q19: 5000
A20: 726 | C20: Alibánfa | D20: Gravitációs csatorna NA200 rekonstrukció | E20: Az üzemelő viziközmű technológiailag elavult, üzemeltetése, és javítása már nem gazdaságos. Jelenleg a piacon magasabb műszaki tartalmak érhetőek el | F20: A viziközmű rendszer hatékonyságának növelése, az üzemeltetési költségek szinten tartása miatt szükséges | G20: A beavatkozás után egy hatékonyan működő viziközmű elemet kapunk, mely a kor elvárásainak megfelel. A rendszer üzembiztos, hatékony, és korszerű lesz | I20: Alibánfa | J20: =SUM(O20:AC20) -> 15000 | L20: 45292 | M20: 48579 | N20: hosszú | U20: 5000 | Y20: 5000 | AC20: 5000
B21: SZENNYVÍZVEZETÉKEK (KÉNYSZERÁRAMOLTATÁSÚ)
A22: 39 | C22: Alibánfa I. átemelőnél | D22: Nyomott vezeték rekonstrukció | E22: Az üzemelő viziközmű elem műszaki állapota az évek során leromlott, jelentős mértékben megnövekedett a meghibásodás veszélye | F22: A rendszer zavartalan üzemének biztosítása érdekében szükséges a beavatkozás | G22: A viziközmű elem állapota megközelíti az új elem berendezés állapotát. Az üzembiztonság jelentősen növekszik | I22: Alibánfa | J22: =SUM(O22:AC22) -> 1500 | L22: 43101 | M22: 43465 | N22: rövid | O22: 1500
A23: 108 | C23: Alibánfa | D23: Nyomott vezeték NA100 rekonstrukció | E23: Az üzemelő viziközmű technológiailag elavult, üzemeltetése, és javítása már nem gazdaságos. Jelenleg a piacon magasabb műszaki tartalmak érhetőek el | F23: A kiépített rendszer működőképességének megóvása, a biztonságos üzemelés biztosítása miatt van szükség a munka elvégzésére | G23: A viziközmű elem állapota megközelíti az új elem berendezés állapotát. Az üzembiztonság jelentősen növekszik | I23: Alibánfa | J23: =SUM(O23:AC23) -> 3030 | L23: 43466 | M23: 43830 | N23: közép | P23: 3030
A24: 531 | C24: Alibánfa | D24: Nyomott vezeték NA100 rekonstrukció | E24: Az üzemelő viziközmű technológiailag elavult, üzemeltetése, és javítása már nem gazdaságos. Jelenleg a piacon magasabb műszaki tartalmak érhetőek el | F24: A kiépített rendszer működőképességének megóvása, a biztonságos üzemelés biztosítása miatt van szükség a munka elvégzésére | G24: A viziközmű elem állapota megközelíti az új elem berendezés állapotát. Az üzembiztonság jelentősen növekszik | I24: Alibánfa | J24: =SUM(O24:AC24) -> 9090 | L24: 44927 | M24: 48213 | N24: hosszú | T24: 3030 | X24: 3030 | AB24: 3030
A25: 423 | C25: Alibánfa | D25: Nyomott vezeték NA100 rekonstrukció | E25: Az üzemelő viziközmű technológiailag elavult, üzemeltetése, és javítása már nem gazdaságos. Jelenleg a piacon magasabb műszaki tartalmak érhetőek el | F25: A kiépített rendszer működőképességének megóvása, a biztonságos üzemelés biztosítása miatt van szükség a munka elvégzésére | G25: A viziközmű elem állapota megközelíti az új elem berendezés állapotát. Az üzembiztonság jelentősen növekszik | I25: Alibánfa | J25: =SUM(O25:AC25) -> 2200 | L25: 44197 | M25: 44561 | N25: közép | R25: 2200
A26: 727 | C26: Alibánfa | D26: Nyomott vezeték NA100 rekonstrukció | E26: Az üzemelő viziközmű technológiailag elavult, üzemeltetése, és javítása már nem gazdaságos. Jelenleg a piacon magasabb műszaki tartalmak érhetőek el | F26: A kiépített rendszer működőképességének megóvása, a biztonságos üzemelés biztosítása miatt van szükség a munka elvégzésére | G26: A viziközmű elem állapota megközelíti az új elem berendezés állapotát. Az üzembiztonság jelentősen növekszik | I26: Alibánfa | J26: =SUM(O26:AC26) -> 5500 | L26: 45292 | M26: 47848 | N26: hosszú | U26: 2200 | X26: 2200 | AA26: 1100
B27: SZENNYVÍZÁTEMELŐK
B28: Épület, építmény
A29: 40 | C29: Alibánfa I. átemelő | D29: gépészeti akna vízzárózása | E29: A viziközmű elem nem vízzáró. A rendszerbe nagy mennyiségű idegen víz, vagy a rendszerből nagy mennyiségű szennyvíz kerül a környezetbe | F29: A kiépített rendszer működőképességének megóvása, a biztonságos üzemelés biztosítása miatt van szükség a munka elvégzésére | G29: A viziközmű elem állapota megközelíti az új elem berendezés állapotát. Az üzembiztonság jelentősen növekszik | I29: Alibánfa | J29: =SUM(O29:AC29) -> 150 | L29: 43101 | M29: 43465 | N29: rövid | O29: 150
A30: 41 | C30: Alibánfa II. átemelő | D30: gépészeti akna vízzárózása | E30: A viziközmű elem nem vízzáró. A rendszerbe nagy mennyiségű idegen víz, vagy a rendszerből nagy mennyiségű szennyvíz kerül a környezetbe | F30: A kiépített rendszer működőképességének megóvása, a biztonságos üzemelés biztosítása miatt van szükség a munka elvégzésére | G30: A viziközmű elem állapota megközelíti az új elem berendezés állapotát. Az üzembiztonság jelentősen növekszik | I30: Alibánfa | J30: =SUM(O30:AC30) -> 150 | L30: 43101 | M30: 20118.12.31 | N30: rövid | O30: 150
A31: 109 | C31: Alibánfa | D31: átemelő akna építészeti rekonstrukció | E31: A szennyvíz, és a belőle felszabaduló gázok hatására a felületek elkorrodálnak. Ezen elemek cseréje a A kiépített rendszer működőképességének megóvása, a biztonságos üzemelés biztosítása miatt van szükség a munka elvégzésérehez elengedhetetlen | F31: A kiépített rendszer működőképességének megóvása, a biztonságos üzemelés biztosítása miatt van szükség a munka elvégzésére | G31: A viziközmű elem állapota megközelíti az új elem berendezés állapotát. Az üzembiztonság jelentősen növekszik | I31: Alibánfa | J31: =SUM(O31:AC31) -> 264 | L31: 43466 | M31: 43830 | N31: közép | P31: 264
A32: 832 | C32: Alibánfa | D32: átemelő akna építészeti rekonstrukció | E32: A szennyvíz, és a belőle felszabaduló gázok hatására a felületek elkorrodálnak. Ezen elemek cseréje a A kiépített rendszer működőképességének megóvása, a biztonságos üzemelés biztosítása miatt van szükség a munka elvégzésérehez elengedhetetlen | F32: A kiépített rendszer működőképességének megóvása, a biztonságos üzemelés biztosítása miatt van szükség a munka elvégzésére | G32: A viziközmű elem állapota megközelíti az új elem berendezés állapotát. Az üzembiztonság jelentősen növekszik | I32: Alibánfa | J32: =SUM(O32:AC32) -> 4570 | L32: 45658 | M32: 47848 | N32: hosszú | V32: 1200 | W32: 1200 | X32: 1200 | Y32: 550 | Z32: 120 | AA32: 300
B33: Gép, berendezés
A34: 42 | C34: Alibánfa I. átemelő | D34: gépészeti felújítás (1-6) | E34: A szennyvíz, és a belőle felszabaduló gázok hatására a felületek elkorrodálnak. Ezen elemek cseréje a A kiépített rendszer működőképességének megóvása, a biztonságos üzemelés biztosítása miatt van szükség a munka elvégzésére.hez elengedhetetlen. | F34: A kiépített rendszer működőképességének megóvása, a biztonságos üzemelés biztosítása miatt van szükség a munka elvégzésére. | G34: A viziközmű elem állapota megközelíti az új elem berendezés állapotát. Az üzembiztonság jelentősen növekszik. | I34: Alibánfa | J34: =SUM(O34:AC34) -> 1100 | L34: 43101 | M34: 43465 | N34: rövid | O34: 1100
A35: 353 | C35: Alibánfa | D35: gépészeti rekonstrukció (1-6) | E35: A viziközmű elem a napi üzemmenet során oly mértékig elhasználódott, hogy a normál karbantartási munkákkal már nem biztosítható az üzembiztos működése | F35: A rendszer zavartalan üzemének biztosítása érdekében szükséges a beavatkozás | G35: A beavatkozás után egy hatékonyan működő viziközmű elemet kapunk, mely a kor elvárásainak megfelel. A rendszer üzembiztos, hatékony, és korszerű lesz | I35: Alibánfa | J35: =SUM(O35:AC35) -> 1600 | L35: 43831 | M35: 44926 | N35: közép | Q35: 800 | S35: 800
A36: 728 | C36: Alibánfa | D36: gépészeti rekonstrukció (1-6) | E36: Az üzemelő viziközmű elem működése közben előforduló eseti meghibásodások fordulhatnak elő, melyek előre nem tervezhetők | F36: A rendszer zavartalan üzemének biztosítása érdekében szükséges a beavatkozás | G36: A beavatkozás után egy hatékonyan működő viziközmű elemet kapunk, mely a kor elvárásainak megfelel. A rendszer üzembiztos, hatékony, és korszerű lesz | I36: Alibánfa | J36: =SUM(O36:AC36) -> 7700 | L36: 44927 | M36: 48579 | N36: hosszú | U36: 800 | V36: 800 | X36: 4500 | Z36: 800 | AA36: 800
B37: Irányítástechnika, energiaellátás
A38: 424 | C38: Alibánfa | D38: erősáramú és irányítástechnikai rekonstrukció | E38: A viziközmű elem a napi üzemmenet során oly mértékig elhasználódott, hogy a normál karbantartási munkákkal már nem biztosítható az üzembiztos működése | F38: A kiépített rendszer működőképességének megóvása, a biztonságos üzemelés biztosítása miatt van szükség a munka elvégzésére | G38: A viziközmű elem állapota megközelíti az új elem berendezés állapotát. Az üzembiztonság jelentősen növekszik | I38: Alibánfa | J38: =SUM(O38:AC38) -> 2000 | L38: 44926 | M38: 44926 | N38: közép | R38: 2000
A39: 895 | C39: Alibánfa | D39: erősáramú és irányítástechnikai rekonstrukció | E39: A viziközmű elem a napi üzemmenet során oly mértékig elhasználódott, hogy a normál karbantartási munkákkal már nem biztosítható az üzembiztos működése | F39: A kiépített rendszer működőképességének megóvása, a biztonságos üzemelés biztosítása miatt van szükség a munka elvégzésére | G39: A viziközmű elem állapota megközelíti az új elem berendezés állapotát. Az üzembiztonság jelentősen növekszik | I39: Alibánfa | J39: =SUM(O39:AC39) -> 2000 | L39: 46023 | M39: 46387 | N39: hosszú | W39: 2000
B40: Összesen: | J40: =SUM(J12:J39) -> 80866.6 | K40: =C44+C45 -> 3233 | O40: =SUM(O12:O39) -> 3223.3 | P40: =SUM(P12:P39) -> 6278.95 | Q40: =SUM(Q12:Q39) -> 6784.95 | R40: =SUM(R12:R39) -> 5184.95 | S40: =SUM(S12:S39) -> 1784.95 | T40: =SUM(T12:T39) -> 6014.95 | U40: =SUM(U12:U39) -> 8984.95 | V40: =SUM(V12:V39) -> 2984.95 | ... AC40: =SUM(AC12:AC39) -> 5684.95
K41: 2018 évre a fejlesztési forrás biztosított
B43: Rendelkezésre álló források megnevezése | C43: Rendelkezésre álló források számszerűsített értéke a teljes ütem tekintetében (eFt)
A44: I. ütem | B44: Használati díj (2018) | C44: 2433
B45: Áthúzódó forrás (2017) | C45: 800
A46: II. ütem | B46: Használati díj (2019-2022) | C46: =C44*4 -> 9732
A47: III. ütem | B47: Használati díj (2023-2032) | C47: =C44*10 -> 24330
B51: ¹ Idegenvíz kizárás munkafolyamatai
B52: 1. Törött szerkezeti elemek cseréje, aknában bekötések körbekenése, folyásfenék újra betonozása, hézag pótlása (vízbetörés javítás)
B53: 2. Vízzáró réteg készítés, hosszútávú korrozíó és szerkezeti védelem (Szulfátálló réteg készítése)
B54: 3. Fedlap és szűkítő csere DN 600 mm, terhelésnek megfelelően, üzemeltető előírása szerint
B55: 4. Pontszerű hibahelyek javítása gerincvezetéken, és bekötésen
B57: ²Gépészeti felújítás
B58: 1. szivattyú talpidon csere
B59: 2. nyomócső csere
B60: 3. nadrágidom csere
B61: 4. visszacsapó szelep csere
B62: 5. tolózár csere
B63: 6. vezetőcső csere
... B68: 3. aszfaltozás

Sheet Alsónemesapáti
A1: Gördülő fejlesztési terv a 2018 - 2032 időszakra
A2: FELÚJÍTÁSOK ÉS PÓTLÁSOK ÖSSZEFOGLALÓ TÁBLÁZATA
A3: A tervet benyújtó szervezet megnevezése: | K3: ALSÓNEMESAPÁTI | R3: ellátásért felelős / ellátásért felelősök képviselője / víziközmű-szolgáltató *
A4: Víziközmű-szolgáltató megnevezése: | K4: ÉSZAK ZALAI VÍZ- ÉS CSATORNAMŰ ZÁRTKÖRŰEN MŰKÖDŐ RÉSZVÉNYTÁRSASÁG
A5: Víziközmű-szolgáltatási ágazat megnevezése: | K5: SZENNYVÍZ ÁGAZAT
A6: Véleményeltérést megfogalmazó érintett fél megnevezése:
A7: Víziközmű-rendszer kódja: ** | K7: 21-32054-1-048-01-10 | R7: ZALAEGERSZEG-SZV
A8: V. Szennyvízelvezetés
A9: Fontossági sorrend | B9: Felujítás és pótlás megnevezése | E9: Műszaki állapot felmérés, szükségességi indoklás | H9: Vízjogi létesítési/elvi engedély száma | I9: Az érintett ellátásért felelős(ök) megnevezése | J9: Tervezett nettó költség | K9: Forrás 2018 évre | L9: Megvalósítás időtartama | N9: Tervezett időtáv | O9: A beruházás ütemezése a tervezési időszak évei szerint
E10: Jelenlegi műszaki állapot | F10: Feladat szükségessége | G10: Megvalósítást követő várható műszaki állapot | J10: (eFt) | L10: Kezdés | M10: Befejezés | N10: (rövid / közép / hosszú) | O10: 1 | P10: 2 | Q10: 3 | R10: 4 | S10: 5 | T10: 6 | U10: 7 | V10: 8 | W10: 9 | X10: 10 | Y10: 11 | Z10: 12 | AA10: 13 | AB10: 14 | AC10: 15
B11: szakág | C11: Helyszín | D11: beruházás megnevezése
A12: 1 | D12: Rendkívüli helyzetből adódó azonnali feladatok (max. 15%) | F12: A rendszer zavartalan üzemének biztosítása érdekében szükséges a beavatkozás | I12: Alsónemesapáti | J12: =SUM(O12:AC12) -> 4461.75 | L12: 43101 | M12: 48579 | O12: =$K$43*0.15 -> 297.45 | P12: =$K$43*0.15 -> 297.45 | Q12: =$K$43*0.15 -> 297.45 | R12: =$K$43*0.15 -> 297.45 | S12: =$K$43*0.15 -> 297.45 | T12: =$K$43*0.15 -> 297.45 | U12: =$K$43*0.15 -> 297.45 | V12: =$K$43*0.15 -> 297.45 | ... AC12: =$K$43*0.15 -> 297.45
B13: SZENNYVÍZCSATORNA (GRAVITÁCIÓS)
B14: Épület, építmény
A15: 110 | C15: Alsónemesapáti | D15: Idegenvíz kizárása a csatornadiagnosztikai vizsgálat és a helyszíni ellenőrzés alapján¹ | E15: Az üzemelő viziközmű technológiailag elavult, üzemeltetése, és javítása már nem gazdaságos. Jelenleg a piacon magasabb műszaki tartalmak érhetőek el | F15: A viziközmű rendszer hatékonyságának növelése, az üzemeltetési költségek szinten tartása miatt szükséges | G15: A beavatkozás után egy hatékonyan működő viziközmű elemet kapunk, mely a kor elvárásainak megfelel. A rendszer üzembiztos, hatékony, és korszerű lesz | I15: Alsónemesapáti | J15: =SUM(O15:AC15) -> 2644 | L15: 43466 | M15: 44926 | N15: közép | P15: 661 | Q15: 661 | R15: 661 | S15: 661
A16: 532 | C16: Alsónemesapáti | D16: Idegenvíz kizárása a csatornadiagnosztikai vizsgálat és a helyszíni ellenőrzés alapján¹ | E16: Az üzemelő viziközmű technológiailag elavult, üzemeltetése, és javítása már nem gazdaságos. Jelenleg a piacon magasabb műszaki tartalmak érhetőek el | F16: A viziközmű rendszer hatékonyságának növelése, az üzemeltetési költségek szinten tartása miatt szükséges | G16: A beavatkozás után egy hatékonyan működő viziközmű elemet kapunk, mely a kor elvárásainak megfelel. A rendszer üzembiztos, hatékony, és korszerű lesz | I16: Alsónemesapáti | J16: =SUM(O16:AC16) -> 4083 | L16: 44927 | M16: 48579 | N16: hosszú | T16: 661 | U16: 661 | V16: 661 | W16: 300 | X16: 300 | Y16: 300 | Z16: 300 | AA16: 300 | AB16: 300 | AC16: 300
A17: 111 | C17: Alsónemesapáti | D17: Gravitációs csatorna NA 150 rekonstrukció | E17: Az üzemelő viziközmű technológiailag elavult, üzemeltetése, és javítása már nem gazdaságos. Jelenleg a piacon magasabb műszaki tartalmak érhetőek el | F17: A viziközmű rendszer hatékonyságának növelése, az üzemeltetési költségek szinten tartása miatt szükséges | G17: A beavatkozás után egy hatékonyan működő viziközmű elemet kapunk, mely a kor elvárásainak megfelel. A rendszer üzembiztos, hatékony, és korszerű lesz | I17: Alsónemesapáti | J17: =SUM(O17:AC17) -> 2400 | L17: 43466 | M17: 43830 | N17: közép | P17: 2400
A18: 533 | C18: Alsónemesapáti | D18: Gravitációs csatorna NA 150 rekonstrukció | E18: Az üzemelő viziközmű technológiailag elavult, üzemeltetése, és javítása már nem gazdaságos. Jelenleg a piacon magasabb műszaki tartalmak érhetőek el | F18: A viziközmű rendszer hatékonyságának növelése, az üzemeltetési költségek szinten tartása miatt szükséges | G18: A beavatkozás után egy hatékonyan működő viziközmű elemet kapunk, mely a kor elvárásainak megfelel. A rendszer üzembiztos, hatékony, és korszerű lesz | I18: Alsónemesapáti | J18: =SUM(O18:AC18) -> 7200 | L18: 44927 | M18: 48213 | N18: hosszú | T18: 2400 | X18: 2400 | AB18: 2400
A19: 501 | C19: Alsónemesapáti | D19: Gravitációs csatorna NA 150 rekonstrukció | E19: Az üzemelő viziközmű technológiailag elavult, üzemeltetése, és javítása már nem gazdaságos. Jelenleg a piacon magasabb műszaki tartalmak érhetőek el | F19: A viziközmű rendszer hatékonyságának növelése, az üzemeltetési költségek szinten tartása miatt szükséges | G19: A beavatkozás után egy hatékonyan működő viziközmű elemet kapunk, mely a kor elvárásainak megfelel. A rendszer üzembiztos, hatékony, és korszerű lesz | I19: Alsónemesapáti | J19: =SUM(O19:AC19) -> 4500 | L19: 44562 | M19: 44926 | N19: közép | S19: 4500
A20: 896 | C20: Alsónemesapáti | D20: Gravitációs csatorna NA 150 rekonstrukció | E20: Az üzemelő viziközmű technológiailag elavult, üzemeltetése, és javítása már nem gazdaságos. Jelenleg a piacon magasabb műszaki tartalmak érhetőek el | F20: A viziközmű rendszer hatékonyságának növelése, az üzemeltetési költségek szinten tartása miatt szükséges | G20: A beavatkozás után egy hatékonyan működő viziközmű elemet kapunk, mely a kor elvárásainak megfelel. A rendszer üzembiztos, hatékony, és korszerű lesz | I20: Alsónemesapáti | J20: =SUM(O20:AC20) -> 8800 | L20: 46023 | M20: 47848 | N20: hosszú | W20: 4300 | AA20: 4500
B21: SZENNYVÍZVEZETÉKEK (KÉNYSZERÁRAMOLTATÁSÚ)
B22: Épület, építmény
A23: 729 | C23: Alsónemesapáti | D23: nyomó/légtelenítő akna | E23: Az üzemelő viziközmű technológiailag elavult, üzemeltetése, és javítása már nem gazdaságos. Jelenleg a piacon magasabb műszaki tartalmak érhetőek el | F23: A kiépített rendszer működőképességének megóvása, a biztonságos üzemelés biztosítása miatt van szükség a munka elvégzésére | G23: A beavatkozás után egy hatékonyan működő viziközmű elemet kapunk, mely a kor elvárásainak megfelel. A rendszer üzembiztos, hatékony, és korszerű lesz | I23: Alsónemesapáti | J23: =SUM(O23:AC23) -> 360 | L23: 45292 | M23: 45657 | N23: hosszú | U23: 360
A24: 964 | C24: Alsónemesapáti | D24: Nyomott vezeték NA80 rekonstrukció | E24: Az üzemelő viziközmű technológiailag elavult, üzemeltetése, és javítása már nem gazdaságos. Jelenleg a piacon magasabb műszaki tartalmak érhetőek el | F24: A kiépített rendszer működőképességének megóvása, a biztonságos üzemelés biztosítása miatt van szükség a munka elvégzésére | G24: A viziközmű elem állapota megközelíti az új elem berendezés állapotát. Az üzembiztonság jelentősen növekszik | I24: Alsónemesapáti | J24: =SUM(O24:AC24) -> 850 | L24: 47484 | M24: 47848 | N24: hosszú | AA24: 850
A25: 425 | C25: Alsónemesapáti | D25: Nyomott vezeték NA125 rekonstrukció | E25: Az üzemelő viziközmű technológiailag elavult, üzemeltetése, és javítása már nem gazdaságos. Jelenleg a piacon magasabb műszaki tartalmak érhetőek el | F25: A kiépített rendszer működőképességének megóvása, a biztonságos üzemelés biztosítása miatt van szükség a munka elvégzésére | G25: A viziközmű elem állapota megközelíti az új elem berendezés állapotát. Az üzembiztonság jelentősen növekszik | I25: Alsónemesapáti | J25: =SUM(O25:AC25) -> 2200 | L25: 44197 | M25: 44561 | N25: közép | R25: 2200
A26: 730 | C26: Alsónemesapáti | D26: Nyomott vezeték NA125 rekonstrukció | E26: Az üzemelő viziközmű technológiailag elavult, üzemeltetése, és javítása már nem gazdaságos. Jelenleg a piacon magasabb műszaki tartalmak érhetőek el | F26: A kiépített rendszer működőképességének megóvása, a biztonságos üzemelés biztosítása miatt van szükség a munka elvégzésére | G26: A viziközmű elem állapota megközelíti az új elem berendezés állapotát. Az üzembiztonság jelentősen növekszik | I26: Alsónemesapáti | J26: =SUM(O26:AC26) -> 6900 | L26: 45292 | M26: 47848 | N26: hosszú | U26: 2300 | X26: 2300 | AA26: 2300
A27: 426 | C27: Alsónemesapáti | D27: Nyomott vezeték NA150 rekonstrukció | E27: Az üzemelő viziközmű technológiailag elavult, üzemeltetése, és javítása már nem gazdaságos. Jelenleg a piacon magasabb műszaki tartalmak érhetőek el | F27: A kiépített rendszer működőképességének megóvása, a biztonságos üzemelés biztosítása miatt van szükség a munka elvégzésére | G27: A viziközmű elem állapota megközelíti az új elem berendezés állapotát. Az üzembiztonság jelentősen növekszik | I27: Alsónemesapáti | J27: =SUM(O27:AC27) -> 2200 | L27: 44197 | M27: 44561 | N27: közép | R27: 2200
A28: 731 | C28: Alsónemesapáti | D28: Nyomott vezeték NA150 rekonstrukció | E28: Az üzemelő viziközmű technológiailag elavult, üzemeltetése, és javítása már nem gazdaságos. Jelenleg a piacon magasabb műszaki tartalmak érhetőek el | F28: A kiépített rendszer működőképességének megóvása, a biztonságos üzemelés biztosítása miatt van szükség a munka elvégzésére | G28: A viziközmű elem állapota megközelíti az új elem berendezés állapotát. Az üzembiztonság jelentősen növekszik | I28: Alsónemesapáti | J28: =SUM(O28:AC28) -> 6600 | L28: 45292 | M28: 47848 | N28: hosszú | U28: 2200 | X28: 2200 | AA28: 2200
B29: SZENNYVÍZÁTEMELŐK
B30: Épület, építmény
A31: 43 | C31: Alsónemesapáti | D31: I. átemelő akna bélelése | E31: A szennyvíz, és a belőle felszabaduló gázok hatására a felületek elkorrodálnak. Ezen elemek cseréje a A kiépített rendszer működőképességének megóvása, a biztonságos üzemelés biztosítása miatt van szükség a munka elvégzésérehez elengedhetetlen | F31: Statikai stabilitás biztosítása | G31: A viziközmű elem állapota megközelíti az új elem berendezés állapotát. Az üzembiztonság jelentősen növekszik | I31: Alsónemesapáti | J31: =SUM(O31:AC31) -> 1600 | L31: 43101 | M31: 43465 | N31: rövid | O31: 1600
A32: 112 | C32: Alsónemesapáti | D32: átemelő akna építészeti rekonstrukció | E32: A szennyvíz, és a belőle felszabaduló gázok hatására a felületek elkorrodálnak. Ezen elemek cseréje a A kiépített rendszer működőképességének megóvása, a biztonságos üzemelés biztosítása miatt van szükség a munka elvégzésérehez elengedhetetlen | F32: Statikai stabilitás biztosítása | G32: A viziközmű elem állapota megközelíti az új elem berendezés állapotát. Az üzembiztonság jelentősen növekszik | I32: Alsónemesapáti | J32: =SUM(O32:AC32) -> 2200 | L32: 43466 | M32: 44196 | N32: közép | P32: 1100 | Q32: 1100
A33: 732 | C33: Alsónemesapáti | D33: átemelő akna építészeti rekonstrukció | E33: A szennyvíz, és a belőle felszabaduló gázok hatására a felületek elkorrodálnak. Ezen elemek cseréje a A kiépített rendszer működőképességének megóvása, a biztonságos üzemelés biztosítása miatt van szükség a munka elvégzésérehez elengedhetetlen | F33: Statikai stabilitás biztosítása | G33: A viziközmű elem állapota megközelíti az új elem berendezés állapotát. Az üzembiztonság jelentősen növekszik | I33: Alsónemesapáti | J33: =SUM(O33:AC33) -> 9580 | L33: 45292 | M33: 48579 | N33: hosszú | U33: 1550 | V33: 1410 | W33: 2060 | X33: 810 | Y33: 750 | Z33: 750 | AA33: 750 | AB33: 750 | AC33: 750
A34: 502 | C34: Alsónemesapáti | D34: HBA akna építészeti rekonstrukció | E34: A szennyvíz, és a belőle felszabaduló gázok hatására a felületek elkorrodálnak. Ezen elemek cseréje a A kiépített rendszer működőképességének megóvása, a biztonságos üzemelés biztosítása miatt van szükség a munka elvégzésérehez elengedhetetlen | F34: Statikai stabilitás biztosítása | G34: A viziközmű elem állapota megközelíti az új elem berendezés állapotát. Az üzembiztonság jelentősen növekszik | I34: Alsónemesapáti | J34: =SUM(O34:AC34) -> 100 | L34: 44562 | M34: 44926 | N34: közép | S34: 100
A35: 897 | C35: Alsónemesapáti | D35: HBA akna építészeti rekonstrukció | E35: A szennyvíz, és a belőle felszabaduló gázok hatására a felületek elkorrodálnak. Ezen elemek cseréje a A kiépített rendszer működőképességének megóvása, a biztonságos üzemelés biztosítása miatt van szükség a munka elvégzésérehez elengedhetetlen | F35: Statikai stabilitás biztosítása | G35: A viziközmű elem állapota megközelíti az új elem berendezés állapotát. Az üzembiztonság jelentősen növekszik | I35: Alsónemesapáti | J35: =SUM(O35:AC35) -> 200 | L35: 46023 | M35: 47848 | N35: hosszú | W35: 100 | AA35: 100
B36: Gép, berendezés
A37: 113 | C37: Alsónemesapáti | D37: gépészeti rekonstrukció (1-6) | E37: A viziközmű elem a napi üzemmenet során oly mértékig elhasználódott, hogy a normál karbantartási munkákkal már nem biztosítható az üzembiztos működése | F37: A rendszer zavartalan üzemének biztosítása érdekében szükséges a beavatkozás | G37: A beavatkozás után egy hatékonyan működő viziközmű elemet kapunk, mely a kor elvárásainak megfelel. A rendszer üzembiztos, hatékony, és korszerű lesz | I37: Alsónemesapáti | J37: =SUM(O37:AC37) -> 10800 | L37: 43466 | M37: 44926 | N37: közép | P37: 2500 | Q37: 7550 | R37: 450 | S37: 300
A38: 534 | C38: Alsónemesapáti | D38: gépészeti rekonstrukció (1-6) | E38: Az üzemelő viziközmű elem működése közben előforduló eseti meghibásodások fordulhatnak elő, melyek előre nem tervezhetők | F38: A kiépített rendszer működőképességének megóvása, a biztonságos üzemelés biztosítása miatt van szükség a munka elvégzésére | G38: A beavatkozás után egy hatékonyan működő viziközmű elemet kapunk, mely a kor elvárásainak megfelel. A rendszer üzembiztos, hatékony, és korszerű lesz | I38: Alsónemesapáti | J38: =SUM(O38:AC38) -> 19950 | L38: 44927 | M38: 48579 | N38: hosszú | T38: 550 | U38: 250 | V38: 3750 | W38: 850 | X38: 550 | Y38: 1500 | Z38: 7100 | AA38: 1800 | AB38: 1800 | AC38: 1800
A39: 114 | C39: Alsónemesapáti | D39: HBA gépészeti rekonstrukció (1-6) | E39: A viziközmű elem a napi üzemmenet során oly mértékig elhasználódott, hogy a normál karbantartási munkákkal már nem biztosítható az üzembiztos működése | F39: A rendszer zavartalan üzemének biztosítása érdekében szükséges a beavatkozás | G39: A beavatkozás után egy hatékonyan működő viziközmű elemet kapunk, mely a kor elvárásainak megfelel. A rendszer üzembiztos, hatékony, és korszerű lesz | I39: Alsónemesapáti | J39: =SUM(O39:AC39) -> 235 | L39: 43466 | M39: 44561 | N39: közép | P39: 65 | R39: 170
A40: 535 | C40: Alsónemesapáti | D40: HBA gépészeti rekonstrukció (1-6) | E40: Az üzemelő viziközmű elem működése közben előforduló eseti meghibásodások fordulhatnak elő, melyek előre nem tervezhetők | F40: A kiépített rendszer működőképességének megóvása, a biztonságos üzemelés biztosítása miatt van szükség a munka elvégzésére | G40: A beavatkozás után egy hatékonyan működő viziközmű elemet kapunk, mely a kor elvárásainak megfelel. A rendszer üzembiztos, hatékony, és korszerű lesz | I40: Alsónemesapáti | J40: =SUM(O40:AC40) -> 880 | L40: 44927 | M40: 48579 | N40: hosszú | T40: 75 | U40: 70 | V40: 100 | X40: 70 | Y40: 75 | Z40: 170 | AA40: 75 | AB40: 75 | AC40: 170
B41: Irányítástechnika, energiaellátás
A42: 427 | C42: Alsónemesapáti | D42: erősáramú és irányítástechnikai rekonstrukció | E42: A viziközmű elem a napi üzemmenet során oly mértékig elhasználódott, hogy a normál karbantartási munkákkal már nem biztosítható az üzembiztos működése | F42: A kiépített rendszer működőképességének megóvása, a biztonságos üzemelés biztosítása miatt van szükség a munka elvégzésére | G42: A viziközmű elem állapota megközelíti az új elem berendezés állapotát. Az üzembiztonság jelentősen növekszik | I42: Alsónemesapáti | J42: =SUM(O42:AC42) -> 12500 | L42: 44197 | M42: 44561 | N42: közép | R42: 12500
B43: Összesen: | J43: =SUM(J12:J42) -> 111243.75 | K43: 1983 | O43: =SUM(O12:O42) -> 1897.45 | P43: =SUM(P12:P42) -> 7023.45 | Q43: =SUM(Q12:Q42) -> 9608.45 | R43: =SUM(R12:R42) -> 18478.45 | S43: =SUM(S12:S42) -> 5858.45 | T43: =SUM(T12:T42) -> 3983.45 | U43: =SUM(U12:U42) -> 7688.45 | V43: =SUM(V12:V42) -> 6218.45 | ... AC43: =SUM(AC12:AC42) -> 3317.45
K44: 2018 évre a fejlesztési forrás biztosított
B46: Rendelkezésre álló források megnevezése | C46: Rendelkezésre álló források számszerűsített értéke a teljes ütem tekintetében (eFt)
A47: I. ütem | B47: Használati díj (2018) | C47: =K43 -> 1983
A48: II. ütem | B48: Használati díj (2019-2022) | C48: =C47*4 -> 7932
A49: III. ütem | B49: Használati díj (2023-2032) | C49: =C47*10 -> 19830
B52: ¹ Idegenvíz kizárás munkafolyamatai
B53: 1. Törött szerkezeti elemek cseréje, aknában bekötések körbekenése, folyásfenék újra betonozása, hézag pótlása (vízbetörés javítás)
B54: 2. Vízzáró réteg készítés, hosszútávú korrozíó és szerkezeti védelem (Szulfátálló réteg készítése)
B55: 3. Fedlap és szűkítő csere DN 600 mm, terhelésnek megfelelően, üzemeltető előírása szerint
B56: 4. Pontszerű hibahelyek javítása gerincvezetéken, és bekötésen
B58: ²Gépészeti felújítás
B59: 1. szivattyú talpidon csere
B60: 2. nyomócső csere
B61: 3. nadrágidom csere
B62: 4. visszacsapó szelep csere
B63: 5. tolózár csere
B64: 6. vezetőcső csere
... B69: 3. aszfaltozás

Sheet Babosdöbréte
A1: Gördülő fejlesztési terv a 2018 - 2032 időszakra
A2: FELÚJÍTÁSOK ÉS PÓTLÁSOK ÖSSZEFOGLALÓ TÁBLÁZATA
A3: A tervet benyújtó szervezet megnevezése: | K3: BABOSDÖBRÉTE | R3: ellátásért felelős / ellátásért felelősök képviselője / víziközmű-szolgáltató *
A4: Víziközmű-szolgáltató megnevezése: | K4: ÉSZAK ZALAI VÍZ- ÉS CSATORNAMŰ ZÁRTKÖRŰEN MŰKÖDŐ RÉSZVÉNYTÁRSASÁG
A5: Víziközmű-szolgáltatási ágazat megnevezése: | K5: SZENNYVÍZ ÁGAZAT
A6: Véleményeltérést megfogalmazó érintett fél megnevezése:
A7: Víziközmű-rendszer kódja: ** | K7: 21-32054-1-048-01-10 | R7: ZALAEGERSZEG-SZV
A8: V. Szennyvízelvezetés
A9: Fontossági sorrend | B9: Felujítás és pótlás megnevezése | E9: Műszaki állapot felmérés, szükségességi indoklás | H9: Vízjogi létesítési/elvi engedély száma | I9: Az érintett ellátásért felelős(ök) megnevezése | J9: Tervezett nettó költség | K9: Forrás 2018 évre | L9: Megvalósítás időtartama | N9: Tervezett időtáv | O9: A beruházás ütemezése a tervezési időszak évei szerint
E10: Jelenlegi műszaki állapot | F10: Feladat szükségessége | G10: Megvalósítást követő várható műszaki állapot | J10: (eFt) | L10: Kezdés | M10: Befejezés | N10: (rövid / közép / hosszú) | O10: 1 | P10: 2 | Q10: 3 | R10: 4 | S10: 5 | T10: 6 | U10: 7 | V10: 8 | W10: 9 | X10: 10 | Y10: 11 | Z10: 12 | AA10: 13 | AB10: 14 | AC10: 15
B11: szakág | C11: Helyszín | D11: beruházás megnevezése
A12: 1 | D12: Rendkívüli helyzetből adódó azonnali feladatok (max. 15%) | F12: A rendszer zavartalan üzemének biztosítása érdekében szükséges a beavatkozás | I12: Babosdöbréte | J12: =SUM(O12:AC12) -> 4889.25 | L12: 43101 | M12: 48579 | O12: =$K$46*0.15 -> 325.95 | P12: =$K$46*0.15 -> 325.95 | Q12: =$K$46*0.15 -> 325.95 | R12: =$K$46*0.15 -> 325.95 | S12: =$K$46*0.15 -> 325.95 | T12: =$K$46*0.15 -> 325.95 | U12: =$K$46*0.15 -> 325.95 | V12: =$K$46*0.15 -> 325.95 | ... AC12: =$K$46*0.15 -> 325.95
B13: SZENNYVÍZCSATORNA (GRAVITÁCIÓS)
B14: Épület, építmény
A15: 115 | C15: Babosdöbréte | D15: Idegenvíz kizárása a csatornadiagnosztikai vizsgálat és a helyszíni ellenőrzés alapján¹ | E15: Az üzemelő viziközmű technológiailag elavult, üzemeltetése, és javítása már nem gazdaságos. Jelenleg a piacon magasabb műszaki tartalmak érhetőek el | F15: A viziközmű rendszer hatékonyságának növelése, az üzemeltetési költségek szinten tartása miatt szükséges | G15: A beavatkozás után egy hatékonyan működő viziközmű elemet kapunk, mely a kor elvárásainak megfelel. A rendszer üzembiztos, hatékony, és korszerű lesz | I15: Babosdöbréte | J15: =SUM(O15:AC15) -> 1580 | L15: 43466 | M15: 44926 | N15: közép | P15: 395 | Q15: 395 | R15: 395 | S15: 395
A16: 536 | C16: Babosdöbréte | D16: Idegenvíz kizárása a csatornadiagnosztikai vizsgálat és a helyszíni ellenőrzés alapján¹ | E16: Az üzemelő viziközmű technológiailag elavult, üzemeltetése, és javítása már nem gazdaságos. Jelenleg a piacon magasabb műszaki tartalmak érhetőek el | F16: A viziközmű rendszer hatékonyságának növelése, az üzemeltetési költségek szinten tartása miatt szükséges | G16: A beavatkozás után egy hatékonyan működő viziközmű elemet kapunk, mely a kor elvárásainak megfelel. A rendszer üzembiztos, hatékony, és korszerű lesz | I16: Babosdöbréte | J16: =SUM(O16:AC16) -> 2235 | L16: 44927 | M16: 48579 | N16: hosszú | T16: 395 | U16: 395 | V16: 395 | W16: 150 | X16: 150 | Y16: 150 | Z16: 150 | AA16: 150 | AB16: 150 | AC16: 150
A17: 116 | C17: Babosdöbréte | D17: Gravitációs csatorna NA 150 rekonstrukció | E17: Az üzemelő viziközmű technológiailag elavult, üzemeltetése, és javítása már nem gazdaságos. Jelenleg a piacon magasabb műszaki tartalmak érhetőek el | F17: A viziközmű rendszer hatékonyságának növelése, az üzemeltetési költségek szinten tartása miatt szükséges | G17: A beavatkozás után egy hatékonyan működő viziközmű elemet kapunk, mely a kor elvárásainak megfelel. A rendszer üzembiztos, hatékony, és korszerű lesz | I17: Babosdöbréte | J17: =SUM(O17:AC17) -> 2300 | L17: 43466 | M17: 43830 | N17: közép | P17: 2300
A18: 537 | C18: Babosdöbréte | D18: Gravitációs csatorna NA 150 rekonstrukció | E18: Az üzemelő viziközmű technológiailag elavult, üzemeltetése, és javítása már nem gazdaságos. Jelenleg a piacon magasabb műszaki tartalmak érhetőek el | F18: A viziközmű rendszer hatékonyságának növelése, az üzemeltetési költségek szinten tartása miatt szükséges | G18: A beavatkozás után egy hatékonyan működő viziközmű elemet kapunk, mely a kor elvárásainak megfelel. A rendszer üzembiztos, hatékony, és korszerű lesz | I18: Babosdöbréte | J18: =SUM(O18:AC18) -> 4600 | L18: 44927 | M18: 46752 | N18: hosszú | T18: 2300 | X18: 2300
A19: 354 | C19: Babosdöbréte | D19: Gravitációs csatorna NA200 rekonstrukció | E19: Az üzemelő viziközmű technológiailag elavult, üzemeltetése, és javítása már nem gazdaságos. Jelenleg a piacon magasabb műszaki tartalmak érhetőek el | F19: A viziközmű rendszer hatékonyságának növelése, az üzemeltetési költségek szinten tartása miatt szükséges | G19: A beavatkozás után egy hatékonyan működő viziközmű elemet kapunk, mely a kor elvárásainak megfelel. A rendszer üzembiztos, hatékony, és korszerű lesz | I19: Babosdöbréte | J19: =SUM(O19:AC19) -> 7400 | L19: 43831 | M19: 44926 | N19: közép | Q19: 3700 | S19: 3700
A20: 967 | C20: Babosdöbréte | D20: Gravitációs csatorna NA200 rekonstrukció | E20: Az üzemelő viziközmű technológiailag elavult, üzemeltetése, és javítása már nem gazdaságos. Jelenleg a piacon magasabb műszaki tartalmak érhetőek el | F20: A viziközmű rendszer hatékonyságának növelése, az üzemeltetési költségek szinten tartása miatt szükséges | G20: A beavatkozás után egy hatékonyan működő viziközmű elemet kapunk, mely a kor elvárásainak megfelel. A rendszer üzembiztos, hatékony, és korszerű lesz | I20: Babosdöbréte | J20: =SUM(O20:AC20) -> 3700 | L20: 47484 | M20: 47848 | N20: hosszú | AA20: 3700
B21: SZENNYVÍZVEZETÉKEK (KÉNYSZERÁRAMOLTATÁSÚ)
A22: 117 | C22: Babosdöbréte | D22: Nyomott vezeték NA50 rekonstrukció | E22: Az üzemelő viziközmű technológiailag elavult, üzemeltetése, és javítása már nem gazdaságos. Jelenleg a piacon magasabb műszaki tartalmak érhetőek el | F22: A kiépített rendszer működőképességének megóvása, a biztonságos üzemelés biztosítása miatt van szükség a munka elvégzésére | G22: A viziközmű elem állapota megközelíti az új elem berendezés állapotát. Az üzembiztonság jelentősen növekszik | I22: Babosdöbréte | J22: =SUM(O22:AC22) -> 2400 | L22: 43466 | M22: 43466 | N22: közép | P22: 2400
A23: 538 | C23: Babosdöbréte | D23: Nyomott vezeték NA50 rekonstrukció | E23: Az üzemelő viziközmű technológiailag elavult, üzemeltetése, és javítása már nem gazdaságos. Jelenleg a piacon magasabb műszaki tartalmak érhetőek el | F23: A kiépített rendszer működőképességének megóvása, a biztonságos üzemelés biztosítása miatt van szükség a munka elvégzésére | G23: A viziközmű elem állapota megközelíti az új elem berendezés állapotát. Az üzembiztonság jelentősen növekszik | I23: Babosdöbréte | J23: =SUM(O23:AC23) -> 7200 | L23: 44927 | M23: 48213 | N23: hosszú | T23: 2400 | X23: 2400 | AB23: 2400
A24: 118 | C24: Babosdöbréte | D24: Nyomott vezeték NA80 rekonstrukció | E24: Az üzemelő viziközmű technológiailag elavult, üzemeltetése, és javítása már nem gazdaságos. Jelenleg a piacon magasabb műszaki tartalmak érhetőek el | F24: A kiépített rendszer működőképességének megóvása, a biztonságos üzemelés biztosítása miatt van szükség a munka elvégzésére | G24: A viziközmű elem állapota megközelíti az új elem berendezés állapotát. Az üzembiztonság jelentősen növekszik | I24: Babosdöbréte | J24: =SUM(O24:AC24) -> 5400 | L24: 43466 | M24: 44561 | N24: közép | P24: 2700 | R24: 2700
A25: 539 | C25: Babosdöbréte | D25: Nyomott vezeték NA80 rekonstrukció | E25: Az üzemelő viziközmű technológiailag elavult, üzemeltetése, és javítása már nem gazdaságos. Jelenleg a piacon magasabb műszaki tartalmak érhetőek el | F25: A kiépített rendszer működőképességének megóvása, a biztonságos üzemelés biztosítása miatt van szükség a munka elvégzésére | G25: A viziközmű elem állapota megközelíti az új elem berendezés állapotát. Az üzembiztonság jelentősen növekszik | I25: Babosdöbréte | J25: =SUM(O25:AC25) -> 13500 | L25: 44927 | M25: 48213 | N25: hosszú | T25: 2700 | V25: 2700 | X25: 2700 | Z25: 2700 | AB25: 2700
A26: 428 | C26: Babosdöbréte | D26: Nyomott vezeték NA100 rekonstrukció | E26: Az üzemelő viziközmű technológiailag elavult, üzemeltetése, és javítása már nem gazdaságos. Jelenleg a piacon magasabb műszaki tartalmak érhetőek el | F26: A kiépített rendszer működőképességének megóvása, a biztonságos üzemelés biztosítása miatt van szükség a munka elvégzésére | G26: A viziközmű elem állapota megközelíti az új elem berendezés állapotát. Az üzembiztonság jelentősen növekszik | I26: Babosdöbréte | J26: =SUM(O26:AC26) -> 2300 | L26: 44197 | M26: 44561 | N26: közép | R26: 2300
A27: 733 | C27: Babosdöbréte | D27: Nyomott vezeték NA100 rekonstrukció | E27: Az üzemelő viziközmű technológiailag elavult, üzemeltetése, és javítása már nem gazdaságos. Jelenleg a piacon magasabb műszaki tartalmak érhetőek el | F27: A kiépített rendszer működőképességének megóvása, a biztonságos üzemelés biztosítása miatt van szükség a munka elvégzésére | G27: A viziközmű elem állapota megközelíti az új elem berendezés állapotát. Az üzembiztonság jelentősen növekszik | I27: Babosdöbréte | J27: =SUM(O27:AC27) -> 6900 | L27: 45292 | M27: 47848 | N27: hosszú | U27: 2300 | X27: 2300 | AA27: 2300
A28: 965 | C28: Babosdöbréte | D28: Nyomott vezeték NA150 rekonstrukció | E28: Az üzemelő viziközmű technológiailag elavult, üzemeltetése, és javítása már nem gazdaságos. Jelenleg a piacon magasabb műszaki tartalmak érhetőek el | F28: A kiépített rendszer működőképességének megóvása, a biztonságos üzemelés biztosítása miatt van szükség a munka elvégzésére | G28: A viziközmű elem állapota megközelíti az új elem berendezés állapotát. Az üzembiztonság jelentősen növekszik | I28: Babosdöbréte | J28: =SUM(O28:AC28) -> 720 | L28: 47484 | M28: 47848 | N28: hosszú | AA28: 720
A29: 966 | C29: Babosdöbréte | D29: Nyomott vezeték NA200 rekonstrukció | E29: Az üzemelő viziközmű technológiailag elavult, üzemeltetése, és javítása már nem gazdaságos. Jelenleg a piacon magasabb műszaki tartalmak érhetőek el | F29: A kiépített rendszer működőképességének megóvása, a biztonságos üzemelés biztosítása miatt van szükség a munka elvégzésére | G29: A viziközmű elem állapota megközelíti az új elem berendezés állapotát. Az üzembiztonság jelentősen növekszik | I29: Babosdöbréte | J29: =SUM(O29:AC29) -> 1000 | L29: 47484 | M29: 47848 | N29: hosszú | AA29: 1000
B30: SZENNYVÍZÁTEMELŐK
B31: Épület, építmény
A32: 119 | C32: Babosdöbréte | D32: átemelő akna építészeti rekonstrukció | E32: A szennyvíz, és a belőle felszabaduló gázok hatására a felületek elkorrodálnak. Ezen elemek cseréje a A kiépített rendszer működőképességének megóvása, a biztonságos üzemelés biztosítása miatt van szükség a munka elvégzésérehez elengedhetetlen | F32: Statikai stabilitás biztosítása | G32: A viziközmű elem állapota megközelíti az új elem berendezés állapotát. Az üzembiztonság jelentősen növekszik | I32: Babosdöbréte | J32: =SUM(O32:AC32) -> 4750 | L32: 43466 | M32: 44561 | N32: közép | P32: 1150 | Q32: 2250 | R32: 1350 | S32: 0
A33: 734 | C33: Babosdöbréte | D33: átemelő akna építészeti rekonstrukció | E33: A szennyvíz, és a belőle felszabaduló gázok hatására a felületek elkorrodálnak. Ezen elemek cseréje a A kiépített rendszer működőképességének megóvása, a biztonságos üzemelés biztosítása miatt van szükség a munka elvégzésérehez elengedhetetlen | F33: Statikai stabilitás biztosítása | G33: A viziközmű elem állapota megközelíti az új elem berendezés állapotát. Az üzembiztonság jelentősen növekszik | I33: Babosdöbréte | J33: =SUM(O33:AC33) -> 9100 | L33: 45292 | M33: 48579 | N33: hosszú | U33: 1460 | V33: 1720 | W33: 2260 | X33: 500 | Y33: 210 | Z33: 600 | AA33: 1150 | AB33: 600 | AC33: 600
A34: 355 | C34: Babosdöbréte | D34: HBA akna építészeti rekonstrukció | E34: A szennyvíz, és a belőle felszabaduló gázok hatására a felületek elkorrodálnak. Ezen elemek cseréje a A kiépített rendszer működőképességének megóvása, a biztonságos üzemelés biztosítása miatt van szükség a munka elvégzésérehez elengedhetetlen | F34: Statikai stabilitás biztosítása | G34: A viziközmű elem állapota megközelíti az új elem berendezés állapotát. Az üzembiztonság jelentősen növekszik | I34: Babosdöbréte | J34: =SUM(O34:AC34) -> 200 | L34: 43831 | M34: 44926 | N34: közép | Q34: 100 | S34: 100
A35: 735 | C35: Babosdöbréte | D35: HBA akna építészeti rekonstrukció | E35: A szennyvíz, és a belőle felszabaduló gázok hatására a felületek elkorrodálnak. Ezen elemek cseréje a A kiépített rendszer működőképességének megóvása, a biztonságos üzemelés biztosítása miatt van szükség a munka elvégzésérehez elengedhetetlen | F35: Statikai stabilitás biztosítása | G35: A viziközmű elem állapota megközelíti az új elem berendezés állapotát. Az üzembiztonság jelentősen növekszik | I35: Babosdöbréte | J35: =SUM(O35:AC35) -> 300 | L35: 45292 | M35: 47848 | N35: hosszú | U35: 100 | X35: 100 | AA35: 100
B36: Gép, berendezés
A37: 44 | C37: Babosdöbréte I. átemelő | D37: szivattyú csere | E37: A viziközmű elem a napi üzemmenet során oly mértékig elhasználódott, hogy a normál karbantartási munkákkal már nem biztosítható az üzembiztos működése | F37: A rendszer zavartalan üzemének biztosítása érdekében szükséges a beavatkozás | G37: A beavatkozás után egy hatékonyan működő viziközmű elemet kapunk, mely a kor elvárásainak megfelel. A rendszer üzembiztos, hatékony, és korszerű lesz | I37: Babosdöbréte | J37: =SUM(O37:AC37) -> 1847 | L37: 43101 | M37: 43465 | N37: rövid | O37: 1847
A38: 120 | C38: Babosdöbréte | D38: gépészeti rekonstrukció (1-6) | E38: Az üzemelő viziközmű elem működése közben előforduló eseti meghibásodások fordulhatnak elő, melyek előre nem tervezhetők | F38: A kiépített rendszer működőképességének megóvása, a biztonságos üzemelés biztosítása miatt van szükség a munka elvégzésére | G38: A beavatkozás után egy hatékonyan működő viziközmű elemet kapunk, mely a kor elvárásainak megfelel. A rendszer üzembiztos, hatékony, és korszerű lesz | I38: Babosdöbréte | J38: =SUM(O38:AC38) -> 10350 | L38: 43466 | M38: 44926 | N38: közép | P38: 3650 | Q38: 3400 | R38: 3050 | S38: 250
A39: 540 | C39: Babosdöbréte | D39: gépészeti rekonstrukció (1-6) | E39: Az üzemelő viziközmű elem működése közben előforduló eseti meghibásodások fordulhatnak elő, melyek előre nem tervezhetők | F39: A kiépített rendszer működőképességének megóvása, a biztonságos üzemelés biztosítása miatt van szükség a munka elvégzésére | G39: A beavatkozás után egy hatékonyan működő viziközmű elemet kapunk, mely a kor elvárásainak megfelel. A rendszer üzembiztos, hatékony, és korszerű lesz | I39: Babosdöbréte | J39: =SUM(O39:AC39) -> 24450 | L39: 44927 | M39: 48579 | N39: hosszú | T39: 600 | U39: 3450 | V39: 1250 | W39: 250 | X39: 8200 | Y39: 2050 | Z39: 2150 | AA39: 2500 | AB39: 2000 | AC39: 2000
A40: 121 | C40: Babosdöbréte | D40: HBA gépészeti rekonstrukció (1-6) | E40: Az üzemelő viziközmű elem működése közben előforduló eseti meghibásodások fordulhatnak elő, melyek előre nem tervezhetők | F40: A kiépített rendszer működőképességének megóvása, a biztonságos üzemelés biztosítása miatt van szükség a munka elvégzésére | G40: A beavatkozás után egy hatékonyan működő viziközmű elemet kapunk, mely a kor elvárásainak megfelel. A rendszer üzembiztos, hatékony, és korszerű lesz | I40: Babosdöbréte | J40: =SUM(O40:AC40) -> 940 | L40: 43466 | M40: 44926 | N40: közép | P40: 405 | Q40: 65 | R40: 315 | S40: 155
A41: 541 | C41: Babosdöbréte | D41: HBA gépészeti rekonstrukció (1-6) | E41: Az üzemelő viziközmű elem működése közben előforduló eseti meghibásodások fordulhatnak elő, melyek előre nem tervezhetők | F41: A kiépített rendszer működőképességének megóvása, a biztonságos üzemelés biztosítása miatt van szükség a munka elvégzésére | G41: A beavatkozás után egy hatékonyan működő viziközmű elemet kapunk, mely a kor elvárásainak megfelel. A rendszer üzembiztos, hatékony, és korszerű lesz | I41: Babosdöbréte | J41: =SUM(O41:AC41) -> 2420 | L41: 44927 | M41: 48579 | N41: hosszú | T41: 315 | U41: 65 | V41: 405 | W41: 65 | X41: 405 | Y41: 65 | Z41: 315 | AA41: 405 | AB41: 65 | AC41: 315
B42: Irányítástechnika, energiaellátás
A43: 429 | C43: Babosdöbréte | D43: erősáramú és irányítástechnikai rekonstrukció | E43: A viziközmű elem a napi üzemmenet során oly mértékig elhasználódott, hogy a normál karbantartási munkákkal már nem biztosítható az üzembiztos működése | F43: A kiépített rendszer működőképességének megóvása, a biztonságos üzemelés biztosítása miatt van szükség a munka elvégzésére | G43: A viziközmű elem állapota megközelíti az új elem berendezés állapotát. Az üzembiztonság jelentősen növekszik | I43: Babosdöbréte | J43: =SUM(O43:AC43) -> 21000 | L43: 44197 | M43: 44561 | N43: közép | R43: 21000
A44: 356 | C44: Babosdöbréte | D44: HBA vezérlőszekrény és műszerezés cseréje | E44: A viziközmű elem a napi üzemmenet során oly mértékig elhasználódott, hogy a normál karbantartási munkákkal már nem biztosítható az üzembiztos működése | F44: A kiépített rendszer működőképességének megóvása, a biztonságos üzemelés biztosítása miatt van szükség a munka elvégzésére | G44: A viziközmű elem állapota megközelíti az új elem berendezés állapotát. Az üzembiztonság jelentősen növekszik | I44: Babosdöbréte | J44: =SUM(O44:AC44) -> 120 | L44: 43831 | M44: 44926 | N44: közép | Q44: 60 | S44: 60
A45: 736 | C45: Babosdöbréte | D45: HBA vezérlőszekrény és műszerezés cseréje | E45: A viziközmű elem a napi üzemmenet során oly mértékig elhasználódott, hogy a normál karbantartási munkákkal már nem biztosítható az üzembiztos működése | F45: A kiépített rendszer működőképességének megóvása, a biztonságos üzemelés biztosítása miatt van szükség a munka elvégzésére | G45: A viziközmű elem állapota megközelíti az új elem berendezés állapotát. Az üzembiztonság jelentősen növekszik | I45: Babosdöbréte | J45: =SUM(O45:AC45) -> 360 | L45: 45292 | M45: 47848 | N45: hosszú | U45: 60 | V45: 60 | X45: 60 | Y45: 60 | Z45: 60 | AA45: 60
B46: Összesen: | J46: =SUM(J12:J45) -> 141961.25 | K46: 2173 | O46: =SUM(O12:O45) -> 2172.95 | P46: =SUM(P12:P45) -> 13325.95 | Q46: =SUM(Q12:Q45) -> 10295.95 | R46: =SUM(R12:R45) -> 31435.95 | S46: =SUM(S12:S45) -> 4985.95 | T46: =SUM(T12:T45) -> 9035.95 | U46: =SUM(U12:U45) -> 8155.95 | V46: =SUM(V12:V45) -> 6855.95 | ... AC46: =SUM(AC12:AC45) -> 3390.95
K47: 2018 évre a fejlesztési forrás biztosított
B49: Rendelkezésre álló források megnevezése | C49: Rendelkezésre álló források számszerűsített értéke a teljes ütem tekintetében (eFt)
A50: I. ütem | B50: Használati díj (2018) | C50: =K46 -> 2173
A51: II. ütem | B51: Használati díj (2019-2022) | C51: =C50*4 -> 8692
A52: III. ütem | B52: Használati díj (2023-2032) | C52: =C50*10 -> 21730
B56: ¹ Idegenvíz kizárás munkafolyamatai
B57: 1. Törött szerkezeti elemek cseréje, aknában bekötések körbekenése, folyásfenék újra betonozása, hézag pótlása (vízbetörés javítás)
B58: 2. Vízzáró réteg készítés, hosszútávú korrozíó és szerkezeti védelem (Szulfátálló réteg készítése)
B59: 3. Fedlap és szűkítő csere DN 600 mm, terhelésnek megfelelően, üzemeltető előírása szerint
B60: 4. Pontszerű hibahelyek javítása gerincvezetéken, és bekötésen
B62: ²Gépészeti felújítás
B63: 1. szivattyú talpidon csere
B64: 2. nyomócső csere
B65: 3. nadrágidom csere
B66: 4. visszacsapó szelep csere
B67: 5. tolózár csere
B68: 6. vezetőcső csere
... B73: 3. aszfaltozás

Sheet Bagod
A1: Gördülő fejlesztési terv a 2018 - 2032 időszakra
A2: FELÚJÍTÁSOK ÉS PÓTLÁSOK ÖSSZEFOGLALÓ TÁBLÁZATA
A3: A tervet benyújtó szervezet megnevezése: | K3: BAGOD | R3: ellátásért felelős / ellátásért felelősök képviselője / víziközmű-szolgáltató *
A4: Víziközmű-szolgáltató megnevezése: | K4: ÉSZAK ZALAI VÍZ- ÉS CSATORNAMŰ ZÁRTKÖRŰEN MŰKÖDŐ RÉSZVÉNYTÁRSASÁG
A5: Víziközmű-szolgáltatási ágazat megnevezése: | K5: SZENNYVÍZ ÁGAZAT
A6: Véleményeltérést megfogalmazó érintett fél megnevezése:
A7: Víziközmű-rendszer kódja: ** | K7: 21-32054-1-048-01-10 | R7: ZALAEGERSZEG-SZV
A8: V. Szennyvízelvezetés
A9: Fontossági sorrend | B9: Felujítás és pótlás megnevezése | E9: Műszaki állapot felmérés, szükségességi indoklás | H9: Vízjogi létesítési/elvi engedély száma | I9: Az érintett ellátásért felelős(ök) megnevezése | J9: Tervezett nettó költség | K9: Forrás 2018 évre | L9: Megvalósítás időtartama | N9: Tervezett időtáv | O9: A beruházás ütemezése a tervezési időszak évei szerint
E10: Jelenlegi műszaki állapot | F10: Feladat szükségessége | G10: Megvalósítást követő várható műszaki állapot | J10: (eFt) | L10: Kezdés | M10: Befejezés | N10: (rövid / közép / hosszú) | O10: 1 | P10: 2 | Q10: 3 | R10: 4 | S10: 5 | T10: 6 | U10: 7 | V10: 8 | W10: 9 | X10: 10 | Y10: 11 | Z10: 12 | AA10: 13 | AB10: 14 | AC10: 15
B11: szakág | C11: Helyszín | D11: beruházás megnevezése
A12: 1 | D12: Rendkívüli helyzetből adódó azonnali feladatok (max. 15%) | F12: A rendszer zavartalan üzemének biztosítása érdekében szükséges a beavatkozás | I12: Bagod | J12: =SUM(O12:AC12) -> 14580 | L12: 43101 | M12: 48579 | O12: =$K$47*0.15 -> 972 | P12: =$K$47*0.15 -> 972 | Q12: =$K$47*0.15 -> 972 | R12: =$K$47*0.15 -> 972 | S12: =$K$47*0.15 -> 972 | T12: =$K$47*0.15 -> 972 | U12: =$K$47*0.15 -> 972 | V12: =$K$47*0.15 -> 972 | ... AC12: =$K$47*0.15 -> 972
B13: SZENNYVÍZCSATORNA (GRAVITÁCIÓS)
B14: Épület, építmény
A15: 122 | C15: Bagod | D15: Idegenvíz kizárása a csatornadiagnosztikai vizsgálat és a helyszíni ellenőrzés alapján¹ | E15: Az üzemelő viziközmű technológiailag elavult, üzemeltetése, és javítása már nem gazdaságos. Jelenleg a piacon magasabb műszaki tartalmak érhetőek el | F15: A viziközmű rendszer hatékonyságának növelése, az üzemeltetési költségek szinten tartása miatt szükséges | G15: A beavatkozás után egy hatékonyan működő viziközmű elemet kapunk, mely a kor elvárásainak megfelel. A rendszer üzembiztos, hatékony, és korszerű lesz | I15: Bagod | J15: =SUM(O15:AC15) -> 1200 | L15: 43466 | M15: 44926 | N15: közép | P15: 300 | Q15: 300 | R15: 300 | S15: 300
A16: 542 | C16: Bagod | D16: Idegenvíz kizárása a csatornadiagnosztikai vizsgálat és a helyszíni ellenőrzés alapján¹ | E16: Az üzemelő viziközmű technológiailag elavult, üzemeltetése, és javítása már nem gazdaságos. Jelenleg a piacon magasabb műszaki tartalmak érhetőek el | F16: A viziközmű rendszer hatékonyságának növelése, az üzemeltetési költségek szinten tartása miatt szükséges | G16: A beavatkozás után egy hatékonyan működő viziközmű elemet kapunk, mely a kor elvárásainak megfelel. A rendszer üzembiztos, hatékony, és korszerű lesz | I16: Bagod | J16: =SUM(O16:AC16) -> 3000 | L16: 44927 | M16: 48579 | N16: hosszú | T16: 300 | U16: 300 | V16: 300 | W16: 300 | X16: 300 | Y16: 300 | Z16: 300 | AA16: 300 | AB16: 300 | AC16: 300
A17: 357 | C17: Bagod | D17: Gravitációs csatorna NA200 rekonstrukció | E17: Az üzemelő viziközmű technológiailag elavult, üzemeltetése, és javítása már nem gazdaságos. Jelenleg a piacon magasabb műszaki tartalmak érhetőek el | F17: A viziközmű rendszer hatékonyságának növelése, az üzemeltetési költségek szinten tartása miatt szükséges | G17: A beavatkozás után egy hatékonyan működő viziközmű elemet kapunk, mely a kor elvárásainak megfelel. A rendszer üzembiztos, hatékony, és korszerű lesz | I17: Bagod | J17: =SUM(O17:AC17) -> 9200 | L17: 43831 | M17: 44926 | N17: közép | Q17: 4600 | S17: 4600
A18: 833 | C18: Bagod | D18: Gravitációs csatorna NA200 rekonstrukció | E18: Az üzemelő viziközmű technológiailag elavult, üzemeltetése, és javítása már nem gazdaságos. Jelenleg a piacon magasabb műszaki tartalmak érhetőek el | F18: A viziközmű rendszer hatékonyságának növelése, az üzemeltetési költségek szinten tartása miatt szükséges | G18: A beavatkozás után egy hatékonyan működő viziközmű elemet kapunk, mely a kor elvárásainak megfelel. A rendszer üzembiztos, hatékony, és korszerű lesz | I18: Bagod | J18: =SUM(O18:AC18) -> 18400 | L18: 45658 | M18: 48213 | N18: hosszú | V18: 4600 | X18: 4600 | Z18: 4600 | AB18: 4600
B19: SZENNYVÍZVEZETÉKEK (KÉNYSZERÁRAMOLTATÁSÚ)
A20: 45 | C20: Bagod I. nyomóvezeték | D20: Légtelenítő akna vízzárózása | E20: Az üzemelő viziközmű elem műszaki állapota az évek során leromlott, jelentős mértékben megnövekedett a meghibásodás veszélye | F20: A kiépített rendszer működőképességének megóvása, a biztonságos üzemelés biztosítása miatt van szükség a munka elvégzésére | G20: A viziközmű elem állapota megközelíti az új elem berendezés állapotát. Az üzembiztonság jelentősen növekszik | I20: Bagod | J20: =SUM(O20:AC20) -> 150 | L20: 43101 | M20: 43447 | N20: rövid | O20: 150
A21: 123 | C21: Bagod | D21: Nyomott vezeték NA50 rekonstrukció | E21: Az üzemelő viziközmű technológiailag elavult, üzemeltetése, és javítása már nem gazdaságos. Jelenleg a piacon magasabb műszaki tartalmak érhetőek el | F21: A kiépített rendszer működőképességének megóvása, a biztonságos üzemelés biztosítása miatt van szükség a munka elvégzésére | G21: A viziközmű elem állapota megközelíti az új elem berendezés állapotát. Az üzembiztonság jelentősen növekszik | I21: Bagod | J21: =SUM(O21:AC21) -> 6200 | L21: 43466 | M21: 44561 | N21: közép | P21: 3100 | R21: 3100
A22: 543 | C22: Bagod | D22: Nyomott vezeték NA50 rekonstrukció | E22: Az üzemelő viziközmű technológiailag elavult, üzemeltetése, és javítása már nem gazdaságos. Jelenleg a piacon magasabb műszaki tartalmak érhetőek el | F22: A kiépített rendszer működőképességének megóvása, a biztonságos üzemelés biztosítása miatt van szükség a munka elvégzésére | G22: A viziközmű elem állapota megközelíti az új elem berendezés állapotát. Az üzembiztonság jelentősen növekszik | I22: Bagod | J22: =SUM(O22:AC22) -> 12400 | L22: 44927 | M22: 48579 | N22: hosszú | T22: 3100 | W22: 3100 | Z22: 3100 | AC22: 3100
A23: 430 | C23: Bagod | D23: Nyomott vezeték NA80 rekonstrukció | E23: Az üzemelő viziközmű technológiailag elavult, üzemeltetése, és javítása már nem gazdaságos. Jelenleg a piacon magasabb műszaki tartalmak érhetőek el | F23: A kiépített rendszer működőképességének megóvása, a biztonságos üzemelés biztosítása miatt van szükség a munka elvégzésére | G23: A viziközmű elem állapota megközelíti az új elem berendezés állapotát. Az üzembiztonság jelentősen növekszik | I23: Bagod | J23: =SUM(O23:AC23) -> 2100 | L23: 44197 | M23: 44561 | N23: közép | R23: 2100
A24: 737 | C24: Bagod | D24: Nyomott vezeték NA80 rekonstrukció | E24: Az üzemelő viziközmű technológiailag elavult, üzemeltetése, és javítása már nem gazdaságos. Jelenleg a piacon magasabb műszaki tartalmak érhetőek el | F24: A kiépített rendszer működőképességének megóvása, a biztonságos üzemelés biztosítása miatt van szükség a munka elvégzésére | G24: A viziközmű elem állapota megközelíti az új elem berendezés állapotát. Az üzembiztonság jelentősen növekszik | I24: Bagod | J24: =SUM(O24:AC24) -> 6300 | L24: 45292 | M24: 47848 | N24: hosszú | U24: 2100 | X24: 2100 | AA24: 2100
A25: 124 | C25: Bagod | D25: Nyomott vezeték NA100 rekonstrukció | E25: Az üzemelő viziközmű technológiailag elavult, üzemeltetése, és javítása már nem gazdaságos. Jelenleg a piacon magasabb műszaki tartalmak érhetőek el | F25: A kiépített rendszer működőképességének megóvása, a biztonságos üzemelés biztosítása miatt van szükség a munka elvégzésére | G25: A viziközmű elem állapota megközelíti az új elem berendezés állapotát. Az üzembiztonság jelentősen növekszik | I25: Bagod | J25: =SUM(O25:AC25) -> 2300 | L25: 43466 | M25: 43830 | N25: közép | P25: 2300
A26: 544 | C26: Bagod | D26: Nyomott vezeték NA100 rekonstrukció | E26: Az üzemelő viziközmű technológiailag elavult, üzemeltetése, és javítása már nem gazdaságos. Jelenleg a piacon magasabb műszaki tartalmak érhetőek el | F26: A kiépített rendszer működőképességének megóvása, a biztonságos üzemelés biztosítása miatt van szükség a munka elvégzésére | G26: A viziközmű elem állapota megközelíti az új elem berendezés állapotát. Az üzembiztonság jelentősen növekszik | I26: Bagod | J26: =SUM(O26:AC26) -> 4600 | L26: 44927 | M26: 46752 | N26: hosszú | T26: 2300 | X26: 2300
A27: 125 | C27: Bagod | D27: Nyomott vezeték NA150 rekonstrukció | E27: Az üzemelő viziközmű technológiailag elavult, üzemeltetése, és javítása már nem gazdaságos. Jelenleg a piacon magasabb műszaki tartalmak érhetőek el | F27: A kiépített rendszer működőképességének megóvása, a biztonságos üzemelés biztosítása miatt van szükség a munka elvégzésére | G27: A viziközmű elem állapota megközelíti az új elem berendezés állapotát. Az üzembiztonság jelentősen növekszik | I27: Bagod | J27: =SUM(O27:AC27) -> 6800 | L27: 43466 | M27: 44561 | N27: közép | P27: 3400 | R27: 3400
A28: 545 | C28: Bagod | D28: Nyomott vezeték NA150 rekonstrukció | E28: Az üzemelő viziközmű technológiailag elavult, üzemeltetése, és javítása már nem gazdaságos. Jelenleg a piacon magasabb műszaki tartalmak érhetőek el | F28: A kiépített rendszer működőképességének megóvása, a biztonságos üzemelés biztosítása miatt van szükség a munka elvégzésére | G28: A viziközmű elem állapota megközelíti az új elem berendezés állapotát. Az üzembiztonság jelentősen növekszik | I28: Bagod | J28: =SUM(O28:AC28) -> 13600 | L28: 44927 | M28: 47848 | N28: hosszú | T28: 3400 | V28: 3400 | Y28: 3400 | AA28: 3400
B29: SZENNYVÍZÁTEMELŐK
B30: Épület, építmény
A31: 126 | C31: Bagod | D31: átemelő akna építészeti rekonstrukció | E31: A szennyvíz, és a belőle felszabaduló gázok hatására a felületek elkorrodálnak. Ezen elemek cseréje a A kiépített rendszer működőképességének megóvása, a biztonságos üzemelés biztosítása miatt van szükség a munka elvégzésérehez elengedhetetlen | F31: Statikai stabilitás biztosítása | G31: A viziközmű elem állapota megközelíti az új elem berendezés állapotát. Az üzembiztonság jelentősen növekszik | I31: Bagod | J31: =SUM(O31:AC31) -> 1100 | L31: 43466 | M31: 44926 | N31: közép | P31: 300 | Q31: 250 | R31: 300 | S31: 250
A32: 546 | C32: Bagod | D32: átemelő akna építészeti rekonstrukció | E32: A szennyvíz, és a belőle felszabaduló gázok hatására a felületek elkorrodálnak. Ezen elemek cseréje a A kiépített rendszer működőképességének megóvása, a biztonságos üzemelés biztosítása miatt van szükség a munka elvégzésérehez elengedhetetlen | F32: Statikai stabilitás biztosítása | G32: A viziközmű elem állapota megközelíti az új elem berendezés állapotát. Az üzembiztonság jelentősen növekszik | I32: Bagod | J32: =SUM(O32:AC32) -> 4260 | L32: 44927 | M32: 48579 | N32: hosszú | T32: 1950 | U32: 0 | V32: 60 | W32: 0 | X32: 250 | Y32: 400 | Z32: 400 | AA32: 400 | AB32: 400 | AC32: 400
A33: 127 | C33: Bagod | D33: HBA akna építészeti rekonstrukció | E33: Az üzemelő viziközmű technológiailag elavult, üzemeltetése, és javítása már nem gazdaságos. Jelenleg a piacon magasabb műszaki tartalmak érhetőek el | F33: A kiépített rendszer működőképességének megóvása, a biztonságos üzemelés biztosítása miatt van szükség a munka elvégzésére | G33: A viziközmű elem állapota megközelíti az új elem berendezés állapotát. Az üzembiztonság jelentősen növekszik | I33: Bagod | J33: =SUM(O33:AC33) -> 1200 | L33: 43466 | M33: 44926 | N33: közép | P33: 300 | Q33: 300 | R33: 300 | S33: 300
A34: 547 | C34: Bagod | D34: HBA akna építészeti rekonstrukció | E34: Az üzemelő viziközmű technológiailag elavult, üzemeltetése, és javítása már nem gazdaságos. Jelenleg a piacon magasabb műszaki tartalmak érhetőek el | F34: A kiépített rendszer működőképességének megóvása, a biztonságos üzemelés biztosítása miatt van szükség a munka elvégzésére | G34: A viziközmű elem állapota megközelíti az új elem berendezés állapotát. Az üzembiztonság jelentősen növekszik | I34: Bagod | J34: =SUM(O34:AC34) -> 3000 | L34: 44927 | M34: 48579 | N34: hosszú | T34: 300 | U34: 300 | V34: 300 | W34: 300 | X34: 300 | Y34: 300 | Z34: 300 | AA34: 300 | AB34: 300 | AC34: 300
B35: Gép, berendezés
A36: 46 | C36: Bagod I. átemelő | D36: szivattyú felújítás (1-2. szivattyú | E36: A viziközmű elem a napi üzemmenet során oly mértékig elhasználódott, hogy a normál karbantartási munkákkal már nem biztosítható az üzembiztos működése | F36: A rendszer zavartalan üzemének biztosítása érdekében szükséges a beavatkozás | G36: A beavatkozás után egy hatékonyan működő viziközmű elemet kapunk, mely a kor elvárásainak megfelel. A rendszer üzembiztos, hatékony, és korszerű lesz | I36: Bagod | J36: =SUM(O36:AC36) -> 2000 | L36: 43101 | M36: 43465 | N36: rövid | O36: 2000
A37: 128 | C37: Bagod | D37: gépészeti rekonstrukció (1-6) | E37: A viziközmű elem a napi üzemmenet során oly mértékig elhasználódott, hogy a normál karbantartási munkákkal már nem biztosítható az üzembiztos működése | F37: A rendszer zavartalan üzemének biztosítása érdekében szükséges a beavatkozás | G37: A beavatkozás után egy hatékonyan működő viziközmű elemet kapunk, mely a kor elvárásainak megfelel. A rendszer üzembiztos, hatékony, és korszerű lesz | I37: Bagod | J37: =SUM(O37:AC37) -> 2400 | L37: 43466 | M37: 44561 | N37: közép | P37: 2200 | Q37: 0 | R37: 200 | S37: 0
A38: 548 | C38: Bagod | D38: gépészeti rekonstrukció (1-6) | E38: Az üzemelő viziközmű elem működése közben előforduló eseti meghibásodások fordulhatnak elő, melyek előre nem tervezhetők | F38: A kiépített rendszer működőképességének megóvása, a biztonságos üzemelés biztosítása miatt van szükség a munka elvégzésére | G38: A beavatkozás után egy hatékonyan működő viziközmű elemet kapunk, mely a kor elvárásainak megfelel. A rendszer üzembiztos, hatékony, és korszerű lesz | I38: Bagod | J38: =SUM(O38:AC38) -> 10900 | L38: 44927 | M38: 48213 | N38: hosszú | T38: 7600 | U38: 2500 | V38: 200 | W38: 0 | X38: 200 | Y38: 0 | Z38: 200 | AA38: 0 | AB38: 200 | AC38: 0
A39: 47 | C39: Bagod | D39: HBA gépészeti felújítás | E39: Az üzemelő viziközmű elem működése közben előforduló eseti meghibásodások fordulhatnak elő, melyek előre nem tervezhetők | F39: A kiépített rendszer működőképességének megóvása, a biztonságos üzemelés biztosítása miatt van szükség a munka elvégzésére | G39: A beavatkozás után egy hatékonyan működő viziközmű elemet kapunk, mely a kor elvárásainak megfelel. A rendszer üzembiztos, hatékony, és korszerű lesz | I39: Bagod | J39: =SUM(O39:AC39) -> 500 | L39: 43101 | M39: 43465 | N39: rövid | O39: 500
A40: 48 | C40: Bagod | D40: HBA szivattyú csere | E40: Az üzemelő viziközmű elem működése közben előforduló eseti meghibásodások fordulhatnak elő, melyek előre nem tervezhetők | F40: A kiépített rendszer működőképességének megóvása, a biztonságos üzemelés biztosítása miatt van szükség a munka elvégzésére | G40: A beavatkozás után egy hatékonyan működő viziközmű elemet kapunk, mely a kor elvárásainak megfelel. A rendszer üzembiztos, hatékony, és korszerű lesz | I40: Bagod | J40: =SUM(O40:AC40) -> 1200 | L40: 43101 | M40: 43465 | N40: rövid | O40: 1200
A41: 129 | C41: Bagod | D41: HBA gépészeti rekonstrukció (1-6) | E41: Az üzemelő viziközmű elem működése közben előforduló eseti meghibásodások fordulhatnak elő, melyek előre nem tervezhetők | F41: A kiépített rendszer működőképességének megóvása, a biztonságos üzemelés biztosítása miatt van szükség a munka elvégzésére | G41: A beavatkozás után egy hatékonyan működő viziközmű elemet kapunk, mely a kor elvárásainak megfelel. A rendszer üzembiztos, hatékony, és korszerű lesz | I41: Bagod | J41: =SUM(O41:AC41) -> 5600 | L41: 43466 | M41: 44926 | N41: közép | P41: 1400 | Q41: 1400 | R41: 1400 | S41: 1400
A42: 549 | C42: Bagod | D42: HBA gépészeti rekonstrukció (1-6) | E42: A viziközmű elem a napi üzemmenet során oly mértékig elhasználódott, hogy a normál karbantartási munkákkal már nem biztosítható az üzembiztos működése | F42: A rendszer zavartalan üzemének biztosítása érdekében szükséges a beavatkozás | G42: A viziközmű elem állapota megközelíti az új elem berendezés állapotát. Az üzembiztonság jelentősen növekszik | I42: Bagod | J42: =SUM(O42:AC42) -> 14000 | L42: 44927 | M42: 48579 | N42: hosszú | T42: 1400 | U42: 1400 | V42: 1400 | W42: 1400 | X42: 1400 | Y42: 1400 | Z42: 1400 | AA42: 1400 | AB42: 1400 | AC42: 1400
B43: Irányítástechnika, energiaellátás
A44: 431 | C44: Bagod | D44: erősáramú és irányítástechnikai rekonstrukció | E44: A viziközmű elem a napi üzemmenet során oly mértékig elhasználódott, hogy a normál karbantartási munkákkal már nem biztosítható az üzembiztos működése | F44: A rendszer zavartalan üzemének biztosítása érdekében szükséges a beavatkozás | G44: A beavatkozás után egy hatékonyan működő viziközmű elemet kapunk, mely a kor elvárásainak megfelel. A rendszer üzembiztos, hatékony, és korszerű lesz | I44: Bagod | J44: =SUM(O44:AC44) -> 6000 | L44: 44197 | M44: 44561 | N44: közép | R44: 6000
A45: 130 | C45: Bagod | D45: HBA vezérlőszekrény és műszerezés cseréje | E45: A viziközmű elem a napi üzemmenet során oly mértékig elhasználódott, hogy a normál karbantartási munkákkal már nem biztosítható az üzembiztos működése | F45: A rendszer zavartalan üzemének biztosítása érdekében szükséges a beavatkozás | G45: A beavatkozás után egy hatékonyan működő viziközmű elemet kapunk, mely a kor elvárásainak megfelel. A rendszer üzembiztos, hatékony, és korszerű lesz | I45: Bagod | J45: =SUM(O45:AC45) -> 2000 | L45: 43466 | M45: 44926 | N45: közép | P45: 500 | Q45: 500 | R45: 500 | S45: 500
A46: 550 | C46: Bagod | D46: HBA vezérlőszekrény és műszerezés cseréje | E46: A viziközmű elem a napi üzemmenet során oly mértékig elhasználódott, hogy a normál karbantartási munkákkal már nem biztosítható az üzembiztos működése | F46: A rendszer zavartalan üzemének biztosítása érdekében szükséges a beavatkozás | G46: A beavatkozás után egy hatékonyan működő viziközmű elemet kapunk, mely a kor elvárásainak megfelel. A rendszer üzembiztos, hatékony, és korszerű lesz | I46: Bagod | J46: =SUM(O46:AC46) -> 5000 | L46: 44927 | M46: 48579 | N46: hosszú | T46: 500 | U46: 500 | V46: 500 | W46: 500 | X46: 500 | Y46: 500 | Z46: 500 | AA46: 500 | AB46: 500 | AC46: 500
B47: Összesen: | J47: =SUM(J12:J46) -> 159990 | K47: 6480 | O47: =SUM(O12:O46) -> 4822 | P47: =SUM(P12:P46) -> 14772 | Q47: =SUM(Q12:Q46) -> 8322 | R47: =SUM(R12:R46) -> 18572 | S47: =SUM(S12:S46) -> 8322 | T47: =SUM(T12:T46) -> 21822 | U47: =SUM(U12:U46) -> 8072 | V47: =SUM(V12:V46) -> 11732 | ... AC47: =SUM(AC12:AC46) -> 6972
K48: 2018 évre a fejlesztési forrás biztosított
B50: Rendelkezésre álló források megnevezése | C50: Rendelkezésre álló források számszerűsített értéke a teljes ütem tekintetében (eFt)
A51: I. ütem | B51: Használati díj (2018) | C51: =K47 -> 6480
A52: II. ütem | B52: Használati díj (2019-2022) | C52: =C51*4 -> 25920
A53: III. ütem | B53: Használati díj (2023-2032) | C53: =C51*10 -> 64800
B57: ¹ Idegenvíz kizárás munkafolyamatai
B58: 1. Törött szerkezeti elemek cseréje, aknában bekötések körbekenése, folyásfenék újra betonozása, hézag pótlása (vízbetörés javítás)
B59: 2. Vízzáró réteg készítés, hosszútávú korrozíó és szerkezeti védelem (Szulfátálló réteg készítése)
B60: 3. Fedlap és szűkítő csere DN 600 mm, terhelésnek megfelelően, üzemeltető előírása szerint
B61: 4. Pontszerű hibahelyek javítása gerincvezetéken, és bekötésen
B63: ²Gépészeti felújítás
B64: 1. szivattyú talpidon csere
B65: 2. nyomócső csere
B66: 3. nadrágidom csere
B67: 4. visszacsapó szelep csere
B68: 5. tolózár csere
B69: 6. vezetőcső csere
... B74: 3. aszfaltozás

Sheet Bak
A1: Gördülő fejlesztési terv a 2018 - 2032 időszakra
A2: FELÚJÍTÁSOK ÉS PÓTLÁSOK ÖSSZEFOGLALÓ TÁBLÁZATA
A3: A tervet benyújtó szervezet megnevezése: | K3: BAK | R3: ellátásért felelős / ellátásért felelősök képviselője / víziközmű-szolgáltató *
A4: Víziközmű-szolgáltató megnevezése: | K4: ÉSZAK ZALAI VÍZ- ÉS CSATORNAMŰ ZÁRTKÖRŰEN MŰKÖDŐ RÉSZVÉNYTÁRSASÁG
A5: Víziközmű-szolgáltatási ágazat megnevezése: | K5: SZENNYVÍZ ÁGAZAT
A6: Véleményeltérést megfogalmazó érintett fél megnevezése:
A7: Víziközmű-rendszer kódja: ** | K7: 21-32054-1-048-01-10 | R7: ZALAEGERSZEG-SZV
A8: V. Szennyvízelvezetés
A9: Fontossági sorrend | B9: Felujítás és pótlás megnevezése | E9: Műszaki állapot felmérés, szükségességi indoklás | H9: Vízjogi létesítési/elvi engedély száma | I9: Az érintett ellátásért felelős(ök) megnevezése | J9: Tervezett nettó költség | K9: Forrás 2018 évre | L9: Megvalósítás időtartama | N9: Tervezett időtáv | O9: A beruházás ütemezése a tervezési időszak évei szerint
E10: Jelenlegi műszaki állapot | F10: Feladat szükségessége | G10: Megvalósítást követő várható műszaki állapot | J10: (eFt) | L10: Kezdés | M10: Befejezés | N10: (rövid / közép / hosszú) | O10: 1 | P10: 2 | Q10: 3 | R10: 4 | S10: 5 | T10: 6 | U10: 7 | V10: 8 | W10: 9 | X10: 10 | Y10: 11 | Z10: 12 | AA10: 13 | AB10: 14 | AC10: 15
B11: szakág | C11: Helyszín | D11: beruházás megnevezése
A12: 1 | D12: Rendkívüli helyzetből adódó azonnali feladatok (max. 15%) | F12: A rendszer zavartalan üzemének biztosítása érdekében szükséges a beavatkozás | I12: Bak | J12: =SUM(O12:AC12) -> 10683 | L12: 43101 | M12: 48579 | O12: =$K$44*0.15 -> 712.2 | P12: =$K$44*0.15 -> 712.2 | Q12: =$K$44*0.15 -> 712.2 | R12: =$K$44*0.15 -> 712.2 | S12: =$K$44*0.15 -> 712.2 | T12: =$K$44*0.15 -> 712.2 | U12: =$K$44*0.15 -> 712.2 | V12: =$K$44*0.15 -> 712.2 | ... AC12: =$K$44*0.15 -> 712.2
B13: SZENNYVÍZCSATORNA (GRAVITÁCIÓS)
B14: Épület, építmény
A15: 131 | C15: Bak | D15: Idegenvíz kizárása a csatornadiagnosztikai vizsgálat és a helyszíni ellenőrzés alapján¹ | E15: Az üzemelő viziközmű technológiailag elavult, üzemeltetése, és javítása már nem gazdaságos. Jelenleg a piacon magasabb műszaki tartalmak érhetőek el | F15: A viziközmű rendszer hatékonyságának növelése, az üzemeltetési költségek szinten tartása miatt szükséges | G15: A beavatkozás után egy hatékonyan működő viziközmű elemet kapunk, mely a kor elvárásainak megfelel. A rendszer üzembiztos, hatékony, és korszerű lesz | I15: Bak | J15: =SUM(O15:AC15) -> 2200 | L15: 43466 | M15: 44926 | N15: közép | P15: 550 | Q15: 550 | R15: 550 | S15: 550
A16: 551 | C16: Bak | D16: Idegenvíz kizárása a csatornadiagnosztikai vizsgálat és a helyszíni ellenőrzés alapján¹ | E16: Az üzemelő viziközmű technológiailag elavult, üzemeltetése, és javítása már nem gazdaságos. Jelenleg a piacon magasabb műszaki tartalmak érhetőek el | F16: A viziközmű rendszer hatékonyságának növelése, az üzemeltetési költségek szinten tartása miatt szükséges | G16: A beavatkozás után egy hatékonyan működő viziközmű elemet kapunk, mely a kor elvárásainak megfelel. A rendszer üzembiztos, hatékony, és korszerű lesz | I16: Bak | J16: =SUM(O16:AC16) -> 3400 | L16: 44927 | M16: 48579 | N16: hosszú | T16: 550 | U16: 550 | V16: 550 | W16: 250 | X16: 250 | Y16: 250 | Z16: 250 | AA16: 250 | AB16: 250 | AC16: 250
A17: 132 | C17: Bak | D17: Gravitációs csatorna NA 150 rekonstrukció | E17: Az üzemelő viziközmű technológiailag elavult, üzemeltetése, és javítása már nem gazdaságos. Jelenleg a piacon magasabb műszaki tartalmak érhetőek el | F17: A viziközmű rendszer hatékonyságának növelése, az üzemeltetési költségek szinten tartása miatt szükséges | G17: A beavatkozás után egy hatékonyan működő viziközmű elemet kapunk, mely a kor elvárásainak megfelel. A rendszer üzembiztos, hatékony, és korszerű lesz | I17: Bak | J17: =SUM(O17:AC17) -> 3300 | L17: 43466 | M17: 44561 | N17: közép | P17: 1500 | R17: 1800
A18: 552 | C18: Bak | D18: Gravitációs csatorna NA 150 rekonstrukció | E18: Az üzemelő viziközmű technológiailag elavult, üzemeltetése, és javítása már nem gazdaságos. Jelenleg a piacon magasabb műszaki tartalmak érhetőek el | F18: A viziközmű rendszer hatékonyságának növelése, az üzemeltetési költségek szinten tartása miatt szükséges | G18: A beavatkozás után egy hatékonyan működő viziközmű elemet kapunk, mely a kor elvárásainak megfelel. A rendszer üzembiztos, hatékony, és korszerű lesz | I18: Bak | J18: =SUM(O18:AC18) -> 9000 | L18: 44927 | M18: 48213 | N18: hosszú | T18: 1800 | V18: 1800 | X18: 1800 | Z18: 1800 | AB18: 1800
A19: 358 | C19: Bak | D19: Gravitációs csatorna NA200 rekonstrukció | E19: Az üzemelő viziközmű technológiailag elavult, üzemeltetése, és javítása már nem gazdaságos. Jelenleg a piacon magasabb műszaki tartalmak érhetőek el | F19: A viziközmű rendszer hatékonyságának növelése, az üzemeltetési költségek szinten tartása miatt szükséges | G19: A beavatkozás után egy hatékonyan működő viziközmű elemet kapunk, mely a kor elvárásainak megfelel. A rendszer üzembiztos, hatékony, és korszerű lesz | I19: Bak | J19: =SUM(O19:AC19) -> 4000 | L19: 43831 | M19: 44926 | N19: közép | Q19: 1500 | S19: 2500
A20: 949 | C20: Bak | D20: Gravitációs csatorna NA200 rekonstrukció | E20: Az üzemelő viziközmű technológiailag elavult, üzemeltetése, és javítása már nem gazdaságos. Jelenleg a piacon magasabb műszaki tartalmak érhetőek el | F20: A viziközmű rendszer hatékonyságának növelése, az üzemeltetési költségek szinten tartása miatt szükséges | G20: A beavatkozás után egy hatékonyan működő viziközmű elemet kapunk, mely a kor elvárásainak megfelel. A rendszer üzembiztos, hatékony, és korszerű lesz | I20: Bak | J20: =SUM(O20:AC20) -> 6500 | L20: 47119 | M20: 47483 | N20: hosszú | Z20: 6500
B21: SZENNYVÍZVEZETÉKEK (KÉNYSZERÁRAMOLTATÁSÚ)
A22: 432 | C22: Bak | D22: Nyomott vezeték NA100 rekonstrukció | E22: Az üzemelő viziközmű technológiailag elavult, üzemeltetése, és javítása már nem gazdaságos. Jelenleg a piacon magasabb műszaki tartalmak érhetőek el | F22: A kiépített rendszer működőképességének megóvása, a biztonságos üzemelés biztosítása miatt van szükség a munka elvégzésére | G22: A viziközmű elem állapota megközelíti az új elem berendezés állapotát. Az üzembiztonság jelentősen növekszik | I22: Bak | J22: =SUM(O22:AC22) -> 2000 | L22: 44197 | M22: 44561 | N22: közép | R22: 2000
A23: 738 | C23: Bak | D23: Nyomott vezeték NA100 rekonstrukció | E23: Az üzemelő viziközmű technológiailag elavult, üzemeltetése, és javítása már nem gazdaságos. Jelenleg a piacon magasabb műszaki tartalmak érhetőek el | F23: A kiépített rendszer működőképességének megóvása, a biztonságos üzemelés biztosítása miatt van szükség a munka elvégzésére | G23: A viziközmű elem állapota megközelíti az új elem berendezés állapotát. Az üzembiztonság jelentősen növekszik | I23: Bak | J23: =SUM(O23:AC23) -> 6000 | L23: 45292 | M23: 47848 | N23: hosszú | U23: 2000 | X23: 2000 | AA23: 2000
A24: 433 | C24: Bak | D24: Nyomott vezeték NA125 rekonstrukció | E24: Az üzemelő viziközmű technológiailag elavult, üzemeltetése, és javítása már nem gazdaságos. Jelenleg a piacon magasabb műszaki tartalmak érhetőek el | F24: A kiépített rendszer működőképességének megóvása, a biztonságos üzemelés biztosítása miatt van szükség a munka elvégzésére | G24: A viziközmű elem állapota megközelíti az új elem berendezés állapotát. Az üzembiztonság jelentősen növekszik | I24: Bak | J24: =SUM(O24:AC24) -> 2200 | L24: 44197 | M24: 44561 | N24: közép | R24: 2200
A25: 919 | C25: Bak | D25: Nyomott vezeték NA125 rekonstrukció | E25: Az üzemelő viziközmű technológiailag elavult, üzemeltetése, és javítása már nem gazdaságos. Jelenleg a piacon magasabb műszaki tartalmak érhetőek el | F25: A kiépített rendszer működőképességének megóvása, a biztonságos üzemelés biztosítása miatt van szükség a munka elvégzésére | G25: A viziközmű elem állapota megközelíti az új elem berendezés állapotát. Az üzembiztonság jelentősen növekszik | I25: Bak | J25: =SUM(O25:AC25) -> 2200 | L25: 46388 | M25: 46752 | N25: hosszú | X25: 2200
A26: 503 | C26: Bak | D26: Nyomott vezeték NA150 rekonstrukció | E26: Az üzemelő viziközmű technológiailag elavult, üzemeltetése, és javítása már nem gazdaságos. Jelenleg a piacon magasabb műszaki tartalmak érhetőek el | F26: A kiépített rendszer működőképességének megóvása, a biztonságos üzemelés biztosítása miatt van szükség a munka elvégzésére | G26: A viziközmű elem állapota megközelíti az új elem berendezés állapotát. Az üzembiztonság jelentősen növekszik | I26: Bak | J26: =SUM(O26:AC26) -> 920 | L26: 44562 | M26: 44926 | N26: közép | S26: 920
A27: 968 | C27: Bak | D27: Nyomott vezeték NA150 rekonstrukció | E27: Az üzemelő viziközmű technológiailag elavult, üzemeltetése, és javítása már nem gazdaságos. Jelenleg a piacon magasabb műszaki tartalmak érhetőek el | F27: A kiépített rendszer működőképességének megóvása, a biztonságos üzemelés biztosítása miatt van szükség a munka elvégzésére | G27: A viziközmű elem állapota megközelíti az új elem berendezés állapotát. Az üzembiztonság jelentősen növekszik | I27: Bak | J27: =SUM(O27:AC27) -> 920 | L27: 47484 | M27: 47848 | N27: hosszú | AA27: 920
B28: SZENNYVÍZÁTEMELŐK
B29: Épület, építmény
A30: 49 | C30: Bak I. átemelő | D30: védterület rekonstrukció (1-3) | E30: Az üzemelő viziközmű technológiailag elavult, üzemeltetése, és javítása már nem gazdaságos. Jelenleg a piacon magasabb műszaki tartalmak érhetőek el | F30: A kiépített rendszer működőképességének megóvása, a biztonságos üzemelés biztosítása miatt van szükség a munka elvégzésére | G30: A viziközmű elem állapota megközelíti az új elem berendezés állapotát. Az üzembiztonság jelentősen növekszik | I30: Bak | J30: =SUM(O30:AC30) -> 1000 | L30: 43101 | M30: 43465 | N30: rövid | O30: 1000
A31: 50 | C31: Bak I. átemelő | D31: gépészeti akna: vízzárózása | E31: A viziközmű elem nem vízzáró. A rendszerbe nagy mennyiségű idegen víz, vagy a rendszerből nagy mennyiségű szennyvíz kerül a környezetbe | F31: A kiépített rendszer működőképességének megóvása, a biztonságos üzemelés biztosítása miatt van szükség a munka elvégzésére | G31: A viziközmű elem állapota megközelíti az új elem berendezés állapotát. Az üzembiztonság jelentősen növekszik | I31: Bak | J31: =SUM(O31:AC31) -> 150 | L31: 43101 | M31: 43465 | N31: rövid | O31: 150
A32: 133 | C32: Bak | D32: átemelő akna építészeti rekonstrukció | E32: A szennyvíz, és a belőle felszabaduló gázok hatására a felületek elkorrodálnak. Ezen elemek cseréje a A kiépített rendszer működőképességének megóvása, a biztonságos üzemelés biztosítása miatt van szükség a munka elvégzésérehez elengedhetetlen | F32: Statikai stabilitás biztosítása | G32: A viziközmű elem állapota megközelíti az új elem berendezés állapotát. Az üzembiztonság jelentősen növekszik | I32: Bak | J32: =SUM(O32:AC32) -> 4940 | L32: 43466 | M32: 44926 | N32: közép | P32: 470 | Q32: 1300 | R32: 1910 | S32: 1260
A33: 553 | C33: Bak | D33: átemelő akna építészeti rekonstrukció | E33: A szennyvíz, és a belőle felszabaduló gázok hatására a felületek elkorrodálnak. Ezen elemek cseréje a A kiépített rendszer működőképességének megóvása, a biztonságos üzemelés biztosítása miatt van szükség a munka elvégzésérehez elengedhetetlen | F33: Statikai stabilitás biztosítása | G33: A viziközmű elem állapota megközelíti az új elem berendezés állapotát. Az üzembiztonság jelentősen növekszik | I33: Bak | J33: =SUM(O33:AC33) -> 8390 | L33: 44927 | M33: 48579 | N33: hosszú | T33: 1200 | U33: 1350 | V33: 0 | W33: 0 | X33: 250 | Y33: 1010 | Z33: 2370 | AA33: 210 | AB33: 1000 | AC33: 1000
A34: 51 | C34: Bak | D34: HBA akna bélelés | E34: Az üzemelő viziközmű technológiailag elavult, üzemeltetése, és javítása már nem gazdaságos. Jelenleg a piacon magasabb műszaki tartalmak érhetőek el | F34: A kiépített rendszer működőképességének megóvása, a biztonságos üzemelés biztosítása miatt van szükség a munka elvégzésére | G34: A viziközmű elem állapota megközelíti az új elem berendezés állapotát. Az üzembiztonság jelentősen növekszik | I34: Bak | J34: =SUM(O34:AC34) -> 510 | L34: 43101 | M34: 43101 | N34: rövid | O34: 510
A35: 504 | C35: Bak | D35: HBA akna építészeti rekonstrukció | E35: Az üzemelő viziközmű technológiailag elavult, üzemeltetése, és javítása már nem gazdaságos. Jelenleg a piacon magasabb műszaki tartalmak érhetőek el | F35: A kiépített rendszer működőképességének megóvása, a biztonságos üzemelés biztosítása miatt van szükség a munka elvégzésére | G35: A viziközmű elem állapota megközelíti az új elem berendezés állapotát. Az üzembiztonság jelentősen növekszik | I35: Bak | J35: =SUM(O35:AC35) -> 300 | L35: 44562 | M35: 44926 | N35: közép | S35: 300
A36: 898 | C36: Bak | D36: HBA akna építészeti rekonstrukció | E36: Az üzemelő viziközmű technológiailag elavult, üzemeltetése, és javítása már nem gazdaságos. Jelenleg a piacon magasabb műszaki tartalmak érhetőek el | F36: A kiépített rendszer működőképességének megóvása, a biztonságos üzemelés biztosítása miatt van szükség a munka elvégzésére | G36: A viziközmű elem állapota megközelíti az új elem berendezés állapotát. Az üzembiztonság jelentősen növekszik | I36: Bak | J36: =SUM(O36:AC36) -> 240 | L36: 46023 | M36: 47848 | N36: hosszú | W36: 120 | AA36: 120
B37: Gép, berendezés
A38: 134 | C38: Bak | D38: gépészeti rekonstrukció (1-6) | E38: Az üzemelő viziközmű elem működése közben előforduló eseti meghibásodások fordulhatnak elő, melyek előre nem tervezhetők | F38: A kiépített rendszer működőképességének megóvása, a biztonságos üzemelés biztosítása miatt van szükség a munka elvégzésére | G38: A beavatkozás után egy hatékonyan működő viziközmű elemet kapunk, mely a kor elvárásainak megfelel. A rendszer üzembiztos, hatékony, és korszerű lesz | I38: Bak | J38: =SUM(O38:AC38) -> 15900 | L38: 43466 | M38: 44926 | N38: közép | P38: 400 | Q38: 4800 | R38: 7100 | S38: 3600
A39: 554 | C39: Bak | D39: gépészeti rekonstrukció (1-6) | E39: Az üzemelő viziközmű elem működése közben előforduló eseti meghibásodások fordulhatnak elő, melyek előre nem tervezhetők | F39: A kiépített rendszer működőképességének megóvása, a biztonságos üzemelés biztosítása miatt van szükség a munka elvégzésére | G39: A beavatkozás után egy hatékonyan működő viziközmű elemet kapunk, mely a kor elvárásainak megfelel. A rendszer üzembiztos, hatékony, és korszerű lesz | I39: Bak | J39: =SUM(O39:AC39) -> 21700 | L39: 44927 | M39: 48579 | N39: hosszú | T39: 1000 | U39: 1100 | V39: 2800 | W39: 400 | X39: 300 | Y39: 400 | Z39: 4400 | AA39: 7300 | AB39: 2000 | AC39: 2000
A40: 135 | C40: Bak | D40: HBA gépészeti rekonstrukció (1-6) | E40: Az üzemelő viziközmű elem működése közben előforduló eseti meghibásodások fordulhatnak elő, melyek előre nem tervezhetők | F40: A kiépített rendszer működőképességének megóvása, a biztonságos üzemelés biztosítása miatt van szükség a munka elvégzésére | G40: A beavatkozás után egy hatékonyan működő viziközmű elemet kapunk, mely a kor elvárásainak megfelel. A rendszer üzembiztos, hatékony, és korszerű lesz | I40: Bak | J40: =SUM(O40:AC40) -> 430 | L40: 43831 | M40: 44926 | N40: rövid | P40: 0 | Q40: 65 | R40: 300 | S40: 65
A41: 739 | C41: Bak | D41: HBA gépészeti rekonstrukció (1-6) | E41: Az üzemelő viziközmű elem működése közben előforduló eseti meghibásodások fordulhatnak elő, melyek előre nem tervezhetők | F41: A kiépített rendszer működőképességének megóvása, a biztonságos üzemelés biztosítása miatt van szükség a munka elvégzésére | G41: A beavatkozás után egy hatékonyan működő viziközmű elemet kapunk, mely a kor elvárásainak megfelel. A rendszer üzembiztos, hatékony, és korszerű lesz | I41: Bak | J41: =SUM(O41:AC41) -> 1275 | L41: 45292 | M41: 48579 | N41: közép | U41: 65 | V41: 0 | W41: 0 | X41: 185 | Y41: 300 | Z41: 65 | AA41: 420 | AB41: 120 | AC41: 120
B42: Irányítástechnika, energiaellátás
A43: 434 | C43: Bak | D43: erősáramú és irányítástechnikai rekonstrukció | E43: A viziközmű elem a napi üzemmenet során oly mértékig elhasználódott, hogy a normál karbantartási munkákkal már nem biztosítható az üzembiztos működése | F43: A rendszer zavartalan üzemének biztosítása érdekében szükséges a beavatkozás | G43: A beavatkozás után egy hatékonyan működő viziközmű elemet kapunk, mely a kor elvárásainak megfelel. A rendszer üzembiztos, hatékony, és korszerű lesz | I43: Bak | J43: =SUM(O43:AC43) -> 17500 | L43: 44197 | M43: 44197 | N43: közép | R43: 17500
B44: Összesen: | J44: =SUM(J12:J43) -> 125658 | K44: 4748 | O44: =SUM(O12:O43) -> 2372.2 | P44: =SUM(P12:P43) -> 3632.2 | Q44: =SUM(Q12:Q43) -> 8927.2 | R44: =SUM(R12:R43) -> 34072.2 | S44: =SUM(S12:S43) -> 9907.2 | T44: =SUM(T12:T43) -> 5262.2 | U44: =SUM(U12:U43) -> 5777.2 | V44: =SUM(V12:V43) -> 5862.2 | ... AC44: =SUM(AC12:AC43) -> 4082.2
K45: 2018 évre a fejlesztési forrás biztosított
B47: Rendelkezésre álló források megnevezése | C47: Rendelkezésre álló források számszerűsített értéke a teljes ütem tekintetében (eFt)
A48: I. ütem | B48: Használati díj (2018) | C48: =K44 -> 4748
A49: II. ütem | B49: Használati díj (2019-2022) | C49: =C48*4 -> 18992
A50: III. ütem | B50: Használati díj (2023-2032) | C50: =C48*10 -> 47480
B53: ¹ Idegenvíz kizárás munkafolyamatai
B54: 1. Törött szerkezeti elemek cseréje, aknában bekötések körbekenése, folyásfenék újra betonozása, hézag pótlása (vízbetörés javítás)
B55: 2. Vízzáró réteg készítés, hosszútávú korrozíó és szerkezeti védelem (Szulfátálló réteg készítése)
B56: 3. Fedlap és szűkítő csere DN 600 mm, terhelésnek megfelelően, üzemeltető előírása szerint
B57: 4. Pontszerű hibahelyek javítása gerincvezetéken, és bekötésen
B59: ²Gépészeti felújítás
B60: 1. szivattyú talpidon csere
B61: 2. nyomócső csere
B62: 3. nadrágidom csere
B63: 4. visszacsapó szelep csere
B64: 5. tolózár csere
B65: 6. vezetőcső csere
... B70: 3. aszfaltozás

Sheet Bocfölde
A1: Gördülő fejlesztési terv a 2018 - 2032 időszakra
A2: FELÚJÍTÁSOK ÉS PÓTLÁSOK ÖSSZEFOGLALÓ TÁBLÁZATA
A3: A tervet benyújtó szervezet megnevezése: | K3: BOCFÖLDE | R3: ellátásért felelős / ellátásért felelősök képviselője / víziközmű-szolgáltató *
A4: Víziközmű-szolgáltató megnevezése: | K4: ÉSZAK ZALAI VÍZ- ÉS CSATORNAMŰ ZÁRTKÖRŰEN MŰKÖDŐ RÉSZVÉNYTÁRSASÁG
A5: Víziközmű-szolgáltatási ágazat megnevezése: | K5: SZENNYVÍZ ÁGAZAT
A6: Véleményeltérést megfogalmazó érintett fél megnevezése:
A7: Víziközmű-rendszer kódja: ** | K7: 21-32054-1-048-01-10 | R7: ZALAEGERSZEG-SZV
A8: V. Szennyvízelvezetés
A9: Fontossági sorrend | B9: Felujítás és pótlás megnevezése | E9: Műszaki állapot felmérés, szükségességi indoklás | H9: Vízjogi létesítési/elvi engedély száma | I9: Az érintett ellátásért felelős(ök) megnevezése | J9: Tervezett nettó költség | K9: Forrás 2018 évre | L9: Megvalósítás időtartama | N9: Tervezett időtáv | O9: A beruházás ütemezése a tervezési időszak évei szerint
E10: Jelenlegi műszaki állapot | F10: Feladat szükségessége | G10: Megvalósítást követő várható műszaki állapot | J10: (eFt) | L10: Kezdés | M10: Befejezés | N10: (rövid / közép / hosszú) | O10: 1 | P10: 2 | Q10: 3 | R10: 4 | S10: 5 | T10: 6 | U10: 7 | V10: 8 | W10: 9 | X10: 10 | Y10: 11 | Z10: 12 | AA10: 13 | AB10: 14 | AC10: 15
B11: szakág | C11: Helyszín | D11: beruházás megnevezése
A12: 1 | D12: Rendkívüli helyzetből adódó azonnali feladatok (max. 15%) | F12: A rendszer zavartalan üzemének biztosítása érdekében szükséges a beavatkozás | I12: Bocfölde | J12: =SUM(O12:AC12) -> 11046.2 | L12: 43101 | M12: 48579 | O12: =$K$46*0.1 -> 502.1 | P12: =$K$46*0.15 -> 753.15 | Q12: =$K$46*0.15 -> 753.15 | R12: =$K$46*0.15 -> 753.15 | S12: =$K$46*0.15 -> 753.15 | T12: =$K$46*0.15 -> 753.15 | U12: =$K$46*0.15 -> 753.15 | V12: =$K$46*0.15 -> 753.15 | W12: =$K$46*0.15 -> 753.15 | ... AC12: =$K$46*0.15 -> 753.15
B13: SZENNYVÍZCSATORNA (GRAVITÁCIÓS)
B14: Épület, építmény
